Workbook
Name CODE_PPM1: #REF!
Name CODE_PPM1: #REF!
Name CODE_PPM1: #REF!
Name CODE_PPM1: #REF!
Name CODE_PPM1: #REF!
Name CODE_PPM1: #REF!
Name CODE_PPM2: #REF!
Name CODE_PPM2: #REF!
Name CODE_PPM2: #REF!
Name CODE_PPM2: #REF!
Name CODE_PPM2: #REF!
Name CODE_PPM2: #REF!
Name COST_CENTER: #REF!
Name COST_CENTER: #REF!
Name COST_CENTER: #REF!
Name COST_CENTER: #REF!
Name COST_CENTER: #REF!
Name COST_CENTER: #REF!
Name mois: 'Actual Ajusté'!#REF!
Name mois: Ajustement!#REF!
Name mois: Budget!#REF!
Name Mois: Synthèse!$AW$1:$BH$1
Name mois: Actual!#REF!
Name TJM_P3: '[1]TCD TJM'!#REF!
Name TJM_P3: '[1]TCD TJM'!#REF!
Name TJM_P3: '[1]TCD TJM'!#REF!
Name TJM_P3: '[1]TCD TJM'!#REF!
Name TJM_P3: '[1]TCD TJM'!#REF!
Name TJM_P3: '[1]TCD TJM'!#REF!
Name TJM_REEL: '[1]TCD TJM'!#REF!
Name TJM_REEL: '[1]TCD TJM'!#REF!
Name TJM_REEL: '[1]TCD TJM'!#REF!
Name TJM_REEL: '[1]TCD TJM'!#REF!
Name TJM_REEL: '[1]TCD TJM'!#REF!
Name TJM_REEL: '[1]TCD TJM'!#REF!

Sheet Synthèse
A1: Entité | B1: Cost Center | C1: Nom | D1: Critère | E1: Statut contrat | F1: Masse | G1: 43466 | J1: 43497 | M1: 43525 | P1: 43556 | S1: 43586 | V1: 43617 | Y1: 43647 | AB1: 43678 | AE1: 43709 | AH1: 43739 | AK1: 43770 | AN1: 43800 | AR1: YTD | AV1: 2 | AW1: 1 | AX1: 2 | AY1: 3 | AZ1: 4 | BA1: 5 | BB1: 6 | BC1: 7 | BD1: 8 | BE1: 9 | BF1: 10 | BG1: 11 | BH1: 12
G2: Actual | H2: Budget | I2: Act Vs B | J2: Actual | K2: Budget | L2: Act Vs B | M2: Actual | N2: Budget | O2: Act Vs B | P2: Actual | Q2: Budget | R2: Act Vs B | S2: Actual | T2: Budget | U2: Act Vs B | V2: Actual | W2: Budget | X2: Act Vs B | Y2: Actual | Z2: Budget | AA2: Act Vs B | AB2: Actual | AC2: Budget | AD2: Act Vs B | AE2: Actual | AF2: Budget | AG2: Act Vs B | AH2: Actual | AI2: Budget | AJ2: Act Vs B | AK2: Actual | AL2: Budget | AM2: Act Vs B | AN2: Actual | AO2: Budget | AP2: Act Vs B | AR2: Actual | AS2: Budget | AT2: Act Vs B
B3: Total 1BI | G3: =IFERROR(VLOOKUP($B:$B,'Actual Ajusté'!$B:$Q,MATCH(Synthèse!G$1,'Actual Ajusté'!$B$1:$Q$1,0),0),0) -> 7 | H3: =IFERROR(VLOOKUP($B:$B,Budget!$B:$Q,MATCH(Synthèse!G$1,Budget!$B$1:$Q$1,0),0),0) -> 7.8238095 | I3: =+G3-H3 -> -0.82380952 | J3: =IFERROR(VLOOKUP($B:$B,'Actual Ajusté'!$B:$Q,MATCH(Synthèse!J$1,'Actual Ajusté'!$B$1:$Q$1,0),0),0) -> 8 | K3: =IFERROR(VLOOKUP($B:$B,Budget!$B:$Q,MATCH(Synthèse!J$1,Budget!$B$1:$Q$1,0),0),0) -> 7.8238095 | L3: =+J3-K3 -> 0.17619048 | M3: =IFERROR(VLOOKUP($B:$B,'Actual Ajusté'!$B:$Q,MATCH(Synthèse!M$1,'Actual Ajusté'!$B$1:$Q$1,0),0),0) -> 0 | N3: =IFERROR(VLOOKUP($B:$B,Budget!$B:$Q,MATCH(Synthèse!M$1,Budget!$B$1:$Q$1,0),0),0) -> 7.8238095 | O3: =+M3-N3 -> -7.8238095 | P3: =IFERROR(VLOOKUP($B:$B,'Actual Ajusté'!$B:$Q,MATCH(Synthèse!P$1,'Actual Ajusté'!$B$1:$Q$1,0),0),0) -> 0 | Q3: =IFERROR(VLOOKUP($B:$B,Budget!$B:$Q,MATCH(Synthèse!P$1,Budget!$B$1:$Q$1,0),0),0) -> 7.8238095 | R3: =+P3-Q3 -> -7.8238095 | S3: =IFERROR(VLOOKUP($B:$B,'Actual Ajusté'!$B:$Q,MATCH(Synthèse!S$1,'Actual Ajusté'!$B$1:$Q$1,0),0),0) -> 0 | T3: =IFERROR(VLOOKUP($B:$B,Budget!$B:$Q,MATCH(Synthèse!S$1,Budget!$B$1:$Q$1,0),0),0) -> 7.8238095 | U3: =+S3-T3 -> -7.8238095 | V3: =IFERROR(VLOOKUP($B:$B,'Actual Ajusté'!$B:$Q,MATCH(Synthèse!V$1,'Actual Ajusté'!$B$1:$Q$1,0),0),0) -> 0 | W3: =IFERROR(VLOOKUP($B:$B,Budget!$B:$Q,MATCH(Synthèse!V$1,Budget!$B$1:$Q$1,0),0),0) -> 7.8238095 | X3: =+V3-W3 -> -7.8238095 | Y3: =IFERROR(VLOOKUP($B:$B,'Actual Ajusté'!$B:$Q,MATCH(Synthèse!Y$1,'Actual Ajusté'!$B$1:$Q$1,0),0),0) -> 0 | Z3: =IFERROR(VLOOKUP($B:$B,Budget!$B:$Q,MATCH(Synthèse!Y$1,Budget!$B$1:$Q$1,0),0),0) -> 7.8238095 | AA3: =+Y3-Z3 -> -7.8238095 | AB3: =IFERROR(VLOOKUP($B:$B,'Actual Ajusté'!$B:$Q,MATCH(Synthèse!AB$1,'Actual Ajusté'!$B$1:$Q$1,0),0),0) -> 0 | AC3: =IFERROR(VLOOKUP($B:$B,Budget!$B:$Q,MATCH(Synthèse!AB$1,Budget!$B$1:$Q$1,0),0),0) -> 7.8238095 | AD3: =+AB3-AC3 -> -7.8238095 | AE3: =IFERROR(VLOOKUP($B:$B,'Actual Ajusté'!$B:$Q,MATCH(Synthèse!AE$1,'Actual Ajusté'!$B$1:$Q$1,0),0),0) -> 0 | AF3: =IFERROR(VLOOKUP($B:$B,Budget!$B:$Q,MATCH(Synthèse!AE$1,Budget!$B$1:$Q$1,0),0),0) -> 7.8238095 | AG3: =+AE3-AF3 -> -7.8238095 | AH3: =IFERROR(VLOOKUP($B:$B,'Actual Ajusté'!$B:$Q,MATCH(Synthèse!AH$1,'Actual Ajusté'!$B$1:$Q$1,0),0),0) -> 0 | AI3: =IFERROR(VLOOKUP($B:$B,Budget!$B:$Q,MATCH(Synthèse!AH$1,Budget!$B$1:$Q$1,0),0),0) -> 7.8238095 | AJ3: =+AH3-AI3 -> -7.8238095 | AK3: =IFERROR(VLOOKUP($B:$B,'Actual Ajusté'!$B:$Q,MATCH(Synthèse!AK$1,'Actual Ajusté'!$B$1:$Q$1,0),0),0) -> 0 | AL3: =IFERROR(VLOOKUP($B:$B,Budget!$B:$Q,MATCH(Synthèse!AK$1,Budget!$B$1:$Q$1,0),0),0) -> 7.8238095 | AM3: =+AK3-AL3 -> -7.8238095 | AN3: =IFERROR(VLOOKUP($B:$B,'Actual Ajusté'!$B:$Q,MATCH(Synthèse!AN$1,'Actual Ajusté'!$B$1:$Q$1,0),0),0) -> 0 | AO3: =IFERROR(VLOOKUP($B:$B,Budget!$B:$Q,MATCH(Synthèse!AN$1,Budget!$B$1:$Q$1,0),0),0) -> 7.8238095 | AP3: =+AN3-AO3 -> -7.8238095 | AR3: =SUMPRODUCT((MOD(COLUMN(G3:INDIRECT(ADDRESS(3,6+3*$AV$1))),3)=1)*(G3:INDIRECT(ADDRESS(3,6+3*$AV$1)))) -> 15 | AS3: =SUMPRODUCT((MOD(COLUMN(G3:INDIRECT(ADDRESS(3,6+3*$AV$1))),3)=2)*(G3:INDIRECT(ADDRESS(3,6+3*$AV$1)))) -> 15.647619 | AT3: =SUMPRODUCT((MOD(COLUMN(G3:INDIRECT(ADDRESS(3,6+3*$AV$1))),3)=0)*(G3:INDIRECT(ADDRESS(3,6+3*$AV$1)))) -> -0.64761905
B4: Total 1BUS | G4: =IFERROR(VLOOKUP($B:$B,'Actual Ajusté'!$B:$Q,MATCH(Synthèse!G$1,'Actual Ajusté'!$B$1:$Q$1,0),0),0) -> 13 | H4: =IFERROR(VLOOKUP($B:$B,Budget!$B:$Q,MATCH(Synthèse!G$1,Budget!$B$1:$Q$1,0),0),0) -> 14.333333 | I4: =+G4-H4 -> -1.3333333 | J4: =IFERROR(VLOOKUP($B:$B,'Actual Ajusté'!$B:$Q,MATCH(Synthèse!J$1,'Actual Ajusté'!$B$1:$Q$1,0),0),0) -> 12 | K4: =IFERROR(VLOOKUP($B:$B,Budget!$B:$Q,MATCH(Synthèse!J$1,Budget!$B$1:$Q$1,0),0),0) -> 14.333333 | L4: =+J4-K4 -> -2.3333333 | M4: =IFERROR(VLOOKUP($B:$B,'Actual Ajusté'!$B:$Q,MATCH(Synthèse!M$1,'Actual Ajusté'!$B$1:$Q$1,0),0),0) -> 0 | N4: =IFERROR(VLOOKUP($B:$B,Budget!$B:$Q,MATCH(Synthèse!M$1,Budget!$B$1:$Q$1,0),0),0) -> 14.333333 | O4: =+M4-N4 -> -14.333333 | P4: =IFERROR(VLOOKUP($B:$B,'Actual Ajusté'!$B:$Q,MATCH(Synthèse!P$1,'Actual Ajusté'!$B$1:$Q$1,0),0),0) -> 0 | Q4: =IFERROR(VLOOKUP($B:$B,Budget!$B:$Q,MATCH(Synthèse!P$1,Budget!$B$1:$Q$1,0),0),0) -> 14.333333 | R4: =+P4-Q4 -> -14.333333 | S4: =IFERROR(VLOOKUP($B:$B,'Actual Ajusté'!$B:$Q,MATCH(Synthèse!S$1,'Actual Ajusté'!$B$1:$Q$1,0),0),0) -> 0 | T4: =IFERROR(VLOOKUP($B:$B,Budget!$B:$Q,MATCH(Synthèse!S$1,Budget!$B$1:$Q$1,0),0),0) -> 14.333333 | U4: =+S4-T4 -> -14.333333 | V4: =IFERROR(VLOOKUP($B:$B,'Actual Ajusté'!$B:$Q,MATCH(Synthèse!V$1,'Actual Ajusté'!$B$1:$Q$1,0),0),0) -> 0 | W4: =IFERROR(VLOOKUP($B:$B,Budget!$B:$Q,MATCH(Synthèse!V$1,Budget!$B$1:$Q$1,0),0),0) -> 14.333333 | X4: =+V4-W4 -> -14.333333 | Y4: =IFERROR(VLOOKUP($B:$B,'Actual Ajusté'!$B:$Q,MATCH(Synthèse!Y$1,'Actual Ajusté'!$B$1:$Q$1,0),0),0) -> 0 | Z4: =IFERROR(VLOOKUP($B:$B,Budget!$B:$Q,MATCH(Synthèse!Y$1,Budget!$B$1:$Q$1,0),0),0) -> 14.333333 | AA4: =+Y4-Z4 -> -14.333333 | AB4: =IFERROR(VLOOKUP($B:$B,'Actual Ajusté'!$B:$Q,MATCH(Synthèse!AB$1,'Actual Ajusté'!$B$1:$Q$1,0),0),0) -> 0 | AC4: =IFERROR(VLOOKUP($B:$B,Budget!$B:$Q,MATCH(Synthèse!AB$1,Budget!$B$1:$Q$1,0),0),0) -> 14.333333 | AD4: =+AB4-AC4 -> -14.333333 | AE4: =IFERROR(VLOOKUP($B:$B,'Actual Ajusté'!$B:$Q,MATCH(Synthèse!AE$1,'Actual Ajusté'!$B$1:$Q$1,0),0),0) -> 0 | AF4: =IFERROR(VLOOKUP($B:$B,Budget!$B:$Q,MATCH(Synthèse!AE$1,Budget!$B$1:$Q$1,0),0),0) -> 14.333333 | AG4: =+AE4-AF4 -> -14.333333 | AH4: =IFERROR(VLOOKUP($B:$B,'Actual Ajusté'!$B:$Q,MATCH(Synthèse!AH$1,'Actual Ajusté'!$B$1:$Q$1,0),0),0) -> 0 | AI4: =IFERROR(VLOOKUP($B:$B,Budget!$B:$Q,MATCH(Synthèse!AH$1,Budget!$B$1:$Q$1,0),0),0) -> 14.333333 | AJ4: =+AH4-AI4 -> -14.333333 | AK4: =IFERROR(VLOOKUP($B:$B,'Actual Ajusté'!$B:$Q,MATCH(Synthèse!AK$1,'Actual Ajusté'!$B$1:$Q$1,0),0),0) -> 0 | AL4: =IFERROR(VLOOKUP($B:$B,Budget!$B:$Q,MATCH(Synthèse!AK$1,Budget!$B$1:$Q$1,0),0),0) -> 14.333333 | AM4: =+AK4-AL4 -> -14.333333 | AN4: =IFERROR(VLOOKUP($B:$B,'Actual Ajusté'!$B:$Q,MATCH(Synthèse!AN$1,'Actual Ajusté'!$B$1:$Q$1,0),0),0) -> 0 | AO4: =IFERROR(VLOOKUP($B:$B,Budget!$B:$Q,MATCH(Synthèse!AN$1,Budget!$B$1:$Q$1,0),0),0) -> 14.333333 | AP4: =+AN4-AO4 -> -14.333333 | AR4: =SUMPRODUCT((MOD(COLUMN(G4:INDIRECT(ADDRESS(4,6+3*$AV$1))),3)=1)*(G4:INDIRECT(ADDRESS(4,6+3*$AV$1)))) -> 25 | AS4: =SUMPRODUCT((MOD(COLUMN(G4:INDIRECT(ADDRESS(4,6+3*$AV$1))),3)=2)*(G4:INDIRECT(ADDRESS(4,6+3*$AV$1)))) -> 28.666667 | AT4: =SUMPRODUCT((MOD(COLUMN(G4:INDIRECT(ADDRESS(4,6+3*$AV$1))),3)=0)*(G4:INDIRECT(ADDRESS(4,6+3*$AV$1)))) -> -3.6666667
B5: Total 1CORP | G5: =IFERROR(VLOOKUP($B:$B,'Actual Ajusté'!$B:$Q,MATCH(Synthèse!G$1,'Actual Ajusté'!$B$1:$Q$1,0),0),0) -> 0 | H5: =IFERROR(VLOOKUP($B:$B,Budget!$B:$Q,MATCH(Synthèse!G$1,Budget!$B$1:$Q$1,0),0),0) -> 1 | I5: =+G5-H5 -> -1 | J5: =IFERROR(VLOOKUP($B:$B,'Actual Ajusté'!$B:$Q,MATCH(Synthèse!J$1,'Actual Ajusté'!$B$1:$Q$1,0),0),0) -> 1 | K5: =IFERROR(VLOOKUP($B:$B,Budget!$B:$Q,MATCH(Synthèse!J$1,Budget!$B$1:$Q$1,0),0),0) -> 1 | L5: =+J5-K5 -> 0 | M5: =IFERROR(VLOOKUP($B:$B,'Actual Ajusté'!$B:$Q,MATCH(Synthèse!M$1,'Actual Ajusté'!$B$1:$Q$1,0),0),0) -> 0 | N5: =IFERROR(VLOOKUP($B:$B,Budget!$B:$Q,MATCH(Synthèse!M$1,Budget!$B$1:$Q$1,0),0),0) -> 1 | O5: =+M5-N5 -> -1 | P5: =IFERROR(VLOOKUP($B:$B,'Actual Ajusté'!$B:$Q,MATCH(Synthèse!P$1,'Actual Ajusté'!$B$1:$Q$1,0),0),0) -> 0 | Q5: =IFERROR(VLOOKUP($B:$B,Budget!$B:$Q,MATCH(Synthèse!P$1,Budget!$B$1:$Q$1,0),0),0) -> 1 | R5: =+P5-Q5 -> -1 | S5: =IFERROR(VLOOKUP($B:$B,'Actual Ajusté'!$B:$Q,MATCH(Synthèse!S$1,'Actual Ajusté'!$B$1:$Q$1,0),0),0) -> 0 | T5: =IFERROR(VLOOKUP($B:$B,Budget!$B:$Q,MATCH(Synthèse!S$1,Budget!$B$1:$Q$1,0),0),0) -> 1 | U5: =+S5-T5 -> -1 | V5: =IFERROR(VLOOKUP($B:$B,'Actual Ajusté'!$B:$Q,MATCH(Synthèse!V$1,'Actual Ajusté'!$B$1:$Q$1,0),0),0) -> 0 | W5: =IFERROR(VLOOKUP($B:$B,Budget!$B:$Q,MATCH(Synthèse!V$1,Budget!$B$1:$Q$1,0),0),0) -> 1 | X5: =+V5-W5 -> -1 | Y5: =IFERROR(VLOOKUP($B:$B,'Actual Ajusté'!$B:$Q,MATCH(Synthèse!Y$1,'Actual Ajusté'!$B$1:$Q$1,0),0),0) -> 0 | Z5: =IFERROR(VLOOKUP($B:$B,Budget!$B:$Q,MATCH(Synthèse!Y$1,Budget!$B$1:$Q$1,0),0),0) -> 1 | AA5: =+Y5-Z5 -> -1 | AB5: =IFERROR(VLOOKUP($B:$B,'Actual Ajusté'!$B:$Q,MATCH(Synthèse!AB$1,'Actual Ajusté'!$B$1:$Q$1,0),0),0) -> 0 | AC5: =IFERROR(VLOOKUP($B:$B,Budget!$B:$Q,MATCH(Synthèse!AB$1,Budget!$B$1:$Q$1,0),0),0) -> 1 | AD5: =+AB5-AC5 -> -1 | AE5: =IFERROR(VLOOKUP($B:$B,'Actual Ajusté'!$B:$Q,MATCH(Synthèse!AE$1,'Actual Ajusté'!$B$1:$Q$1,0),0),0) -> 0 | AF5: =IFERROR(VLOOKUP($B:$B,Budget!$B:$Q,MATCH(Synthèse!AE$1,Budget!$B$1:$Q$1,0),0),0) -> 1 | AG5: =+AE5-AF5 -> -1 | AH5: =IFERROR(VLOOKUP($B:$B,'Actual Ajusté'!$B:$Q,MATCH(Synthèse!AH$1,'Actual Ajusté'!$B$1:$Q$1,0),0),0) -> 0 | AI5: =IFERROR(VLOOKUP($B:$B,Budget!$B:$Q,MATCH(Synthèse!AH$1,Budget!$B$1:$Q$1,0),0),0) -> 1 | AJ5: =+AH5-AI5 -> -1 | AK5: =IFERROR(VLOOKUP($B:$B,'Actual Ajusté'!$B:$Q,MATCH(Synthèse!AK$1,'Actual Ajusté'!$B$1:$Q$1,0),0),0) -> 0 | AL5: =IFERROR(VLOOKUP($B:$B,Budget!$B:$Q,MATCH(Synthèse!AK$1,Budget!$B$1:$Q$1,0),0),0) -> 1 | AM5: =+AK5-AL5 -> -1 | AN5: =IFERROR(VLOOKUP($B:$B,'Actual Ajusté'!$B:$Q,MATCH(Synthèse!AN$1,'Actual Ajusté'!$B$1:$Q$1,0),0),0) -> 0 | AO5: =IFERROR(VLOOKUP($B:$B,Budget!$B:$Q,MATCH(Synthèse!AN$1,Budget!$B$1:$Q$1,0),0),0) -> 1 | AP5: =+AN5-AO5 -> -1 | AR5: =SUMPRODUCT((MOD(COLUMN(G5:INDIRECT(ADDRESS(5,6+3*$AV$1))),3)=1)*(G5:INDIRECT(ADDRESS(5,6+3*$AV$1)))) -> 1 | AS5: =SUMPRODUCT((MOD(COLUMN(G5:INDIRECT(ADDRESS(5,6+3*$AV$1))),3)=2)*(G5:INDIRECT(ADDRESS(5,6+3*$AV$1)))) -> 2 | AT5: =SUMPRODUCT((MOD(COLUMN(G5:INDIRECT(ADDRESS(5,6+3*$AV$1))),3)=0)*(G5:INDIRECT(ADDRESS(5,6+3*$AV$1)))) -> -1
B6: Total 1ITFIN | G6: =IFERROR(VLOOKUP($B:$B,'Actual Ajusté'!$B:$Q,MATCH(Synthèse!G$1,'Actual Ajusté'!$B$1:$Q$1,0),0),0) -> 3 | H6: =IFERROR(VLOOKUP($B:$B,Budget!$B:$Q,MATCH(Synthèse!G$1,Budget!$B$1:$Q$1,0),0),0) -> 2.3333333 | I6: =+G6-H6 -> 0.66666667 | J6: =IFERROR(VLOOKUP($B:$B,'Actual Ajusté'!$B:$Q,MATCH(Synthèse!J$1,'Actual Ajusté'!$B$1:$Q$1,0),0),0) -> 6 | K6: =IFERROR(VLOOKUP($B:$B,Budget!$B:$Q,MATCH(Synthèse!J$1,Budget!$B$1:$Q$1,0),0),0) -> 2.3333333 | L6: =+J6-K6 -> 3.6666667 | M6: =IFERROR(VLOOKUP($B:$B,'Actual Ajusté'!$B:$Q,MATCH(Synthèse!M$1,'Actual Ajusté'!$B$1:$Q$1,0),0),0) -> 0 | N6: =IFERROR(VLOOKUP($B:$B,Budget!$B:$Q,MATCH(Synthèse!M$1,Budget!$B$1:$Q$1,0),0),0) -> 2.3333333 | O6: =+M6-N6 -> -2.3333333 | P6: =IFERROR(VLOOKUP($B:$B,'Actual Ajusté'!$B:$Q,MATCH(Synthèse!P$1,'Actual Ajusté'!$B$1:$Q$1,0),0),0) -> 0 | Q6: =IFERROR(VLOOKUP($B:$B,Budget!$B:$Q,MATCH(Synthèse!P$1,Budget!$B$1:$Q$1,0),0),0) -> 2.3333333 | R6: =+P6-Q6 -> -2.3333333 | S6: =IFERROR(VLOOKUP($B:$B,'Actual Ajusté'!$B:$Q,MATCH(Synthèse!S$1,'Actual Ajusté'!$B$1:$Q$1,0),0),0) -> 0 | T6: =IFERROR(VLOOKUP($B:$B,Budget!$B:$Q,MATCH(Synthèse!S$1,Budget!$B$1:$Q$1,0),0),0) -> 2.3333333 | U6: =+S6-T6 -> -2.3333333 | V6: =IFERROR(VLOOKUP($B:$B,'Actual Ajusté'!$B:$Q,MATCH(Synthèse!V$1,'Actual Ajusté'!$B$1:$Q$1,0),0),0) -> 0 | W6: =IFERROR(VLOOKUP($B:$B,Budget!$B:$Q,MATCH(Synthèse!V$1,Budget!$B$1:$Q$1,0),0),0) -> 2.3333333 | X6: =+V6-W6 -> -2.3333333 | Y6: =IFERROR(VLOOKUP($B:$B,'Actual Ajusté'!$B:$Q,MATCH(Synthèse!Y$1,'Actual Ajusté'!$B$1:$Q$1,0),0),0) -> 0 | Z6: =IFERROR(VLOOKUP($B:$B,Budget!$B:$Q,MATCH(Synthèse!Y$1,Budget!$B$1:$Q$1,0),0),0) -> 2.3333333 | AA6: =+Y6-Z6 -> -2.3333333 | AB6: =IFERROR(VLOOKUP($B:$B,'Actual Ajusté'!$B:$Q,MATCH(Synthèse!AB$1,'Actual Ajusté'!$B$1:$Q$1,0),0),0) -> 0 | AC6: =IFERROR(VLOOKUP($B:$B,Budget!$B:$Q,MATCH(Synthèse!AB$1,Budget!$B$1:$Q$1,0),0),0) -> 2.3333333 | AD6: =+AB6-AC6 -> -2.3333333 | AE6: =IFERROR(VLOOKUP($B:$B,'Actual Ajusté'!$B:$Q,MATCH(Synthèse!AE$1,'Actual Ajusté'!$B$1:$Q$1,0),0),0) -> 0 | AF6: =IFERROR(VLOOKUP($B:$B,Budget!$B:$Q,MATCH(Synthèse!AE$1,Budget!$B$1:$Q$1,0),0),0) -> 2.3333333 | AG6: =+AE6-AF6 -> -2.3333333 | AH6: =IFERROR(VLOOKUP($B:$B,'Actual Ajusté'!$B:$Q,MATCH(Synthèse!AH$1,'Actual Ajusté'!$B$1:$Q$1,0),0),0) -> 0 | AI6: =IFERROR(VLOOKUP($B:$B,Budget!$B:$Q,MATCH(Synthèse!AH$1,Budget!$B$1:$Q$1,0),0),0) -> 2.3333333 | AJ6: =+AH6-AI6 -> -2.3333333 | AK6: =IFERROR(VLOOKUP($B:$B,'Actual Ajusté'!$B:$Q,MATCH(Synthèse!AK$1,'Actual Ajusté'!$B$1:$Q$1,0),0),0) -> 0 | AL6: =IFERROR(VLOOKUP($B:$B,Budget!$B:$Q,MATCH(Synthèse!AK$1,Budget!$B$1:$Q$1,0),0),0) -> 2.3333333 | AM6: =+AK6-AL6 -> -2.3333333 | AN6: =IFERROR(VLOOKUP($B:$B,'Actual Ajusté'!$B:$Q,MATCH(Synthèse!AN$1,'Actual Ajusté'!$B$1:$Q$1,0),0),0) -> 0 | AO6: =IFERROR(VLOOKUP($B:$B,Budget!$B:$Q,MATCH(Synthèse!AN$1,Budget!$B$1:$Q$1,0),0),0) -> 2.3333333 | AP6: =+AN6-AO6 -> -2.3333333 | AR6: =SUMPRODUCT((MOD(COLUMN(G6:INDIRECT(ADDRESS(6,6+3*$AV$1))),3)=1)*(G6:INDIRECT(ADDRESS(6,6+3*$AV$1)))) -> 9 | AS6: =SUMPRODUCT((MOD(COLUMN(G6:INDIRECT(ADDRESS(6,6+3*$AV$1))),3)=2)*(G6:INDIRECT(ADDRESS(6,6+3*$AV$1)))) -> 4.6666667 | AT6: =SUMPRODUCT((MOD(COLUMN(G6:INDIRECT(ADDRESS(6,6+3*$AV$1))),3)=0)*(G6:INDIRECT(ADDRESS(6,6+3*$AV$1)))) -> 4.3333333
B7: Total 1ITGF | G7: =IFERROR(VLOOKUP($B:$B,'Actual Ajusté'!$B:$Q,MATCH(Synthèse!G$1,'Actual Ajusté'!$B$1:$Q$1,0),0),0) -> 5 | H7: =IFERROR(VLOOKUP($B:$B,Budget!$B:$Q,MATCH(Synthèse!G$1,Budget!$B$1:$Q$1,0),0),0) -> 3.6666667 | I7: =+G7-H7 -> 1.3333333 | J7: =IFERROR(VLOOKUP($B:$B,'Actual Ajusté'!$B:$Q,MATCH(Synthèse!J$1,'Actual Ajusté'!$B$1:$Q$1,0),0),0) -> 5 | K7: =IFERROR(VLOOKUP($B:$B,Budget!$B:$Q,MATCH(Synthèse!J$1,Budget!$B$1:$Q$1,0),0),0) -> 3.6666667 | L7: =+J7-K7 -> 1.3333333 | M7: =IFERROR(VLOOKUP($B:$B,'Actual Ajusté'!$B:$Q,MATCH(Synthèse!M$1,'Actual Ajusté'!$B$1:$Q$1,0),0),0) -> 0 | N7: =IFERROR(VLOOKUP($B:$B,Budget!$B:$Q,MATCH(Synthèse!M$1,Budget!$B$1:$Q$1,0),0),0) -> 3.6666667 | O7: =+M7-N7 -> -3.6666667 | P7: =IFERROR(VLOOKUP($B:$B,'Actual Ajusté'!$B:$Q,MATCH(Synthèse!P$1,'Actual Ajusté'!$B$1:$Q$1,0),0),0) -> 0 | Q7: =IFERROR(VLOOKUP($B:$B,Budget!$B:$Q,MATCH(Synthèse!P$1,Budget!$B$1:$Q$1,0),0),0) -> 3.6666667 | R7: =+P7-Q7 -> -3.6666667 | S7: =IFERROR(VLOOKUP($B:$B,'Actual Ajusté'!$B:$Q,MATCH(Synthèse!S$1,'Actual Ajusté'!$B$1:$Q$1,0),0),0) -> 0 | T7: =IFERROR(VLOOKUP($B:$B,Budget!$B:$Q,MATCH(Synthèse!S$1,Budget!$B$1:$Q$1,0),0),0) -> 3.6666667 | U7: =+S7-T7 -> -3.6666667 | V7: =IFERROR(VLOOKUP($B:$B,'Actual Ajusté'!$B:$Q,MATCH(Synthèse!V$1,'Actual Ajusté'!$B$1:$Q$1,0),0),0) -> 0 | W7: =IFERROR(VLOOKUP($B:$B,Budget!$B:$Q,MATCH(Synthèse!V$1,Budget!$B$1:$Q$1,0),0),0) -> 3.6666667 | X7: =+V7-W7 -> -3.6666667 | Y7: =IFERROR(VLOOKUP($B:$B,'Actual Ajusté'!$B:$Q,MATCH(Synthèse!Y$1,'Actual Ajusté'!$B$1:$Q$1,0),0),0) -> 0 | Z7: =IFERROR(VLOOKUP($B:$B,Budget!$B:$Q,MATCH(Synthèse!Y$1,Budget!$B$1:$Q$1,0),0),0) -> 3.6666667 | AA7: =+Y7-Z7 -> -3.6666667 | AB7: =IFERROR(VLOOKUP($B:$B,'Actual Ajusté'!$B:$Q,MATCH(Synthèse!AB$1,'Actual Ajusté'!$B$1:$Q$1,0),0),0) -> 0 | AC7: =IFERROR(VLOOKUP($B:$B,Budget!$B:$Q,MATCH(Synthèse!AB$1,Budget!$B$1:$Q$1,0),0),0) -> 3.6666667 | AD7: =+AB7-AC7 -> -3.6666667 | AE7: =IFERROR(VLOOKUP($B:$B,'Actual Ajusté'!$B:$Q,MATCH(Synthèse!AE$1,'Actual Ajusté'!$B$1:$Q$1,0),0),0) -> 0 | AF7: =IFERROR(VLOOKUP($B:$B,Budget!$B:$Q,MATCH(Synthèse!AE$1,Budget!$B$1:$Q$1,0),0),0) -> 3.6666667 | AG7: =+AE7-AF7 -> -3.6666667 | AH7: =IFERROR(VLOOKUP($B:$B,'Actual Ajusté'!$B:$Q,MATCH(Synthèse!AH$1,'Actual Ajusté'!$B$1:$Q$1,0),0),0) -> 0 | AI7: =IFERROR(VLOOKUP($B:$B,Budget!$B:$Q,MATCH(Synthèse!AH$1,Budget!$B$1:$Q$1,0),0),0) -> 3.6666667 | AJ7: =+AH7-AI7 -> -3.6666667 | AK7: =IFERROR(VLOOKUP($B:$B,'Actual Ajusté'!$B:$Q,MATCH(Synthèse!AK$1,'Actual Ajusté'!$B$1:$Q$1,0),0),0) -> 0 | AL7: =IFERROR(VLOOKUP($B:$B,Budget!$B:$Q,MATCH(Synthèse!AK$1,Budget!$B$1:$Q$1,0),0),0) -> 3.6666667 | AM7: =+AK7-AL7 -> -3.6666667 | AN7: =IFERROR(VLOOKUP($B:$B,'Actual Ajusté'!$B:$Q,MATCH(Synthèse!AN$1,'Actual Ajusté'!$B$1:$Q$1,0),0),0) -> 0 | AO7: =IFERROR(VLOOKUP($B:$B,Budget!$B:$Q,MATCH(Synthèse!AN$1,Budget!$B$1:$Q$1,0),0),0) -> 3.6666667 | AP7: =+AN7-AO7 -> -3.6666667 | AR7: =SUMPRODUCT((MOD(COLUMN(G7:INDIRECT(ADDRESS(7,6+3*$AV$1))),3)=1)*(G7:INDIRECT(ADDRESS(7,6+3*$AV$1)))) -> 10 | AS7: =SUMPRODUCT((MOD(COLUMN(H7:INDIRECT(ADDRESS(7,6+3*$AV$1))),3)=2)*(H7:INDIRECT(ADDRESS(7,6+3*$AV$1)))) -> 7.3333333 | AT7: =SUMPRODUCT((MOD(COLUMN(I7:INDIRECT(ADDRESS(7,6+3*$AV$1))),3)=0)*(I7:INDIRECT(ADDRESS(7,6+3*$AV$1)))) -> 2.6666667
B8: Total 1ITRUN | G8: =IFERROR(VLOOKUP($B:$B,'Actual Ajusté'!$B:$Q,MATCH(Synthèse!G$1,'Actual Ajusté'!$B$1:$Q$1,0),0),0) -> 11 | H8: =IFERROR(VLOOKUP($B:$B,Budget!$B:$Q,MATCH(Synthèse!G$1,Budget!$B$1:$Q$1,0),0),0) -> 10 | I8: =+G8-H8 -> 1 | J8: =IFERROR(VLOOKUP($B:$B,'Actual Ajusté'!$B:$Q,MATCH(Synthèse!J$1,'Actual Ajusté'!$B$1:$Q$1,0),0),0) -> 8 | K8: =IFERROR(VLOOKUP($B:$B,Budget!$B:$Q,MATCH(Synthèse!J$1,Budget!$B$1:$Q$1,0),0),0) -> 10 | L8: =+J8-K8 -> -2 | M8: =IFERROR(VLOOKUP($B:$B,'Actual Ajusté'!$B:$Q,MATCH(Synthèse!M$1,'Actual Ajusté'!$B$1:$Q$1,0),0),0) -> 0 | N8: =IFERROR(VLOOKUP($B:$B,Budget!$B:$Q,MATCH(Synthèse!M$1,Budget!$B$1:$Q$1,0),0),0) -> 10 | O8: =+M8-N8 -> -10 | P8: =IFERROR(VLOOKUP($B:$B,'Actual Ajusté'!$B:$Q,MATCH(Synthèse!P$1,'Actual Ajusté'!$B$1:$Q$1,0),0),0) -> 0 | Q8: =IFERROR(VLOOKUP($B:$B,Budget!$B:$Q,MATCH(Synthèse!P$1,Budget!$B$1:$Q$1,0),0),0) -> 10 | R8: =+P8-Q8 -> -10 | S8: =IFERROR(VLOOKUP($B:$B,'Actual Ajusté'!$B:$Q,MATCH(Synthèse!S$1,'Actual Ajusté'!$B$1:$Q$1,0),0),0) -> 0 | T8: =IFERROR(VLOOKUP($B:$B,Budget!$B:$Q,MATCH(Synthèse!S$1,Budget!$B$1:$Q$1,0),0),0) -> 10 | U8: =+S8-T8 -> -10 | V8: =IFERROR(VLOOKUP($B:$B,'Actual Ajusté'!$B:$Q,MATCH(Synthèse!V$1,'Actual Ajusté'!$B$1:$Q$1,0),0),0) -> 0 | W8: =IFERROR(VLOOKUP($B:$B,Budget!$B:$Q,MATCH(Synthèse!V$1,Budget!$B$1:$Q$1,0),0),0) -> 10 | X8: =+V8-W8 -> -10 | Y8: =IFERROR(VLOOKUP($B:$B,'Actual Ajusté'!$B:$Q,MATCH(Synthèse!Y$1,'Actual Ajusté'!$B$1:$Q$1,0),0),0) -> 0 | Z8: =IFERROR(VLOOKUP($B:$B,Budget!$B:$Q,MATCH(Synthèse!Y$1,Budget!$B$1:$Q$1,0),0),0) -> 10 | AA8: =+Y8-Z8 -> -10 | AB8: =IFERROR(VLOOKUP($B:$B,'Actual Ajusté'!$B:$Q,MATCH(Synthèse!AB$1,'Actual Ajusté'!$B$1:$Q$1,0),0),0) -> 0 | AC8: =IFERROR(VLOOKUP($B:$B,Budget!$B:$Q,MATCH(Synthèse!AB$1,Budget!$B$1:$Q$1,0),0),0) -> 10 | AD8: =+AB8-AC8 -> -10 | AE8: =IFERROR(VLOOKUP($B:$B,'Actual Ajusté'!$B:$Q,MATCH(Synthèse!AE$1,'Actual Ajusté'!$B$1:$Q$1,0),0),0) -> 0 | AF8: =IFERROR(VLOOKUP($B:$B,Budget!$B:$Q,MATCH(Synthèse!AE$1,Budget!$B$1:$Q$1,0),0),0) -> 10 | AG8: =+AE8-AF8 -> -10 | AH8: =IFERROR(VLOOKUP($B:$B,'Actual Ajusté'!$B:$Q,MATCH(Synthèse!AH$1,'Actual Ajusté'!$B$1:$Q$1,0),0),0) -> 0 | AI8: =IFERROR(VLOOKUP($B:$B,Budget!$B:$Q,MATCH(Synthèse!AH$1,Budget!$B$1:$Q$1,0),0),0) -> 10 | AJ8: =+AH8-AI8 -> -10 | AK8: =IFERROR(VLOOKUP($B:$B,'Actual Ajusté'!$B:$Q,MATCH(Synthèse!AK$1,'Actual Ajusté'!$B$1:$Q$1,0),0),0) -> 0 | AL8: =IFERROR(VLOOKUP($B:$B,Budget!$B:$Q,MATCH(Synthèse!AK$1,Budget!$B$1:$Q$1,0),0),0) -> 10 | AM8: =+AK8-AL8 -> -10 | AN8: =IFERROR(VLOOKUP($B:$B,'Actual Ajusté'!$B:$Q,MATCH(Synthèse!AN$1,'Actual Ajusté'!$B$1:$Q$1,0),0),0) -> 0 | AO8: =IFERROR(VLOOKUP($B:$B,Budget!$B:$Q,MATCH(Synthèse!AN$1,Budget!$B$1:$Q$1,0),0),0) -> 10 | AP8: =+AN8-AO8 -> -10 | AR8: =SUMPRODUCT((MOD(COLUMN(G8:INDIRECT(ADDRESS(8,6+3*$AV$1))),3)=1)*(G8:INDIRECT(ADDRESS(8,6+3*$AV$1)))) -> 19 | AS8: =SUMPRODUCT((MOD(COLUMN(H8:INDIRECT(ADDRESS(8,6+3*$AV$1))),3)=2)*(H8:INDIRECT(ADDRESS(8,6+3*$AV$1)))) -> 20 | AT8: =SUMPRODUCT((MOD(COLUMN(I8:INDIRECT(ADDRESS(8,6+3*$AV$1))),3)=0)*(I8:INDIRECT(ADDRESS(8,6+3*$AV$1)))) -> -1
B9: Total 1DIROP | G9: =IFERROR(VLOOKUP($B:$B,'Actual Ajusté'!$B:$Q,MATCH(Synthèse!G$1,'Actual Ajusté'!$B$1:$Q$1,0),0),0) -> 3 | H9: =IFERROR(VLOOKUP($B:$B,Budget!$B:$Q,MATCH(Synthèse!G$1,Budget!$B$1:$Q$1,0),0),0) -> 0.23809524 | I9: =+G9-H9 -> 2.7619048 | J9: =IFERROR(VLOOKUP($B:$B,'Actual Ajusté'!$B:$Q,MATCH(Synthèse!J$1,'Actual Ajusté'!$B$1:$Q$1,0),0),0) -> 2 | K9: =IFERROR(VLOOKUP($B:$B,Budget!$B:$Q,MATCH(Synthèse!J$1,Budget!$B$1:$Q$1,0),0),0) -> 0.23809524 | L9: =+J9-K9 -> 1.7619048 | M9: =IFERROR(VLOOKUP($B:$B,'Actual Ajusté'!$B:$Q,MATCH(Synthèse!M$1,'Actual Ajusté'!$B$1:$Q$1,0),0),0) -> 0 | N9: =IFERROR(VLOOKUP($B:$B,Budget!$B:$Q,MATCH(Synthèse!M$1,Budget!$B$1:$Q$1,0),0),0) -> 0.23809524 | O9: =+M9-N9 -> -0.23809524 | P9: =IFERROR(VLOOKUP($B:$B,'Actual Ajusté'!$B:$Q,MATCH(Synthèse!P$1,'Actual Ajusté'!$B$1:$Q$1,0),0),0) -> 0 | Q9: =IFERROR(VLOOKUP($B:$B,Budget!$B:$Q,MATCH(Synthèse!P$1,Budget!$B$1:$Q$1,0),0),0) -> 0.23809524 | R9: =+P9-Q9 -> -0.23809524 | S9: =IFERROR(VLOOKUP($B:$B,'Actual Ajusté'!$B:$Q,MATCH(Synthèse!S$1,'Actual Ajusté'!$B$1:$Q$1,0),0),0) -> 0 | T9: =IFERROR(VLOOKUP($B:$B,Budget!$B:$Q,MATCH(Synthèse!S$1,Budget!$B$1:$Q$1,0),0),0) -> 0.23809524 | U9: =+S9-T9 -> -0.23809524 | V9: =IFERROR(VLOOKUP($B:$B,'Actual Ajusté'!$B:$Q,MATCH(Synthèse!V$1,'Actual Ajusté'!$B$1:$Q$1,0),0),0) -> 0 | W9: =IFERROR(VLOOKUP($B:$B,Budget!$B:$Q,MATCH(Synthèse!V$1,Budget!$B$1:$Q$1,0),0),0) -> 0.23809524 | X9: =+V9-W9 -> -0.23809524 | Y9: =IFERROR(VLOOKUP($B:$B,'Actual Ajusté'!$B:$Q,MATCH(Synthèse!Y$1,'Actual Ajusté'!$B$1:$Q$1,0),0),0) -> 0 | Z9: =IFERROR(VLOOKUP($B:$B,Budget!$B:$Q,MATCH(Synthèse!Y$1,Budget!$B$1:$Q$1,0),0),0) -> 0.23809524 | AA9: =+Y9-Z9 -> -0.23809524 | AB9: =IFERROR(VLOOKUP($B:$B,'Actual Ajusté'!$B:$Q,MATCH(Synthèse!AB$1,'Actual Ajusté'!$B$1:$Q$1,0),0),0) -> 0 | AC9: =IFERROR(VLOOKUP($B:$B,Budget!$B:$Q,MATCH(Synthèse!AB$1,Budget!$B$1:$Q$1,0),0),0) -> 0.23809524 | AD9: =+AB9-AC9 -> -0.23809524 | AE9: =IFERROR(VLOOKUP($B:$B,'Actual Ajusté'!$B:$Q,MATCH(Synthèse!AE$1,'Actual Ajusté'!$B$1:$Q$1,0),0),0) -> 0 | AF9: =IFERROR(VLOOKUP($B:$B,Budget!$B:$Q,MATCH(Synthèse!AE$1,Budget!$B$1:$Q$1,0),0),0) -> 0.23809524 | AG9: =+AE9-AF9 -> -0.23809524 | AH9: =IFERROR(VLOOKUP($B:$B,'Actual Ajusté'!$B:$Q,MATCH(Synthèse!AH$1,'Actual Ajusté'!$B$1:$Q$1,0),0),0) -> 0 | AI9: =IFERROR(VLOOKUP($B:$B,Budget!$B:$Q,MATCH(Synthèse!AH$1,Budget!$B$1:$Q$1,0),0),0) -> 0.23809524 | AJ9: =+AH9-AI9 -> -0.23809524 | AK9: =IFERROR(VLOOKUP($B:$B,'Actual Ajusté'!$B:$Q,MATCH(Synthèse!AK$1,'Actual Ajusté'!$B$1:$Q$1,0),0),0) -> 0 | AL9: =IFERROR(VLOOKUP($B:$B,Budget!$B:$Q,MATCH(Synthèse!AK$1,Budget!$B$1:$Q$1,0),0),0) -> 0.23809524 | AM9: =+AK9-AL9 -> -0.23809524 | AN9: =IFERROR(VLOOKUP($B:$B,'Actual Ajusté'!$B:$Q,MATCH(Synthèse!AN$1,'Actual Ajusté'!$B$1:$Q$1,0),0),0) -> 0 | AO9: =IFERROR(VLOOKUP($B:$B,Budget!$B:$Q,MATCH(Synthèse!AN$1,Budget!$B$1:$Q$1,0),0),0) -> 0.23809524 | AP9: =+AN9-AO9 -> -0.23809524 | AR9: =SUMPRODUCT((MOD(COLUMN(G9:INDIRECT(ADDRESS(9,6+3*$AV$1))),3)=1)*(G9:INDIRECT(ADDRESS(9,6+3*$AV$1)))) -> 5 | AS9: =SUMPRODUCT((MOD(COLUMN(H9:INDIRECT(ADDRESS(9,6+3*$AV$1))),3)=2)*(H9:INDIRECT(ADDRESS(9,6+3*$AV$1)))) -> 0.47619048 | AT9: =SUMPRODUCT((MOD(COLUMN(I9:INDIRECT(ADDRESS(9,6+3*$AV$1))),3)=0)*(I9:INDIRECT(ADDRESS(9,6+3*$AV$1)))) -> 4.5238095
B11: Total général | G11: =SUM(G3:G9) -> 42 | H11: =SUM(H3:H9) -> 39.395238 | I11: =SUM(I3:I9) -> 2.6047619 | J11: =SUM(J3:J9) -> 42 | K11: =SUM(K3:K9) -> 39.395238 | L11: =SUM(L3:L9) -> 2.6047619 | M11: =SUM(M3:M9) -> 0 | N11: =SUM(N3:N9) -> 39.395238 | ... AP11: =SUM(AP3:AP9) -> -39.395238 | AR11: =SUM(AR3:AR9) -> 84 | AS11: =SUM(AS3:AS9) -> 78.790476 | AT11: =SUM(AT3:AT9) -> 5.2095238
B13: Check | G13: =+G11-'Actual Ajusté'!F61 -> 0 | H13: =+H11-Budget!F83 -> 0 | J13: =+J11-'Actual Ajusté'!G61 -> 0 | K13: =+K11-Budget!G83 -> 0 | M13: =+M11-'Actual Ajusté'!H61 -> 0 | N13: =+N11-Budget!H83 -> 0 | P13: =+P11-'Actual Ajusté'!I61 -> 0 | Q13: =+Q11-Budget!I83 -> 0 | S13: =+S11-'Actual Ajusté'!J61 -> 0 | T13: =+T11-Budget!J83 -> 0 | V13: =+V11-'Actual Ajusté'!K61 -> 0 | W13: =+W11-Budget!K83 -> 0 | Y13: =+Y11-'Actual Ajusté'!L61 -> 0 | Z13: =+Z11-Budget!L83 -> 0 | AB13: =+AB11-'Actual Ajusté'!M61 -> 0 | AC13: =+AC11-Budget!M83 -> 0 | AE13: =+AE11-'Actual Ajusté'!N61 -> 0 | AF13: =+AF11-Budget!N83 -> 0 | AH13: =+AH11-'Actual Ajusté'!O61 -> 0 | AI13: =+AI11-Budget!O83 -> 0 | AK13: =+AK11-'Actual Ajusté'!P61 -> 0 | AL13: =+AL11-Budget!P83 -> 0 | AN13: =+AN11-'Actual Ajusté'!Q61 -> 0 | AO13: =+AO11-Budget!Q83 -> 0

Sheet Actual Ajusté
A1: Entité | B1: Cost Center | C1: Nom | D1: Critère | F1: 43466 | G1: 43497 | H1: 43525 | I1: 43556 | J1: 43586 | K1: 43617 | L1: 43647 | M1: 43678 | N1: 43709 | O1: 43739 | P1: 43770 | Q1: 43800 | S1: YTD | U1: =+Synthèse!AV1 -> 2
A2: IT Corporate | B2: 1BI | C2: Barkati Radhouan | D2: =C:C&B:B -> Barkati Radhouan1BI | F2: =+Actual!F2+Ajustement!F2 -> 1 | G2: =+Actual!G2+Ajustement!G2 -> 1 | H2: =+Actual!H2+Ajustement!H2 -> 0 | I2: =+Actual!I2+Ajustement!I2 -> 0 | J2: =+Actual!J2+Ajustement!J2 -> 0 | K2: =+Actual!K2+Ajustement!K2 -> 0 | L2: =+Actual!L2+Ajustement!L2 -> 0 | M2: =+Actual!M2+Ajustement!M2 -> 0 | ... Q2: =+Actual!Q2+Ajustement!Q2 -> 0 | S2: =SUM(OFFSET(F2,,,,$U$1)) -> 2
A3: IT Corporate | B3: 1BI | C3: Claveau Benjamin | D3: =C:C&B:B -> Claveau Benjamin1BI | F3: =+Actual!F3+Ajustement!F3 -> 1 | G3: =+Actual!G3+Ajustement!G3 -> 1 | H3: =+Actual!H3+Ajustement!H3 -> 0 | I3: =+Actual!I3+Ajustement!I3 -> 0 | J3: =+Actual!J3+Ajustement!J3 -> 0 | K3: =+Actual!K3+Ajustement!K3 -> 0 | L3: =+Actual!L3+Ajustement!L3 -> 0 | M3: =+Actual!M3+Ajustement!M3 -> 0 | ... Q3: =+Actual!Q3+Ajustement!Q3 -> 0 | S3: =SUM(OFFSET(F3,,,,$U$1)) -> 2
A4: IT Corporate | B4: 1BI | C4: Maurice Jean-marc | D4: =C:C&B:B -> Maurice Jean-marc1BI | F4: =+Actual!F4+Ajustement!F4 -> 1 | G4: =+Actual!G4+Ajustement!G4 -> 1 | H4: =+Actual!H4+Ajustement!H4 -> 0 | I4: =+Actual!I4+Ajustement!I4 -> 0 | J4: =+Actual!J4+Ajustement!J4 -> 0 | K4: =+Actual!K4+Ajustement!K4 -> 0 | L4: =+Actual!L4+Ajustement!L4 -> 0 | M4: =+Actual!M4+Ajustement!M4 -> 0 | ... Q4: =+Actual!Q4+Ajustement!Q4 -> 0 | S4: =SUM(OFFSET(F4,,,,$U$1)) -> 2
A5: IT Corporate | B5: 1BI | C5: Mouillon Pascale | D5: =C:C&B:B -> Mouillon Pascale1BI | F5: =+Actual!F5+Ajustement!F5 -> 1 | G5: =+Actual!G5+Ajustement!G5 -> 1 | H5: =+Actual!H5+Ajustement!H5 -> 0 | I5: =+Actual!I5+Ajustement!I5 -> 0 | J5: =+Actual!J5+Ajustement!J5 -> 0 | K5: =+Actual!K5+Ajustement!K5 -> 0 | L5: =+Actual!L5+Ajustement!L5 -> 0 | M5: =+Actual!M5+Ajustement!M5 -> 0 | ... Q5: =+Actual!Q5+Ajustement!Q5 -> 0 | S5: =SUM(OFFSET(F5,,,,$U$1)) -> 2
A6: IT Corporate | B6: 1BI | C6: Mouzdahir Rachid | D6: =C:C&B:B -> Mouzdahir Rachid1BI | F6: =+Actual!F6+Ajustement!F6 -> 1 | G6: =+Actual!G6+Ajustement!G6 -> 1 | H6: =+Actual!H6+Ajustement!H6 -> 0 | I6: =+Actual!I6+Ajustement!I6 -> 0 | J6: =+Actual!J6+Ajustement!J6 -> 0 | K6: =+Actual!K6+Ajustement!K6 -> 0 | L6: =+Actual!L6+Ajustement!L6 -> 0 | M6: =+Actual!M6+Ajustement!M6 -> 0 | ... Q6: =+Actual!Q6+Ajustement!Q6 -> 0 | S6: =SUM(OFFSET(F6,,,,$U$1)) -> 2
A7: IT Corporate | B7: 1BI | C7: Nardin Stephane | D7: =C:C&B:B -> Nardin Stephane1BI | F7: =+Actual!F7+Ajustement!F7 -> 1 | G7: =+Actual!G7+Ajustement!G7 -> 1 | H7: =+Actual!H7+Ajustement!H7 -> 0 | I7: =+Actual!I7+Ajustement!I7 -> 0 | J7: =+Actual!J7+Ajustement!J7 -> 0 | K7: =+Actual!K7+Ajustement!K7 -> 0 | L7: =+Actual!L7+Ajustement!L7 -> 0 | M7: =+Actual!M7+Ajustement!M7 -> 0 | ... Q7: =+Actual!Q7+Ajustement!Q7 -> 0 | S7: =SUM(OFFSET(F7,,,,$U$1)) -> 2
A8: IT Corporate | B8: 1BI | C8: Nguyen Flavien | D8: =C:C&B:B -> Nguyen Flavien1BI | F8: =+Actual!F8+Ajustement!F8 -> 1 | G8: =+Actual!G8+Ajustement!G8 -> 1 | H8: =+Actual!H8+Ajustement!H8 -> 0 | I8: =+Actual!I8+Ajustement!I8 -> 0 | J8: =+Actual!J8+Ajustement!J8 -> 0 | K8: =+Actual!K8+Ajustement!K8 -> 0 | L8: =+Actual!L8+Ajustement!L8 -> 0 | M8: =+Actual!M8+Ajustement!M8 -> 0 | ... Q8: =+Actual!Q8+Ajustement!Q8 -> 0 | S8: =SUM(OFFSET(F8,,,,$U$1)) -> 2
A9: IT Corporate | B9: 1BI | C9: Kone Moussa | D9: =C:C&B:B -> Kone Moussa1BI | F9: =+Actual!F9+Ajustement!F9 -> 0 | G9: =+Actual!G9+Ajustement!G9 -> 1 | H9: =+Actual!H9+Ajustement!H9 -> 0 | I9: =+Actual!I9+Ajustement!I9 -> 0 | J9: =+Actual!J9+Ajustement!J9 -> 0 | K9: =+Actual!K9+Ajustement!K9 -> 0 | L9: =+Actual!L9+Ajustement!L9 -> 0 | M9: =+Actual!M9+Ajustement!M9 -> 0 | ... Q9: =+Actual!Q9+Ajustement!Q9 -> 0 | S9: =SUM(OFFSET(F9,,,,$U$1)) -> 1
B10: Total 1BI | F10: =SUM(F2:F9) -> 7 | G10: =SUM(G2:G9) -> 8 | H10: =SUM(H2:H9) -> 0 | I10: =SUM(I2:I9) -> 0 | J10: =SUM(J2:J9) -> 0 | K10: =SUM(K2:K9) -> 0 | L10: =SUM(L2:L9) -> 0 | M10: =SUM(M2:M9) -> 0 | ... Q10: =SUM(Q2:Q9) -> 0 | S10: =SUM(S2:S9) -> 15
A11: IT Corporate | B11: 1BUS | C11: Amador Joao | D11: =C:C&B:B -> Amador Joao1BUS | F11: =+Actual!F11+Ajustement!F11 -> 1 | G11: =+Actual!G11+Ajustement!G11 -> 1 | H11: =+Actual!H11+Ajustement!H11 -> 0 | I11: =+Actual!I11+Ajustement!I11 -> 0 | J11: =+Actual!J11+Ajustement!J11 -> 0 | K11: =+Actual!K11+Ajustement!K11 -> 0 | L11: =+Actual!L11+Ajustement!L11 -> 0 | M11: =+Actual!M11+Ajustement!M11 -> 0 | ... Q11: =+Actual!Q11+Ajustement!Q11 -> 0 | S11: =SUM(OFFSET(F11,,,,$U$1)) -> 2
A12: IT Corporate | B12: 1BUS | C12: Barj Yousra | D12: =C:C&B:B -> Barj Yousra1BUS | F12: =+Actual!F12+Ajustement!F12 -> 1 | G12: =+Actual!G12+Ajustement!G12 -> 1 | H12: =+Actual!H12+Ajustement!H12 -> 0 | I12: =+Actual!I12+Ajustement!I12 -> 0 | J12: =+Actual!J12+Ajustement!J12 -> 0 | K12: =+Actual!K12+Ajustement!K12 -> 0 | L12: =+Actual!L12+Ajustement!L12 -> 0 | M12: =+Actual!M12+Ajustement!M12 -> 0 | ... Q12: =+Actual!Q12+Ajustement!Q12 -> 0 | S12: =SUM(OFFSET(F12,,,,$U$1)) -> 2
A13: IT Corporate | B13: 1BUS | C13: Bay Vichhady | D13: =C:C&B:B -> Bay Vichhady1BUS | F13: =+Actual!F13+Ajustement!F13 -> 1 | G13: =+Actual!G13+Ajustement!G13 -> 1 | H13: =+Actual!H13+Ajustement!H13 -> 0 | I13: =+Actual!I13+Ajustement!I13 -> 0 | J13: =+Actual!J13+Ajustement!J13 -> 0 | K13: =+Actual!K13+Ajustement!K13 -> 0 | L13: =+Actual!L13+Ajustement!L13 -> 0 | M13: =+Actual!M13+Ajustement!M13 -> 0 | ... Q13: =+Actual!Q13+Ajustement!Q13 -> 0 | S13: =SUM(OFFSET(F13,,,,$U$1)) -> 2
A14: IT Corporate | B14: 1BUS | C14: Benali Anass | D14: =C:C&B:B -> Benali Anass1BUS | F14: =+Actual!F14+Ajustement!F14 -> 1 | G14: =+Actual!G14+Ajustement!G14 -> 1 | H14: =+Actual!H14+Ajustement!H14 -> 0 | I14: =+Actual!I14+Ajustement!I14 -> 0 | J14: =+Actual!J14+Ajustement!J14 -> 0 | K14: =+Actual!K14+Ajustement!K14 -> 0 | L14: =+Actual!L14+Ajustement!L14 -> 0 | M14: =+Actual!M14+Ajustement!M14 -> 0 | ... Q14: =+Actual!Q14+Ajustement!Q14 -> 0 | S14: =SUM(OFFSET(F14,,,,$U$1)) -> 2
A15: IT Corporate | B15: 1BUS | C15: Biancolin Jean-Andre | D15: =C:C&B:B -> Biancolin Jean-Andre1BUS | F15: =+Actual!F15+Ajustement!F15 -> 1 | G15: =+Actual!G15+Ajustement!G15 -> 1 | H15: =+Actual!H15+Ajustement!H15 -> 0 | I15: =+Actual!I15+Ajustement!I15 -> 0 | J15: =+Actual!J15+Ajustement!J15 -> 0 | K15: =+Actual!K15+Ajustement!K15 -> 0 | L15: =+Actual!L15+Ajustement!L15 -> 0 | M15: =+Actual!M15+Ajustement!M15 -> 0 | ... Q15: =+Actual!Q15+Ajustement!Q15 -> 0 | S15: =SUM(OFFSET(F15,,,,$U$1)) -> 2
A16: IT Corporate | B16: 1BUS | C16: Carré Marie | D16: =C:C&B:B -> Carré Marie1BUS | F16: =+Actual!F16+Ajustement!F16 -> 1 | G16: =+Actual!G16+Ajustement!G16 -> 1 | H16: =+Actual!H16+Ajustement!H16 -> 0 | I16: =+Actual!I16+Ajustement!I16 -> 0 | J16: =+Actual!J16+Ajustement!J16 -> 0 | K16: =+Actual!K16+Ajustement!K16 -> 0 | L16: =+Actual!L16+Ajustement!L16 -> 0 | M16: =+Actual!M16+Ajustement!M16 -> 0 | ... Q16: =+Actual!Q16+Ajustement!Q16 -> 0 | S16: =SUM(OFFSET(F16,,,,$U$1)) -> 2
A17: IT Corporate | B17: 1BUS | C17: Lebied Taha | D17: =C:C&B:B -> Lebied Taha1BUS | F17: =+Actual!F17+Ajustement!F17 -> 1 | G17: =+Actual!G17+Ajustement!G17 -> 1 | H17: =+Actual!H17+Ajustement!H17 -> 0 | I17: =+Actual!I17+Ajustement!I17 -> 0 | J17: =+Actual!J17+Ajustement!J17 -> 0 | K17: =+Actual!K17+Ajustement!K17 -> 0 | L17: =+Actual!L17+Ajustement!L17 -> 0 | M17: =+Actual!M17+Ajustement!M17 -> 0 | ... Q17: =+Actual!Q17+Ajustement!Q17 -> 0 | S17: =SUM(OFFSET(F17,,,,$U$1)) -> 2
A18: IT Corporate | B18: 1BUS | C18: Meejat Anis | D18: =C:C&B:B -> Meejat Anis1BUS | F18: =+Actual!F18+Ajustement!F18 -> 1 | G18: =+Actual!G18+Ajustement!G18 -> 1 | H18: =+Actual!H18+Ajustement!H18 -> 0 | I18: =+Actual!I18+Ajustement!I18 -> 0 | J18: =+Actual!J18+Ajustement!J18 -> 0 | K18: =+Actual!K18+Ajustement!K18 -> 0 | L18: =+Actual!L18+Ajustement!L18 -> 0 | M18: =+Actual!M18+Ajustement!M18 -> 0 | ... Q18: =+Actual!Q18+Ajustement!Q18 -> 0 | S18: =SUM(OFFSET(F18,,,,$U$1)) -> 2
A19: IT Corporate | B19: 1BUS | C19: Mongrolle Philippe | D19: =C:C&B:B -> Mongrolle Philippe1BUS | F19: =+Actual!F19+Ajustement!F19 -> 1 | G19: =+Actual!G19+Ajustement!G19 -> 1 | H19: =+Actual!H19+Ajustement!H19 -> 0 | I19: =+Actual!I19+Ajustement!I19 -> 0 | J19: =+Actual!J19+Ajustement!J19 -> 0 | K19: =+Actual!K19+Ajustement!K19 -> 0 | L19: =+Actual!L19+Ajustement!L19 -> 0 | M19: =+Actual!M19+Ajustement!M19 -> 0 | ... Q19: =+Actual!Q19+Ajustement!Q19 -> 0 | S19: =SUM(OFFSET(F19,,,,$U$1)) -> 2
A20: IT Corporate | B20: 1BUS | C20: Rochdi Bey | D20: =C:C&B:B -> Rochdi Bey1BUS | F20: =+Actual!F20+Ajustement!F20 -> 1 | G20: =+Actual!G20+Ajustement!G20 -> 1 | H20: =+Actual!H20+Ajustement!H20 -> 0 | I20: =+Actual!I20+Ajustement!I20 -> 0 | J20: =+Actual!J20+Ajustement!J20 -> 0 | K20: =+Actual!K20+Ajustement!K20 -> 0 | L20: =+Actual!L20+Ajustement!L20 -> 0 | M20: =+Actual!M20+Ajustement!M20 -> 0 | ... Q20: =+Actual!Q20+Ajustement!Q20 -> 0 | S20: =SUM(OFFSET(F20,,,,$U$1)) -> 2
A21: IT Corporate | B21: 1BUS | C21: Rogui Talal | D21: =C:C&B:B -> Rogui Talal1BUS | F21: =+Actual!F21+Ajustement!F21 -> 1 | G21: =+Actual!G21+Ajustement!G21 -> 1 | H21: =+Actual!H21+Ajustement!H21 -> 0 | I21: =+Actual!I21+Ajustement!I21 -> 0 | J21: =+Actual!J21+Ajustement!J21 -> 0 | K21: =+Actual!K21+Ajustement!K21 -> 0 | L21: =+Actual!L21+Ajustement!L21 -> 0 | M21: =+Actual!M21+Ajustement!M21 -> 0 | ... Q21: =+Actual!Q21+Ajustement!Q21 -> 0 | S21: =SUM(OFFSET(F21,,,,$U$1)) -> 2
A22: IT Corporate | B22: 1BUS | C22: Thibaud Matthieu | D22: =C:C&B:B -> Thibaud Matthieu1BUS | F22: =+Actual!F22+Ajustement!F22 -> 1 | G22: =+Actual!G22+Ajustement!G22 -> 0 | H22: =+Actual!H22+Ajustement!H22 -> 0 | I22: =+Actual!I22+Ajustement!I22 -> 0 | J22: =+Actual!J22+Ajustement!J22 -> 0 | K22: =+Actual!K22+Ajustement!K22 -> 0 | L22: =+Actual!L22+Ajustement!L22 -> 0 | M22: =+Actual!M22+Ajustement!M22 -> 0 | ... Q22: =+Actual!Q22+Ajustement!Q22 -> 0 | S22: =SUM(OFFSET(F22,,,,$U$1)) -> 1
A23: IT Corporate | B23: 1BUS | C23: Revello Kevin | D23: =C:C&B:B -> Revello Kevin1BUS | F23: =+Actual!F23+Ajustement!F23 -> 1 | G23: =+Actual!G23+Ajustement!G23 -> 1 | H23: =+Actual!H23+Ajustement!H23 -> 0 | I23: =+Actual!I23+Ajustement!I23 -> 0 | J23: =+Actual!J23+Ajustement!J23 -> 0 | K23: =+Actual!K23+Ajustement!K23 -> 0 | L23: =+Actual!L23+Ajustement!L23 -> 0 | M23: =+Actual!M23+Ajustement!M23 -> 0 | ... Q23: =+Actual!Q23+Ajustement!Q23 -> 0 | S23: =SUM(OFFSET(F23,,,,$U$1)) -> 2
B24: Total 1BUS | F24: =SUM(F11:F23) -> 13 | G24: =SUM(G11:G23) -> 12 | H24: =SUM(H11:H23) -> 0 | I24: =SUM(I11:I23) -> 0 | J24: =SUM(J11:J23) -> 0 | K24: =SUM(K11:K23) -> 0 | L24: =SUM(L11:L23) -> 0 | M24: =SUM(M11:M23) -> 0 | ... Q24: =SUM(Q11:Q23) -> 0 | S24: =SUM(S11:S23) -> 25
A25: IT Corporate | B25: 1CORP | C25: Louet Jean-François | D25: =C:C&B:B -> Louet Jean-François1CORP | F25: =+Actual!F25+Ajustement!F25 -> 0 | G25: =+Actual!G25+Ajustement!G25 -> 1 | H25: =+Actual!H25+Ajustement!H25 -> 0 | I25: =+Actual!I25+Ajustement!I25 -> 0 | J25: =+Actual!J25+Ajustement!J25 -> 0 | K25: =+Actual!K25+Ajustement!K25 -> 0 | L25: =+Actual!L25+Ajustement!L25 -> 0 | M25: =+Actual!M25+Ajustement!M25 -> 0 | ... Q25: =+Actual!Q25+Ajustement!Q25 -> 0 | S25: =SUM(OFFSET(F25,,,,$U$1)) -> 1
A26: IT Corporate | B26: 1CORP | C26: Revello Kevin | D26: =C:C&B:B -> Revello Kevin1CORP | F26: =+Actual!F26+Ajustement!F26 -> 0 | G26: =+Actual!G26+Ajustement!G26 -> 0 | H26: =+Actual!H26+Ajustement!H26 -> 0 | I26: =+Actual!I26+Ajustement!I26 -> 0 | J26: =+Actual!J26+Ajustement!J26 -> 0 | K26: =+Actual!K26+Ajustement!K26 -> 0 | L26: =+Actual!L26+Ajustement!L26 -> 0 | M26: =+Actual!M26+Ajustement!M26 -> 0 | ... Q26: =+Actual!Q26+Ajustement!Q26 -> 0 | S26: =SUM(OFFSET(F26,,,,$U$1)) -> 0
B27: Total 1CORP | F27: =SUM(F25:F25) -> 0 | G27: =SUM(G25:G25) -> 1 | H27: =SUM(H25:H25) -> 0 | I27: =SUM(I25:I25) -> 0 | J27: =SUM(J25:J25) -> 0 | K27: =SUM(K25:K25) -> 0 | L27: =SUM(L25:L25) -> 0 | M27: =SUM(M25:M25) -> 0 | ... Q27: =SUM(Q25:Q25) -> 0 | S27: =SUM(S25:S25) -> 1
A28: IT Corporate | B28: 1ITFIN | C28: Andrianaivo Eric | D28: =C:C&B:B -> Andrianaivo Eric1ITFIN | F28: =+Actual!F28+Ajustement!F28 -> 1 | G28: =+Actual!G28+Ajustement!G28 -> 1 | H28: =+Actual!H28+Ajustement!H28 -> 0 | I28: =+Actual!I28+Ajustement!I28 -> 0 | J28: =+Actual!J28+Ajustement!J28 -> 0 | K28: =+Actual!K28+Ajustement!K28 -> 0 | L28: =+Actual!L28+Ajustement!L28 -> 0 | M28: =+Actual!M28+Ajustement!M28 -> 0 | ... Q28: =+Actual!Q28+Ajustement!Q28 -> 0 | S28: =SUM(OFFSET(F28,,,,$U$1)) -> 2
A29: IT Corporate | B29: 1ITFIN | C29: Anjum Osama | D29: =C:C&B:B -> Anjum Osama1ITFIN | F29: =+Actual!F29+Ajustement!F29 -> 0 | G29: =+Actual!G29+Ajustement!G29 -> 0 | H29: =+Actual!H29+Ajustement!H29 -> 0 | I29: =+Actual!I29+Ajustement!I29 -> 0 | J29: =+Actual!J29+Ajustement!J29 -> 0 | K29: =+Actual!K29+Ajustement!K29 -> 0 | L29: =+Actual!L29+Ajustement!L29 -> 0 | M29: =+Actual!M29+Ajustement!M29 -> 0 | ... Q29: =+Actual!Q29+Ajustement!Q29 -> 0 | S29: =SUM(OFFSET(F29,,,,$U$1)) -> 0
A30: IT Corporate | B30: 1ITFIN | C30: Benhaddou Ghita | D30: =C:C&B:B -> Benhaddou Ghita1ITFIN | F30: =+Actual!F30+Ajustement!F30 -> 0 | G30: =+Actual!G30+Ajustement!G30 -> 1 | H30: =+Actual!H30+Ajustement!H30 -> 0 | I30: =+Actual!I30+Ajustement!I30 -> 0 | J30: =+Actual!J30+Ajustement!J30 -> 0 | K30: =+Actual!K30+Ajustement!K30 -> 0 | L30: =+Actual!L30+Ajustement!L30 -> 0 | M30: =+Actual!M30+Ajustement!M30 -> 0 | ... Q30: =+Actual!Q30+Ajustement!Q30 -> 0 | S30: =SUM(OFFSET(F30,,,,$U$1)) -> 1
A31: IT Corporate | B31: 1ITFIN | C31: Venkanna Shilpa | D31: =C:C&B:B -> Venkanna Shilpa1ITFIN | F31: =+Actual!F31+Ajustement!F31 -> 0 | G31: =+Actual!G31+Ajustement!G31 -> 1 | H31: =+Actual!H31+Ajustement!H31 -> 0 | I31: =+Actual!I31+Ajustement!I31 -> 0 | J31: =+Actual!J31+Ajustement!J31 -> 0 | K31: =+Actual!K31+Ajustement!K31 -> 0 | L31: =+Actual!L31+Ajustement!L31 -> 0 | M31: =+Actual!M31+Ajustement!M31 -> 0 | ... Q31: =+Actual!Q31+Ajustement!Q31 -> 0 | S31: =SUM(OFFSET(F31,,,,$U$1)) -> 1
A32: IT Corporate | B32: 1ITFIN | C32: De Boysson Edouard | D32: =C:C&B:B -> De Boysson Edouard1ITFIN | F32: =+Actual!F32+Ajustement!F32 -> 1 | G32: =+Actual!G32+Ajustement!G32 -> 1 | H32: =+Actual!H32+Ajustement!H32 -> 0 | I32: =+Actual!I32+Ajustement!I32 -> 0 | J32: =+Actual!J32+Ajustement!J32 -> 0 | K32: =+Actual!K32+Ajustement!K32 -> 0 | L32: =+Actual!L32+Ajustement!L32 -> 0 | M32: =+Actual!M32+Ajustement!M32 -> 0 | ... Q32: =+Actual!Q32+Ajustement!Q32 -> 0 | S32: =SUM(OFFSET(F32,,,,$U$1)) -> 2
A33: IT Corporate | B33: 1ITFIN | C33: Duong Phuong | D33: =C:C&B:B -> Duong Phuong1ITFIN | F33: =+Actual!F33+Ajustement!F33 -> 1 | G33: =+Actual!G33+Ajustement!G33 -> 1 | H33: =+Actual!H33+Ajustement!H33 -> 0 | I33: =+Actual!I33+Ajustement!I33 -> 0 | J33: =+Actual!J33+Ajustement!J33 -> 0 | K33: =+Actual!K33+Ajustement!K33 -> 0 | L33: =+Actual!L33+Ajustement!L33 -> 0 | M33: =+Actual!M33+Ajustement!M33 -> 0 | ... Q33: =+Actual!Q33+Ajustement!Q33 -> 0 | S33: =SUM(OFFSET(F33,,,,$U$1)) -> 2
A34: IT Corporate | B34: 1ITFIN | C34: Belghith Rym | D34: =C:C&B:B -> Belghith Rym1ITFIN | F34: =+Actual!F34+Ajustement!F34 -> 0 | G34: =+Actual!G34+Ajustement!G34 -> 1 | H34: =+Actual!H34+Ajustement!H34 -> 0 | I34: =+Actual!I34+Ajustement!I34 -> 0 | J34: =+Actual!J34+Ajustement!J34 -> 0 | K34: =+Actual!K34+Ajustement!K34 -> 0 | L34: =+Actual!L34+Ajustement!L34 -> 0 | M34: =+Actual!M34+Ajustement!M34 -> 0 | ... Q34: =+Actual!Q34+Ajustement!Q34 -> 0 | S34: =SUM(OFFSET(F34,,,,$U$1)) -> 1
A35: IT Corporate | B35: 1ITFIN | C35: Lambropoulos Cyril | D35: =C:C&B:B -> Lambropoulos Cyril1ITFIN | F35: =+Actual!F35+Ajustement!F35 -> 0 | G35: =+Actual!G35+Ajustement!G35 -> 0 | H35: =+Actual!H35+Ajustement!H35 -> 0 | I35: =+Actual!I35+Ajustement!I35 -> 0 | J35: =+Actual!J35+Ajustement!J35 -> 0 | K35: =+Actual!K35+Ajustement!K35 -> 0 | L35: =+Actual!L35+Ajustement!L35 -> 0 | M35: =+Actual!M35+Ajustement!M35 -> 0 | ... Q35: =+Actual!Q35+Ajustement!Q35 -> 0 | S35: =SUM(OFFSET(F35,,,,$U$1)) -> 0
B36: Total 1ITFIN | F36: =SUM(F28:F35) -> 3 | G36: =SUM(G28:G35) -> 6 | H36: =SUM(H28:H35) -> 0 | I36: =SUM(I28:I35) -> 0 | J36: =SUM(J28:J35) -> 0 | K36: =SUM(K28:K35) -> 0 | L36: =SUM(L28:L35) -> 0 | M36: =SUM(M28:M35) -> 0 | ... Q36: =SUM(Q28:Q35) -> 0 | S36: =SUM(S28:S35) -> 9
A37: IT Corporate | B37: 1ITGF | C37: Chaoui Ntissar | D37: =C:C&B:B -> Chaoui Ntissar1ITGF | F37: =+Actual!F37+Ajustement!F37 -> 1 | G37: =+Actual!G37+Ajustement!G37 -> 1 | H37: =+Actual!H37+Ajustement!H37 -> 0 | I37: =+Actual!I37+Ajustement!I37 -> 0 | J37: =+Actual!J37+Ajustement!J37 -> 0 | K37: =+Actual!K37+Ajustement!K37 -> 0 | L37: =+Actual!L37+Ajustement!L37 -> 0 | M37: =+Actual!M37+Ajustement!M37 -> 0 | ... Q37: =+Actual!Q37+Ajustement!Q37 -> 0 | S37: =SUM(OFFSET(F37,,,,$U$1)) -> 2
A38: IT Corporate | B38: 1ITGF | C38: Chazelas Catherine | D38: =C:C&B:B -> Chazelas Catherine1ITGF | F38: =+Actual!F38+Ajustement!F38 -> 1 | G38: =+Actual!G38+Ajustement!G38 -> 1 | H38: =+Actual!H38+Ajustement!H38 -> 0 | I38: =+Actual!I38+Ajustement!I38 -> 0 | J38: =+Actual!J38+Ajustement!J38 -> 0 | K38: =+Actual!K38+Ajustement!K38 -> 0 | L38: =+Actual!L38+Ajustement!L38 -> 0 | M38: =+Actual!M38+Ajustement!M38 -> 0 | ... Q38: =+Actual!Q38+Ajustement!Q38 -> 0 | S38: =SUM(OFFSET(F38,,,,$U$1)) -> 2
A39: IT Corporate | B39: 1ITGF | C39: De Burghgrave Laurent | D39: =C:C&B:B -> De Burghgrave Laurent1ITGF | F39: =+Actual!F39+Ajustement!F39 -> 1 | G39: =+Actual!G39+Ajustement!G39 -> 1 | H39: =+Actual!H39+Ajustement!H39 -> 0 | I39: =+Actual!I39+Ajustement!I39 -> 0 | J39: =+Actual!J39+Ajustement!J39 -> 0 | K39: =+Actual!K39+Ajustement!K39 -> 0 | L39: =+Actual!L39+Ajustement!L39 -> 0 | M39: =+Actual!M39+Ajustement!M39 -> 0 | ... Q39: =+Actual!Q39+Ajustement!Q39 -> 0 | S39: =SUM(OFFSET(F39,,,,$U$1)) -> 2
A40: IT Corporate | B40: 1ITGF | C40: Debbah Boutaina | D40: =C:C&B:B -> Debbah Boutaina1ITGF | F40: =+Actual!F40+Ajustement!F40 -> 1 | G40: =+Actual!G40+Ajustement!G40 -> 1 | H40: =+Actual!H40+Ajustement!H40 -> 0 | I40: =+Actual!I40+Ajustement!I40 -> 0 | J40: =+Actual!J40+Ajustement!J40 -> 0 | K40: =+Actual!K40+Ajustement!K40 -> 0 | L40: =+Actual!L40+Ajustement!L40 -> 0 | M40: =+Actual!M40+Ajustement!M40 -> 0 | ... Q40: =+Actual!Q40+Ajustement!Q40 -> 0 | S40: =SUM(OFFSET(F40,,,,$U$1)) -> 2
A41: IT Corporate | B41: 1ITGF | C41: Horen Guillaume | D41: =C:C&B:B -> Horen Guillaume1ITGF | F41: =+Actual!F41+Ajustement!F41 -> 1 | G41: =+Actual!G41+Ajustement!G41 -> 1 | H41: =+Actual!H41+Ajustement!H41 -> 0 | I41: =+Actual!I41+Ajustement!I41 -> 0 | J41: =+Actual!J41+Ajustement!J41 -> 0 | K41: =+Actual!K41+Ajustement!K41 -> 0 | L41: =+Actual!L41+Ajustement!L41 -> 0 | M41: =+Actual!M41+Ajustement!M41 -> 0 | ... Q41: =+Actual!Q41+Ajustement!Q41 -> 0 | S41: =SUM(OFFSET(F41,,,,$U$1)) -> 2
B42: Total 1ITGF | F42: =SUM(F37:F41) -> 5 | G42: =SUM(G37:G41) -> 5 | H42: =SUM(H37:H41) -> 0 | I42: =SUM(I37:I41) -> 0 | J42: =SUM(J37:J41) -> 0 | K42: =SUM(K37:K41) -> 0 | L42: =SUM(L37:L41) -> 0 | M42: =SUM(M37:M41) -> 0 | ... Q42: =SUM(Q37:Q41) -> 0 | S42: =SUM(S37:S41) -> 10
A43: IT Corporate | B43: 1ITRUN | C43: Boubekeur Yamina | D43: =C:C&B:B -> Boubekeur Yamina1ITRUN | F43: =+Actual!F43+Ajustement!F43 -> 1 | G43: =+Actual!G43+Ajustement!G43 -> 0 | H43: =+Actual!H43+Ajustement!H43 -> 0 | I43: =+Actual!I43+Ajustement!I43 -> 0 | J43: =+Actual!J43+Ajustement!J43 -> 0 | K43: =+Actual!K43+Ajustement!K43 -> 0 | L43: =+Actual!L43+Ajustement!L43 -> 0 | M43: =+Actual!M43+Ajustement!M43 -> 0 | ... Q43: =+Actual!Q43+Ajustement!Q43 -> 0 | S43: =SUM(OFFSET(F43,,,,$U$1)) -> 1
A44: IT Corporate | B44: 1ITRUN | C44: Dupraz Simon | D44: =C:C&B:B -> Dupraz Simon1ITRUN | F44: =+Actual!F44+Ajustement!F44 -> 1 | G44: =+Actual!G44+Ajustement!G44 -> 1 | H44: =+Actual!H44+Ajustement!H44 -> 0 | I44: =+Actual!I44+Ajustement!I44 -> 0 | J44: =+Actual!J44+Ajustement!J44 -> 0 | K44: =+Actual!K44+Ajustement!K44 -> 0 | L44: =+Actual!L44+Ajustement!L44 -> 0 | M44: =+Actual!M44+Ajustement!M44 -> 0 | ... Q44: =+Actual!Q44+Ajustement!Q44 -> 0 | S44: =SUM(OFFSET(F44,,,,$U$1)) -> 2
A45: IT Corporate | B45: 1ITRUN | C45: Ferkatadji Julien | D45: =C:C&B:B -> Ferkatadji Julien1ITRUN | F45: =+Actual!F45+Ajustement!F45 -> 1 | G45: =+Actual!G45+Ajustement!G45 -> 1 | H45: =+Actual!H45+Ajustement!H45 -> 0 | I45: =+Actual!I45+Ajustement!I45 -> 0 | J45: =+Actual!J45+Ajustement!J45 -> 0 | K45: =+Actual!K45+Ajustement!K45 -> 0 | L45: =+Actual!L45+Ajustement!L45 -> 0 | M45: =+Actual!M45+Ajustement!M45 -> 0 | ... Q45: =+Actual!Q45+Ajustement!Q45 -> 0 | S45: =SUM(OFFSET(F45,,,,$U$1)) -> 2
A46: IT Corporate | B46: 1ITRUN | C46: Feuillet Adrien | D46: =C:C&B:B -> Feuillet Adrien1ITRUN | F46: =+Actual!F46+Ajustement!F46 -> 1 | G46: =+Actual!G46+Ajustement!G46 -> 0 | H46: =+Actual!H46+Ajustement!H46 -> 0 | I46: =+Actual!I46+Ajustement!I46 -> 0 | J46: =+Actual!J46+Ajustement!J46 -> 0 | K46: =+Actual!K46+Ajustement!K46 -> 0 | L46: =+Actual!L46+Ajustement!L46 -> 0 | M46: =+Actual!M46+Ajustement!M46 -> 0 | ... Q46: =+Actual!Q46+Ajustement!Q46 -> 0 | S46: =SUM(OFFSET(F46,,,,$U$1)) -> 1
A47: IT Corporate | B47: 1ITRUN | C47: Golubovic Boris | D47: =C:C&B:B -> Golubovic Boris1ITRUN | F47: =+Actual!F47+Ajustement!F47 -> 1 | G47: =+Actual!G47+Ajustement!G47 -> 0 | H47: =+Actual!H47+Ajustement!H47 -> 0 | I47: =+Actual!I47+Ajustement!I47 -> 0 | J47: =+Actual!J47+Ajustement!J47 -> 0 | K47: =+Actual!K47+Ajustement!K47 -> 0 | L47: =+Actual!L47+Ajustement!L47 -> 0 | M47: =+Actual!M47+Ajustement!M47 -> 0 | ... Q47: =+Actual!Q47+Ajustement!Q47 -> 0 | S47: =SUM(OFFSET(F47,,,,$U$1)) -> 1
A48: IT Corporate | B48: 1ITRUN | C48: Goncalves Joa | D48: =C:C&B:B -> Goncalves Joa1ITRUN | F48: =+Actual!F48+Ajustement!F48 -> 1 | G48: =+Actual!G48+Ajustement!G48 -> 1 | H48: =+Actual!H48+Ajustement!H48 -> 0 | I48: =+Actual!I48+Ajustement!I48 -> 0 | J48: =+Actual!J48+Ajustement!J48 -> 0 | K48: =+Actual!K48+Ajustement!K48 -> 0 | L48: =+Actual!L48+Ajustement!L48 -> 0 | M48: =+Actual!M48+Ajustement!M48 -> 0 | ... Q48: =+Actual!Q48+Ajustement!Q48 -> 0 | S48: =SUM(OFFSET(F48,,,,$U$1)) -> 2
A49: IT Corporate | B49: 1ITRUN | C49: Hemmavanh Jennifer | D49: =C:C&B:B -> Hemmavanh Jennifer1ITRUN | F49: =+Actual!F49+Ajustement!F49 -> 1 | G49: =+Actual!G49+Ajustement!G49 -> 1 | H49: =+Actual!H49+Ajustement!H49 -> 0 | I49: =+Actual!I49+Ajustement!I49 -> 0 | J49: =+Actual!J49+Ajustement!J49 -> 0 | K49: =+Actual!K49+Ajustement!K49 -> 0 | L49: =+Actual!L49+Ajustement!L49 -> 0 | M49: =+Actual!M49+Ajustement!M49 -> 0 | ... Q49: =+Actual!Q49+Ajustement!Q49 -> 0 | S49: =SUM(OFFSET(F49,,,,$U$1)) -> 2
A50: IT Corporate | B50: 1ITRUN | C50: Jaa Ayoub | D50: =C:C&B:B -> Jaa Ayoub1ITRUN | F50: =+Actual!F50+Ajustement!F50 -> 1 | G50: =+Actual!G50+Ajustement!G50 -> 1 | H50: =+Actual!H50+Ajustement!H50 -> 0 | I50: =+Actual!I50+Ajustement!I50 -> 0 | J50: =+Actual!J50+Ajustement!J50 -> 0 | K50: =+Actual!K50+Ajustement!K50 -> 0 | L50: =+Actual!L50+Ajustement!L50 -> 0 | M50: =+Actual!M50+Ajustement!M50 -> 0 | ... Q50: =+Actual!Q50+Ajustement!Q50 -> 0 | S50: =SUM(OFFSET(F50,,,,$U$1)) -> 2
A51: IT Corporate | B51: 1ITRUN | C51: Laimene Amine | D51: =C:C&B:B -> Laimene Amine1ITRUN | F51: =+Actual!F51+Ajustement!F51 -> 1 | G51: =+Actual!G51+Ajustement!G51 -> 1 | H51: =+Actual!H51+Ajustement!H51 -> 0 | I51: =+Actual!I51+Ajustement!I51 -> 0 | J51: =+Actual!J51+Ajustement!J51 -> 0 | K51: =+Actual!K51+Ajustement!K51 -> 0 | L51: =+Actual!L51+Ajustement!L51 -> 0 | M51: =+Actual!M51+Ajustement!M51 -> 0 | ... Q51: =+Actual!Q51+Ajustement!Q51 -> 0 | S51: =SUM(OFFSET(F51,,,,$U$1)) -> 2
A52: IT Corporate | B52: 1ITRUN | C52: Outalaaynt Fatima | D52: =C:C&B:B -> Outalaaynt Fatima1ITRUN | F52: =+Actual!F52+Ajustement!F52 -> 1 | G52: =+Actual!G52+Ajustement!G52 -> 1 | H52: =+Actual!H52+Ajustement!H52 -> 0 | I52: =+Actual!I52+Ajustement!I52 -> 0 | J52: =+Actual!J52+Ajustement!J52 -> 0 | K52: =+Actual!K52+Ajustement!K52 -> 0 | L52: =+Actual!L52+Ajustement!L52 -> 0 | M52: =+Actual!M52+Ajustement!M52 -> 0 | ... Q52: =+Actual!Q52+Ajustement!Q52 -> 0 | S52: =SUM(OFFSET(F52,,,,$U$1)) -> 2
A53: IT Corporate | B53: 1ITRUN | C53: DAKHLAOUI Ahmed Amine | D53: =C:C&B:B -> DAKHLAOUI Ahmed Amine 1ITRUN | F53: =+Actual!F53+Ajustement!F53 -> 0 | G53: =+Actual!G53+Ajustement!G53 -> 0 | H53: =+Actual!H53+Ajustement!H53 -> 0 | I53: =+Actual!I53+Ajustement!I53 -> 0 | J53: =+Actual!J53+Ajustement!J53 -> 0 | K53: =+Actual!K53+Ajustement!K53 -> 0 | L53: =+Actual!L53+Ajustement!L53 -> 0 | M53: =+Actual!M53+Ajustement!M53 -> 0 | ... Q53: =+Actual!Q53+Ajustement!Q53 -> 0 | S53: =SUM(OFFSET(F53,,,,$U$1)) -> 0
A54: IT Corporate | B54: 1ITRUN | C54: Reperant Amelie | D54: =C:C&B:B -> Reperant Amelie1ITRUN | F54: =+Actual!F54+Ajustement!F54 -> 1 | G54: =+Actual!G54+Ajustement!G54 -> 1 | H54: =+Actual!H54+Ajustement!H54 -> 0 | I54: =+Actual!I54+Ajustement!I54 -> 0 | J54: =+Actual!J54+Ajustement!J54 -> 0 | K54: =+Actual!K54+Ajustement!K54 -> 0 | L54: =+Actual!L54+Ajustement!L54 -> 0 | M54: =+Actual!M54+Ajustement!M54 -> 0 | ... Q54: =+Actual!Q54+Ajustement!Q54 -> 0 | S54: =SUM(OFFSET(F54,,,,$U$1)) -> 2
B55: Total 1ITRUN | F55: =SUM(F43:F54) -> 11 | G55: =SUM(G43:G54) -> 8 | H55: =SUM(H43:H54) -> 0 | I55: =SUM(I43:I54) -> 0 | J55: =SUM(J43:J54) -> 0 | K55: =SUM(K43:K54) -> 0 | L55: =SUM(L43:L54) -> 0 | M55: =SUM(M43:M54) -> 0 | ... Q55: =SUM(Q43:Q54) -> 0 | S55: =SUM(S43:S54) -> 19
A56: CIO Office | B56: 1DIROP | C56: Majdandzic Emile | D56: =C:C&B:B -> Majdandzic Emile1DIROP | F56: =+Actual!F56+Ajustement!F56 -> 1 | G56: =+Actual!G56+Ajustement!G56 -> 1 | H56: =+Actual!H56+Ajustement!H56 -> 0 | I56: =+Actual!I56+Ajustement!I56 -> 0 | J56: =+Actual!J56+Ajustement!J56 -> 0 | K56: =+Actual!K56+Ajustement!K56 -> 0 | L56: =+Actual!L56+Ajustement!L56 -> 0 | M56: =+Actual!M56+Ajustement!M56 -> 0 | ... Q56: =+Actual!Q56+Ajustement!Q56 -> 0 | S56: =SUM(OFFSET(F56,,,,$U$1)) -> 2
A57: CIO Office | B57: 1DIROP | C57: Zumer Yves | D57: =C:C&B:B -> Zumer Yves1DIROP | F57: =+Actual!F57+Ajustement!F57 -> 1 | G57: =+Actual!G57+Ajustement!G57 -> 1 | H57: =+Actual!H57+Ajustement!H57 -> 0 | I57: =+Actual!I57+Ajustement!I57 -> 0 | J57: =+Actual!J57+Ajustement!J57 -> 0 | K57: =+Actual!K57+Ajustement!K57 -> 0 | L57: =+Actual!L57+Ajustement!L57 -> 0 | M57: =+Actual!M57+Ajustement!M57 -> 0 | ... Q57: =+Actual!Q57+Ajustement!Q57 -> 0 | S57: =SUM(OFFSET(F57,,,,$U$1)) -> 2
A58: CIO Office | B58: 1DIROP | C58: Vicente Jorge | D58: =C:C&B:B -> Vicente Jorge1DIROP | F58: =+Actual!F58+Ajustement!F58 -> 1 | G58: =+Actual!G58+Ajustement!G58 -> 0 | H58: =+Actual!H58+Ajustement!H58 -> 0 | I58: =+Actual!I58+Ajustement!I58 -> 0 | J58: =+Actual!J58+Ajustement!J58 -> 0 | K58: =+Actual!K58+Ajustement!K58 -> 0 | L58: =+Actual!L58+Ajustement!L58 -> 0 | M58: =+Actual!M58+Ajustement!M58 -> 0 | ... Q58: =+Actual!Q58+Ajustement!Q58 -> 0 | S58: =SUM(OFFSET(F58,,,,$U$1)) -> 1
B59: Total 1DIROP | F59: =SUM(F56:F58) -> 3 | G59: =SUM(G56:G58) -> 2 | H59: =SUM(H56:H58) -> 0 | I59: =SUM(I56:I58) -> 0 | J59: =SUM(J56:J58) -> 0 | K59: =SUM(K56:K58) -> 0 | L59: =SUM(L56:L58) -> 0 | M59: =SUM(M56:M58) -> 0 | ... Q59: =SUM(Q56:Q58) -> 0 | S59: =SUM(S56:S58) -> 5
B61: Total général | F61: =+F10+F24+F27+F36+F42+F55+F59 -> 42 | G61: =+G10+G24+G27+G36+G42+G55+G59 -> 42 | H61: =+H10+H24+H27+H36+H42+H55+H59 -> 0 | I61: =+I10+I24+I27+I36+I42+I55+I59 -> 0 | J61: =+J10+J24+J27+J36+J42+J55+J59 -> 0 | K61: =+K10+K24+K27+K36+K42+K55+K59 -> 0 | L61: =+L10+L24+L27+L36+L42+L55+L59 -> 0 | M61: =+M10+M24+M27+M36+M42+M55+M59 -> 0 | ... Q61: =+Q10+Q24+Q27+Q36+Q42+Q55+Q59 -> 0 | S61: =+S10+S24+S27+S36+S42+S55+S59 -> 84
B63: Check

Sheet Ajustement
A1: Entité | B1: Cost Center | C1: Nom | D1: Critère | F1: 43466 | G1: 43497 | H1: 43525 | I1: 43556 | J1: 43586 | K1: 43617 | L1: 43647 | M1: 43678 | N1: 43709 | O1: 43739 | P1: 43770 | Q1: 43800 | S1: YTD | U1: =+Synthèse!AV1 -> 2
A2: IT Corporate | B2: 1BI | C2: Barkati Radhouan | D2: =C:C&B:B -> Barkati Radhouan1BI | S2: =SUM(OFFSET(F2,,,,$U$1)) -> 0
A3: IT Corporate | B3: 1BI | C3: Claveau Benjamin | D3: =C:C&B:B -> Claveau Benjamin1BI | S3: =SUM(OFFSET(F3,,,,$U$1)) -> 0
A4: IT Corporate | B4: 1BI | C4: Maurice Jean-marc | D4: =C:C&B:B -> Maurice Jean-marc1BI | S4: =SUM(OFFSET(F4,,,,$U$1)) -> 0
A5: IT Corporate | B5: 1BI | C5: Mouillon Pascale | D5: =C:C&B:B -> Mouillon Pascale1BI | S5: =SUM(OFFSET(F5,,,,$U$1)) -> 0
A6: IT Corporate | B6: 1BI | C6: Mouzdahir Rachid | D6: =C:C&B:B -> Mouzdahir Rachid1BI | S6: =SUM(OFFSET(F6,,,,$U$1)) -> 0
A7: IT Corporate | B7: 1BI | C7: Nardin Stephane | D7: =C:C&B:B -> Nardin Stephane1BI | S7: =SUM(OFFSET(F7,,,,$U$1)) -> 0
A8: IT Corporate | B8: 1BI | C8: Nguyen Flavien | D8: =C:C&B:B -> Nguyen Flavien1BI | S8: =SUM(OFFSET(F8,,,,$U$1)) -> 0
A9: IT Corporate | B9: 1BI | C9: Kone Moussa | D9: =C:C&B:B -> Kone Moussa1BI | S9: =SUM(OFFSET(F9,,,,$U$1)) -> 0
B10: Total 1BI | F10: =SUM(F2:F9) -> 0 | G10: =SUM(G2:G9) -> 0 | H10: =SUM(H2:H9) -> 0 | I10: =SUM(I2:I9) -> 0 | J10: =SUM(J2:J9) -> 0 | K10: =SUM(K2:K9) -> 0 | L10: =SUM(L2:L9) -> 0 | M10: =SUM(M2:M9) -> 0 | ... Q10: =SUM(Q2:Q9) -> 0 | S10: =SUM(S2:S9) -> 0
A11: IT Corporate | B11: 1BUS | C11: Amador Joao | D11: =C:C&B:B -> Amador Joao1BUS | S11: =SUM(OFFSET(F11,,,,$U$1)) -> 0
A12: IT Corporate | B12: 1BUS | C12: Barj Yousra | D12: =C:C&B:B -> Barj Yousra1BUS | S12: =SUM(OFFSET(F12,,,,$U$1)) -> 0
A13: IT Corporate | B13: 1BUS | C13: Bay Vichhady | D13: =C:C&B:B -> Bay Vichhady1BUS | S13: =SUM(OFFSET(F13,,,,$U$1)) -> 0
A14: IT Corporate | B14: 1BUS | C14: Benali Anass | D14: =C:C&B:B -> Benali Anass1BUS | S14: =SUM(OFFSET(F14,,,,$U$1)) -> 0
A15: IT Corporate | B15: 1BUS | C15: Biancolin Jean-Andre | D15: =C:C&B:B -> Biancolin Jean-Andre1BUS | S15: =SUM(OFFSET(F15,,,,$U$1)) -> 0
A16: IT Corporate | B16: 1BUS | C16: Carré Marie | D16: =C:C&B:B -> Carré Marie1BUS | S16: =SUM(OFFSET(F16,,,,$U$1)) -> 0
A17: IT Corporate | B17: 1BUS | C17: Lebied Taha | D17: =C:C&B:B -> Lebied Taha1BUS | S17: =SUM(OFFSET(F17,,,,$U$1)) -> 0
A18: IT Corporate | B18: 1BUS | C18: Meejat Anis | D18: =C:C&B:B -> Meejat Anis1BUS | S18: =SUM(OFFSET(F18,,,,$U$1)) -> 0
A19: IT Corporate | B19: 1BUS | C19: Mongrolle Philippe | D19: =C:C&B:B -> Mongrolle Philippe1BUS | S19: =SUM(OFFSET(F19,,,,$U$1)) -> 0
A20: IT Corporate | B20: 1BUS | C20: Rochdi Bey | D20: =C:C&B:B -> Rochdi Bey1BUS | S20: =SUM(OFFSET(F20,,,,$U$1)) -> 0
A21: IT Corporate | B21: 1BUS | C21: Rogui Talal | D21: =C:C&B:B -> Rogui Talal1BUS | S21: =SUM(OFFSET(F21,,,,$U$1)) -> 0
A22: IT Corporate | B22: 1BUS | C22: Thibaud Matthieu | D22: =C:C&B:B -> Thibaud Matthieu1BUS | S22: =SUM(OFFSET(F22,,,,$U$1)) -> 0
A23: IT Corporate | B23: 1BUS | C23: Revello Kevin | D23: =C:C&B:B -> Revello Kevin1BUS | F23: 1 | G23: 1 | S23: =SUM(OFFSET(F23,,,,$U$1)) -> 2
B24: Total 1BUS | F24: =SUM(F11:F23) -> 1 | G24: =SUM(G11:G23) -> 1 | H24: =SUM(H11:H23) -> 0 | I24: =SUM(I11:I23) -> 0 | J24: =SUM(J11:J23) -> 0 | K24: =SUM(K11:K23) -> 0 | L24: =SUM(L11:L23) -> 0 | M24: =SUM(M11:M23) -> 0 | ... Q24: =SUM(Q11:Q23) -> 0 | S24: =SUM(S11:S23) -> 2
A25: IT Corporate | B25: 1CORP | C25: Louet Jean-François | D25: =C:C&B:B -> Louet Jean-François1CORP | S25: =SUM(OFFSET(F25,,,,$U$1)) -> 0
A26: IT Corporate | B26: 1CORP | C26: Revello Kevin | D26: =C:C&B:B -> Revello Kevin1CORP | F26: -1 | G26: -1 | S26: =SUM(OFFSET(F26,,,,$U$1)) -> -2
B27: Total 1CORP | F27: =SUM(F25:F25) -> 0 | G27: =SUM(G25:G25) -> 0 | H27: =SUM(H25:H25) -> 0 | I27: =SUM(I25:I25) -> 0 | J27: =SUM(J25:J25) -> 0 | K27: =SUM(K25:K25) -> 0 | L27: =SUM(L25:L25) -> 0 | M27: =SUM(M25:M25) -> 0 | ... Q27: =SUM(Q25:Q25) -> 0 | S27: =SUM(S25:S25) -> 0
A28: IT Corporate | B28: 1ITFIN | C28: Andrianaivo Eric | D28: =C:C&B:B -> Andrianaivo Eric1ITFIN | S28: =SUM(OFFSET(F28,,,,$U$1)) -> 0
A29: IT Corporate | B29: 1ITFIN | C29: Anjum Osama | D29: =C:C&B:B -> Anjum Osama1ITFIN | S29: =SUM(OFFSET(F29,,,,$U$1)) -> 0
A30: IT Corporate | B30: 1ITFIN | C30: Benhaddou Ghita | D30: =C:C&B:B -> Benhaddou Ghita1ITFIN | S30: =SUM(OFFSET(F30,,,,$U$1)) -> 0
A31: IT Corporate | B31: 1ITFIN | C31: Venkanna Shilpa | D31: =C:C&B:B -> Venkanna Shilpa1ITFIN | S31: =SUM(OFFSET(F31,,,,$U$1)) -> 0
A32: IT Corporate | B32: 1ITFIN | C32: De Boysson Edouard | D32: =C:C&B:B -> De Boysson Edouard1ITFIN | S32: =SUM(OFFSET(F32,,,,$U$1)) -> 0
A33: IT Corporate | B33: 1ITFIN | C33: Duong Phuong | D33: =C:C&B:B -> Duong Phuong1ITFIN | S33: =SUM(OFFSET(F33,,,,$U$1)) -> 0
A34: IT Corporate | B34: 1ITFIN | C34: Belghith Rym | D34: =C:C&B:B -> Belghith Rym1ITFIN | S34: =SUM(OFFSET(F34,,,,$U$1)) -> 0
A35: IT Corporate | B35: 1ITFIN | C35: Lambropoulos Cyril | D35: =C:C&B:B -> Lambropoulos Cyril1ITFIN | S35: =SUM(OFFSET(F35,,,,$U$1)) -> 0
B36: Total 1ITFIN | F36: =SUM(F28:F35) -> 0 | G36: =SUM(G28:G35) -> 0 | H36: =SUM(H28:H35) -> 0 | I36: =SUM(I28:I35) -> 0 | J36: =SUM(J28:J35) -> 0 | K36: =SUM(K28:K35) -> 0 | L36: =SUM(L28:L35) -> 0 | M36: =SUM(M28:M35) -> 0 | ... Q36: =SUM(Q28:Q35) -> 0 | S36: =SUM(S28:S35) -> 0
A37: IT Corporate | B37: 1ITGF | C37: Chaoui Ntissar | D37: =C:C&B:B -> Chaoui Ntissar1ITGF | S37: =SUM(OFFSET(F37,,,,$U$1)) -> 0
A38: IT Corporate | B38: 1ITGF | C38: Chazelas Catherine | D38: =C:C&B:B -> Chazelas Catherine1ITGF | S38: =SUM(OFFSET(F38,,,,$U$1)) -> 0
A39: IT Corporate | B39: 1ITGF | C39: De Burghgrave Laurent | D39: =C:C&B:B -> De Burghgrave Laurent1ITGF | S39: =SUM(OFFSET(F39,,,,$U$1)) -> 0
A40: IT Corporate | B40: 1ITGF | C40: Debbah Boutaina | D40: =C:C&B:B -> Debbah Boutaina1ITGF | S40: =SUM(OFFSET(F40,,,,$U$1)) -> 0
A41: IT Corporate | B41: 1ITGF | C41: Horen Guillaume | D41: =C:C&B:B -> Horen Guillaume1ITGF | S41: =SUM(OFFSET(F41,,,,$U$1)) -> 0
B42: Total 1ITGF | F42: =SUM(F37:F41) -> 0 | G42: =SUM(G37:G41) -> 0 | H42: =SUM(H37:H41) -> 0 | I42: =SUM(I37:I41) -> 0 | J42: =SUM(J37:J41) -> 0 | K42: =SUM(K37:K41) -> 0 | L42: =SUM(L37:L41) -> 0 | M42: =SUM(M37:M41) -> 0 | ... Q42: =SUM(Q37:Q41) -> 0 | S42: =SUM(S37:S41) -> 0
A43: IT Corporate | B43: 1ITRUN | C43: Boubekeur Yamina | D43: =C:C&B:B -> Boubekeur Yamina1ITRUN | S43: =SUM(OFFSET(F43,,,,$U$1)) -> 0
A44: IT Corporate | B44: 1ITRUN | C44: Dupraz Simon | D44: =C:C&B:B -> Dupraz Simon1ITRUN | S44: =SUM(OFFSET(F44,,,,$U$1)) -> 0
A45: IT Corporate | B45: 1ITRUN | C45: Ferkatadji Julien | D45: =C:C&B:B -> Ferkatadji Julien1ITRUN | S45: =SUM(OFFSET(F45,,,,$U$1)) -> 0
A46: IT Corporate | B46: 1ITRUN | C46: Feuillet Adrien | D46: =C:C&B:B -> Feuillet Adrien1ITRUN | S46: =SUM(OFFSET(F46,,,,$U$1)) -> 0
A47: IT Corporate | B47: 1ITRUN | C47: Golubovic Boris | D47: =C:C&B:B -> Golubovic Boris1ITRUN | S47: =SUM(OFFSET(F47,,,,$U$1)) -> 0
A48: IT Corporate | B48: 1ITRUN | C48: Goncalves Joa | D48: =C:C&B:B -> Goncalves Joa1ITRUN | S48: =SUM(OFFSET(F48,,,,$U$1)) -> 0
A49: IT Corporate | B49: 1ITRUN | C49: Hemmavanh Jennifer | D49: =C:C&B:B -> Hemmavanh Jennifer1ITRUN | S49: =SUM(OFFSET(F49,,,,$U$1)) -> 0
A50: IT Corporate | B50: 1ITRUN | C50: Jaa Ayoub | D50: =C:C&B:B -> Jaa Ayoub1ITRUN | S50: =SUM(OFFSET(F50,,,,$U$1)) -> 0
A51: IT Corporate | B51: 1ITRUN | C51: Laimene Amine | D51: =C:C&B:B -> Laimene Amine1ITRUN | S51: =SUM(OFFSET(F51,,,,$U$1)) -> 0
A52: IT Corporate | B52: 1ITRUN | C52: Outalaaynt Fatima | D52: =C:C&B:B -> Outalaaynt Fatima1ITRUN | S52: =SUM(OFFSET(F52,,,,$U$1)) -> 0
A53: IT Corporate | B53: 1ITRUN | C53: DAKHLAOUI Ahmed Amine | D53: =C:C&B:B -> DAKHLAOUI Ahmed Amine 1ITRUN | S53: =SUM(OFFSET(F53,,,,$U$1)) -> 0
A54: IT Corporate | B54: 1ITRUN | C54: Reperant Amelie | D54: =C:C&B:B -> Reperant Amelie1ITRUN | S54: =SUM(OFFSET(F54,,,,$U$1)) -> 0
B55: Total 1ITRUN | F55: =SUM(F43:F54) -> 0 | G55: =SUM(G43:G54) -> 0 | H55: =SUM(H43:H54) -> 0 | I55: =SUM(I43:I54) -> 0 | J55: =SUM(J43:J54) -> 0 | K55: =SUM(K43:K54) -> 0 | L55: =SUM(L43:L54) -> 0 | M55: =SUM(M43:M54) -> 0 | ... Q55: =SUM(Q43:Q54) -> 0 | S55: =SUM(S43:S54) -> 0
A56: CIO Office | B56: 1DIROP | C56: Majdandzic Emile | D56: =C:C&B:B -> Majdandzic Emile1DIROP | S56: =SUM(OFFSET(F56,,,,$U$1)) -> 0
A57: CIO Office | B57: 1DIROP | C57: Zumer Yves | D57: =C:C&B:B -> Zumer Yves1DIROP | S57: =SUM(OFFSET(F57,,,,$U$1)) -> 0
A58: CIO Office | B58: 1DIROP | C58: Vicente Jorge | D58: =C:C&B:B -> Vicente Jorge1DIROP | S58: =SUM(OFFSET(F58,,,,$U$1)) -> 0
B59: Total 1DIROP | F59: =SUM(F56:F58) -> 0 | G59: =SUM(G56:G58) -> 0 | H59: =SUM(H56:H58) -> 0 | I59: =SUM(I56:I58) -> 0 | J59: =SUM(J56:J58) -> 0 | K59: =SUM(K56:K58) -> 0 | L59: =SUM(L56:L58) -> 0 | M59: =SUM(M56:M58) -> 0 | ... Q59: =SUM(Q56:Q58) -> 0 | S59: =SUM(S56:S58) -> 0
B61: Total général | F61: =+F10+F24+F27+F36+F42+F55+F59 -> 1 | G61: =+G10+G24+G27+G36+G42+G55+G59 -> 1 | H61: =+H10+H24+H27+H36+H42+H55+H59 -> 0 | I61: =+I10+I24+I27+I36+I42+I55+I59 -> 0 | J61: =+J10+J24+J27+J36+J42+J55+J59 -> 0 | K61: =+K10+K24+K27+K36+K42+K55+K59 -> 0 | L61: =+L10+L24+L27+L36+L42+L55+L59 -> 0 | M61: =+M10+M24+M27+M36+M42+M55+M59 -> 0 | ... Q61: =+Q10+Q24+Q27+Q36+Q42+Q55+Q59 -> 0 | S61: =+S10+S24+S27+S36+S42+S55+S59 -> 2

Sheet Actual
A1: Entité | B1: Cost Center | C1: Nom | D1: Critère | F1: 43466 | G1: 43497 | H1: 43525 | I1: 43556 | J1: 43586 | K1: 43617 | L1: 43647 | M1: 43678 | N1: 43709 | O1: 43739 | P1: 43770 | Q1: 43800 | S1: YTD | U1: =+Synthèse!AV1 -> 2
A2: IT Corporate | B2: 1BI | C2: Barkati Radhouan | D2: =C:C&B:B -> Barkati Radhouan1BI | F2: =IFERROR(VLOOKUP($D:$D,'PPM 2019'!$F:$R,MATCH(Actual!F$1,'PPM 2019'!$F$1:$R$1,0),0),0) -> 1 | G2: =IFERROR(VLOOKUP($D:$D,'PPM 2019'!$F:$R,MATCH(Actual!G$1,'PPM 2019'!$F$1:$R$1,0),0),0) -> 1 | H2: =IFERROR(VLOOKUP($D:$D,'PPM 2019'!$F:$R,MATCH(Actual!H$1,'PPM 2019'!$F$1:$R$1,0),0),0) -> 0 | I2: =IFERROR(VLOOKUP($D:$D,'PPM 2019'!$F:$R,MATCH(Actual!I$1,'PPM 2019'!$F$1:$R$1,0),0),0) -> 0 | J2: =IFERROR(VLOOKUP($D:$D,'PPM 2019'!$F:$R,MATCH(Actual!J$1,'PPM 2019'!$F$1:$R$1,0),0),0) -> 0 | K2: =IFERROR(VLOOKUP($D:$D,'PPM 2019'!$F:$R,MATCH(Actual!K$1,'PPM 2019'!$F$1:$R$1,0),0),0) -> 0 | L2: =IFERROR(VLOOKUP($D:$D,'PPM 2019'!$F:$R,MATCH(Actual!L$1,'PPM 2019'!$F$1:$R$1,0),0),0) -> 0 | M2: =IFERROR(VLOOKUP($D:$D,'PPM 2019'!$F:$R,MATCH(Actual!M$1,'PPM 2019'!$F$1:$R$1,0),0),0) -> 0 | ... Q2: =IFERROR(VLOOKUP($D:$D,'PPM 2019'!$F:$R,MATCH(Actual!Q$1,'PPM 2019'!$F$1:$R$1,0),0),0) -> 0 | S2: =SUM(OFFSET(F2,,,,$U$1)) -> 2
A3: IT Corporate | B3: 1BI | C3: Claveau Benjamin | D3: =C:C&B:B -> Claveau Benjamin1BI | F3: =IFERROR(VLOOKUP($D:$D,'PPM 2019'!$F:$R,MATCH(Actual!F$1,'PPM 2019'!$F$1:$R$1,0),0),0) -> 1 | G3: =IFERROR(VLOOKUP($D:$D,'PPM 2019'!$F:$R,MATCH(Actual!G$1,'PPM 2019'!$F$1:$R$1,0),0),0) -> 1 | H3: =IFERROR(VLOOKUP($D:$D,'PPM 2019'!$F:$R,MATCH(Actual!H$1,'PPM 2019'!$F$1:$R$1,0),0),0) -> 0 | I3: =IFERROR(VLOOKUP($D:$D,'PPM 2019'!$F:$R,MATCH(Actual!I$1,'PPM 2019'!$F$1:$R$1,0),0),0) -> 0 | J3: =IFERROR(VLOOKUP($D:$D,'PPM 2019'!$F:$R,MATCH(Actual!J$1,'PPM 2019'!$F$1:$R$1,0),0),0) -> 0 | K3: =IFERROR(VLOOKUP($D:$D,'PPM 2019'!$F:$R,MATCH(Actual!K$1,'PPM 2019'!$F$1:$R$1,0),0),0) -> 0 | L3: =IFERROR(VLOOKUP($D:$D,'PPM 2019'!$F:$R,MATCH(Actual!L$1,'PPM 2019'!$F$1:$R$1,0),0),0) -> 0 | M3: =IFERROR(VLOOKUP($D:$D,'PPM 2019'!$F:$R,MATCH(Actual!M$1,'PPM 2019'!$F$1:$R$1,0),0),0) -> 0 | ... Q3: =IFERROR(VLOOKUP($D:$D,'PPM 2019'!$F:$R,MATCH(Actual!Q$1,'PPM 2019'!$F$1:$R$1,0),0),0) -> 0 | S3: =SUM(OFFSET(F3,,,,$U$1)) -> 2
A4: IT Corporate | B4: 1BI | C4: Maurice Jean-marc | D4: =C:C&B:B -> Maurice Jean-marc1BI | F4: =IFERROR(VLOOKUP($D:$D,'PPM 2019'!$F:$R,MATCH(Actual!F$1,'PPM 2019'!$F$1:$R$1,0),0),0) -> 1 | G4: =IFERROR(VLOOKUP($D:$D,'PPM 2019'!$F:$R,MATCH(Actual!G$1,'PPM 2019'!$F$1:$R$1,0),0),0) -> 1 | H4: =IFERROR(VLOOKUP($D:$D,'PPM 2019'!$F:$R,MATCH(Actual!H$1,'PPM 2019'!$F$1:$R$1,0),0),0) -> 0 | I4: =IFERROR(VLOOKUP($D:$D,'PPM 2019'!$F:$R,MATCH(Actual!I$1,'PPM 2019'!$F$1:$R$1,0),0),0) -> 0 | J4: =IFERROR(VLOOKUP($D:$D,'PPM 2019'!$F:$R,MATCH(Actual!J$1,'PPM 2019'!$F$1:$R$1,0),0),0) -> 0 | K4: =IFERROR(VLOOKUP($D:$D,'PPM 2019'!$F:$R,MATCH(Actual!K$1,'PPM 2019'!$F$1:$R$1,0),0),0) -> 0 | L4: =IFERROR(VLOOKUP($D:$D,'PPM 2019'!$F:$R,MATCH(Actual!L$1,'PPM 2019'!$F$1:$R$1,0),0),0) -> 0 | M4: =IFERROR(VLOOKUP($D:$D,'PPM 2019'!$F:$R,MATCH(Actual!M$1,'PPM 2019'!$F$1:$R$1,0),0),0) -> 0 | ... Q4: =IFERROR(VLOOKUP($D:$D,'PPM 2019'!$F:$R,MATCH(Actual!Q$1,'PPM 2019'!$F$1:$R$1,0),0),0) -> 0 | S4: =SUM(OFFSET(F4,,,,$U$1)) -> 2
A5: IT Corporate | B5: 1BI | C5: Mouillon Pascale | D5: =C:C&B:B -> Mouillon Pascale1BI | F5: =IFERROR(VLOOKUP($D:$D,'PPM 2019'!$F:$R,MATCH(Actual!F$1,'PPM 2019'!$F$1:$R$1,0),0),0) -> 1 | G5: =IFERROR(VLOOKUP($D:$D,'PPM 2019'!$F:$R,MATCH(Actual!G$1,'PPM 2019'!$F$1:$R$1,0),0),0) -> 1 | H5: =IFERROR(VLOOKUP($D:$D,'PPM 2019'!$F:$R,MATCH(Actual!H$1,'PPM 2019'!$F$1:$R$1,0),0),0) -> 0 | I5: =IFERROR(VLOOKUP($D:$D,'PPM 2019'!$F:$R,MATCH(Actual!I$1,'PPM 2019'!$F$1:$R$1,0),0),0) -> 0 | J5: =IFERROR(VLOOKUP($D:$D,'PPM 2019'!$F:$R,MATCH(Actual!J$1,'PPM 2019'!$F$1:$R$1,0),0),0) -> 0 | K5: =IFERROR(VLOOKUP($D:$D,'PPM 2019'!$F:$R,MATCH(Actual!K$1,'PPM 2019'!$F$1:$R$1,0),0),0) -> 0 | L5: =IFERROR(VLOOKUP($D:$D,'PPM 2019'!$F:$R,MATCH(Actual!L$1,'PPM 2019'!$F$1:$R$1,0),0),0) -> 0 | M5: =IFERROR(VLOOKUP($D:$D,'PPM 2019'!$F:$R,MATCH(Actual!M$1,'PPM 2019'!$F$1:$R$1,0),0),0) -> 0 | ... Q5: =IFERROR(VLOOKUP($D:$D,'PPM 2019'!$F:$R,MATCH(Actual!Q$1,'PPM 2019'!$F$1:$R$1,0),0),0) -> 0 | S5: =SUM(OFFSET(F5,,,,$U$1)) -> 2
A6: IT Corporate | B6: 1BI | C6: Mouzdahir Rachid | D6: =C:C&B:B -> Mouzdahir Rachid1BI | F6: =IFERROR(VLOOKUP($D:$D,'PPM 2019'!$F:$R,MATCH(Actual!F$1,'PPM 2019'!$F$1:$R$1,0),0),0) -> 1 | G6: =IFERROR(VLOOKUP($D:$D,'PPM 2019'!$F:$R,MATCH(Actual!G$1,'PPM 2019'!$F$1:$R$1,0),0),0) -> 1 | H6: =IFERROR(VLOOKUP($D:$D,'PPM 2019'!$F:$R,MATCH(Actual!H$1,'PPM 2019'!$F$1:$R$1,0),0),0) -> 0 | I6: =IFERROR(VLOOKUP($D:$D,'PPM 2019'!$F:$R,MATCH(Actual!I$1,'PPM 2019'!$F$1:$R$1,0),0),0) -> 0 | J6: =IFERROR(VLOOKUP($D:$D,'PPM 2019'!$F:$R,MATCH(Actual!J$1,'PPM 2019'!$F$1:$R$1,0),0),0) -> 0 | K6: =IFERROR(VLOOKUP($D:$D,'PPM 2019'!$F:$R,MATCH(Actual!K$1,'PPM 2019'!$F$1:$R$1,0),0),0) -> 0 | L6: =IFERROR(VLOOKUP($D:$D,'PPM 2019'!$F:$R,MATCH(Actual!L$1,'PPM 2019'!$F$1:$R$1,0),0),0) -> 0 | M6: =IFERROR(VLOOKUP($D:$D,'PPM 2019'!$F:$R,MATCH(Actual!M$1,'PPM 2019'!$F$1:$R$1,0),0),0) -> 0 | ... Q6: =IFERROR(VLOOKUP($D:$D,'PPM 2019'!$F:$R,MATCH(Actual!Q$1,'PPM 2019'!$F$1:$R$1,0),0),0) -> 0 | S6: =SUM(OFFSET(F6,,,,$U$1)) -> 2
A7: IT Corporate | B7: 1BI | C7: Nardin Stephane | D7: =C:C&B:B -> Nardin Stephane1BI | F7: =IFERROR(VLOOKUP($D:$D,'PPM 2019'!$F:$R,MATCH(Actual!F$1,'PPM 2019'!$F$1:$R$1,0),0),0) -> 1 | G7: =IFERROR(VLOOKUP($D:$D,'PPM 2019'!$F:$R,MATCH(Actual!G$1,'PPM 2019'!$F$1:$R$1,0),0),0) -> 1 | H7: =IFERROR(VLOOKUP($D:$D,'PPM 2019'!$F:$R,MATCH(Actual!H$1,'PPM 2019'!$F$1:$R$1,0),0),0) -> 0 | I7: =IFERROR(VLOOKUP($D:$D,'PPM 2019'!$F:$R,MATCH(Actual!I$1,'PPM 2019'!$F$1:$R$1,0),0),0) -> 0 | J7: =IFERROR(VLOOKUP($D:$D,'PPM 2019'!$F:$R,MATCH(Actual!J$1,'PPM 2019'!$F$1:$R$1,0),0),0) -> 0 | K7: =IFERROR(VLOOKUP($D:$D,'PPM 2019'!$F:$R,MATCH(Actual!K$1,'PPM 2019'!$F$1:$R$1,0),0),0) -> 0 | L7: =IFERROR(VLOOKUP($D:$D,'PPM 2019'!$F:$R,MATCH(Actual!L$1,'PPM 2019'!$F$1:$R$1,0),0),0) -> 0 | M7: =IFERROR(VLOOKUP($D:$D,'PPM 2019'!$F:$R,MATCH(Actual!M$1,'PPM 2019'!$F$1:$R$1,0),0),0) -> 0 | ... Q7: =IFERROR(VLOOKUP($D:$D,'PPM 2019'!$F:$R,MATCH(Actual!Q$1,'PPM 2019'!$F$1:$R$1,0),0),0) -> 0 | S7: =SUM(OFFSET(F7,,,,$U$1)) -> 2
A8: IT Corporate | B8: 1BI | C8: Nguyen Flavien | D8: =C:C&B:B -> Nguyen Flavien1BI | F8: =IFERROR(VLOOKUP($D:$D,'PPM 2019'!$F:$R,MATCH(Actual!F$1,'PPM 2019'!$F$1:$R$1,0),0),0) -> 1 | G8: =IFERROR(VLOOKUP($D:$D,'PPM 2019'!$F:$R,MATCH(Actual!G$1,'PPM 2019'!$F$1:$R$1,0),0),0) -> 1 | H8: =IFERROR(VLOOKUP($D:$D,'PPM 2019'!$F:$R,MATCH(Actual!H$1,'PPM 2019'!$F$1:$R$1,0),0),0) -> 0 | I8: =IFERROR(VLOOKUP($D:$D,'PPM 2019'!$F:$R,MATCH(Actual!I$1,'PPM 2019'!$F$1:$R$1,0),0),0) -> 0 | J8: =IFERROR(VLOOKUP($D:$D,'PPM 2019'!$F:$R,MATCH(Actual!J$1,'PPM 2019'!$F$1:$R$1,0),0),0) -> 0 | K8: =IFERROR(VLOOKUP($D:$D,'PPM 2019'!$F:$R,MATCH(Actual!K$1,'PPM 2019'!$F$1:$R$1,0),0),0) -> 0 | L8: =IFERROR(VLOOKUP($D:$D,'PPM 2019'!$F:$R,MATCH(Actual!L$1,'PPM 2019'!$F$1:$R$1,0),0),0) -> 0 | M8: =IFERROR(VLOOKUP($D:$D,'PPM 2019'!$F:$R,MATCH(Actual!M$1,'PPM 2019'!$F$1:$R$1,0),0),0) -> 0 | ... Q8: =IFERROR(VLOOKUP($D:$D,'PPM 2019'!$F:$R,MATCH(Actual!Q$1,'PPM 2019'!$F$1:$R$1,0),0),0) -> 0 | S8: =SUM(OFFSET(F8,,,,$U$1)) -> 2
A9: IT Corporate | B9: 1BI | C9: Kone Moussa | D9: =C:C&B:B -> Kone Moussa1BI | F9: =IFERROR(VLOOKUP($D:$D,'PPM 2019'!$F:$R,MATCH(Actual!F$1,'PPM 2019'!$F$1:$R$1,0),0),0) -> 0 | G9: =IFERROR(VLOOKUP($D:$D,'PPM 2019'!$F:$R,MATCH(Actual!G$1,'PPM 2019'!$F$1:$R$1,0),0),0) -> 1 | H9: =IFERROR(VLOOKUP($D:$D,'PPM 2019'!$F:$R,MATCH(Actual!H$1,'PPM 2019'!$F$1:$R$1,0),0),0) -> 0 | I9: =IFERROR(VLOOKUP($D:$D,'PPM 2019'!$F:$R,MATCH(Actual!I$1,'PPM 2019'!$F$1:$R$1,0),0),0) -> 0 | J9: =IFERROR(VLOOKUP($D:$D,'PPM 2019'!$F:$R,MATCH(Actual!J$1,'PPM 2019'!$F$1:$R$1,0),0),0) -> 0 | K9: =IFERROR(VLOOKUP($D:$D,'PPM 2019'!$F:$R,MATCH(Actual!K$1,'PPM 2019'!$F$1:$R$1,0),0),0) -> 0 | L9: =IFERROR(VLOOKUP($D:$D,'PPM 2019'!$F:$R,MATCH(Actual!L$1,'PPM 2019'!$F$1:$R$1,0),0),0) -> 0 | M9: =IFERROR(VLOOKUP($D:$D,'PPM 2019'!$F:$R,MATCH(Actual!M$1,'PPM 2019'!$F$1:$R$1,0),0),0) -> 0 | ... Q9: =IFERROR(VLOOKUP($D:$D,'PPM 2019'!$F:$R,MATCH(Actual!Q$1,'PPM 2019'!$F$1:$R$1,0),0),0) -> 0 | S9: =SUM(OFFSET(F9,,,,$U$1)) -> 1
B10: Total 1BI | F10: =SUM(F2:F9) -> 7 | G10: =SUM(G2:G9) -> 8 | H10: =SUM(H2:H9) -> 0 | I10: =SUM(I2:I9) -> 0 | J10: =SUM(J2:J9) -> 0 | K10: =SUM(K2:K9) -> 0 | L10: =SUM(L2:L9) -> 0 | M10: =SUM(M2:M9) -> 0 | ... Q10: =SUM(Q2:Q9) -> 0 | S10: =SUM(S2:S9) -> 15
A11: IT Corporate | B11: 1BUS | C11: Amador Joao | D11: =C:C&B:B -> Amador Joao1BUS | F11: =IFERROR(VLOOKUP($D:$D,'PPM 2019'!$F:$R,MATCH(Actual!F$1,'PPM 2019'!$F$1:$R$1,0),0),0) -> 1 | G11: =IFERROR(VLOOKUP($D:$D,'PPM 2019'!$F:$R,MATCH(Actual!G$1,'PPM 2019'!$F$1:$R$1,0),0),0) -> 1 | H11: =IFERROR(VLOOKUP($D:$D,'PPM 2019'!$F:$R,MATCH(Actual!H$1,'PPM 2019'!$F$1:$R$1,0),0),0) -> 0 | I11: =IFERROR(VLOOKUP($D:$D,'PPM 2019'!$F:$R,MATCH(Actual!I$1,'PPM 2019'!$F$1:$R$1,0),0),0) -> 0 | J11: =IFERROR(VLOOKUP($D:$D,'PPM 2019'!$F:$R,MATCH(Actual!J$1,'PPM 2019'!$F$1:$R$1,0),0),0) -> 0 | K11: =IFERROR(VLOOKUP($D:$D,'PPM 2019'!$F:$R,MATCH(Actual!K$1,'PPM 2019'!$F$1:$R$1,0),0),0) -> 0 | L11: =IFERROR(VLOOKUP($D:$D,'PPM 2019'!$F:$R,MATCH(Actual!L$1,'PPM 2019'!$F$1:$R$1,0),0),0) -> 0 | M11: =IFERROR(VLOOKUP($D:$D,'PPM 2019'!$F:$R,MATCH(Actual!M$1,'PPM 2019'!$F$1:$R$1,0),0),0) -> 0 | ... Q11: =IFERROR(VLOOKUP($D:$D,'PPM 2019'!$F:$R,MATCH(Actual!Q$1,'PPM 2019'!$F$1:$R$1,0),0),0) -> 0 | S11: =SUM(OFFSET(F11,,,,$U$1)) -> 2
A12: IT Corporate | B12: 1BUS | C12: Barj Yousra | D12: =C:C&B:B -> Barj Yousra1BUS | F12: =IFERROR(VLOOKUP($D:$D,'PPM 2019'!$F:$R,MATCH(Actual!F$1,'PPM 2019'!$F$1:$R$1,0),0),0) -> 1 | G12: =IFERROR(VLOOKUP($D:$D,'PPM 2019'!$F:$R,MATCH(Actual!G$1,'PPM 2019'!$F$1:$R$1,0),0),0) -> 1 | H12: =IFERROR(VLOOKUP($D:$D,'PPM 2019'!$F:$R,MATCH(Actual!H$1,'PPM 2019'!$F$1:$R$1,0),0),0) -> 0 | I12: =IFERROR(VLOOKUP($D:$D,'PPM 2019'!$F:$R,MATCH(Actual!I$1,'PPM 2019'!$F$1:$R$1,0),0),0) -> 0 | J12: =IFERROR(VLOOKUP($D:$D,'PPM 2019'!$F:$R,MATCH(Actual!J$1,'PPM 2019'!$F$1:$R$1,0),0),0) -> 0 | K12: =IFERROR(VLOOKUP($D:$D,'PPM 2019'!$F:$R,MATCH(Actual!K$1,'PPM 2019'!$F$1:$R$1,0),0),0) -> 0 | L12: =IFERROR(VLOOKUP($D:$D,'PPM 2019'!$F:$R,MATCH(Actual!L$1,'PPM 2019'!$F$1:$R$1,0),0),0) -> 0 | M12: =IFERROR(VLOOKUP($D:$D,'PPM 2019'!$F:$R,MATCH(Actual!M$1,'PPM 2019'!$F$1:$R$1,0),0),0) -> 0 | ... Q12: =IFERROR(VLOOKUP($D:$D,'PPM 2019'!$F:$R,MATCH(Actual!Q$1,'PPM 2019'!$F$1:$R$1,0),0),0) -> 0 | S12: =SUM(OFFSET(F12,,,,$U$1)) -> 2
A13: IT Corporate | B13: 1BUS | C13: Bay Vichhady | D13: =C:C&B:B -> Bay Vichhady1BUS | F13: =IFERROR(VLOOKUP($D:$D,'PPM 2019'!$F:$R,MATCH(Actual!F$1,'PPM 2019'!$F$1:$R$1,0),0),0) -> 1 | G13: =IFERROR(VLOOKUP($D:$D,'PPM 2019'!$F:$R,MATCH(Actual!G$1,'PPM 2019'!$F$1:$R$1,0),0),0) -> 1 | H13: =IFERROR(VLOOKUP($D:$D,'PPM 2019'!$F:$R,MATCH(Actual!H$1,'PPM 2019'!$F$1:$R$1,0),0),0) -> 0 | I13: =IFERROR(VLOOKUP($D:$D,'PPM 2019'!$F:$R,MATCH(Actual!I$1,'PPM 2019'!$F$1:$R$1,0),0),0) -> 0 | J13: =IFERROR(VLOOKUP($D:$D,'PPM 2019'!$F:$R,MATCH(Actual!J$1,'PPM 2019'!$F$1:$R$1,0),0),0) -> 0 | K13: =IFERROR(VLOOKUP($D:$D,'PPM 2019'!$F:$R,MATCH(Actual!K$1,'PPM 2019'!$F$1:$R$1,0),0),0) -> 0 | L13: =IFERROR(VLOOKUP($D:$D,'PPM 2019'!$F:$R,MATCH(Actual!L$1,'PPM 2019'!$F$1:$R$1,0),0),0) -> 0 | M13: =IFERROR(VLOOKUP($D:$D,'PPM 2019'!$F:$R,MATCH(Actual!M$1,'PPM 2019'!$F$1:$R$1,0),0),0) -> 0 | ... Q13: =IFERROR(VLOOKUP($D:$D,'PPM 2019'!$F:$R,MATCH(Actual!Q$1,'PPM 2019'!$F$1:$R$1,0),0),0) -> 0 | S13: =SUM(OFFSET(F13,,,,$U$1)) -> 2
A14: IT Corporate | B14: 1BUS | C14: Benali Anass | D14: =C:C&B:B -> Benali Anass1BUS | F14: =IFERROR(VLOOKUP($D:$D,'PPM 2019'!$F:$R,MATCH(Actual!F$1,'PPM 2019'!$F$1:$R$1,0),0),0) -> 1 | G14: =IFERROR(VLOOKUP($D:$D,'PPM 2019'!$F:$R,MATCH(Actual!G$1,'PPM 2019'!$F$1:$R$1,0),0),0) -> 1 | H14: =IFERROR(VLOOKUP($D:$D,'PPM 2019'!$F:$R,MATCH(Actual!H$1,'PPM 2019'!$F$1:$R$1,0),0),0) -> 0 | I14: =IFERROR(VLOOKUP($D:$D,'PPM 2019'!$F:$R,MATCH(Actual!I$1,'PPM 2019'!$F$1:$R$1,0),0),0) -> 0 | J14: =IFERROR(VLOOKUP($D:$D,'PPM 2019'!$F:$R,MATCH(Actual!J$1,'PPM 2019'!$F$1:$R$1,0),0),0) -> 0 | K14: =IFERROR(VLOOKUP($D:$D,'PPM 2019'!$F:$R,MATCH(Actual!K$1,'PPM 2019'!$F$1:$R$1,0),0),0) -> 0 | L14: =IFERROR(VLOOKUP($D:$D,'PPM 2019'!$F:$R,MATCH(Actual!L$1,'PPM 2019'!$F$1:$R$1,0),0),0) -> 0 | M14: =IFERROR(VLOOKUP($D:$D,'PPM 2019'!$F:$R,MATCH(Actual!M$1,'PPM 2019'!$F$1:$R$1,0),0),0) -> 0 | ... Q14: =IFERROR(VLOOKUP($D:$D,'PPM 2019'!$F:$R,MATCH(Actual!Q$1,'PPM 2019'!$F$1:$R$1,0),0),0) -> 0 | S14: =SUM(OFFSET(F14,,,,$U$1)) -> 2
A15: IT Corporate | B15: 1BUS | C15: Biancolin Jean-Andre | D15: =C:C&B:B -> Biancolin Jean-Andre1BUS | F15: =IFERROR(VLOOKUP($D:$D,'PPM 2019'!$F:$R,MATCH(Actual!F$1,'PPM 2019'!$F$1:$R$1,0),0),0) -> 1 | G15: =IFERROR(VLOOKUP($D:$D,'PPM 2019'!$F:$R,MATCH(Actual!G$1,'PPM 2019'!$F$1:$R$1,0),0),0) -> 1 | H15: =IFERROR(VLOOKUP($D:$D,'PPM 2019'!$F:$R,MATCH(Actual!H$1,'PPM 2019'!$F$1:$R$1,0),0),0) -> 0 | I15: =IFERROR(VLOOKUP($D:$D,'PPM 2019'!$F:$R,MATCH(Actual!I$1,'PPM 2019'!$F$1:$R$1,0),0),0) -> 0 | J15: =IFERROR(VLOOKUP($D:$D,'PPM 2019'!$F:$R,MATCH(Actual!J$1,'PPM 2019'!$F$1:$R$1,0),0),0) -> 0 | K15: =IFERROR(VLOOKUP($D:$D,'PPM 2019'!$F:$R,MATCH(Actual!K$1,'PPM 2019'!$F$1:$R$1,0),0),0) -> 0 | L15: =IFERROR(VLOOKUP($D:$D,'PPM 2019'!$F:$R,MATCH(Actual!L$1,'PPM 2019'!$F$1:$R$1,0),0),0) -> 0 | M15: =IFERROR(VLOOKUP($D:$D,'PPM 2019'!$F:$R,MATCH(Actual!M$1,'PPM 2019'!$F$1:$R$1,0),0),0) -> 0 | ... Q15: =IFERROR(VLOOKUP($D:$D,'PPM 2019'!$F:$R,MATCH(Actual!Q$1,'PPM 2019'!$F$1:$R$1,0),0),0) -> 0 | S15: =SUM(OFFSET(F15,,,,$U$1)) -> 2
A16: IT Corporate | B16: 1BUS | C16: Carré Marie | D16: =C:C&B:B -> Carré Marie1BUS | F16: =IFERROR(VLOOKUP($D:$D,'PPM 2019'!$F:$R,MATCH(Actual!F$1,'PPM 2019'!$F$1:$R$1,0),0),0) -> 1 | G16: =IFERROR(VLOOKUP($D:$D,'PPM 2019'!$F:$R,MATCH(Actual!G$1,'PPM 2019'!$F$1:$R$1,0),0),0) -> 1 | H16: =IFERROR(VLOOKUP($D:$D,'PPM 2019'!$F:$R,MATCH(Actual!H$1,'PPM 2019'!$F$1:$R$1,0),0),0) -> 0 | I16: =IFERROR(VLOOKUP($D:$D,'PPM 2019'!$F:$R,MATCH(Actual!I$1,'PPM 2019'!$F$1:$R$1,0),0),0) -> 0 | J16: =IFERROR(VLOOKUP($D:$D,'PPM 2019'!$F:$R,MATCH(Actual!J$1,'PPM 2019'!$F$1:$R$1,0),0),0) -> 0 | K16: =IFERROR(VLOOKUP($D:$D,'PPM 2019'!$F:$R,MATCH(Actual!K$1,'PPM 2019'!$F$1:$R$1,0),0),0) -> 0 | L16: =IFERROR(VLOOKUP($D:$D,'PPM 2019'!$F:$R,MATCH(Actual!L$1,'PPM 2019'!$F$1:$R$1,0),0),0) -> 0 | M16: =IFERROR(VLOOKUP($D:$D,'PPM 2019'!$F:$R,MATCH(Actual!M$1,'PPM 2019'!$F$1:$R$1,0),0),0) -> 0 | ... Q16: =IFERROR(VLOOKUP($D:$D,'PPM 2019'!$F:$R,MATCH(Actual!Q$1,'PPM 2019'!$F$1:$R$1,0),0),0) -> 0 | S16: =SUM(OFFSET(F16,,,,$U$1)) -> 2
A17: IT Corporate | B17: 1BUS | C17: Lebied Taha | D17: =C:C&B:B -> Lebied Taha1BUS | F17: =IFERROR(VLOOKUP($D:$D,'PPM 2019'!$F:$R,MATCH(Actual!F$1,'PPM 2019'!$F$1:$R$1,0),0),0) -> 1 | G17: =IFERROR(VLOOKUP($D:$D,'PPM 2019'!$F:$R,MATCH(Actual!G$1,'PPM 2019'!$F$1:$R$1,0),0),0) -> 1 | H17: =IFERROR(VLOOKUP($D:$D,'PPM 2019'!$F:$R,MATCH(Actual!H$1,'PPM 2019'!$F$1:$R$1,0),0),0) -> 0 | I17: =IFERROR(VLOOKUP($D:$D,'PPM 2019'!$F:$R,MATCH(Actual!I$1,'PPM 2019'!$F$1:$R$1,0),0),0) -> 0 | J17: =IFERROR(VLOOKUP($D:$D,'PPM 2019'!$F:$R,MATCH(Actual!J$1,'PPM 2019'!$F$1:$R$1,0),0),0) -> 0 | K17: =IFERROR(VLOOKUP($D:$D,'PPM 2019'!$F:$R,MATCH(Actual!K$1,'PPM 2019'!$F$1:$R$1,0),0),0) -> 0 | L17: =IFERROR(VLOOKUP($D:$D,'PPM 2019'!$F:$R,MATCH(Actual!L$1,'PPM 2019'!$F$1:$R$1,0),0),0) -> 0 | M17: =IFERROR(VLOOKUP($D:$D,'PPM 2019'!$F:$R,MATCH(Actual!M$1,'PPM 2019'!$F$1:$R$1,0),0),0) -> 0 | ... Q17: =IFERROR(VLOOKUP($D:$D,'PPM 2019'!$F:$R,MATCH(Actual!Q$1,'PPM 2019'!$F$1:$R$1,0),0),0) -> 0 | S17: =SUM(OFFSET(F17,,,,$U$1)) -> 2
A18: IT Corporate | B18: 1BUS | C18: Meejat Anis | D18: =C:C&B:B -> Meejat Anis1BUS | F18: =IFERROR(VLOOKUP($D:$D,'PPM 2019'!$F:$R,MATCH(Actual!F$1,'PPM 2019'!$F$1:$R$1,0),0),0) -> 1 | G18: =IFERROR(VLOOKUP($D:$D,'PPM 2019'!$F:$R,MATCH(Actual!G$1,'PPM 2019'!$F$1:$R$1,0),0),0) -> 1 | H18: =IFERROR(VLOOKUP($D:$D,'PPM 2019'!$F:$R,MATCH(Actual!H$1,'PPM 2019'!$F$1:$R$1,0),0),0) -> 0 | I18: =IFERROR(VLOOKUP($D:$D,'PPM 2019'!$F:$R,MATCH(Actual!I$1,'PPM 2019'!$F$1:$R$1,0),0),0) -> 0 | J18: =IFERROR(VLOOKUP($D:$D,'PPM 2019'!$F:$R,MATCH(Actual!J$1,'PPM 2019'!$F$1:$R$1,0),0),0) -> 0 | K18: =IFERROR(VLOOKUP($D:$D,'PPM 2019'!$F:$R,MATCH(Actual!K$1,'PPM 2019'!$F$1:$R$1,0),0),0) -> 0 | L18: =IFERROR(VLOOKUP($D:$D,'PPM 2019'!$F:$R,MATCH(Actual!L$1,'PPM 2019'!$F$1:$R$1,0),0),0) -> 0 | M18: =IFERROR(VLOOKUP($D:$D,'PPM 2019'!$F:$R,MATCH(Actual!M$1,'PPM 2019'!$F$1:$R$1,0),0),0) -> 0 | ... Q18: =IFERROR(VLOOKUP($D:$D,'PPM 2019'!$F:$R,MATCH(Actual!Q$1,'PPM 2019'!$F$1:$R$1,0),0),0) -> 0 | S18: =SUM(OFFSET(F18,,,,$U$1)) -> 2
A19: IT Corporate | B19: 1BUS | C19: Mongrolle Philippe | D19: =C:C&B:B -> Mongrolle Philippe1BUS | F19: =IFERROR(VLOOKUP($D:$D,'PPM 2019'!$F:$R,MATCH(Actual!F$1,'PPM 2019'!$F$1:$R$1,0),0),0) -> 1 | G19: =IFERROR(VLOOKUP($D:$D,'PPM 2019'!$F:$R,MATCH(Actual!G$1,'PPM 2019'!$F$1:$R$1,0),0),0) -> 1 | H19: =IFERROR(VLOOKUP($D:$D,'PPM 2019'!$F:$R,MATCH(Actual!H$1,'PPM 2019'!$F$1:$R$1,0),0),0) -> 0 | I19: =IFERROR(VLOOKUP($D:$D,'PPM 2019'!$F:$R,MATCH(Actual!I$1,'PPM 2019'!$F$1:$R$1,0),0),0) -> 0 | J19: =IFERROR(VLOOKUP($D:$D,'PPM 2019'!$F:$R,MATCH(Actual!J$1,'PPM 2019'!$F$1:$R$1,0),0),0) -> 0 | K19: =IFERROR(VLOOKUP($D:$D,'PPM 2019'!$F:$R,MATCH(Actual!K$1,'PPM 2019'!$F$1:$R$1,0),0),0) -> 0 | L19: =IFERROR(VLOOKUP($D:$D,'PPM 2019'!$F:$R,MATCH(Actual!L$1,'PPM 2019'!$F$1:$R$1,0),0),0) -> 0 | M19: =IFERROR(VLOOKUP($D:$D,'PPM 2019'!$F:$R,MATCH(Actual!M$1,'PPM 2019'!$F$1:$R$1,0),0),0) -> 0 | ... Q19: =IFERROR(VLOOKUP($D:$D,'PPM 2019'!$F:$R,MATCH(Actual!Q$1,'PPM 2019'!$F$1:$R$1,0),0),0) -> 0 | S19: =SUM(OFFSET(F19,,,,$U$1)) -> 2
A20: IT Corporate | B20: 1BUS | C20: Rochdi Bey | D20: =C:C&B:B -> Rochdi Bey1BUS | F20: =IFERROR(VLOOKUP($D:$D,'PPM 2019'!$F:$R,MATCH(Actual!F$1,'PPM 2019'!$F$1:$R$1,0),0),0) -> 1 | G20: =IFERROR(VLOOKUP($D:$D,'PPM 2019'!$F:$R,MATCH(Actual!G$1,'PPM 2019'!$F$1:$R$1,0),0),0) -> 1 | H20: =IFERROR(VLOOKUP($D:$D,'PPM 2019'!$F:$R,MATCH(Actual!H$1,'PPM 2019'!$F$1:$R$1,0),0),0) -> 0 | I20: =IFERROR(VLOOKUP($D:$D,'PPM 2019'!$F:$R,MATCH(Actual!I$1,'PPM 2019'!$F$1:$R$1,0),0),0) -> 0 | J20: =IFERROR(VLOOKUP($D:$D,'PPM 2019'!$F:$R,MATCH(Actual!J$1,'PPM 2019'!$F$1:$R$1,0),0),0) -> 0 | K20: =IFERROR(VLOOKUP($D:$D,'PPM 2019'!$F:$R,MATCH(Actual!K$1,'PPM 2019'!$F$1:$R$1,0),0),0) -> 0 | L20: =IFERROR(VLOOKUP($D:$D,'PPM 2019'!$F:$R,MATCH(Actual!L$1,'PPM 2019'!$F$1:$R$1,0),0),0) -> 0 | M20: =IFERROR(VLOOKUP($D:$D,'PPM 2019'!$F:$R,MATCH(Actual!M$1,'PPM 2019'!$F$1:$R$1,0),0),0) -> 0 | ... Q20: =IFERROR(VLOOKUP($D:$D,'PPM 2019'!$F:$R,MATCH(Actual!Q$1,'PPM 2019'!$F$1:$R$1,0),0),0) -> 0 | S20: =SUM(OFFSET(F20,,,,$U$1)) -> 2
A21: IT Corporate | B21: 1BUS | C21: Rogui Talal | D21: =C:C&B:B -> Rogui Talal1BUS | F21: =IFERROR(VLOOKUP($D:$D,'PPM 2019'!$F:$R,MATCH(Actual!F$1,'PPM 2019'!$F$1:$R$1,0),0),0) -> 1 | G21: =IFERROR(VLOOKUP($D:$D,'PPM 2019'!$F:$R,MATCH(Actual!G$1,'PPM 2019'!$F$1:$R$1,0),0),0) -> 1 | H21: =IFERROR(VLOOKUP($D:$D,'PPM 2019'!$F:$R,MATCH(Actual!H$1,'PPM 2019'!$F$1:$R$1,0),0),0) -> 0 | I21: =IFERROR(VLOOKUP($D:$D,'PPM 2019'!$F:$R,MATCH(Actual!I$1,'PPM 2019'!$F$1:$R$1,0),0),0) -> 0 | J21: =IFERROR(VLOOKUP($D:$D,'PPM 2019'!$F:$R,MATCH(Actual!J$1,'PPM 2019'!$F$1:$R$1,0),0),0) -> 0 | K21: =IFERROR(VLOOKUP($D:$D,'PPM 2019'!$F:$R,MATCH(Actual!K$1,'PPM 2019'!$F$1:$R$1,0),0),0) -> 0 | L21: =IFERROR(VLOOKUP($D:$D,'PPM 2019'!$F:$R,MATCH(Actual!L$1,'PPM 2019'!$F$1:$R$1,0),0),0) -> 0 | M21: =IFERROR(VLOOKUP($D:$D,'PPM 2019'!$F:$R,MATCH(Actual!M$1,'PPM 2019'!$F$1:$R$1,0),0),0) -> 0 | ... Q21: =IFERROR(VLOOKUP($D:$D,'PPM 2019'!$F:$R,MATCH(Actual!Q$1,'PPM 2019'!$F$1:$R$1,0),0),0) -> 0 | S21: =SUM(OFFSET(F21,,,,$U$1)) -> 2
A22: IT Corporate | B22: 1BUS | C22: Thibaud Matthieu | D22: =C:C&B:B -> Thibaud Matthieu1BUS | F22: =IFERROR(VLOOKUP($D:$D,'PPM 2019'!$F:$R,MATCH(Actual!F$1,'PPM 2019'!$F$1:$R$1,0),0),0) -> 1 | G22: =IFERROR(VLOOKUP($D:$D,'PPM 2019'!$F:$R,MATCH(Actual!G$1,'PPM 2019'!$F$1:$R$1,0),0),0) -> 0 | H22: =IFERROR(VLOOKUP($D:$D,'PPM 2019'!$F:$R,MATCH(Actual!H$1,'PPM 2019'!$F$1:$R$1,0),0),0) -> 0 | I22: =IFERROR(VLOOKUP($D:$D,'PPM 2019'!$F:$R,MATCH(Actual!I$1,'PPM 2019'!$F$1:$R$1,0),0),0) -> 0 | J22: =IFERROR(VLOOKUP($D:$D,'PPM 2019'!$F:$R,MATCH(Actual!J$1,'PPM 2019'!$F$1:$R$1,0),0),0) -> 0 | K22: =IFERROR(VLOOKUP($D:$D,'PPM 2019'!$F:$R,MATCH(Actual!K$1,'PPM 2019'!$F$1:$R$1,0),0),0) -> 0 | L22: =IFERROR(VLOOKUP($D:$D,'PPM 2019'!$F:$R,MATCH(Actual!L$1,'PPM 2019'!$F$1:$R$1,0),0),0) -> 0 | M22: =IFERROR(VLOOKUP($D:$D,'PPM 2019'!$F:$R,MATCH(Actual!M$1,'PPM 2019'!$F$1:$R$1,0),0),0) -> 0 | ... Q22: =IFERROR(VLOOKUP($D:$D,'PPM 2019'!$F:$R,MATCH(Actual!Q$1,'PPM 2019'!$F$1:$R$1,0),0),0) -> 0 | S22: =SUM(OFFSET(F22,,,,$U$1)) -> 1
A23: IT Corporate | B23: 1BUS | C23: Revello Kevin | D23: =C:C&B:B -> Revello Kevin1BUS | F23: =IFERROR(VLOOKUP($D:$D,'PPM 2019'!$F:$R,MATCH(Actual!F$1,'PPM 2019'!$F$1:$R$1,0),0),0) -> 0 | G23: =IFERROR(VLOOKUP($D:$D,'PPM 2019'!$F:$R,MATCH(Actual!G$1,'PPM 2019'!$F$1:$R$1,0),0),0) -> 0 | H23: =IFERROR(VLOOKUP($D:$D,'PPM 2019'!$F:$R,MATCH(Actual!H$1,'PPM 2019'!$F$1:$R$1,0),0),0) -> 0 | I23: =IFERROR(VLOOKUP($D:$D,'PPM 2019'!$F:$R,MATCH(Actual!I$1,'PPM 2019'!$F$1:$R$1,0),0),0) -> 0 | J23: =IFERROR(VLOOKUP($D:$D,'PPM 2019'!$F:$R,MATCH(Actual!J$1,'PPM 2019'!$F$1:$R$1,0),0),0) -> 0 | K23: =IFERROR(VLOOKUP($D:$D,'PPM 2019'!$F:$R,MATCH(Actual!K$1,'PPM 2019'!$F$1:$R$1,0),0),0) -> 0 | L23: =IFERROR(VLOOKUP($D:$D,'PPM 2019'!$F:$R,MATCH(Actual!L$1,'PPM 2019'!$F$1:$R$1,0),0),0) -> 0 | M23: =IFERROR(VLOOKUP($D:$D,'PPM 2019'!$F:$R,MATCH(Actual!M$1,'PPM 2019'!$F$1:$R$1,0),0),0) -> 0 | ... Q23: =IFERROR(VLOOKUP($D:$D,'PPM 2019'!$F:$R,MATCH(Actual!Q$1,'PPM 2019'!$F$1:$R$1,0),0),0) -> 0 | S23: =SUM(OFFSET(F23,,,,$U$1)) -> 0
B24: Total 1BUS | F24: =SUM(F11:F23) -> 12 | G24: =SUM(G11:G23) -> 11 | H24: =SUM(H11:H23) -> 0 | I24: =SUM(I11:I23) -> 0 | J24: =SUM(J11:J23) -> 0 | K24: =SUM(K11:K23) -> 0 | L24: =SUM(L11:L23) -> 0 | M24: =SUM(M11:M23) -> 0 | ... Q24: =SUM(Q11:Q23) -> 0 | S24: =SUM(S11:S23) -> 23
A25: IT Corporate | B25: 1CORP | C25: Louet Jean-François | D25: =C:C&B:B -> Louet Jean-François1CORP | F25: =IFERROR(VLOOKUP($D:$D,'PPM 2019'!$F:$R,MATCH(Actual!F$1,'PPM 2019'!$F$1:$R$1,0),0),0) -> 0 | G25: =IFERROR(VLOOKUP($D:$D,'PPM 2019'!$F:$R,MATCH(Actual!G$1,'PPM 2019'!$F$1:$R$1,0),0),0) -> 1 | H25: =IFERROR(VLOOKUP($D:$D,'PPM 2019'!$F:$R,MATCH(Actual!H$1,'PPM 2019'!$F$1:$R$1,0),0),0) -> 0 | I25: =IFERROR(VLOOKUP($D:$D,'PPM 2019'!$F:$R,MATCH(Actual!I$1,'PPM 2019'!$F$1:$R$1,0),0),0) -> 0 | J25: =IFERROR(VLOOKUP($D:$D,'PPM 2019'!$F:$R,MATCH(Actual!J$1,'PPM 2019'!$F$1:$R$1,0),0),0) -> 0 | K25: =IFERROR(VLOOKUP($D:$D,'PPM 2019'!$F:$R,MATCH(Actual!K$1,'PPM 2019'!$F$1:$R$1,0),0),0) -> 0 | L25: =IFERROR(VLOOKUP($D:$D,'PPM 2019'!$F:$R,MATCH(Actual!L$1,'PPM 2019'!$F$1:$R$1,0),0),0) -> 0 | M25: =IFERROR(VLOOKUP($D:$D,'PPM 2019'!$F:$R,MATCH(Actual!M$1,'PPM 2019'!$F$1:$R$1,0),0),0) -> 0 | ... Q25: =IFERROR(VLOOKUP($D:$D,'PPM 2019'!$F:$R,MATCH(Actual!Q$1,'PPM 2019'!$F$1:$R$1,0),0),0) -> 0 | S25: =SUM(OFFSET(F25,,,,$U$1)) -> 1
A26: IT Corporate | B26: 1CORP | C26: Revello Kevin | D26: =C:C&B:B -> Revello Kevin1CORP | F26: =IFERROR(VLOOKUP($D:$D,'PPM 2019'!$F:$R,MATCH(Actual!F$1,'PPM 2019'!$F$1:$R$1,0),0),0) -> 1 | G26: =IFERROR(VLOOKUP($D:$D,'PPM 2019'!$F:$R,MATCH(Actual!G$1,'PPM 2019'!$F$1:$R$1,0),0),0) -> 1 | H26: =IFERROR(VLOOKUP($D:$D,'PPM 2019'!$F:$R,MATCH(Actual!H$1,'PPM 2019'!$F$1:$R$1,0),0),0) -> 0 | I26: =IFERROR(VLOOKUP($D:$D,'PPM 2019'!$F:$R,MATCH(Actual!I$1,'PPM 2019'!$F$1:$R$1,0),0),0) -> 0 | J26: =IFERROR(VLOOKUP($D:$D,'PPM 2019'!$F:$R,MATCH(Actual!J$1,'PPM 2019'!$F$1:$R$1,0),0),0) -> 0 | K26: =IFERROR(VLOOKUP($D:$D,'PPM 2019'!$F:$R,MATCH(Actual!K$1,'PPM 2019'!$F$1:$R$1,0),0),0) -> 0 | L26: =IFERROR(VLOOKUP($D:$D,'PPM 2019'!$F:$R,MATCH(Actual!L$1,'PPM 2019'!$F$1:$R$1,0),0),0) -> 0 | M26: =IFERROR(VLOOKUP($D:$D,'PPM 2019'!$F:$R,MATCH(Actual!M$1,'PPM 2019'!$F$1:$R$1,0),0),0) -> 0 | ... Q26: =IFERROR(VLOOKUP($D:$D,'PPM 2019'!$F:$R,MATCH(Actual!Q$1,'PPM 2019'!$F$1:$R$1,0),0),0) -> 0 | S26: =SUM(OFFSET(F26,,,,$U$1)) -> 2
B27: Total 1CORP | F27: =SUM(F25:F25) -> 0 | G27: =SUM(G25:G25) -> 1 | H27: =SUM(H25:H25) -> 0 | I27: =SUM(I25:I25) -> 0 | J27: =SUM(J25:J25) -> 0 | K27: =SUM(K25:K25) -> 0 | L27: =SUM(L25:L25) -> 0 | M27: =SUM(M25:M25) -> 0 | ... Q27: =SUM(Q25:Q25) -> 0 | S27: =SUM(S25:S25) -> 1
A28: IT Corporate | B28: 1ITFIN | C28: Andrianaivo Eric | D28: =C:C&B:B -> Andrianaivo Eric1ITFIN | F28: =IFERROR(VLOOKUP($D:$D,'PPM 2019'!$F:$R,MATCH(Actual!F$1,'PPM 2019'!$F$1:$R$1,0),0),0) -> 1 | G28: =IFERROR(VLOOKUP($D:$D,'PPM 2019'!$F:$R,MATCH(Actual!G$1,'PPM 2019'!$F$1:$R$1,0),0),0) -> 1 | H28: =IFERROR(VLOOKUP($D:$D,'PPM 2019'!$F:$R,MATCH(Actual!H$1,'PPM 2019'!$F$1:$R$1,0),0),0) -> 0 | I28: =IFERROR(VLOOKUP($D:$D,'PPM 2019'!$F:$R,MATCH(Actual!I$1,'PPM 2019'!$F$1:$R$1,0),0),0) -> 0 | J28: =IFERROR(VLOOKUP($D:$D,'PPM 2019'!$F:$R,MATCH(Actual!J$1,'PPM 2019'!$F$1:$R$1,0),0),0) -> 0 | K28: =IFERROR(VLOOKUP($D:$D,'PPM 2019'!$F:$R,MATCH(Actual!K$1,'PPM 2019'!$F$1:$R$1,0),0),0) -> 0 | L28: =IFERROR(VLOOKUP($D:$D,'PPM 2019'!$F:$R,MATCH(Actual!L$1,'PPM 2019'!$F$1:$R$1,0),0),0) -> 0 | M28: =IFERROR(VLOOKUP($D:$D,'PPM 2019'!$F:$R,MATCH(Actual!M$1,'PPM 2019'!$F$1:$R$1,0),0),0) -> 0 | ... Q28: =IFERROR(VLOOKUP($D:$D,'PPM 2019'!$F:$R,MATCH(Actual!Q$1,'PPM 2019'!$F$1:$R$1,0),0),0) -> 0 | S28: =SUM(OFFSET(F28,,,,$U$1)) -> 2
A29: IT Corporate | B29: 1ITFIN | C29: Anjum Osama | D29: =C:C&B:B -> Anjum Osama1ITFIN | F29: =IFERROR(VLOOKUP($D:$D,'PPM 2019'!$F:$R,MATCH(Actual!F$1,'PPM 2019'!$F$1:$R$1,0),0),0) -> 0 | G29: =IFERROR(VLOOKUP($D:$D,'PPM 2019'!$F:$R,MATCH(Actual!G$1,'PPM 2019'!$F$1:$R$1,0),0),0) -> 0 | H29: =IFERROR(VLOOKUP($D:$D,'PPM 2019'!$F:$R,MATCH(Actual!H$1,'PPM 2019'!$F$1:$R$1,0),0),0) -> 0 | I29: =IFERROR(VLOOKUP($D:$D,'PPM 2019'!$F:$R,MATCH(Actual!I$1,'PPM 2019'!$F$1:$R$1,0),0),0) -> 0 | J29: =IFERROR(VLOOKUP($D:$D,'PPM 2019'!$F:$R,MATCH(Actual!J$1,'PPM 2019'!$F$1:$R$1,0),0),0) -> 0 | K29: =IFERROR(VLOOKUP($D:$D,'PPM 2019'!$F:$R,MATCH(Actual!K$1,'PPM 2019'!$F$1:$R$1,0),0),0) -> 0 | L29: =IFERROR(VLOOKUP($D:$D,'PPM 2019'!$F:$R,MATCH(Actual!L$1,'PPM 2019'!$F$1:$R$1,0),0),0) -> 0 | M29: =IFERROR(VLOOKUP($D:$D,'PPM 2019'!$F:$R,MATCH(Actual!M$1,'PPM 2019'!$F$1:$R$1,0),0),0) -> 0 | ... Q29: =IFERROR(VLOOKUP($D:$D,'PPM 2019'!$F:$R,MATCH(Actual!Q$1,'PPM 2019'!$F$1:$R$1,0),0),0) -> 0 | S29: =SUM(OFFSET(F29,,,,$U$1)) -> 0
A30: IT Corporate | B30: 1ITFIN | C30: Benhaddou Ghita | D30: =C:C&B:B -> Benhaddou Ghita1ITFIN | F30: =IFERROR(VLOOKUP($D:$D,'PPM 2019'!$F:$R,MATCH(Actual!F$1,'PPM 2019'!$F$1:$R$1,0),0),0) -> 0 | G30: =IFERROR(VLOOKUP($D:$D,'PPM 2019'!$F:$R,MATCH(Actual!G$1,'PPM 2019'!$F$1:$R$1,0),0),0) -> 1 | H30: =IFERROR(VLOOKUP($D:$D,'PPM 2019'!$F:$R,MATCH(Actual!H$1,'PPM 2019'!$F$1:$R$1,0),0),0) -> 0 | I30: =IFERROR(VLOOKUP($D:$D,'PPM 2019'!$F:$R,MATCH(Actual!I$1,'PPM 2019'!$F$1:$R$1,0),0),0) -> 0 | J30: =IFERROR(VLOOKUP($D:$D,'PPM 2019'!$F:$R,MATCH(Actual!J$1,'PPM 2019'!$F$1:$R$1,0),0),0) -> 0 | K30: =IFERROR(VLOOKUP($D:$D,'PPM 2019'!$F:$R,MATCH(Actual!K$1,'PPM 2019'!$F$1:$R$1,0),0),0) -> 0 | L30: =IFERROR(VLOOKUP($D:$D,'PPM 2019'!$F:$R,MATCH(Actual!L$1,'PPM 2019'!$F$1:$R$1,0),0),0) -> 0 | M30: =IFERROR(VLOOKUP($D:$D,'PPM 2019'!$F:$R,MATCH(Actual!M$1,'PPM 2019'!$F$1:$R$1,0),0),0) -> 0 | ... Q30: =IFERROR(VLOOKUP($D:$D,'PPM 2019'!$F:$R,MATCH(Actual!Q$1,'PPM 2019'!$F$1:$R$1,0),0),0) -> 0 | S30: =SUM(OFFSET(F30,,,,$U$1)) -> 1
A31: IT Corporate | B31: 1ITFIN | C31: Venkanna Shilpa | D31: =C:C&B:B -> Venkanna Shilpa1ITFIN | F31: =IFERROR(VLOOKUP($D:$D,'PPM 2019'!$F:$R,MATCH(Actual!F$1,'PPM 2019'!$F$1:$R$1,0),0),0) -> 0 | G31: =IFERROR(VLOOKUP($D:$D,'PPM 2019'!$F:$R,MATCH(Actual!G$1,'PPM 2019'!$F$1:$R$1,0),0),0) -> 1 | H31: =IFERROR(VLOOKUP($D:$D,'PPM 2019'!$F:$R,MATCH(Actual!H$1,'PPM 2019'!$F$1:$R$1,0),0),0) -> 0 | I31: =IFERROR(VLOOKUP($D:$D,'PPM 2019'!$F:$R,MATCH(Actual!I$1,'PPM 2019'!$F$1:$R$1,0),0),0) -> 0 | J31: =IFERROR(VLOOKUP($D:$D,'PPM 2019'!$F:$R,MATCH(Actual!J$1,'PPM 2019'!$F$1:$R$1,0),0),0) -> 0 | K31: =IFERROR(VLOOKUP($D:$D,'PPM 2019'!$F:$R,MATCH(Actual!K$1,'PPM 2019'!$F$1:$R$1,0),0),0) -> 0 | L31: =IFERROR(VLOOKUP($D:$D,'PPM 2019'!$F:$R,MATCH(Actual!L$1,'PPM 2019'!$F$1:$R$1,0),0),0) -> 0 | M31: =IFERROR(VLOOKUP($D:$D,'PPM 2019'!$F:$R,MATCH(Actual!M$1,'PPM 2019'!$F$1:$R$1,0),0),0) -> 0 | ... Q31: =IFERROR(VLOOKUP($D:$D,'PPM 2019'!$F:$R,MATCH(Actual!Q$1,'PPM 2019'!$F$1:$R$1,0),0),0) -> 0 | S31: =SUM(OFFSET(F31,,,,$U$1)) -> 1
A32: IT Corporate | B32: 1ITFIN | C32: De Boysson Edouard | D32: =C:C&B:B -> De Boysson Edouard1ITFIN | F32: =IFERROR(VLOOKUP($D:$D,'PPM 2019'!$F:$R,MATCH(Actual!F$1,'PPM 2019'!$F$1:$R$1,0),0),0) -> 1 | G32: =IFERROR(VLOOKUP($D:$D,'PPM 2019'!$F:$R,MATCH(Actual!G$1,'PPM 2019'!$F$1:$R$1,0),0),0) -> 1 | H32: =IFERROR(VLOOKUP($D:$D,'PPM 2019'!$F:$R,MATCH(Actual!H$1,'PPM 2019'!$F$1:$R$1,0),0),0) -> 0 | I32: =IFERROR(VLOOKUP($D:$D,'PPM 2019'!$F:$R,MATCH(Actual!I$1,'PPM 2019'!$F$1:$R$1,0),0),0) -> 0 | J32: =IFERROR(VLOOKUP($D:$D,'PPM 2019'!$F:$R,MATCH(Actual!J$1,'PPM 2019'!$F$1:$R$1,0),0),0) -> 0 | K32: =IFERROR(VLOOKUP($D:$D,'PPM 2019'!$F:$R,MATCH(Actual!K$1,'PPM 2019'!$F$1:$R$1,0),0),0) -> 0 | L32: =IFERROR(VLOOKUP($D:$D,'PPM 2019'!$F:$R,MATCH(Actual!L$1,'PPM 2019'!$F$1:$R$1,0),0),0) -> 0 | M32: =IFERROR(VLOOKUP($D:$D,'PPM 2019'!$F:$R,MATCH(Actual!M$1,'PPM 2019'!$F$1:$R$1,0),0),0) -> 0 | ... Q32: =IFERROR(VLOOKUP($D:$D,'PPM 2019'!$F:$R,MATCH(Actual!Q$1,'PPM 2019'!$F$1:$R$1,0),0),0) -> 0 | S32: =SUM(OFFSET(F32,,,,$U$1)) -> 2
A33: IT Corporate | B33: 1ITFIN | C33: Duong Phuong | D33: =C:C&B:B -> Duong Phuong1ITFIN | F33: =IFERROR(VLOOKUP($D:$D,'PPM 2019'!$F:$R,MATCH(Actual!F$1,'PPM 2019'!$F$1:$R$1,0),0),0) -> 1 | G33: =IFERROR(VLOOKUP($D:$D,'PPM 2019'!$F:$R,MATCH(Actual!G$1,'PPM 2019'!$F$1:$R$1,0),0),0) -> 1 | H33: =IFERROR(VLOOKUP($D:$D,'PPM 2019'!$F:$R,MATCH(Actual!H$1,'PPM 2019'!$F$1:$R$1,0),0),0) -> 0 | I33: =IFERROR(VLOOKUP($D:$D,'PPM 2019'!$F:$R,MATCH(Actual!I$1,'PPM 2019'!$F$1:$R$1,0),0),0) -> 0 | J33: =IFERROR(VLOOKUP($D:$D,'PPM 2019'!$F:$R,MATCH(Actual!J$1,'PPM 2019'!$F$1:$R$1,0),0),0) -> 0 | K33: =IFERROR(VLOOKUP($D:$D,'PPM 2019'!$F:$R,MATCH(Actual!K$1,'PPM 2019'!$F$1:$R$1,0),0),0) -> 0 | L33: =IFERROR(VLOOKUP($D:$D,'PPM 2019'!$F:$R,MATCH(Actual!L$1,'PPM 2019'!$F$1:$R$1,0),0),0) -> 0 | M33: =IFERROR(VLOOKUP($D:$D,'PPM 2019'!$F:$R,MATCH(Actual!M$1,'PPM 2019'!$F$1:$R$1,0),0),0) -> 0 | ... Q33: =IFERROR(VLOOKUP($D:$D,'PPM 2019'!$F:$R,MATCH(Actual!Q$1,'PPM 2019'!$F$1:$R$1,0),0),0) -> 0 | S33: =SUM(OFFSET(F33,,,,$U$1)) -> 2
A34: IT Corporate | B34: 1ITFIN | C34: Belghith Rym | D34: =C:C&B:B -> Belghith Rym1ITFIN | F34: =IFERROR(VLOOKUP($D:$D,'PPM 2019'!$F:$R,MATCH(Actual!F$1,'PPM 2019'!$F$1:$R$1,0),0),0) -> 0 | G34: =IFERROR(VLOOKUP($D:$D,'PPM 2019'!$F:$R,MATCH(Actual!G$1,'PPM 2019'!$F$1:$R$1,0),0),0) -> 1 | H34: =IFERROR(VLOOKUP($D:$D,'PPM 2019'!$F:$R,MATCH(Actual!H$1,'PPM 2019'!$F$1:$R$1,0),0),0) -> 0 | I34: =IFERROR(VLOOKUP($D:$D,'PPM 2019'!$F:$R,MATCH(Actual!I$1,'PPM 2019'!$F$1:$R$1,0),0),0) -> 0 | J34: =IFERROR(VLOOKUP($D:$D,'PPM 2019'!$F:$R,MATCH(Actual!J$1,'PPM 2019'!$F$1:$R$1,0),0),0) -> 0 | K34: =IFERROR(VLOOKUP($D:$D,'PPM 2019'!$F:$R,MATCH(Actual!K$1,'PPM 2019'!$F$1:$R$1,0),0),0) -> 0 | L34: =IFERROR(VLOOKUP($D:$D,'PPM 2019'!$F:$R,MATCH(Actual!L$1,'PPM 2019'!$F$1:$R$1,0),0),0) -> 0 | M34: =IFERROR(VLOOKUP($D:$D,'PPM 2019'!$F:$R,MATCH(Actual!M$1,'PPM 2019'!$F$1:$R$1,0),0),0) -> 0 | ... Q34: =IFERROR(VLOOKUP($D:$D,'PPM 2019'!$F:$R,MATCH(Actual!Q$1,'PPM 2019'!$F$1:$R$1,0),0),0) -> 0 | S34: =SUM(OFFSET(F34,,,,$U$1)) -> 1
A35: IT Corporate | B35: 1ITFIN | C35: Lambropoulos Cyril | D35: =C:C&B:B -> Lambropoulos Cyril1ITFIN | F35: =IFERROR(VLOOKUP($D:$D,'PPM 2019'!$F:$R,MATCH(Actual!F$1,'PPM 2019'!$F$1:$R$1,0),0),0) -> 0 | G35: =IFERROR(VLOOKUP($D:$D,'PPM 2019'!$F:$R,MATCH(Actual!G$1,'PPM 2019'!$F$1:$R$1,0),0),0) -> 0 | H35: =IFERROR(VLOOKUP($D:$D,'PPM 2019'!$F:$R,MATCH(Actual!H$1,'PPM 2019'!$F$1:$R$1,0),0),0) -> 0 | I35: =IFERROR(VLOOKUP($D:$D,'PPM 2019'!$F:$R,MATCH(Actual!I$1,'PPM 2019'!$F$1:$R$1,0),0),0) -> 0 | J35: =IFERROR(VLOOKUP($D:$D,'PPM 2019'!$F:$R,MATCH(Actual!J$1,'PPM 2019'!$F$1:$R$1,0),0),0) -> 0 | K35: =IFERROR(VLOOKUP($D:$D,'PPM 2019'!$F:$R,MATCH(Actual!K$1,'PPM 2019'!$F$1:$R$1,0),0),0) -> 0 | L35: =IFERROR(VLOOKUP($D:$D,'PPM 2019'!$F:$R,MATCH(Actual!L$1,'PPM 2019'!$F$1:$R$1,0),0),0) -> 0 | M35: =IFERROR(VLOOKUP($D:$D,'PPM 2019'!$F:$R,MATCH(Actual!M$1,'PPM 2019'!$F$1:$R$1,0),0),0) -> 0 | ... Q35: =IFERROR(VLOOKUP($D:$D,'PPM 2019'!$F:$R,MATCH(Actual!Q$1,'PPM 2019'!$F$1:$R$1,0),0),0) -> 0 | S35: =SUM(OFFSET(F35,,,,$U$1)) -> 0
B36: Total 1ITFIN | F36: =SUM(F28:F35) -> 3 | G36: =SUM(G28:G35) -> 6 | H36: =SUM(H28:H35) -> 0 | I36: =SUM(I28:I35) -> 0 | J36: =SUM(J28:J35) -> 0 | K36: =SUM(K28:K35) -> 0 | L36: =SUM(L28:L35) -> 0 | M36: =SUM(M28:M35) -> 0 | ... Q36: =SUM(Q28:Q35) -> 0 | S36: =SUM(S28:S35) -> 9
A37: IT Corporate | B37: 1ITGF | C37: Chaoui Ntissar | D37: =C:C&B:B -> Chaoui Ntissar1ITGF | F37: =IFERROR(VLOOKUP($D:$D,'PPM 2019'!$F:$R,MATCH(Actual!F$1,'PPM 2019'!$F$1:$R$1,0),0),0) -> 1 | G37: =IFERROR(VLOOKUP($D:$D,'PPM 2019'!$F:$R,MATCH(Actual!G$1,'PPM 2019'!$F$1:$R$1,0),0),0) -> 1 | H37: =IFERROR(VLOOKUP($D:$D,'PPM 2019'!$F:$R,MATCH(Actual!H$1,'PPM 2019'!$F$1:$R$1,0),0),0) -> 0 | I37: =IFERROR(VLOOKUP($D:$D,'PPM 2019'!$F:$R,MATCH(Actual!I$1,'PPM 2019'!$F$1:$R$1,0),0),0) -> 0 | J37: =IFERROR(VLOOKUP($D:$D,'PPM 2019'!$F:$R,MATCH(Actual!J$1,'PPM 2019'!$F$1:$R$1,0),0),0) -> 0 | K37: =IFERROR(VLOOKUP($D:$D,'PPM 2019'!$F:$R,MATCH(Actual!K$1,'PPM 2019'!$F$1:$R$1,0),0),0) -> 0 | L37: =IFERROR(VLOOKUP($D:$D,'PPM 2019'!$F:$R,MATCH(Actual!L$1,'PPM 2019'!$F$1:$R$1,0),0),0) -> 0 | M37: =IFERROR(VLOOKUP($D:$D,'PPM 2019'!$F:$R,MATCH(Actual!M$1,'PPM 2019'!$F$1:$R$1,0),0),0) -> 0 | ... Q37: =IFERROR(VLOOKUP($D:$D,'PPM 2019'!$F:$R,MATCH(Actual!Q$1,'PPM 2019'!$F$1:$R$1,0),0),0) -> 0 | S37: =SUM(OFFSET(F37,,,,$U$1)) -> 2
A38: IT Corporate | B38: 1ITGF | C38: Chazelas Catherine | D38: =C:C&B:B -> Chazelas Catherine1ITGF | F38: =IFERROR(VLOOKUP($D:$D,'PPM 2019'!$F:$R,MATCH(Actual!F$1,'PPM 2019'!$F$1:$R$1,0),0),0) -> 1 | G38: =IFERROR(VLOOKUP($D:$D,'PPM 2019'!$F:$R,MATCH(Actual!G$1,'PPM 2019'!$F$1:$R$1,0),0),0) -> 1 | H38: =IFERROR(VLOOKUP($D:$D,'PPM 2019'!$F:$R,MATCH(Actual!H$1,'PPM 2019'!$F$1:$R$1,0),0),0) -> 0 | I38: =IFERROR(VLOOKUP($D:$D,'PPM 2019'!$F:$R,MATCH(Actual!I$1,'PPM 2019'!$F$1:$R$1,0),0),0) -> 0 | J38: =IFERROR(VLOOKUP($D:$D,'PPM 2019'!$F:$R,MATCH(Actual!J$1,'PPM 2019'!$F$1:$R$1,0),0),0) -> 0 | K38: =IFERROR(VLOOKUP($D:$D,'PPM 2019'!$F:$R,MATCH(Actual!K$1,'PPM 2019'!$F$1:$R$1,0),0),0) -> 0 | L38: =IFERROR(VLOOKUP($D:$D,'PPM 2019'!$F:$R,MATCH(Actual!L$1,'PPM 2019'!$F$1:$R$1,0),0),0) -> 0 | M38: =IFERROR(VLOOKUP($D:$D,'PPM 2019'!$F:$R,MATCH(Actual!M$1,'PPM 2019'!$F$1:$R$1,0),0),0) -> 0 | ... Q38: =IFERROR(VLOOKUP($D:$D,'PPM 2019'!$F:$R,MATCH(Actual!Q$1,'PPM 2019'!$F$1:$R$1,0),0),0) -> 0 | S38: =SUM(OFFSET(F38,,,,$U$1)) -> 2
A39: IT Corporate | B39: 1ITGF | C39: De Burghgrave Laurent | D39: =C:C&B:B -> De Burghgrave Laurent1ITGF | F39: =IFERROR(VLOOKUP($D:$D,'PPM 2019'!$F:$R,MATCH(Actual!F$1,'PPM 2019'!$F$1:$R$1,0),0),0) -> 1 | G39: =IFERROR(VLOOKUP($D:$D,'PPM 2019'!$F:$R,MATCH(Actual!G$1,'PPM 2019'!$F$1:$R$1,0),0),0) -> 1 | H39: =IFERROR(VLOOKUP($D:$D,'PPM 2019'!$F:$R,MATCH(Actual!H$1,'PPM 2019'!$F$1:$R$1,0),0),0) -> 0 | I39: =IFERROR(VLOOKUP($D:$D,'PPM 2019'!$F:$R,MATCH(Actual!I$1,'PPM 2019'!$F$1:$R$1,0),0),0) -> 0 | J39: =IFERROR(VLOOKUP($D:$D,'PPM 2019'!$F:$R,MATCH(Actual!J$1,'PPM 2019'!$F$1:$R$1,0),0),0) -> 0 | K39: =IFERROR(VLOOKUP($D:$D,'PPM 2019'!$F:$R,MATCH(Actual!K$1,'PPM 2019'!$F$1:$R$1,0),0),0) -> 0 | L39: =IFERROR(VLOOKUP($D:$D,'PPM 2019'!$F:$R,MATCH(Actual!L$1,'PPM 2019'!$F$1:$R$1,0),0),0) -> 0 | M39: =IFERROR(VLOOKUP($D:$D,'PPM 2019'!$F:$R,MATCH(Actual!M$1,'PPM 2019'!$F$1:$R$1,0),0),0) -> 0 | ... Q39: =IFERROR(VLOOKUP($D:$D,'PPM 2019'!$F:$R,MATCH(Actual!Q$1,'PPM 2019'!$F$1:$R$1,0),0),0) -> 0 | S39: =SUM(OFFSET(F39,,,,$U$1)) -> 2
A40: IT Corporate | B40: 1ITGF | C40: Debbah Boutaina | D40: =C:C&B:B -> Debbah Boutaina1ITGF | F40: =IFERROR(VLOOKUP($D:$D,'PPM 2019'!$F:$R,MATCH(Actual!F$1,'PPM 2019'!$F$1:$R$1,0),0),0) -> 1 | G40: =IFERROR(VLOOKUP($D:$D,'PPM 2019'!$F:$R,MATCH(Actual!G$1,'PPM 2019'!$F$1:$R$1,0),0),0) -> 1 | H40: =IFERROR(VLOOKUP($D:$D,'PPM 2019'!$F:$R,MATCH(Actual!H$1,'PPM 2019'!$F$1:$R$1,0),0),0) -> 0 | I40: =IFERROR(VLOOKUP($D:$D,'PPM 2019'!$F:$R,MATCH(Actual!I$1,'PPM 2019'!$F$1:$R$1,0),0),0) -> 0 | J40: =IFERROR(VLOOKUP($D:$D,'PPM 2019'!$F:$R,MATCH(Actual!J$1,'PPM 2019'!$F$1:$R$1,0),0),0) -> 0 | K40: =IFERROR(VLOOKUP($D:$D,'PPM 2019'!$F:$R,MATCH(Actual!K$1,'PPM 2019'!$F$1:$R$1,0),0),0) -> 0 | L40: =IFERROR(VLOOKUP($D:$D,'PPM 2019'!$F:$R,MATCH(Actual!L$1,'PPM 2019'!$F$1:$R$1,0),0),0) -> 0 | M40: =IFERROR(VLOOKUP($D:$D,'PPM 2019'!$F:$R,MATCH(Actual!M$1,'PPM 2019'!$F$1:$R$1,0),0),0) -> 0 | ... Q40: =IFERROR(VLOOKUP($D:$D,'PPM 2019'!$F:$R,MATCH(Actual!Q$1,'PPM 2019'!$F$1:$R$1,0),0),0) -> 0 | S40: =SUM(OFFSET(F40,,,,$U$1)) -> 2
A41: IT Corporate | B41: 1ITGF | C41: Horen Guillaume | D41: =C:C&B:B -> Horen Guillaume1ITGF | F41: =IFERROR(VLOOKUP($D:$D,'PPM 2019'!$F:$R,MATCH(Actual!F$1,'PPM 2019'!$F$1:$R$1,0),0),0) -> 1 | G41: =IFERROR(VLOOKUP($D:$D,'PPM 2019'!$F:$R,MATCH(Actual!G$1,'PPM 2019'!$F$1:$R$1,0),0),0) -> 1 | H41: =IFERROR(VLOOKUP($D:$D,'PPM 2019'!$F:$R,MATCH(Actual!H$1,'PPM 2019'!$F$1:$R$1,0),0),0) -> 0 | I41: =IFERROR(VLOOKUP($D:$D,'PPM 2019'!$F:$R,MATCH(Actual!I$1,'PPM 2019'!$F$1:$R$1,0),0),0) -> 0 | J41: =IFERROR(VLOOKUP($D:$D,'PPM 2019'!$F:$R,MATCH(Actual!J$1,'PPM 2019'!$F$1:$R$1,0),0),0) -> 0 | K41: =IFERROR(VLOOKUP($D:$D,'PPM 2019'!$F:$R,MATCH(Actual!K$1,'PPM 2019'!$F$1:$R$1,0),0),0) -> 0 | L41: =IFERROR(VLOOKUP($D:$D,'PPM 2019'!$F:$R,MATCH(Actual!L$1,'PPM 2019'!$F$1:$R$1,0),0),0) -> 0 | M41: =IFERROR(VLOOKUP($D:$D,'PPM 2019'!$F:$R,MATCH(Actual!M$1,'PPM 2019'!$F$1:$R$1,0),0),0) -> 0 | ... Q41: =IFERROR(VLOOKUP($D:$D,'PPM 2019'!$F:$R,MATCH(Actual!Q$1,'PPM 2019'!$F$1:$R$1,0),0),0) -> 0 | S41: =SUM(OFFSET(F41,,,,$U$1)) -> 2
B42: Total 1ITGF | F42: =SUM(F37:F41) -> 5 | G42: =SUM(G37:G41) -> 5 | H42: =SUM(H37:H41) -> 0 | I42: =SUM(I37:I41) -> 0 | J42: =SUM(J37:J41) -> 0 | K42: =SUM(K37:K41) -> 0 | L42: =SUM(L37:L41) -> 0 | M42: =SUM(M37:M41) -> 0 | ... Q42: =SUM(Q37:Q41) -> 0 | S42: =SUM(S37:S41) -> 10
A43: IT Corporate | B43: 1ITRUN | C43: Boubekeur Yamina | D43: =C:C&B:B -> Boubekeur Yamina1ITRUN | F43: =IFERROR(VLOOKUP($D:$D,'PPM 2019'!$F:$R,MATCH(Actual!F$1,'PPM 2019'!$F$1:$R$1,0),0),0) -> 1 | G43: =IFERROR(VLOOKUP($D:$D,'PPM 2019'!$F:$R,MATCH(Actual!G$1,'PPM 2019'!$F$1:$R$1,0),0),0) -> 0 | H43: =IFERROR(VLOOKUP($D:$D,'PPM 2019'!$F:$R,MATCH(Actual!H$1,'PPM 2019'!$F$1:$R$1,0),0),0) -> 0 | I43: =IFERROR(VLOOKUP($D:$D,'PPM 2019'!$F:$R,MATCH(Actual!I$1,'PPM 2019'!$F$1:$R$1,0),0),0) -> 0 | J43: =IFERROR(VLOOKUP($D:$D,'PPM 2019'!$F:$R,MATCH(Actual!J$1,'PPM 2019'!$F$1:$R$1,0),0),0) -> 0 | K43: =IFERROR(VLOOKUP($D:$D,'PPM 2019'!$F:$R,MATCH(Actual!K$1,'PPM 2019'!$F$1:$R$1,0),0),0) -> 0 | L43: =IFERROR(VLOOKUP($D:$D,'PPM 2019'!$F:$R,MATCH(Actual!L$1,'PPM 2019'!$F$1:$R$1,0),0),0) -> 0 | M43: =IFERROR(VLOOKUP($D:$D,'PPM 2019'!$F:$R,MATCH(Actual!M$1,'PPM 2019'!$F$1:$R$1,0),0),0) -> 0 | ... Q43: =IFERROR(VLOOKUP($D:$D,'PPM 2019'!$F:$R,MATCH(Actual!Q$1,'PPM 2019'!$F$1:$R$1,0),0),0) -> 0 | S43: =SUM(OFFSET(F43,,,,$U$1)) -> 1
A44: IT Corporate | B44: 1ITRUN | C44: Dupraz Simon | D44: =C:C&B:B -> Dupraz Simon1ITRUN | F44: =IFERROR(VLOOKUP($D:$D,'PPM 2019'!$F:$R,MATCH(Actual!F$1,'PPM 2019'!$F$1:$R$1,0),0),0) -> 1 | G44: =IFERROR(VLOOKUP($D:$D,'PPM 2019'!$F:$R,MATCH(Actual!G$1,'PPM 2019'!$F$1:$R$1,0),0),0) -> 1 | H44: =IFERROR(VLOOKUP($D:$D,'PPM 2019'!$F:$R,MATCH(Actual!H$1,'PPM 2019'!$F$1:$R$1,0),0),0) -> 0 | I44: =IFERROR(VLOOKUP($D:$D,'PPM 2019'!$F:$R,MATCH(Actual!I$1,'PPM 2019'!$F$1:$R$1,0),0),0) -> 0 | J44: =IFERROR(VLOOKUP($D:$D,'PPM 2019'!$F:$R,MATCH(Actual!J$1,'PPM 2019'!$F$1:$R$1,0),0),0) -> 0 | K44: =IFERROR(VLOOKUP($D:$D,'PPM 2019'!$F:$R,MATCH(Actual!K$1,'PPM 2019'!$F$1:$R$1,0),0),0) -> 0 | L44: =IFERROR(VLOOKUP($D:$D,'PPM 2019'!$F:$R,MATCH(Actual!L$1,'PPM 2019'!$F$1:$R$1,0),0),0) -> 0 | M44: =IFERROR(VLOOKUP($D:$D,'PPM 2019'!$F:$R,MATCH(Actual!M$1,'PPM 2019'!$F$1:$R$1,0),0),0) -> 0 | ... Q44: =IFERROR(VLOOKUP($D:$D,'PPM 2019'!$F:$R,MATCH(Actual!Q$1,'PPM 2019'!$F$1:$R$1,0),0),0) -> 0 | S44: =SUM(OFFSET(F44,,,,$U$1)) -> 2
A45: IT Corporate | B45: 1ITRUN | C45: Ferkatadji Julien | D45: =C:C&B:B -> Ferkatadji Julien1ITRUN | F45: =IFERROR(VLOOKUP($D:$D,'PPM 2019'!$F:$R,MATCH(Actual!F$1,'PPM 2019'!$F$1:$R$1,0),0),0) -> 1 | G45: =IFERROR(VLOOKUP($D:$D,'PPM 2019'!$F:$R,MATCH(Actual!G$1,'PPM 2019'!$F$1:$R$1,0),0),0) -> 1 | H45: =IFERROR(VLOOKUP($D:$D,'PPM 2019'!$F:$R,MATCH(Actual!H$1,'PPM 2019'!$F$1:$R$1,0),0),0) -> 0 | I45: =IFERROR(VLOOKUP($D:$D,'PPM 2019'!$F:$R,MATCH(Actual!I$1,'PPM 2019'!$F$1:$R$1,0),0),0) -> 0 | J45: =IFERROR(VLOOKUP($D:$D,'PPM 2019'!$F:$R,MATCH(Actual!J$1,'PPM 2019'!$F$1:$R$1,0),0),0) -> 0 | K45: =IFERROR(VLOOKUP($D:$D,'PPM 2019'!$F:$R,MATCH(Actual!K$1,'PPM 2019'!$F$1:$R$1,0),0),0) -> 0 | L45: =IFERROR(VLOOKUP($D:$D,'PPM 2019'!$F:$R,MATCH(Actual!L$1,'PPM 2019'!$F$1:$R$1,0),0),0) -> 0 | M45: =IFERROR(VLOOKUP($D:$D,'PPM 2019'!$F:$R,MATCH(Actual!M$1,'PPM 2019'!$F$1:$R$1,0),0),0) -> 0 | ... Q45: =IFERROR(VLOOKUP($D:$D,'PPM 2019'!$F:$R,MATCH(Actual!Q$1,'PPM 2019'!$F$1:$R$1,0),0),0) -> 0 | S45: =SUM(OFFSET(F45,,,,$U$1)) -> 2
A46: IT Corporate | B46: 1ITRUN | C46: Feuillet Adrien | D46: =C:C&B:B -> Feuillet Adrien1ITRUN | F46: =IFERROR(VLOOKUP($D:$D,'PPM 2019'!$F:$R,MATCH(Actual!F$1,'PPM 2019'!$F$1:$R$1,0),0),0) -> 1 | G46: =IFERROR(VLOOKUP($D:$D,'PPM 2019'!$F:$R,MATCH(Actual!G$1,'PPM 2019'!$F$1:$R$1,0),0),0) -> 0 | H46: =IFERROR(VLOOKUP($D:$D,'PPM 2019'!$F:$R,MATCH(Actual!H$1,'PPM 2019'!$F$1:$R$1,0),0),0) -> 0 | I46: =IFERROR(VLOOKUP($D:$D,'PPM 2019'!$F:$R,MATCH(Actual!I$1,'PPM 2019'!$F$1:$R$1,0),0),0) -> 0 | J46: =IFERROR(VLOOKUP($D:$D,'PPM 2019'!$F:$R,MATCH(Actual!J$1,'PPM 2019'!$F$1:$R$1,0),0),0) -> 0 | K46: =IFERROR(VLOOKUP($D:$D,'PPM 2019'!$F:$R,MATCH(Actual!K$1,'PPM 2019'!$F$1:$R$1,0),0),0) -> 0 | L46: =IFERROR(VLOOKUP($D:$D,'PPM 2019'!$F:$R,MATCH(Actual!L$1,'PPM 2019'!$F$1:$R$1,0),0),0) -> 0 | M46: =IFERROR(VLOOKUP($D:$D,'PPM 2019'!$F:$R,MATCH(Actual!M$1,'PPM 2019'!$F$1:$R$1,0),0),0) -> 0 | ... Q46: =IFERROR(VLOOKUP($D:$D,'PPM 2019'!$F:$R,MATCH(Actual!Q$1,'PPM 2019'!$F$1:$R$1,0),0),0) -> 0 | S46: =SUM(OFFSET(F46,,,,$U$1)) -> 1
A47: IT Corporate | B47: 1ITRUN | C47: Golubovic Boris | D47: =C:C&B:B -> Golubovic Boris1ITRUN | F47: =IFERROR(VLOOKUP($D:$D,'PPM 2019'!$F:$R,MATCH(Actual!F$1,'PPM 2019'!$F$1:$R$1,0),0),0) -> 1 | G47: =IFERROR(VLOOKUP($D:$D,'PPM 2019'!$F:$R,MATCH(Actual!G$1,'PPM 2019'!$F$1:$R$1,0),0),0) -> 0 | H47: =IFERROR(VLOOKUP($D:$D,'PPM 2019'!$F:$R,MATCH(Actual!H$1,'PPM 2019'!$F$1:$R$1,0),0),0) -> 0 | I47: =IFERROR(VLOOKUP($D:$D,'PPM 2019'!$F:$R,MATCH(Actual!I$1,'PPM 2019'!$F$1:$R$1,0),0),0) -> 0 | J47: =IFERROR(VLOOKUP($D:$D,'PPM 2019'!$F:$R,MATCH(Actual!J$1,'PPM 2019'!$F$1:$R$1,0),0),0) -> 0 | K47: =IFERROR(VLOOKUP($D:$D,'PPM 2019'!$F:$R,MATCH(Actual!K$1,'PPM 2019'!$F$1:$R$1,0),0),0) -> 0 | L47: =IFERROR(VLOOKUP($D:$D,'PPM 2019'!$F:$R,MATCH(Actual!L$1,'PPM 2019'!$F$1:$R$1,0),0),0) -> 0 | M47: =IFERROR(VLOOKUP($D:$D,'PPM 2019'!$F:$R,MATCH(Actual!M$1,'PPM 2019'!$F$1:$R$1,0),0),0) -> 0 | ... Q47: =IFERROR(VLOOKUP($D:$D,'PPM 2019'!$F:$R,MATCH(Actual!Q$1,'PPM 2019'!$F$1:$R$1,0),0),0) -> 0 | S47: =SUM(OFFSET(F47,,,,$U$1)) -> 1
A48: IT Corporate | B48: 1ITRUN | C48: Goncalves Joa | D48: =C:C&B:B -> Goncalves Joa1ITRUN | F48: =IFERROR(VLOOKUP($D:$D,'PPM 2019'!$F:$R,MATCH(Actual!F$1,'PPM 2019'!$F$1:$R$1,0),0),0) -> 1 | G48: =IFERROR(VLOOKUP($D:$D,'PPM 2019'!$F:$R,MATCH(Actual!G$1,'PPM 2019'!$F$1:$R$1,0),0),0) -> 1 | H48: =IFERROR(VLOOKUP($D:$D,'PPM 2019'!$F:$R,MATCH(Actual!H$1,'PPM 2019'!$F$1:$R$1,0),0),0) -> 0 | I48: =IFERROR(VLOOKUP($D:$D,'PPM 2019'!$F:$R,MATCH(Actual!I$1,'PPM 2019'!$F$1:$R$1,0),0),0) -> 0 | J48: =IFERROR(VLOOKUP($D:$D,'PPM 2019'!$F:$R,MATCH(Actual!J$1,'PPM 2019'!$F$1:$R$1,0),0),0) -> 0 | K48: =IFERROR(VLOOKUP($D:$D,'PPM 2019'!$F:$R,MATCH(Actual!K$1,'PPM 2019'!$F$1:$R$1,0),0),0) -> 0 | L48: =IFERROR(VLOOKUP($D:$D,'PPM 2019'!$F:$R,MATCH(Actual!L$1,'PPM 2019'!$F$1:$R$1,0),0),0) -> 0 | M48: =IFERROR(VLOOKUP($D:$D,'PPM 2019'!$F:$R,MATCH(Actual!M$1,'PPM 2019'!$F$1:$R$1,0),0),0) -> 0 | ... Q48: =IFERROR(VLOOKUP($D:$D,'PPM 2019'!$F:$R,MATCH(Actual!Q$1,'PPM 2019'!$F$1:$R$1,0),0),0) -> 0 | S48: =SUM(OFFSET(F48,,,,$U$1)) -> 2
A49: IT Corporate | B49: 1ITRUN | C49: Hemmavanh Jennifer | D49: =C:C&B:B -> Hemmavanh Jennifer1ITRUN | F49: =IFERROR(VLOOKUP($D:$D,'PPM 2019'!$F:$R,MATCH(Actual!F$1,'PPM 2019'!$F$1:$R$1,0),0),0) -> 1 | G49: =IFERROR(VLOOKUP($D:$D,'PPM 2019'!$F:$R,MATCH(Actual!G$1,'PPM 2019'!$F$1:$R$1,0),0),0) -> 1 | H49: =IFERROR(VLOOKUP($D:$D,'PPM 2019'!$F:$R,MATCH(Actual!H$1,'PPM 2019'!$F$1:$R$1,0),0),0) -> 0 | I49: =IFERROR(VLOOKUP($D:$D,'PPM 2019'!$F:$R,MATCH(Actual!I$1,'PPM 2019'!$F$1:$R$1,0),0),0) -> 0 | J49: =IFERROR(VLOOKUP($D:$D,'PPM 2019'!$F:$R,MATCH(Actual!J$1,'PPM 2019'!$F$1:$R$1,0),0),0) -> 0 | K49: =IFERROR(VLOOKUP($D:$D,'PPM 2019'!$F:$R,MATCH(Actual!K$1,'PPM 2019'!$F$1:$R$1,0),0),0) -> 0 | L49: =IFERROR(VLOOKUP($D:$D,'PPM 2019'!$F:$R,MATCH(Actual!L$1,'PPM 2019'!$F$1:$R$1,0),0),0) -> 0 | M49: =IFERROR(VLOOKUP($D:$D,'PPM 2019'!$F:$R,MATCH(Actual!M$1,'PPM 2019'!$F$1:$R$1,0),0),0) -> 0 | ... Q49: =IFERROR(VLOOKUP($D:$D,'PPM 2019'!$F:$R,MATCH(Actual!Q$1,'PPM 2019'!$F$1:$R$1,0),0),0) -> 0 | S49: =SUM(OFFSET(F49,,,,$U$1)) -> 2
A50: IT Corporate | B50: 1ITRUN | C50: Jaa Ayoub | D50: =C:C&B:B -> Jaa Ayoub1ITRUN | F50: =IFERROR(VLOOKUP($D:$D,'PPM 2019'!$F:$R,MATCH(Actual!F$1,'PPM 2019'!$F$1:$R$1,0),0),0) -> 1 | G50: =IFERROR(VLOOKUP($D:$D,'PPM 2019'!$F:$R,MATCH(Actual!G$1,'PPM 2019'!$F$1:$R$1,0),0),0) -> 1 | H50: =IFERROR(VLOOKUP($D:$D,'PPM 2019'!$F:$R,MATCH(Actual!H$1,'PPM 2019'!$F$1:$R$1,0),0),0) -> 0 | I50: =IFERROR(VLOOKUP($D:$D,'PPM 2019'!$F:$R,MATCH(Actual!I$1,'PPM 2019'!$F$1:$R$1,0),0),0) -> 0 | J50: =IFERROR(VLOOKUP($D:$D,'PPM 2019'!$F:$R,MATCH(Actual!J$1,'PPM 2019'!$F$1:$R$1,0),0),0) -> 0 | K50: =IFERROR(VLOOKUP($D:$D,'PPM 2019'!$F:$R,MATCH(Actual!K$1,'PPM 2019'!$F$1:$R$1,0),0),0) -> 0 | L50: =IFERROR(VLOOKUP($D:$D,'PPM 2019'!$F:$R,MATCH(Actual!L$1,'PPM 2019'!$F$1:$R$1,0),0),0) -> 0 | M50: =IFERROR(VLOOKUP($D:$D,'PPM 2019'!$F:$R,MATCH(Actual!M$1,'PPM 2019'!$F$1:$R$1,0),0),0) -> 0 | ... Q50: =IFERROR(VLOOKUP($D:$D,'PPM 2019'!$F:$R,MATCH(Actual!Q$1,'PPM 2019'!$F$1:$R$1,0),0),0) -> 0 | S50: =SUM(OFFSET(F50,,,,$U$1)) -> 2
A51: IT Corporate | B51: 1ITRUN | C51: Laimene Amine | D51: =C:C&B:B -> Laimene Amine1ITRUN | F51: =IFERROR(VLOOKUP($D:$D,'PPM 2019'!$F:$R,MATCH(Actual!F$1,'PPM 2019'!$F$1:$R$1,0),0),0) -> 1 | G51: =IFERROR(VLOOKUP($D:$D,'PPM 2019'!$F:$R,MATCH(Actual!G$1,'PPM 2019'!$F$1:$R$1,0),0),0) -> 1 | H51: =IFERROR(VLOOKUP($D:$D,'PPM 2019'!$F:$R,MATCH(Actual!H$1,'PPM 2019'!$F$1:$R$1,0),0),0) -> 0 | I51: =IFERROR(VLOOKUP($D:$D,'PPM 2019'!$F:$R,MATCH(Actual!I$1,'PPM 2019'!$F$1:$R$1,0),0),0) -> 0 | J51: =IFERROR(VLOOKUP($D:$D,'PPM 2019'!$F:$R,MATCH(Actual!J$1,'PPM 2019'!$F$1:$R$1,0),0),0) -> 0 | K51: =IFERROR(VLOOKUP($D:$D,'PPM 2019'!$F:$R,MATCH(Actual!K$1,'PPM 2019'!$F$1:$R$1,0),0),0) -> 0 | L51: =IFERROR(VLOOKUP($D:$D,'PPM 2019'!$F:$R,MATCH(Actual!L$1,'PPM 2019'!$F$1:$R$1,0),0),0) -> 0 | M51: =IFERROR(VLOOKUP($D:$D,'PPM 2019'!$F:$R,MATCH(Actual!M$1,'PPM 2019'!$F$1:$R$1,0),0),0) -> 0 | ... Q51: =IFERROR(VLOOKUP($D:$D,'PPM 2019'!$F:$R,MATCH(Actual!Q$1,'PPM 2019'!$F$1:$R$1,0),0),0) -> 0 | S51: =SUM(OFFSET(F51,,,,$U$1)) -> 2
A52: IT Corporate | B52: 1ITRUN | C52: Outalaaynt Fatima | D52: =C:C&B:B -> Outalaaynt Fatima1ITRUN | F52: =IFERROR(VLOOKUP($D:$D,'PPM 2019'!$F:$R,MATCH(Actual!F$1,'PPM 2019'!$F$1:$R$1,0),0),0) -> 1 | G52: =IFERROR(VLOOKUP($D:$D,'PPM 2019'!$F:$R,MATCH(Actual!G$1,'PPM 2019'!$F$1:$R$1,0),0),0) -> 1 | H52: =IFERROR(VLOOKUP($D:$D,'PPM 2019'!$F:$R,MATCH(Actual!H$1,'PPM 2019'!$F$1:$R$1,0),0),0) -> 0 | I52: =IFERROR(VLOOKUP($D:$D,'PPM 2019'!$F:$R,MATCH(Actual!I$1,'PPM 2019'!$F$1:$R$1,0),0),0) -> 0 | J52: =IFERROR(VLOOKUP($D:$D,'PPM 2019'!$F:$R,MATCH(Actual!J$1,'PPM 2019'!$F$1:$R$1,0),0),0) -> 0 | K52: =IFERROR(VLOOKUP($D:$D,'PPM 2019'!$F:$R,MATCH(Actual!K$1,'PPM 2019'!$F$1:$R$1,0),0),0) -> 0 | L52: =IFERROR(VLOOKUP($D:$D,'PPM 2019'!$F:$R,MATCH(Actual!L$1,'PPM 2019'!$F$1:$R$1,0),0),0) -> 0 | M52: =IFERROR(VLOOKUP($D:$D,'PPM 2019'!$F:$R,MATCH(Actual!M$1,'PPM 2019'!$F$1:$R$1,0),0),0) -> 0 | ... Q52: =IFERROR(VLOOKUP($D:$D,'PPM 2019'!$F:$R,MATCH(Actual!Q$1,'PPM 2019'!$F$1:$R$1,0),0),0) -> 0 | S52: =SUM(OFFSET(F52,,,,$U$1)) -> 2
A53: IT Corporate | B53: 1ITRUN | C53: DAKHLAOUI Ahmed Amine | D53: =C:C&B:B -> DAKHLAOUI Ahmed Amine 1ITRUN | F53: =IFERROR(VLOOKUP($D:$D,'PPM 2019'!$F:$R,MATCH(Actual!F$1,'PPM 2019'!$F$1:$R$1,0),0),0) -> 0 | G53: =IFERROR(VLOOKUP($D:$D,'PPM 2019'!$F:$R,MATCH(Actual!G$1,'PPM 2019'!$F$1:$R$1,0),0),0) -> 0 | H53: =IFERROR(VLOOKUP($D:$D,'PPM 2019'!$F:$R,MATCH(Actual!H$1,'PPM 2019'!$F$1:$R$1,0),0),0) -> 0 | I53: =IFERROR(VLOOKUP($D:$D,'PPM 2019'!$F:$R,MATCH(Actual!I$1,'PPM 2019'!$F$1:$R$1,0),0),0) -> 0 | J53: =IFERROR(VLOOKUP($D:$D,'PPM 2019'!$F:$R,MATCH(Actual!J$1,'PPM 2019'!$F$1:$R$1,0),0),0) -> 0 | K53: =IFERROR(VLOOKUP($D:$D,'PPM 2019'!$F:$R,MATCH(Actual!K$1,'PPM 2019'!$F$1:$R$1,0),0),0) -> 0 | L53: =IFERROR(VLOOKUP($D:$D,'PPM 2019'!$F:$R,MATCH(Actual!L$1,'PPM 2019'!$F$1:$R$1,0),0),0) -> 0 | M53: =IFERROR(VLOOKUP($D:$D,'PPM 2019'!$F:$R,MATCH(Actual!M$1,'PPM 2019'!$F$1:$R$1,0),0),0) -> 0 | ... Q53: =IFERROR(VLOOKUP($D:$D,'PPM 2019'!$F:$R,MATCH(Actual!Q$1,'PPM 2019'!$F$1:$R$1,0),0),0) -> 0 | S53: =SUM(OFFSET(F53,,,,$U$1)) -> 0
A54: IT Corporate | B54: 1ITRUN | C54: Reperant Amelie | D54: =C:C&B:B -> Reperant Amelie1ITRUN | F54: =IFERROR(VLOOKUP($D:$D,'PPM 2019'!$F:$R,MATCH(Actual!F$1,'PPM 2019'!$F$1:$R$1,0),0),0) -> 1 | G54: =IFERROR(VLOOKUP($D:$D,'PPM 2019'!$F:$R,MATCH(Actual!G$1,'PPM 2019'!$F$1:$R$1,0),0),0) -> 1 | H54: =IFERROR(VLOOKUP($D:$D,'PPM 2019'!$F:$R,MATCH(Actual!H$1,'PPM 2019'!$F$1:$R$1,0),0),0) -> 0 | I54: =IFERROR(VLOOKUP($D:$D,'PPM 2019'!$F:$R,MATCH(Actual!I$1,'PPM 2019'!$F$1:$R$1,0),0),0) -> 0 | J54: =IFERROR(VLOOKUP($D:$D,'PPM 2019'!$F:$R,MATCH(Actual!J$1,'PPM 2019'!$F$1:$R$1,0),0),0) -> 0 | K54: =IFERROR(VLOOKUP($D:$D,'PPM 2019'!$F:$R,MATCH(Actual!K$1,'PPM 2019'!$F$1:$R$1,0),0),0) -> 0 | L54: =IFERROR(VLOOKUP($D:$D,'PPM 2019'!$F:$R,MATCH(Actual!L$1,'PPM 2019'!$F$1:$R$1,0),0),0) -> 0 | M54: =IFERROR(VLOOKUP($D:$D,'PPM 2019'!$F:$R,MATCH(Actual!M$1,'PPM 2019'!$F$1:$R$1,0),0),0) -> 0 | ... Q54: =IFERROR(VLOOKUP($D:$D,'PPM 2019'!$F:$R,MATCH(Actual!Q$1,'PPM 2019'!$F$1:$R$1,0),0),0) -> 0 | S54: =SUM(OFFSET(F54,,,,$U$1)) -> 2
B55: Total 1ITRUN | F55: =SUM(F43:F54) -> 11 | G55: =SUM(G43:G54) -> 8 | H55: =SUM(H43:H54) -> 0 | I55: =SUM(I43:I54) -> 0 | J55: =SUM(J43:J54) -> 0 | K55: =SUM(K43:K54) -> 0 | L55: =SUM(L43:L54) -> 0 | M55: =SUM(M43:M54) -> 0 | ... Q55: =SUM(Q43:Q54) -> 0 | S55: =SUM(S43:S54) -> 19
A56: CIO Office | B56: 1DIROP | C56: Majdandzic Emile | D56: =C:C&B:B -> Majdandzic Emile1DIROP | F56: =IFERROR(VLOOKUP($D:$D,'PPM 2019'!$F:$R,MATCH(Actual!F$1,'PPM 2019'!$F$1:$R$1,0),0),0) -> 1 | G56: =IFERROR(VLOOKUP($D:$D,'PPM 2019'!$F:$R,MATCH(Actual!G$1,'PPM 2019'!$F$1:$R$1,0),0),0) -> 1 | H56: =IFERROR(VLOOKUP($D:$D,'PPM 2019'!$F:$R,MATCH(Actual!H$1,'PPM 2019'!$F$1:$R$1,0),0),0) -> 0 | I56: =IFERROR(VLOOKUP($D:$D,'PPM 2019'!$F:$R,MATCH(Actual!I$1,'PPM 2019'!$F$1:$R$1,0),0),0) -> 0 | J56: =IFERROR(VLOOKUP($D:$D,'PPM 2019'!$F:$R,MATCH(Actual!J$1,'PPM 2019'!$F$1:$R$1,0),0),0) -> 0 | K56: =IFERROR(VLOOKUP($D:$D,'PPM 2019'!$F:$R,MATCH(Actual!K$1,'PPM 2019'!$F$1:$R$1,0),0),0) -> 0 | L56: =IFERROR(VLOOKUP($D:$D,'PPM 2019'!$F:$R,MATCH(Actual!L$1,'PPM 2019'!$F$1:$R$1,0),0),0) -> 0 | M56: =IFERROR(VLOOKUP($D:$D,'PPM 2019'!$F:$R,MATCH(Actual!M$1,'PPM 2019'!$F$1:$R$1,0),0),0) -> 0 | ... Q56: =IFERROR(VLOOKUP($D:$D,'PPM 2019'!$F:$R,MATCH(Actual!Q$1,'PPM 2019'!$F$1:$R$1,0),0),0) -> 0 | S56: =SUM(OFFSET(F56,,,,$U$1)) -> 2
A57: CIO Office | B57: 1DIROP | C57: Zumer Yves | D57: =C:C&B:B -> Zumer Yves1DIROP | F57: =IFERROR(VLOOKUP($D:$D,'PPM 2019'!$F:$R,MATCH(Actual!F$1,'PPM 2019'!$F$1:$R$1,0),0),0) -> 1 | G57: =IFERROR(VLOOKUP($D:$D,'PPM 2019'!$F:$R,MATCH(Actual!G$1,'PPM 2019'!$F$1:$R$1,0),0),0) -> 1 | H57: =IFERROR(VLOOKUP($D:$D,'PPM 2019'!$F:$R,MATCH(Actual!H$1,'PPM 2019'!$F$1:$R$1,0),0),0) -> 0 | I57: =IFERROR(VLOOKUP($D:$D,'PPM 2019'!$F:$R,MATCH(Actual!I$1,'PPM 2019'!$F$1:$R$1,0),0),0) -> 0 | J57: =IFERROR(VLOOKUP($D:$D,'PPM 2019'!$F:$R,MATCH(Actual!J$1,'PPM 2019'!$F$1:$R$1,0),0),0) -> 0 | K57: =IFERROR(VLOOKUP($D:$D,'PPM 2019'!$F:$R,MATCH(Actual!K$1,'PPM 2019'!$F$1:$R$1,0),0),0) -> 0 | L57: =IFERROR(VLOOKUP($D:$D,'PPM 2019'!$F:$R,MATCH(Actual!L$1,'PPM 2019'!$F$1:$R$1,0),0),0) -> 0 | M57: =IFERROR(VLOOKUP($D:$D,'PPM 2019'!$F:$R,MATCH(Actual!M$1,'PPM 2019'!$F$1:$R$1,0),0),0) -> 0 | ... Q57: =IFERROR(VLOOKUP($D:$D,'PPM 2019'!$F:$R,MATCH(Actual!Q$1,'PPM 2019'!$F$1:$R$1,0),0),0) -> 0 | S57: =SUM(OFFSET(F57,,,,$U$1)) -> 2
A58: CIO Office | B58: 1DIROP | C58: Vicente Jorge | D58: =C:C&B:B -> Vicente Jorge1DIROP | F58: =IFERROR(VLOOKUP($D:$D,'PPM 2019'!$F:$R,MATCH(Actual!F$1,'PPM 2019'!$F$1:$R$1,0),0),0) -> 1 | G58: =IFERROR(VLOOKUP($D:$D,'PPM 2019'!$F:$R,MATCH(Actual!G$1,'PPM 2019'!$F$1:$R$1,0),0),0) -> 0 | H58: =IFERROR(VLOOKUP($D:$D,'PPM 2019'!$F:$R,MATCH(Actual!H$1,'PPM 2019'!$F$1:$R$1,0),0),0) -> 0 | I58: =IFERROR(VLOOKUP($D:$D,'PPM 2019'!$F:$R,MATCH(Actual!I$1,'PPM 2019'!$F$1:$R$1,0),0),0) -> 0 | J58: =IFERROR(VLOOKUP($D:$D,'PPM 2019'!$F:$R,MATCH(Actual!J$1,'PPM 2019'!$F$1:$R$1,0),0),0) -> 0 | K58: =IFERROR(VLOOKUP($D:$D,'PPM 2019'!$F:$R,MATCH(Actual!K$1,'PPM 2019'!$F$1:$R$1,0),0),0) -> 0 | L58: =IFERROR(VLOOKUP($D:$D,'PPM 2019'!$F:$R,MATCH(Actual!L$1,'PPM 2019'!$F$1:$R$1,0),0),0) -> 0 | M58: =IFERROR(VLOOKUP($D:$D,'PPM 2019'!$F:$R,MATCH(Actual!M$1,'PPM 2019'!$F$1:$R$1,0),0),0) -> 0 | ... Q58: =IFERROR(VLOOKUP($D:$D,'PPM 2019'!$F:$R,MATCH(Actual!Q$1,'PPM 2019'!$F$1:$R$1,0),0),0) -> 0 | S58: =SUM(OFFSET(F58,,,,$U$1)) -> 1
B59: Total 1DIROP | F59: =SUM(F56:F58) -> 3 | G59: =SUM(G56:G58) -> 2 | H59: =SUM(H56:H58) -> 0 | I59: =SUM(I56:I58) -> 0 | J59: =SUM(J56:J58) -> 0 | K59: =SUM(K56:K58) -> 0 | L59: =SUM(L56:L58) -> 0 | M59: =SUM(M56:M58) -> 0 | ... Q59: =SUM(Q56:Q58) -> 0 | S59: =SUM(S56:S58) -> 5
B61: Total général | F61: =+F10+F24+F27+F36+F42+F55+F59 -> 41 | G61: =+G10+G24+G27+G36+G42+G55+G59 -> 41 | H61: =+H10+H24+H27+H36+H42+H55+H59 -> 0 | I61: =+I10+I24+I27+I36+I42+I55+I59 -> 0 | J61: =+J10+J24+J27+J36+J42+J55+J59 -> 0 | K61: =+K10+K24+K27+K36+K42+K55+K59 -> 0 | L61: =+L10+L24+L27+L36+L42+L55+L59 -> 0 | M61: =+M10+M24+M27+M36+M42+M55+M59 -> 0 | ... Q61: =+Q10+Q24+Q27+Q36+Q42+Q55+Q59 -> 0 | S61: =+S10+S24+S27+S36+S42+S55+S59 -> 82

Sheet Budget
A1: Entité | B1: Cost Center | C1: Nom | D1: Critère | F1: 43466 | G1: 43497 | H1: 43525 | I1: 43556 | J1: 43586 | K1: 43617 | L1: 43647 | M1: 43678 | N1: 43709 | O1: 43739 | P1: 43770 | Q1: 43800 | S1: YTD | U1: =+Synthèse!AV1 -> 2
A2: IT Corporate | B2: 1BI | C2: Barkati Radhouan | D2: =C:C&B:B -> Barkati Radhouan1BI | F2: 1 | G2: 1 | H2: 1 | I2: 1 | J2: 1 | K2: 1 | L2: 1 | M2: 1 | N2: 1 | O2: 1 | P2: 1 | Q2: 1 | S2: =SUM(OFFSET(F2,,,,$U$1)) -> 2
A3: IT Corporate | B3: 1BI | C3: Berkoune Islem | D3: =C:C&B:B -> Berkoune Islem1BI | F3: 0.28571429 | G3: 0.28571429 | H3: 0.28571429 | I3: 0.28571429 | J3: 0.28571429 | K3: 0.28571429 | L3: 0.28571429 | M3: 0.28571429 | N3: 0.28571429 | O3: 0.28571429 | P3: 0.28571429 | Q3: 0.28571429 | S3: =SUM(OFFSET(F3,,,,$U$1)) -> 0.57142857
A4: IT Corporate | B4: 1BI | C4: Claveau Benjamin | D4: =C:C&B:B -> Claveau Benjamin1BI | F4: 1 | G4: 1 | H4: 1 | I4: 1 | J4: 1 | K4: 1 | L4: 1 | M4: 1 | N4: 1 | O4: 1 | P4: 1 | Q4: 1 | S4: =SUM(OFFSET(F4,,,,$U$1)) -> 2
A5: IT Corporate | B5: 1BI | C5: Houe Fabien | D5: =C:C&B:B -> Houe Fabien1BI | F5: 0 | G5: 0 | H5: 0 | I5: 0 | J5: 0 | K5: 0 | L5: 0 | M5: 0 | N5: 0 | O5: 0 | P5: 0 | Q5: 0 | S5: =SUM(OFFSET(F5,,,,$U$1)) -> 0
A6: IT Corporate | B6: 1BI | C6: Maurice Jean-marc | D6: =C:C&B:B -> Maurice Jean-marc1BI | F6: 0.71428571 | G6: 0.71428571 | H6: 0.71428571 | I6: 0.71428571 | J6: 0.71428571 | K6: 0.71428571 | L6: 0.71428571 | M6: 0.71428571 | N6: 0.71428571 | O6: 0.71428571 | P6: 0.71428571 | Q6: 0.71428571 | S6: =SUM(OFFSET(F6,,,,$U$1)) -> 1.4285714
A7: IT Corporate | B7: 1BI | C7: Mouillon Pascale | D7: =C:C&B:B -> Mouillon Pascale1BI | F7: 1 | G7: 1 | H7: 1 | I7: 1 | J7: 1 | K7: 1 | L7: 1 | M7: 1 | N7: 1 | O7: 1 | P7: 1 | Q7: 1 | S7: =SUM(OFFSET(F7,,,,$U$1)) -> 2
A8: IT Corporate | B8: 1BI | C8: Mouzdahir Rachid | D8: =C:C&B:B -> Mouzdahir Rachid1BI | F8: 1 | G8: 1 | H8: 1 | I8: 1 | J8: 1 | K8: 1 | L8: 1 | M8: 1 | N8: 1 | O8: 1 | P8: 1 | Q8: 1 | S8: =SUM(OFFSET(F8,,,,$U$1)) -> 2
A9: IT Corporate | B9: 1BI | C9: Nardin Stephane | D9: =C:C&B:B -> Nardin Stephane1BI | F9: 1 | G9: 1 | H9: 1 | I9: 1 | J9: 1 | K9: 1 | L9: 1 | M9: 1 | N9: 1 | O9: 1 | P9: 1 | Q9: 1 | S9: =SUM(OFFSET(F9,,,,$U$1)) -> 2
A10: IT Corporate | B10: 1BI | C10: Nguyen Flavien | D10: =C:C&B:B -> Nguyen Flavien1BI | F10: 1 | G10: 1 | H10: 1 | I10: 1 | J10: 1 | K10: 1 | L10: 1 | M10: 1 | N10: 1 | O10: 1 | P10: 1 | Q10: 1 | S10: =SUM(OFFSET(F10,,,,$U$1)) -> 2
A11: IT Corporate | B11: 1BI | C11: TBD | D11: =C:C&B:B -> TBD 1BI | F11: 0.82380952 | G11: 0.82380952 | H11: 0.82380952 | I11: 0.82380952 | J11: 0.82380952 | K11: 0.82380952 | L11: 0.82380952 | M11: 0.82380952 | N11: 0.82380952 | O11: 0.82380952 | P11: 0.82380952 | Q11: 0.82380952 | S11: =SUM(OFFSET(F11,,,,$U$1)) -> 1.647619
A12: IT Corporate | B12: 1BI | C12: Zaidi Abdelrahmane | D12: =C:C&B:B -> Zaidi Abdelrahmane1BI | F12: 0 | G12: 0 | H12: 0 | I12: 0 | J12: 0 | K12: 0 | L12: 0 | M12: 0 | N12: 0 | O12: 0 | P12: 0 | Q12: 0 | S12: =SUM(OFFSET(F12,,,,$U$1)) -> 0
B13: Total 1BI | F13: =SUM(F2:F12) -> 7.8238095 | G13: =SUM(G2:G12) -> 7.8238095 | H13: =SUM(H2:H12) -> 7.8238095 | I13: =SUM(I2:I12) -> 7.8238095 | J13: =SUM(J2:J12) -> 7.8238095 | K13: =SUM(K2:K12) -> 7.8238095 | L13: =SUM(L2:L12) -> 7.8238095 | M13: =SUM(M2:M12) -> 7.8238095 | ... Q13: =SUM(Q2:Q12) -> 7.8238095 | S13: =SUM(S2:S12) -> 15.647619
A14: IT Corporate | B14: 1BUS | C14: Ait Oujnid Hicham | D14: =C:C&B:B -> Ait Oujnid Hicham1BUS | F14: 0 | G14: 0 | H14: 0 | I14: 0 | J14: 0 | K14: 0 | L14: 0 | M14: 0 | N14: 0 | O14: 0 | P14: 0 | Q14: 0 | S14: =SUM(OFFSET(F14,,,,$U$1)) -> 0
A15: IT Corporate | B15: 1BUS | C15: Amador Joao | D15: =C:C&B:B -> Amador Joao1BUS | F15: 0.71428571 | G15: 0.71428571 | H15: 0.71428571 | I15: 0.71428571 | J15: 0.71428571 | K15: 0.71428571 | L15: 0.71428571 | M15: 0.71428571 | N15: 0.71428571 | O15: 0.71428571 | P15: 0.71428571 | Q15: 0.71428571 | S15: =SUM(OFFSET(F15,,,,$U$1)) -> 1.4285714
A16: IT Corporate | B16: 1BUS | C16: Barj Yousra | D16: =C:C&B:B -> Barj Yousra1BUS | F16: 0.52380952 | G16: 0.52380952 | H16: 0.52380952 | I16: 0.52380952 | J16: 0.52380952 | K16: 0.52380952 | L16: 0.52380952 | M16: 0.52380952 | N16: 0.52380952 | O16: 0.52380952 | P16: 0.52380952 | Q16: 0.52380952 | S16: =SUM(OFFSET(F16,,,,$U$1)) -> 1.047619
A17: IT Corporate | B17: 1BUS | C17: Benneouala Aziz | D17: =C:C&B:B -> Benneouala Aziz1BUS | F17: 1 | G17: 1 | H17: 1 | I17: 1 | J17: 1 | K17: 1 | L17: 1 | M17: 1 | N17: 1 | O17: 1 | P17: 1 | Q17: 1 | S17: =SUM(OFFSET(F17,,,,$U$1)) -> 2
A18: IT Corporate | B18: 1BUS | C18: Biancolin Jean-Andre | D18: =C:C&B:B -> Biancolin Jean-Andre1BUS | F18: 1.1 | G18: 1.1 | H18: 1.1 | I18: 1.1 | J18: 1.1 | K18: 1.1 | L18: 1.1 | M18: 1.1 | N18: 1.1 | O18: 1.1 | P18: 1.1 | Q18: 1.1 | S18: =SUM(OFFSET(F18,,,,$U$1)) -> 2.2
A19: IT Corporate | B19: 1BUS | C19: Carré Marie | D19: =C:C&B:B -> Carré Marie1BUS | F19: 1 | G19: 1 | H19: 1 | I19: 1 | J19: 1 | K19: 1 | L19: 1 | M19: 1 | N19: 1 | O19: 1 | P19: 1 | Q19: 1 | S19: =SUM(OFFSET(F19,,,,$U$1)) -> 2
A20: IT Corporate | B20: 1BUS | C20: Chiron Roch | D20: =C:C&B:B -> Chiron Roch1BUS | F20: 0 | G20: 0 | H20: 0 | I20: 0 | J20: 0 | K20: 0 | L20: 0 | M20: 0 | N20: 0 | O20: 0 | P20: 0 | Q20: 0 | S20: =SUM(OFFSET(F20,,,,$U$1)) -> 0
A21: IT Corporate | B21: 1BUS | C21: Desplas Stephane | D21: =C:C&B:B -> Desplas Stephane1BUS | F21: 0 | G21: 0 | H21: 0 | I21: 0 | J21: 0 | K21: 0 | L21: 0 | M21: 0 | N21: 0 | O21: 0 | P21: 0 | Q21: 0 | S21: =SUM(OFFSET(F21,,,,$U$1)) -> 0
A22: IT Corporate | B22: 1BUS | C22: Ez-Zaki Loubna | D22: =C:C&B:B -> Ez-Zaki Loubna1BUS | F22: 0 | G22: 0 | H22: 0 | I22: 0 | J22: 0 | K22: 0 | L22: 0 | M22: 0 | N22: 0 | O22: 0 | P22: 0 | Q22: 0 | S22: =SUM(OFFSET(F22,,,,$U$1)) -> 0
A23: IT Corporate | B23: 1BUS | C23: Ferrin Daniel | D23: =C:C&B:B -> Ferrin Daniel1BUS | F23: 0 | G23: 0 | H23: 0 | I23: 0 | J23: 0 | K23: 0 | L23: 0 | M23: 0 | N23: 0 | O23: 0 | P23: 0 | Q23: 0 | S23: =SUM(OFFSET(F23,,,,$U$1)) -> 0
A24: IT Corporate | B24: 1BUS | C24: Kubiak Steve | D24: =C:C&B:B -> Kubiak Steve1BUS | F24: 0 | G24: 0 | H24: 0 | I24: 0 | J24: 0 | K24: 0 | L24: 0 | M24: 0 | N24: 0 | O24: 0 | P24: 0 | Q24: 0 | S24: =SUM(OFFSET(F24,,,,$U$1)) -> 0
A25: IT Corporate | B25: 1BUS | C25: Mejaat Anis | D25: =C:C&B:B -> Mejaat Anis1BUS | F25: 1 | G25: 1 | H25: 1 | I25: 1 | J25: 1 | K25: 1 | L25: 1 | M25: 1 | N25: 1 | O25: 1 | P25: 1 | Q25: 1 | S25: =SUM(OFFSET(F25,,,,$U$1)) -> 2
... A36: IT Corporate | B36: 1BUS | C36: xxx | D36: =C:C&B:B -> xxx1BUS | F36: 1.8190476 | G36: 1.8190476 | H36: 1.8190476 | I36: 1.8190476 | J36: 1.8190476 | K36: 1.8190476 | L36: 1.8190476 | M36: 1.8190476 | N36: 1.8190476 | O36: 1.8190476 | P36: 1.8190476 | Q36: 1.8190476 | S36: =SUM(OFFSET(F36,,,,$U$1)) -> 3.6380952
B37: Total 1BUS | F37: =SUM(F14:F36) -> 14.333333 | G37: =SUM(G14:G36) -> 14.333333 | H37: =SUM(H14:H36) -> 14.333333 | I37: =SUM(I14:I36) -> 14.333333 | J37: =SUM(J14:J36) -> 14.333333 | K37: =SUM(K14:K36) -> 14.333333 | L37: =SUM(L14:L36) -> 14.333333 | M37: =SUM(M14:M36) -> 14.333333 | ... Q37: =SUM(Q14:Q36) -> 14.333333 | S37: =SUM(S14:S36) -> 28.666667
A38: IT Corporate | B38: 1CORP | C38: Bourguignon Jerome | D38: =C:C&B:B -> Bourguignon Jerome1CORP | F38: 0 | G38: 0 | H38: 0 | I38: 0 | J38: 0 | K38: 0 | L38: 0 | M38: 0 | N38: 0 | O38: 0 | P38: 0 | Q38: 0 | S38: =SUM(OFFSET(F38,,,,$U$1)) -> 0
A39: IT Corporate | B39: 1CORP | C39: Meneghetti Pascal | D39: =C:C&B:B -> Meneghetti Pascal1CORP | F39: 1 | G39: 1 | H39: 1 | I39: 1 | J39: 1 | K39: 1 | L39: 1 | M39: 1 | N39: 1 | O39: 1 | P39: 1 | Q39: 1 | S39: =SUM(OFFSET(F39,,,,$U$1)) -> 2
A40: IT Corporate | B40: 1CORP | C40: Oustad Adel | D40: =C:C&B:B -> Oustad Adel1CORP | F40: 0 | G40: 0 | H40: 0 | I40: 0 | J40: 0 | K40: 0 | L40: 0 | M40: 0 | N40: 0 | O40: 0 | P40: 0 | Q40: 0 | S40: =SUM(OFFSET(F40,,,,$U$1)) -> 0
A41: IT Corporate | B41: 1CORP | C41: Pyrame Raphael | D41: =C:C&B:B -> Pyrame Raphael1CORP | F41: 0 | G41: 0 | H41: 0 | I41: 0 | J41: 0 | K41: 0 | L41: 0 | M41: 0 | N41: 0 | O41: 0 | P41: 0 | Q41: 0 | S41: =SUM(OFFSET(F41,,,,$U$1)) -> 0
A42: IT Corporate | B42: 1CORP | C42: Tomasi Dyana | D42: =C:C&B:B -> Tomasi Dyana1CORP | F42: 0 | G42: 0 | H42: 0 | I42: 0 | J42: 0 | K42: 0 | L42: 0 | M42: 0 | N42: 0 | O42: 0 | P42: 0 | Q42: 0 | S42: =SUM(OFFSET(F42,,,,$U$1)) -> 0
B43: Total 1CORP | F43: =SUM(F38:F42) -> 1 | G43: =SUM(G38:G42) -> 1 | H43: =SUM(H38:H42) -> 1 | I43: =SUM(I38:I42) -> 1 | J43: =SUM(J38:J42) -> 1 | K43: =SUM(K38:K42) -> 1 | L43: =SUM(L38:L42) -> 1 | M43: =SUM(M38:M42) -> 1 | ... Q43: =SUM(Q38:Q42) -> 1 | S43: =SUM(S38:S42) -> 2
A44: IT Corporate | B44: 1ITFIN | C44: Adda Michel | D44: =C:C&B:B -> Adda Michel1ITFIN | F44: 0 | G44: 0 | H44: 0 | I44: 0 | J44: 0 | K44: 0 | L44: 0 | M44: 0 | N44: 0 | O44: 0 | P44: 0 | Q44: 0 | S44: =SUM(OFFSET(F44,,,,$U$1)) -> 0
A45: IT Corporate | B45: 1ITFIN | C45: ANAEL External Consultant | D45: =C:C&B:B -> ANAEL External Consultant1ITFIN | F45: 0.095238095 | G45: 0.095238095 | H45: 0.095238095 | I45: 0.095238095 | J45: 0.095238095 | K45: 0.095238095 | L45: 0.095238095 | M45: 0.095238095 | N45: 0.095238095 | O45: 0.095238095 | P45: 0.095238095 | Q45: 0.095238095 | S45: =SUM(OFFSET(F45,,,,$U$1)) -> 0.19047619
A46: IT Corporate | B46: 1ITFIN | C46: AX Developer | D46: =C:C&B:B -> AX Developer1ITFIN | F46: 1 | G46: 1 | H46: 1 | I46: 1 | J46: 1 | K46: 1 | L46: 1 | M46: 1 | N46: 1 | O46: 1 | P46: 1 | Q46: 1 | S46: =SUM(OFFSET(F46,,,,$U$1)) -> 2
A47: IT Corporate | B47: 1ITFIN | C47: Boujemaa Amel | D47: =C:C&B:B -> Boujemaa Amel1ITFIN | F47: 0 | G47: 0 | H47: 0 | I47: 0 | J47: 0 | K47: 0 | L47: 0 | M47: 0 | N47: 0 | O47: 0 | P47: 0 | Q47: 0 | S47: =SUM(OFFSET(F47,,,,$U$1)) -> 0
A48: IT Corporate | B48: 1ITFIN | C48: External AX Consultant | D48: =C:C&B:B -> External AX Consultant1ITFIN | F48: 0.23809524 | G48: 0.23809524 | H48: 0.23809524 | I48: 0.23809524 | J48: 0.23809524 | K48: 0.23809524 | L48: 0.23809524 | M48: 0.23809524 | N48: 0.23809524 | O48: 0.23809524 | P48: 0.23809524 | Q48: 0.23809524 | S48: =SUM(OFFSET(F48,,,,$U$1)) -> 0.47619048
A49: IT Corporate | B49: 1ITFIN | C49: Ip Cezanne | D49: =C:C&B:B -> Ip Cezanne1ITFIN | F49: 0 | G49: 0 | H49: 0 | I49: 0 | J49: 0 | K49: 0 | L49: 0 | M49: 0 | N49: 0 | O49: 0 | P49: 0 | Q49: 0 | S49: =SUM(OFFSET(F49,,,,$U$1)) -> 0
A50: IT Corporate | B50: 1ITFIN | C50: Lawson Sylvania | D50: =C:C&B:B -> Lawson Sylvania1ITFIN | F50: 0 | G50: 0 | H50: 0 | I50: 0 | J50: 0 | K50: 0 | L50: 0 | M50: 0 | N50: 0 | O50: 0 | P50: 0 | Q50: 0 | S50: =SUM(OFFSET(F50,,,,$U$1)) -> 0
A51: IT Corporate | B51: 1ITFIN | C51: Mary Nathalie | D51: =C:C&B:B -> Mary Nathalie1ITFIN | F51: 1 | G51: 1 | H51: 1 | I51: 1 | J51: 1 | K51: 1 | L51: 1 | M51: 1 | N51: 1 | O51: 1 | P51: 1 | Q51: 1 | S51: =SUM(OFFSET(F51,,,,$U$1)) -> 2
A52: IT Corporate | B52: 1ITFIN | C52: Meva Thomas | D52: =C:C&B:B -> Meva Thomas1ITFIN | F52: 0 | G52: 0 | H52: 0 | I52: 0 | J52: 0 | K52: 0 | L52: 0 | M52: 0 | N52: 0 | O52: 0 | P52: 0 | Q52: 0 | S52: =SUM(OFFSET(F52,,,,$U$1)) -> 0
A53: IT Corporate | B53: 1ITFIN | C53: Ndoumbe Christian | D53: =C:C&B:B -> Ndoumbe Christian1ITFIN | F53: 0 | G53: 0 | H53: 0 | I53: 0 | J53: 0 | K53: 0 | L53: 0 | M53: 0 | N53: 0 | O53: 0 | P53: 0 | Q53: 0 | S53: =SUM(OFFSET(F53,,,,$U$1)) -> 0
A54: IT Corporate | B54: 1ITFIN | C54: Piquot Jerome | D54: =C:C&B:B -> Piquot Jerome1ITFIN | F54: 0 | G54: 0 | H54: 0 | I54: 0 | J54: 0 | K54: 0 | L54: 0 | M54: 0 | N54: 0 | O54: 0 | P54: 0 | Q54: 0 | S54: =SUM(OFFSET(F54,,,,$U$1)) -> 0
A55: IT Corporate | B55: 1ITFIN | C55: Poirier Emilie | D55: =C:C&B:B -> Poirier Emilie1ITFIN | F55: 0 | G55: 0 | H55: 0 | I55: 0 | J55: 0 | K55: 0 | L55: 0 | M55: 0 | N55: 0 | O55: 0 | P55: 0 | Q55: 0 | S55: =SUM(OFFSET(F55,,,,$U$1)) -> 0
... A58: IT Corporate | B58: 1ITFIN | C58: xxx Samira | D58: =C:C&B:B -> xxx Samira1ITFIN | F58: 0 | G58: 0 | H58: 0 | I58: 0 | J58: 0 | K58: 0 | L58: 0 | M58: 0 | N58: 0 | O58: 0 | P58: 0 | Q58: 0 | S58: =SUM(OFFSET(F58,,,,$U$1)) -> 0
B59: Total 1ITFIN | F59: =SUM(F44:F58) -> 2.3333333 | G59: =SUM(G44:G58) -> 2.3333333 | H59: =SUM(H44:H58) -> 2.3333333 | I59: =SUM(I44:I58) -> 2.3333333 | J59: =SUM(J44:J58) -> 2.3333333 | K59: =SUM(K44:K58) -> 2.3333333 | L59: =SUM(L44:L58) -> 2.3333333 | M59: =SUM(M44:M58) -> 2.3333333 | ... Q59: =SUM(Q44:Q58) -> 2.3333333 | S59: =SUM(S44:S58) -> 4.6666667
A60: IT Corporate | B60: 1ITGF | C60: Chazelas Catherine | D60: =C:C&B:B -> Chazelas Catherine1ITGF | F60: 1 | G60: 1 | H60: 1 | I60: 1 | J60: 1 | K60: 1 | L60: 1 | M60: 1 | N60: 1 | O60: 1 | P60: 1 | Q60: 1 | S60: =SUM(OFFSET(F60,,,,$U$1)) -> 2
A61: IT Corporate | B61: 1ITGF | C61: De Burghgrave Laurent | D61: =C:C&B:B -> De Burghgrave Laurent1ITGF | F61: 1 | G61: 1 | H61: 1 | I61: 1 | J61: 1 | K61: 1 | L61: 1 | M61: 1 | N61: 1 | O61: 1 | P61: 1 | Q61: 1 | S61: =SUM(OFFSET(F61,,,,$U$1)) -> 2
A62: IT Corporate | B62: 1ITGF | C62: Draoui Ntissar | D62: =C:C&B:B -> Draoui Ntissar1ITGF | F62: 0 | G62: 0 | H62: 0 | I62: 0 | J62: 0 | K62: 0 | L62: 0 | M62: 0 | N62: 0 | O62: 0 | P62: 0 | Q62: 0 | S62: =SUM(OFFSET(F62,,,,$U$1)) -> 0
A63: IT Corporate | B63: 1ITGF | C63: Horen Guillaume | D63: =C:C&B:B -> Horen Guillaume1ITGF | F63: 0.66666667 | G63: 0.66666667 | H63: 0.66666667 | I63: 0.66666667 | J63: 0.66666667 | K63: 0.66666667 | L63: 0.66666667 | M63: 0.66666667 | N63: 0.66666667 | O63: 0.66666667 | P63: 0.66666667 | Q63: 0.66666667 | S63: =SUM(OFFSET(F63,,,,$U$1)) -> 1.3333333
A64: IT Corporate | B64: 1ITGF | C64: Hubert Guillaume | D64: =C:C&B:B -> Hubert Guillaume1ITGF | F64: 1 | G64: 1 | H64: 1 | I64: 1 | J64: 1 | K64: 1 | L64: 1 | M64: 1 | N64: 1 | O64: 1 | P64: 1 | Q64: 1 | S64: =SUM(OFFSET(F64,,,,$U$1)) -> 2
B65: Total 1ITGF | F65: =SUM(F60:F64) -> 3.6666667 | G65: =SUM(G60:G64) -> 3.6666667 | H65: =SUM(H60:H64) -> 3.6666667 | I65: =SUM(I60:I64) -> 3.6666667 | J65: =SUM(J60:J64) -> 3.6666667 | K65: =SUM(K60:K64) -> 3.6666667 | L65: =SUM(L60:L64) -> 3.6666667 | M65: =SUM(M60:M64) -> 3.6666667 | ... Q65: =SUM(Q60:Q64) -> 3.6666667 | S65: =SUM(S60:S64) -> 7.3333333
A66: IT Corporate | B66: 1ITRUN | C66: Adrien FEUILLET | D66: =C:C&B:B -> Adrien FEUILLET1ITRUN | F66: 1 | G66: 1 | H66: 1 | I66: 1 | J66: 1 | K66: 1 | L66: 1 | M66: 1 | N66: 1 | O66: 1 | P66: 1 | Q66: 1 | S66: =SUM(OFFSET(F66,,,,$U$1)) -> 2
A67: IT Corporate | B67: 1ITRUN | C67: Amelie LEFEVRE | D67: =C:C&B:B -> Amelie LEFEVRE1ITRUN | F67: 1 | G67: 1 | H67: 1 | I67: 1 | J67: 1 | K67: 1 | L67: 1 | M67: 1 | N67: 1 | O67: 1 | P67: 1 | Q67: 1 | S67: =SUM(OFFSET(F67,,,,$U$1)) -> 2
A68: IT Corporate | B68: 1ITRUN | C68: Amine LAIMENE | D68: =C:C&B:B -> Amine LAIMENE1ITRUN | F68: 1 | G68: 1 | H68: 1 | I68: 1 | J68: 1 | K68: 1 | L68: 1 | M68: 1 | N68: 1 | O68: 1 | P68: 1 | Q68: 1 | S68: =SUM(OFFSET(F68,,,,$U$1)) -> 2
A69: IT Corporate | B69: 1ITRUN | C69: Consultant Proc Tools | D69: =C:C&B:B -> Consultant Proc Tools1ITRUN | F69: 1 | G69: 1 | H69: 1 | I69: 1 | J69: 1 | K69: 1 | L69: 1 | M69: 1 | N69: 1 | O69: 1 | P69: 1 | Q69: 1 | S69: =SUM(OFFSET(F69,,,,$U$1)) -> 2
A70: IT Corporate | B70: 1ITRUN | C70: Fatima OUTALAAYNT | D70: =C:C&B:B -> Fatima OUTALAAYNT1ITRUN | F70: 1 | G70: 1 | H70: 1 | I70: 1 | J70: 1 | K70: 1 | L70: 1 | M70: 1 | N70: 1 | O70: 1 | P70: 1 | Q70: 1 | S70: =SUM(OFFSET(F70,,,,$U$1)) -> 2
A71: IT Corporate | B71: 1ITRUN | C71: Geoffrey FAURIE | D71: =C:C&B:B -> Geoffrey FAURIE1ITRUN | F71: 1 | G71: 1 | H71: 1 | I71: 1 | J71: 1 | K71: 1 | L71: 1 | M71: 1 | N71: 1 | O71: 1 | P71: 1 | Q71: 1 | S71: =SUM(OFFSET(F71,,,,$U$1)) -> 2
A72: IT Corporate | B72: 1ITRUN | C72: Joa GONCALVES | D72: =C:C&B:B -> Joa GONCALVES1ITRUN | F72: 1 | G72: 1 | H72: 1 | I72: 1 | J72: 1 | K72: 1 | L72: 1 | M72: 1 | N72: 1 | O72: 1 | P72: 1 | Q72: 1 | S72: =SUM(OFFSET(F72,,,,$U$1)) -> 2
A73: IT Corporate | B73: 1ITRUN | C73: LACOMBE | D73: =C:C&B:B -> LACOMBE1ITRUN | F73: 0 | G73: 0 | H73: 0 | I73: 0 | J73: 0 | K73: 0 | L73: 0 | M73: 0 | N73: 0 | O73: 0 | P73: 0 | Q73: 0 | S73: =SUM(OFFSET(F73,,,,$U$1)) -> 0
A74: IT Corporate | B74: 1ITRUN | C74: Maxime ESSER | D74: =C:C&B:B -> Maxime ESSER1ITRUN | F74: 1 | G74: 1 | H74: 1 | I74: 1 | J74: 1 | K74: 1 | L74: 1 | M74: 1 | N74: 1 | O74: 1 | P74: 1 | Q74: 1 | S74: =SUM(OFFSET(F74,,,,$U$1)) -> 2
A75: IT Corporate | B75: 1ITRUN | C75: MDM Support | D75: =C:C&B:B -> MDM Support1ITRUN | F75: 1 | G75: 1 | H75: 1 | I75: 1 | J75: 1 | K75: 1 | L75: 1 | M75: 1 | N75: 1 | O75: 1 | P75: 1 | Q75: 1 | S75: =SUM(OFFSET(F75,,,,$U$1)) -> 2
A76: IT Corporate | B76: 1ITRUN | C76: Valentin PACAULT MILLOT | D76: =C:C&B:B -> Valentin PACAULT MILLOT 1ITRUN | F76: 1 | G76: 1 | H76: 1 | I76: 1 | J76: 1 | K76: 1 | L76: 1 | M76: 1 | N76: 1 | O76: 1 | P76: 1 | Q76: 1 | S76: =SUM(OFFSET(F76,,,,$U$1)) -> 2
B77: Total 1ITRUN | F77: =SUM(F66:F76) -> 10 | G77: =SUM(G66:G76) -> 10 | H77: =SUM(H66:H76) -> 10 | I77: =SUM(I66:I76) -> 10 | J77: =SUM(J66:J76) -> 10 | K77: =SUM(K66:K76) -> 10 | L77: =SUM(L66:L76) -> 10 | M77: =SUM(M66:M76) -> 10 | ... Q77: =SUM(Q66:Q76) -> 10 | S77: =SUM(S66:S76) -> 20
A78: CIO Office | B78: 1DIROP | C78: Majdandzic Emile | D78: =C:C&B:B -> Majdandzic Emile1DIROP | F78: 0.23809524 | G78: 0.23809524 | H78: 0.23809524 | I78: 0.23809524 | J78: 0.23809524 | K78: 0.23809524 | L78: 0.23809524 | M78: 0.23809524 | N78: 0.23809524 | O78: 0.23809524 | P78: 0.23809524 | Q78: 0.23809524 | S78: =SUM(OFFSET(F78,,,,$U$1)) -> 0.47619048
A79: CIO Office | B79: 1DIROP | C79: Zumer Yves | D79: =C:C&B:B -> Zumer Yves1DIROP | F79: 0 | G79: 0 | H79: 0 | I79: 0 | J79: 0 | K79: 0 | L79: 0 | M79: 0 | N79: 0 | O79: 0 | P79: 0 | Q79: 0 | S79: =SUM(OFFSET(F79,,,,$U$1)) -> 0
A80: CIO Office | B80: 1DIROP | C80: Vicente Jorge | D80: =C:C&B:B -> Vicente Jorge1DIROP | F80: 0 | G80: 0 | H80: 0 | I80: 0 | J80: 0 | K80: 0 | L80: 0 | M80: 0 | N80: 0 | O80: 0 | P80: 0 | Q80: 0 | S80: =SUM(OFFSET(F80,,,,$U$1)) -> 0
B81: Total 1DIROP | F81: =SUM(F78:F80) -> 0.23809524 | G81: =SUM(G78:G80) -> 0.23809524 | H81: =SUM(H78:H80) -> 0.23809524 | I81: =SUM(I78:I80) -> 0.23809524 | J81: =SUM(J78:J80) -> 0.23809524 | K81: =SUM(K78:K80) -> 0.23809524 | L81: =SUM(L78:L80) -> 0.23809524 | M81: =SUM(M78:M80) -> 0.23809524 | ... Q81: =SUM(Q78:Q80) -> 0.23809524 | S81: =SUM(S78:S80) -> 0.47619048
B83: Total général | F83: =+F13+F37+F43+F59+F65+F77+F81 -> 39.395238 | G83: =+G13+G37+G43+G59+G65+G77+G81 -> 39.395238 | H83: =+H13+H37+H43+H59+H65+H77+H81 -> 39.395238 | I83: =+I13+I37+I43+I59+I65+I77+I81 -> 39.395238 | J83: =+J13+J37+J43+J59+J65+J77+J81 -> 39.395238 | K83: =+K13+K37+K43+K59+K65+K77+K81 -> 39.395238 | L83: =+L13+L37+L43+L59+L65+L77+L81 -> 39.395238 | M83: =+M13+M37+M43+M59+M65+M77+M81 -> 39.395238 | ... Q83: =+Q13+Q37+Q43+Q59+Q65+Q77+Q81 -> 39.395238 | S83: =+S13+S37+S43+S59+S65+S77+S81 -> 78.790476

Sheet Contrôle
A1: Étiquettes de lignes | B1: FTE 01/2018 (MTD) | C1: FTE 02/2018 (MTD) | D1: FTE 03/2018 (MTD) | E1: FTE 04/2018 (MTD) | F1: FTE 05/2018 (MTD) | G1: FTE 06/2018 (MTD) | I1: FTE 06/2018 REC (YTD) | J1: FTE 06/2018 SAM | K1: ECART | M1: FTE 07/2018 (MTD) | N1: FTE 08/2018 (MTD) | O1: ="Total 0"&S1&"/2018 (YTD)" -> Total 08/2018 (YTD) | R1: mois | S1: 8
A2: G2I | B2: =SUM(B3) -> 0 | C2: =SUM(C3) -> 0 | D2: =SUM(D3) -> 0 | E2: =SUM(E3) -> 0 | F2: =SUM(F3) -> 0 | G2: =SUM(G3) -> 0 | I2: =SUM(B2:G2)/6 -> 0 | J2: 0 | K2: =I2-J2 -> 0 | M2: =M3 -> 0 | N2: =N3 -> #REF! | O2: =O3 -> #REF!
A3: Santos Nuno | B3: =IFERROR(VLOOKUP($A:$A,'PPM 2019'!$C:$L,4,0),0) -> 0 | C3: =IFERROR(VLOOKUP($A:$A,'PPM 2019'!$C:$L,5,0),0) -> 0 | D3: =IFERROR(VLOOKUP($A:$A,'PPM 2019'!$C:$L,6,0),0) -> 0 | E3: =IFERROR(VLOOKUP($A:$A,'PPM 2019'!$C:$L,7,0),0) -> 0 | F3: =IFERROR(VLOOKUP($A:$A,'PPM 2019'!$C:$L,8,0),0) -> 0 | G3: =IFERROR(VLOOKUP($A:$A,'PPM 2019'!$C:$L,9,0),0) -> 0 | M3: =IFERROR(VLOOKUP(A:A,#REF!,16,0),0) -> 0 | N3: =VLOOKUP(A:A,#REF!,16,0) -> #REF! | O3: =(B3+C3+D3+E3+F3+G3+M3+N3)/$S$1 -> #REF!
A4: IT Corporate | B4: =SUM(B5:B65) -> 0 | C4: =SUM(C5:C65) -> 21 | D4: =SUM(D5:D65) -> 19 | E4: =SUM(E5:E65) -> 0 | F4: =SUM(F5:F65) -> 0 | G4: =SUM(G5:G65) -> 0 | I4: =SUM(B4:G4)/6 -> 6.6666667 | J4: 39.3 | K4: =I4-J4 -> -32.633333 | M4: =SUM(M5:M65) -> 0 | N4: =SUM(N5:N65) -> 0 | O4: =(B4+C4+D4+E4+F4+G4+M4+N4)/8 -> 5
A5: Adda Michel | B5: =IFERROR(VLOOKUP($A:$A,'PPM 2019'!$C:$L,4,0),0) -> 0 | C5: =IFERROR(VLOOKUP($A:$A,'PPM 2019'!$C:$L,5,0),0) -> 0 | D5: =IFERROR(VLOOKUP($A:$A,'PPM 2019'!$C:$L,6,0),0) -> 0 | E5: =IFERROR(VLOOKUP($A:$A,'PPM 2019'!$C:$L,7,0),0) -> 0 | F5: =IFERROR(VLOOKUP($A:$A,'PPM 2019'!$C:$L,8,0),0) -> 0 | G5: =IFERROR(VLOOKUP($A:$A,'PPM 2019'!$C:$L,9,0),0) -> 0 | M5: =IFERROR(VLOOKUP(A:A,#REF!,16,0),0) -> 0 | N5: =IFERROR(VLOOKUP(A:A,#REF!,16,0),0) -> 0 | O5: =(B5+C5+D5+E5+F5+G5+M5+N5)/$S$1 -> 0
A6: Ait Oujnid Hicham | B6: =IFERROR(VLOOKUP($A:$A,'PPM 2019'!$C:$L,4,0),0) -> 0 | C6: =IFERROR(VLOOKUP($A:$A,'PPM 2019'!$C:$L,5,0),0) -> 0 | D6: =IFERROR(VLOOKUP($A:$A,'PPM 2019'!$C:$L,6,0),0) -> 0 | E6: =IFERROR(VLOOKUP($A:$A,'PPM 2019'!$C:$L,7,0),0) -> 0 | F6: =IFERROR(VLOOKUP($A:$A,'PPM 2019'!$C:$L,8,0),0) -> 0 | G6: =IFERROR(VLOOKUP($A:$A,'PPM 2019'!$C:$L,9,0),0) -> 0 | M6: =IFERROR(VLOOKUP(A:A,#REF!,16,0),0) -> 0 | N6: =IFERROR(VLOOKUP(A:A,#REF!,16,0),0) -> 0 | O6: =(B6+C6+D6+E6+F6+G6+M6+N6)/$S$1 -> 0
A7: Amador Joao | B7: =IFERROR(VLOOKUP($A:$A,'PPM 2019'!$C:$L,4,0),0) -> Amador Joao1BUS | C7: =IFERROR(VLOOKUP($A:$A,'PPM 2019'!$C:$L,5,0),0) -> 1 | D7: =IFERROR(VLOOKUP($A:$A,'PPM 2019'!$C:$L,6,0),0) -> 1 | E7: =IFERROR(VLOOKUP($A:$A,'PPM 2019'!$C:$L,7,0),0) -> 0 | F7: =IFERROR(VLOOKUP($A:$A,'PPM 2019'!$C:$L,8,0),0) -> 0 | G7: =IFERROR(VLOOKUP($A:$A,'PPM 2019'!$C:$L,9,0),0) -> 0 | M7: =IFERROR(VLOOKUP(A:A,#REF!,16,0),0) -> 0 | N7: =IFERROR(VLOOKUP(A:A,#REF!,16,0),0) -> 0 | O7: =(B7+C7+D7+E7+F7+G7+M7+N7)/$S$1 -> #VALUE!
A8: Barj Yousra | B8: =IFERROR(VLOOKUP($A:$A,'PPM 2019'!$C:$L,4,0),0) -> Barj Yousra1BUS | C8: =IFERROR(VLOOKUP($A:$A,'PPM 2019'!$C:$L,5,0),0) -> 1 | D8: =IFERROR(VLOOKUP($A:$A,'PPM 2019'!$C:$L,6,0),0) -> 1 | E8: =IFERROR(VLOOKUP($A:$A,'PPM 2019'!$C:$L,7,0),0) -> 0 | F8: =IFERROR(VLOOKUP($A:$A,'PPM 2019'!$C:$L,8,0),0) -> 0 | G8: =IFERROR(VLOOKUP($A:$A,'PPM 2019'!$C:$L,9,0),0) -> 0 | M8: =IFERROR(VLOOKUP(A:A,#REF!,16,0),0) -> 0 | N8: =IFERROR(VLOOKUP(A:A,#REF!,16,0),0) -> 0 | O8: =(B8+C8+D8+E8+F8+G8+M8+N8)/$S$1 -> #VALUE!
A9: Barkati Radhouan | B9: =IFERROR(VLOOKUP($A:$A,'PPM 2019'!$C:$L,4,0),0) -> Barkati Radhouan1BI | C9: =IFERROR(VLOOKUP($A:$A,'PPM 2019'!$C:$L,5,0),0) -> 1 | D9: =IFERROR(VLOOKUP($A:$A,'PPM 2019'!$C:$L,6,0),0) -> 1 | E9: =IFERROR(VLOOKUP($A:$A,'PPM 2019'!$C:$L,7,0),0) -> 0 | F9: =IFERROR(VLOOKUP($A:$A,'PPM 2019'!$C:$L,8,0),0) -> 0 | G9: =IFERROR(VLOOKUP($A:$A,'PPM 2019'!$C:$L,9,0),0) -> 0 | M9: =IFERROR(VLOOKUP(A:A,#REF!,16,0),0) -> 0 | N9: =IFERROR(VLOOKUP(A:A,#REF!,16,0),0) -> 0 | O9: =(B9+C9+D9+E9+F9+G9+M9+N9)/$S$1 -> #VALUE!
A10: Benneouala Aziz | B10: =IFERROR(VLOOKUP($A:$A,'PPM 2019'!$C:$L,4,0),0) -> 0 | C10: =IFERROR(VLOOKUP($A:$A,'PPM 2019'!$C:$L,5,0),0) -> 0 | D10: =IFERROR(VLOOKUP($A:$A,'PPM 2019'!$C:$L,6,0),0) -> 0 | E10: =IFERROR(VLOOKUP($A:$A,'PPM 2019'!$C:$L,7,0),0) -> 0 | F10: =IFERROR(VLOOKUP($A:$A,'PPM 2019'!$C:$L,8,0),0) -> 0 | G10: =IFERROR(VLOOKUP($A:$A,'PPM 2019'!$C:$L,9,0),0) -> 0 | M10: =IFERROR(VLOOKUP(A:A,#REF!,16,0),0) -> 0 | N10: =IFERROR(VLOOKUP(A:A,#REF!,16,0),0) -> 0 | O10: =(B10+C10+D10+E10+F10+G10+M10+N10)/$S$1 -> 0
A11: Berkoune Islem | B11: =IFERROR(VLOOKUP($A:$A,'PPM 2019'!$C:$L,4,0),0) -> 0 | C11: =IFERROR(VLOOKUP($A:$A,'PPM 2019'!$C:$L,5,0),0) -> 0 | D11: =IFERROR(VLOOKUP($A:$A,'PPM 2019'!$C:$L,6,0),0) -> 0 | E11: =IFERROR(VLOOKUP($A:$A,'PPM 2019'!$C:$L,7,0),0) -> 0 | F11: =IFERROR(VLOOKUP($A:$A,'PPM 2019'!$C:$L,8,0),0) -> 0 | G11: =IFERROR(VLOOKUP($A:$A,'PPM 2019'!$C:$L,9,0),0) -> 0 | M11: =IFERROR(VLOOKUP(A:A,#REF!,16,0),0) -> 0 | N11: =IFERROR(VLOOKUP(A:A,#REF!,16,0),0) -> 0 | O11: =(B11+C11+D11+E11+F11+G11+M11+N11)/$S$1 -> 0
A12: Biancolin Jean-Andre | B12: =IFERROR(VLOOKUP($A:$A,'PPM 2019'!$C:$L,4,0),0) -> Biancolin Jean-Andre1BUS | C12: =IFERROR(VLOOKUP($A:$A,'PPM 2019'!$C:$L,5,0),0) -> 1 | D12: =IFERROR(VLOOKUP($A:$A,'PPM 2019'!$C:$L,6,0),0) -> 1 | E12: =IFERROR(VLOOKUP($A:$A,'PPM 2019'!$C:$L,7,0),0) -> 0 | F12: =IFERROR(VLOOKUP($A:$A,'PPM 2019'!$C:$L,8,0),0) -> 0 | G12: =IFERROR(VLOOKUP($A:$A,'PPM 2019'!$C:$L,9,0),0) -> 0 | M12: =IFERROR(VLOOKUP(A:A,#REF!,16,0),0) -> 0 | N12: =IFERROR(VLOOKUP(A:A,#REF!,16,0),0) -> 0 | O12: =(B12+C12+D12+E12+F12+G12+M12+N12)/$S$1 -> #VALUE!
A13: Boscher Arthur | B13: =IFERROR(VLOOKUP($A:$A,'PPM 2019'!$C:$L,4,0),0) -> 0 | C13: =IFERROR(VLOOKUP($A:$A,'PPM 2019'!$C:$L,5,0),0) -> 0 | D13: =IFERROR(VLOOKUP($A:$A,'PPM 2019'!$C:$L,6,0),0) -> 0 | E13: =IFERROR(VLOOKUP($A:$A,'PPM 2019'!$C:$L,7,0),0) -> 0 | F13: =IFERROR(VLOOKUP($A:$A,'PPM 2019'!$C:$L,8,0),0) -> 0 | G13: =IFERROR(VLOOKUP($A:$A,'PPM 2019'!$C:$L,9,0),0) -> 0 | M13: =IFERROR(VLOOKUP(A:A,#REF!,16,0),0) -> 0 | N13: =IFERROR(VLOOKUP(A:A,#REF!,16,0),0) -> 0 | O13: =(B13+C13+D13+E13+F13+G13+M13+N13)/$S$1 -> 0
A14: Boubekeur Yamina | B14: =IFERROR(VLOOKUP($A:$A,'PPM 2019'!$C:$L,4,0),0) -> 0 | C14: =IFERROR(VLOOKUP($A:$A,'PPM 2019'!$C:$L,5,0),0) -> 0 | D14: =IFERROR(VLOOKUP($A:$A,'PPM 2019'!$C:$L,6,0),0) -> 0 | E14: =IFERROR(VLOOKUP($A:$A,'PPM 2019'!$C:$L,7,0),0) -> 0 | F14: =IFERROR(VLOOKUP($A:$A,'PPM 2019'!$C:$L,8,0),0) -> 0 | G14: =IFERROR(VLOOKUP($A:$A,'PPM 2019'!$C:$L,9,0),0) -> 0 | M14: =IFERROR(VLOOKUP(A:A,#REF!,16,0),0) -> 0 | N14: =IFERROR(VLOOKUP(A:A,#REF!,16,0),0) -> 0 | O14: =(B14+C14+D14+E14+F14+G14+M14+N14)/$S$1 -> 0
A15: Boujemaa Amel | B15: =IFERROR(VLOOKUP($A:$A,'PPM 2019'!$C:$L,4,0),0) -> 0 | C15: =IFERROR(VLOOKUP($A:$A,'PPM 2019'!$C:$L,5,0),0) -> 0 | D15: =IFERROR(VLOOKUP($A:$A,'PPM 2019'!$C:$L,6,0),0) -> 0 | E15: =IFERROR(VLOOKUP($A:$A,'PPM 2019'!$C:$L,7,0),0) -> 0 | F15: =IFERROR(VLOOKUP($A:$A,'PPM 2019'!$C:$L,8,0),0) -> 0 | G15: =IFERROR(VLOOKUP($A:$A,'PPM 2019'!$C:$L,9,0),0) -> 0 | M15: =IFERROR(VLOOKUP(A:A,#REF!,16,0),0) -> 0 | N15: =IFERROR(VLOOKUP(A:A,#REF!,16,0),0) -> 0 | O15: =(B15+C15+D15+E15+F15+G15+M15+N15)/$S$1 -> 0
A16: Bourguignon Jerome | B16: =IFERROR(VLOOKUP($A:$A,'PPM 2019'!$C:$L,4,0),0) -> 0 | C16: =IFERROR(VLOOKUP($A:$A,'PPM 2019'!$C:$L,5,0),0) -> 0 | D16: =IFERROR(VLOOKUP($A:$A,'PPM 2019'!$C:$L,6,0),0) -> 0 | E16: =IFERROR(VLOOKUP($A:$A,'PPM 2019'!$C:$L,7,0),0) -> 0 | F16: =IFERROR(VLOOKUP($A:$A,'PPM 2019'!$C:$L,8,0),0) -> 0 | G16: =IFERROR(VLOOKUP($A:$A,'PPM 2019'!$C:$L,9,0),0) -> 0 | M16: =IFERROR(VLOOKUP(A:A,#REF!,16,0),0) -> 0 | N16: =IFERROR(VLOOKUP(A:A,#REF!,16,0),0) -> 0 | O16: =(B16+C16+D16+E16+F16+G16+M16+N16)/$S$1 -> 0
... A65: Zaidi Abdelrahmane | B65: =IFERROR(VLOOKUP($A:$A,'PPM 2019'!$C:$L,4,0),0) -> 0 | C65: =IFERROR(VLOOKUP($A:$A,'PPM 2019'!$C:$L,5,0),0) -> 0 | D65: =IFERROR(VLOOKUP($A:$A,'PPM 2019'!$C:$L,6,0),0) -> 0 | E65: =IFERROR(VLOOKUP($A:$A,'PPM 2019'!$C:$L,7,0),0) -> 0 | F65: =IFERROR(VLOOKUP($A:$A,'PPM 2019'!$C:$L,8,0),0) -> 0 | G65: =IFERROR(VLOOKUP($A:$A,'PPM 2019'!$C:$L,9,0),0) -> 0 | M65: =IFERROR(VLOOKUP(A:A,#REF!,16,0),0) -> 0 | N65: =IFERROR(VLOOKUP(A:A,#REF!,16,0),0) -> 0 | O65: =(B65+C65+D65+E65+F65+G65+M65+N65)/$S$1 -> 0
A66: IT Group | B66: =SUM(B67:B73) -> 0 | C66: =SUM(C67:C73) -> 3 | D66: =SUM(D67:D73) -> 2 | E66: =SUM(E67:E73) -> 0 | F66: =SUM(F67:F73) -> 0 | G66: =SUM(G67:G73) -> 0 | I66: =SUM(B66:G66)/6 -> 0.83333333 | J66: 6.1 | K66: =I66-J66 -> -5.2666667 | M66: =SUM(M67:M73) -> 0 | N66: =SUM(N67:N73) -> 0 | O66: =(B66+C66+D66+E66+F66+G66+M66+N66)/$S$1 -> 0.625
A67: Canillas Remi | B67: =IFERROR(VLOOKUP($A:$A,'PPM 2019'!$C:$L,4,0),0) -> 0 | C67: =IFERROR(VLOOKUP($A:$A,'PPM 2019'!$C:$L,5,0),0) -> 0 | D67: =IFERROR(VLOOKUP($A:$A,'PPM 2019'!$C:$L,6,0),0) -> 0 | E67: =IFERROR(VLOOKUP($A:$A,'PPM 2019'!$C:$L,7,0),0) -> 0 | F67: =IFERROR(VLOOKUP($A:$A,'PPM 2019'!$C:$L,8,0),0) -> 0 | G67: =IFERROR(VLOOKUP($A:$A,'PPM 2019'!$C:$L,9,0),0) -> 0 | M67: =IFERROR(VLOOKUP(A:A,#REF!,16,0),0) -> 0 | N67: =IFERROR(VLOOKUP(A:A,#REF!,16,0),0) -> 0 | O67: =(B67+C67+D67+E67+F67+G67+M67+N67)/$S$1 -> 0
A68: Esser Maxime | B68: =IFERROR(VLOOKUP($A:$A,'PPM 2019'!$C:$L,4,0),0) -> 0 | C68: =IFERROR(VLOOKUP($A:$A,'PPM 2019'!$C:$L,5,0),0) -> 0 | D68: =IFERROR(VLOOKUP($A:$A,'PPM 2019'!$C:$L,6,0),0) -> 0 | E68: =IFERROR(VLOOKUP($A:$A,'PPM 2019'!$C:$L,7,0),0) -> 0 | F68: =IFERROR(VLOOKUP($A:$A,'PPM 2019'!$C:$L,8,0),0) -> 0 | G68: =IFERROR(VLOOKUP($A:$A,'PPM 2019'!$C:$L,9,0),0) -> 0 | M68: =IFERROR(VLOOKUP(A:A,#REF!,16,0),0) -> 0 | N68: =IFERROR(VLOOKUP(A:A,#REF!,16,0),0) -> 0 | O68: =(B68+C68+D68+E68+F68+G68+M68+N68)/$S$1 -> 0
A69: Faurie Geoffrey | B69: =IFERROR(VLOOKUP($A:$A,'PPM 2019'!$C:$L,4,0),0) -> 0 | C69: =IFERROR(VLOOKUP($A:$A,'PPM 2019'!$C:$L,5,0),0) -> 0 | D69: =IFERROR(VLOOKUP($A:$A,'PPM 2019'!$C:$L,6,0),0) -> 0 | E69: =IFERROR(VLOOKUP($A:$A,'PPM 2019'!$C:$L,7,0),0) -> 0 | F69: =IFERROR(VLOOKUP($A:$A,'PPM 2019'!$C:$L,8,0),0) -> 0 | G69: =IFERROR(VLOOKUP($A:$A,'PPM 2019'!$C:$L,9,0),0) -> 0 | M69: =IFERROR(VLOOKUP(A:A,#REF!,16,0),0) -> 0 | N69: =IFERROR(VLOOKUP(A:A,#REF!,16,0),0) -> 0 | O69: =(B69+C69+D69+E69+F69+G69+M69+N69)/$S$1 -> 0
A70: Joa-Pedro Lopes Ferreira | B70: =IFERROR(VLOOKUP($A:$A,'PPM 2019'!$C:$L,4,0),0) -> 0 | C70: =IFERROR(VLOOKUP($A:$A,'PPM 2019'!$C:$L,5,0),0) -> 0 | D70: =IFERROR(VLOOKUP($A:$A,'PPM 2019'!$C:$L,6,0),0) -> 0 | E70: =IFERROR(VLOOKUP($A:$A,'PPM 2019'!$C:$L,7,0),0) -> 0 | F70: =IFERROR(VLOOKUP($A:$A,'PPM 2019'!$C:$L,8,0),0) -> 0 | G70: =IFERROR(VLOOKUP($A:$A,'PPM 2019'!$C:$L,9,0),0) -> 0 | M70: =IFERROR(VLOOKUP(A:A,#REF!,16,0),0) -> 0 | N70: =IFERROR(VLOOKUP(A:A,#REF!,16,0),0) -> 0 | O70: =(B70+C70+D70+E70+F70+G70+M70+N70)/$S$1 -> 0
A71: Majdandzic Emile | B71: =IFERROR(VLOOKUP($A:$A,'PPM 2019'!$C:$L,4,0),0) -> Majdandzic Emile1DIROP | C71: =IFERROR(VLOOKUP($A:$A,'PPM 2019'!$C:$L,5,0),0) -> 1 | D71: =IFERROR(VLOOKUP($A:$A,'PPM 2019'!$C:$L,6,0),0) -> 1 | E71: =IFERROR(VLOOKUP($A:$A,'PPM 2019'!$C:$L,7,0),0) -> 0 | F71: =IFERROR(VLOOKUP($A:$A,'PPM 2019'!$C:$L,8,0),0) -> 0 | G71: =IFERROR(VLOOKUP($A:$A,'PPM 2019'!$C:$L,9,0),0) -> 0 | M71: =IFERROR(VLOOKUP(A:A,#REF!,16,0),0) -> 0 | N71: =IFERROR(VLOOKUP(A:A,#REF!,16,0),0) -> 0 | O71: =(B71+C71+D71+E71+F71+G71+M71+N71)/$S$1 -> #VALUE!
A72: Vicente Jorge | B72: =IFERROR(VLOOKUP($A:$A,'PPM 2019'!$C:$L,4,0),0) -> Vicente Jorge1DIROP | C72: =IFERROR(VLOOKUP($A:$A,'PPM 2019'!$C:$L,5,0),0) -> 1 | D72: =IFERROR(VLOOKUP($A:$A,'PPM 2019'!$C:$L,6,0),0) -> 0 | E72: =IFERROR(VLOOKUP($A:$A,'PPM 2019'!$C:$L,7,0),0) -> 0 | F72: =IFERROR(VLOOKUP($A:$A,'PPM 2019'!$C:$L,8,0),0) -> 0 | G72: =IFERROR(VLOOKUP($A:$A,'PPM 2019'!$C:$L,9,0),0) -> 0 | M72: =IFERROR(VLOOKUP(A:A,#REF!,16,0),0) -> 0 | N72: =IFERROR(VLOOKUP(A:A,#REF!,16,0),0) -> 0 | O72: =(B72+C72+D72+E72+F72+G72+M72+N72)/$S$1 -> #VALUE!
A73: Zumer Yves | B73: =IFERROR(VLOOKUP($A:$A,'PPM 2019'!$C:$L,4,0),0) -> Zumer Yves1DIROP | C73: =IFERROR(VLOOKUP($A:$A,'PPM 2019'!$C:$L,5,0),0) -> 1 | D73: =IFERROR(VLOOKUP($A:$A,'PPM 2019'!$C:$L,6,0),0) -> 1 | E73: =IFERROR(VLOOKUP($A:$A,'PPM 2019'!$C:$L,7,0),0) -> 0 | F73: =IFERROR(VLOOKUP($A:$A,'PPM 2019'!$C:$L,8,0),0) -> 0 | G73: =IFERROR(VLOOKUP($A:$A,'PPM 2019'!$C:$L,9,0),0) -> 0 | M73: =IFERROR(VLOOKUP(A:A,#REF!,16,0),0) -> 0 | N73: =IFERROR(VLOOKUP(A:A,#REF!,16,0),0) -> 0 | O73: =(B73+C73+D73+E73+F73+G73+M73+N73)/$S$1 -> #VALUE!
A74: Total général | B74: =B2+B4+B66 -> 0 | C74: =C2+C4+C66 -> 24 | D74: =D2+D4+D66 -> 21 | E74: =E2+E4+E66 -> 0 | F74: =F2+F4+F66 -> 0 | G74: =G2+G4+G66 -> 0 | I74: =I2+I4+I66 -> 7.5 | J74: =J2+J4+J66 -> 45.4 | K74: =K2+K4+K66 -> -37.9 | M74: =M2+M4+M66 -> 0 | N74: =N2+N4+N66 -> #REF! | O74: =(B74+C74+D74+E74+F74+G74+M74+N74)/8 -> #REF!

Sheet 1BI
Q1: =+Synthèse!AV1 -> 2 | R1: 1 | S1: 2 | T1: 3 | U1: 4 | V1: 5 | W1: 6 | X1: 7 | Y1: 8 | Z1: 9 | AA1: 10 | AB1: 11 | AC1: 12
B2: External | C2: 43466 | D2: 43497 | E2: 43525 | F2: 43556 | G2: 43586 | H2: 43617 | I2: 43647 | J2: 43678 | K2: 43709 | L2: 43739 | M2: 43770 | N2: 43800 | P2: YTD
B3: 1BI | C3: =C14 -> 7 | D3: =D14 -> 8 | E3: =E14 -> 0 | F3: =F14 -> 0 | G3: =G14 -> 0 | H3: =H14 -> 0 | I3: =I14 -> 0 | J3: =J14 -> 0 | ... N3: =N14 -> 0 | P3: =P14 -> 15
B5: Resources
B6: Barkati Radhouan | C6: =IFERROR(VLOOKUP($B:$B,'PPM 2019'!$C:$R,MATCH('1BI'!C$2,'PPM 2019'!$C$1:$R$1,0),0),0) -> 1 | D6: =IFERROR(VLOOKUP($B:$B,'PPM 2019'!$C:$R,MATCH('1BI'!D$2,'PPM 2019'!$C$1:$R$1,0),0),0) -> 1 | E6: =IFERROR(VLOOKUP($B:$B,'PPM 2019'!$C:$R,MATCH('1BI'!E$2,'PPM 2019'!$C$1:$R$1,0),0),0) -> 0 | F6: =IFERROR(VLOOKUP($B:$B,'PPM 2019'!$C:$R,MATCH('1BI'!F$2,'PPM 2019'!$C$1:$R$1,0),0),0) -> 0 | G6: =IFERROR(VLOOKUP($B:$B,'PPM 2019'!$C:$R,MATCH('1BI'!G$2,'PPM 2019'!$C$1:$R$1,0),0),0) -> 0 | H6: =IFERROR(VLOOKUP($B:$B,'PPM 2019'!$C:$R,MATCH('1BI'!H$2,'PPM 2019'!$C$1:$R$1,0),0),0) -> 0 | I6: =IFERROR(VLOOKUP($B:$B,'PPM 2019'!$C:$R,MATCH('1BI'!I$2,'PPM 2019'!$C$1:$R$1,0),0),0) -> 0 | J6: =IFERROR(VLOOKUP($B:$B,'PPM 2019'!$C:$R,MATCH('1BI'!J$2,'PPM 2019'!$C$1:$R$1,0),0),0) -> 0 | ... N6: =IFERROR(VLOOKUP($B:$B,'PPM 2019'!$C:$R,MATCH('1BI'!N$2,'PPM 2019'!$C$1:$R$1,0),0),0) -> 0 | P6: =SUM(OFFSET(C6,,,,$Q$1)) -> 2
B7: Claveau Benjamin | C7: =IFERROR(VLOOKUP($B:$B,'PPM 2019'!$C:$R,MATCH('1BI'!C$2,'PPM 2019'!$C$1:$R$1,0),0),0) -> 1 | D7: =IFERROR(VLOOKUP($B:$B,'PPM 2019'!$C:$R,MATCH('1BI'!D$2,'PPM 2019'!$C$1:$R$1,0),0),0) -> 1 | E7: =IFERROR(VLOOKUP($B:$B,'PPM 2019'!$C:$R,MATCH('1BI'!E$2,'PPM 2019'!$C$1:$R$1,0),0),0) -> 0 | F7: =IFERROR(VLOOKUP($B:$B,'PPM 2019'!$C:$R,MATCH('1BI'!F$2,'PPM 2019'!$C$1:$R$1,0),0),0) -> 0 | G7: =IFERROR(VLOOKUP($B:$B,'PPM 2019'!$C:$R,MATCH('1BI'!G$2,'PPM 2019'!$C$1:$R$1,0),0),0) -> 0 | H7: =IFERROR(VLOOKUP($B:$B,'PPM 2019'!$C:$R,MATCH('1BI'!H$2,'PPM 2019'!$C$1:$R$1,0),0),0) -> 0 | I7: =IFERROR(VLOOKUP($B:$B,'PPM 2019'!$C:$R,MATCH('1BI'!I$2,'PPM 2019'!$C$1:$R$1,0),0),0) -> 0 | J7: =IFERROR(VLOOKUP($B:$B,'PPM 2019'!$C:$R,MATCH('1BI'!J$2,'PPM 2019'!$C$1:$R$1,0),0),0) -> 0 | ... N7: =IFERROR(VLOOKUP($B:$B,'PPM 2019'!$C:$R,MATCH('1BI'!N$2,'PPM 2019'!$C$1:$R$1,0),0),0) -> 0 | P7: =SUM(OFFSET(C7,,,,$Q$1)) -> 2
B8: Maurice Jean-marc | C8: =IFERROR(VLOOKUP($B:$B,'PPM 2019'!$C:$R,MATCH('1BI'!C$2,'PPM 2019'!$C$1:$R$1,0),0),0) -> 1 | D8: =IFERROR(VLOOKUP($B:$B,'PPM 2019'!$C:$R,MATCH('1BI'!D$2,'PPM 2019'!$C$1:$R$1,0),0),0) -> 1 | E8: =IFERROR(VLOOKUP($B:$B,'PPM 2019'!$C:$R,MATCH('1BI'!E$2,'PPM 2019'!$C$1:$R$1,0),0),0) -> 0 | F8: =IFERROR(VLOOKUP($B:$B,'PPM 2019'!$C:$R,MATCH('1BI'!F$2,'PPM 2019'!$C$1:$R$1,0),0),0) -> 0 | G8: =IFERROR(VLOOKUP($B:$B,'PPM 2019'!$C:$R,MATCH('1BI'!G$2,'PPM 2019'!$C$1:$R$1,0),0),0) -> 0 | H8: =IFERROR(VLOOKUP($B:$B,'PPM 2019'!$C:$R,MATCH('1BI'!H$2,'PPM 2019'!$C$1:$R$1,0),0),0) -> 0 | I8: =IFERROR(VLOOKUP($B:$B,'PPM 2019'!$C:$R,MATCH('1BI'!I$2,'PPM 2019'!$C$1:$R$1,0),0),0) -> 0 | J8: =IFERROR(VLOOKUP($B:$B,'PPM 2019'!$C:$R,MATCH('1BI'!J$2,'PPM 2019'!$C$1:$R$1,0),0),0) -> 0 | ... N8: =IFERROR(VLOOKUP($B:$B,'PPM 2019'!$C:$R,MATCH('1BI'!N$2,'PPM 2019'!$C$1:$R$1,0),0),0) -> 0 | P8: =SUM(OFFSET(C8,,,,$Q$1)) -> 2
B9: Mouillon Pascale | C9: =IFERROR(VLOOKUP($B:$B,'PPM 2019'!$C:$R,MATCH('1BI'!C$2,'PPM 2019'!$C$1:$R$1,0),0),0) -> 1 | D9: =IFERROR(VLOOKUP($B:$B,'PPM 2019'!$C:$R,MATCH('1BI'!D$2,'PPM 2019'!$C$1:$R$1,0),0),0) -> 1 | E9: =IFERROR(VLOOKUP($B:$B,'PPM 2019'!$C:$R,MATCH('1BI'!E$2,'PPM 2019'!$C$1:$R$1,0),0),0) -> 0 | F9: =IFERROR(VLOOKUP($B:$B,'PPM 2019'!$C:$R,MATCH('1BI'!F$2,'PPM 2019'!$C$1:$R$1,0),0),0) -> 0 | G9: =IFERROR(VLOOKUP($B:$B,'PPM 2019'!$C:$R,MATCH('1BI'!G$2,'PPM 2019'!$C$1:$R$1,0),0),0) -> 0 | H9: =IFERROR(VLOOKUP($B:$B,'PPM 2019'!$C:$R,MATCH('1BI'!H$2,'PPM 2019'!$C$1:$R$1,0),0),0) -> 0 | I9: =IFERROR(VLOOKUP($B:$B,'PPM 2019'!$C:$R,MATCH('1BI'!I$2,'PPM 2019'!$C$1:$R$1,0),0),0) -> 0 | J9: =IFERROR(VLOOKUP($B:$B,'PPM 2019'!$C:$R,MATCH('1BI'!J$2,'PPM 2019'!$C$1:$R$1,0),0),0) -> 0 | ... N9: =IFERROR(VLOOKUP($B:$B,'PPM 2019'!$C:$R,MATCH('1BI'!N$2,'PPM 2019'!$C$1:$R$1,0),0),0) -> 0 | P9: =SUM(OFFSET(C9,,,,$Q$1)) -> 2
B10: Mouzdahir Rachid | C10: =IFERROR(VLOOKUP($B:$B,'PPM 2019'!$C:$R,MATCH('1BI'!C$2,'PPM 2019'!$C$1:$R$1,0),0),0) -> 1 | D10: =IFERROR(VLOOKUP($B:$B,'PPM 2019'!$C:$R,MATCH('1BI'!D$2,'PPM 2019'!$C$1:$R$1,0),0),0) -> 1 | E10: =IFERROR(VLOOKUP($B:$B,'PPM 2019'!$C:$R,MATCH('1BI'!E$2,'PPM 2019'!$C$1:$R$1,0),0),0) -> 0 | F10: =IFERROR(VLOOKUP($B:$B,'PPM 2019'!$C:$R,MATCH('1BI'!F$2,'PPM 2019'!$C$1:$R$1,0),0),0) -> 0 | G10: =IFERROR(VLOOKUP($B:$B,'PPM 2019'!$C:$R,MATCH('1BI'!G$2,'PPM 2019'!$C$1:$R$1,0),0),0) -> 0 | H10: =IFERROR(VLOOKUP($B:$B,'PPM 2019'!$C:$R,MATCH('1BI'!H$2,'PPM 2019'!$C$1:$R$1,0),0),0) -> 0 | I10: =IFERROR(VLOOKUP($B:$B,'PPM 2019'!$C:$R,MATCH('1BI'!I$2,'PPM 2019'!$C$1:$R$1,0),0),0) -> 0 | J10: =IFERROR(VLOOKUP($B:$B,'PPM 2019'!$C:$R,MATCH('1BI'!J$2,'PPM 2019'!$C$1:$R$1,0),0),0) -> 0 | ... N10: =IFERROR(VLOOKUP($B:$B,'PPM 2019'!$C:$R,MATCH('1BI'!N$2,'PPM 2019'!$C$1:$R$1,0),0),0) -> 0 | P10: =SUM(OFFSET(C10,,,,$Q$1)) -> 2
B11: Nardin Stephane | C11: =IFERROR(VLOOKUP($B:$B,'PPM 2019'!$C:$R,MATCH('1BI'!C$2,'PPM 2019'!$C$1:$R$1,0),0),0) -> 1 | D11: =IFERROR(VLOOKUP($B:$B,'PPM 2019'!$C:$R,MATCH('1BI'!D$2,'PPM 2019'!$C$1:$R$1,0),0),0) -> 1 | E11: =IFERROR(VLOOKUP($B:$B,'PPM 2019'!$C:$R,MATCH('1BI'!E$2,'PPM 2019'!$C$1:$R$1,0),0),0) -> 0 | F11: =IFERROR(VLOOKUP($B:$B,'PPM 2019'!$C:$R,MATCH('1BI'!F$2,'PPM 2019'!$C$1:$R$1,0),0),0) -> 0 | G11: =IFERROR(VLOOKUP($B:$B,'PPM 2019'!$C:$R,MATCH('1BI'!G$2,'PPM 2019'!$C$1:$R$1,0),0),0) -> 0 | H11: =IFERROR(VLOOKUP($B:$B,'PPM 2019'!$C:$R,MATCH('1BI'!H$2,'PPM 2019'!$C$1:$R$1,0),0),0) -> 0 | I11: =IFERROR(VLOOKUP($B:$B,'PPM 2019'!$C:$R,MATCH('1BI'!I$2,'PPM 2019'!$C$1:$R$1,0),0),0) -> 0 | J11: =IFERROR(VLOOKUP($B:$B,'PPM 2019'!$C:$R,MATCH('1BI'!J$2,'PPM 2019'!$C$1:$R$1,0),0),0) -> 0 | ... N11: =IFERROR(VLOOKUP($B:$B,'PPM 2019'!$C:$R,MATCH('1BI'!N$2,'PPM 2019'!$C$1:$R$1,0),0),0) -> 0 | P11: =SUM(OFFSET(C11,,,,$Q$1)) -> 2
B12: Nguyen Flavien | C12: =IFERROR(VLOOKUP($B:$B,'PPM 2019'!$C:$R,MATCH('1BI'!C$2,'PPM 2019'!$C$1:$R$1,0),0),0) -> 1 | D12: =IFERROR(VLOOKUP($B:$B,'PPM 2019'!$C:$R,MATCH('1BI'!D$2,'PPM 2019'!$C$1:$R$1,0),0),0) -> 1 | E12: =IFERROR(VLOOKUP($B:$B,'PPM 2019'!$C:$R,MATCH('1BI'!E$2,'PPM 2019'!$C$1:$R$1,0),0),0) -> 0 | F12: =IFERROR(VLOOKUP($B:$B,'PPM 2019'!$C:$R,MATCH('1BI'!F$2,'PPM 2019'!$C$1:$R$1,0),0),0) -> 0 | G12: =IFERROR(VLOOKUP($B:$B,'PPM 2019'!$C:$R,MATCH('1BI'!G$2,'PPM 2019'!$C$1:$R$1,0),0),0) -> 0 | H12: =IFERROR(VLOOKUP($B:$B,'PPM 2019'!$C:$R,MATCH('1BI'!H$2,'PPM 2019'!$C$1:$R$1,0),0),0) -> 0 | I12: =IFERROR(VLOOKUP($B:$B,'PPM 2019'!$C:$R,MATCH('1BI'!I$2,'PPM 2019'!$C$1:$R$1,0),0),0) -> 0 | J12: =IFERROR(VLOOKUP($B:$B,'PPM 2019'!$C:$R,MATCH('1BI'!J$2,'PPM 2019'!$C$1:$R$1,0),0),0) -> 0 | ... N12: =IFERROR(VLOOKUP($B:$B,'PPM 2019'!$C:$R,MATCH('1BI'!N$2,'PPM 2019'!$C$1:$R$1,0),0),0) -> 0 | P12: =SUM(OFFSET(C12,,,,$Q$1)) -> 2
B13: Kone Moussa | C13: =IFERROR(VLOOKUP($B:$B,'PPM 2019'!$C:$R,MATCH('1BI'!C$2,'PPM 2019'!$C$1:$R$1,0),0),0) -> 0 | D13: =IFERROR(VLOOKUP($B:$B,'PPM 2019'!$C:$R,MATCH('1BI'!D$2,'PPM 2019'!$C$1:$R$1,0),0),0) -> 1 | E13: =IFERROR(VLOOKUP($B:$B,'PPM 2019'!$C:$R,MATCH('1BI'!E$2,'PPM 2019'!$C$1:$R$1,0),0),0) -> 0 | F13: =IFERROR(VLOOKUP($B:$B,'PPM 2019'!$C:$R,MATCH('1BI'!F$2,'PPM 2019'!$C$1:$R$1,0),0),0) -> 0 | G13: =IFERROR(VLOOKUP($B:$B,'PPM 2019'!$C:$R,MATCH('1BI'!G$2,'PPM 2019'!$C$1:$R$1,0),0),0) -> 0 | H13: =IFERROR(VLOOKUP($B:$B,'PPM 2019'!$C:$R,MATCH('1BI'!H$2,'PPM 2019'!$C$1:$R$1,0),0),0) -> 0 | I13: =IFERROR(VLOOKUP($B:$B,'PPM 2019'!$C:$R,MATCH('1BI'!I$2,'PPM 2019'!$C$1:$R$1,0),0),0) -> 0 | J13: =IFERROR(VLOOKUP($B:$B,'PPM 2019'!$C:$R,MATCH('1BI'!J$2,'PPM 2019'!$C$1:$R$1,0),0),0) -> 0 | ... N13: =IFERROR(VLOOKUP($B:$B,'PPM 2019'!$C:$R,MATCH('1BI'!N$2,'PPM 2019'!$C$1:$R$1,0),0),0) -> 0 | P13: =SUM(OFFSET(C13,,,,$Q$1)) -> 1
A14: 1BI | B14: TOTAL | C14: =SUM(C6:C13) -> 7 | D14: =SUM(D6:D13) -> 8 | E14: =SUM(E6:E13) -> 0 | F14: =SUM(F6:F13) -> 0 | G14: =SUM(G6:G13) -> 0 | H14: =SUM(H6:H13) -> 0 | I14: =SUM(I6:I13) -> 0 | J14: =SUM(J6:J13) -> 0 | ... N14: =SUM(N6:N13) -> 0 | P14: =SUM(P6:P13) -> 15

Sheet 1BUS
Q1: =+Synthèse!AV1 -> 2 | R1: 1 | S1: 2 | T1: 3 | U1: 4 | V1: 5 | W1: 6 | X1: 7 | Y1: 8 | Z1: 9 | AA1: 10 | AB1: 11 | AC1: 12
B2: External | C2: 43466 | D2: 43497 | E2: 43525 | F2: 43556 | G2: 43586 | H2: 43617 | I2: 43647 | J2: 43678 | K2: 43709 | L2: 43739 | M2: 43770 | N2: 43800 | P2: YTD
B3: 1BUS | C3: =C18 -> 12 | D3: =D18 -> 11 | E3: =E18 -> 0 | F3: =F18 -> 0 | G3: =G18 -> 0 | H3: =H18 -> 0 | I3: =I18 -> 0 | J3: =J18 -> 0 | ... N3: =N18 -> 0 | P3: =P18 -> 23
B5: Resources
B6: Amador Joao | C6: =IFERROR(VLOOKUP($B:$B,'PPM 2019'!$C:$R,MATCH('1BUS'!C$2,'PPM 2019'!$C$1:$R$1,0),0),0) -> 1 | D6: =IFERROR(VLOOKUP($B:$B,'PPM 2019'!$C:$R,MATCH('1BUS'!D$2,'PPM 2019'!$C$1:$R$1,0),0),0) -> 1 | E6: =IFERROR(VLOOKUP($B:$B,'PPM 2019'!$C:$R,MATCH('1BUS'!E$2,'PPM 2019'!$C$1:$R$1,0),0),0) -> 0 | F6: =IFERROR(VLOOKUP($B:$B,'PPM 2019'!$C:$R,MATCH('1BUS'!F$2,'PPM 2019'!$C$1:$R$1,0),0),0) -> 0 | G6: =IFERROR(VLOOKUP($B:$B,'PPM 2019'!$C:$R,MATCH('1BUS'!G$2,'PPM 2019'!$C$1:$R$1,0),0),0) -> 0 | H6: =IFERROR(VLOOKUP($B:$B,'PPM 2019'!$C:$R,MATCH('1BUS'!H$2,'PPM 2019'!$C$1:$R$1,0),0),0) -> 0 | I6: =IFERROR(VLOOKUP($B:$B,'PPM 2019'!$C:$R,MATCH('1BUS'!I$2,'PPM 2019'!$C$1:$R$1,0),0),0) -> 0 | J6: =IFERROR(VLOOKUP($B:$B,'PPM 2019'!$C:$R,MATCH('1BUS'!J$2,'PPM 2019'!$C$1:$R$1,0),0),0) -> 0 | ... N6: =IFERROR(VLOOKUP($B:$B,'PPM 2019'!$C:$R,MATCH('1BUS'!N$2,'PPM 2019'!$C$1:$R$1,0),0),0) -> 0 | P6: =SUM(OFFSET(C6,,,,$Q$1)) -> 2
B7: Barj Yousra | C7: =IFERROR(VLOOKUP($B:$B,'PPM 2019'!$C:$R,MATCH('1BUS'!C$2,'PPM 2019'!$C$1:$R$1,0),0),0) -> 1 | D7: =IFERROR(VLOOKUP($B:$B,'PPM 2019'!$C:$R,MATCH('1BUS'!D$2,'PPM 2019'!$C$1:$R$1,0),0),0) -> 1 | E7: =IFERROR(VLOOKUP($B:$B,'PPM 2019'!$C:$R,MATCH('1BUS'!E$2,'PPM 2019'!$C$1:$R$1,0),0),0) -> 0 | F7: =IFERROR(VLOOKUP($B:$B,'PPM 2019'!$C:$R,MATCH('1BUS'!F$2,'PPM 2019'!$C$1:$R$1,0),0),0) -> 0 | G7: =IFERROR(VLOOKUP($B:$B,'PPM 2019'!$C:$R,MATCH('1BUS'!G$2,'PPM 2019'!$C$1:$R$1,0),0),0) -> 0 | H7: =IFERROR(VLOOKUP($B:$B,'PPM 2019'!$C:$R,MATCH('1BUS'!H$2,'PPM 2019'!$C$1:$R$1,0),0),0) -> 0 | I7: =IFERROR(VLOOKUP($B:$B,'PPM 2019'!$C:$R,MATCH('1BUS'!I$2,'PPM 2019'!$C$1:$R$1,0),0),0) -> 0 | J7: =IFERROR(VLOOKUP($B:$B,'PPM 2019'!$C:$R,MATCH('1BUS'!J$2,'PPM 2019'!$C$1:$R$1,0),0),0) -> 0 | ... N7: =IFERROR(VLOOKUP($B:$B,'PPM 2019'!$C:$R,MATCH('1BUS'!N$2,'PPM 2019'!$C$1:$R$1,0),0),0) -> 0 | P7: =SUM(OFFSET(C7,,,,$Q$1)) -> 2
B8: Bay Vichhady | C8: =IFERROR(VLOOKUP($B:$B,'PPM 2019'!$C:$R,MATCH('1BUS'!C$2,'PPM 2019'!$C$1:$R$1,0),0),0) -> 1 | D8: =IFERROR(VLOOKUP($B:$B,'PPM 2019'!$C:$R,MATCH('1BUS'!D$2,'PPM 2019'!$C$1:$R$1,0),0),0) -> 1 | E8: =IFERROR(VLOOKUP($B:$B,'PPM 2019'!$C:$R,MATCH('1BUS'!E$2,'PPM 2019'!$C$1:$R$1,0),0),0) -> 0 | F8: =IFERROR(VLOOKUP($B:$B,'PPM 2019'!$C:$R,MATCH('1BUS'!F$2,'PPM 2019'!$C$1:$R$1,0),0),0) -> 0 | G8: =IFERROR(VLOOKUP($B:$B,'PPM 2019'!$C:$R,MATCH('1BUS'!G$2,'PPM 2019'!$C$1:$R$1,0),0),0) -> 0 | H8: =IFERROR(VLOOKUP($B:$B,'PPM 2019'!$C:$R,MATCH('1BUS'!H$2,'PPM 2019'!$C$1:$R$1,0),0),0) -> 0 | I8: =IFERROR(VLOOKUP($B:$B,'PPM 2019'!$C:$R,MATCH('1BUS'!I$2,'PPM 2019'!$C$1:$R$1,0),0),0) -> 0 | J8: =IFERROR(VLOOKUP($B:$B,'PPM 2019'!$C:$R,MATCH('1BUS'!J$2,'PPM 2019'!$C$1:$R$1,0),0),0) -> 0 | ... N8: =IFERROR(VLOOKUP($B:$B,'PPM 2019'!$C:$R,MATCH('1BUS'!N$2,'PPM 2019'!$C$1:$R$1,0),0),0) -> 0 | P8: =SUM(OFFSET(C8,,,,$Q$1)) -> 2
B9: Benali Anass | C9: =IFERROR(VLOOKUP($B:$B,'PPM 2019'!$C:$R,MATCH('1BUS'!C$2,'PPM 2019'!$C$1:$R$1,0),0),0) -> 1 | D9: =IFERROR(VLOOKUP($B:$B,'PPM 2019'!$C:$R,MATCH('1BUS'!D$2,'PPM 2019'!$C$1:$R$1,0),0),0) -> 1 | E9: =IFERROR(VLOOKUP($B:$B,'PPM 2019'!$C:$R,MATCH('1BUS'!E$2,'PPM 2019'!$C$1:$R$1,0),0),0) -> 0 | F9: =IFERROR(VLOOKUP($B:$B,'PPM 2019'!$C:$R,MATCH('1BUS'!F$2,'PPM 2019'!$C$1:$R$1,0),0),0) -> 0 | G9: =IFERROR(VLOOKUP($B:$B,'PPM 2019'!$C:$R,MATCH('1BUS'!G$2,'PPM 2019'!$C$1:$R$1,0),0),0) -> 0 | H9: =IFERROR(VLOOKUP($B:$B,'PPM 2019'!$C:$R,MATCH('1BUS'!H$2,'PPM 2019'!$C$1:$R$1,0),0),0) -> 0 | I9: =IFERROR(VLOOKUP($B:$B,'PPM 2019'!$C:$R,MATCH('1BUS'!I$2,'PPM 2019'!$C$1:$R$1,0),0),0) -> 0 | J9: =IFERROR(VLOOKUP($B:$B,'PPM 2019'!$C:$R,MATCH('1BUS'!J$2,'PPM 2019'!$C$1:$R$1,0),0),0) -> 0 | ... N9: =IFERROR(VLOOKUP($B:$B,'PPM 2019'!$C:$R,MATCH('1BUS'!N$2,'PPM 2019'!$C$1:$R$1,0),0),0) -> 0 | P9: =SUM(OFFSET(C9,,,,$Q$1)) -> 2
B10: Biancolin Jean-Andre | C10: =IFERROR(VLOOKUP($B:$B,'PPM 2019'!$C:$R,MATCH('1BUS'!C$2,'PPM 2019'!$C$1:$R$1,0),0),0) -> 1 | D10: =IFERROR(VLOOKUP($B:$B,'PPM 2019'!$C:$R,MATCH('1BUS'!D$2,'PPM 2019'!$C$1:$R$1,0),0),0) -> 1 | E10: =IFERROR(VLOOKUP($B:$B,'PPM 2019'!$C:$R,MATCH('1BUS'!E$2,'PPM 2019'!$C$1:$R$1,0),0),0) -> 0 | F10: =IFERROR(VLOOKUP($B:$B,'PPM 2019'!$C:$R,MATCH('1BUS'!F$2,'PPM 2019'!$C$1:$R$1,0),0),0) -> 0 | G10: =IFERROR(VLOOKUP($B:$B,'PPM 2019'!$C:$R,MATCH('1BUS'!G$2,'PPM 2019'!$C$1:$R$1,0),0),0) -> 0 | H10: =IFERROR(VLOOKUP($B:$B,'PPM 2019'!$C:$R,MATCH('1BUS'!H$2,'PPM 2019'!$C$1:$R$1,0),0),0) -> 0 | I10: =IFERROR(VLOOKUP($B:$B,'PPM 2019'!$C:$R,MATCH('1BUS'!I$2,'PPM 2019'!$C$1:$R$1,0),0),0) -> 0 | J10: =IFERROR(VLOOKUP($B:$B,'PPM 2019'!$C:$R,MATCH('1BUS'!J$2,'PPM 2019'!$C$1:$R$1,0),0),0) -> 0 | ... N10: =IFERROR(VLOOKUP($B:$B,'PPM 2019'!$C:$R,MATCH('1BUS'!N$2,'PPM 2019'!$C$1:$R$1,0),0),0) -> 0 | P10: =SUM(OFFSET(C10,,,,$Q$1)) -> 2
B11: Carré Marie | C11: =IFERROR(VLOOKUP($B:$B,'PPM 2019'!$C:$R,MATCH('1BUS'!C$2,'PPM 2019'!$C$1:$R$1,0),0),0) -> 1 | D11: =IFERROR(VLOOKUP($B:$B,'PPM 2019'!$C:$R,MATCH('1BUS'!D$2,'PPM 2019'!$C$1:$R$1,0),0),0) -> 1 | E11: =IFERROR(VLOOKUP($B:$B,'PPM 2019'!$C:$R,MATCH('1BUS'!E$2,'PPM 2019'!$C$1:$R$1,0),0),0) -> 0 | F11: =IFERROR(VLOOKUP($B:$B,'PPM 2019'!$C:$R,MATCH('1BUS'!F$2,'PPM 2019'!$C$1:$R$1,0),0),0) -> 0 | G11: =IFERROR(VLOOKUP($B:$B,'PPM 2019'!$C:$R,MATCH('1BUS'!G$2,'PPM 2019'!$C$1:$R$1,0),0),0) -> 0 | H11: =IFERROR(VLOOKUP($B:$B,'PPM 2019'!$C:$R,MATCH('1BUS'!H$2,'PPM 2019'!$C$1:$R$1,0),0),0) -> 0 | I11: =IFERROR(VLOOKUP($B:$B,'PPM 2019'!$C:$R,MATCH('1BUS'!I$2,'PPM 2019'!$C$1:$R$1,0),0),0) -> 0 | J11: =IFERROR(VLOOKUP($B:$B,'PPM 2019'!$C:$R,MATCH('1BUS'!J$2,'PPM 2019'!$C$1:$R$1,0),0),0) -> 0 | ... N11: =IFERROR(VLOOKUP($B:$B,'PPM 2019'!$C:$R,MATCH('1BUS'!N$2,'PPM 2019'!$C$1:$R$1,0),0),0) -> 0 | P11: =SUM(OFFSET(C11,,,,$Q$1)) -> 2
B12: Lebied Taha | C12: =IFERROR(VLOOKUP($B:$B,'PPM 2019'!$C:$R,MATCH('1BUS'!C$2,'PPM 2019'!$C$1:$R$1,0),0),0) -> 1 | D12: =IFERROR(VLOOKUP($B:$B,'PPM 2019'!$C:$R,MATCH('1BUS'!D$2,'PPM 2019'!$C$1:$R$1,0),0),0) -> 1 | E12: =IFERROR(VLOOKUP($B:$B,'PPM 2019'!$C:$R,MATCH('1BUS'!E$2,'PPM 2019'!$C$1:$R$1,0),0),0) -> 0 | F12: =IFERROR(VLOOKUP($B:$B,'PPM 2019'!$C:$R,MATCH('1BUS'!F$2,'PPM 2019'!$C$1:$R$1,0),0),0) -> 0 | G12: =IFERROR(VLOOKUP($B:$B,'PPM 2019'!$C:$R,MATCH('1BUS'!G$2,'PPM 2019'!$C$1:$R$1,0),0),0) -> 0 | H12: =IFERROR(VLOOKUP($B:$B,'PPM 2019'!$C:$R,MATCH('1BUS'!H$2,'PPM 2019'!$C$1:$R$1,0),0),0) -> 0 | I12: =IFERROR(VLOOKUP($B:$B,'PPM 2019'!$C:$R,MATCH('1BUS'!I$2,'PPM 2019'!$C$1:$R$1,0),0),0) -> 0 | J12: =IFERROR(VLOOKUP($B:$B,'PPM 2019'!$C:$R,MATCH('1BUS'!J$2,'PPM 2019'!$C$1:$R$1,0),0),0) -> 0 | ... N12: =IFERROR(VLOOKUP($B:$B,'PPM 2019'!$C:$R,MATCH('1BUS'!N$2,'PPM 2019'!$C$1:$R$1,0),0),0) -> 0 | P12: =SUM(OFFSET(C12,,,,$Q$1)) -> 2
B13: Meejat Anis | C13: =IFERROR(VLOOKUP($B:$B,'PPM 2019'!$C:$R,MATCH('1BUS'!C$2,'PPM 2019'!$C$1:$R$1,0),0),0) -> 1 | D13: =IFERROR(VLOOKUP($B:$B,'PPM 2019'!$C:$R,MATCH('1BUS'!D$2,'PPM 2019'!$C$1:$R$1,0),0),0) -> 1 | E13: =IFERROR(VLOOKUP($B:$B,'PPM 2019'!$C:$R,MATCH('1BUS'!E$2,'PPM 2019'!$C$1:$R$1,0),0),0) -> 0 | F13: =IFERROR(VLOOKUP($B:$B,'PPM 2019'!$C:$R,MATCH('1BUS'!F$2,'PPM 2019'!$C$1:$R$1,0),0),0) -> 0 | G13: =IFERROR(VLOOKUP($B:$B,'PPM 2019'!$C:$R,MATCH('1BUS'!G$2,'PPM 2019'!$C$1:$R$1,0),0),0) -> 0 | H13: =IFERROR(VLOOKUP($B:$B,'PPM 2019'!$C:$R,MATCH('1BUS'!H$2,'PPM 2019'!$C$1:$R$1,0),0),0) -> 0 | I13: =IFERROR(VLOOKUP($B:$B,'PPM 2019'!$C:$R,MATCH('1BUS'!I$2,'PPM 2019'!$C$1:$R$1,0),0),0) -> 0 | J13: =IFERROR(VLOOKUP($B:$B,'PPM 2019'!$C:$R,MATCH('1BUS'!J$2,'PPM 2019'!$C$1:$R$1,0),0),0) -> 0 | ... N13: =IFERROR(VLOOKUP($B:$B,'PPM 2019'!$C:$R,MATCH('1BUS'!N$2,'PPM 2019'!$C$1:$R$1,0),0),0) -> 0 | P13: =SUM(OFFSET(C13,,,,$Q$1)) -> 2
B14: Mongrolle Philippe | C14: =IFERROR(VLOOKUP($B:$B,'PPM 2019'!$C:$R,MATCH('1BUS'!C$2,'PPM 2019'!$C$1:$R$1,0),0),0) -> 1 | D14: =IFERROR(VLOOKUP($B:$B,'PPM 2019'!$C:$R,MATCH('1BUS'!D$2,'PPM 2019'!$C$1:$R$1,0),0),0) -> 1 | E14: =IFERROR(VLOOKUP($B:$B,'PPM 2019'!$C:$R,MATCH('1BUS'!E$2,'PPM 2019'!$C$1:$R$1,0),0),0) -> 0 | F14: =IFERROR(VLOOKUP($B:$B,'PPM 2019'!$C:$R,MATCH('1BUS'!F$2,'PPM 2019'!$C$1:$R$1,0),0),0) -> 0 | G14: =IFERROR(VLOOKUP($B:$B,'PPM 2019'!$C:$R,MATCH('1BUS'!G$2,'PPM 2019'!$C$1:$R$1,0),0),0) -> 0 | H14: =IFERROR(VLOOKUP($B:$B,'PPM 2019'!$C:$R,MATCH('1BUS'!H$2,'PPM 2019'!$C$1:$R$1,0),0),0) -> 0 | I14: =IFERROR(VLOOKUP($B:$B,'PPM 2019'!$C:$R,MATCH('1BUS'!I$2,'PPM 2019'!$C$1:$R$1,0),0),0) -> 0 | J14: =IFERROR(VLOOKUP($B:$B,'PPM 2019'!$C:$R,MATCH('1BUS'!J$2,'PPM 2019'!$C$1:$R$1,0),0),0) -> 0 | ... N14: =IFERROR(VLOOKUP($B:$B,'PPM 2019'!$C:$R,MATCH('1BUS'!N$2,'PPM 2019'!$C$1:$R$1,0),0),0) -> 0 | P14: =SUM(OFFSET(C14,,,,$Q$1)) -> 2
B15: Rochdi Bey | C15: =IFERROR(VLOOKUP($B:$B,'PPM 2019'!$C:$R,MATCH('1BUS'!C$2,'PPM 2019'!$C$1:$R$1,0),0),0) -> 1 | D15: =IFERROR(VLOOKUP($B:$B,'PPM 2019'!$C:$R,MATCH('1BUS'!D$2,'PPM 2019'!$C$1:$R$1,0),0),0) -> 1 | E15: =IFERROR(VLOOKUP($B:$B,'PPM 2019'!$C:$R,MATCH('1BUS'!E$2,'PPM 2019'!$C$1:$R$1,0),0),0) -> 0 | F15: =IFERROR(VLOOKUP($B:$B,'PPM 2019'!$C:$R,MATCH('1BUS'!F$2,'PPM 2019'!$C$1:$R$1,0),0),0) -> 0 | G15: =IFERROR(VLOOKUP($B:$B,'PPM 2019'!$C:$R,MATCH('1BUS'!G$2,'PPM 2019'!$C$1:$R$1,0),0),0) -> 0 | H15: =IFERROR(VLOOKUP($B:$B,'PPM 2019'!$C:$R,MATCH('1BUS'!H$2,'PPM 2019'!$C$1:$R$1,0),0),0) -> 0 | I15: =IFERROR(VLOOKUP($B:$B,'PPM 2019'!$C:$R,MATCH('1BUS'!I$2,'PPM 2019'!$C$1:$R$1,0),0),0) -> 0 | J15: =IFERROR(VLOOKUP($B:$B,'PPM 2019'!$C:$R,MATCH('1BUS'!J$2,'PPM 2019'!$C$1:$R$1,0),0),0) -> 0 | ... N15: =IFERROR(VLOOKUP($B:$B,'PPM 2019'!$C:$R,MATCH('1BUS'!N$2,'PPM 2019'!$C$1:$R$1,0),0),0) -> 0 | P15: =SUM(OFFSET(C15,,,,$Q$1)) -> 2
B16: Rogui Talal | C16: =IFERROR(VLOOKUP($B:$B,'PPM 2019'!$C:$R,MATCH('1BUS'!C$2,'PPM 2019'!$C$1:$R$1,0),0),0) -> 1 | D16: =IFERROR(VLOOKUP($B:$B,'PPM 2019'!$C:$R,MATCH('1BUS'!D$2,'PPM 2019'!$C$1:$R$1,0),0),0) -> 1 | E16: =IFERROR(VLOOKUP($B:$B,'PPM 2019'!$C:$R,MATCH('1BUS'!E$2,'PPM 2019'!$C$1:$R$1,0),0),0) -> 0 | F16: =IFERROR(VLOOKUP($B:$B,'PPM 2019'!$C:$R,MATCH('1BUS'!F$2,'PPM 2019'!$C$1:$R$1,0),0),0) -> 0 | G16: =IFERROR(VLOOKUP($B:$B,'PPM 2019'!$C:$R,MATCH('1BUS'!G$2,'PPM 2019'!$C$1:$R$1,0),0),0) -> 0 | H16: =IFERROR(VLOOKUP($B:$B,'PPM 2019'!$C:$R,MATCH('1BUS'!H$2,'PPM 2019'!$C$1:$R$1,0),0),0) -> 0 | I16: =IFERROR(VLOOKUP($B:$B,'PPM 2019'!$C:$R,MATCH('1BUS'!I$2,'PPM 2019'!$C$1:$R$1,0),0),0) -> 0 | J16: =IFERROR(VLOOKUP($B:$B,'PPM 2019'!$C:$R,MATCH('1BUS'!J$2,'PPM 2019'!$C$1:$R$1,0),0),0) -> 0 | ... N16: =IFERROR(VLOOKUP($B:$B,'PPM 2019'!$C:$R,MATCH('1BUS'!N$2,'PPM 2019'!$C$1:$R$1,0),0),0) -> 0 | P16: =SUM(OFFSET(C16,,,,$Q$1)) -> 2
B17: Thibaud Matthieu | C17: =IFERROR(VLOOKUP($B:$B,'PPM 2019'!$C:$R,MATCH('1BUS'!C$2,'PPM 2019'!$C$1:$R$1,0),0),0) -> 1 | D17: =IFERROR(VLOOKUP($B:$B,'PPM 2019'!$C:$R,MATCH('1BUS'!D$2,'PPM 2019'!$C$1:$R$1,0),0),0) -> 0 | E17: =IFERROR(VLOOKUP($B:$B,'PPM 2019'!$C:$R,MATCH('1BUS'!E$2,'PPM 2019'!$C$1:$R$1,0),0),0) -> 0 | F17: =IFERROR(VLOOKUP($B:$B,'PPM 2019'!$C:$R,MATCH('1BUS'!F$2,'PPM 2019'!$C$1:$R$1,0),0),0) -> 0 | G17: =IFERROR(VLOOKUP($B:$B,'PPM 2019'!$C:$R,MATCH('1BUS'!G$2,'PPM 2019'!$C$1:$R$1,0),0),0) -> 0 | H17: =IFERROR(VLOOKUP($B:$B,'PPM 2019'!$C:$R,MATCH('1BUS'!H$2,'PPM 2019'!$C$1:$R$1,0),0),0) -> 0 | I17: =IFERROR(VLOOKUP($B:$B,'PPM 2019'!$C:$R,MATCH('1BUS'!I$2,'PPM 2019'!$C$1:$R$1,0),0),0) -> 0 | J17: =IFERROR(VLOOKUP($B:$B,'PPM 2019'!$C:$R,MATCH('1BUS'!J$2,'PPM 2019'!$C$1:$R$1,0),0),0) -> 0 | ... N17: =IFERROR(VLOOKUP($B:$B,'PPM 2019'!$C:$R,MATCH('1BUS'!N$2,'PPM 2019'!$C$1:$R$1,0),0),0) -> 0 | P17: =SUM(OFFSET(C17,,,,$Q$1)) -> 1
A18: 1BUS | B18: TOTAL | C18: =SUM(C6:C17) -> 12 | D18: =SUM(D6:D17) -> 11 | E18: =SUM(E6:E17) -> 0 | F18: =SUM(F6:F17) -> 0 | G18: =SUM(G6:G17) -> 0 | H18: =SUM(H6:H17) -> 0 | I18: =SUM(I6:I17) -> 0 | J18: =SUM(J6:J17) -> 0 | ... N18: =SUM(N6:N17) -> 0 | P18: =SUM(P6:P17) -> 23

Sheet 1CORP
Q1: =+Synthèse!AV1 -> 2 | R1: 1 | S1: 2 | T1: 3 | U1: 4 | V1: 5 | W1: 6 | X1: 7 | Y1: 8 | Z1: 9 | AA1: 10 | AB1: 11 | AC1: 12
B2: External | C2: 43466 | D2: 43497 | E2: 43525 | F2: 43556 | G2: 43586 | H2: 43617 | I2: 43647 | J2: 43678 | K2: 43709 | L2: 43739 | M2: 43770 | N2: 43800 | P2: YTD
B3: 1CORP | C3: =C8 -> 1 | D3: =D8 -> 1 | E3: =E8 -> 0 | F3: =F8 -> 0 | G3: =G8 -> 0 | H3: =H8 -> 0 | I3: =I8 -> 0 | J3: =J8 -> 0 | ... N3: =N8 -> 0 | P3: =P8 -> 3
B5: Resources
B6: Louet Jean-François | C6: =IFERROR(VLOOKUP($B:$B,'PPM 2019'!$C:$R,MATCH('1CORP'!C$2,'PPM 2019'!$C$1:$R$1,0),0),0) -> 0 | D6: =IFERROR(VLOOKUP($B:$B,'PPM 2019'!$C:$R,MATCH('1CORP'!D$2,'PPM 2019'!$C$1:$R$1,0),0),0) -> 1 | E6: =IFERROR(VLOOKUP($B:$B,'PPM 2019'!$C:$R,MATCH('1CORP'!E$2,'PPM 2019'!$C$1:$R$1,0),0),0) -> 0 | F6: =IFERROR(VLOOKUP($B:$B,'PPM 2019'!$C:$R,MATCH('1CORP'!F$2,'PPM 2019'!$C$1:$R$1,0),0),0) -> 0 | G6: =IFERROR(VLOOKUP($B:$B,'PPM 2019'!$C:$R,MATCH('1CORP'!G$2,'PPM 2019'!$C$1:$R$1,0),0),0) -> 0 | H6: =IFERROR(VLOOKUP($B:$B,'PPM 2019'!$C:$R,MATCH('1CORP'!H$2,'PPM 2019'!$C$1:$R$1,0),0),0) -> 0 | I6: =IFERROR(VLOOKUP($B:$B,'PPM 2019'!$C:$R,MATCH('1CORP'!I$2,'PPM 2019'!$C$1:$R$1,0),0),0) -> 0 | J6: =IFERROR(VLOOKUP($B:$B,'PPM 2019'!$C:$R,MATCH('1CORP'!J$2,'PPM 2019'!$C$1:$R$1,0),0),0) -> 0 | ... N6: =IFERROR(VLOOKUP($B:$B,'PPM 2019'!$C:$R,MATCH('1CORP'!N$2,'PPM 2019'!$C$1:$R$1,0),0),0) -> 0 | P6: =SUM(OFFSET(C6,,,,$Q$1)) -> 1
B7: Revello Kevin | C7: =IFERROR(VLOOKUP($B:$B,'PPM 2019'!$C:$R,MATCH('1CORP'!C$2,'PPM 2019'!$C$1:$R$1,0),0),0) -> 1 | D7: =IFERROR(VLOOKUP($B:$B,'PPM 2019'!$C:$R,MATCH('1CORP'!D$2,'PPM 2019'!$C$1:$R$1,0),0),0) -> 1 | E7: =IFERROR(VLOOKUP($B:$B,'PPM 2019'!$C:$R,MATCH('1CORP'!E$2,'PPM 2019'!$C$1:$R$1,0),0),0) -> 0 | F7: =IFERROR(VLOOKUP($B:$B,'PPM 2019'!$C:$R,MATCH('1CORP'!F$2,'PPM 2019'!$C$1:$R$1,0),0),0) -> 0 | G7: =IFERROR(VLOOKUP($B:$B,'PPM 2019'!$C:$R,MATCH('1CORP'!G$2,'PPM 2019'!$C$1:$R$1,0),0),0) -> 0 | H7: =IFERROR(VLOOKUP($B:$B,'PPM 2019'!$C:$R,MATCH('1CORP'!H$2,'PPM 2019'!$C$1:$R$1,0),0),0) -> 0 | I7: =IFERROR(VLOOKUP($B:$B,'PPM 2019'!$C:$R,MATCH('1CORP'!I$2,'PPM 2019'!$C$1:$R$1,0),0),0) -> 0 | J7: =IFERROR(VLOOKUP($B:$B,'PPM 2019'!$C:$R,MATCH('1CORP'!J$2,'PPM 2019'!$C$1:$R$1,0),0),0) -> 0 | ... N7: =IFERROR(VLOOKUP($B:$B,'PPM 2019'!$C:$R,MATCH('1CORP'!N$2,'PPM 2019'!$C$1:$R$1,0),0),0) -> 0 | P7: =SUM(OFFSET(C7,,,,$Q$1)) -> 2
A8: 1CORP | B8: TOTAL | C8: =SUM(C7:C7) -> 1 | D8: =SUM(D7:D7) -> 1 | E8: =SUM(E7:E7) -> 0 | F8: =SUM(F7:F7) -> 0 | G8: =SUM(G7:G7) -> 0 | H8: =SUM(H7:H7) -> 0 | I8: =SUM(I7:I7) -> 0 | J8: =SUM(J7:J7) -> 0 | ... N8: =SUM(N7:N7) -> 0 | P8: =SUM(P6:P7) -> 3

Sheet 1DIROP
Q1: =+Synthèse!AV1 -> 2 | R1: 1 | S1: 2 | T1: 3 | U1: 4 | V1: 5 | W1: 6 | X1: 7 | Y1: 8 | Z1: 9 | AA1: 10 | AB1: 11 | AC1: 12
B2: External | C2: 43466 | D2: 43497 | E2: 43525 | F2: 43556 | G2: 43586 | H2: 43617 | I2: 43647 | J2: 43678 | K2: 43709 | L2: 43739 | M2: 43770 | N2: 43800 | P2: YTD
B3: 1DIROP | C3: =C9 -> 1 | D3: =D9 -> 0 | E3: =E9 -> 0 | F3: =F9 -> 0 | G3: =G9 -> 0 | H3: =H9 -> 0 | I3: =I9 -> 0 | J3: =J9 -> 0 | ... N3: =N9 -> 0 | P3: =P9 -> 5
B5: Resources
B6: Majdandzic Emile | C6: =IFERROR(VLOOKUP($B:$B,'PPM 2019'!$C:$R,MATCH('1DIROP'!C$2,'PPM 2019'!$C$1:$R$1,0),0),0) -> 1 | D6: =IFERROR(VLOOKUP($B:$B,'PPM 2019'!$C:$R,MATCH('1DIROP'!D$2,'PPM 2019'!$C$1:$R$1,0),0),0) -> 1 | E6: =IFERROR(VLOOKUP($B:$B,'PPM 2019'!$C:$R,MATCH('1DIROP'!E$2,'PPM 2019'!$C$1:$R$1,0),0),0) -> 0 | F6: =IFERROR(VLOOKUP($B:$B,'PPM 2019'!$C:$R,MATCH('1DIROP'!F$2,'PPM 2019'!$C$1:$R$1,0),0),0) -> 0 | G6: =IFERROR(VLOOKUP($B:$B,'PPM 2019'!$C:$R,MATCH('1DIROP'!G$2,'PPM 2019'!$C$1:$R$1,0),0),0) -> 0 | H6: =IFERROR(VLOOKUP($B:$B,'PPM 2019'!$C:$R,MATCH('1DIROP'!H$2,'PPM 2019'!$C$1:$R$1,0),0),0) -> 0 | I6: =IFERROR(VLOOKUP($B:$B,'PPM 2019'!$C:$R,MATCH('1DIROP'!I$2,'PPM 2019'!$C$1:$R$1,0),0),0) -> 0 | J6: =IFERROR(VLOOKUP($B:$B,'PPM 2019'!$C:$R,MATCH('1DIROP'!J$2,'PPM 2019'!$C$1:$R$1,0),0),0) -> 0 | ... N6: =IFERROR(VLOOKUP($B:$B,'PPM 2019'!$C:$R,MATCH('1DIROP'!N$2,'PPM 2019'!$C$1:$R$1,0),0),0) -> 0 | P6: =SUM(OFFSET(C6,,,,$Q$1)) -> 2
B7: Zumer Yves | C7: =IFERROR(VLOOKUP($B:$B,'PPM 2019'!$C:$R,MATCH('1DIROP'!C$2,'PPM 2019'!$C$1:$R$1,0),0),0) -> 1 | D7: =IFERROR(VLOOKUP($B:$B,'PPM 2019'!$C:$R,MATCH('1DIROP'!D$2,'PPM 2019'!$C$1:$R$1,0),0),0) -> 1 | E7: =IFERROR(VLOOKUP($B:$B,'PPM 2019'!$C:$R,MATCH('1DIROP'!E$2,'PPM 2019'!$C$1:$R$1,0),0),0) -> 0 | F7: =IFERROR(VLOOKUP($B:$B,'PPM 2019'!$C:$R,MATCH('1DIROP'!F$2,'PPM 2019'!$C$1:$R$1,0),0),0) -> 0 | G7: =IFERROR(VLOOKUP($B:$B,'PPM 2019'!$C:$R,MATCH('1DIROP'!G$2,'PPM 2019'!$C$1:$R$1,0),0),0) -> 0 | H7: =IFERROR(VLOOKUP($B:$B,'PPM 2019'!$C:$R,MATCH('1DIROP'!H$2,'PPM 2019'!$C$1:$R$1,0),0),0) -> 0 | I7: =IFERROR(VLOOKUP($B:$B,'PPM 2019'!$C:$R,MATCH('1DIROP'!I$2,'PPM 2019'!$C$1:$R$1,0),0),0) -> 0 | J7: =IFERROR(VLOOKUP($B:$B,'PPM 2019'!$C:$R,MATCH('1DIROP'!J$2,'PPM 2019'!$C$1:$R$1,0),0),0) -> 0 | ... N7: =IFERROR(VLOOKUP($B:$B,'PPM 2019'!$C:$R,MATCH('1DIROP'!N$2,'PPM 2019'!$C$1:$R$1,0),0),0) -> 0 | P7: =SUM(OFFSET(C7,,,,$Q$1)) -> 2
B8: Vicente Jorge | C8: =IFERROR(VLOOKUP($B:$B,'PPM 2019'!$C:$R,MATCH('1DIROP'!C$2,'PPM 2019'!$C$1:$R$1,0),0),0) -> 1 | D8: =IFERROR(VLOOKUP($B:$B,'PPM 2019'!$C:$R,MATCH('1DIROP'!D$2,'PPM 2019'!$C$1:$R$1,0),0),0) -> 0 | E8: =IFERROR(VLOOKUP($B:$B,'PPM 2019'!$C:$R,MATCH('1DIROP'!E$2,'PPM 2019'!$C$1:$R$1,0),0),0) -> 0 | F8: =IFERROR(VLOOKUP($B:$B,'PPM 2019'!$C:$R,MATCH('1DIROP'!F$2,'PPM 2019'!$C$1:$R$1,0),0),0) -> 0 | G8: =IFERROR(VLOOKUP($B:$B,'PPM 2019'!$C:$R,MATCH('1DIROP'!G$2,'PPM 2019'!$C$1:$R$1,0),0),0) -> 0 | H8: =IFERROR(VLOOKUP($B:$B,'PPM 2019'!$C:$R,MATCH('1DIROP'!H$2,'PPM 2019'!$C$1:$R$1,0),0),0) -> 0 | I8: =IFERROR(VLOOKUP($B:$B,'PPM 2019'!$C:$R,MATCH('1DIROP'!I$2,'PPM 2019'!$C$1:$R$1,0),0),0) -> 0 | J8: =IFERROR(VLOOKUP($B:$B,'PPM 2019'!$C:$R,MATCH('1DIROP'!J$2,'PPM 2019'!$C$1:$R$1,0),0),0) -> 0 | ... N8: =IFERROR(VLOOKUP($B:$B,'PPM 2019'!$C:$R,MATCH('1DIROP'!N$2,'PPM 2019'!$C$1:$R$1,0),0),0) -> 0 | P8: =SUM(OFFSET(C8,,,,$Q$1)) -> 1
A9: 1DIROP | B9: TOTAL | C9: =SUM(C8) -> 1 | D9: =SUM(D8) -> 0 | E9: =SUM(E8) -> 0 | F9: =SUM(F8) -> 0 | G9: =SUM(G8) -> 0 | H9: =SUM(H8) -> 0 | I9: =SUM(I8) -> 0 | J9: =SUM(J8) -> 0 | ... N9: =SUM(N8) -> 0 | P9: =SUM(P6:P8) -> 5

Sheet 1ITFIN
Q1: =+Synthèse!AV1 -> 2 | R1: 1 | S1: 2 | T1: 3 | U1: 4 | V1: 5 | W1: 6 | X1: 7 | Y1: 8 | Z1: 9 | AA1: 10 | AB1: 11 | AC1: 12
B2: External | C2: 43466 | D2: 43497 | E2: 43525 | F2: 43556 | G2: 43586 | H2: 43617 | I2: 43647 | J2: 43678 | K2: 43709 | L2: 43739 | M2: 43770 | N2: 43800 | P2: YTD
B3: 1ITFIN | C3: =C14 -> 3 | D3: =D14 -> 6 | E3: =E14 -> 0 | F3: =F14 -> 0 | G3: =G14 -> 0 | H3: =H14 -> 0 | I3: =I14 -> 0 | J3: =J14 -> 0 | ... N3: =N14 -> 0 | P3: =P14 -> 9
B5: Resources
B6: Andrianaivo Eric | C6: =IFERROR(VLOOKUP($B:$B,'PPM 2019'!$C:$R,MATCH('1ITFIN'!C$2,'PPM 2019'!$C$1:$R$1,0),0),0) -> 1 | D6: =IFERROR(VLOOKUP($B:$B,'PPM 2019'!$C:$R,MATCH('1ITFIN'!D$2,'PPM 2019'!$C$1:$R$1,0),0),0) -> 1 | E6: =IFERROR(VLOOKUP($B:$B,'PPM 2019'!$C:$R,MATCH('1ITFIN'!E$2,'PPM 2019'!$C$1:$R$1,0),0),0) -> 0 | F6: =IFERROR(VLOOKUP($B:$B,'PPM 2019'!$C:$R,MATCH('1ITFIN'!F$2,'PPM 2019'!$C$1:$R$1,0),0),0) -> 0 | G6: =IFERROR(VLOOKUP($B:$B,'PPM 2019'!$C:$R,MATCH('1ITFIN'!G$2,'PPM 2019'!$C$1:$R$1,0),0),0) -> 0 | H6: =IFERROR(VLOOKUP($B:$B,'PPM 2019'!$C:$R,MATCH('1ITFIN'!H$2,'PPM 2019'!$C$1:$R$1,0),0),0) -> 0 | I6: =IFERROR(VLOOKUP($B:$B,'PPM 2019'!$C:$R,MATCH('1ITFIN'!I$2,'PPM 2019'!$C$1:$R$1,0),0),0) -> 0 | J6: =IFERROR(VLOOKUP($B:$B,'PPM 2019'!$C:$R,MATCH('1ITFIN'!J$2,'PPM 2019'!$C$1:$R$1,0),0),0) -> 0 | ... N6: =IFERROR(VLOOKUP($B:$B,'PPM 2019'!$C:$R,MATCH('1ITFIN'!N$2,'PPM 2019'!$C$1:$R$1,0),0),0) -> 0 | P6: =SUM(OFFSET(C6,,,,$Q$1)) -> 2
B7: Anjum Osama | C7: =IFERROR(VLOOKUP($B:$B,'PPM 2019'!$C:$R,MATCH('1ITFIN'!C$2,'PPM 2019'!$C$1:$R$1,0),0),0) -> 0 | D7: =IFERROR(VLOOKUP($B:$B,'PPM 2019'!$C:$R,MATCH('1ITFIN'!D$2,'PPM 2019'!$C$1:$R$1,0),0),0) -> 0 | E7: =IFERROR(VLOOKUP($B:$B,'PPM 2019'!$C:$R,MATCH('1ITFIN'!E$2,'PPM 2019'!$C$1:$R$1,0),0),0) -> 0 | F7: =IFERROR(VLOOKUP($B:$B,'PPM 2019'!$C:$R,MATCH('1ITFIN'!F$2,'PPM 2019'!$C$1:$R$1,0),0),0) -> 0 | G7: =IFERROR(VLOOKUP($B:$B,'PPM 2019'!$C:$R,MATCH('1ITFIN'!G$2,'PPM 2019'!$C$1:$R$1,0),0),0) -> 0 | H7: =IFERROR(VLOOKUP($B:$B,'PPM 2019'!$C:$R,MATCH('1ITFIN'!H$2,'PPM 2019'!$C$1:$R$1,0),0),0) -> 0 | I7: =IFERROR(VLOOKUP($B:$B,'PPM 2019'!$C:$R,MATCH('1ITFIN'!I$2,'PPM 2019'!$C$1:$R$1,0),0),0) -> 0 | J7: =IFERROR(VLOOKUP($B:$B,'PPM 2019'!$C:$R,MATCH('1ITFIN'!J$2,'PPM 2019'!$C$1:$R$1,0),0),0) -> 0 | ... N7: =IFERROR(VLOOKUP($B:$B,'PPM 2019'!$C:$R,MATCH('1ITFIN'!N$2,'PPM 2019'!$C$1:$R$1,0),0),0) -> 0 | P7: =SUM(OFFSET(C7,,,,$Q$1)) -> 0
B8: Benhaddou Ghita | C8: =IFERROR(VLOOKUP($B:$B,'PPM 2019'!$C:$R,MATCH('1ITFIN'!C$2,'PPM 2019'!$C$1:$R$1,0),0),0) -> 0 | D8: =IFERROR(VLOOKUP($B:$B,'PPM 2019'!$C:$R,MATCH('1ITFIN'!D$2,'PPM 2019'!$C$1:$R$1,0),0),0) -> 1 | E8: =IFERROR(VLOOKUP($B:$B,'PPM 2019'!$C:$R,MATCH('1ITFIN'!E$2,'PPM 2019'!$C$1:$R$1,0),0),0) -> 0 | F8: =IFERROR(VLOOKUP($B:$B,'PPM 2019'!$C:$R,MATCH('1ITFIN'!F$2,'PPM 2019'!$C$1:$R$1,0),0),0) -> 0 | G8: =IFERROR(VLOOKUP($B:$B,'PPM 2019'!$C:$R,MATCH('1ITFIN'!G$2,'PPM 2019'!$C$1:$R$1,0),0),0) -> 0 | H8: =IFERROR(VLOOKUP($B:$B,'PPM 2019'!$C:$R,MATCH('1ITFIN'!H$2,'PPM 2019'!$C$1:$R$1,0),0),0) -> 0 | I8: =IFERROR(VLOOKUP($B:$B,'PPM 2019'!$C:$R,MATCH('1ITFIN'!I$2,'PPM 2019'!$C$1:$R$1,0),0),0) -> 0 | J8: =IFERROR(VLOOKUP($B:$B,'PPM 2019'!$C:$R,MATCH('1ITFIN'!J$2,'PPM 2019'!$C$1:$R$1,0),0),0) -> 0 | ... N8: =IFERROR(VLOOKUP($B:$B,'PPM 2019'!$C:$R,MATCH('1ITFIN'!N$2,'PPM 2019'!$C$1:$R$1,0),0),0) -> 0 | P8: =SUM(OFFSET(C8,,,,$Q$1)) -> 1
B9: Venkanna Shilpa | C9: =IFERROR(VLOOKUP($B:$B,'PPM 2019'!$C:$R,MATCH('1ITFIN'!C$2,'PPM 2019'!$C$1:$R$1,0),0),0) -> 0 | D9: =IFERROR(VLOOKUP($B:$B,'PPM 2019'!$C:$R,MATCH('1ITFIN'!D$2,'PPM 2019'!$C$1:$R$1,0),0),0) -> 1 | E9: =IFERROR(VLOOKUP($B:$B,'PPM 2019'!$C:$R,MATCH('1ITFIN'!E$2,'PPM 2019'!$C$1:$R$1,0),0),0) -> 0 | F9: =IFERROR(VLOOKUP($B:$B,'PPM 2019'!$C:$R,MATCH('1ITFIN'!F$2,'PPM 2019'!$C$1:$R$1,0),0),0) -> 0 | G9: =IFERROR(VLOOKUP($B:$B,'PPM 2019'!$C:$R,MATCH('1ITFIN'!G$2,'PPM 2019'!$C$1:$R$1,0),0),0) -> 0 | H9: =IFERROR(VLOOKUP($B:$B,'PPM 2019'!$C:$R,MATCH('1ITFIN'!H$2,'PPM 2019'!$C$1:$R$1,0),0),0) -> 0 | I9: =IFERROR(VLOOKUP($B:$B,'PPM 2019'!$C:$R,MATCH('1ITFIN'!I$2,'PPM 2019'!$C$1:$R$1,0),0),0) -> 0 | J9: =IFERROR(VLOOKUP($B:$B,'PPM 2019'!$C:$R,MATCH('1ITFIN'!J$2,'PPM 2019'!$C$1:$R$1,0),0),0) -> 0 | ... N9: =IFERROR(VLOOKUP($B:$B,'PPM 2019'!$C:$R,MATCH('1ITFIN'!N$2,'PPM 2019'!$C$1:$R$1,0),0),0) -> 0 | P9: =SUM(OFFSET(C9,,,,$Q$1)) -> 1
B10: De Boysson Edouard | C10: =IFERROR(VLOOKUP($B:$B,'PPM 2019'!$C:$R,MATCH('1ITFIN'!C$2,'PPM 2019'!$C$1:$R$1,0),0),0) -> 1 | D10: =IFERROR(VLOOKUP($B:$B,'PPM 2019'!$C:$R,MATCH('1ITFIN'!D$2,'PPM 2019'!$C$1:$R$1,0),0),0) -> 1 | E10: =IFERROR(VLOOKUP($B:$B,'PPM 2019'!$C:$R,MATCH('1ITFIN'!E$2,'PPM 2019'!$C$1:$R$1,0),0),0) -> 0 | F10: =IFERROR(VLOOKUP($B:$B,'PPM 2019'!$C:$R,MATCH('1ITFIN'!F$2,'PPM 2019'!$C$1:$R$1,0),0),0) -> 0 | G10: =IFERROR(VLOOKUP($B:$B,'PPM 2019'!$C:$R,MATCH('1ITFIN'!G$2,'PPM 2019'!$C$1:$R$1,0),0),0) -> 0 | H10: =IFERROR(VLOOKUP($B:$B,'PPM 2019'!$C:$R,MATCH('1ITFIN'!H$2,'PPM 2019'!$C$1:$R$1,0),0),0) -> 0 | I10: =IFERROR(VLOOKUP($B:$B,'PPM 2019'!$C:$R,MATCH('1ITFIN'!I$2,'PPM 2019'!$C$1:$R$1,0),0),0) -> 0 | J10: =IFERROR(VLOOKUP($B:$B,'PPM 2019'!$C:$R,MATCH('1ITFIN'!J$2,'PPM 2019'!$C$1:$R$1,0),0),0) -> 0 | ... N10: =IFERROR(VLOOKUP($B:$B,'PPM 2019'!$C:$R,MATCH('1ITFIN'!N$2,'PPM 2019'!$C$1:$R$1,0),0),0) -> 0 | P10: =SUM(OFFSET(C10,,,,$Q$1)) -> 2
B11: Duong Phuong | C11: =IFERROR(VLOOKUP($B:$B,'PPM 2019'!$C:$R,MATCH('1ITFIN'!C$2,'PPM 2019'!$C$1:$R$1,0),0),0) -> 1 | D11: =IFERROR(VLOOKUP($B:$B,'PPM 2019'!$C:$R,MATCH('1ITFIN'!D$2,'PPM 2019'!$C$1:$R$1,0),0),0) -> 1 | E11: =IFERROR(VLOOKUP($B:$B,'PPM 2019'!$C:$R,MATCH('1ITFIN'!E$2,'PPM 2019'!$C$1:$R$1,0),0),0) -> 0 | F11: =IFERROR(VLOOKUP($B:$B,'PPM 2019'!$C:$R,MATCH('1ITFIN'!F$2,'PPM 2019'!$C$1:$R$1,0),0),0) -> 0 | G11: =IFERROR(VLOOKUP($B:$B,'PPM 2019'!$C:$R,MATCH('1ITFIN'!G$2,'PPM 2019'!$C$1:$R$1,0),0),0) -> 0 | H11: =IFERROR(VLOOKUP($B:$B,'PPM 2019'!$C:$R,MATCH('1ITFIN'!H$2,'PPM 2019'!$C$1:$R$1,0),0),0) -> 0 | I11: =IFERROR(VLOOKUP($B:$B,'PPM 2019'!$C:$R,MATCH('1ITFIN'!I$2,'PPM 2019'!$C$1:$R$1,0),0),0) -> 0 | J11: =IFERROR(VLOOKUP($B:$B,'PPM 2019'!$C:$R,MATCH('1ITFIN'!J$2,'PPM 2019'!$C$1:$R$1,0),0),0) -> 0 | ... N11: =IFERROR(VLOOKUP($B:$B,'PPM 2019'!$C:$R,MATCH('1ITFIN'!N$2,'PPM 2019'!$C$1:$R$1,0),0),0) -> 0 | P11: =SUM(OFFSET(C11,,,,$Q$1)) -> 2
B12: Belghith Rym | C12: =IFERROR(VLOOKUP($B:$B,'PPM 2019'!$C:$R,MATCH('1ITFIN'!C$2,'PPM 2019'!$C$1:$R$1,0),0),0) -> 0 | D12: =IFERROR(VLOOKUP($B:$B,'PPM 2019'!$C:$R,MATCH('1ITFIN'!D$2,'PPM 2019'!$C$1:$R$1,0),0),0) -> 1 | E12: =IFERROR(VLOOKUP($B:$B,'PPM 2019'!$C:$R,MATCH('1ITFIN'!E$2,'PPM 2019'!$C$1:$R$1,0),0),0) -> 0 | F12: =IFERROR(VLOOKUP($B:$B,'PPM 2019'!$C:$R,MATCH('1ITFIN'!F$2,'PPM 2019'!$C$1:$R$1,0),0),0) -> 0 | G12: =IFERROR(VLOOKUP($B:$B,'PPM 2019'!$C:$R,MATCH('1ITFIN'!G$2,'PPM 2019'!$C$1:$R$1,0),0),0) -> 0 | H12: =IFERROR(VLOOKUP($B:$B,'PPM 2019'!$C:$R,MATCH('1ITFIN'!H$2,'PPM 2019'!$C$1:$R$1,0),0),0) -> 0 | I12: =IFERROR(VLOOKUP($B:$B,'PPM 2019'!$C:$R,MATCH('1ITFIN'!I$2,'PPM 2019'!$C$1:$R$1,0),0),0) -> 0 | J12: =IFERROR(VLOOKUP($B:$B,'PPM 2019'!$C:$R,MATCH('1ITFIN'!J$2,'PPM 2019'!$C$1:$R$1,0),0),0) -> 0 | ... N12: =IFERROR(VLOOKUP($B:$B,'PPM 2019'!$C:$R,MATCH('1ITFIN'!N$2,'PPM 2019'!$C$1:$R$1,0),0),0) -> 0 | P12: =SUM(OFFSET(C12,,,,$Q$1)) -> 1
B13: Lambropoulos Cyril | C13: =IFERROR(VLOOKUP($B:$B,'PPM 2019'!$C:$R,MATCH('1ITFIN'!C$2,'PPM 2019'!$C$1:$R$1,0),0),0) -> 0 | D13: =IFERROR(VLOOKUP($B:$B,'PPM 2019'!$C:$R,MATCH('1ITFIN'!D$2,'PPM 2019'!$C$1:$R$1,0),0),0) -> 0 | E13: =IFERROR(VLOOKUP($B:$B,'PPM 2019'!$C:$R,MATCH('1ITFIN'!E$2,'PPM 2019'!$C$1:$R$1,0),0),0) -> 0 | F13: =IFERROR(VLOOKUP($B:$B,'PPM 2019'!$C:$R,MATCH('1ITFIN'!F$2,'PPM 2019'!$C$1:$R$1,0),0),0) -> 0 | G13: =IFERROR(VLOOKUP($B:$B,'PPM 2019'!$C:$R,MATCH('1ITFIN'!G$2,'PPM 2019'!$C$1:$R$1,0),0),0) -> 0 | H13: =IFERROR(VLOOKUP($B:$B,'PPM 2019'!$C:$R,MATCH('1ITFIN'!H$2,'PPM 2019'!$C$1:$R$1,0),0),0) -> 0 | I13: =IFERROR(VLOOKUP($B:$B,'PPM 2019'!$C:$R,MATCH('1ITFIN'!I$2,'PPM 2019'!$C$1:$R$1,0),0),0) -> 0 | J13: =IFERROR(VLOOKUP($B:$B,'PPM 2019'!$C:$R,MATCH('1ITFIN'!J$2,'PPM 2019'!$C$1:$R$1,0),0),0) -> 0 | ... N13: =IFERROR(VLOOKUP($B:$B,'PPM 2019'!$C:$R,MATCH('1ITFIN'!N$2,'PPM 2019'!$C$1:$R$1,0),0),0) -> 0 | P13: =SUM(OFFSET(C13,,,,$Q$1)) -> 0
A14: 1ITFIN | B14: TOTAL | C14: =SUM(C6:C13) -> 3 | D14: =SUM(D6:D13) -> 6 | E14: =SUM(E6:E13) -> 0 | F14: =SUM(F6:F13) -> 0 | G14: =SUM(G6:G13) -> 0 | H14: =SUM(H6:H13) -> 0 | I14: =SUM(I6:I13) -> 0 | J14: =SUM(J6:J13) -> 0 | ... N14: =SUM(N6:N13) -> 0 | P14: =SUM(P6:P13) -> 9

Sheet 1ITGF
Q1: =+Synthèse!AV1 -> 2 | R1: 1 | S1: 2 | T1: 3 | U1: 4 | V1: 5 | W1: 6 | X1: 7 | Y1: 8 | Z1: 9 | AA1: 10 | AB1: 11 | AC1: 12
B2: External | C2: 43466 | D2: 43497 | E2: 43525 | F2: 43556 | G2: 43586 | H2: 43617 | I2: 43647 | J2: 43678 | K2: 43709 | L2: 43739 | M2: 43770 | N2: 43800 | P2: YTD
B3: 1DRHP | C3: =C11 -> 5 | D3: =D11 -> 5 | E3: =E11 -> 0 | F3: =F11 -> 0 | G3: =G11 -> 0 | H3: =H11 -> 0 | I3: =I11 -> 0 | J3: =J11 -> 0 | ... N3: =N11 -> 0 | P3: =P11 -> 10
B5: Resources
B6: Chaoui Ntissar | C6: =IFERROR(VLOOKUP($B:$B,'PPM 2019'!$C:$R,MATCH('1ITGF'!C$2,'PPM 2019'!$C$1:$R$1,0),0),0) -> 1 | D6: =IFERROR(VLOOKUP($B:$B,'PPM 2019'!$C:$R,MATCH('1ITGF'!D$2,'PPM 2019'!$C$1:$R$1,0),0),0) -> 1 | E6: =IFERROR(VLOOKUP($B:$B,'PPM 2019'!$C:$R,MATCH('1ITGF'!E$2,'PPM 2019'!$C$1:$R$1,0),0),0) -> 0 | F6: =IFERROR(VLOOKUP($B:$B,'PPM 2019'!$C:$R,MATCH('1ITGF'!F$2,'PPM 2019'!$C$1:$R$1,0),0),0) -> 0 | G6: =IFERROR(VLOOKUP($B:$B,'PPM 2019'!$C:$R,MATCH('1ITGF'!G$2,'PPM 2019'!$C$1:$R$1,0),0),0) -> 0 | H6: =IFERROR(VLOOKUP($B:$B,'PPM 2019'!$C:$R,MATCH('1ITGF'!H$2,'PPM 2019'!$C$1:$R$1,0),0),0) -> 0 | I6: =IFERROR(VLOOKUP($B:$B,'PPM 2019'!$C:$R,MATCH('1ITGF'!I$2,'PPM 2019'!$C$1:$R$1,0),0),0) -> 0 | J6: =IFERROR(VLOOKUP($B:$B,'PPM 2019'!$C:$R,MATCH('1ITGF'!J$2,'PPM 2019'!$C$1:$R$1,0),0),0) -> 0 | ... N6: =IFERROR(VLOOKUP($B:$B,'PPM 2019'!$C:$R,MATCH('1ITGF'!N$2,'PPM 2019'!$C$1:$R$1,0),0),0) -> 0 | P6: =SUM(OFFSET(C6,,,,$Q$1)) -> 2
B7: Chazelas Catherine | C7: =IFERROR(VLOOKUP($B:$B,'PPM 2019'!$C:$R,MATCH('1ITGF'!C$2,'PPM 2019'!$C$1:$R$1,0),0),0) -> 1 | D7: =IFERROR(VLOOKUP($B:$B,'PPM 2019'!$C:$R,MATCH('1ITGF'!D$2,'PPM 2019'!$C$1:$R$1,0),0),0) -> 1 | E7: =IFERROR(VLOOKUP($B:$B,'PPM 2019'!$C:$R,MATCH('1ITGF'!E$2,'PPM 2019'!$C$1:$R$1,0),0),0) -> 0 | F7: =IFERROR(VLOOKUP($B:$B,'PPM 2019'!$C:$R,MATCH('1ITGF'!F$2,'PPM 2019'!$C$1:$R$1,0),0),0) -> 0 | G7: =IFERROR(VLOOKUP($B:$B,'PPM 2019'!$C:$R,MATCH('1ITGF'!G$2,'PPM 2019'!$C$1:$R$1,0),0),0) -> 0 | H7: =IFERROR(VLOOKUP($B:$B,'PPM 2019'!$C:$R,MATCH('1ITGF'!H$2,'PPM 2019'!$C$1:$R$1,0),0),0) -> 0 | I7: =IFERROR(VLOOKUP($B:$B,'PPM 2019'!$C:$R,MATCH('1ITGF'!I$2,'PPM 2019'!$C$1:$R$1,0),0),0) -> 0 | J7: =IFERROR(VLOOKUP($B:$B,'PPM 2019'!$C:$R,MATCH('1ITGF'!J$2,'PPM 2019'!$C$1:$R$1,0),0),0) -> 0 | ... N7: =IFERROR(VLOOKUP($B:$B,'PPM 2019'!$C:$R,MATCH('1ITGF'!N$2,'PPM 2019'!$C$1:$R$1,0),0),0) -> 0 | P7: =SUM(OFFSET(C7,,,,$Q$1)) -> 2
B8: De Burghgrave Laurent | C8: =IFERROR(VLOOKUP($B:$B,'PPM 2019'!$C:$R,MATCH('1ITGF'!C$2,'PPM 2019'!$C$1:$R$1,0),0),0) -> 1 | D8: =IFERROR(VLOOKUP($B:$B,'PPM 2019'!$C:$R,MATCH('1ITGF'!D$2,'PPM 2019'!$C$1:$R$1,0),0),0) -> 1 | E8: =IFERROR(VLOOKUP($B:$B,'PPM 2019'!$C:$R,MATCH('1ITGF'!E$2,'PPM 2019'!$C$1:$R$1,0),0),0) -> 0 | F8: =IFERROR(VLOOKUP($B:$B,'PPM 2019'!$C:$R,MATCH('1ITGF'!F$2,'PPM 2019'!$C$1:$R$1,0),0),0) -> 0 | G8: =IFERROR(VLOOKUP($B:$B,'PPM 2019'!$C:$R,MATCH('1ITGF'!G$2,'PPM 2019'!$C$1:$R$1,0),0),0) -> 0 | H8: =IFERROR(VLOOKUP($B:$B,'PPM 2019'!$C:$R,MATCH('1ITGF'!H$2,'PPM 2019'!$C$1:$R$1,0),0),0) -> 0 | I8: =IFERROR(VLOOKUP($B:$B,'PPM 2019'!$C:$R,MATCH('1ITGF'!I$2,'PPM 2019'!$C$1:$R$1,0),0),0) -> 0 | J8: =IFERROR(VLOOKUP($B:$B,'PPM 2019'!$C:$R,MATCH('1ITGF'!J$2,'PPM 2019'!$C$1:$R$1,0),0),0) -> 0 | ... N8: =IFERROR(VLOOKUP($B:$B,'PPM 2019'!$C:$R,MATCH('1ITGF'!N$2,'PPM 2019'!$C$1:$R$1,0),0),0) -> 0 | P8: =SUM(OFFSET(C8,,,,$Q$1)) -> 2
B9: Debbah Boutaina | C9: =IFERROR(VLOOKUP($B:$B,'PPM 2019'!$C:$R,MATCH('1ITGF'!C$2,'PPM 2019'!$C$1:$R$1,0),0),0) -> 1 | D9: =IFERROR(VLOOKUP($B:$B,'PPM 2019'!$C:$R,MATCH('1ITGF'!D$2,'PPM 2019'!$C$1:$R$1,0),0),0) -> 1 | E9: =IFERROR(VLOOKUP($B:$B,'PPM 2019'!$C:$R,MATCH('1ITGF'!E$2,'PPM 2019'!$C$1:$R$1,0),0),0) -> 0 | F9: =IFERROR(VLOOKUP($B:$B,'PPM 2019'!$C:$R,MATCH('1ITGF'!F$2,'PPM 2019'!$C$1:$R$1,0),0),0) -> 0 | G9: =IFERROR(VLOOKUP($B:$B,'PPM 2019'!$C:$R,MATCH('1ITGF'!G$2,'PPM 2019'!$C$1:$R$1,0),0),0) -> 0 | H9: =IFERROR(VLOOKUP($B:$B,'PPM 2019'!$C:$R,MATCH('1ITGF'!H$2,'PPM 2019'!$C$1:$R$1,0),0),0) -> 0 | I9: =IFERROR(VLOOKUP($B:$B,'PPM 2019'!$C:$R,MATCH('1ITGF'!I$2,'PPM 2019'!$C$1:$R$1,0),0),0) -> 0 | J9: =IFERROR(VLOOKUP($B:$B,'PPM 2019'!$C:$R,MATCH('1ITGF'!J$2,'PPM 2019'!$C$1:$R$1,0),0),0) -> 0 | ... N9: =IFERROR(VLOOKUP($B:$B,'PPM 2019'!$C:$R,MATCH('1ITGF'!N$2,'PPM 2019'!$C$1:$R$1,0),0),0) -> 0 | P9: =SUM(OFFSET(C9,,,,$Q$1)) -> 2
B10: Horen Guillaume | C10: =IFERROR(VLOOKUP($B:$B,'PPM 2019'!$C:$R,MATCH('1ITGF'!C$2,'PPM 2019'!$C$1:$R$1,0),0),0) -> 1 | D10: =IFERROR(VLOOKUP($B:$B,'PPM 2019'!$C:$R,MATCH('1ITGF'!D$2,'PPM 2019'!$C$1:$R$1,0),0),0) -> 1 | E10: =IFERROR(VLOOKUP($B:$B,'PPM 2019'!$C:$R,MATCH('1ITGF'!E$2,'PPM 2019'!$C$1:$R$1,0),0),0) -> 0 | F10: =IFERROR(VLOOKUP($B:$B,'PPM 2019'!$C:$R,MATCH('1ITGF'!F$2,'PPM 2019'!$C$1:$R$1,0),0),0) -> 0 | G10: =IFERROR(VLOOKUP($B:$B,'PPM 2019'!$C:$R,MATCH('1ITGF'!G$2,'PPM 2019'!$C$1:$R$1,0),0),0) -> 0 | H10: =IFERROR(VLOOKUP($B:$B,'PPM 2019'!$C:$R,MATCH('1ITGF'!H$2,'PPM 2019'!$C$1:$R$1,0),0),0) -> 0 | I10: =IFERROR(VLOOKUP($B:$B,'PPM 2019'!$C:$R,MATCH('1ITGF'!I$2,'PPM 2019'!$C$1:$R$1,0),0),0) -> 0 | J10: =IFERROR(VLOOKUP($B:$B,'PPM 2019'!$C:$R,MATCH('1ITGF'!J$2,'PPM 2019'!$C$1:$R$1,0),0),0) -> 0 | ... N10: =IFERROR(VLOOKUP($B:$B,'PPM 2019'!$C:$R,MATCH('1ITGF'!N$2,'PPM 2019'!$C$1:$R$1,0),0),0) -> 0 | P10: =SUM(OFFSET(C10,,,,$Q$1)) -> 2
A11: 1DRHP | B11: TOTAL | C11: =SUM(C6:C10) -> 5 | D11: =SUM(D6:D10) -> 5 | E11: =SUM(E6:E10) -> 0 | F11: =SUM(F6:F10) -> 0 | G11: =SUM(G6:G10) -> 0 | H11: =SUM(H6:H10) -> 0 | I11: =SUM(I6:I10) -> 0 | J11: =SUM(J6:J10) -> 0 | ... N11: =SUM(N6:N10) -> 0 | P11: =SUM(P6:P10) -> 10

Sheet 1ITRUN
Q1: =+Synthèse!AV1 -> 2 | R1: 1 | S1: 2 | T1: 3 | U1: 4 | V1: 5 | W1: 6 | X1: 7 | Y1: 8 | Z1: 9 | AA1: 10 | AB1: 11 | AC1: 12
B2: External | C2: 43466 | D2: 43497 | E2: 43525 | F2: 43556 | G2: 43586 | H2: 43617 | I2: 43647 | J2: 43678 | K2: 43709 | L2: 43739 | M2: 43770 | N2: 43800 | P2: YTD
B3: 1ITRUN | C3: =C18 -> 11 | D3: =D18 -> 8 | E3: =E18 -> 0 | F3: =F18 -> 0 | G3: =G18 -> 0 | H3: =H18 -> 0 | I3: =I18 -> 0 | J3: =J18 -> 0 | ... N3: =N18 -> 0 | P3: =P18 -> 19
B5: Resources
B6: Boubekeur Yamina | C6: =IFERROR(VLOOKUP($B:$B,'PPM 2019'!$C:$R,MATCH('1ITRUN'!C$2,'PPM 2019'!$C$1:$R$1,0),0),0) -> 1 | D6: =IFERROR(VLOOKUP($B:$B,'PPM 2019'!$C:$R,MATCH('1ITRUN'!D$2,'PPM 2019'!$C$1:$R$1,0),0),0) -> 0 | E6: =IFERROR(VLOOKUP($B:$B,'PPM 2019'!$C:$R,MATCH('1ITRUN'!E$2,'PPM 2019'!$C$1:$R$1,0),0),0) -> 0 | F6: =IFERROR(VLOOKUP($B:$B,'PPM 2019'!$C:$R,MATCH('1ITRUN'!F$2,'PPM 2019'!$C$1:$R$1,0),0),0) -> 0 | G6: =IFERROR(VLOOKUP($B:$B,'PPM 2019'!$C:$R,MATCH('1ITRUN'!G$2,'PPM 2019'!$C$1:$R$1,0),0),0) -> 0 | H6: =IFERROR(VLOOKUP($B:$B,'PPM 2019'!$C:$R,MATCH('1ITRUN'!H$2,'PPM 2019'!$C$1:$R$1,0),0),0) -> 0 | I6: =IFERROR(VLOOKUP($B:$B,'PPM 2019'!$C:$R,MATCH('1ITRUN'!I$2,'PPM 2019'!$C$1:$R$1,0),0),0) -> 0 | J6: =IFERROR(VLOOKUP($B:$B,'PPM 2019'!$C:$R,MATCH('1ITRUN'!J$2,'PPM 2019'!$C$1:$R$1,0),0),0) -> 0 | ... N6: =IFERROR(VLOOKUP($B:$B,'PPM 2019'!$C:$R,MATCH('1ITRUN'!N$2,'PPM 2019'!$C$1:$R$1,0),0),0) -> 0 | P6: =SUM(OFFSET(C6,,,,$Q$1)) -> 1
B7: Dupraz Simon | C7: =IFERROR(VLOOKUP($B:$B,'PPM 2019'!$C:$R,MATCH('1ITRUN'!C$2,'PPM 2019'!$C$1:$R$1,0),0),0) -> 1 | D7: =IFERROR(VLOOKUP($B:$B,'PPM 2019'!$C:$R,MATCH('1ITRUN'!D$2,'PPM 2019'!$C$1:$R$1,0),0),0) -> 1 | E7: =IFERROR(VLOOKUP($B:$B,'PPM 2019'!$C:$R,MATCH('1ITRUN'!E$2,'PPM 2019'!$C$1:$R$1,0),0),0) -> 0 | F7: =IFERROR(VLOOKUP($B:$B,'PPM 2019'!$C:$R,MATCH('1ITRUN'!F$2,'PPM 2019'!$C$1:$R$1,0),0),0) -> 0 | G7: =IFERROR(VLOOKUP($B:$B,'PPM 2019'!$C:$R,MATCH('1ITRUN'!G$2,'PPM 2019'!$C$1:$R$1,0),0),0) -> 0 | H7: =IFERROR(VLOOKUP($B:$B,'PPM 2019'!$C:$R,MATCH('1ITRUN'!H$2,'PPM 2019'!$C$1:$R$1,0),0),0) -> 0 | I7: =IFERROR(VLOOKUP($B:$B,'PPM 2019'!$C:$R,MATCH('1ITRUN'!I$2,'PPM 2019'!$C$1:$R$1,0),0),0) -> 0 | J7: =IFERROR(VLOOKUP($B:$B,'PPM 2019'!$C:$R,MATCH('1ITRUN'!J$2,'PPM 2019'!$C$1:$R$1,0),0),0) -> 0 | ... N7: =IFERROR(VLOOKUP($B:$B,'PPM 2019'!$C:$R,MATCH('1ITRUN'!N$2,'PPM 2019'!$C$1:$R$1,0),0),0) -> 0 | P7: =SUM(OFFSET(C7,,,,$Q$1)) -> 2
B8: Ferkatadji Julien | C8: =IFERROR(VLOOKUP($B:$B,'PPM 2019'!$C:$R,MATCH('1ITRUN'!C$2,'PPM 2019'!$C$1:$R$1,0),0),0) -> 1 | D8: =IFERROR(VLOOKUP($B:$B,'PPM 2019'!$C:$R,MATCH('1ITRUN'!D$2,'PPM 2019'!$C$1:$R$1,0),0),0) -> 1 | E8: =IFERROR(VLOOKUP($B:$B,'PPM 2019'!$C:$R,MATCH('1ITRUN'!E$2,'PPM 2019'!$C$1:$R$1,0),0),0) -> 0 | F8: =IFERROR(VLOOKUP($B:$B,'PPM 2019'!$C:$R,MATCH('1ITRUN'!F$2,'PPM 2019'!$C$1:$R$1,0),0),0) -> 0 | G8: =IFERROR(VLOOKUP($B:$B,'PPM 2019'!$C:$R,MATCH('1ITRUN'!G$2,'PPM 2019'!$C$1:$R$1,0),0),0) -> 0 | H8: =IFERROR(VLOOKUP($B:$B,'PPM 2019'!$C:$R,MATCH('1ITRUN'!H$2,'PPM 2019'!$C$1:$R$1,0),0),0) -> 0 | I8: =IFERROR(VLOOKUP($B:$B,'PPM 2019'!$C:$R,MATCH('1ITRUN'!I$2,'PPM 2019'!$C$1:$R$1,0),0),0) -> 0 | J8: =IFERROR(VLOOKUP($B:$B,'PPM 2019'!$C:$R,MATCH('1ITRUN'!J$2,'PPM 2019'!$C$1:$R$1,0),0),0) -> 0 | ... N8: =IFERROR(VLOOKUP($B:$B,'PPM 2019'!$C:$R,MATCH('1ITRUN'!N$2,'PPM 2019'!$C$1:$R$1,0),0),0) -> 0 | P8: =SUM(OFFSET(C8,,,,$Q$1)) -> 2
B9: Feuillet Adrien | C9: =IFERROR(VLOOKUP($B:$B,'PPM 2019'!$C:$R,MATCH('1ITRUN'!C$2,'PPM 2019'!$C$1:$R$1,0),0),0) -> 1 | D9: =IFERROR(VLOOKUP($B:$B,'PPM 2019'!$C:$R,MATCH('1ITRUN'!D$2,'PPM 2019'!$C$1:$R$1,0),0),0) -> 0 | E9: =IFERROR(VLOOKUP($B:$B,'PPM 2019'!$C:$R,MATCH('1ITRUN'!E$2,'PPM 2019'!$C$1:$R$1,0),0),0) -> 0 | F9: =IFERROR(VLOOKUP($B:$B,'PPM 2019'!$C:$R,MATCH('1ITRUN'!F$2,'PPM 2019'!$C$1:$R$1,0),0),0) -> 0 | G9: =IFERROR(VLOOKUP($B:$B,'PPM 2019'!$C:$R,MATCH('1ITRUN'!G$2,'PPM 2019'!$C$1:$R$1,0),0),0) -> 0 | H9: =IFERROR(VLOOKUP($B:$B,'PPM 2019'!$C:$R,MATCH('1ITRUN'!H$2,'PPM 2019'!$C$1:$R$1,0),0),0) -> 0 | I9: =IFERROR(VLOOKUP($B:$B,'PPM 2019'!$C:$R,MATCH('1ITRUN'!I$2,'PPM 2019'!$C$1:$R$1,0),0),0) -> 0 | J9: =IFERROR(VLOOKUP($B:$B,'PPM 2019'!$C:$R,MATCH('1ITRUN'!J$2,'PPM 2019'!$C$1:$R$1,0),0),0) -> 0 | ... N9: =IFERROR(VLOOKUP($B:$B,'PPM 2019'!$C:$R,MATCH('1ITRUN'!N$2,'PPM 2019'!$C$1:$R$1,0),0),0) -> 0 | P9: =SUM(OFFSET(C9,,,,$Q$1)) -> 1
B10: Golubovic Boris | C10: =IFERROR(VLOOKUP($B:$B,'PPM 2019'!$C:$R,MATCH('1ITRUN'!C$2,'PPM 2019'!$C$1:$R$1,0),0),0) -> 1 | D10: =IFERROR(VLOOKUP($B:$B,'PPM 2019'!$C:$R,MATCH('1ITRUN'!D$2,'PPM 2019'!$C$1:$R$1,0),0),0) -> 0 | E10: =IFERROR(VLOOKUP($B:$B,'PPM 2019'!$C:$R,MATCH('1ITRUN'!E$2,'PPM 2019'!$C$1:$R$1,0),0),0) -> 0 | F10: =IFERROR(VLOOKUP($B:$B,'PPM 2019'!$C:$R,MATCH('1ITRUN'!F$2,'PPM 2019'!$C$1:$R$1,0),0),0) -> 0 | G10: =IFERROR(VLOOKUP($B:$B,'PPM 2019'!$C:$R,MATCH('1ITRUN'!G$2,'PPM 2019'!$C$1:$R$1,0),0),0) -> 0 | H10: =IFERROR(VLOOKUP($B:$B,'PPM 2019'!$C:$R,MATCH('1ITRUN'!H$2,'PPM 2019'!$C$1:$R$1,0),0),0) -> 0 | I10: =IFERROR(VLOOKUP($B:$B,'PPM 2019'!$C:$R,MATCH('1ITRUN'!I$2,'PPM 2019'!$C$1:$R$1,0),0),0) -> 0 | J10: =IFERROR(VLOOKUP($B:$B,'PPM 2019'!$C:$R,MATCH('1ITRUN'!J$2,'PPM 2019'!$C$1:$R$1,0),0),0) -> 0 | ... N10: =IFERROR(VLOOKUP($B:$B,'PPM 2019'!$C:$R,MATCH('1ITRUN'!N$2,'PPM 2019'!$C$1:$R$1,0),0),0) -> 0 | P10: =SUM(OFFSET(C10,,,,$Q$1)) -> 1
B11: Goncalves Joa | C11: =IFERROR(VLOOKUP($B:$B,'PPM 2019'!$C:$R,MATCH('1ITRUN'!C$2,'PPM 2019'!$C$1:$R$1,0),0),0) -> 1 | D11: =IFERROR(VLOOKUP($B:$B,'PPM 2019'!$C:$R,MATCH('1ITRUN'!D$2,'PPM 2019'!$C$1:$R$1,0),0),0) -> 1 | E11: =IFERROR(VLOOKUP($B:$B,'PPM 2019'!$C:$R,MATCH('1ITRUN'!E$2,'PPM 2019'!$C$1:$R$1,0),0),0) -> 0 | F11: =IFERROR(VLOOKUP($B:$B,'PPM 2019'!$C:$R,MATCH('1ITRUN'!F$2,'PPM 2019'!$C$1:$R$1,0),0),0) -> 0 | G11: =IFERROR(VLOOKUP($B:$B,'PPM 2019'!$C:$R,MATCH('1ITRUN'!G$2,'PPM 2019'!$C$1:$R$1,0),0),0) -> 0 | H11: =IFERROR(VLOOKUP($B:$B,'PPM 2019'!$C:$R,MATCH('1ITRUN'!H$2,'PPM 2019'!$C$1:$R$1,0),0),0) -> 0 | I11: =IFERROR(VLOOKUP($B:$B,'PPM 2019'!$C:$R,MATCH('1ITRUN'!I$2,'PPM 2019'!$C$1:$R$1,0),0),0) -> 0 | J11: =IFERROR(VLOOKUP($B:$B,'PPM 2019'!$C:$R,MATCH('1ITRUN'!J$2,'PPM 2019'!$C$1:$R$1,0),0),0) -> 0 | ... N11: =IFERROR(VLOOKUP($B:$B,'PPM 2019'!$C:$R,MATCH('1ITRUN'!N$2,'PPM 2019'!$C$1:$R$1,0),0),0) -> 0 | P11: =SUM(OFFSET(C11,,,,$Q$1)) -> 2
B12: Hemmavanh Jennifer | C12: =IFERROR(VLOOKUP($B:$B,'PPM 2019'!$C:$R,MATCH('1ITRUN'!C$2,'PPM 2019'!$C$1:$R$1,0),0),0) -> 1 | D12: =IFERROR(VLOOKUP($B:$B,'PPM 2019'!$C:$R,MATCH('1ITRUN'!D$2,'PPM 2019'!$C$1:$R$1,0),0),0) -> 1 | E12: =IFERROR(VLOOKUP($B:$B,'PPM 2019'!$C:$R,MATCH('1ITRUN'!E$2,'PPM 2019'!$C$1:$R$1,0),0),0) -> 0 | F12: =IFERROR(VLOOKUP($B:$B,'PPM 2019'!$C:$R,MATCH('1ITRUN'!F$2,'PPM 2019'!$C$1:$R$1,0),0),0) -> 0 | G12: =IFERROR(VLOOKUP($B:$B,'PPM 2019'!$C:$R,MATCH('1ITRUN'!G$2,'PPM 2019'!$C$1:$R$1,0),0),0) -> 0 | H12: =IFERROR(VLOOKUP($B:$B,'PPM 2019'!$C:$R,MATCH('1ITRUN'!H$2,'PPM 2019'!$C$1:$R$1,0),0),0) -> 0 | I12: =IFERROR(VLOOKUP($B:$B,'PPM 2019'!$C:$R,MATCH('1ITRUN'!I$2,'PPM 2019'!$C$1:$R$1,0),0),0) -> 0 | J12: =IFERROR(VLOOKUP($B:$B,'PPM 2019'!$C:$R,MATCH('1ITRUN'!J$2,'PPM 2019'!$C$1:$R$1,0),0),0) -> 0 | ... N12: =IFERROR(VLOOKUP($B:$B,'PPM 2019'!$C:$R,MATCH('1ITRUN'!N$2,'PPM 2019'!$C$1:$R$1,0),0),0) -> 0 | P12: =SUM(OFFSET(C12,,,,$Q$1)) -> 2
B13: Jaa Ayoub | C13: =IFERROR(VLOOKUP($B:$B,'PPM 2019'!$C:$R,MATCH('1ITRUN'!C$2,'PPM 2019'!$C$1:$R$1,0),0),0) -> 1 | D13: =IFERROR(VLOOKUP($B:$B,'PPM 2019'!$C:$R,MATCH('1ITRUN'!D$2,'PPM 2019'!$C$1:$R$1,0),0),0) -> 1 | E13: =IFERROR(VLOOKUP($B:$B,'PPM 2019'!$C:$R,MATCH('1ITRUN'!E$2,'PPM 2019'!$C$1:$R$1,0),0),0) -> 0 | F13: =IFERROR(VLOOKUP($B:$B,'PPM 2019'!$C:$R,MATCH('1ITRUN'!F$2,'PPM 2019'!$C$1:$R$1,0),0),0) -> 0 | G13: =IFERROR(VLOOKUP($B:$B,'PPM 2019'!$C:$R,MATCH('1ITRUN'!G$2,'PPM 2019'!$C$1:$R$1,0),0),0) -> 0 | H13: =IFERROR(VLOOKUP($B:$B,'PPM 2019'!$C:$R,MATCH('1ITRUN'!H$2,'PPM 2019'!$C$1:$R$1,0),0),0) -> 0 | I13: =IFERROR(VLOOKUP($B:$B,'PPM 2019'!$C:$R,MATCH('1ITRUN'!I$2,'PPM 2019'!$C$1:$R$1,0),0),0) -> 0 | J13: =IFERROR(VLOOKUP($B:$B,'PPM 2019'!$C:$R,MATCH('1ITRUN'!J$2,'PPM 2019'!$C$1:$R$1,0),0),0) -> 0 | ... N13: =IFERROR(VLOOKUP($B:$B,'PPM 2019'!$C:$R,MATCH('1ITRUN'!N$2,'PPM 2019'!$C$1:$R$1,0),0),0) -> 0 | P13: =SUM(OFFSET(C13,,,,$Q$1)) -> 2
B14: Laimene Amine | C14: =IFERROR(VLOOKUP($B:$B,'PPM 2019'!$C:$R,MATCH('1ITRUN'!C$2,'PPM 2019'!$C$1:$R$1,0),0),0) -> 1 | D14: =IFERROR(VLOOKUP($B:$B,'PPM 2019'!$C:$R,MATCH('1ITRUN'!D$2,'PPM 2019'!$C$1:$R$1,0),0),0) -> 1 | E14: =IFERROR(VLOOKUP($B:$B,'PPM 2019'!$C:$R,MATCH('1ITRUN'!E$2,'PPM 2019'!$C$1:$R$1,0),0),0) -> 0 | F14: =IFERROR(VLOOKUP($B:$B,'PPM 2019'!$C:$R,MATCH('1ITRUN'!F$2,'PPM 2019'!$C$1:$R$1,0),0),0) -> 0 | G14: =IFERROR(VLOOKUP($B:$B,'PPM 2019'!$C:$R,MATCH('1ITRUN'!G$2,'PPM 2019'!$C$1:$R$1,0),0),0) -> 0 | H14: =IFERROR(VLOOKUP($B:$B,'PPM 2019'!$C:$R,MATCH('1ITRUN'!H$2,'PPM 2019'!$C$1:$R$1,0),0),0) -> 0 | I14: =IFERROR(VLOOKUP($B:$B,'PPM 2019'!$C:$R,MATCH('1ITRUN'!I$2,'PPM 2019'!$C$1:$R$1,0),0),0) -> 0 | J14: =IFERROR(VLOOKUP($B:$B,'PPM 2019'!$C:$R,MATCH('1ITRUN'!J$2,'PPM 2019'!$C$1:$R$1,0),0),0) -> 0 | ... N14: =IFERROR(VLOOKUP($B:$B,'PPM 2019'!$C:$R,MATCH('1ITRUN'!N$2,'PPM 2019'!$C$1:$R$1,0),0),0) -> 0 | P14: =SUM(OFFSET(C14,,,,$Q$1)) -> 2
B15: Outalaaynt Fatima | C15: =IFERROR(VLOOKUP($B:$B,'PPM 2019'!$C:$R,MATCH('1ITRUN'!C$2,'PPM 2019'!$C$1:$R$1,0),0),0) -> 1 | D15: =IFERROR(VLOOKUP($B:$B,'PPM 2019'!$C:$R,MATCH('1ITRUN'!D$2,'PPM 2019'!$C$1:$R$1,0),0),0) -> 1 | E15: =IFERROR(VLOOKUP($B:$B,'PPM 2019'!$C:$R,MATCH('1ITRUN'!E$2,'PPM 2019'!$C$1:$R$1,0),0),0) -> 0 | F15: =IFERROR(VLOOKUP($B:$B,'PPM 2019'!$C:$R,MATCH('1ITRUN'!F$2,'PPM 2019'!$C$1:$R$1,0),0),0) -> 0 | G15: =IFERROR(VLOOKUP($B:$B,'PPM 2019'!$C:$R,MATCH('1ITRUN'!G$2,'PPM 2019'!$C$1:$R$1,0),0),0) -> 0 | H15: =IFERROR(VLOOKUP($B:$B,'PPM 2019'!$C:$R,MATCH('1ITRUN'!H$2,'PPM 2019'!$C$1:$R$1,0),0),0) -> 0 | I15: =IFERROR(VLOOKUP($B:$B,'PPM 2019'!$C:$R,MATCH('1ITRUN'!I$2,'PPM 2019'!$C$1:$R$1,0),0),0) -> 0 | J15: =IFERROR(VLOOKUP($B:$B,'PPM 2019'!$C:$R,MATCH('1ITRUN'!J$2,'PPM 2019'!$C$1:$R$1,0),0),0) -> 0 | ... N15: =IFERROR(VLOOKUP($B:$B,'PPM 2019'!$C:$R,MATCH('1ITRUN'!N$2,'PPM 2019'!$C$1:$R$1,0),0),0) -> 0 | P15: =SUM(OFFSET(C15,,,,$Q$1)) -> 2
