Workbook
Name CODE_PPM1: #REF!
Name CODE_PPM1: #REF!
Name CODE_PPM1: #REF!
Name CODE_PPM1: #REF!
Name CODE_PPM1: #REF!
Name CODE_PPM1: #REF!
Name CODE_PPM2: #REF!
Name CODE_PPM2: #REF!
Name CODE_PPM2: #REF!
Name CODE_PPM2: #REF!
Name CODE_PPM2: #REF!
Name CODE_PPM2: #REF!
Name COST_CENTER: #REF!
Name COST_CENTER: #REF!
Name COST_CENTER: #REF!
Name COST_CENTER: #REF!
Name COST_CENTER: #REF!
Name COST_CENTER: #REF!
Name mois: 'Actual Ajusté'!#REF!
Name mois: Ajustement!#REF!
Name mois: Budget!#REF!
Name Mois: Synthèse!$AW$1:$BH$1
Name mois: Actual!#REF!
Name TJM_P3: '[1]TCD TJM'!#REF!
Name TJM_P3: '[1]TCD TJM'!#REF!
Name TJM_P3: '[1]TCD TJM'!#REF!
Name TJM_P3: '[1]TCD TJM'!#REF!
Name TJM_P3: '[1]TCD TJM'!#REF!
Name TJM_P3: '[1]TCD TJM'!#REF!
Name TJM_REEL: '[1]TCD TJM'!#REF!
Name TJM_REEL: '[1]TCD TJM'!#REF!
Name TJM_REEL: '[1]TCD TJM'!#REF!
Name TJM_REEL: '[1]TCD TJM'!#REF!
Name TJM_REEL: '[1]TCD TJM'!#REF!
Name TJM_REEL: '[1]TCD TJM'!#REF!

Sheet Synthèse
A1: Entité | B1: Cost Center | C1: Nom | D1: Critère | E1: Statut contrat | F1: Masse | G1: 43466 | J1: 43497 | M1: 43525 | P1: 43556 | S1: 43586 | V1: 43617 | Y1: 43647 | AB1: 43678 | AE1: 43709 | AH1: 43739 | AK1: 43770 | AN1: 43800 | AR1: YTD | AV1: 2 | AW1: 1 | AX1: 2 | AY1: 3 | AZ1: 4 | BA1: 5 | BB1: 6 | BC1: 7 | BD1: 8 | BE1: 9 | BF1: 10 | BG1: 11 | BH1: 12
G2: Actual | H2: Budget | I2: Act Vs B | J2: Actual | K2: Budget | L2: Act Vs B | M2: Actual | N2: Budget | O2: Act Vs B | P2: Actual | Q2: Budget | R2: Act Vs B | S2: Actual | T2: Budget | U2: Act Vs B | V2: Actual | W2: Budget | X2: Act Vs B | Y2: Actual | Z2: Budget | AA2: Act Vs B | AB2: Actual | AC2: Budget | AD2: Act Vs B | AE2: Actual | AF2: Budget | AG2: Act Vs B | AH2: Actual | AI2: Budget | AJ2: Act Vs B | AK2: Actual | AL2: Budget | AM2: Act Vs B | AN2: Actual | AO2: Budget | AP2: Act Vs B | AR2: Actual | AS2: Budget | AT2: Act Vs B
B3: Total 1BI | G3: =IFERROR(VLOOKUP($B:$B,'Actual Ajusté'!$B:$Q,MATCH(Synthèse!G$1,'Actual Ajusté'!$B$1:$Q$1,0),0),0) -> 7 | H3: =IFERROR(VLOOKUP($B:$B,Budget!$B:$Q,MATCH(Synthèse!G$1,Budget!$B$1:$Q$1,0),0),0) -> 7.8238095 | I3: =+G3-H3 -> -0.82380952 | J3: =IFERROR(VLOOKUP($B:$B,'Actual Ajusté'!$B:$Q,MATCH(Synthèse!J$1,'Actual Ajusté'!$B$1:$Q$1,0),0),0) -> 8 | K3: =IFERROR(VLOOKUP($B:$B,Budget!$B:$Q,MATCH(Synthèse!J$1,Budget!$B$1:$Q$1,0),0),0) -> 7.8238095 | L3: =+J3-K3 -> 0.17619048 | M3: =IFERROR(VLOOKUP($B:$B,'Actual Ajusté'!$B:$Q,MATCH(Synthèse!M$1,'Actual Ajusté'!$B$1:$Q$1,0),0),0) -> 0 | N3: =IFERROR(VLOOKUP($B:$B,Budget!$B:$Q,MATCH(Synthèse!M$1,Budget!$B$1:$Q$1,0),0),0) -> 7.8238095 | O3: =+M3-N3 -> -7.8238095 | P3: =IFERROR(VLOOKUP($B:$B,'Actual Ajusté'!$B:$Q,MATCH(Synthèse!P$1,'Actual Ajusté'!$B$1:$Q$1,0),0),0) -> 0 | Q3: =IFERROR(VLOOKUP($B:$B,Budget!$B:$Q,MATCH(Synthèse!P$1,Budget!$B$1:$Q$1,0),0),0) -> 7.8238095 | R3: =+P3-Q3 -> -7.8238095 | S3: =IFERROR(VLOOKUP($B:$B,'Actual Ajusté'!$B:$Q,MATCH(Synthèse!S$1,'Actual Ajusté'!$B$1:$Q$1,0),0),0) -> 0 | T3: =IFERROR(VLOOKUP($B:$B,Budget!$B:$Q,MATCH(Synthèse!S$1,Budget!$B$1:$Q$1,0),0),0) -> 7.8238095 | U3: =+S3-T3 -> -7.8238095 | V3: =IFERROR(VLOOKUP($B:$B,'Actual Ajusté'!$B:$Q,MATCH(Synthèse!V$1,'Actual Ajusté'!$B$1:$Q$1,0),0),0) -> 0 | W3: =IFERROR(VLOOKUP($B:$B,Budget!$B:$Q,MATCH(Synthèse!V$1,Budget!$B$1:$Q$1,0),0),0) -> 7.8238095 | X3: =+V3-W3 -> -7.8238095 | Y3: =IFERROR(VLOOKUP($B:$B,'Actual Ajusté'!$B:$Q,MATCH(Synthèse!Y$1,'Actual Ajusté'!$B$1:$Q$1,0),0),0) -> 0 | Z3: =IFERROR(VLOOKUP($B:$B,Budget!$B:$Q,MATCH(Synthèse!Y$1,Budget!$B$1:$Q$1,0),0),0) -> 7.8238095 | AA3: =+Y3-Z3 -> -7.8238095 | AB3: =IFERROR(VLOOKUP($B:$B,'Actual Ajusté'!$B:$Q,MATCH(Synthèse!AB$1,'Actual Ajusté'!$B$1:$Q$1,0),0),0) -> 0 | AC3: =IFERROR(VLOOKUP($B:$B,Budget!$B:$Q,MATCH(Synthèse!AB$1,Budget!$B$1:$Q$1,0),0),0) -> 7.8238095 | AD3: =+AB3-AC3 -> -7.8238095 | AE3: =IFERROR(VLOOKUP($B:$B,'Actual Ajusté'!$B:$Q,MATCH(Synthèse!AE$1,'Actual Ajusté'!$B$1:$Q$1,0),0),0) -> 0 | AF3: =IFERROR(VLOOKUP($B:$B,Budget!$B:$Q,MATCH(Synthèse!AE$1,Budget!$B$1:$Q$1,0),0),0) -> 7.8238095 | AG3: =+AE3-AF3 -> -7.8238095 | AH3: =IFERROR(VLOOKUP($B:$B,'Actual Ajusté'!$B:$Q,MATCH(Synthèse!AH$1,'Actual Ajusté'!$B$1:$Q$1,0),0),0) -> 0 | AI3: =IFERROR(VLOOKUP($B:$B,Budget!$B:$Q,MATCH(Synthèse!AH$1,Budget!$B$1:$Q$1,0),0),0) -> 7.8238095 | AJ3: =+AH3-AI3 -> -7.8238095 | AK3: =IFERROR(VLOOKUP($B:$B,'Actual Ajusté'!$B:$Q,MATCH(Synthèse!AK$1,'Actual Ajusté'!$B$1:$Q$1,0),0),0) -> 0 | AL3: =IFERROR(VLOOKUP($B:$B,Budget!$B:$Q,MATCH(Synthèse!AK$1,Budget!$B$1:$Q$1,0),0),0) -> 7.8238095 | AM3: =+AK3-AL3 -> -7.8238095 | AN3: =IFERROR(VLOOKUP($B:$B,'Actual Ajusté'!$B:$Q,MATCH(Synthèse!AN$1,'Actual Ajusté'!$B$1:$Q$1,0),0),0) -> 0 | AO3: =IFERROR(VLOOKUP($B:$B,Budget!$B:$Q,MATCH(Synthèse!AN$1,Budget!$B$1:$Q$1,0),0),0) -> 7.8238095 | AP3: =+AN3-AO3 -> -7.8238095 | AR3: =SUMPRODUCT((MOD(COLUMN(G3:INDIRECT(ADDRESS(3,6+3*$AV$1))),3)=1)*(G3:INDIRECT(ADDRESS(3,6+3*$AV$1)))) -> 15 | AS3: =SUMPRODUCT((MOD(COLUMN(G3:INDIRECT(ADDRESS(3,6+3*$AV$1))),3)=2)*(G3:INDIRECT(ADDRESS(3,6+3*$AV$1)))) -> 15.647619 | AT3: =SUMPRODUCT((MOD(COLUMN(G3:INDIRECT(ADDRESS(3,6+3*$AV$1))),3)=0)*(G3:INDIRECT(ADDRESS(3,6+3*$AV$1)))) -> -0.64761905
B4: Total 1BUS | G4: =IFERROR(VLOOKUP($B:$B,'Actual Ajusté'!$B:$Q,MATCH(Synthèse!G$1,'Actual Ajusté'!$B$1:$Q$1,0),0),0) -> 13 | H4: =IFERROR(VLOOKUP($B:$B,Budget!$B:$Q,MATCH(Synthèse!G$1,Budget!$B$1:$Q$1,0),0),0) -> 14.333333 | I4: =+G4-H4 -> -1.3333333 | J4: =IFERROR(VLOOKUP($B:$B,'Actual Ajusté'!$B:$Q,MATCH(Synthèse!J$1,'Actual Ajusté'!$B$1:$Q$1,0),0),0) -> 12 | K4: =IFERROR(VLOOKUP($B:$B,Budget!$B:$Q,MATCH(Synthèse!J$1,Budget!$B$1:$Q$1,0),0),0) -> 14.333333 | L4: =+J4-K4 -> -2.3333333 | M4: =IFERROR(VLOOKUP($B:$B,'Actual Ajusté'!$B:$Q,MATCH(Synthèse!M$1,'Actual Ajusté'!$B$1:$Q$1,0),0),0) -> 0 | N4: =IFERROR(VLOOKUP($B:$B,Budget!$B:$Q,MATCH(Synthèse!M$1,Budget!$B$1:$Q$1,0),0),0) -> 14.333333 | O4: =+M4-N4 -> -14.333333 | P4: =IFERROR(VLOOKUP($B:$B,'Actual Ajusté'!$B:$Q,MATCH(Synthèse!P$1,'Actual Ajusté'!$B$1:$Q$1,0),0),0) -> 0 | Q4: =IFERROR(VLOOKUP($B:$B,Budget!$B:$Q,MATCH(Synthèse!P$1,Budget!$B$1:$Q$1,0),0),0) -> 14.333333 | R4: =+P4-Q4 -> -14.333333 | S4: =IFERROR(VLOOKUP($B:$B,'Actual Ajusté'!$B:$Q,MATCH(Synthèse!S$1,'Actual Ajusté'!$B$1:$Q$1,0),0),0) -> 0 | T4: =IFERROR(VLOOKUP($B:$B,Budget!$B:$Q,MATCH(Synthèse!S$1,Budget!$B$1:$Q$1,0),0),0) -> 14.333333 | U4: =+S4-T4 -> -14.333333 | V4: =IFERROR(VLOOKUP($B:$B,'Actual Ajusté'!$B:$Q,MATCH(Synthèse!V$1,'Actual Ajusté'!$B$1:$Q$1,0),0),0) -> 0 | W4: =IFERROR(VLOOKUP($B:$B,Budget!$B:$Q,MATCH(Synthèse!V$1,Budget!$B$1:$Q$1,0),0),0) -> 14.333333 | X4: =+V4-W4 -> -14.333333 | Y4: =IFERROR(VLOOKUP($B:$B,'Actual Ajusté'!$B:$Q,MATCH(Synthèse!Y$1,'Actual Ajusté'!$B$1:$Q$1,0),0),0) -> 0 | Z4: =IFERROR(VLOOKUP($B:$B,Budget!$B:$Q,MATCH(Synthèse!Y$1,Budget!$B$1:$Q$1,0),0),0) -> 14.333333 | AA4: =+Y4-Z4 -> -14.333333 | AB4: =IFERROR(VLOOKUP($B:$B,'Actual Ajusté'!$B:$Q,MATCH(Synthèse!AB$1,'Actual Ajusté'!$B$1:$Q$1,0),0),0) -> 0 | AC4: =IFERROR(VLOOKUP($B:$B,Budget!$B:$Q,MATCH(Synthèse!AB$1,Budget!$B$1:$Q$1,0),0),0) -> 14.333333 | AD4: =+AB4-AC4 -> -14.333333 | AE4: =IFERROR(VLOOKUP($B:$B,'Actual Ajusté'!$B:$Q,MATCH(Synthèse!AE$1,'Actual Ajusté'!$B$1:$Q$1,0),0),0) -> 0 | AF4: =IFERROR(VLOOKUP($B:$B,Budget!$B:$Q,MATCH(Synthèse!AE$1,Budget!$B$1:$Q$1,0),0),0) -> 14.333333 | AG4: =+AE4-AF4 -> -14.333333 | AH4: =IFERROR(VLOOKUP($B:$B,'Actual Ajusté'!$B:$Q,MATCH(Synthèse!AH$1,'Actual Ajusté'!$B$1:$Q$1,0),0),0) -> 0 | AI4: =IFERROR(VLOOKUP($B:$B,Budget!$B:$Q,MATCH(Synthèse!AH$1,Budget!$B$1:$Q$1,0),0),0) -> 14.333333 | AJ4: =+AH4-AI4 -> -14.333333 | AK4: =IFERROR(VLOOKUP($B:$B,'Actual Ajusté'!$B:$Q,MATCH(Synthèse!AK$1,'Actual Ajusté'!$B$1:$Q$1,0),0),0) -> 0 | AL4: =IFERROR(VLOOKUP($B:$B,Budget!$B:$Q,MATCH(Synthèse!AK$1,Budget!$B$1:$Q$1,0),0),0) -> 14.333333 | AM4: =+AK4-AL4 -> -14.333333 | AN4: =IFERROR(VLOOKUP($B:$B,'Actual Ajusté'!$B:$Q,MATCH(Synthèse!AN$1,'Actual Ajusté'!$B$1:$Q$1,0),0),0) -> 0 | AO4: =IFERROR(VLOOKUP($B:$B,Budget!$B:$Q,MATCH(Synthèse!AN$1,Budget!$B$1:$Q$1,0),0),0) -> 14.333333 | AP4: =+AN4-AO4 -> -14.333333 | AR4: =SUMPRODUCT((MOD(COLUMN(G4:INDIRECT(ADDRESS(4,6+3*$AV$1))),3)=1)*(G4:INDIRECT(ADDRESS(4,6+3*$AV$1)))) -> 25 | AS4: =SUMPRODUCT((MOD(COLUMN(G4:INDIRECT(ADDRESS(4,6+3*$AV$1))),3)=2)*(G4:INDIRECT(ADDRESS(4,6+3*$AV$1)))) -> 28.666667 | AT4: =SUMPRODUCT((MOD(COLUMN(G4:INDIRECT(ADDRESS(4,6+3*$AV$1))),3)=0)*(G4:INDIRECT(ADDRESS(4,6+3*$AV$1)))) -> -3.6666667
B5: Total 1CORP | G5: =IFERROR(VLOOKUP($B:$B,'Actual Ajusté'!$B:$Q,MATCH(Synthèse!G$1,'Actual Ajusté'!$B$1:$Q$1,0),0),0) -> 0 | H5: =IFERROR(VLOOKUP($B:$B,Budget!$B:$Q,MATCH(Synthèse!G$1,Budget!$B$1:$Q$1,0),0),0) -> 1 | I5: =+G5-H5 -> -1 | J5: =IFERROR(VLOOKUP($B:$B,'Actual Ajusté'!$B:$Q,MATCH(Synthèse!J$1,'Actual Ajusté'!$B$1:$Q$1,0),0),0) -> 1 | K5: =IFERROR(VLOOKUP($B:$B,Budget!$B:$Q,MATCH(Synthèse!J$1,Budget!$B$1:$Q$1,0),0),0) -> 1 | L5: =+J5-K5 -> 0 | M5: =IFERROR(VLOOKUP($B:$B,'Actual Ajusté'!$B:$Q,MATCH(Synthèse!M$1,'Actual Ajusté'!$B$1:$Q$1,0),0),0) -> 0 | N5: =IFERROR(VLOOKUP($B:$B,Budget!$B:$Q,MATCH(Synthèse!M$1,Budget!$B$1:$Q$1,0),0),0) -> 1 | O5: =+M5-N5 -> -1 | P5: =IFERROR(VLOOKUP($B:$B,'Actual Ajusté'!$B:$Q,MATCH(Synthèse!P$1,'Actual Ajusté'!$B$1:$Q$1,0),0),0) -> 0 | Q5: =IFERROR(VLOOKUP($B:$B,Budget!$B:$Q,MATCH(Synthèse!P$1,Budget!$B$1:$Q$1,0),0),0) -> 1 | R5: =+P5-Q5 -> -1 | S5: =IFERROR(VLOOKUP($B:$B,'Actual Ajusté'!$B:$Q,MATCH(Synthèse!S$1,'Actual Ajusté'!$B$1:$Q$1,0),0),0) -> 0 | T5: =IFERROR(VLOOKUP($B:$B,Budget!$B:$Q,MATCH(Synthèse!S$1,Budget!$B$1:$Q$1,0),0),0) -> 1 | U5: =+S5-T5 -> -1 | V5: =IFERROR(VLOOKUP($B:$B,'Actual Ajusté'!$B:$Q,MATCH(Synthèse!V$1,'Actual Ajusté'!$B$1:$Q$1,0),0),0) -> 0 | W5: =IFERROR(VLOOKUP($B:$B,Budget!$B:$Q,MATCH(Synthèse!V$1,Budget!$B$1:$Q$1,0),0),0) -> 1 | X5: =+V5-W5 -> -1 | Y5: =IFERROR(VLOOKUP($B:$B,'Actual Ajusté'!$B:$Q,MATCH(Synthèse!Y$1,'Actual Ajusté'!$B$1:$Q$1,0),0),0) -> 0 | Z5: =IFERROR(VLOOKUP($B:$B,Budget!$B:$Q,MATCH(Synthèse!Y$1,Budget!$B$1:$Q$1,0),0),0) -> 1 | AA5: =+Y5-Z5 -> -1 | AB5: =IFERROR(VLOOKUP($B:$B,'Actual Ajusté'!$B:$Q,MATCH(Synthèse!AB$1,'Actual Ajusté'!$B$1:$Q$1,0),0),0) -> 0 | AC5: =IFERROR(VLOOKUP($B:$B,Budget!$B:$Q,MATCH(Synthèse!AB$1,Budget!$B$1:$Q$1,0),0),0) -> 1 | AD5: =+AB5-AC5 -> -1 | AE5: =IFERROR(VLOOKUP($B:$B,'Actual Ajusté'!$B:$Q,MATCH(Synthèse!AE$1,'Actual Ajusté'!$B$1:$Q$1,0),0),0) -> 0 | AF5: =IFERROR(VLOOKUP($B:$B,Budget!$B:$Q,MATCH(Synthèse!AE$1,Budget!$B$1:$Q$1,0),0),0) -> 1 | AG5: =+AE5-AF5 -> -1 | AH5: =IFERROR(VLOOKUP($B:$B,'Actual Ajusté'!$B:$Q,MATCH(Synthèse!AH$1,'Actual Ajusté'!$B$1:$Q$1,0),0),0) -> 0 | AI5: =IFERROR(VLOOKUP($B:$B,Budget!$B:$Q,MATCH(Synthèse!AH$1,Budget!$B$1:$Q$1,0),0),0) -> 1 | AJ5: =+AH5-AI5 -> -1 | AK5: =IFERROR(VLOOKUP($B:$B,'Actual Ajusté'!$B:$Q,MATCH(Synthèse!AK$1,'Actual Ajusté'!$B$1:$Q$1,0),0),0) -> 0 | AL5: =IFERROR(VLOOKUP($B:$B,Budget!$B:$Q,MATCH(Synthèse!AK$1,Budget!$B$1:$Q$1,0),0),0) -> 1 | AM5: =+AK5-AL5 -> -1 | AN5: =IFERROR(VLOOKUP($B:$B,'Actual Ajusté'!$B:$Q,MATCH(Synthèse!AN$1,'Actual Ajusté'!$B$1:$Q$1,0),0),0) -> 0 | AO5: =IFERROR(VLOOKUP($B:$B,Budget!$B:$Q,MATCH(Synthèse!AN$1,Budget!$B$1:$Q$1,0),0),0) -> 1 | AP5: =+AN5-AO5 -> -1 | AR5: =SUMPRODUCT((MOD(COLUMN(G5:INDIRECT(ADDRESS(5,6+3*$AV$1))),3)=1)*(G5:INDIRECT(ADDRESS(5,6+3*$AV$1)))) -> 1 | AS5: =SUMPRODUCT((MOD(COLUMN(G5:INDIRECT(ADDRESS(5,6+3*$AV$1))),3)=2)*(G5:INDIRECT(ADDRESS(5,6+3*$AV$1)))) -> 2 | AT5: =SUMPRODUCT((MOD(COLUMN(G5:INDIRECT(ADDRESS(5,6+3*$AV$1))),3)=0)*(G5:INDIRECT(ADDRESS(5,6+3*$AV$1)))) -> -1
B6: Total 1ITFIN | G6: =IFERROR(VLOOKUP($B:$B,'Actual Ajusté'!$B:$Q,MATCH(Synthèse!G$1,'Actual Ajusté'!$B$1:$Q$1,0),0),0) -> 3 | H6: =IFERROR(VLOOKUP($B:$B,Budget!$B:$Q,MATCH(Synthèse!G$1,Budget!$B$1:$Q$1,0),0),0) -> 2.3333333 | I6: =+G6-H6 -> 0.66666667 | J6: =IFERROR(VLOOKUP($B:$B,'Actual Ajusté'!$B:$Q,MATCH(Synthèse!J$1,'Actual Ajusté'!$B$1:$Q$1,0),0),0) -> 6 | K6: =IFERROR(VLOOKUP($B:$B,Budget!$B:$Q,MATCH(Synthèse!J$1,Budget!$B$1:$Q$1,0),0),0) -> 2.3333333 | L6: =+J6-K6 -> 3.6666667 | M6: =IFERROR(VLOOKUP($B:$B,'Actual Ajusté'!$B:$Q,MATCH(Synthèse!M$1,'Actual Ajusté'!$B$1:$Q$1,0),0),0) -> 0 | N6: =IFERROR(VLOOKUP($B:$B,Budget!$B:$Q,MATCH(Synthèse!M$1,Budget!$B$1:$Q$1,0),0),0) -> 2.3333333 | O6: =+M6-N6 -> -2.3333333 | P6: =IFERROR(VLOOKUP($B:$B,'Actual Ajusté'!$B:$Q,MATCH(Synthèse!P$1,'Actual Ajusté'!$B$1:$Q$1,0),0),0) -> 0 | Q6: =IFERROR(VLOOKUP($B:$B,Budget!$B:$Q,MATCH(Synthèse!P$1,Budget!$B$1:$Q$1,0),0),0) -> 2.3333333 | R6: =+P6-Q6 -> -2.3333333 | S6: =IFERROR(VLOOKUP($B:$B,'Actual Ajusté'!$B:$Q,MATCH(Synthèse!S$1,'Actual Ajusté'!$B$1:$Q$1,0),0),0) -> 0 | T6: =IFERROR(VLOOKUP($B:$B,Budget!$B:$Q,MATCH(Synthèse!S$1,Budget!$B$1:$Q$1,0),0),0) -> 2.3333333 | U6: =+S6-T6 -> -2.3333333 | V6: =IFERROR(VLOOKUP($B:$B,'Actual Ajusté'!$B:$Q,MATCH(Synthèse!V$1,'Actual Ajusté'!$B$1:$Q$1,0),0),0) -> 0 | W6: =IFERROR(VLOOKUP($B:$B,Budget!$B:$Q,MATCH(Synthèse!V$1,Budget!$B$1:$Q$1,0),0),0) -> 2.3333333 | X6: =+V6-W6 -> -2.3333333 | Y6: =IFERROR(VLOOKUP($B:$B,'Actual Ajusté'!$B:$Q,MATCH(Synthèse!Y$1,'Actual Ajusté'!$B$1:$Q$1,0),0),0) -> 0 | Z6: =IFERROR(VLOOKUP($B:$B,Budget!$B:$Q,MATCH(Synthèse!Y$1,Budget!$B$1:$Q$1,0),0),0) -> 2.3333333 | AA6: =+Y6-Z6 -> -2.3333333 | AB6: =IFERROR(VLOOKUP($B:$B,'Actual Ajusté'!$B:$Q,MATCH(Synthèse!AB$1,'Actual Ajusté'!$B$1:$Q$1,0),0),0) -> 0 | AC6: =IFERROR(VLOOKUP($B:$B,Budget!$B:$Q,MATCH(Synthèse!AB$1,Budget!$B$1:$Q$1,0),0),0) -> 2.3333333 | AD6: =+AB6-AC6 -> -2.3333333 | AE6: =IFERROR(VLOOKUP($B:$B,'Actual Ajusté'!$B:$Q,MATCH(Synthèse!AE$1,'Actual Ajusté'!$B$1:$Q$1,0),0),0) -> 0 | AF6: =IFERROR(VLOOKUP($B:$B,Budget!$B:$Q,MATCH(Synthèse!AE$1,Budget!$B$1:$Q$1,0),0),0) -> 2.3333333 | AG6: =+AE6-AF6 -> -2.3333333 | AH6: =IFERROR(VLOOKUP($B:$B,'Actual Ajusté'!$B:$Q,MATCH(Synthèse!AH$1,'Actual Ajusté'!$B$1:$Q$1,0),0),0) -> 0 | AI6: =IFERROR(VLOOKUP($B:$B,Budget!$B:$Q,MATCH(Synthèse!AH$1,Budget!$B$1:$Q$1,0),0),0) -> 2.3333333 | AJ6: =+AH6-AI6 -> -2.3333333 | AK6: =IFERROR(VLOOKUP($B:$B,'Actual Ajusté'!$B:$Q,MATCH(Synthèse!AK$1,'Actual Ajusté'!$B$1:$Q$1,0),0),0) -> 0 | AL6: =IFERROR(VLOOKUP($B:$B,Budget!$B:$Q,MATCH(Synthèse!AK$1,Budget!$B$1:$Q$1,0),0),0) -> 2.3333333 | AM6: =+AK6-AL6 -> -2.3333333 | AN6: =IFERROR(VLOOKUP($B:$B,'Actual Ajusté'!$B:$Q,MATCH(Synthèse!AN$1,'Actual Ajusté'!$B$1:$Q$1,0),0),0) -> 0 | AO6: =IFERROR(VLOOKUP($B:$B,Budget!$B:$Q,MATCH(Synthèse!AN$1,Budget!$B$1:$Q$1,0),0),0) -> 2.3333333 | AP6: =+AN6-AO6 -> -2.3333333 | AR6: =SUMPRODUCT((MOD(COLUMN(G6:INDIRECT(ADDRESS(6,6+3*$AV$1))),3)=1)*(G6:INDIRECT(ADDRESS(6,6+3*$AV$1)))) -> 9 | AS6: =SUMPRODUCT((MOD(COLUMN(G6:INDIRECT(ADDRESS(6,6+3*$AV$1))),3)=2)*(G6:INDIRECT(ADDRESS(6,6+3*$AV$1)))) -> 4.6666667 | AT6: =SUMPRODUCT((MOD(COLUMN(G6:INDIRECT(ADDRESS(6,6+3*$AV$1))),3)=0)*(G6:INDIRECT(ADDRESS(6,6+3*$AV$1)))) -> 4.3333333
B7: Total 1ITGF | G7: =IFERROR(VLOOKUP($B:$B,'Actual Ajusté'!$B:$Q,MATCH(Synthèse!G$1,'Actual Ajusté'!$B$1:$Q$1,0),0),0) -> 5 | H7: =IFERROR(VLOOKUP($B:$B,Budget!$B:$Q,MATCH(Synthèse!G$1,Budget!$B$1:$Q$1,0),0),0) -> 3.6666667 | I7: =+G7-H7 -> 1.3333333 | J7: =IFERROR(VLOOKUP($B:$B,'Actual Ajusté'!$B:$Q,MATCH(Synthèse!J$1,'Actual Ajusté'!$B$1:$Q$1,0),0),0) -> 5 | K7: =IFERROR(VLOOKUP($B:$B,Budget!$B:$Q,MATCH(Synthèse!J$1,Budget!$B$1:$Q$1,0),0),0) -> 3.6666667 | L7: =+J7-K7 -> 1.3333333 | M7: =IFERROR(VLOOKUP($B:$B,'Actual Ajusté'!$B:$Q,MATCH(Synthèse!M$1,'Actual Ajusté'!$B$1:$Q$1,0),0),0) -> 0 | N7: =IFERROR(VLOOKUP($B:$B,Budget!$B:$Q,MATCH(Synthèse!M$1,Budget!$B$1:$Q$1,0),0),0) -> 3.6666667 | O7: =+M7-N7 -> -3.6666667 | P7: =IFERROR(VLOOKUP($B:$B,'Actual Ajusté'!$B:$Q,MATCH(Synthèse!P$1,'Actual Ajusté'!$B$1:$Q$1,0),0),0) -> 0 | Q7: =IFERROR(VLOOKUP($B:$B,Budget!$B:$Q,MATCH(Synthèse!P$1,Budget!$B$1:$Q$1,0),0),0) -> 3.6666667 | R7: =+P7-Q7 -> -3.6666667 | S7: =IFERROR(VLOOKUP($B:$B,'Actual Ajusté'!$B:$Q,MATCH(Synthèse!S$1,'Actual Ajusté'!$B$1:$Q$1,0),0),0) -> 0 | T7: =IFERROR(VLOOKUP($B:$B,Budget!$B:$Q,MATCH(Synthèse!S$1,Budget!$B$1:$Q$1,0),0),0) -> 3.6666667 | U7: =+S7-T7 -> -3.6666667 | V7: =IFERROR(VLOOKUP($B:$B,'Actual Ajusté'!$B:$Q,MATCH(Synthèse!V$1,'Actual Ajusté'!$B$1:$Q$1,0),0),0) -> 0 | W7: =IFERROR(VLOOKUP($B:$B,Budget!$B:$Q,MATCH(Synthèse!V$1,Budget!$B$1:$Q$1,0),0),0) -> 3.6666667 | X7: =+V7-W7 -> -3.6666667 | Y7: =IFERROR(VLOOKUP($B:$B,'Actual Ajusté'!$B:$Q,MATCH(Synthèse!Y$1,'Actual Ajusté'!$B$1:$Q$1,0),0),0) -> 0 | Z7: =IFERROR(VLOOKUP($B:$B,Budget!$B:$Q,MATCH(Synthèse!Y$1,Budget!$B$1:$Q$1,0),0),0) -> 3.6666667 | AA7: =+Y7-Z7 -> -3.6666667 | AB7: =IFERROR(VLOOKUP($B:$B,'Actual Ajusté'!$B:$Q,MATCH(Synthèse!AB$1,'Actual Ajusté'!$B$1:$Q$1,0),0),0) -> 0 | AC7: =IFERROR(VLOOKUP($B:$B,Budget!$B:$Q,MATCH(Synthèse!AB$1,Budget!$B$1:$Q$1,0),0),0) -> 3.6666667 | AD7: =+AB7-AC7 -> -3.6666667 | AE7: =IFERROR(VLOOKUP($B:$B,'Actual Ajusté'!$B:$Q,MATCH(Synthèse!AE$1,'Actual Ajusté'!$B$1:$Q$1,0),0),0) -> 0 | AF7: =IFERROR(VLOOKUP($B:$B,Budget!$B:$Q,MATCH(Synthèse!AE$1,Budget!$B$1:$Q$1,0),0),0) -> 3.6666667 | AG7: =+AE7-AF7 -> -3.6666667 | AH7: =IFERROR(VLOOKUP($B:$B,'Actual Ajusté'!$B:$Q,MATCH(Synthèse!AH$1,'Actual Ajusté'!$B$1:$Q$1,0),0),0) -> 0 | AI7: =IFERROR(VLOOKUP($B:$B,Budget!$B:$Q,MATCH(Synthèse!AH$1,Budget!$B$1:$Q$1,0),0),0) -> 3.6666667 | AJ7: =+AH7-AI7 -> -3.6666667 | AK7: =IFERROR(VLOOKUP($B:$B,'Actual Ajusté'!$B:$Q,MATCH(Synthèse!AK$1,'Actual Ajusté'!$B$1:$Q$1,0),0),0) -> 0 | AL7: =IFERROR(VLOOKUP($B:$B,Budget!$B:$Q,MATCH(Synthèse!AK$1,Budget!$B$1:$Q$1,0),0),0) -> 3.6666667 | AM7: =+AK7-AL7 -> -3.6666667 | AN7: =IFERROR(VLOOKUP($B:$B,'Actual Ajusté'!$B:$Q,MATCH(Synthèse!AN$1,'Actual Ajusté'!$B$1:$Q$1,0),0),0) -> 0 | AO7: =IFERROR(VLOOKUP($B:$B,Budget!$B:$Q,MATCH(Synthèse!AN$1,Budget!$B$1:$Q$1,0),0),0) -> 3.6666667 | AP7: =+AN7-AO7 -> -3.6666667 | AR7: =SUMPRODUCT((MOD(COLUMN(G7:INDIRECT(ADDRESS(7,6+3*$AV$1))),3)=1)*(G7:INDIRECT(ADDRESS(7,6+3*$AV$1)))) -> 10 | AS7: =SUMPRODUCT((MOD(COLUMN(H7:INDIRECT(ADDRESS(7,6+3*$AV$1))),3)=2)*(H7:INDIRECT(ADDRESS(7,6+3*$AV$1)))) -> 7.3333333 | AT7: =SUMPRODUCT((MOD(COLUMN(I7:INDIRECT(ADDRESS(7,6+3*$AV$1))),3)=0)*(I7:INDIRECT(ADDRESS(7,6+3*$AV$1)))) -> 2.6666667
B8: Total 1ITRUN | G8: =IFERROR(VLOOKUP($B:$B,'Actual Ajusté'!$B:$Q,MATCH(Synthèse!G$1,'Actual Ajusté'!$B$1:$Q$1,0),0),0) -> 11 | H8: =IFERROR(VLOOKUP($B:$B,Budget!$B:$Q,MATCH(Synthèse!G$1,Budget!$B$1:$Q$1,0),0),0) -> 10 | I8: =+G8-H8 -> 1 | J8: =IFERROR(VLOOKUP($B:$B,'Actual Ajusté'!$B:$Q,MATCH(Synthèse!J$1,'Actual Ajusté'!$B$1:$Q$1,0),0),0) -> 8 | K8: =IFERROR(VLOOKUP($B:$B,Budget!$B:$Q,MATCH(Synthèse!J$1,Budget!$B$1:$Q$1,0),0),0) -> 10 | L8: =+J8-K8 -> -2 | M8: =IFERROR(VLOOKUP($B:$B,'Actual Ajusté'!$B:$Q,MATCH(Synthèse!M$1,'Actual Ajusté'!$B$1:$Q$1,0),0),0) -> 0 | N8: =IFERROR(VLOOKUP($B:$B,Budget!$B:$Q,MATCH(Synthèse!M$1,Budget!$B$1:$Q$1,0),0),0) -> 10 | O8: =+M8-N8 -> -10 | P8: =IFERROR(VLOOKUP($B:$B,'Actual Ajusté'!$B:$Q,MATCH(Synthèse!P$1,'Actual Ajusté'!$B$1:$Q$1,0),0),0) -> 0 | Q8: =IFERROR(VLOOKUP($B:$B,Budget!$B:$Q,MATCH(Synthèse!P$1,Budget!$B$1:$Q$1,0),0),0) -> 10 | R8: =+P8-Q8 -> -10 | S8: =IFERROR(VLOOKUP($B:$B,'Actual Ajusté'!$B:$Q,MATCH(Synthèse!S$1,'Actual Ajusté'!$B$1:$Q$1,0),0),0) -> 0 | T8: =IFERROR(VLOOKUP($B:$B,Budget!$B:$Q,MATCH(Synthèse!S$1,Budget!$B$1:$Q$1,0),0),0) -> 10 | U8: =+S8-T8 -> -10 | V8: =IFERROR(VLOOKUP($B:$B,'Actual Ajusté'!$B:$Q,MATCH(Synthèse!V$1,'Actual Ajusté'!$B$1:$Q$1,0),0),0) -> 0 | W8: =IFERROR(VLOOKUP($B:$B,Budget!$B:$Q,MATCH(Synthèse!V$1,Budget!$B$1:$Q$1,0),0),0) -> 10 | X8: =+V8-W8 -> -10 | Y8: =IFERROR(VLOOKUP($B:$B,'Actual Ajusté'!$B:$Q,MATCH(Synthèse!Y$1,'Actual Ajusté'!$B$1:$Q$1,0),0),0) -> 0 | Z8: =IFERROR(VLOOKUP($B:$B,Budget!$B:$Q,MATCH(Synthèse!Y$1,Budget!$B$1:$Q$1,0),0),0) -> 10 | AA8: =+Y8-Z8 -> -10 | AB8: =IFERROR(VLOOKUP($B:$B,'Actual Ajusté'!$B:$Q,MATCH(Synthèse!AB$1,'Actual Ajusté'!$B$1:$Q$1,0),0),0) -> 0 | AC8: =IFERROR(VLOOKUP($B:$B,Budget!$B:$Q,MATCH(Synthèse!AB$1,Budget!$B$1:$Q$1,0),0),0) -> 10 | AD8: =+AB8-AC8 -> -10 | AE8: =IFERROR(VLOOKUP($B:$B,'Actual Ajusté'!$B:$Q,MATCH(Synthèse!AE$1,'Actual Ajusté'!$B$1:$Q$1,0),0),0) -> 0 | AF8: =IFERROR(VLOOKUP($B:$B,Budget!$B:$Q,MATCH(Synthèse!AE$1,Budget!$B$1:$Q$1,0),0),0) -> 10 | AG8: =+AE8-AF8 -> -10 | AH8: =IFERROR(VLOOKUP($B:$B,'Actual Ajusté'!$B:$Q,MATCH(Synthèse!AH$1,'Actual Ajusté'!$B$1:$Q$1,0),0),0) -> 0 | AI8: =IFERROR(VLOOKUP($B:$B,Budget!$B:$Q,MATCH(Synthèse!AH$1,Budget!$B$1:$Q$1,0),0),0) -> 10 | AJ8: =+AH8-AI8 -> -10 | AK8: =IFERROR(VLOOKUP($B:$B,'Actual Ajusté'!$B:$Q,MATCH(Synthèse!AK$1,'Actual Ajusté'!$B$1:$Q$1,0),0),0) -> 0 | AL8: =IFERROR(VLOOKUP($B:$B,Budget!$B:$Q,MATCH(Synthèse!AK$1,Budget!$B$1:$Q$1,0),0),0) -> 10 | AM8: =+AK8-AL8 -> -10 | AN8: =IFERROR(VLOOKUP($B:$B,'Actual Ajusté'!$B:$Q,MATCH(Synthèse!AN$1,'Actual Ajusté'!$B$1:$Q$1,0),0),0) -> 0 | AO8: =IFERROR(VLOOKUP($B:$B,Budget!$B:$Q,MATCH(Synthèse!AN$1,Budget!$B$1:$Q$1,0),0),0) -> 10 | AP8: =+AN8-AO8 -> -10 | AR8: =SUMPRODUCT((MOD(COLUMN(G8:INDIRECT(ADDRESS(8,6+3*$AV$1))),3)=1)*(G8:INDIRECT(ADDRESS(8,6+3*$AV$1)))) -> 19 | AS8: =SUMPRODUCT((MOD(COLUMN(H8:INDIRECT(ADDRESS(8,6+3*$AV$1))),3)=2)*(H8:INDIRECT(ADDRESS(8,6+3*$AV$1)))) -> 20 | AT8: =SUMPRODUCT((MOD(COLUMN(I8:INDIRECT(ADDRESS(8,6+3*$AV$1))),3)=0)*(I8:INDIRECT(ADDRESS(8,6+3*$AV$1)))) -> -1
B9: Total 1DIROP | G9: =IFERROR(VLOOKUP($B:$B,'Actual Ajusté'!$B:$Q,MATCH(Synthèse!G$1,'Actual Ajusté'!$B$1:$Q$1,0),0),0) -> 3 | H9: =IFERROR(VLOOKUP($B:$B,Budget!$B:$Q,MATCH(Synthèse!G$1,Budget!$B$1:$Q$1,0),0),0) -> 0.23809524 | I9: =+G9-H9 -> 2.7619048 | J9: =IFERROR(VLOOKUP($B:$B,'Actual Ajusté'!$B:$Q,MATCH(Synthèse!J$1,'Actual Ajusté'!$B$1:$Q$1,0),0),0) -> 2 | K9: =IFERROR(VLOOKUP($B:$B,Budget!$B:$Q,MATCH(Synthèse!J$1,Budget!$B$1:$Q$1,0),0),0) -> 0.23809524 | L9: =+J9-K9 -> 1.7619048 | M9: =IFERROR(VLOOKUP($B:$B,'Actual Ajusté'!$B:$Q,MATCH(Synthèse!M$1,'Actual Ajusté'!$B$1:$Q$1,0),0),0) -> 0 | N9: =IFERROR(VLOOKUP($B:$B,Budget!$B:$Q,MATCH(Synthèse!M$1,Budget!$B$1:$Q$1,0),0),0) -> 0.23809524 | O9: =+M9-N9 -> -0.23809524 | P9: =IFERROR(VLOOKUP($B:$B,'Actual Ajusté'!$B:$Q,MATCH(Synthèse!P$1,'Actual Ajusté'!$B$1:$Q$1,0),0),0) -> 0 | Q9: =IFERROR(VLOOKUP($B:$B,Budget!$B:$Q,MATCH(Synthèse!P$1,Budget!$B$1:$Q$1,0),0),0) -> 0.23809524 | R9: =+P9-Q9 -> -0.23809524 | S9: =IFERROR(VLOOKUP($B:$B,'Actual Ajusté'!$B:$Q,MATCH(Synthèse!S$1,'Actual Ajusté'!$B$1:$Q$1,0),0),0) -> 0 | T9: =IFERROR(VLOOKUP($B:$B,Budget!$B:$Q,MATCH(Synthèse!S$1,Budget!$B$1:$Q$1,0),0),0) -> 0.23809524 | U9: =+S9-T9 -> -0.23809524 | V9: =IFERROR(VLOOKUP($B:$B,'Actual Ajusté'!$B:$Q,MATCH(Synthèse!V$1,'Actual Ajusté'!$B$1:$Q$1,0),0),0) -> 0 | W9: =IFERROR(VLOOKUP($B:$B,Budget!$B:$Q,MATCH(Synthèse!V$1,Budget!$B$1:$Q$1,0),0),0) -> 0.23809524 | X9: =+V9-W9 -> -0.23809524 | Y9: =IFERROR(VLOOKUP($B:$B,'Actual Ajusté'!$B:$Q,MATCH(Synthèse!Y$1,'Actual Ajusté'!$B$1:$Q$1,0),0),0) -> 0 | Z9: =IFERROR(VLOOKUP($B:$B,Budget!$B:$Q,MATCH(Synthèse!Y$1,Budget!$B$1:$Q$1,0),0),0) -> 0.23809524 | AA9: =+Y9-Z9 -> -0.23809524 | AB9: =IFERROR(VLOOKUP($B:$B,'Actual Ajusté'!$B:$Q,MATCH(Synthèse!AB$1,'Actual Ajusté'!$B$1:$Q$1,0),0),0) -> 0 | AC9: =IFERROR(VLOOKUP($B:$B,Budget!$B:$Q,MATCH(Synthèse!AB$1,Budget!$B$1:$Q$1,0),0),0) -> 0.23809524 | AD9: =+AB9-AC9 -> -0.23809524 | AE9: =IFERROR(VLOOKUP($B:$B,'Actual Ajusté'!$B:$Q,MATCH(Synthèse!AE$1,'Actual Ajusté'!$B$1:$Q$1,0),0),0) -> 0 | AF9: =IFERROR(VLOOKUP($B:$B,Budget!$B:$Q,MATCH(Synthèse!AE$1,Budget!$B$1:$Q$1,0),0),0) -> 0.23809524 | AG9: =+AE9-AF9 -> -0.23809524 | AH9: =IFERROR(VLOOKUP($B:$B,'Actual Ajusté'!$B:$Q,MATCH(Synthèse!AH$1,'Actual Ajusté'!$B$1:$Q$1,0),0),0) -> 0 | AI9: =IFERROR(VLOOKUP($B:$B,Budget!$B:$Q,MATCH(Synthèse!AH$1,Budget!$B$1:$Q$1,0),0),0) -> 0.23809524 | AJ9: =+AH9-AI9 -> -0.23809524 | AK9: =IFERROR(VLOOKUP($B:$B,'Actual Ajusté'!$B:$Q,MATCH(Synthèse!AK$1,'Actual Ajusté'!$B$1:$Q$1,0),0),0) -> 0 | AL9: =IFERROR(VLOOKUP($B:$B,Budget!$B:$Q,MATCH(Synthèse!AK$1,Budget!$B$1:$Q$1,0),0),0) -> 0.23809524 | AM9: =+AK9-AL9 -> -0.23809524 | AN9: =IFERROR(VLOOKUP($B:$B,'Actual Ajusté'!$B:$Q,MATCH(Synthèse!AN$1,'Actual Ajusté'!$B$1:$Q$1,0),0),0) -> 0 | AO9: =IFERROR(VLOOKUP($B:$B,Budget!$B:$Q,MATCH(Synthèse!AN$1,Budget!$B$1:$Q$1,0),0),0) -> 0.23809524 | AP9: =+AN9-AO9 -> -0.23809524 | AR9: =SUMPRODUCT((MOD(COLUMN(G9:INDIRECT(ADDRESS(9,6+3*$AV$1))),3)=1)*(G9:INDIRECT(ADDRESS(9,6+3*$AV$1)))) -> 5 | AS9: =SUMPRODUCT((MOD(COLUMN(H9:INDIRECT(ADDRESS(9,6+3*$AV$1))),3)=2)*(H9:INDIRECT(ADDRESS(9,6+3*$AV$1)))) -> 0.47619048 | AT9: =SUMPRODUCT((MOD(COLUMN(I9:INDIRECT(ADDRESS(9,6+3*$AV$1))),3)=0)*(I9:INDIRECT(ADDRESS(9,6+3*$AV$1)))) -> 4.5238095
B11: Total général | G11: =SUM(G3:G9) -> 42 | H11: =SUM(H3:H9) -> 39.395238 | I11: =SUM(I3:I9) -> 2.6047619 | J11: =SUM(J3:J9) -> 42 | K11: =SUM(K3:K9) -> 39.395238 | L11: =SUM(L3:L9) -> 2.6047619 | M11: =SUM(M3:M9) -> 0 | N11: =SUM(N3:N9) -> 39.395238 | ... AP11: =SUM(AP3:AP9) -> -39.395238 | AR11: =SUM(AR3:AR9) -> 84 | AS11: =SUM(AS3:AS9) -> 78.790476 | AT11: =SUM(AT3:AT9) -> 5.2095238
B13: Check | G13: =+G11-'Actual Ajusté'!F61 -> 0 | H13: =+H11-Budget!F83 -> 0 | J13: =+J11-'Actual Ajusté'!G61 -> 0 | K13: =+K11-Budget!G83 -> 0 | M13: =+M11-'Actual Ajusté'!H61 -> 0 | N13: =+N11-Budget!H83 -> 0 | P13: =+P11-'Actual Ajusté'!I61 -> 0 | Q13: =+Q11-Budget!I83 -> 0 | S13: =+S11-'Actual Ajusté'!J61 -> 0 | T13: =+T11-Budget!J83 -> 0 | V13: =+V11-'Actual Ajusté'!K61 -> 0 | W13: =+W11-Budget!K83 -> 0 | Y13: =+Y11-'Actual Ajusté'!L61 -> 0 | Z13: =+Z11-Budget!L83 -> 0 | AB13: =+AB11-'Actual Ajusté'!M61 -> 0 | AC13: =+AC11-Budget!M83 -> 0 | AE13: =+AE11-'Actual Ajusté'!N61 -> 0 | AF13: =+AF11-Budget!N83 -> 0 | AH13: =+AH11-'Actual Ajusté'!O61 -> 0 | AI13: =+AI11-Budget!O83 -> 0 | AK13: =+AK11-'Actual Ajusté'!P61 -> 0 | AL13: =+AL11-Budget!P83 -> 0 | AN13: =+AN11-'Actual Ajusté'!Q61 -> 0 | AO13: =+AO11-Budget!Q83 -> 0

Sheet Actual Ajusté
A1: Entité | B1: Cost Center | C1: Nom | D1: Critère | F1: 43466 | G1: 43497 | H1: 43525 | I1: 43556 | J1: 43586 | K1: 43617 | L1: 43647 | M1: 43678 | N1: 43709 | O1: 43739 | P1: 43770 | Q1: 43800 | S1: YTD | U1: =+Synthèse!AV1 -> 2
A2: IT Corporate | B2: 1BI | C2: Barkati Radhouan | D2: =C:C&B:B -> Barkati Radhouan1BI | F2: =+Actual!F2+Ajustement!F2 -> 1 | G2: =+Actual!G2+Ajustement!G2 -> 1 | H2: =+Actual!H2+Ajustement!H2 -> 0 | I2: =+Actual!I2+Ajustement!I2 -> 0 | J2: =+Actual!J2+Ajustement!J2 -> 0 | K2: =+Actual!K2+Ajustement!K2 -> 0 | L2: =+Actual!L2+Ajustement!L2 -> 0 | M2: =+Actual!M2+Ajustement!M2 -> 0 | ... Q2: =+Actual!Q2+Ajustement!Q2 -> 0 | S2: =SUM(OFFSET(F2,,,,$U$1)) -> 2
A3: IT Corporate | B3: 1BI | C3: Claveau Benjamin | D3: =C:C&B:B -> Claveau Benjamin1BI | F3: =+Actual!F3+Ajustement!F3 -> 1 | G3: =+Actual!G3+Ajustement!G3 -> 1 | H3: =+Actual!H3+Ajustement!H3 -> 0 | I3: =+Actual!I3+Ajustement!I3 -> 0 | J3: =+Actual!J3+Ajustement!J3 -> 0 | K3: =+Actual!K3+Ajustement!K3 -> 0 | L3: =+Actual!L3+Ajustement!L3 -> 0 | M3: =+Actual!M3+Ajustement!M3 -> 0 | ... Q3: =+Actual!Q3+Ajustement!Q3 -> 0 | S3: =SUM(OFFSET(F3,,,,$U$1)) -> 2
A4: IT Corporate | B4: 1BI | C4: Maurice Jean-marc | D4: =C:C&B:B -> Maurice Jean-marc1BI | F4: =+Actual!F4+Ajustement!F4 -> 1 | G4: =+Actual!G4+Ajustement!G4 -> 1 | H4: =+Actual!H4+Ajustement!H4 -> 0 | I4: =+Actual!I4+Ajustement!I4 -> 0 | J4: =+Actual!J4+Ajustement!J4 -> 0 | K4: =+Actual!K4+Ajustement!K4 -> 0 | L4: =+Actual!L4+Ajustement!L4 -> 0 | M4: =+Actual!M4+Ajustement!M4 -> 0 | ... Q4: =+Actual!Q4+Ajustement!Q4 -> 0 | S4: =SUM(OFFSET(F4,,,,$U$1)) -> 2
A5: IT Corporate | B5: 1BI | C5: Mouillon Pascale | D5: =C:C&B:B -> Mouillon Pascale1BI | F5: =+Actual!F5+Ajustement!F5 -> 1 | G5: =+Actual!G5+Ajustement!G5 -> 1 | H5: =+Actual!H5+Ajustement!H5 -> 0 | I5: =+Actual!I5+Ajustement!I5 -> 0 | J5: =+Actual!J5+Ajustement!J5 -> 0 | K5: =+Actual!K5+Ajustement!K5 -> 0 | L5: =+Actual!L5+Ajustement!L5 -> 0 | M5: =+Actual!M5+Ajustement!M5 -> 0 | ... Q5: =+Actual!Q5+Ajustement!Q5 -> 0 | S5: =SUM(OFFSET(F5,,,,$U$1)) -> 2
A6: IT Corporate | B6: 1BI | C6: Mouzdahir Rachid | D6: =C:C&B:B -> Mouzdahir Rachid1BI | F6: =+Actual!F6+Ajustement!F6 -> 1 | G6: =+Actual!G6+Ajustement!G6 -> 1 | H6: =+Actual!H6+Ajustement!H6 -> 0 | I6: =+Actual!I6+Ajustement!I6 -> 0 | J6: =+Actual!J6+Ajustement!J6 -> 0 | K6: =+Actual!K6+Ajustement!K6 -> 0 | L6: =+Actual!L6+Ajustement!L6 -> 0 | M6: =+Actual!M6+Ajustement!M6 -> 0 | ... Q6: =+Actual!Q6+Ajustement!Q6 -> 0 | S6: =SUM(OFFSET(F6,,,,$U$1)) -> 2
A7: IT Corporate | B7: 1BI | C7: Nardin Stephane | D7: =C:C&B:B -> Nardin Stephane1BI | F7: =+Actual!F7+Ajustement!F7 -> 1 | G7: =+Actual!G7+Ajustement!G7 -> 1 | H7: =+Actual!H7+Ajustement!H7 -> 0 | I7: =+Actual!I7+Ajustement!I7 -> 0 | J7: =+Actual!J7+Ajustement!J7 -> 0 | K7: =+Actual!K7+Ajustement!K7 -> 0 | L7: =+Actual!L7+Ajustement!L7 -> 0 | M7: =+Actual!M7+Ajustement!M7 -> 0 | ... Q7: =+Actual!Q7+Ajustement!Q7 -> 0 | S7: =SUM(OFFSET(F7,,,,$U$1)) -> 2
A8: IT Corporate | B8: 1BI | C8: Nguyen Flavien | D8: =C:C&B:B -> Nguyen Flavien1BI | F8: =+Actual!F8+Ajustement!F8 -> 1 | G8: =+Actual!G8+Ajustement!G8 -> 1 | H8: =+Actual!H8+Ajustement!H8 -> 0 | I8: =+Actual!I8+Ajustement!I8 -> 0 | J8: =+Actual!J8+Ajustement!J8 -> 0 | K8: =+Actual!K8+Ajustement!K8 -> 0 | L8: =+Actual!L8+Ajustement!L8 -> 0 | M8: =+Actual!M8+Ajustement!M8 -> 0 | ... Q8: =+Actual!Q8+Ajustement!Q8 -> 0 | S8: =SUM(OFFSET(F8,,,,$U$1)) -> 2
A9: IT Corporate | B9: 1BI | C9: Kone Moussa | D9: =C:C&B:B -> Kone Moussa1BI | F9: =+Actual!F9+Ajustement!F9 -> 0 | G9: =+Actual!G9+Ajustement!G9 -> 1 | H9: =+Actual!H9+Ajustement!H9 -> 0 | I9: =+Actual!I9+Ajustement!I9 -> 0 | J9: =+Actual!J9+Ajustement!J9 -> 0 | K9: =+Actual!K9+Ajustement!K9 -> 0 | L9: =+Actual!L9+Ajustement!L9 -> 0 | M9: =+Actual!M9+Ajustement!M9 -> 0 | ... Q9: =+Actual!Q9+Ajustement!Q9 -> 0 | S9: =SUM(OFFSET(F9,,,,$U$1)) -> 1
B10: Total 1BI | F10: =SUM(F2:F9) -> 7 | G10: =SUM(G2:G9) -> 8 | H10: =SUM(H2:H9) -> 0 | I10: =SUM(I2:I9) -> 0 | J10: =SUM(J2:J9) -> 0 | K10: =SUM(K2:K9) -> 0 | L10: =SUM(L2:L9) -> 0 | M10: =SUM(M2:M9) -> 0 | ... Q10: =SUM(Q2:Q9) -> 0 | S10: =SUM(S2:S9) -> 15
A11: IT Corporate | B11: 1BUS | C11: Amador Joao | D11: =C:C&B:B -> Amador Joao1BUS | F11: =+Actual!F11+Ajustement!F11 -> 1 | G11: =+Actual!G11+Ajustement!G11 -> 1 | H11: =+Actual!H11+Ajustement!H11 -> 0 | I11: =+Actual!I11+Ajustement!I11 -> 0 | J11: =+Actual!J11+Ajustement!J11 -> 0 | K11: =+Actual!K11+Ajustement!K11 -> 0 | L11: =+Actual!L11+Ajustement!L11 -> 0 | M11: =+Actual!M11+Ajustement!M11 -> 0 | ... Q11: =+Actual!Q11+Ajustement!Q11 -> 0 | S11: =SUM(OFFSET(F11,,,,$U$1)) -> 2
A12: IT Corporate | B12: 1BUS | C12: Barj Yousra | D12: =C:C&B:B -> Barj Yousra1BUS | F12: =+Actual!F12+Ajustement!F12 -> 1 | G12: =+Actual!G12+Ajustement!G12 -> 1 | H12: =+Actual!H12+Ajustement!H12 -> 0 | I12: =+Actual!I12+Ajustement!I12 -> 0 | J12: =+Actual!J12+Ajustement!J12 -> 0 | K12: =+Actual!K12+Ajustement!K12 -> 0 | L12: =+Actual!L12+Ajustement!L12 -> 0 | M12: =+Actual!M12+Ajustement!M12 -> 0 | ... Q12: =+Actual!Q12+Ajustement!Q12 -> 0 | S12: =SUM(OFFSET(F12,,,,$U$1)) -> 2
A13: IT Corporate | B13: 1BUS | C13: Bay Vichhady | D13: =C:C&B:B -> Bay Vichhady1BUS | F13: =+Actual!F13+Ajustement!F13 -> 1 | G13: =+Actual!G13+Ajustement!G13 -> 1 | H13: =+Actual!H13+Ajustement!H13 -> 0 | I13: =+Actual!I13+Ajustement!I13 -> 0 | J13: =+Actual!J13+Ajustement!J13 -> 0 | K13: =+Actual!K13+Ajustement!K13 -> 0 | L13: =+Actual!L13+Ajustement!L13 -> 0 | M13: =+Actual!M13+Ajustement!M13 -> 0 | ... Q13: =+Actual!Q13+Ajustement!Q13 -> 0 | S13: =SUM(OFFSET(F13,,,,$U$1)) -> 2
A14: IT Corporate | B14: 1BUS | C14: Benali Anass | D14: =C:C&B:B -> Benali Anass1BUS | F14: =+Actual!F14+Ajustement!F14 -> 1 | G14: =+Actual!G14+Ajustement!G14 -> 1 | H14: =+Actual!H14+Ajustement!H14 -> 0 | I14: =+Actual!I14+Ajustement!I14 -> 0 | J14: =+Actual!J14+Ajustement!J14 -> 0 | K14: =+Actual!K14+Ajustement!K14 -> 0 | L14: =+Actual!L14+Ajustement!L14 -> 0 | M14: =+Actual!M14+Ajustement!M14 -> 0 | ... Q14: =+Actual!Q14+Ajustement!Q14 -> 0 | S14: =SUM(OFFSET(F14,,,,$U$1)) -> 2
A15: IT Corporate | B15: 1BUS | C15: Biancolin Jean-Andre | D15: =C:C&B:B -> Biancolin Jean-Andre1BUS | F15: =+Actual!F15+Ajustement!F15 -> 1 | G15: =+Actual!G15+Ajustement!G15 -> 1 | H15: =+Actual!H15+Ajustement!H15 -> 0 | I15: =+Actual!I15+Ajustement!I15 -> 0 | J15: =+Actual!J15+Ajustement!J15 -> 0 | K15: =+Actual!K15+Ajustement!K15 -> 0 | L15: =+Actual!L15+Ajustement!L15 -> 0 | M15: =+Actual!M15+Ajustement!M15 -> 0 | ... Q15: =+Actual!Q15+Ajustement!Q15 -> 0 | S15: =SUM(OFFSET(F15,,,,$U$1)) -> 2
A16: IT Corporate | B16: 1BUS | C16: Carré Marie | D16: =C:C&B:B -> Carré Marie1BUS | F16: =+Actual!F16+Ajustement!F16 -> 1 | G16: =+Actual!G16+Ajustement!G16 -> 1 | H16: =+Actual!H16+Ajustement!H16 -> 0 | I16: =+Actual!I16+Ajustement!I16 -> 0 | J16: =+Actual!J16+Ajustement!J16 -> 0 | K16: =+Actual!K16+Ajustement!K16 -> 0 | L16: =+Actual!L16+Ajustement!L16 -> 0 | M16: =+Actual!M16+Ajustement!M16 -> 0 | ... Q16: =+Actual!Q16+Ajustement!Q16 -> 0 | S16: =SUM(OFFSET(F16,,,,$U$1)) -> 2
A17: IT Corporate | B17: 1BUS | C17: Lebied Taha | D17: =C:C&B:B -> Lebied Taha1BUS | F17: =+Actual!F17+Ajustement!F17 -> 1 | G17: =+Actual!G17+Ajustement!G17 -> 1 | H17: =+Actual!H17+Ajustement!H17 -> 0 | I17: =+Actual!I17+Ajustement!I17 -> 0 | J17: =+Actual!J17+Ajustement!J17 -> 0 | K17: =+Actual!K17+Ajustement!K17 -> 0 | L17: =+Actual!L17+Ajustement!L17 -> 0 | M17: =+Actual!M17+Ajustement!M17 -> 0 | ... Q17: =+Actual!Q17+Ajustement!Q17 -> 0 | S17: =SUM(OFFSET(F17,,,,$U$1)) -> 2
A18: IT Corporate | B18: 1BUS | C18: Meejat Anis | D18: =C:C&B:B -> Meejat Anis1BUS | F18: =+Actual!F18+Ajustement!F18 -> 1 | G18: =+Actual!G18+Ajustement!G18 -> 1 | H18: =+Actual!H18+Ajustement!H18 -> 0 | I18: =+Actual!I18+Ajustement!I18 -> 0 | J18: =+Actual!J18+Ajustement!J18 -> 0 | K18: =+Actual!K18+Ajustement!K18 -> 0 | L18: =+Actual!L18+Ajustement!L18 -> 0 | M18: =+Actual!M18+Ajustement!M18 -> 0 | ... Q18: =+Actual!Q18+Ajustement!Q18 -> 0 | S18: =SUM(OFFSET(F18,,,,$U$1)) -> 2
A19: IT Corporate | B19: 1BUS | C19: Mongrolle Philippe | D19: =C:C&B:B -> Mongrolle Philippe1BUS | F19: =+Actual!F19+Ajustement!F19 -> 1 | G19: =+Actual!G19+Ajustement!G19 -> 1 | H19: =+Actual!H19+Ajustement!H19 -> 0 | I19: =+Actual!I19+Ajustement!I19 -> 0 | J19: =+Actual!J19+Ajustement!J19 -> 0 | K19: =+Actual!K19+Ajustement!K19 -> 0 | L19: =+Actual!L19+Ajustement!L19 -> 0 | M19: =+Actual!M19+Ajustement!M19 -> 0 | ... Q19: =+Actual!Q19+Ajustement!Q19 -> 0 | S19: =SUM(OFFSET(F19,,,,$U$1)) -> 2
A20: IT Corporate | B20: 1BUS | C20: Rochdi Bey | D20: =C:C&B:B -> Rochdi Bey1BUS | F20: =+Actual!F20+Ajustement!F20 -> 1 | G20: =+Actual!G20+Ajustement!G20 -> 1 | H20: =+Actual!H20+Ajustement!H20 -> 0 | I20: =+Actual!I20+Ajustement!I20 -> 0 | J20: =+Actual!J20+Ajustement!J20 -> 0 | K20: =+Actual!K20+Ajustement!K20 -> 0 | L20: =+Actual!L20+Ajustement!L20 -> 0 | M20: =+Actual!M20+Ajustement!M20 -> 0 | ... Q20: =+Actual!Q20+Ajustement!Q20 -> 0 | S20: =SUM(OFFSET(F20,,,,$U$1)) -> 2
A21: IT Corporate | B21: 1BUS | C21: Rogui Talal | D21: =C:C&B:B -> Rogui Talal1BUS | F21: =+Actual!F21+Ajustement!F21 -> 1 | G21: =+Actual!G21+Ajustement!G21 -> 1 | H21: =+Actual!H21+Ajustement!H21 -> 0 | I21: =+Actual!I21+Ajustement!I21 -> 0 | J21: =+Actual!J21+Ajustement!J21 -> 0 | K21: =+Actual!K21+Ajustement!K21 -> 0 | L21: =+Actual!L21+Ajustement!L21 -> 0 | M21: =+Actual!M21+Ajustement!M21 -> 0 | ... Q21: =+Actual!Q21+Ajustement!Q21 -> 0 | S21: =SUM(OFFSET(F21,,,,$U$1)) -> 2
A22: IT Corporate | B22: 1BUS | C22: Thibaud Matthieu | D22: =C:C&B:B -> Thibaud Matthieu1BUS | F22: =+Actual!F22+Ajustement!F22 -> 1 | G22: =+Actual!G22+Ajustement!G22 -> 0 | H22: =+Actual!H22+Ajustement!H22 -> 0 | I22: =+Actual!I22+Ajustement!I22 -> 0 | J22: =+Actual!J22+Ajustement!J22 -> 0 | K22: =+Actual!K22+Ajustement!K22 -> 0 | L22: =+Actual!L22+Ajustement!L22 -> 0 | M22: =+Actual!M22+Ajustement!M22 -> 0 | ... Q22: =+Actual!Q22+Ajustement!Q22 -> 0 | S22: =SUM(OFFSET(F22,,,,$U$1)) -> 1
A23: IT Corporate | B23: 1BUS | C23: Revello Kevin | D23: =C:C&B:B -> Revello Kevin1BUS | F23: =+Actual!F23+Ajustement!F23 -> 1 | G23: =+Actual!G23+Ajustement!G23 -> 1 | H23: =+Actual!H23+Ajustement!H23 -> 0 | I23: =+Actual!I23+Ajustement!I23 -> 0 | J23: =+Actual!J23+Ajustement!J23 -> 0 | K23: =+Actual!K23+Ajustement!K23 -> 0 | L23: =+Actual!L23+Ajustement!L23 -> 0 | M23: =+Actual!M23+Ajustement!M23 -> 0 | ... Q23: =+Actual!Q23+Ajustement!Q23 -> 0 | S23: =SUM(OFFSET(F23,,,,$U$1)) -> 2
B24: Total 1BUS | F24: =SUM(F11:F23) -> 13 | G24: =SUM(G11:G23) -> 12 | H24: =SUM(H11:H23) -> 0 | I24: =SUM(I11:I23) -> 0 | J24: =SUM(J11:J23) -> 0 | K24: =SUM(K11:K23) -> 0 | L24: =SUM(L11:L23) -> 0 | M24: =SUM(M11:M23) -> 0 | ... Q24: =SUM(Q11:Q23) -> 0 | S24: =SUM(S11:S23) -> 25
A25: IT Corporate | B25: 1CORP | C25: Louet Jean-François | D25: =C:C&B:B -> Louet Jean-François1CORP | F25: =+Actual!F25+Ajustement!F25 -> 0 | G25: =+Actual!G25+Ajustement!G25 -> 1 | H25: =+Actual!H25+Ajustement!H25 -> 0 | I25: =+Actual!I25+Ajustement!I25 -> 0 | J25: =+Actual!J25+Ajustement!J25 -> 0 | K25: =+Actual!K25+Ajustement!K25 -> 0 | L25: =+Actual!L25+Ajustement!L25 -> 0 | M25: =+Actual!M25+Ajustement!M25 -> 0 | ... Q25: =+Actual!Q25+Ajustement!Q25 -> 0 | S25: =SUM(OFFSET(F25,,,,$U$1)) -> 1
A26: IT Corporate | B26: 1CORP | C26: Revello Kevin | D26: =C:C&B:B -> Revello Kevin1CORP | F26: =+Actual!F26+Ajustement!F26 -> 0 | G26: =+Actual!G26+Ajustement!G26 -> 0 | H26: =+Actual!H26+Ajustement!H26 -> 0 | I26: =+Actual!I26+Ajustement!I26 -> 0 | J26: =+Actual!J26+Ajustement!J26 -> 0 | K26: =+Actual!K26+Ajustement!K26 -> 0 | L26: =+Actual!L26+Ajustement!L26 -> 0 | M26: =+Actual!M26+Ajustement!M26 -> 0 | ... Q26: =+Actual!Q26+Ajustement!Q26 -> 0 | S26: =SUM(OFFSET(F26,,,,$U$1)) -> 0
B27: Total 1CORP | F27: =SUM(F25:F25) -> 0 | G27: =SUM(G25:G25) -> 1 | H27: =SUM(H25:H25) -> 0 | I27: =SUM(I25:I25) -> 0 | J27: =SUM(J25:J25) -> 0 | K27: =SUM(K25:K25) -> 0 | L27: =SUM(L25:L25) -> 0 | M27: =SUM(M25:M25) -> 0 | ... Q27: =SUM(Q25:Q25) -> 0 | S27: =SUM(S25:S25) -> 1
A28: IT Corporate | B28: 1ITFIN | C28: Andrianaivo Eric | D28: =C:C&B:B -> Andrianaivo Eric1ITFIN | F28: =+Actual!F28+Ajustement!F28 -> 1 | G28: =+Actual!G28+Ajustement!G28 -> 1 | H28: =+Actual!H28+Ajustement!H28 -> 0 | I28: =+Actual!I28+Ajustement!I28 -> 0 | J28: =+Actual!J28+Ajustement!J28 -> 0 | K28: =+Actual!K28+Ajustement!K28 -> 0 | L28: =+Actual!L28+Ajustement!L28 -> 0 | M28: =+Actual!M28+Ajustement!M28 -> 0 | ... Q28: =+Actual!Q28+Ajustement!Q28 -> 0 | S28: =SUM(OFFSET(F28,,,,$U$1)) -> 2
A29: IT Corporate | B29: 1ITFIN | C29: Anjum Osama | D29: =C:C&B:B -> Anjum Osama1ITFIN | F29: =+Actual!F29+Ajustement!F29 -> 0 | G29: =+Actual!G29+Ajustement!G29 -> 0 | H29: =+Actual!H29+Ajustement!H29 -> 0 | I29: =+Actual!I29+Ajustement!I29 -> 0 | J29: =+Actual!J29+Ajustement!J29 -> 0 | K29: =+Actual!K29+Ajustement!K29 -> 0 | L29: =+Actual!L29+Ajustement!L29 -> 0 | M29: =+Actual!M29+Ajustement!M29 -> 0 | ... Q29: =+Actual!Q29+Ajustement!Q29 -> 0 | S29: =SUM(OFFSET(F29,,,,$U$1)) -> 0
A30: IT Corporate | B30: 1ITFIN | C30: Benhaddou Ghita | D30: =C:C&B:B -> Benhaddou Ghita1ITFIN | F30: =+Actual!F30+Ajustement!F30 -> 0 | G30: =+Actual!G30+Ajustement!G30 -> 1 | H30: =+Actual!H30+Ajustement!H30 -> 0 | I30: =+Actual!I30+Ajustement!I30 -> 0 | J30: =+Actual!J30+Ajustement!J30 -> 0 | K30: =+Actual!K30+Ajustement!K30 -> 0 | L30: =+Actual!L30+Ajustement!L30 -> 0 | M30: =+Actual!M30+Ajustement!M30 -> 0 | ... Q30: =+Actual!Q30+Ajustement!Q30 -> 0 | S30: =SUM(OFFSET(F30,,,,$U$1)) -> 1
A31: IT Corporate | B31: 1ITFIN | C31: Venkanna Shilpa | D31: =C:C&B:B -> Venkanna Shilpa1ITFIN | F31: =+Actual!F31+Ajustement!F31 -> 0 | G31: =+Actual!G31+Ajustement!G31 -> 1 | H31: =+Actual!H31+Ajustement!H31 -> 0 | I31: =+Actual!I31+Ajustement!I31 -> 0 | J31: =+Actual!J31+Ajustement!J31 -> 0 | K31: =+Actual!K31+Ajustement!K31 -> 0 | L31: =+Actual!L31+Ajustement!L31 -> 0 | M31: =+Actual!M31+Ajustement!M31 -> 0 | ... Q31: =+Actual!Q31+Ajustement!Q31 -> 0 | S31: =SUM(OFFSET(F31,,,,$U$1)) -> 1
A32: IT Corporate | B32: 1ITFIN | C32: De Boysson Edouard | D32: =C:C&B:B -> De Boysson Edouard1ITFIN | F32: =+Actual!F32+Ajustement!F32 -> 1 | G32: =+Actual!G32+Ajustement!G32 -> 1 | H32: =+Actual!H32+Ajustement!H32 -> 0 | I32: =+Actual!I32+Ajustement!I32 -> 0 | J32: =+Actual!J32+Ajustement!J32 -> 0 | K32: =+Actual!K32+Ajustement!K32 -> 0 | L32: =+Actual!L32+Ajustement!L32 -> 0 | M32: =+Actual!M32+Ajustement!M32 -> 0 | ... Q32: =+Actual!Q32+Ajustement!Q32 -> 0 | S32: =SUM(OFFSET(F32,,,,$U$1)) -> 2
A33: IT Corporate | B33: 1ITFIN | C33: Duong Phuong | D33: =C:C&B:B -> Duong Phuong1ITFIN | F33: =+Actual!F33+Ajustement!F33 -> 1 | G33: =+Actual!G33+Ajustement!G33 -> 1 | H33: =+Actual!H33+Ajustement!H33 -> 0 | I33: =+Actual!I33+Ajustement!I33 -> 0 | J33: =+Actual!J33+Ajustement!J33 -> 0 | K33: =+Actual!K33+Ajustement!K33 -> 0 | L33: =+Actual!L33+Ajustement!L33 -> 0 | M33: =+Actual!M33+Ajustement!M33 -> 0 | ... Q33: =+Actual!Q33+Ajustement!Q33 -> 0 | S33: =SUM(OFFSET(F33,,,,$U$1)) -> 2
A34: IT Corporate | B34: 1ITFIN | C34: Belghith Rym | D34: =C:C&B:B -> Belghith Rym1ITFIN | F34: =+Actual!F34+Ajustement!F34 -> 0 | G34: =+Actual!G34+Ajustement!G34 -> 1 | H34: =+Actual!H34+Ajustement!H34 -> 0 | I34: =+Actual!I34+Ajustement!I34 -> 0 | J34: =+Actual!J34+Ajustement!J34 -> 0 | K34: =+Actual!K34+Ajustement!K34 -> 0 | L34: =+Actual!L34+Ajustement!L34 -> 0 | M34: =+Actual!M34+Ajustement!M34 -> 0 | ... Q34: =+Actual!Q34+Ajustement!Q34 -> 0 | S34: =SUM(OFFSET(F34,,,,$U$1)) -> 1
A35: IT Corporate | B35: 1ITFIN | C35: Lambropoulos Cyril | D35: =C:C&B:B -> Lambropoulos Cyril1ITFIN | F35: =+Actual!F35+Ajustement!F35 -> 0 | G35: =+Actual!G35+Ajustement!G35 -> 0 | H35: =+Actual!H35+Ajustement!H35 -> 0 | I35: =+Actual!I35+Ajustement!I35 -> 0 | J35: =+Actual!J35+Ajustement!J35 -> 0 | K35: =+Actual!K35+Ajustement!K35 -> 0 | L35: =+Actual!L35+Ajustement!L35 -> 0 | M35: =+Actual!M35+Ajustement!M35 -> 0 | ... Q35: =+Actual!Q35+Ajustement!Q35 -> 0 | S35: =SUM(OFFSET(F35,,,,$U$1)) -> 0
B36: Total 1ITFIN | F36: =SUM(F28:F35) -> 3 | G36: =SUM(G28:G35) -> 6 | H36: =SUM(H28:H35) -> 0 | I36: =SUM(I28:I35) -> 0 | J36: =SUM(J28:J35) -> 0 | K36: =SUM(K28:K35) -> 0 | L36: =SUM(L28:L35) -> 0 | M36: =SUM(M28:M35) -> 0 | ... Q36: =SUM(Q28:Q35) -> 0 | S36: =SUM(S28:S35) -> 9
A37: IT Corporate | B37: 1ITGF | C37: Chaoui Ntissar | D37: =C:C&B:B -> Chaoui Ntissar1ITGF | F37: =+Actual!F37+Ajustement!F37 -> 1 | G37: =+Actual!G37+Ajustement!G37 -> 1 | H37: =+Actual!H37+Ajustement!H37 -> 0 | I37: =+Actual!I37+Ajustement!I37 -> 0 | J37: =+Actual!J37+Ajustement!J37 -> 0 | K37: =+Actual!K37+Ajustement!K37 -> 0 | L37: =+Actual!L37+Ajustement!L37 -> 0 | M37: =+Actual!M37+Ajustement!M37 -> 0 | ... Q37: =+Actual!Q37+Ajustement!Q37 -> 0 | S37: =SUM(OFFSET(F37,,,,$U$1)) -> 2
A38: IT Corporate | B38: 1ITGF | C38: Chazelas Catherine | D38: =C:C&B:B -> Chazelas Catherine1ITGF | F38: =+Actual!F38+Ajustement!F38 -> 1 | G38: =+Actual!G38+Ajustement!G38 -> 1 | H38: =+Actual!H38+Ajustement!H38 -> 0 | I38: =+Actual!I38+Ajustement!I38 -> 0 | J38: =+Actual!J38+Ajustement!J38 -> 0 | K38: =+Actual!K38+Ajustement!K38 -> 0 | L38: =+Actual!L38+Ajustement!L38 -> 0 | M38: =+Actual!M38+Ajustement!M38 -> 0 | ... Q38: =+Actual!Q38+Ajustement!Q38 -> 0 | S38: =SUM(OFFSET(F38,,,,$U$1)) -> 2
A39: IT Corporate | B39: 1ITGF | C39: De Burghgrave Laurent | D39: =C:C&B:B -> De Burghgrave Laurent1ITGF | F39: =+Actual!F39+Ajustement!F39 -> 1 | G39: =+Actual!G39+Ajustement!G39 -> 1 | H39: =+Actual!H39+Ajustement!H39 -> 0 | I39: =+Actual!I39+Ajustement!I39 -> 0 | J39: =+Actual!J39+Ajustement!J39 -> 0 | K39: =+Actual!K39+Ajustement!K39 -> 0 | L39: =+Actual!L39+Ajustement!L39 -> 0 | M39: =+Actual!M39+Ajustement!M39 -> 0 | ... Q39: =+Actual!Q39+Ajustement!Q39 -> 0 | S39: =SUM(OFFSET(F39,,,,$U$1)) -> 2
A40: IT Corporate | B40: 1ITGF | C40: Debbah Boutaina | D40: =C:C&B:B -> Debbah Boutaina1ITGF | F40: =+Actual!F40+Ajustement!F40 -> 1 | G40: =+Actual!G40+Ajustement!G40 -> 1 | H40: =+Actual!H40+Ajustement!H40 -> 0 | I40: =+Actual!I40+Ajustement!I40 -> 0 | J40: =+Actual!J40+Ajustement!J40 -> 0 | K40: =+Actual!K40+Ajustement!K40 -> 0 | L40: =+Actual!L40+Ajustement!L40 -> 0 | M40: =+Actual!M40+Ajustement!M40 -> 0 | ... Q40: =+Actual!Q40+Ajustement!Q40 -> 0 | S40: =SUM(OFFSET(F40,,,,$U$1)) -> 2
...

Sheet Ajustement
A1: Entité | B1: Cost Center | C1: Nom | D1: Critère | F1: 43466 | G1: 43497 | H1: 43525 | I1: 43556 | J1: 43586 | K1: 43617 | L1: 43647 | M1: 43678 | N1: 43709 | O1: 43739 | P1: 43770 | Q1: 43800 | S1: YTD | U1: =+Synthèse!AV1 -> 2
A2: IT Corporate | B2: 1BI | C2: Barkati Radhouan | D2: =C:C&B:B -> Barkati Radhouan1BI | S2: =SUM(OFFSET(F2,,,,$U$1)) -> 0
A3: IT Corporate | B3: 1BI | C3: Claveau Benjamin | D3: =C:C&B:B -> Claveau Benjamin1BI | S3: =SUM(OFFSET(F3,,,,$U$1)) -> 0
A4: IT Corporate | B4: 1BI | C4: Maurice Jean-marc | D4: =C:C&B:B -> Maurice Jean-marc1BI | S4: =SUM(OFFSET(F4,,,,$U$1)) -> 0
A5: IT Corporate | B5: 1BI | C5: Mouillon Pascale | D5: =C:C&B:B -> Mouillon Pascale1BI | S5: =SUM(OFFSET(F5,,,,$U$1)) -> 0
A6: IT Corporate | B6: 1BI | C6: Mouzdahir Rachid | D6: =C:C&B:B -> Mouzdahir Rachid1BI | S6: =SUM(OFFSET(F6,,,,$U$1)) -> 0
A7: IT Corporate | B7: 1BI | C7: Nardin Stephane | D7: =C:C&B:B -> Nardin Stephane1BI | S7: =SUM(OFFSET(F7,,,,$U$1)) -> 0
A8: IT Corporate | B8: 1BI | C8: Nguyen Flavien | D8: =C:C&B:B -> Nguyen Flavien1BI | S8: =SUM(OFFSET(F8,,,,$U$1)) -> 0
A9: IT Corporate | B9: 1BI | C9: Kone Moussa | D9: =C:C&B:B -> Kone Moussa1BI | S9: =SUM(OFFSET(F9,,,,$U$1)) -> 0
B10: Total 1BI | F10: =SUM(F2:F9) -> 0 | G10: =SUM(G2:G9) -> 0 | H10: =SUM(H2:H9) -> 0 | I10: =SUM(I2:I9) -> 0 | J10: =SUM(J2:J9) -> 0 | K10: =SUM(K2:K9) -> 0 | L10: =SUM(L2:L9) -> 0 | M10: =SUM(M2:M9) -> 0 | ... Q10: =SUM(Q2:Q9) -> 0 | S10: =SUM(S2:S9) -> 0
A11: IT Corporate | B11: 1BUS | C11: Amador Joao | D11: =C:C&B:B -> Amador Joao1BUS | S11: =SUM(OFFSET(F11,,,,$U$1)) -> 0
A12: IT Corporate | B12: 1BUS | C12: Barj Yousra | D12: =C:C&B:B -> Barj Yousra1BUS | S12: =SUM(OFFSET(F12,,,,$U$1)) -> 0
A13: IT Corporate | B13: 1BUS | C13: Bay Vichhady | D13: =C:C&B:B -> Bay Vichhady1BUS | S13: =SUM(OFFSET(F13,,,,$U$1)) -> 0
A14: IT Corporate | B14: 1BUS | C14: Benali Anass | D14: =C:C&B:B -> Benali Anass1BUS | S14: =SUM(OFFSET(F14,,,,$U$1)) -> 0
A15: IT Corporate | B15: 1BUS | C15: Biancolin Jean-Andre | D15: =C:C&B:B -> Biancolin Jean-Andre1BUS | S15: =SUM(OFFSET(F15,,,,$U$1)) -> 0
A16: IT Corporate | B16: 1BUS | C16: Carré Marie | D16: =C:C&B:B -> Carré Marie1BUS | S16: =SUM(OFFSET(F16,,,,$U$1)) -> 0
A17: IT Corporate | B17: 1BUS | C17: Lebied Taha | D17: =C:C&B:B -> Lebied Taha1BUS | S17: =SUM(OFFSET(F17,,,,$U$1)) -> 0
A18: IT Corporate | B18: 1BUS | C18: Meejat Anis | D18: =C:C&B:B -> Meejat Anis1BUS | S18: =SUM(OFFSET(F18,,,,$U$1)) -> 0
A19: IT Corporate | B19: 1BUS | C19: Mongrolle Philippe | D19: =C:C&B:B -> Mongrolle Philippe1BUS | S19: =SUM(OFFSET(F19,,,,$U$1)) -> 0
A20: IT Corporate | B20: 1BUS | C20: Rochdi Bey | D20: =C:C&B:B -> Rochdi Bey1BUS | S20: =SUM(OFFSET(F20,,,,$U$1)) -> 0
A21: IT Corporate | B21: 1BUS | C21: Rogui Talal | D21: =C:C&B:B -> Rogui Talal1BUS | S21: =SUM(OFFSET(F21,,,,$U$1)) -> 0
A22: IT Corporate | B22: 1BUS | C22: Thibaud Matthieu | D22: =C:C&B:B -> Thibaud Matthieu1BUS | S22: =SUM(OFFSET(F22,,,,$U$1)) -> 0
A23: IT Corporate | B23: 1BUS | C23: Revello Kevin | D23: =C:C&B:B -> Revello Kevin1BUS | F23: 1 | G23: 1 | S23: =SUM(OFFSET(F23,,,,$U$1)) -> 2
B24: Total 1BUS | F24: =SUM(F11:F23) -> 1 | G24: =SUM(G11:G23) -> 1 | H24: =SUM(H11:H23) -> 0 | I24: =SUM(I11:I23) -> 0 | J24: =SUM(J11:J23) -> 0 | K24: =SUM(K11:K23) -> 0 | L24: =SUM(L11:L23) -> 0 | M24: =SUM(M11:M23) -> 0 | ... Q24: =SUM(Q11:Q23) -> 0 | S24: =SUM(S11:S23) -> 2
A25: IT Corporate | B25: 1CORP | C25: Louet Jean-François | D25: =C:C&B:B -> Louet Jean-François1CORP | S25: =SUM(OFFSET(F25,,,,$U$1)) -> 0
A26: IT Corporate | B26: 1CORP | C26: Revello Kevin | D26: =C:C&B:B -> Revello Kevin1CORP | F26: -1 | G26: -1 | S26: =SUM(OFFSET(F26,,,,$U$1)) -> -2
B27: Total 1CORP | F27: =SUM(F25:F25) -> 0 | G27: =SUM(G25:G25) -> 0 | H27: =SUM(H25:H25) -> 0 | I27: =SUM(I25:I25) -> 0 | J27: =SUM(J25:J25) -> 0 | K27: =SUM(K25:K25) -> 0 | L27: =SUM(L25:L25) -> 0 | M27: =SUM(M25:M25) -> 0 | ... Q27: =SUM(Q25:Q25) -> 0 | S27: =SUM(S25:S25) -> 0
A28: IT Corporate | B28: 1ITFIN | C28: Andrianaivo Eric | D28: =C:C&B:B -> Andrianaivo Eric1ITFIN | S28: =SUM(OFFSET(F28,,,,$U$1)) -> 0
A29: IT Corporate | B29: 1ITFIN | C29: Anjum Osama | D29: =C:C&B:B -> Anjum Osama1ITFIN | S29: =SUM(OFFSET(F29,,,,$U$1)) -> 0
A30: IT Corporate | B30: 1ITFIN | C30: Benhaddou Ghita | D30: =C:C&B:B -> Benhaddou Ghita1ITFIN | S30: =SUM(OFFSET(F30,,,,$U$1)) -> 0
A31: IT Corporate | B31: 1ITFIN | C31: Venkanna Shilpa | D31: =C:C&B:B -> Venkanna Shilpa1ITFIN | S31: =SUM(OFFSET(F31,,,,$U$1)) -> 0
A32: IT Corporate | B32: 1ITFIN | C32: De Boysson Edouard | D32: =C:C&B:B -> De Boysson Edouard1ITFIN | S32: =SUM(OFFSET(F32,,,,$U$1)) -> 0
A33: IT Corporate | B33: 1ITFIN | C33: Duong Phuong | D33: =C:C&B:B -> Duong Phuong1ITFIN | S33: =SUM(OFFSET(F33,,,,$U$1)) -> 0
A34: IT Corporate | B34: 1ITFIN | C34: Belghith Rym | D34: =C:C&B:B -> Belghith Rym1ITFIN | S34: =SUM(OFFSET(F34,,,,$U$1)) -> 0
A35: IT Corporate | B35: 1ITFIN | C35: Lambropoulos Cyril | D35: =C:C&B:B -> Lambropoulos Cyril1ITFIN | S35: =SUM(OFFSET(F35,,,,$U$1)) -> 0
B36: Total 1ITFIN | F36: =SUM(F28:F35) -> 0 | G36: =SUM(G28:G35) -> 0 | H36: =SUM(H28:H35) -> 0 | I36: =SUM(I28:I35) -> 0 | J36: =SUM(J28:J35) -> 0 | K36: =SUM(K28:K35) -> 0 | L36: =SUM(L28:L35) -> 0 | M36: =SUM(M28:M35) -> 0 | ... Q36: =SUM(Q28:Q35) -> 0 | S36: =SUM(S28:S35) -> 0
A37: IT Corporate | B37: 1ITGF | C37: Chaoui Ntissar | D37: =C:C&B:B -> Chaoui Ntissar1ITGF | S37: =SUM(OFFSET(F37,,,,$U$1)) -> 0
A38: IT Corporate | B38: 1ITGF | C38: Chazelas Catherine | D38: =C:C&B:B -> Chazelas Catherine1ITGF | S38: =SUM(OFFSET(F38,,,,$U$1)) -> 0
A39: IT Corporate | B39: 1ITGF | C39: De Burghgrave Laurent | D39: =C:C&B:B -> De Burghgrave Laurent1ITGF | S39: =SUM(OFFSET(F39,,,,$U$1)) -> 0
A40: IT Corporate | B40: 1ITGF | C40: Debbah Boutaina | D40: =C:C&B:B -> Debbah Boutaina1ITGF | S40: =SUM(OFFSET(F40,,,,$U$1)) -> 0
...

Sheet Actual
A1: Entité | B1: Cost Center | C1: Nom | D1: Critère | F1: 43466 | G1: 43497 | H1: 43525 | I1: 43556 | J1: 43586 | K1: 43617 | L1: 43647 | M1: 43678 | N1: 43709 | O1: 43739 | P1: 43770 | Q1: 43800 | S1: YTD | U1: =+Synthèse!AV1 -> 2
A2: IT Corporate | B2: 1BI | C2: Barkati Radhouan | D2: =C:C&B:B -> Barkati Radhouan1BI | F2: =IFERROR(VLOOKUP($D:$D,'PPM 2019'!$F:$R,MATCH(Actual!F$1,'PPM 2019'!$F$1:$R$1,0),0),0) -> 1 | G2: =IFERROR(VLOOKUP($D:$D,'PPM 2019'!$F:$R,MATCH(Actual!G$1,'PPM 2019'!$F$1:$R$1,0),0),0) -> 1 | H2: =IFERROR(VLOOKUP($D:$D,'PPM 2019'!$F:$R,MATCH(Actual!H$1,'PPM 2019'!$F$1:$R$1,0),0),0) -> 0 | I2: =IFERROR(VLOOKUP($D:$D,'PPM 2019'!$F:$R,MATCH(Actual!I$1,'PPM 2019'!$F$1:$R$1,0),0),0) -> 0 | J2: =IFERROR(VLOOKUP($D:$D,'PPM 2019'!$F:$R,MATCH(Actual!J$1,'PPM 2019'!$F$1:$R$1,0),0),0) -> 0 | K2: =IFERROR(VLOOKUP($D:$D,'PPM 2019'!$F:$R,MATCH(Actual!K$1,'PPM 2019'!$F$1:$R$1,0),0),0) -> 0 | L2: =IFERROR(VLOOKUP($D:$D,'PPM 2019'!$F:$R,MATCH(Actual!L$1,'PPM 2019'!$F$1:$R$1,0),0),0) -> 0 | M2: =IFERROR(VLOOKUP($D:$D,'PPM 2019'!$F:$R,MATCH(Actual!M$1,'PPM 2019'!$F$1:$R$1,0),0),0) -> 0 | ... Q2: =IFERROR(VLOOKUP($D:$D,'PPM 2019'!$F:$R,MATCH(Actual!Q$1,'PPM 2019'!$F$1:$R$1,0),0),0) -> 0 | S2: =SUM(OFFSET(F2,,,,$U$1)) -> 2
A3: IT Corporate | B3: 1BI | C3: Claveau Benjamin | D3: =C:C&B:B -> Claveau Benjamin1BI | F3: =IFERROR(VLOOKUP($D:$D,'PPM 2019'!$F:$R,MATCH(Actual!F$1,'PPM 2019'!$F$1:$R$1,0),0),0) -> 1 | G3: =IFERROR(VLOOKUP($D:$D,'PPM 2019'!$F:$R,MATCH(Actual!G$1,'PPM 2019'!$F$1:$R$1,0),0),0) -> 1 | H3: =IFERROR(VLOOKUP($D:$D,'PPM 2019'!$F:$R,MATCH(Actual!H$1,'PPM 2019'!$F$1:$R$1,0),0),0) -> 0 | I3: =IFERROR(VLOOKUP($D:$D,'PPM 2019'!$F:$R,MATCH(Actual!I$1,'PPM 2019'!$F$1:$R$1,0),0),0) -> 0 | J3: =IFERROR(VLOOKUP($D:$D,'PPM 2019'!$F:$R,MATCH(Actual!J$1,'PPM 2019'!$F$1:$R$1,0),0),0) -> 0 | K3: =IFERROR(VLOOKUP($D:$D,'PPM 2019'!$F:$R,MATCH(Actual!K$1,'PPM 2019'!$F$1:$R$1,0),0),0) -> 0 | L3: =IFERROR(VLOOKUP($D:$D,'PPM 2019'!$F:$R,MATCH(Actual!L$1,'PPM 2019'!$F$1:$R$1,0),0),0) -> 0 | M3: =IFERROR(VLOOKUP($D:$D,'PPM 2019'!$F:$R,MATCH(Actual!M$1,'PPM 2019'!$F$1:$R$1,0),0),0) -> 0 | ... Q3: =IFERROR(VLOOKUP($D:$D,'PPM 2019'!$F:$R,MATCH(Actual!Q$1,'PPM 2019'!$F$1:$R$1,0),0),0) -> 0 | S3: =SUM(OFFSET(F3,,,,$U$1)) -> 2
A4: IT Corporate | B4: 1BI | C4: Maurice Jean-marc | D4: =C:C&B:B -> Maurice Jean-marc1BI | F4: =IFERROR(VLOOKUP($D:$D,'PPM 2019'!$F:$R,MATCH(Actual!F$1,'PPM 2019'!$F$1:$R$1,0),0),0) -> 1 | G4: =IFERROR(VLOOKUP($D:$D,'PPM 2019'!$F:$R,MATCH(Actual!G$1,'PPM 2019'!$F$1:$R$1,0),0),0) -> 1 | H4: =IFERROR(VLOOKUP($D:$D,'PPM 2019'!$F:$R,MATCH(Actual!H$1,'PPM 2019'!$F$1:$R$1,0),0),0) -> 0 | I4: =IFERROR(VLOOKUP($D:$D,'PPM 2019'!$F:$R,MATCH(Actual!I$1,'PPM 2019'!$F$1:$R$1,0),0),0) -> 0 | J4: =IFERROR(VLOOKUP($D:$D,'PPM 2019'!$F:$R,MATCH(Actual!J$1,'PPM 2019'!$F$1:$R$1,0),0),0) -> 0 | K4: =IFERROR(VLOOKUP($D:$D,'PPM 2019'!$F:$R,MATCH(Actual!K$1,'PPM 2019'!$F$1:$R$1,0),0),0) -> 0 | L4: =IFERROR(VLOOKUP($D:$D,'PPM 2019'!$F:$R,MATCH(Actual!L$1,'PPM 2019'!$F$1:$R$1,0),0),0) -> 0 | M4: =IFERROR(VLOOKUP($D:$D,'PPM 2019'!$F:$R,MATCH(Actual!M$1,'PPM 2019'!$F$1:$R$1,0),0),0) -> 0 | ... Q4: =IFERROR(VLOOKUP($D:$D,'PPM 2019'!$F:$R,MATCH(Actual!Q$1,'PPM 2019'!$F$1:$R$1,0),0),0) -> 0 | S4: =SUM(OFFSET(F4,,,,$U$1)) -> 2
A5: IT Corporate | B5: 1BI | C5: Mouillon Pascale | D5: =C:C&B:B -> Mouillon Pascale1BI | F5: =IFERROR(VLOOKUP($D:$D,'PPM 2019'!$F:$R,MATCH(Actual!F$1,'PPM 2019'!$F$1:$R$1,0),0),0) -> 1 | G5: =IFERROR(VLOOKUP($D:$D,'PPM 2019'!$F:$R,MATCH(Actual!G$1,'PPM 2019'!$F$1:$R$1,0),0),0) -> 1 | H5: =IFERROR(VLOOKUP($D:$D,'PPM 2019'!$F:$R,MATCH(Actual!H$1,'PPM 2019'!$F$1:$R$1,0),0),0) -> 0 | I5: =IFERROR(VLOOKUP($D:$D,'PPM 2019'!$F:$R,MATCH(Actual!I$1,'PPM 2019'!$F$1:$R$1,0),0),0) -> 0 | J5: =IFERROR(VLOOKUP($D:$D,'PPM 2019'!$F:$R,MATCH(Actual!J$1,'PPM 2019'!$F$1:$R$1,0),0),0) -> 0 | K5: =IFERROR(VLOOKUP($D:$D,'PPM 2019'!$F:$R,MATCH(Actual!K$1,'PPM 2019'!$F$1:$R$1,0),0),0) -> 0 | L5: =IFERROR(VLOOKUP($D:$D,'PPM 2019'!$F:$R,MATCH(Actual!L$1,'PPM 2019'!$F$1:$R$1,0),0),0) -> 0 | M5: =IFERROR(VLOOKUP($D:$D,'PPM 2019'!$F:$R,MATCH(Actual!M$1,'PPM 2019'!$F$1:$R$1,0),0),0) -> 0 | ... Q5: =IFERROR(VLOOKUP($D:$D,'PPM 2019'!$F:$R,MATCH(Actual!Q$1,'PPM 2019'!$F$1:$R$1,0),0),0) -> 0 | S5: =SUM(OFFSET(F5,,,,$U$1)) -> 2
A6: IT Corporate | B6: 1BI | C6: Mouzdahir Rachid | D6: =C:C&B:B -> Mouzdahir Rachid1BI | F6: =IFERROR(VLOOKUP($D:$D,'PPM 2019'!$F:$R,MATCH(Actual!F$1,'PPM 2019'!$F$1:$R$1,0),0),0) -> 1 | G6: =IFERROR(VLOOKUP($D:$D,'PPM 2019'!$F:$R,MATCH(Actual!G$1,'PPM 2019'!$F$1:$R$1,0),0),0) -> 1 | H6: =IFERROR(VLOOKUP($D:$D,'PPM 2019'!$F:$R,MATCH(Actual!H$1,'PPM 2019'!$F$1:$R$1,0),0),0) -> 0 | I6: =IFERROR(VLOOKUP($D:$D,'PPM 2019'!$F:$R,MATCH(Actual!I$1,'PPM 2019'!$F$1:$R$1,0),0),0) -> 0 | J6: =IFERROR(VLOOKUP($D:$D,'PPM 2019'!$F:$R,MATCH(Actual!J$1,'PPM 2019'!$F$1:$R$1,0),0),0) -> 0 | K6: =IFERROR(VLOOKUP($D:$D,'PPM 2019'!$F:$R,MATCH(Actual!K$1,'PPM 2019'!$F$1:$R$1,0),0),0) -> 0 | L6: =IFERROR(VLOOKUP($D:$D,'PPM 2019'!$F:$R,MATCH(Actual!L$1,'PPM 2019'!$F$1:$R$1,0),0),0) -> 0 | M6: =IFERROR(VLOOKUP($D:$D,'PPM 2019'!$F:$R,MATCH(Actual!M$1,'PPM 2019'!$F$1:$R$1,0),0),0) -> 0 | ... Q6: =IFERROR(VLOOKUP($D:$D,'PPM 2019'!$F:$R,MATCH(Actual!Q$1,'PPM 2019'!$F$1:$R$1,0),0),0) -> 0 | S6: =SUM(OFFSET(F6,,,,$U$1)) -> 2
A7: IT Corporate | B7: 1BI | C7: Nardin Stephane | D7: =C:C&B:B -> Nardin Stephane1BI | F7: =IFERROR(VLOOKUP($D:$D,'PPM 2019'!$F:$R,MATCH(Actual!F$1,'PPM 2019'!$F$1:$R$1,0),0),0) -> 1 | G7: =IFERROR(VLOOKUP($D:$D,'PPM 2019'!$F:$R,MATCH(Actual!G$1,'PPM 2019'!$F$1:$R$1,0),0),0) -> 1 | H7: =IFERROR(VLOOKUP($D:$D,'PPM 2019'!$F:$R,MATCH(Actual!H$1,'PPM 2019'!$F$1:$R$1,0),0),0) -> 0 | I7: =IFERROR(VLOOKUP($D:$D,'PPM 2019'!$F:$R,MATCH(Actual!I$1,'PPM 2019'!$F$1:$R$1,0),0),0) -> 0 | J7: =IFERROR(VLOOKUP($D:$D,'PPM 2019'!$F:$R,MATCH(Actual!J$1,'PPM 2019'!$F$1:$R$1,0),0),0) -> 0 | K7: =IFERROR(VLOOKUP($D:$D,'PPM 2019'!$F:$R,MATCH(Actual!K$1,'PPM 2019'!$F$1:$R$1,0),0),0) -> 0 | L7: =IFERROR(VLOOKUP($D:$D,'PPM 2019'!$F:$R,MATCH(Actual!L$1,'PPM 2019'!$F$1:$R$1,0),0),0) -> 0 | M7: =IFERROR(VLOOKUP($D:$D,'PPM 2019'!$F:$R,MATCH(Actual!M$1,'PPM 2019'!$F$1:$R$1,0),0),0) -> 0 | ... Q7: =IFERROR(VLOOKUP($D:$D,'PPM 2019'!$F:$R,MATCH(Actual!Q$1,'PPM 2019'!$F$1:$R$1,0),0),0) -> 0 | S7: =SUM(OFFSET(F7,,,,$U$1)) -> 2
A8: IT Corporate | B8: 1BI | C8: Nguyen Flavien | D8: =C:C&B:B -> Nguyen Flavien1BI | F8: =IFERROR(VLOOKUP($D:$D,'PPM 2019'!$F:$R,MATCH(Actual!F$1,'PPM 2019'!$F$1:$R$1,0),0),0) -> 1 | G8: =IFERROR(VLOOKUP($D:$D,'PPM 2019'!$F:$R,MATCH(Actual!G$1,'PPM 2019'!$F$1:$R$1,0),0),0) -> 1 | H8: =IFERROR(VLOOKUP($D:$D,'PPM 2019'!$F:$R,MATCH(Actual!H$1,'PPM 2019'!$F$1:$R$1,0),0),0) -> 0 | I8: =IFERROR(VLOOKUP($D:$D,'PPM 2019'!$F:$R,MATCH(Actual!I$1,'PPM 2019'!$F$1:$R$1,0),0),0) -> 0 | J8: =IFERROR(VLOOKUP($D:$D,'PPM 2019'!$F:$R,MATCH(Actual!J$1,'PPM 2019'!$F$1:$R$1,0),0),0) -> 0 | K8: =IFERROR(VLOOKUP($D:$D,'PPM 2019'!$F:$R,MATCH(Actual!K$1,'PPM 2019'!$F$1:$R$1,0),0),0) -> 0 | L8: =IFERROR(VLOOKUP($D:$D,'PPM 2019'!$F:$R,MATCH(Actual!L$1,'PPM 2019'!$F$1:$R$1,0),0),0) -> 0 | M8: =IFERROR(VLOOKUP($D:$D,'PPM 2019'!$F:$R,MATCH(Actual!M$1,'PPM 2019'!$F$1:$R$1,0),0),0) -> 0 | ... Q8: =IFERROR(VLOOKUP($D:$D,'PPM 2019'!$F:$R,MATCH(Actual!Q$1,'PPM 2019'!$F$1:$R$1,0),0),0) -> 0 | S8: =SUM(OFFSET(F8,,,,$U$1)) -> 2
A9: IT Corporate | B9: 1BI | C9: Kone Moussa | D9: =C:C&B:B -> Kone Moussa1BI | F9: =IFERROR(VLOOKUP($D:$D,'PPM 2019'!$F:$R,MATCH(Actual!F$1,'PPM 2019'!$F$1:$R$1,0),0),0) -> 0 | G9: =IFERROR(VLOOKUP($D:$D,'PPM 2019'!$F:$R,MATCH(Actual!G$1,'PPM 2019'!$F$1:$R$1,0),0),0) -> 1 | H9: =IFERROR(VLOOKUP($D:$D,'PPM 2019'!$F:$R,MATCH(Actual!H$1,'PPM 2019'!$F$1:$R$1,0),0),0) -> 0 | I9: =IFERROR(VLOOKUP($D:$D,'PPM 2019'!$F:$R,MATCH(Actual!I$1,'PPM 2019'!$F$1:$R$1,0),0),0) -> 0 | J9: =IFERROR(VLOOKUP($D:$D,'PPM 2019'!$F:$R,MATCH(Actual!J$1,'PPM 2019'!$F$1:$R$1,0),0),0) -> 0 | K9: =IFERROR(VLOOKUP($D:$D,'PPM 2019'!$F:$R,MATCH(Actual!K$1,'PPM 2019'!$F$1:$R$1,0),0),0) -> 0 | L9: =IFERROR(VLOOKUP($D:$D,'PPM 2019'!$F:$R,MATCH(Actual!L$1,'PPM 2019'!$F$1:$R$1,0),0),0) -> 0 | M9: =IFERROR(VLOOKUP($D:$D,'PPM 2019'!$F:$R,MATCH(Actual!M$1,'PPM 2019'!$F$1:$R$1,0),0),0) -> 0 | ... Q9: =IFERROR(VLOOKUP($D:$D,'PPM 2019'!$F:$R,MATCH(Actual!Q$1,'PPM 2019'!$F$1:$R$1,0),0),0) -> 0 | S9: =SUM(OFFSET(F9,,,,$U$1)) -> 1
B10: Total 1BI | F10: =SUM(F2:F9) -> 7 | G10: =SUM(G2:G9) -> 8 | H10: =SUM(H2:H9) -> 0 | I10: =SUM(I2:I9) -> 0 | J10: =SUM(J2:J9) -> 0 | K10: =SUM(K2:K9) -> 0 | L10: =SUM(L2:L9) -> 0 | M10: =SUM(M2:M9) -> 0 | ... Q10: =SUM(Q2:Q9) -> 0 | S10: =SUM(S2:S9) -> 15
A11: IT Corporate | B11: 1BUS | C11: Amador Joao | D11: =C:C&B:B -> Amador Joao1BUS | F11: =IFERROR(VLOOKUP($D:$D,'PPM 2019'!$F:$R,MATCH(Actual!F$1,'PPM 2019'!$F$1:$R$1,0),0),0) -> 1 | G11: =IFERROR(VLOOKUP($D:$D,'PPM 2019'!$F:$R,MATCH(Actual!G$1,'PPM 2019'!$F$1:$R$1,0),0),0) -> 1 | H11: =IFERROR(VLOOKUP($D:$D,'PPM 2019'!$F:$R,MATCH(Actual!H$1,'PPM 2019'!$F$1:$R$1,0),0),0) -> 0 | I11: =IFERROR(VLOOKUP($D:$D,'PPM 2019'!$F:$R,MATCH(Actual!I$1,'PPM 2019'!$F$1:$R$1,0),0),0) -> 0 | J11: =IFERROR(VLOOKUP($D:$D,'PPM 2019'!$F:$R,MATCH(Actual!J$1,'PPM 2019'!$F$1:$R$1,0),0),0) -> 0 | K11: =IFERROR(VLOOKUP($D:$D,'PPM 2019'!$F:$R,MATCH(Actual!K$1,'PPM 2019'!$F$1:$R$1,0),0),0) -> 0 | L11: =IFERROR(VLOOKUP($D:$D,'PPM 2019'!$F:$R,MATCH(Actual!L$1,'PPM 2019'!$F$1:$R$1,0),0),0) -> 0 | M11: =IFERROR(VLOOKUP($D:$D,'PPM 2019'!$F:$R,MATCH(Actual!M$1,'PPM 2019'!$F$1:$R$1,0),0),0) -> 0 | ... Q11: =IFERROR(VLOOKUP($D:$D,'PPM 2019'!$F:$R,MATCH(Actual!Q$1,'PPM 2019'!$F$1:$R$1,0),0),0) -> 0 | S11: =SUM(OFFSET(F11,,,,$U$1)) -> 2
