Workbook

Sheet Base
A1: Date | B1: Code | C1: Reprise
A2: 43787 | B2: 5 | C2: Palettes
A3: 43787 | B3: 7 | C3: Balles
A4: 43787 | B4: 9 | C4: Balles
A5: 43787 | B5: 11 | C5: Balles
A6: 43787 | B6: 14 | C6: Balles
A7: 43787 | B7: 15 | C7: Balles
A8: 43787 | B8: 16 | C8: Balles
A9: 43787 | B9: 19 | C9: Palettes
A10: 43787 | B10: 22 | C10: Balles
A11: 43787 | B11: 23 | C11: Balles
A12: 43787 | B12: 27 | C12: Balles
A13: 43787 | B13: 28 | C13: Balles
... A47: 43788 | B47: 67 | C47: Balles

Sheet Recap
B1: 43787 | D1: 43788
A2: Code | B2: Balles | C2: Palettes Eur | D2: Balles | E2: Palettes Eur
A3: 5 | B3: {=SUM((Base!$A$2:$A$47=$B$1)*(Base!$B$2:$B$47=A3)*(Base!$C$2:$C$47=$B$2))} -> 0 | C3: {=SUM((Base!$A$2:$A$47=$B$1)*(Base!$B$2:$B$47=A3)*(Base!$C$2:$C$47=LEFT($C$2,LEN($C$2)-4)))} -> 1
A4: 7 | B4: {=SUM((Base!$A$2:$A$47=$B$1)*(Base!$B$2:$B$47=A4)*(Base!$C$2:$C$47=$B$2))} -> 1 | C4: {=SUM((Base!$A$2:$A$47=$B$1)*(Base!$B$2:$B$47=A4)*(Base!$C$2:$C$47=LEFT($C$2,LEN($C$2)-4)))} -> 0
A5: 9 | B5: {=SUM((Base!$A$2:$A$47=$B$1)*(Base!$B$2:$B$47=A5)*(Base!$C$2:$C$47=$B$2))} -> 1 | C5: {=SUM((Base!$A$2:$A$47=$B$1)*(Base!$B$2:$B$47=A5)*(Base!$C$2:$C$47=LEFT($C$2,LEN($C$2)-4)))} -> 0
A6: 11 | B6: {=SUM((Base!$A$2:$A$47=$B$1)*(Base!$B$2:$B$47=A6)*(Base!$C$2:$C$47=$B$2))} -> 1 | C6: {=SUM((Base!$A$2:$A$47=$B$1)*(Base!$B$2:$B$47=A6)*(Base!$C$2:$C$47=LEFT($C$2,LEN($C$2)-4)))} -> 0
A7: 14 | B7: {=SUM((Base!$A$2:$A$47=$B$1)*(Base!$B$2:$B$47=A7)*(Base!$C$2:$C$47=$B$2))} -> 1 | C7: {=SUM((Base!$A$2:$A$47=$B$1)*(Base!$B$2:$B$47=A7)*(Base!$C$2:$C$47=LEFT($C$2,LEN($C$2)-4)))} -> 0
A8: 15 | B8: {=SUM((Base!$A$2:$A$47=$B$1)*(Base!$B$2:$B$47=A8)*(Base!$C$2:$C$47=$B$2))} -> 1 | C8: {=SUM((Base!$A$2:$A$47=$B$1)*(Base!$B$2:$B$47=A8)*(Base!$C$2:$C$47=LEFT($C$2,LEN($C$2)-4)))} -> 0
A9: 16 | B9: {=SUM((Base!$A$2:$A$47=$B$1)*(Base!$B$2:$B$47=A9)*(Base!$C$2:$C$47=$B$2))} -> 1 | C9: {=SUM((Base!$A$2:$A$47=$B$1)*(Base!$B$2:$B$47=A9)*(Base!$C$2:$C$47=LEFT($C$2,LEN($C$2)-4)))} -> 0
A10: 19 | B10: {=SUM((Base!$A$2:$A$47=$B$1)*(Base!$B$2:$B$47=A10)*(Base!$C$2:$C$47=$B$2))} -> 0 | C10: {=SUM((Base!$A$2:$A$47=$B$1)*(Base!$B$2:$B$47=A10)*(Base!$C$2:$C$47=LEFT($C$2,LEN($C$2)-4)))} -> 1
A11: 22 | B11: {=SUM((Base!$A$2:$A$47=$B$1)*(Base!$B$2:$B$47=A11)*(Base!$C$2:$C$47=$B$2))} -> 1 | C11: {=SUM((Base!$A$2:$A$47=$B$1)*(Base!$B$2:$B$47=A11)*(Base!$C$2:$C$47=LEFT($C$2,LEN($C$2)-4)))} -> 0
A12: 23 | B12: {=SUM((Base!$A$2:$A$47=$B$1)*(Base!$B$2:$B$47=A12)*(Base!$C$2:$C$47=$B$2))} -> 1 | C12: {=SUM((Base!$A$2:$A$47=$B$1)*(Base!$B$2:$B$47=A12)*(Base!$C$2:$C$47=LEFT($C$2,LEN($C$2)-4)))} -> 0
A13: 27 | B13: {=SUM((Base!$A$2:$A$47=$B$1)*(Base!$B$2:$B$47=A13)*(Base!$C$2:$C$47=$B$2))} -> 1 | C13: {=SUM((Base!$A$2:$A$47=$B$1)*(Base!$B$2:$B$47=A13)*(Base!$C$2:$C$47=LEFT($C$2,LEN($C$2)-4)))} -> 0
A14: 28 | B14: {=SUM((Base!$A$2:$A$47=$B$1)*(Base!$B$2:$B$47=A14)*(Base!$C$2:$C$47=$B$2))} -> 1 | C14: {=SUM((Base!$A$2:$A$47=$B$1)*(Base!$B$2:$B$47=A14)*(Base!$C$2:$C$47=LEFT($C$2,LEN($C$2)-4)))} -> 0
... A25: 67 | B25: {=SUM((Base!$A$2:$A$47=$B$1)*(Base!$B$2:$B$47=A25)*(Base!$C$2:$C$47=$B$2))} -> 1 | C25: {=SUM((Base!$A$2:$A$47=$B$1)*(Base!$B$2:$B$47=A25)*(Base!$C$2:$C$47=LEFT($C$2,LEN($C$2)-4)))} -> 0
