Workbook
Name date_fichier: #REF!

Sheet Feuille de route
B1: Révision : B - 24/01/2018 | D1: Feuille de route formation Kemsley
B3: Objectif : Bien définir les besoins et mettre en place un package de formation standardisé et industrialisé, définir également quels points ne seront pas inclus dans la formation de base mais qui pourront faire l'objet d'une facturation annexe en tant que modules optionnels
B5: Tâche reliée | C5: A réaliser | D5: Commentaires / Détails | E5: Priorité | F5: Temps prévu (1/2 journée) | G5: Réalisé | H5: Objectif du point | J5: Grand total | K5: Réalisé | L5: Indicateur | N5: Commentaires
A6: 1 | B6: A | C6: Matrice de formation | D6: Utiliser la verson d'Antonio sur Wilton (bien refaire les notations de la qualité de la formation des opérateurs cela permettra de communiquer plus facilement durant les board meeting avec le client) | E6: + | F6: 2 | G6: 1 | N6: Est-ce qu'il y a vraiment un intérêt ? Bruno pas chaud, car les notes peuvent nous retomber dessus
A7: 2 | B7: A | D7: Faire une génération automatique des fiches de résultats de chaque personne avec un graphique de type radar, avec en fonction du niveau du gars les notations minimum "éliminatoires" | E7: - | F7: 4 | G7: 0.95 | J7: =SUM(F7:F71) -> 159 | K7: =SUM(Q7:Q71) -> 98.85 | Q7: =F7*G7 -> 3.8
A8: 3 | B8: A | D8: Faire une matrice avec tous les items bien détaillés, puis arranger les journées de formation pour avoir plusieurs items qui se suivent en s'enchainent (Town water puis Raw water puis demin, puis reagent injections, etc…) | E8: + | F8: 1 | G8: 1 | J8: =J7/2 -> 79.5 | K8: =(K7/J7)*100 -> 62.169811 | L8: =CHOOSE(IF(K8<33,"3",IF(K8>66,"1","2")),"J","K","L") -> K | Q8: =F8*G8 -> 1
A9: 4 | B9: A | D9: Calculer automatiquement si l'opérateur peut prétendre à une position supérieure selon ses résultats dans la fiche d'extraction des données | E9: ° | F9: 1 | G9: 1 | J9: =ROUNDUP((J8/5),0) -> 16 | Q9: =F9*G9 -> 1
A10: 5 | B10: B | C10: Booklet | D10: Réutiliser les booklet de Rémy sur Beddignton et les refaire signer par les formateurs/opérateurs | E10: + | F10: 0 | G10: 0 | H10: Cela motivait les opérateurs (ceux qui ont le plus tendance à lambiner) | N10: Mauvaise idée, il y a un risque d'avoir plusieurs informations contradictoires, laisser la matrice de suivi et l'export hedbomadaire comme unique suivi de la formation | Q10: =F10*G10 -> 0
A11: 6 | B11: B | C11: Booklet | D11: Enlever la case "competent" du booklet pour les training hand on et mettre la mettre en place pour les training operations (à l'aide des procédures opérationnelles les opérateurs seront testés sur certaines tâches comme les nettoyage des filtres FWP, etc...) | E11: - | F11: 0 | G11: 0 | H11: Uriliser le mot "Acquis" plutôt que compétent pour éviter les pb type juridiques | Q11: =F11*G11 -> 0
A12: 7 | B12: C | C12: Créer les fiches de notation | D12: Créer les fiches de notation de la formation, permet d'avoir une idée de la qualité de la formation et de savoir si on estime la personne formée apte à être habilitée (en relation avec le point 1) - Training attendance form 10_training_folow_up - 10_attendance_sheet_template, les relier avec l'export 2 jours pour les avoir remplies pour chaque opérateur pour chaque training Noter dessus le nom du trainer et anonymiser les feuilles pour les opérateurs | E12: + | F12: 1 | G12: 1 | H12: Permettra de se justifier auprès du client sur la qualité ressentie des sessions en weekly meeting | N12: Classroom training : 2 à 3 semaines | Q12: =F12*G12 -> 1
A13: 8 | B13: D | C13: Tool talk box | D13: Modifier le fichier de Rémy (handson toolbox talk) afin d'avoir un fichier excel ou word par training et niveau d'équipe (STL/FRO/etc), au lieu d'un fichier unique avec une multitude d'onglets (un répertoire par lead; un répertoire par niveau STL/FRO etc…) Imprimer aussi les handson tool box talk automatiquement pour chaque session de formation | E13: ° | F13: 1 | G13: 1 | H13: Sera mise en place en relation avec le point 20 (Tache N) | Q13: =F13*G13 -> 1
A14: 9 | B14: E | C14: Procédure | D14: Voir ce qu'il y a comme procédure Windchill de disponible et déjà écrite, voir ce qu'elle inclut voir mettre à jour | E14: + | F14: 1 | G14: 1 | Q14: =F14*G14 -> 1
A15: 10 | B15: E | C15: Procédure | D15: Rajouter dans la procédure de formation lq description du système des booklet et la nécessité de faire signer ces booklets par les opérateurs à la fin de chaque session de formation | E15: - | F15: 1 | G15: 0 | H15: Officialise la démarche | Q15: =F15*G15 -> 0
A16: 11 | B16: E | C16: Procédure | D16: Voir pour intégrer dans le contrat de vente de la prestation de formation une "obligation de présence" pour les opérateurs du client (ASTL/STL et STO) - modifier la procédure de formation pour ajouter ce point | E16: + | F16: 1 | G16: 0 | Q16: =F16*G16 -> 0
A17: 12 | B17: E | C17: Procédure | D17: Voir pour inclure dans la procédure de formation, les conditions de passage des tests 2 tests différents, un au début de la formation, le second à la fin Questions pourraient être différentes (dont certaines vraiment corsées au 1er test pour mettre la pression) Définir que les PID pourront être utilisés lors des tests | E17: + | F17: 3 | G17: 1 | Q17: =F17*G17 -> 3
A18: 13 | B18: E | C18: Procédure | D18: Bien définir dans la procédure qu'il ne sera peut être pas possible de former tout le monde sur tous les systèmes, le planning sera réalisé pour qu'au moins 1 personne de chaque équipe ait fait au moins une formation opération, afin que l'ensemble des teams soient capable de façon collégiale de démarrer l'usine | E18: + | F18: 1 | G18: 1 | H18: Défini dans le module de présentation | Q18: =F18*G18 -> 1
A19: 14 | B19: E | C19: Procédure | D19: Attention à définir des règles strictes lors des examens (pas téléphone, juste PID, etc…) et les diffuser comme règles du jeu avant le début des training, toute personne prise en train de tricher sera sanctionnée (genre - 10 points sur le résultat final + noté dans la fiche de résultat) | E19: + | F19: 0 | G19: 0.6 | Q19: =F19*G19 -> 0
A20: 15 | B20: E | C20: Procédure | D20: Définir un programme de formation qui soit consistant, pas besoin de former sur tous les postes les secrétaires, faire un module de description rapide de l'installation pour le personnel de bureau (secrétaires, H&S, Responsbale maintenance/exploitation, ...) | E20: + | F20: 1 | G20: 1 | H20: Prochain chantier prévoir 2 à 3 jours minimum pour le planning | Q20: =F20*G20 -> 1
A21: 16 | B21: F | C21: Voir le contrat | D21: Regarder ce que le contrat de Kemsley demande en terme de besoin de formation (temps, nombre de personnes, etc…) | E21: + | F21: 4 | G21: 1 | H21: Meilleure estimation sur l'enveloppe d'heures de formation | Q21: =F21*G21 -> 4
A22: 17 | B22: G | C22: Estimation des besoins | D22: Estimation des besoins rééls en temps de formation pour chaque module (Besoin plus importants sur Beddington par rapport au temps réel nécessaire pour chaque système) et création du planning de formation | E22: + | F22: 4 | G22: 1 | H22: Eviter d'avoir un trop grand nombres d'heures prévues (gestion personnel/planning) | Q22: =F22*G22 -> 4
A23: 18 | B23: G | C23: Planning formation | D23: Inclure une période de 1 à 2 semaines à la fin du planning pour les sessions reportées ou des compléments de formation | E23: - | F23: 0 | G23: 1 | H23: Attention point 23 similaire | Q23: =F23*G23 -> 0
A24: 19 | B24: G | C24: Planning formation | D24: Calculer la charge de travail et évaluer le besoin d'une 2ème/3ème personne dédiés à la formation | E24: ° | F24: 1 | G24: 1 | H24: Idem ci-dessous | Q24: =F24*G24 -> 1
A25: 20 | B25: G | C25: Planning formation | D25: Faire un tri dans le planning avec les formations réalisées par les STL Cnim, celles réalisées par les lead et celles réalisées par les ingé process en classroom | E25: ° | F25: 1 | G25: 1 | H25: Permettra une meilleure estimation des besoins en terme de personnel pour la formation | Q25: =F25*G25 -> 1
A26: 21 | B26: G | C26: Planning formation | D26: Voir pour définir 3 à 4 personnes pour formation (1 STL au moins pour la partie découverte site/DCS bloqué pour cette partie ci spécifiquement dédié à la formation) | E26: + | F26: 1 | G26: 1 | Q26: =F26*G26 -> 1
A27: 22 | B27: G | C27: Planning formation | D27: Rajouter sur un pc dédié toutes les documentations (technique, O&MM, etc...), pc sur lequel on installera le simulateur et les vues commentées, faire appel à l'emplacement des documents dans les booklets | E27: - | F27: 1 | G27: 0 | Q27: =F27*G27 -> 0
A28: 23 | B28: G | C28: Planning formation | D28: Splitter les périodes de formations (1 mois formation avec 1 semaine libre) au départ du planning pour les sessions de rattrappage ou les congés clients etc… (à réaliser selon la charge de travail de la formation) | E28: + | F28: 1 | G28: 1 | Q28: =F28*G28 -> 1
A29: 24 | B29: G | C29: Planning formation | D29: Prendre un STL et le bloquer spécifiquement pour la formation durant une période courte (4 x 1 semaine), juste avant le démarrage des shifts | E29: ° | F29: 0 | G29: 1 | Q29: =F29*G29 -> 0
A30: 25 | B30: G | C30: Planning formation | D30: Réaliser le planing de formation pour les 52 personnes de l'usine de Kemsley (voir pour trouver l'organigramme de Kemsley) - Attention à bien faire attention aux jours fériés anglais | E30: + | F30: 6 | G30: 1 | Q30: =F30*G30 -> 6
A31: 26 | B31: G | C31: Planning formation | D31: Mettre en place des formations découverte de l'usine pour les secrétaires etc…. | E31: - | F31: 2 | G31: 1 | Q31: =F31*G31 -> 2
A32: 27 | B32: G | C32: Planning formation | D32: Bien calculer le début de la date de training pour éviter de débuter celui-ci trop tôt quand les équipements sont indisponibles | E32: + | F32: 0 | G32: 1 | H32: Date automatique | Q32: =F32*G32 -> 0
A33: 28 | B33: G | C33: Planning formation | D33: Lab se met à notre diapason, Attention aux problèmes sur Beddington avec les sessions annulées, voir pour envoyer au plus tôt le planning à Bertrand Gey et demander de détacher le personnel nécessaire pour les training (hands on & practice) | E33: + | F33: 0 | G33: 0.3 | N33: Bertand a été contacté pour discuter de l'harmonisation de la documentation | Q33: =F33*G33 -> 0
A34: 29 | B34: G | C34: Planning formation | D34: Mettre sur le planning de départ les dates des examens et s'y tenir (prévoir 1 semaine de gras entre la fin des formations et les examens finaux) | E34: + | F34: 0 | G34: 1 | Q34: =F34*G34 -> 0
A35: 30 | B35: G | C35: Planning formation | D35: Faire un planning après définition des besoins qui se mettrait à jour automatiquement en fonction de la date de démarrage de la formation sur site, avec une mise en place de toutes sessions de formation | E35: + | F35: 2 | G35: 1 | Q35: =F35*G35 -> 2
A36: 31 | B36: G | C36: Planning formation | D36: Voir pour obtenir les informations contrats des achats avec la quantité d'heure de formation pour chaque contrat, pour gérer le planing | E36: ° | F36: 0 | G36: 1 | H36: Premettra de mettre en place un planning correct de training théorique | Q36: =F36*G36 -> 0
A37: 32 | B37: H | C37: Définition du logiciel vues DCS | D37: Définition du logiciel à utiliser pour les vues DCS et popup à mettre en place | E37: ° | F37: 2 | G37: 1 | H37: Trouver le meilleur compromis entre temps/fonctions/prix | Q37: =F37*G37 -> 2
A38: 33 | B38: H | C38: Création des vues DCS | D38: Définition des informations à inclure dans les popup, en fonction de la lourdeur de mise à jour entre chaque projet | E38: + | F38: 2 | G38: 1 | H38: Gardera un objectif clair en fonction des priorités | Q38: =F38*G38 -> 2
A39: 34 | B39: H | C39: Création des vues DCS | D39: Informations de base à inclure dans les popup : KKS, Description (type de fluide; d’où il vient et ou il va) | E39: ° | F39: 40 | G39: 0.9 | H39: Fait pour Beddington | Q39: =F39*G39 -> 36
A40: 35 | B40: H | C40: Création des vues DCS | D40: Information supplémentaires à ajouter : Numéro de ligne sur le PID avec un lien vers le PID dont la ligne est surlignée (renommer chaque PID en utilisant le numéro de la ligne surlignée sur le PID) | E40: - | F40: 0 | G40: 0 | H40: Permettra d'avoir un accès plus rapide aux PID | N40: Annulé par Bruno pour Kemsley/Beddington | Q40: =F40*G40 -> 0
A41: 36 | B41: H | C41: Vues DCS | D41: Possibilité de GMAO sur Valmet, voir avec Gilles, comment ou et combien de temps pour intégrer éventuellement les infos sur la maintenance que Michal rentre dans sa base donnée et les rendres disponibles sur le système Metso. | E41: - | F41: 0 | G41: 0 | H41: Pas Possible apparemment confirmer avec Bruno | Q41: =F41*G41 -> 0
A42: 37 | B42: I | C42: Questionnaire présentable | D42: Réaliser un mini questionnaire à fournir au client, qui ne sera pas utilisé durant les tests (pour lui montrer à quoi ressemblent les questionnaires) | E42: ° | F42: 1 | G42: 1 | H42: Fournir un exemple de questionnaire "blanc" - Réalisé dans la présentation | N42: Réalisé dans le powerpoint de présentation "Sale of training service" | Q42: =F42*G42 -> 1
...

Sheet A faire
B2: Début de projet : 24/05/2019 | D2: Printed : | E2: =NOW() -> 43848.978
B3: Etapes à réaliser | C3: % | D3: Description | E3: Commentaires | F3: Groupe principal | G3: Rélié à | H3: Priorité | I3: Sur site | J3: Date d'ajout | K3: Date clotûre | M3: Total
B4: MoM_TMA_01 / B.1 | C4: 1 | F4: A1 | G4: F1 | H4: - | J4: 43609 | K4: =IF(C4<>1,"",IF(K4<>"",K4,TODAY())) -> 43749 | M4: =AVERAGE(C4:C65) -> 0.48258065
B5: MoM_TMA_01 / B.2 | C5: 1 | F5: A2 | H5: + | J5: 43609 | K5: 43690
B6: MoM_TMA_01 / B.3 | C6: 1 | F6: B1 | H6: ° | J6: 43609 | K6: 43690
B7: MoM_TMA_01 / H.1 | C7: 1 | F7: A3 | H7: ° | J7: 43609 | K7: 43631
B8: MoM_TMA_01 / I.1 | C8: 0.75 | F8: A4 | H8: - | J8: 43609 | K8: =IF(C8<>1,"",IF(K8<>"",K8,TODAY()))
B9: MoM_TMA_01 / I.2 | C9: 0.5 | F9: C1 | H9: ° | J9: 43609 | K9: =IF(C9<>1,"",IF(K9<>"",K9,TODAY()))
B10: MoM_TMA_01 / I.3 | C10: 1 | F10: A5 | H10: + | J10: 43609 | K10: 43697
B11: MoM_TMA_01 / J.2 | C11: 1 | H11: + | J11: 43609 | K11: 43612
B12: Protection du contenu | C12: 1 | F12: E1 | H12: + | J12: 43636 | K12: 43678
B13: Qualitatif contenu | C13: 1 | F13: F1 | H13: + | J13: 43649 | K13: =IF(C13<>1,"",IF(K13<>"",K13,TODAY())) -> 43738
B14: Test | C14: 0 | F14: F2 | H14: - | J14: 43649 | K14: =IF(C14<>1,"",IF(K14<>"",K14,TODAY()))
B15: Simulateur - Leçons prérequis | C15: 1 | F15: G1 | H15: + | J15: 43650 | K15: 43655
B16: form | C16: 0.75 | F16: F3 | H16: + | J16: 43650 | K16: =IF(C16<>1,"",IF(K16<>"",K16,TODAY()))
B17: Exams | C17: 0.4 | F17: H1 | H17: ° | J17: 43650 | K17: =IF(C17<>1,"",IF(K17<>"",K17,TODAY()))
B18: Avo Exam | C18: 1 | F18: H2 | H18: + | J18: 43650 | K18: 43651
B19: MoM_TMA_02 / A.1 | C19: 0.5 | F19: A6 | H19: + | J19: 43663 | K19: =IF(C19<>1,"",IF(K19<>"",K19,TODAY()))
B20: MoM_TMA_02 / A.2 | C20: 1 | F20: A7 | H20: ++ | J20: 43663 | K20: 43678
B21: MoM_TMA_02 / C.1 | C21: 1 | F21: I1 | G21: B1 | H21: ++ | J21: 43663 | K21: 43718
B22: MoM_TMA_02 / D.1 | C22: 1 | F22: I2 | H22: + | J22: 43663 | K22: 43690
B23: MoM_TMA_02 / E.1 | C23: 0.75 | F23: I3 | H23: - | J23: 43663 | K23: =IF(C23<>1,"",IF(K23<>"",K23,TODAY()))
B24: MoM_TMA_02 / F.1 | C24: 0 | F24: J1 | H24: - | J24: 43663 | K24: =IF(C24<>1,"",IF(K24<>"",K24,TODAY()))
B25: MoM_TMA_02 / G | C25: 0.5 | F25: I4 | H25: - | J25: 43663 | K25: =IF(C25<>1,"",IF(K25<>"",K25,TODAY()))
B26: Peax | C26: 1 | F26: A8 | H26: + | J26: 43705 | K26: 43718
B27: Constitution équipe | C27: 0 | F27: K1 | H27: ° | J27: 43705 | K27: =IF(C27<>1,"",IF(K27<>"",K27,TODAY()))
B28: Pea | C28: 0.75 | F28: A9 | H28: + | J28: 43718 | K28: =IF(C28<>1,"",IF(K28<>"",K28,TODAY()))
B29: LMS | C29: 1 | F29: I5 | H29: + | J29: 43718 | K29: 43718
B30: LMS - Prestataires | C30: 1 | F30: I6 | H30: + | J30: 43718 | K30: =IF(C30<>1,"",IF(K30<>"",K30,TODAY())) -> 43796
B31: LMS - Cahier technique | C31: 1 | F31: I7 | H31: + | J31: 43718 | K31: =IF(C31<>1,"",IF(K31<>"",K31,TODAY())) -> 43775
B32: DF01-MJ | C32: 0.75 | F32: A12 | H32: + | J32: 43739 | K32: =IF(C32<>1,"",IF(K32<>"",K32,TODAY()))
B33: DF01-MI | C33: 0.5 | F33: A13 | H33: + | J33: 43739 | K33: =IF(C33<>1,"",IF(K33<>"",K33,TODAY()))
B34: DF01-ME | C34: 0.35 | F34: A14 | H34: + | J34: 43739 | K34: =IF(C34<>1,"",IF(K34<>"",K34,TODAY()))
B35: DF01-MA | C35: 0.25 | F35: A15 | H35: + | J35: 43739 | K35: =IF(C35<>1,"",IF(K35<>"",K35,TODAY()))
B36: DF01-MA-m07 | C36: 0.75 | F36: A16 | H36: + | J36: 43739 | K36: =IF(C36<>1,"",IF(K36<>"",K36,TODAY()))
B37: DF01-MI-m01 | C37: 0.6 | F37: A17 | H37: + | J37: 43739 | K37: =IF(C37<>1,"",IF(K37<>"",K37,TODAY()))
B38: DF01-MA-m06 | C38: 0.6 | F38: A18 | H38: + | J38: 43748 | K38: =IF(C38<>1,"",IF(K38<>"",K38,TODAY()))
B39: DF01-MD | C39: 0.25 | F39: A19 | H39: + | J39: 43748 | K39: =IF(C39<>1,"",IF(K39<>"",K39,TODAY()))
B40: DF01-MF | C40: 0.25 | F40: A20 | H40: + | J40: 43748 | K40: =IF(C40<>1,"",IF(K40<>"",K40,TODAY()))
B41: DF01-MJ-m01 | C41: 0.1 | F41: A21 | H41: + | J41: 43748 | K41: =IF(C41<>1,"",IF(K41<>"",K41,TODAY()))
...

Sheet Résumé François
B3: LMS | C3: Avancement global | D3: Avancement Digitalisation (modules principaux) | E3: Avancement Digitalisation (Modules secondaires) | F3: Avancement digitalisation interne et hebergement
B4: DF00 - | C4: =IFERROR(SUMIF('A faire'!$B$4:$B$1000,LEFT(B4,4)&"*",'A faire'!$C$4:$C$1000)/COUNTIF('A faire'!$B$4:$B$1000,LEFT(B4,4)&"*"),0) -> 0
B5: DF01 - | C5: =IFERROR(SUMIF('A faire'!$B$4:$B$1000,LEFT(B5,4)&"*",'A faire'!$C$4:$C$1000)/COUNTIF('A faire'!$B$4:$B$1000,LEFT(B5,4)&"*"),0) -> 0.39615385
B6: DF02 - | C6: =IFERROR(SUMIF('A faire'!$B$4:$B$1000,LEFT(B6,4)&"*",'A faire'!$C$4:$C$1000)/COUNTIF('A faire'!$B$4:$B$1000,LEFT(B6,4)&"*"),0) -> 0
B7: DF03 - | C7: =IFERROR(SUMIF('A faire'!$B$4:$B$1000,LEFT(B7,4)&"*",'A faire'!$C$4:$C$1000)/COUNTIF('A faire'!$B$4:$B$1000,LEFT(B7,4)&"*"),0) -> 0.175
B8: DF04 - | C8: =IFERROR(SUMIF('A faire'!$B$4:$B$1000,LEFT(B8,4)&"*",'A faire'!$C$4:$C$1000)/COUNTIF('A faire'!$B$4:$B$1000,LEFT(B8,4)&"*"),0) -> 0
B9: DF05 - | C9: =IFERROR(SUMIF('A faire'!$B$4:$B$1000,LEFT(B9,4)&"*",'A faire'!$C$4:$C$1000)/COUNTIF('A faire'!$B$4:$B$1000,LEFT(B9,4)&"*"),0) -> 0
B10: DF06 - | C10: =IFERROR(SUMIF('A faire'!$B$4:$B$1000,LEFT(B10,4)&"*",'A faire'!$C$4:$C$1000)/COUNTIF('A faire'!$B$4:$B$1000,LEFT(B10,4)&"*"),0) -> 0
B11: DF07 - | C11: =IFERROR(SUMIF('A faire'!$B$4:$B$1000,LEFT(B11,4)&"*",'A faire'!$C$4:$C$1000)/COUNTIF('A faire'!$B$4:$B$1000,LEFT(B11,4)&"*"),0) -> 0.02
B12: DF08 - | C12: =IFERROR(SUMIF('A faire'!$B$4:$B$1000,LEFT(B12,4)&"*",'A faire'!$C$4:$C$1000)/COUNTIF('A faire'!$B$4:$B$1000,LEFT(B12,4)&"*"),0) -> 0
B13: DF09 - | C13: =IFERROR(SUMIF('A faire'!$B$4:$B$1000,LEFT(B13,4)&"*",'A faire'!$C$4:$C$1000)/COUNTIF('A faire'!$B$4:$B$1000,LEFT(B13,4)&"*"),0) -> 0
