Workbook
Name Agence: Tableau1[AGENCE]
Name Alarme_intrusion: 'Menus déroulants'!$C$11:$C$12
Name BAES: 'Menus déroulants'!$F$11
Name Batterie_de_condensateurs: 'Menus déroulants'!$B$13
Name CENTRALE_ENERGIE: 'Menus déroulants'!$D$3:$D$9
Name CFA: 'Menus déroulants'!$C$3:$C$6
Name CFO: 'Menus déroulants'!$B$3:$B$8
Name Cogénération_gaz_et_biogaz: 'Menus déroulants'!$D$11:$D$12
Name Conduite_de_ponts_roulant_tournant: 'Menus déroulants'!$E$11
Name Contrôle_accès: 'Menus déroulants'!$C$13
Name Détection_gaz: 'Menus déroulants'!$C$14:$C$15
Name Essais_réglementaires: 'Menus déroulants'!$E$12
Name Extension_modification_installation: 'Menus déroulants'!$A$11:$A$12
Name Extincteurs: 'Menus déroulants'!$F$12:$F$13
Name Groupe_électrogène_fuel: 'Menus déroulants'!$D$13:$D$15
Name Maintenance_pont_roulant: 'Menus déroulants'!$E$13
Name Maintenance_préventive_et_curative_jusqu_au_niveau_V: 'Menus déroulants'!$D$16:$D$17
Name Maintien_en_Conditions_Opérationnelles: 'Menus déroulants'!$D$18:$D$19
Name Mise_en_conformité: 'Menus déroulants'!$A$13:$A$14
Name Modernisation_automatisme_de_contrôle_et_commande: 'Menus déroulants'!$D$20:$D$21
Name MOYENS_LEVAGE: 'Menus déroulants'!$E$3:$E$6
Name MOYENS_SECOURS: 'Menus déroulants'!$F$3:$F$5
Name NOM: Tableau1[NOM]
Name Onduleurs: 'Menus déroulants'!$B$14
Name Paratonnerre_Parafoudre: 'Menus déroulants'!$B$11:$B$12
Name Photovoltaïque: 'Menus déroulants'!$B$15
Name Poste_HTA_Distribution_BT: 'Menus déroulants'!$B$16:$B$20
Name Retrofit_installation: 'Menus déroulants'!$E$14
Name Révision_majeure_moteur_et_alternateur_toutes_marques: 'Menus déroulants'!$D$22:$D$23
Name RIA: 'Menus déroulants'!$F$14
Name SPECIFICITE: Tableau1[SPECIFICITE]
Name SSI: 'Menus déroulants'!$A$3:$A$5
Name Télésurveillance: 'Menus déroulants'!$D$24:$D$25
Name Thermographie: 'Menus déroulants'!$B$21
Name Vérifications_réglementaires: 'Menus déroulants'!$A$15:$A$16
Name Vidéosurveillance: 'Menus déroulants'!$C$16

Sheet ANNUAIRE EXPERTS
A1: ANNUAIRE EXPERTS MAINTENANCE
A3: Sélection | D3: Résultat
A4: METIER | B4: SPECIFICITE | C4: AGENCE FAUCHE | D4: MARQUE | E4: NOM | F4: PRENOM | G4: EMAIL | H4: NUMERO
A5: SSI | B5: Extension_modification_installation | C5: MMT | D5: =IFERROR(IF(INDEX(Base!C:C,MATCH('ANNUAIRE EXPERTS'!E5,Base!E:E,0),0)=0,"",INDEX(Base!C:C,MATCH('ANNUAIRE EXPERTS'!E5,Base!E:E,0),0)),"") | E5: {=IF(ROW(Z1)>SUM((SPECIFICITE=$B$5)*(Agence=$C$5)),"",INDEX(NOM,SMALL(IF((SPECIFICITE=$B$5)*(Agence=$C$5),ROW(NOM)-1),ROW(Z1))))} -> DARNAUD | F5: =IFERROR(VLOOKUP($E5,Base!$E:$H,2,0),"") -> Joel | G5: =IFERROR(VLOOKUP($E5,Base!$E:$H,3,0),"") -> jdarnaud@fauche.com | H5: =IFERROR(VLOOKUP($E5,Base!$E:$H,4,0),"") -> 06 75 89 24 98
D6: =IFERROR(IF(INDEX(Base!C:C,MATCH('ANNUAIRE EXPERTS'!E6,Base!E:E,0),0)=0,"",INDEX(Base!C:C,MATCH('ANNUAIRE EXPERTS'!E6,Base!E:E,0),0)),"") -> DEF | E6: {=IF(ROW(Z2)>SUM((SPECIFICITE=$B$5)*(Agence=$C$5)),"",INDEX(NOM,SMALL(IF((SPECIFICITE=$B$5)*(Agence=$C$5),ROW(NOM)-1),ROW(Z2))))} -> BOYER | F6: =IFERROR(VLOOKUP($E6,Base!$E:$H,2,0),"") -> Jonathan | G6: =IFERROR(VLOOKUP($E6,Base!$E:$H,3,0),"") -> jboyer@fauche.com | H6: =IFERROR(VLOOKUP($E6,Base!$E:$H,4,0),"") -> 611917527
D7: =IFERROR(IF(INDEX(Base!C:C,MATCH('ANNUAIRE EXPERTS'!E7,Base!E:E,0),0)=0,"",INDEX(Base!C:C,MATCH('ANNUAIRE EXPERTS'!E7,Base!E:E,0),0)),"") -> SIEMENS | E7: {=IF(ROW(Z3)>SUM((SPECIFICITE=$B$5)*(Agence=$C$5)),"",INDEX(NOM,SMALL(IF((SPECIFICITE=$B$5)*(Agence=$C$5),ROW(NOM)-1),ROW(Z3))))} -> DE LIMA | F7: =IFERROR(VLOOKUP($E7,Base!$E:$H,2,0),"") -> Marco | G7: =IFERROR(VLOOKUP($E7,Base!$E:$H,3,0),"") -> mdelima@fauche.com | H7: =IFERROR(VLOOKUP($E7,Base!$E:$H,4,0),"") -> 609823441
D8: =IFERROR(IF(INDEX(Base!C:C,MATCH('ANNUAIRE EXPERTS'!E8,Base!E:E,0),0)=0,"",INDEX(Base!C:C,MATCH('ANNUAIRE EXPERTS'!E8,Base!E:E,0),0)),"") -> ESSER | E8: {=IF(ROW(Z4)>SUM((SPECIFICITE=$B$5)*(Agence=$C$5)),"",INDEX(NOM,SMALL(IF((SPECIFICITE=$B$5)*(Agence=$C$5),ROW(NOM)-1),ROW(Z4))))} -> BECAIS | F8: =IFERROR(VLOOKUP($E8,Base!$E:$H,2,0),"") -> Nicolas | G8: =IFERROR(VLOOKUP($E8,Base!$E:$H,3,0),"") -> nbecais@fauche.com | H8: =IFERROR(VLOOKUP($E8,Base!$E:$H,4,0),"") -> 622626039
A9: Fonctionnement: | D9: =IFERROR(IF(INDEX(Base!C:C,MATCH('ANNUAIRE EXPERTS'!E9,Base!E:E,0),0)=0,"",INDEX(Base!C:C,MATCH('ANNUAIRE EXPERTS'!E9,Base!E:E,0),0)),"") -> CHUBB | E9: {=IF(ROW(Z5)>SUM((SPECIFICITE=$B$5)*(Agence=$C$5)),"",INDEX(NOM,SMALL(IF((SPECIFICITE=$B$5)*(Agence=$C$5),ROW(NOM)-1),ROW(Z5))))} -> PERRUSSEL | F9: =IFERROR(VLOOKUP($E9,Base!$E:$H,2,0),"") -> Geoffrey | G9: =IFERROR(VLOOKUP($E9,Base!$E:$H,3,0),"") -> gperrussel@fauche.com | H9: =IFERROR(VLOOKUP($E9,Base!$E:$H,4,0),"") -> 602069653
A10: Choisir le METIER via le premier menu déroulant
A11: Choisir la SPECIFICITE via le deuxième menu déroulant
A12: Choisir l'AGENCE FAUCHE via le quatrième menu déroulant
A15: A droite apparaissent les EXPERTS possibles en fonction des critères sélectionnés.

Sheet Base
A1: METIER | B1: SPECIFICITE | C1: MARQUE MATERIEL | D1: AGENCE | E1: NOM | F1: PRENOM | G1: EMAIL | H1: TELEPHONE
A2: CENTRALE_ENERGIE | B2: Cogénération_gaz_et_biogaz | D2: Fauché Energie
A3: CENTRALE_ENERGIE | B3: Groupe_électrogène_fuel | D3: Fauché Energie | E3: QUEYREL | F3: Thierry | G3: tqueyrel@fauche.com | H3: 683821584
A4: CENTRALE_ENERGIE | B4: Groupe_électrogène_fuel | C4: SDMO | D4: MMT | E4: LEVEQUE | F4: Richard | G4: rleveque@fauche.com | H4: 676430071
A5: CENTRALE_ENERGIE | B5: Groupe_électrogène_fuel | C5: SDMO | D5: Centre Est Lyon | E5: GUIVIER | F5: Julien | G5: jguivier@fauche.com | H5: 603532796
A6: CENTRALE_ENERGIE | B6: Groupe_électrogène_fuel | C6: CUMMINS | D6: Centre Est Lyon | E6: BONY | F6: Eric | G6: ebony@fauche.com | H6: 614187194
A7: CENTRALE_ENERGIE | B7: Maintenance_préventive_et_curative_jusqu_au_niveau_V | D7: Fauché Energie
A8: CENTRALE_ENERGIE | B8: Maintien_en_Conditions_Opérationnelles | D8: Fauché Energie
A9: CENTRALE_ENERGIE | B9: Modernisation_automatisme_de_contrôle_et_commande | D9: Fauché Energie
A10: CENTRALE_ENERGIE | B10: Révision_majeure_moteur_et_alternateur_toutes_marques | D10: Fauché Energie
A11: CENTRALE_ENERGIE | B11: Télésurveillance | D11: Fauché Energie | E11: CABOY | F11: Stéphane | G11: scaboy@fauche.com | H11: 556768585
A12: CENTRALE_ENERGIE | B12: Cogénération_gaz_et_biogaz | D12: Maintenance Aquitaine
A13: CENTRALE_ENERGIE | B13: Groupe_électrogène_fuel | D13: Maintenance Aquitaine
A14: CENTRALE_ENERGIE | B14: Maintenance_préventive_et_curative_jusqu_au_niveau_V | D14: Maintenance Aquitaine
A15: CENTRALE_ENERGIE | B15: Maintien_en_Conditions_Opérationnelles | D15: Maintenance Aquitaine
A16: CENTRALE_ENERGIE | B16: Modernisation_automatisme_de_contrôle_et_commande | D16: Maintenance Aquitaine
A17: CENTRALE_ENERGIE | B17: Révision_majeure_moteur_et_alternateur_toutes_marques | D17: Maintenance Aquitaine
A18: CENTRALE_ENERGIE | B18: Télésurveillance | D18: Maintenance Aquitaine
A19: CFA | B19: Alarme_intrusion | D19: Maintenance Aquitaine
A20: CFA | B20: Contrôle_accès | D20: Maintenance Aquitaine
A21: CFA | B21: Détection_gaz | D21: Maintenance Aquitaine
A22: CFA | B22: Alarme_intrusion | D22: MMT | E22: GAUGIRAND | F22: Benoit | G22: bgaugirand@fauche.com | H22: 06 79 38 81 20
A23: CFA | B23: Détection_gaz | D23: MMT
A24: CFA | B24: Vidéosurveillance | D24: MMT | E24: GAUGIRAND | F24: Benoit | G24: bgaugirand@fauche.com | H24: 06 79 38 81 20
A25: CFO | B25: Poste_HTA_Distribution_BT | D25: AGV | E25: GARES | F25: Florian | G25: fgares@fauche.com | H25: 608779855
A26: CFO | B26: Poste_HTA_Distribution_BT | D26: AGV | E26: JOSCERAN | F26: Cédric | G26: cjosceran@fauche.com | H26: 672321930
A27: CFO | B27: Poste_HTA_Distribution_BT | D27: AGV | E27: VIALA | F27: Patrice | G27: pviala@fauche.com | H27: 680961151
A28: CFO | B28: Poste_HTA_Distribution_BT | D28: Fauché Tarbes
A29: CFO | B29: Paratonnerre_Parafoudre | D29: JPF Industries
A30: CFO | B30: Photovoltaïque | D30: JPF Industries
A31: CFO | B31: Poste_HTA_Distribution_BT | D31: JPF Industries
A32: CFO | B32: Batterie_de_condensateurs | D32: Maintenance Aquitaine
A33: CFO | B33: Onduleur | D33: Maintenance Aquitaine
A34: CFO | B34: Poste_HTA_Distribution_BT | D34: Maintenance Aquitaine
A35: CFO | B35: Thermographie | D35: Maintenance Aquitaine
A36: CFO | B36: Paratonnerre_Parafoudre | D36: MMT | E36: CAPDEVILLE | F36: Johan | G36: jcapdeville@fauche.com | H36: 06 26 18 21 41
A37: CFO | B37: Poste_HTA_Distribution_BT | D37: MMT
A38: MOYENS_LEVAGE | B38: Conduite_de_ponts_roulant_tournant | D38: Valence d'Agen | E38: LASJUNIES | F38: Michel | G38: mlasjunies@fauche.com | H38: 622783134
A39: MOYENS_LEVAGE | B39: Essais_réglementaires | D39: Valence d'Agen | E39: LASJUNIES | F39: Michel | G39: mlasjunies@fauche.com | H39: 622783134
A40: MOYENS_LEVAGE | B40: Maintenance_pont_roulant | D40: Valence d'Agen | E40: LASJUNIES | F40: Michel | G40: mlasjunies@fauche.com | H40: 622783134
A41: MOYENS_LEVAGE | B41: Retrofit_d'installation | D41: Valence d'Agen | E41: LASJUNIES | F41: Michel | G41: mlasjunies@fauche.com | H41: 622783134
A42: MOYENS_SECOURS | B42: Extincteurs | D42: JPF Industries
A43: MOYENS_SECOURS | B43: BAES | D43: MMT | E43: MELET | F43: Cyril | G43: cmelet@fauche.com | H43: 635173260
A44: MOYENS_SECOURS | B44: Extincteurs | D44: MMT | E44: MELET | F44: Cyril | G44: cmelet@fauche.com | H44: 635173260
A45: MOYENS_SECOURS | B45: RIA | D45: MMT | E45: MELET | F45: Cyril | G45: cmelet@fauche.com | H45: 635173260
A46: MOYENS_SECOURS | B46: Extincteurs | D46: MMT | E46: EVRARD | F46: Manuel | G46: mevradr@fauche.com | H46: 603854745
A47: MOYENS_SECOURS | B47: RIA | D47: MMT | E47: EVRARD | F47: Manuel | G47: mevradr@fauche.com | H47: 603854745
A48: SSI | B48: Extension_modification_installation | D48: Maintenance Aquitaine
A49: SSI | B49: Mise_en_conformité | D49: Maintenance Aquitaine
A50: SSI | B50: Vérifications_réglementaires | D50: Maintenance Aquitaine
A51: SSI | B51: Extension_modification_installation | D51: MMT | E51: DARNAUD | F51: Joel | G51: jdarnaud@fauche.com | H51: 06 75 89 24 98
A52: SSI | B52: Extension_modification_installation | C52: DEF | D52: MMT | E52: BOYER | F52: Jonathan | G52: jboyer@fauche.com | H52: 611917527
A53: SSI | B53: Extension_modification_installation | C53: SIEMENS | D53: MMT | E53: DE LIMA | F53: Marco | G53: mdelima@fauche.com | H53: 609823441
A54: SSI | B54: Extension_modification_installation | C54: ESSER | D54: MMT | E54: BECAIS | F54: Nicolas | G54: nbecais@fauche.com | H54: 622626039
A55: SSI | B55: Extension_modification_installation | C55: CHUBB | D55: MMT | E55: PERRUSSEL | F55: Geoffrey | G55: gperrussel@fauche.com | H55: 602069653
A56: SSI | B56: Mise_en_conformité | D56: MMT | E56: FAVOTTO | F56: Guy | G56: Gfavotto@fauche.com | H56: 06 25 18 06 97
A57: SSI | B57: Mise_en_conformité | D57: MMT | E57: DARNAUD | F57: Joel | G57: jdarnaud@fauche.com | H57: 06 75 89 24 98
A58: SSI | B58: Vérifications_réglementaires | D58: MMT | E58: DARNAUD | F58: Joel | G58: jdarnaud@fauche.com | H58: 06 75 89 24 98

Sheet Menus déroulants
A1: SSI | B1: CFO | C1: CFA | D1: CENTRALE_ENERGIE | E1: MOYENS_LEVAGE | F1: MOYENS_SECOURS
A3: Extension_modification_installation | B3: Paratonnerre_Parafoudre | C3: Alarme_intrusion | D3: Cogénération_gaz_et_biogaz | E3: Conduite_de_ponts_roulant_tournant | F3: BAES
A4: Mise_en_conformité | B4: Batterie_de_condensateurs | C4: Contrôle_accès | D4: Groupe_électrogène_fuel | E4: Essais_réglementaires | F4: Extincteurs
A5: Vérifications_réglementaires | B5: Onduleurs | C5: Détection_gaz | D5: Maintenance_préventive_et_curative_jusqu_au_niveau_V | E5: Maintenance_pont_roulant | F5: RIA
B6: Photovoltaïque | C6: Vidéosurveillance | D6: Maintien_en_Conditions_Opérationnelles | E6: Retrofit_installation
B7: Poste_HTA_Distribution_BT | D7: Modernisation_automatisme_de_contrôle_et_commande
B8: Thermographie | D8: Révision_majeure_moteur_et_alternateur_toutes_marques
D9: Télésurveillance
A11: MMT | B11: MMT | C11: MMT | D11: Fauché Energie | E11: Valence d'Agen | F11: MMT
A12: Maintenance Aquitaine | B12: JPF Industries | C12: Maintenance Aquitaine | D12: Maintenance Aquitaine | E12: Valence d'Agen | F12: JPF Industries
A13: MMT | B13: Maintenance Aquitaine | C13: Maintenance Aquitaine | D13: Fauché Energie | E13: Valence d'Agen | F13: MMT
A14: Maintenance Aquitaine | B14: Maintenance Aquitaine | C14: MMT | D14: Centre Est Lyon | E14: Valence d'Agen | F14: MMT
A15: MMT | B15: JPF Industries | C15: Maintenance Aquitaine | D15: Maintenance Aquitaine
A16: Maintenance Aquitaine | B16: AGV | C16: MMT | D16: Fauché Energie
B17: MMT | D17: Maintenance Aquitaine
B18: Maintenance Aquitaine | D18: Fauché Energie
B19: Fauché Tarbes | D19: Maintenance Aquitaine
B20: JPF Industries | D20: Fauché Energie
B21: Maintenance Aquitaine | D21: Maintenance Aquitaine
D22: Fauché Energie
D23: Maintenance Aquitaine
D24: Fauché Energie
D25: Maintenance Aquitaine
