Workbook

Sheet Feuil1
A1: ID
A2: aa12345
A3: 3456
A4: 123-abc
A5: abc123
A6: abs-987
A7: 987abs
A8: aui-2345
A9: oui-7890
B12: Liste des Ids qui se trouve sous Feuil1 et non pas feuil2 | C12: Liste des Ids qui se trouve sous Feuil2 et non pas feuil1
B14: {=IFERROR(INDEX($A$2:$A$9,SMALL(IF(COUNTIF(Feuil2!$A$1:$A$9,$A$2:$A$9)=0,MATCH(ROW($A$2:$A$9),ROW($A$2:$A$9)), ""),ROWS($A$1:A1))),"")} -> 3456 | C14: {=IFERROR(INDEX(Feuil2!$A$2:$A$10,SMALL(IF(COUNTIF($A$2:$A$9,Feuil2!$A$2:$A$10)=0,MATCH(ROW(Feuil2!$A$2:$A$10),ROW(Feuil2!$A$2:$A$10)), ""),ROWS($A$1:A1))),"")} -> ab3456
B15: {=IFERROR(INDEX($A$2:$A$9,SMALL(IF(COUNTIF(Feuil2!$A$1:$A$9,$A$2:$A$9)=0,MATCH(ROW($A$2:$A$9),ROW($A$2:$A$9)), ""),ROWS($A$1:A2))),"")} -> 123-abc | C15: {=IFERROR(INDEX(Feuil2!$A$2:$A$10,SMALL(IF(COUNTIF($A$2:$A$9,Feuil2!$A$2:$A$10)=0,MATCH(ROW(Feuil2!$A$2:$A$10),ROW(Feuil2!$A$2:$A$10)), ""),ROWS($A$1:A2))),"")} -> 12-abc
B16: {=IFERROR(INDEX($A$2:$A$9,SMALL(IF(COUNTIF(Feuil2!$A$1:$A$9,$A$2:$A$9)=0,MATCH(ROW($A$2:$A$9),ROW($A$2:$A$9)), ""),ROWS($A$1:A3))),"")} | C16: {=IFERROR(INDEX(Feuil2!$A$2:$A$10,SMALL(IF(COUNTIF($A$2:$A$9,Feuil2!$A$2:$A$10)=0,MATCH(ROW(Feuil2!$A$2:$A$10),ROW(Feuil2!$A$2:$A$10)), ""),ROWS($A$1:A3))),"")} -> 1234567
A17: {=IF(SUM(IF(COUNTIF($A$2:$A$9,Feuil2!$A$10:$A$10)=0,1))<ROW(A2),"",SMALL(IF(COUNTIF($A$2:$A$9,Feuil2!$A$10:$A$10)=0,Feuil2!$A$10:$A$10),ROW(A2)))} | B17: {=IFERROR(INDEX($A$2:$A$9,SMALL(IF(COUNTIF(Feuil2!$A$1:$A$9,$A$2:$A$9)=0,MATCH(ROW($A$2:$A$9),ROW($A$2:$A$9)), ""),ROWS($A$1:A4))),"")} | C17: {=IFERROR(INDEX(Feuil2!$A$2:$A$10,SMALL(IF(COUNTIF($A$2:$A$9,Feuil2!$A$2:$A$10)=0,MATCH(ROW(Feuil2!$A$2:$A$10),ROW(Feuil2!$A$2:$A$10)), ""),ROWS($A$1:A4))),"")}
A18: {=IF(SUM(IF(COUNTIF($A$2:$A$9,Feuil2!$A$10:$A$10)=0,1))<ROW(A3),"",SMALL(IF(COUNTIF($A$2:$A$9,Feuil2!$A$10:$A$10)=0,Feuil2!$A$10:$A$10),ROW(A3)))} | B18: {=IFERROR(INDEX($A$2:$A$9,SMALL(IF(COUNTIF(Feuil2!$A$1:$A$9,$A$2:$A$9)=0,MATCH(ROW($A$2:$A$9),ROW($A$2:$A$9)), ""),ROWS($A$1:A5))),"")} | C18: {=IFERROR(INDEX(Feuil2!$A$2:$A$10,SMALL(IF(COUNTIF($A$2:$A$9,Feuil2!$A$2:$A$10)=0,MATCH(ROW(Feuil2!$A$2:$A$10),ROW(Feuil2!$A$2:$A$10)), ""),ROWS($A$1:A5))),"")}
A19: {=IF(SUM(IF(COUNTIF($A$2:$A$9,Feuil2!$A$10:$A$10)=0,1))<ROW(A4),"",SMALL(IF(COUNTIF($A$2:$A$9,Feuil2!$A$10:$A$10)=0,Feuil2!$A$10:$A$10),ROW(A4)))} | B19: {=IFERROR(INDEX($A$2:$A$9,SMALL(IF(COUNTIF(Feuil2!$A$1:$A$9,$A$2:$A$9)=0,MATCH(ROW($A$2:$A$9),ROW($A$2:$A$9)), ""),ROWS($A$1:A6))),"")} | C19: {=IFERROR(INDEX(Feuil2!$A$2:$A$10,SMALL(IF(COUNTIF($A$2:$A$9,Feuil2!$A$2:$A$10)=0,MATCH(ROW(Feuil2!$A$2:$A$10),ROW(Feuil2!$A$2:$A$10)), ""),ROWS($A$1:A6))),"")}
A20: {=IF(SUM(IF(COUNTIF($A$2:$A$9,Feuil2!$A$10:$A$10)=0,1))<ROW(A5),"",SMALL(IF(COUNTIF($A$2:$A$9,Feuil2!$A$10:$A$10)=0,Feuil2!$A$10:$A$10),ROW(A5)))} | B20: {=IFERROR(INDEX($A$2:$A$9,SMALL(IF(COUNTIF(Feuil2!$A$1:$A$9,$A$2:$A$9)=0,MATCH(ROW($A$2:$A$9),ROW($A$2:$A$9)), ""),ROWS($A$1:A7))),"")} | C20: {=IFERROR(INDEX(Feuil2!$A$2:$A$10,SMALL(IF(COUNTIF($A$2:$A$9,Feuil2!$A$2:$A$10)=0,MATCH(ROW(Feuil2!$A$2:$A$10),ROW(Feuil2!$A$2:$A$10)), ""),ROWS($A$1:A7))),"")}
A21: {=IF(SUM(IF(COUNTIF($A$2:$A$9,Feuil2!$A$10:$A$10)=0,1))<ROW(A6),"",SMALL(IF(COUNTIF($A$2:$A$9,Feuil2!$A$10:$A$10)=0,Feuil2!$A$10:$A$10),ROW(A6)))} | B21: {=IFERROR(INDEX($A$2:$A$9,SMALL(IF(COUNTIF(Feuil2!$A$1:$A$9,$A$2:$A$9)=0,MATCH(ROW($A$2:$A$9),ROW($A$2:$A$9)), ""),ROWS($A$1:A8))),"")} | C21: {=IFERROR(INDEX(Feuil2!$A$2:$A$10,SMALL(IF(COUNTIF($A$2:$A$9,Feuil2!$A$2:$A$10)=0,MATCH(ROW(Feuil2!$A$2:$A$10),ROW(Feuil2!$A$2:$A$10)), ""),ROWS($A$1:A8))),"")}
A22: {=IF(SUM(IF(COUNTIF($A$2:$A$9,Feuil2!$A$10:$A$10)=0,1))<ROW(A7),"",SMALL(IF(COUNTIF($A$2:$A$9,Feuil2!$A$10:$A$10)=0,Feuil2!$A$10:$A$10),ROW(A7)))} | B22: {=IFERROR(INDEX($A$2:$A$9,SMALL(IF(COUNTIF(Feuil2!$A$1:$A$9,$A$2:$A$9)=0,MATCH(ROW($A$2:$A$9),ROW($A$2:$A$9)), ""),ROWS($A$1:A9))),"")} | C22: {=IFERROR(INDEX(Feuil2!$A$2:$A$10,SMALL(IF(COUNTIF($A$2:$A$9,Feuil2!$A$2:$A$10)=0,MATCH(ROW(Feuil2!$A$2:$A$10),ROW(Feuil2!$A$2:$A$10)), ""),ROWS($A$1:A9))),"")}
A23: {=IF(SUM(IF(COUNTIF($A$2:$A$9,Feuil2!$A$10:$A$10)=0,1))<ROW(A8),"",SMALL(IF(COUNTIF($A$2:$A$9,Feuil2!$A$10:$A$10)=0,Feuil2!$A$10:$A$10),ROW(A8)))} | B23: {=IFERROR(INDEX($A$2:$A$9,SMALL(IF(COUNTIF(Feuil2!$A$1:$A$9,$A$2:$A$9)=0,MATCH(ROW($A$2:$A$9),ROW($A$2:$A$9)), ""),ROWS($A$1:A10))),"")} | C23: {=IFERROR(INDEX(Feuil2!$A$2:$A$10,SMALL(IF(COUNTIF($A$2:$A$9,Feuil2!$A$2:$A$10)=0,MATCH(ROW(Feuil2!$A$2:$A$10),ROW(Feuil2!$A$2:$A$10)), ""),ROWS($A$1:A10))),"")}
A24: {=IF(SUM(IF(COUNTIF($A$2:$A$9,Feuil2!$A$10:$A$10)=0,1))<ROW(A9),"",SMALL(IF(COUNTIF($A$2:$A$9,Feuil2!$A$10:$A$10)=0,Feuil2!$A$10:$A$10),ROW(A9)))} | B24: {=IFERROR(INDEX($A$2:$A$9,SMALL(IF(COUNTIF(Feuil2!$A$1:$A$9,$A$2:$A$9)=0,MATCH(ROW($A$2:$A$9),ROW($A$2:$A$9)), ""),ROWS($A$1:A11))),"")} | C24: {=IFERROR(INDEX(Feuil2!$A$2:$A$10,SMALL(IF(COUNTIF($A$2:$A$9,Feuil2!$A$2:$A$10)=0,MATCH(ROW(Feuil2!$A$2:$A$10),ROW(Feuil2!$A$2:$A$10)), ""),ROWS($A$1:A11))),"")}
A25: {=IF(SUM(IF(COUNTIF($A$2:$A$9,Feuil2!$A$10:$A$10)=0,1))<ROW(A10),"",SMALL(IF(COUNTIF($A$2:$A$9,Feuil2!$A$10:$A$10)=0,Feuil2!$A$10:$A$10),ROW(A10)))} | B25: {=IFERROR(INDEX($A$2:$A$9,SMALL(IF(COUNTIF(Feuil2!$A$1:$A$9,$A$2:$A$9)=0,MATCH(ROW($A$2:$A$9),ROW($A$2:$A$9)), ""),ROWS($A$1:A12))),"")} | C25: {=IFERROR(INDEX(Feuil2!$A$2:$A$10,SMALL(IF(COUNTIF($A$2:$A$9,Feuil2!$A$2:$A$10)=0,MATCH(ROW(Feuil2!$A$2:$A$10),ROW(Feuil2!$A$2:$A$10)), ""),ROWS($A$1:A12))),"")}

Sheet Feuil2
A1: ID
A2: aa12345
A3: ab3456
A4: 12-abc
A5: abc123
A6: abs-987
A7: 987abs
A8: aui-2345
A9: oui-7890
A10: 1234567
