Workbook

Sheet Feuil1
A1: Feuil 1 | B1: Feuil 2 | C1: Feuil 3
A2: Nombre de départ | B2: Nombre de cellule à remplir | C2: Exemple
A4: 512 | B4: 3 | C4: 512
C5: 513
C6: 514
C7: 515
C8: 516
C9: 517
A12: Réussi à faire la formule de la feuille 1 vers la 3 | C12: =A4 -> 512
A13: Réussi à faire la formule de comptage en feuille 3 | C13: =IF(COUNTA($C$12:C12)<$B$4,C12+1,"") -> 513
A14: Mais je ne trouve pas la formule pour qu'elle | C14: =IF(ROWS(A$12:A14)<=$B$4,$A$4+ROWS(A$12:A14)-1,"") -> 514
A15: ne complète que 6 cellules | C15: =IF(ROWS(A$12:A15)<=$B$4,$A$4+ROWS(A$12:A15)-1,"")
A16: tout en sachant que le nombre de la feuille 2 varie donc | C16: =IF(ROWS(A$12:A16)<=$B$4,$A$4+ROWS(A$12:A16)-1,"")
A17: le nombre de cellule à remplir en feuille 3 varie aussi | C17: =IF(ROWS(A$12:A17)<=$B$4,$A$4+ROWS(A$12:A17)-1,"")
C18: =IF(ROWS(A$12:A18)<=$B$4,$A$4+ROWS(A$12:A18)-1,"")
C19: =IF(ROWS(A$12:A19)<=$B$4,$A$4+ROWS(A$12:A19)-1,"")
C20: =IF(ROWS(A$12:A20)<=$B$4,$A$4+ROWS(A$12:A20)-1,"")
C21: =IF(ROWS(A$12:A21)<=$B$4,$A$4+ROWS(A$12:A21)-1,"")
C22: =IF(ROWS(A$12:A22)<=$B$4,$A$4+ROWS(A$12:A22)-1,"")
C23: =IF(ROWS(A$12:A23)<=$B$4,$A$4+ROWS(A$12:A23)-1,"")
C24: =IF(ROWS(A$12:A24)<=$B$4,$A$4+ROWS(A$12:A24)-1,"")
C25: =IF(ROWS(A$12:A25)<=$B$4,$A$4+ROWS(A$12:A25)-1,"")
C26: =IF(ROWS(A$12:A26)<=$B$4,$A$4+ROWS(A$12:A26)-1,"")

Sheet format
B3: 100

Sheet Feuil3
B3: 512
B4: 513
B5: 514

Sheet Feuil4
B18: N° Étiquette Réflex | C18: N° de la Brique | D18: Heure prod. de la Brique | E18: Contrôle Visuel Banderolage C / NC | F18: Prépa N° | G18: Palette INCOMPLÈTE | H18: Palette mise au Tri | K18: N° Étiquette Réflex | L18: N° de la Brique | M18: Heure prod. de la Brique | N18: Contrôle Visuel Banderolage C / NC | O18: Prépa N° | P18: Palette INCOMPLÈTE | Q18: Palette mise au Tri
A20: *1 | B20: =Feuil1!A4 -> 512 | F20: =[1]Saisies!E6 -> 4-2D | J20: 51 | K20: =IF(COUNTA($B$20:B69)<format!$B$3,B69+1,"") -> 562
A21: 2 | B21: =IF(COUNTA($B$20:B20)<format!$B$3/2,B20+1,"") -> 513 | J21: 52 | K21: =IF(COUNTA($K$20:K20)<format!$B$3/2,K20+1,"") -> 563
A22: 3 | B22: =IF(COUNTA($B$20:B21)<format!$B$3,B21+1,"") -> 514 | J22: * 53 | K22: =IF(COUNTA($K$20:K21)<format!$B$3/2,K21+1,"") -> 564
A23: 4 | B23: =IF(COUNTA($B$20:B22)<format!$B$3,B22+1,"") -> 515 | J23: 54 | K23: =IF(COUNTA($K$20:K22)<format!$B$3/2,K22+1,"") -> 565
A24: * 5 | B24: =IF(COUNTA($B$20:B23)<format!$B$3,B23+1,"") -> 516 | J24: 55 | K24: =IF(COUNTA($K$20:K23)<format!$B$3/2,K23+1,"") -> 566
A25: 6 | B25: =IF(COUNTA($B$20:B24)<format!$B$3,B24+1,"") -> 517 | J25: 56 | K25: =IF(COUNTA($K$20:K24)<format!$B$3/2,K24+1,"") -> 567
A26: 7 | B26: =IF(COUNTA($B$20:B25)<format!$B$3,B25+1,"") -> 518 | J26: * 57 | K26: =IF(COUNTA($K$20:K25)<format!$B$3/2,K25+1,"") -> 568
A27: 8 | B27: =IF(COUNTA($B$20:B26)<format!$B$3,B26+1,"") -> 519 | J27: 58 | K27: =IF(COUNTA($K$20:K26)<format!$B$3/2,K26+1,"") -> 569
A28: * 9 | B28: =IF(COUNTA($B$20:B27)<format!$B$3,B27+1,"") -> 520 | J28: 59 | K28: =IF(COUNTA($K$20:K27)<format!$B$3/2,K27+1,"") -> 570
A29: 10 | B29: =IF(COUNTA($B$20:B28)<format!$B$3,B28+1,"") -> 521 | J29: 60 | K29: =IF(COUNTA($K$20:K28)<format!$B$3/2,K28+1,"") -> 571
A30: 11 | B30: =IF(COUNTA($B$20:B29)<format!$B$3,B29+1,"") -> 522 | J30: * 61 | K30: =IF(COUNTA($K$20:K29)<format!$B$3/2,K29+1,"") -> 572
A31: 12 | B31: =IF(COUNTA($B$20:B30)<format!$B$3,B30+1,"") -> 523 | J31: 62 | K31: =IF(COUNTA($K$20:K30)<format!$B$3/2,K30+1,"") -> 573
A32: * 13 | B32: =IF(COUNTA($B$20:B31)<format!$B$3,B31+1,"") -> 524 | J32: 63 | K32: =IF(COUNTA($K$20:K31)<format!$B$3/2,K31+1,"") -> 574
A33: 14 | B33: =IF(COUNTA($B$20:B32)<format!$B$3,B32+1,"") -> 525 | J33: 64 | K33: =IF(COUNTA($K$20:K32)<format!$B$3/2,K32+1,"") -> 575
A34: 15 | B34: =IF(COUNTA($B$20:B33)<format!$B$3,B33+1,"") -> 526 | J34: * 65 | K34: =IF(COUNTA($K$20:K33)<format!$B$3/2,K33+1,"") -> 576
A35: 16 | B35: =IF(COUNTA($B$20:B34)<format!$B$3,B34+1,"") -> 527 | J35: 66 | K35: =IF(COUNTA($K$20:K34)<format!$B$3/2,K34+1,"") -> 577
A36: * 17 | B36: =IF(COUNTA($B$20:B35)<format!$B$3,B35+1,"") -> 528 | J36: 67 | K36: =IF(COUNTA($K$20:K35)<format!$B$3/2,K35+1,"") -> 578
A37: 18 | B37: =IF(COUNTA($B$20:B36)<format!$B$3,B36+1,"") -> 529 | J37: 68 | K37: =IF(COUNTA($K$20:K36)<format!$B$3/2,K36+1,"") -> 579
A38: 19 | B38: =IF(COUNTA($B$20:B37)<format!$B$3,B37+1,"") -> 530 | J38: * 69 | K38: =IF(COUNTA($K$20:K37)<format!$B$3/2,K37+1,"") -> 580
A39: 20 | B39: =IF(COUNTA($B$20:B38)<format!$B$3,B38+1,"") -> 531 | J39: 70 | K39: =IF(COUNTA($K$20:K38)<format!$B$3/2,K38+1,"") -> 581
A40: * 21 | B40: =IF(COUNTA($B$20:B39)<format!$B$3,B39+1,"") -> 532 | J40: 71 | K40: =IF(COUNTA($K$20:K39)<format!$B$3/2,K39+1,"") -> 582
A41: 22 | B41: =IF(COUNTA($B$20:B40)<format!$B$3,B40+1,"") -> 533 | J41: 72 | K41: =IF(COUNTA($K$20:K40)<format!$B$3/2,K40+1,"") -> 583
A42: 23 | B42: =IF(COUNTA($B$20:B41)<format!$B$3,B41+1,"") -> 534 | J42: * 73 | K42: =IF(COUNTA($K$20:K41)<format!$B$3/2,K41+1,"") -> 584
A43: 24 | B43: =IF(COUNTA($B$20:B42)<format!$B$3,B42+1,"") -> 535 | J43: 74 | K43: =IF(COUNTA($K$20:K42)<format!$B$3/2,K42+1,"") -> 585
A44: * 25 | B44: =IF(COUNTA($B$20:B43)<format!$B$3,B43+1,"") -> 536 | J44: 75 | K44: =IF(COUNTA($K$20:K43)<format!$B$3/2,K43+1,"") -> 586
A45: 26 | B45: =IF(COUNTA($B$20:B44)<format!$B$3,B44+1,"") -> 537 | J45: 76 | K45: =IF(COUNTA($K$20:K44)<format!$B$3/2,K44+1,"") -> 587
A46: 27 | B46: =IF(COUNTA($B$20:B45)<format!$B$3,B45+1,"") -> 538 | J46: * 77 | K46: =IF(COUNTA($K$20:K45)<format!$B$3/2,K45+1,"") -> 588
A47: 28 | B47: =IF(COUNTA($B$20:B46)<format!$B$3,B46+1,"") -> 539 | J47: 78 | K47: =IF(COUNTA($K$20:K46)<format!$B$3/2,K46+1,"") -> 589
A48: * 29 | B48: =IF(COUNTA($B$20:B47)<format!$B$3,B47+1,"") -> 540 | J48: 79 | K48: =IF(COUNTA($K$20:K47)<format!$B$3/2,K47+1,"") -> 590
A49: 30 | B49: =IF(COUNTA($B$20:B48)<format!$B$3,B48+1,"") -> 541 | J49: 80 | K49: =IF(COUNTA($K$20:K48)<format!$B$3/2,K48+1,"") -> 591
A50: 31 | B50: =IF(COUNTA($B$20:B49)<format!$B$3,B49+1,"") -> 542 | J50: * 81 | K50: =IF(COUNTA($K$20:K49)<format!$B$3/2,K49+1,"") -> 592
A51: 32 | B51: =IF(COUNTA($B$20:B50)<format!$B$3,B50+1,"") -> 543 | J51: 82 | K51: =IF(COUNTA($K$20:K50)<format!$B$3/2,K50+1,"") -> 593
A52: * 33 | B52: =IF(COUNTA($B$20:B51)<format!$B$3,B51+1,"") -> 544 | J52: 83 | K52: =IF(COUNTA($K$20:K51)<format!$B$3/2,K51+1,"") -> 594
A53: 34 | B53: =IF(COUNTA($B$20:B52)<format!$B$3,B52+1,"") -> 545 | J53: 84 | K53: =IF(COUNTA($K$20:K52)<format!$B$3/2,K52+1,"") -> 595
A54: 35 | B54: =IF(COUNTA($B$20:B53)<format!$B$3,B53+1,"") -> 546 | J54: * 85 | K54: =IF(COUNTA($K$20:K53)<format!$B$3/2,K53+1,"") -> 596
A55: 36 | B55: =IF(COUNTA($B$20:B54)<format!$B$3,B54+1,"") -> 547 | J55: 86 | K55: =IF(COUNTA($K$20:K54)<format!$B$3/2,K54+1,"") -> 597
A56: * 37 | B56: =IF(COUNTA($B$20:B55)<format!$B$3,B55+1,"") -> 548 | J56: 87 | K56: =IF(COUNTA($K$20:K55)<format!$B$3/2,K55+1,"") -> 598
A57: 38 | B57: =IF(COUNTA($B$20:B56)<format!$B$3,B56+1,"") -> 549 | J57: 88 | K57: =IF(COUNTA($K$20:K56)<format!$B$3/2,K56+1,"") -> 599
A58: 39 | B58: =IF(COUNTA($B$20:B57)<format!$B$3,B57+1,"") -> 550 | J58: * 89 | K58: =IF(COUNTA($K$20:K57)<format!$B$3/2,K57+1,"") -> 600
...
