Workbook

Sheet Feuil1
A1: Feuil 1 | B1: Feuil 2 | C1: Feuil 3
A2: Nombre de départ | B2: Nombre de cellule à remplir | C2: Exemple
A4: 512 | B4: 3 | C4: 512
C5: 513
C6: 514
C7: 515
C8: 516
C9: 517
A12: Réussi à faire la formule de la feuille 1 vers la 3 | C12: =A4 -> 512
A13: Réussi à faire la formule de comptage en feuille 3 | C13: =IF(COUNTA($C$12:C12)<$B$4,C12+1,"") -> 513
A14: Mais je ne trouve pas la formule pour qu'elle | C14: =IF(ROWS(A$12:A14)<=$B$4,$A$4+ROWS(A$12:A14)-1,"") -> 514
A15: ne complète que 6 cellules | C15: =IF(ROWS(A$12:A15)<=$B$4,$A$4+ROWS(A$12:A15)-1,"")
A16: tout en sachant que le nombre de la feuille 2 varie donc | C16: =IF(ROWS(A$12:A16)<=$B$4,$A$4+ROWS(A$12:A16)-1,"")
A17: le nombre de cellule à remplir en feuille 3 varie aussi | C17: =IF(ROWS(A$12:A17)<=$B$4,$A$4+ROWS(A$12:A17)-1,"")
C18: =IF(ROWS(A$12:A18)<=$B$4,$A$4+ROWS(A$12:A18)-1,"")
C19: =IF(ROWS(A$12:A19)<=$B$4,$A$4+ROWS(A$12:A19)-1,"")
C20: =IF(ROWS(A$12:A20)<=$B$4,$A$4+ROWS(A$12:A20)-1,"")
C21: =IF(ROWS(A$12:A21)<=$B$4,$A$4+ROWS(A$12:A21)-1,"")
C22: =IF(ROWS(A$12:A22)<=$B$4,$A$4+ROWS(A$12:A22)-1,"")
C23: =IF(ROWS(A$12:A23)<=$B$4,$A$4+ROWS(A$12:A23)-1,"")
C24: =IF(ROWS(A$12:A24)<=$B$4,$A$4+ROWS(A$12:A24)-1,"")
C25: =IF(ROWS(A$12:A25)<=$B$4,$A$4+ROWS(A$12:A25)-1,"")
C26: =IF(ROWS(A$12:A26)<=$B$4,$A$4+ROWS(A$12:A26)-1,"")

Sheet format
B3: 100

Sheet Feuil3
B3: 512
B4: 513
B5: 514

Sheet Feuil4
B18: N° Étiquette Réflex | C18: N° de la Brique | D18: Heure prod. de la Brique | E18: Contrôle Visuel Banderolage C / NC | F18: Prépa N° | G18: Palette INCOMPLÈTE | H18: Palette mise au Tri | K18: N° Étiquette Réflex | L18: N° de la Brique | M18: Heure prod. de la Brique | N18: Contrôle Visuel Banderolage C / NC | O18: Prépa N° | P18: Palette INCOMPLÈTE | Q18: Palette mise au Tri
A20: *1 | B20: =Feuil1!A4 -> 512 | F20: =[1]Saisies!E6 -> 4-2D | J20: 51 | K20: =IF(COUNTA($B$20:B69)<format!$B$3,B69+1,"") -> 562
A21: 2 | B21: =IF(COUNTA($B$20:B20)<format!$B$3/2,B20+1,"") -> 513 | J21: 52 | K21: =IF(COUNTA($K$20:K20)<format!$B$3/2,K20+1,"") -> 563
A22: 3 | B22: =IF(COUNTA($B$20:B21)<format!$B$3,B21+1,"") -> 514 | J22: * 53 | K22: =IF(COUNTA($K$20:K21)<format!$B$3/2,K21+1,"") -> 564
A23: 4 | B23: =IF(COUNTA($B$20:B22)<format!$B$3,B22+1,"") -> 515 | J23: 54 | K23: =IF(COUNTA($K$20:K22)<format!$B$3/2,K22+1,"") -> 565
A24: * 5 | B24: =IF(COUNTA($B$20:B23)<format!$B$3,B23+1,"") -> 516 | J24: 55 | K24: =IF(COUNTA($K$20:K23)<format!$B$3/2,K23+1,"") -> 566
A25: 6 | B25: =IF(COUNTA($B$20:B24)<format!$B$3,B24+1,"") -> 517 | J25: 56 | K25: =IF(COUNTA($K$20:K24)<format!$B$3/2,K24+1,"") -> 567
A26: 7 | B26: =IF(COUNTA($B$20:B25)<format!$B$3,B25+1,"") -> 518 | J26: * 57 | K26: =IF(COUNTA($K$20:K25)<format!$B$3/2,K25+1,"") -> 568
A27: 8 | B27: =IF(COUNTA($B$20:B26)<format!$B$3,B26+1,"") -> 519 | J27: 58 | K27: =IF(COUNTA($K$20:K26)<format!$B$3/2,K26+1,"") -> 569
A28: * 9 | B28: =IF(COUNTA($B$20:B27)<format!$B$3,B27+1,"") -> 520 | J28: 59 | K28: =IF(COUNTA($K$20:K27)<format!$B$3/2,K27+1,"") -> 570
A29: 10 | B29: =IF(COUNTA($B$20:B28)<format!$B$3,B28+1,"") -> 521 | J29: 60 | K29: =IF(COUNTA($K$20:K28)<format!$B$3/2,K28+1,"") -> 571
A30: 11 | B30: =IF(COUNTA($B$20:B29)<format!$B$3,B29+1,"") -> 522 | J30: * 61 | K30: =IF(COUNTA($K$20:K29)<format!$B$3/2,K29+1,"") -> 572
A31: 12 | B31: =IF(COUNTA($B$20:B30)<format!$B$3,B30+1,"") -> 523 | J31: 62 | K31: =IF(COUNTA($K$20:K30)<format!$B$3/2,K30+1,"") -> 573
A32: * 13 | B32: =IF(COUNTA($B$20:B31)<format!$B$3,B31+1,"") -> 524 | J32: 63 | K32: =IF(COUNTA($K$20:K31)<format!$B$3/2,K31+1,"") -> 574
A33: 14 | B33: =IF(COUNTA($B$20:B32)<format!$B$3,B32+1,"") -> 525 | J33: 64 | K33: =IF(COUNTA($K$20:K32)<format!$B$3/2,K32+1,"") -> 575
A34: 15 | B34: =IF(COUNTA($B$20:B33)<format!$B$3,B33+1,"") -> 526 | J34: * 65 | K34: =IF(COUNTA($K$20:K33)<format!$B$3/2,K33+1,"") -> 576
A35: 16 | B35: =IF(COUNTA($B$20:B34)<format!$B$3,B34+1,"") -> 527 | J35: 66 | K35: =IF(COUNTA($K$20:K34)<format!$B$3/2,K34+1,"") -> 577
A36: * 17 | B36: =IF(COUNTA($B$20:B35)<format!$B$3,B35+1,"") -> 528 | J36: 67 | K36: =IF(COUNTA($K$20:K35)<format!$B$3/2,K35+1,"") -> 578
A37: 18 | B37: =IF(COUNTA($B$20:B36)<format!$B$3,B36+1,"") -> 529 | J37: 68 | K37: =IF(COUNTA($K$20:K36)<format!$B$3/2,K36+1,"") -> 579
A38: 19 | B38: =IF(COUNTA($B$20:B37)<format!$B$3,B37+1,"") -> 530 | J38: * 69 | K38: =IF(COUNTA($K$20:K37)<format!$B$3/2,K37+1,"") -> 580
A39: 20 | B39: =IF(COUNTA($B$20:B38)<format!$B$3,B38+1,"") -> 531 | J39: 70 | K39: =IF(COUNTA($K$20:K38)<format!$B$3/2,K38+1,"") -> 581
A40: * 21 | B40: =IF(COUNTA($B$20:B39)<format!$B$3,B39+1,"") -> 532 | J40: 71 | K40: =IF(COUNTA($K$20:K39)<format!$B$3/2,K39+1,"") -> 582
A41: 22 | B41: =IF(COUNTA($B$20:B40)<format!$B$3,B40+1,"") -> 533 | J41: 72 | K41: =IF(COUNTA($K$20:K40)<format!$B$3/2,K40+1,"") -> 583
A42: 23 | B42: =IF(COUNTA($B$20:B41)<format!$B$3,B41+1,"") -> 534 | J42: * 73 | K42: =IF(COUNTA($K$20:K41)<format!$B$3/2,K41+1,"") -> 584
A43: 24 | B43: =IF(COUNTA($B$20:B42)<format!$B$3,B42+1,"") -> 535 | J43: 74 | K43: =IF(COUNTA($K$20:K42)<format!$B$3/2,K42+1,"") -> 585
A44: * 25 | B44: =IF(COUNTA($B$20:B43)<format!$B$3,B43+1,"") -> 536 | J44: 75 | K44: =IF(COUNTA($K$20:K43)<format!$B$3/2,K43+1,"") -> 586
A45: 26 | B45: =IF(COUNTA($B$20:B44)<format!$B$3,B44+1,"") -> 537 | J45: 76 | K45: =IF(COUNTA($K$20:K44)<format!$B$3/2,K44+1,"") -> 587
A46: 27 | B46: =IF(COUNTA($B$20:B45)<format!$B$3,B45+1,"") -> 538 | J46: * 77 | K46: =IF(COUNTA($K$20:K45)<format!$B$3/2,K45+1,"") -> 588
A47: 28 | B47: =IF(COUNTA($B$20:B46)<format!$B$3,B46+1,"") -> 539 | J47: 78 | K47: =IF(COUNTA($K$20:K46)<format!$B$3/2,K46+1,"") -> 589
A48: * 29 | B48: =IF(COUNTA($B$20:B47)<format!$B$3,B47+1,"") -> 540 | J48: 79 | K48: =IF(COUNTA($K$20:K47)<format!$B$3/2,K47+1,"") -> 590
A49: 30 | B49: =IF(COUNTA($B$20:B48)<format!$B$3,B48+1,"") -> 541 | J49: 80 | K49: =IF(COUNTA($K$20:K48)<format!$B$3/2,K48+1,"") -> 591
A50: 31 | B50: =IF(COUNTA($B$20:B49)<format!$B$3,B49+1,"") -> 542 | J50: * 81 | K50: =IF(COUNTA($K$20:K49)<format!$B$3/2,K49+1,"") -> 592
A51: 32 | B51: =IF(COUNTA($B$20:B50)<format!$B$3,B50+1,"") -> 543 | J51: 82 | K51: =IF(COUNTA($K$20:K50)<format!$B$3/2,K50+1,"") -> 593
A52: * 33 | B52: =IF(COUNTA($B$20:B51)<format!$B$3,B51+1,"") -> 544 | J52: 83 | K52: =IF(COUNTA($K$20:K51)<format!$B$3/2,K51+1,"") -> 594
A53: 34 | B53: =IF(COUNTA($B$20:B52)<format!$B$3,B52+1,"") -> 545 | J53: 84 | K53: =IF(COUNTA($K$20:K52)<format!$B$3/2,K52+1,"") -> 595
A54: 35 | B54: =IF(COUNTA($B$20:B53)<format!$B$3,B53+1,"") -> 546 | J54: * 85 | K54: =IF(COUNTA($K$20:K53)<format!$B$3/2,K53+1,"") -> 596
A55: 36 | B55: =IF(COUNTA($B$20:B54)<format!$B$3,B54+1,"") -> 547 | J55: 86 | K55: =IF(COUNTA($K$20:K54)<format!$B$3/2,K54+1,"") -> 597
A56: * 37 | B56: =IF(COUNTA($B$20:B55)<format!$B$3,B55+1,"") -> 548 | J56: 87 | K56: =IF(COUNTA($K$20:K55)<format!$B$3/2,K55+1,"") -> 598
A57: 38 | B57: =IF(COUNTA($B$20:B56)<format!$B$3,B56+1,"") -> 549 | J57: 88 | K57: =IF(COUNTA($K$20:K56)<format!$B$3/2,K56+1,"") -> 599
A58: 39 | B58: =IF(COUNTA($B$20:B57)<format!$B$3,B57+1,"") -> 550 | J58: * 89 | K58: =IF(COUNTA($K$20:K57)<format!$B$3/2,K57+1,"") -> 600
A59: 40 | B59: =IF(COUNTA($B$20:B58)<format!$B$3,B58+1,"") -> 551 | J59: 90 | K59: =IF(COUNTA($K$20:K58)<format!$B$3/2,K58+1,"") -> 601
A60: * 41 | B60: =IF(COUNTA($B$20:B59)<format!$B$3,B59+1,"") -> 552 | J60: 91 | K60: =IF(COUNTA($K$20:K59)<format!$B$3/2,K59+1,"") -> 602
A61: 42 | B61: =IF(COUNTA($B$20:B60)<format!$B$3,B60+1,"") -> 553 | J61: 92 | K61: =IF(COUNTA($K$20:K60)<format!$B$3/2,K60+1,"") -> 603
A62: 43 | B62: =IF(COUNTA($B$20:B61)<format!$B$3,B61+1,"") -> 554 | J62: * 93 | K62: =IF(COUNTA($K$20:K61)<format!$B$3/2,K61+1,"") -> 604
A63: 44 | B63: =IF(COUNTA($B$20:B62)<format!$B$3,B62+1,"") -> 555 | J63: 94 | K63: =IF(COUNTA($K$20:K62)<format!$B$3/2,K62+1,"") -> 605
A64: * 45 | B64: =IF(COUNTA($B$20:B63)<format!$B$3,B63+1,"") -> 556 | J64: 95 | K64: =IF(COUNTA($K$20:K63)<format!$B$3/2,K63+1,"") -> 606
A65: 46 | B65: =IF(COUNTA($B$20:B64)<format!$B$3,B64+1,"") -> 557 | J65: 96 | K65: =IF(COUNTA($K$20:K64)<format!$B$3/2,K64+1,"") -> 607
A66: 47 | B66: =IF(COUNTA($B$20:B65)<format!$B$3,B65+1,"") -> 558 | J66: * 97 | K66: =IF(COUNTA($K$20:K65)<format!$B$3/2,K65+1,"") -> 608
A67: 48 | B67: =IF(COUNTA($B$20:B66)<format!$B$3,B66+1,"") -> 559 | J67: 98 | K67: =IF(COUNTA($K$20:K66)<format!$B$3/2,K66+1,"") -> 609
A68: * 49 | B68: =IF(COUNTA($B$20:B67)<format!$B$3,B67+1,"") -> 560 | J68: 99 | K68: =IF(COUNTA($K$20:K67)<format!$B$3/2,K67+1,"") -> 610
A69: 50 | B69: =IF(COUNTA($B$20:B68)<format!$B$3,B68+1,"") -> 561 | J69: 100 | K69: =IF(COUNTA($K$20:K68)<format!$B$3/2,K68+1,"") -> 611
A71: * Relever l' Heure + N° sur la brique et faire un contrôle banderolage toutes les Heures
O75: =O2 -> 0
O76: Page : 2/2
B78: Remarques :
B80: N° Étiquette Réflex | C80: N° de la Brique | D80: Heure prod. de la Brique | E80: Contrôle Visuel Banderolage C / NC | F80: Prépa N° | G80: Palette INCOMPLÈTE | H80: Palette mise au Tri | K80: N° Étiquette Réflex | L80: N° de la Brique | M80: Heure prod. de la Brique | N80: Contrôle Visuel Banderolage C / NC | O80: Prépa N° | P80: Palette INCOMPLÈTE | Q80: Palette mise au Tri
A82: * 101 | B82: =IF(COUNTA($B$20:K68)<format!$B$5,K69+1,"") | J82: 151 | K82: =IF(COUNTA($B$20:B131)<format!$B$5,B131+1,"")
A83: 102 | B83: =IF(COUNTA($B$20:B82)<format!$B$5,B82+1,"") | J83: 152 | K83: =IF(COUNTA($B$20:K82)<format!$B$5,K82+1,"")
A84: 103 | B84: =IF(COUNTA($B$20:B83)<format!$B$5,B83+1,"") | J84: * 153 | K84: =IF(COUNTA($B$20:K83)<format!$B$5,K83+1,"")
A85: 104 | B85: =IF(COUNTA($B$20:B84)<format!$B$5,B84+1,"") | J85: 154 | K85: =IF(COUNTA($B$20:K84)<format!$B$5,K84+1,"")
A86: * 105 | B86: =IF(COUNTA($B$20:B85)<format!$B$5,B85+1,"") | J86: 155 | K86: =IF(COUNTA($B$20:K85)<format!$B$5,K85+1,"")
A87: 106 | B87: =IF(COUNTA($B$20:B86)<format!$B$5,B86+1,"") | J87: 156 | K87: =IF(COUNTA($B$20:K86)<format!$B$5,K86+1,"")
A88: 107 | B88: =IF(COUNTA($B$20:B87)<format!$B$5,B87+1,"") | J88: * 157 | K88: =IF(COUNTA($B$20:K87)<format!$B$5,K87+1,"")
A89: 108 | B89: =IF(COUNTA($B$20:B88)<format!$B$5,B88+1,"") | J89: 158 | K89: =IF(COUNTA($B$20:K88)<format!$B$5,K88+1,"")
A90: * 109 | B90: =IF(COUNTA($B$20:B89)<format!$B$5,B89+1,"") | J90: 159 | K90: =IF(COUNTA($B$20:K89)<format!$B$5,K89+1,"")
A91: 110 | B91: =IF(COUNTA($B$20:B90)<format!$B$5,B90+1,"") | J91: 160 | K91: =IF(COUNTA($B$20:K90)<format!$B$5,K90+1,"")
A92: 111 | B92: =IF(COUNTA($B$20:B91)<format!$B$5,B91+1,"") | J92: * 161 | K92: =IF(COUNTA($B$20:K91)<format!$B$5,K91+1,"")
A93: 112 | B93: =IF(COUNTA($B$20:B92)<format!$B$5,B92+1,"") | J93: 162 | K93: =IF(COUNTA($B$20:K92)<format!$B$5,K92+1,"")
A94: * 113 | B94: =IF(COUNTA($B$20:B93)<format!$B$5,B93+1,"") | J94: 163 | K94: =IF(COUNTA($B$20:K93)<format!$B$5,K93+1,"")
A95: 114 | B95: =IF(COUNTA($B$20:B94)<format!$B$5,B94+1,"") | J95: 164 | K95: =IF(COUNTA($B$20:K94)<format!$B$5,K94+1,"")
A96: 115 | B96: =IF(COUNTA($B$20:B95)<format!$B$5,B95+1,"") | J96: * 165 | K96: =IF(COUNTA($B$20:K95)<format!$B$5,K95+1,"")
A97: 116 | B97: =IF(COUNTA($B$20:B96)<format!$B$5,B96+1,"") | J97: 166 | K97: =IF(COUNTA($B$20:K96)<format!$B$5,K96+1,"")
A98: * 117 | B98: =IF(COUNTA($B$20:B97)<format!$B$5,B97+1,"") | J98: 167 | K98: =IF(COUNTA($B$20:K97)<format!$B$5,K97+1,"")
A99: 118 | B99: =IF(COUNTA($B$20:B98)<format!$B$5,B98+1,"") | J99: 168 | K99: =IF(COUNTA($B$20:K98)<format!$B$5,K98+1,"")
A100: 119 | B100: =IF(COUNTA($B$20:B99)<format!$B$5,B99+1,"") | J100: * 169 | K100: =IF(COUNTA($B$20:K99)<format!$B$5,K99+1,"")
A101: 120 | B101: =IF(COUNTA($B$20:B100)<format!$B$5,B100+1,"") | J101: 170 | K101: =IF(COUNTA($B$20:K100)<format!$B$5,K100+1,"")
A102: * 121 | B102: =IF(COUNTA($B$20:B101)<format!$B$5,B101+1,"") | J102: 171 | K102: =IF(COUNTA($B$20:K101)<format!$B$5,K101+1,"")
A103: 122 | B103: =IF(COUNTA($B$20:B102)<format!$B$5,B102+1,"") | J103: 172 | K103: =IF(COUNTA($B$20:K102)<format!$B$5,K102+1,"")
A104: 123 | B104: =IF(COUNTA($B$20:B103)<format!$B$5,B103+1,"") | J104: * 173 | K104: =IF(COUNTA($B$20:K103)<format!$B$5,K103+1,"")
A105: 124 | B105: =IF(COUNTA($B$20:B104)<format!$B$5,B104+1,"") | J105: 174 | K105: =IF(COUNTA($B$20:K104)<format!$B$5,K104+1,"")
A106: * 125 | B106: =IF(COUNTA($B$20:B105)<format!$B$5,B105+1,"") | J106: 175 | K106: =IF(COUNTA($B$20:K105)<format!$B$5,K105+1,"")
A107: 126 | B107: =IF(COUNTA($B$20:B106)<format!$B$5,B106+1,"") | J107: 176 | K107: =IF(COUNTA($B$20:K106)<format!$B$5,K106+1,"")
A108: 127 | B108: =IF(COUNTA($B$20:B107)<format!$B$5,B107+1,"") | J108: * 177 | K108: =IF(COUNTA($B$20:K107)<format!$B$5,K107+1,"")
A109: 128 | B109: =IF(COUNTA($B$20:B108)<format!$B$5,B108+1,"") | J109: 178 | K109: =IF(COUNTA($B$20:K108)<format!$B$5,K108+1,"")
A110: * 129 | B110: =IF(COUNTA($B$20:B109)<format!$B$5,B109+1,"") | J110: 179 | K110: =IF(COUNTA($B$20:K109)<format!$B$5,K109+1,"")
A111: 130 | B111: =IF(COUNTA($B$20:B110)<format!$B$5,B110+1,"") | J111: 180 | K111: =IF(COUNTA($B$20:K110)<format!$B$5,K110+1,"")
A112: 131 | B112: =IF(COUNTA($B$20:B111)<format!$B$5,B111+1,"") | J112: * 181 | K112: =IF(COUNTA($B$20:K111)<format!$B$5,K111+1,"")
A113: 132 | B113: =IF(COUNTA($B$20:B112)<format!$B$5,B112+1,"") | J113: 182 | K113: =IF(COUNTA($B$20:K112)<format!$B$5,K112+1,"")
A114: * 133 | B114: =IF(COUNTA($B$20:B113)<format!$B$5,B113+1,"") | J114: 183 | K114: =IF(COUNTA($B$20:K113)<format!$B$5,K113+1,"")
A115: 134 | B115: =IF(COUNTA($B$20:B114)<format!$B$5,B114+1,"") | J115: 184 | K115: =IF(COUNTA($B$20:K114)<format!$B$5,K114+1,"")
A116: 135 | B116: =IF(COUNTA($B$20:B115)<format!$B$5,B115+1,"") | J116: * 185 | K116: =IF(COUNTA($B$20:K115)<format!$B$5,K115+1,"")
A117: 136 | B117: =IF(COUNTA($B$20:B116)<format!$B$5,B116+1,"") | J117: 186 | K117: =IF(COUNTA($B$20:K116)<format!$B$5,K116+1,"")
A118: * 137 | B118: =IF(COUNTA($B$20:B117)<format!$B$5,B117+1,"") | J118: 187 | K118: =IF(COUNTA($B$20:K117)<format!$B$5,K117+1,"")
A119: 138 | B119: =IF(COUNTA($B$20:B118)<format!$B$5,B118+1,"") | J119: 188 | K119: =IF(COUNTA($B$20:K118)<format!$B$5,K118+1,"")
A120: 139 | B120: =IF(COUNTA($B$20:B119)<format!$B$5,B119+1,"") | J120: * 189 | K120: =IF(COUNTA($B$20:K119)<format!$B$5,K119+1,"")
A121: 140 | B121: =IF(COUNTA($B$20:B120)<format!$B$5,B120+1,"") | J121: 190 | K121: =IF(COUNTA($B$20:K120)<format!$B$5,K120+1,"")
A122: * 141 | B122: =IF(COUNTA($B$20:B121)<format!$B$5,B121+1,"") | J122: 191 | K122: =IF(COUNTA($B$20:K121)<format!$B$5,K121+1,"")
A123: 142 | B123: =IF(COUNTA($B$20:B122)<format!$B$5,B122+1,"") | J123: 192 | K123: =IF(COUNTA($B$20:K122)<format!$B$5,K122+1,"")
A124: 143 | B124: =IF(COUNTA($B$20:B123)<format!$B$5,B123+1,"") | J124: * 193 | K124: =IF(COUNTA($B$20:K123)<format!$B$5,K123+1,"")
A125: 144 | B125: =IF(COUNTA($B$20:B124)<format!$B$5,B124+1,"") | J125: 194 | K125: =IF(COUNTA($B$20:K124)<format!$B$5,K124+1,"")
...
