Workbook

Sheet Feuil1
B2: Semaine | C2: 3 | D2: 2020
C4: Bernadette | D4: récupération | E4: Lundi | F4: Mardi | G4: Mercredi | H4: Jeudi | I4: Vendredi | K4: Laurence | L4: récupération | M4: Lundi | N4: Mardi | O4: Mercredi | P4: Jeudi | Q4: Vendredi
E5: =7*C2+DATE(D2,1,3)-WEEKDAY(DATE(D2,1,3))-5 -> 43843 | F5: =7*C2+DATE(D2,1,3)-WEEKDAY(DATE(D2,1,3))-4 -> 43844 | G5: =7*C2+DATE(D2,1,3)-WEEKDAY(DATE(D2,1,3))-3 -> 43845 | H5: =7*C2+DATE(D2,1,3)-WEEKDAY(DATE(D2,1,3))-2 -> 43846 | I5: =7*C2+DATE(D2,1,3)-WEEKDAY(DATE(D2,1,3))-1 -> 43847 | M5: =7*C2+DATE(D2,1,3)-WEEKDAY(DATE(D2,1,3))-5 -> 43843 | N5: =7*C2+DATE(D2,1,3)-WEEKDAY(DATE(D2,1,3))-4 -> 43844 | O5: =7*C2+DATE(D2,1,3)-WEEKDAY(DATE(D2,1,3))-3 -> 43845 | P5: =7*C2+DATE(D2,1,3)-WEEKDAY(DATE(D2,1,3))-2 -> 43846 | Q5: =7*C2+DATE(D2,1,3)-WEEKDAY(DATE(D2,1,3))-1 -> 43847
C7: Début | E7: 0 | F7: 0.375 | G7: 0.375 | H7: 0.375 | I7: 0.375 | K7: Début | M7: 0.35416667 | N7: 0.35416667 | O7: 0.35416667 | P7: 0.35416667 | Q7: 0.35416667
C8: Fin | E8: 0 | F8: 0.5 | G8: 0.5 | H8: 0.5 | I8: 0.5 | K8: Fin | M8: 0.5 | N8: 0.5 | O8: 0.5 | P8: 0.5 | Q8: 0.5
C10: Début | E10: 0 | F10: 0.54166667 | G10: 0.54166667 | H10: 0.54166667 | I10: 0.54166667 | K10: Début | M10: 0.54166667 | N10: 0.54166667 | O10: 0.54166667 | P10: 0.54166667 | Q10: 0.54166667
C11: Fin | E11: 0 | F11: 0.70833333 | G11: 0.70833333 | H11: 0.70833333 | I11: 0.70833333 | K11: Fin | M11: 0.70833333 | N11: 0.70833333 | O11: 0.70833333 | P11: 0.70833333 | Q11: 0.70833333
C12: récupération
C13: Heures | E13: =E8-E7+E11-E10 -> 0 | F13: =(F8-F7)+(F11-F10) -> 0.29166667 | G13: =(G8-G7)+(G11-G10) -> 0.29166667 | H13: =(H8-H7)+(H11-H10) -> 0.29166667 | I13: =(I8-I7)+(I11-I10) -> 0.29166667 | K13: Heures | M13: =M8-M7+M11-M10 -> 0.3125 | N13: =N8-N7+N11-N10 -> 0.3125 | O13: =O8-O7+O11-O10 -> 0.3125 | P13: =P8-P7+P11-P10 -> 0.3125 | Q13: =Q8-Q7+Q11-Q10 -> 0.3125
C16: Total Semaines | D16: =SUM(E13:I13) -> 1.1666667 | K16: Total Semaines | L16: =SUM(M13:Q13) -> 1.5625
C17: Contrat 80% | D17: 1.4583333 | K17: Contrat 100% | L17: 1.5625
C18: Heures supplémentaires | D18: =+D16-D17*(80/100)+1-D12 -> 1 | K18: Heures supplémentaires | L18: =+L16-L17*(100/100)+1-L13 -> 1
C25: Victor | D25: récupération | E25: Lundi | F25: Mardi | G25: Mercredi | H25: Jeudi | I25: Vendredi
E26: =7*C2+DATE(D2,1,3)-WEEKDAY(DATE(D2,1,3))-5 -> 43843 | F26: =7*C2+DATE(D2,1,3)-WEEKDAY(DATE(D2,1,3))-4 -> 43844 | G26: =7*C2+DATE(D2,1,3)-WEEKDAY(DATE(D2,1,3))-3 -> 43845 | H26: =7*C2+DATE(D2,1,3)-WEEKDAY(DATE(D2,1,3))-3 -> 43845 | I26: =7*C2+DATE(D2,1,3)-WEEKDAY(DATE(D2,1,3))-1 -> 43847
C28: Début | E28: 0.35416667 | F28: 0.35416667 | G28: 0.35416667 | H28: 0.35416667 | I28: 0.35416667
C29: Fin | E29: 0.54166667 | F29: 0.54166667 | G29: 0.54166667 | H29: 0.54166667 | I29: 0.54166667
C31: Début | E31: 0.58333333 | F31: 0.58333333 | G31: 0.58333333 | H31: 0.58333333 | I31: 0.58333333
C32: Fin | E32: 0.70833333 | F32: 0.70833333 | G32: 0.70833333 | H32: 0.70833333 | I32: 0.70833333
C34: Heures | E34: =E29-E28+E32-E31 -> 0.3125 | F34: =F29-F28+F32-F31 -> 0.3125 | G34: =G29-G28+G32-G31 -> 0.3125 | H34: =H29-H28+H32-H31 -> 0.3125 | I34: =I29-I28+I32-I31 -> 0.3125
C37: Total Semaines | D37: =SUM(E34:I34) -> 1.5625
C38: Contrat 100% | D38: 1.5625
C39: Heures supplémentaires | D39: =+D37-D38*(100/100)+1 -> 1

Sheet heures mardis
AH1: récuparatoin
A2: Semaine | B2: 1 | C2: 2020 | AH2: BG | AI2: LC | AJ2: VG
A3: 0 | AG3: 43840 | AI3: 0.083333333 | AK3: 0.70833333
B4: Bernadette | C4: récupérations | D4: Mardi | E4: Mardi | F4: Mardi | G4: Mardi | H4: Mardi | I4: Mardi | J4: Mardi | K4: Mardi | L4: Mardi | AK4: 0.29166667
D5: =7*B2+DATE(C2,1,3)-WEEKDAY(DATE(C2,1,3))-4 -> 43830 | E5: =D5+7 -> 43837 | F5: =E5+7 -> 43844 | G5: =F5+7 -> 43851 | H5: =G5+7 -> 43858 | I5: =7*$B$2+DATE($C$2,1,3)-WEEKDAY(DATE(I2,1,3))+28 -> 43865 | J5: =7*$B$2+DATE($C$2,1,3)-WEEKDAY(DATE(J2,1,3))+35 -> 43872 | K5: =7*$B$2+DATE($C$2,1,3)-WEEKDAY(DATE(K2,1,3))+42 -> 43879 | L5: =7*$B$2+DATE($C$2,1,3)-WEEKDAY(DATE(L2,1,3))+49 -> 43886 | M5: =7*$B$2+DATE($C$2,1,3)-WEEKDAY(DATE(M2,1,3))+56 -> 43893 | N5: =7*$B$2+DATE($C$2,1,3)-WEEKDAY(DATE(N2,1,3))+63 -> 43900 | O5: =7*$B$2+DATE($C$2,1,3)-WEEKDAY(DATE(O2,1,3))+70 -> 43907 | P5: =7*$B$2+DATE($C$2,1,3)-WEEKDAY(DATE(P2,1,3))+77 -> 43914 | Q5: =7*$B$2+DATE($C$2,1,3)-WEEKDAY(DATE(Q2,1,3))+84 -> 43921 | R5: =7*$B$2+DATE($C$2,1,3)-WEEKDAY(DATE(R2,1,3))+91 -> 43928 | S5: =7*$B$2+DATE($C$2,1,3)-WEEKDAY(DATE(S2,1,3))+98 -> 43935 | T5: =7*$B$2+DATE($C$2,1,3)-WEEKDAY(DATE(T2,1,3))+105 -> 43942 | U5: =7*$B$2+DATE($C$2,1,3)-WEEKDAY(DATE(U2,1,3))+112 -> 43949 | V5: =7*$B$2+DATE($C$2,1,3)-WEEKDAY(DATE(V2,1,3))+119 -> 43956 | W5: =7*$B$2+DATE($C$2,1,3)-WEEKDAY(DATE(W2,1,3))+126 -> 43963 | X5: =7*$B$2+DATE($C$2,1,3)-WEEKDAY(DATE(X2,1,3))+133 -> 43970 | Y5: =7*$B$2+DATE($C$2,1,3)-WEEKDAY(DATE(Y2,1,3))+140 -> 43977 | Z5: =7*$B$2+DATE($C$2,1,3)-WEEKDAY(DATE(Z2,1,3))+147 -> 43984 | AA5: =7*$B$2+DATE($C$2,1,3)-WEEKDAY(DATE(AA2,1,3))+154 -> 43991 | AB5: =7*$B$2+DATE($C$2,1,3)-WEEKDAY(DATE(AB2,1,3))+161 -> 43998 | AC5: =7*$B$2+DATE($C$2,1,3)-WEEKDAY(DATE(AC2,1,3))+168 -> 44005 | AD5: =7*$B$2+DATE($C$2,1,3)-WEEKDAY(DATE(AD2,1,3))+175 -> 44012 | AK5: 0.3125
B7: Début | D7: 0.375 | E7: 0.375 | F7: 0.375 | G7: 0.375 | H7: 0.375 | I7: 0.375 | J7: 0.375 | K7: 0.375 | L7: 0.375 | M7: 0.375 | N7: 0.375 | O7: 0.375 | P7: 0.375 | Q7: 0.375 | R7: 0.375 | S7: 0.375 | T7: 0.375 | U7: 0.375 | V7: 0.375 | W7: 0.375 | X7: 0.375 | Y7: 0.375 | Z7: 0.375 | AA7: 0.375 | AB7: 0.375 | AC7: 0.375 | AD7: 0.375 | AK7: 2
B8: Fin | D8: 0.5 | E8: 0.5 | F8: 0.5 | G8: 0.5 | H8: 0.5 | I8: 0.5 | J8: 0.5 | K8: 0.5 | L8: 0.5 | M8: 0.5 | N8: 0.5 | O8: 0.5 | P8: 0.5 | Q8: 0.5 | R8: 0.5 | S8: 0.5 | T8: 0.5 | U8: 0.5 | V8: 0.5 | W8: 0.5 | X8: 0.5 | Y8: 0.5 | Z8: 0.5 | AA8: 0.5 | AB8: 0.5 | AC8: 0.5 | AD8: 0.5
B10: Début | D10: 0.54166667 | E10: 0.54166667 | F10: 0.54166667 | G10: 0.54166667 | H10: 0.54166667 | I10: 0.54166667 | J10: 0.54166667 | K10: 0.54166667 | L10: 0.54166667 | M10: 0.54166667 | N10: 0.54166667 | O10: 0.54166667 | P10: 0.54166667 | Q10: 0.54166667 | R10: 0.54166667 | S10: 0.54166667 | T10: 0.54166667 | U10: 0.54166667 | V10: 0.54166667 | W10: 0.54166667 | X10: 0.54166667 | Y10: 0.54166667 | Z10: 0.54166667 | AA10: 0.54166667 | AB10: 0.54166667 | AC10: 0.54166667 | AD10: 0.54166667
B11: Fin | D11: =VLOOKUP(D5,'permanences mardi'!$B$3:$C$1000,2,0)+$AK$3 -> 0.75 | E11: =VLOOKUP(E5,'permanences mardi'!$B$3:$C$1000,2,0)+$AK$3 -> 0.70833333 | F11: =VLOOKUP(F5,'permanences mardi'!$B$3:$C$1000,2,0)+$AK$3 -> 0.79166667 | G11: =VLOOKUP(G5,'permanences mardi'!$B$3:$C$1000,2,0)+$AK$3 -> 0.70833333 | H11: =VLOOKUP(H5,'permanences mardi'!$B$3:$C$1000,2,0)+$AK$3 -> 0.70833333 | I11: =('permanences mardi'!C8+$AK$3) -> 0.70833333 | J11: =('permanences mardi'!C9+$AK$3) -> 0.70833333 | K11: =('permanences mardi'!C10+$AK$3) -> 0.70833333 | L11: =('permanences mardi'!C11+$AK$3) -> 0.70833333 | M11: =('permanences mardi'!C12+$AK$3) -> 0.70833333 | N11: =('permanences mardi'!C13+$AK$3) -> 0.70833333 | O11: =('permanences mardi'!C14+$AK$3) -> 0.70833333 | P11: =('permanences mardi'!C15+$AK$3) -> 0.70833333 | Q11: =('permanences mardi'!C16+$AK$3) -> 0.70833333 | R11: =('permanences mardi'!C17+$AK$3) -> 0.70833333 | S11: =('permanences mardi'!C18+$AK$3) -> 0.70833333 | T11: =('permanences mardi'!C19+$AK$3) -> 0.70833333 | U11: =('permanences mardi'!C20+$AK$3) -> 0.70833333 | V11: =('permanences mardi'!C21+$AK$3) -> 0.70833333 | W11: =('permanences mardi'!C22+$AK$3) -> 0.70833333 | X11: =('permanences mardi'!C23+$AK$3) -> 0.70833333 | Y11: =('permanences mardi'!C24+$AK$3) -> 0.70833333 | Z11: =('permanences mardi'!C25+$AK$3) -> 0.70833333 | AA11: =('permanences mardi'!C26+$AK$3) -> 0.70833333 | AB11: =('permanences mardi'!C27+$AK$3) -> 0.70833333 | AC11: =('permanences mardi'!C28+$AK$3) -> 0.70833333 | AD11: =('permanences mardi'!C29+$AK$3) -> 0.70833333
B13: récupérations
B14: Heures | D14: =(D8-D7)+(D11-D10) -> 0.33333333 | E14: =(E8-E7)+(E11-E10) -> 0.29166667 | F14: =(F8-F7)+(F11-F10) -> 0.375 | G14: =(G8-G7)+(G11-G10) -> 0.29166667 | H14: =(H8-H7)+(H11-H10) -> 0.29166667 | I14: =(I8-I7)+(I11-I10) -> 0.29166667 | J14: =(J8-J7)+(J11-J10) -> 0.29166667 | K14: =(K8-K7)+(K11-K10) -> 0.29166667 | ... O14: =(O8-O7)+(O11-O10) -> 0.29166667 | Q14: =(Q8-Q7)+(Q11-Q10) -> 0.29166667 | R14: =(R8-R7)+(R11-R10) -> 0.29166667 | S14: =(S8-S7)+(S11-S10) -> 0.29166667 | T14: =(T8-T7)+(T11-T10) -> 0.29166667 | U14: =(U8-U7)+(U11-U10) -> 0.29166667 | V14: =(V8-V7)+(V11-V10) -> 0.29166667 | W14: =(W8-W7)+(W11-W10) -> 0.29166667 | X14: =(X8-X7)+(X11-X10) -> 0.29166667 | ... AD14: =(AD8-AD7)+(AD11-AD10) -> 0.29166667
C35: =Feuil1!$E$13 -> 0
C36: =Feuil1!$G$13 -> 0.29166667
C37: =Feuil1!$H$13 -> 0.29166667
C38: =Feuil1!$I$13 -> 0.29166667
B39: Total Semaines | C39: 1.1666667
B40: Contrat 80% | C40: 1.4583333
B41: Heures supplémentaires | C41: ='permanences mardi'!C30-'heures mardis'!AH42 -> 0.125
AH42: =SUM(AH3:AH41) -> 0 | AI42: =SUM(AI3:AI41) -> 0.083333333 | AJ42: =SUM(AJ3:AJ41) -> 0
B46: Laurence | C46: récupération | D46: Mardi | E46: Mardi | F46: Mardi
D47: =7*$B$2+DATE($C$2,1,3)-WEEKDAY(DATE($C$2,1,3))-4 -> 43830 | E47: =7*B2+DATE(C2,1,3)-WEEKDAY(DATE(E2,1,3))+0 -> 43837 | F47: =7*B2+DATE(C2,1,3)-WEEKDAY(DATE(E2,1,3))+7 -> 43844 | G47: =7*$B$2+DATE($C$2,1,3)-WEEKDAY(DATE(G44,1,3))+14 -> 43851 | H47: =7*$B$2+DATE($C$2,1,3)-WEEKDAY(DATE(H44,1,3))+21 -> 43858 | I47: =7*$B$2+DATE($C$2,1,3)-WEEKDAY(DATE(I44,1,3))+28 -> 43865 | J47: =7*$B$2+DATE($C$2,1,3)-WEEKDAY(DATE(J44,1,3))+35 -> 43872 | K47: =7*$B$2+DATE($C$2,1,3)-WEEKDAY(DATE(K44,1,3))+42 -> 43879 | L47: =7*$B$2+DATE($C$2,1,3)-WEEKDAY(DATE(L44,1,3))+49 -> 43886 | M47: =7*$B$2+DATE($C$2,1,3)-WEEKDAY(DATE(M44,1,3))+56 -> 43893 | N47: =7*$B$2+DATE($C$2,1,3)-WEEKDAY(DATE(N44,1,3))+63 -> 43900 | O47: =7*$B$2+DATE($C$2,1,3)-WEEKDAY(DATE(O44,1,3))+70 -> 43907 | P47: =7*$B$2+DATE($C$2,1,3)-WEEKDAY(DATE(P44,1,3))+77 -> 43914 | Q47: =7*$B$2+DATE($C$2,1,3)-WEEKDAY(DATE(Q44,1,3))+84 -> 43921 | R47: =7*$B$2+DATE($C$2,1,3)-WEEKDAY(DATE(R44,1,3))+91 -> 43928 | S47: =7*$B$2+DATE($C$2,1,3)-WEEKDAY(DATE(S44,1,3))+98 -> 43935 | T47: =7*$B$2+DATE($C$2,1,3)-WEEKDAY(DATE(T44,1,3))+105 -> 43942 | U47: =7*$B$2+DATE($C$2,1,3)-WEEKDAY(DATE(U44,1,3))+112 -> 43949 | V47: =7*$B$2+DATE($C$2,1,3)-WEEKDAY(DATE(V44,1,3))+119 -> 43956 | W47: =7*$B$2+DATE($C$2,1,3)-WEEKDAY(DATE(W44,1,3))+126 -> 43963 | X47: =7*$B$2+DATE($C$2,1,3)-WEEKDAY(DATE(X44,1,3))+133 -> 43970 | Y47: =7*$B$2+DATE($C$2,1,3)-WEEKDAY(DATE(Y44,1,3))+140 -> 43977 | Z47: =7*$B$2+DATE($C$2,1,3)-WEEKDAY(DATE(Z44,1,3))+147 -> 43984 | AA47: =7*$B$2+DATE($C$2,1,3)-WEEKDAY(DATE(AA44,1,3))+154 -> 43991 | AB47: =7*$B$2+DATE($C$2,1,3)-WEEKDAY(DATE(AB44,1,3))+161 -> 43998 | AC47: =7*$B$2+DATE($C$2,1,3)-WEEKDAY(DATE(AC44,1,3))+168 -> 44005 | AD47: =7*$B$2+DATE($C$2,1,3)-WEEKDAY(DATE(AD44,1,3))+175 -> 44012
B49: Début | D49: 0.35416667 | E49: 0.35416667 | F49: 0.35416667 | G49: 0.35416667 | H49: 0.35416667 | I49: 0.35416667 | J49: 0.35416667 | K49: 0.35416667 | L49: 0.35416667 | M49: 0.35416667 | N49: 0.35416667 | O49: 0.35416667 | P49: 0.35416667 | Q49: 0.35416667 | R49: 0.35416667 | S49: 0.35416667 | T49: 0.35416667 | U49: 0.35416667 | V49: 0.35416667 | W49: 0.35416667 | X49: 0.35416667 | Y49: 0.35416667 | Z49: 0.35416667 | AA49: 0.35416667 | AB49: 0.35416667 | AC49: 0.35416667 | AD49: 0.35416667
B50: Fin | D50: 0.5 | E50: 0.5 | F50: 0.5 | G50: 0.5 | H50: 0.5 | I50: 0.5 | J50: 0.5 | K50: 0.5 | L50: 0.5 | M50: 0.5 | N50: 0.5 | O50: 0.5 | P50: 0.5 | Q50: 0.5 | R50: 0.5 | S50: 0.5 | T50: 0.5 | U50: 0.5 | V50: 0.5 | W50: 0.5 | X50: 0.5 | Y50: 0.5 | Z50: 0.5 | AA50: 0.5 | AB50: 0.5 | AC50: 0.5 | AD50: 0.5
B52: Début | D52: 0.54166667 | E52: 0.54166667 | F52: 0.54166667 | G52: 0.54166667 | H52: 0.54166667 | I52: 0.54166667 | J52: 0.54166667 | K52: 0.54166667 | L52: 0.54166667 | M52: 0.54166667 | N52: 0.54166667 | O52: 0.54166667 | P52: 0.54166667 | Q52: 0.54166667 | R52: 0.54166667 | S52: 0.54166667 | T52: 0.54166667 | U52: 0.54166667 | V52: 0.54166667 | W52: 0.54166667 | X52: 0.54166667 | Y52: 0.54166667 | Z52: 0.54166667 | AA52: 0.54166667 | AB52: 0.54166667 | AC52: 0.54166667 | AD52: 0.54166667
B53: Fin | D53: =('permanences mardi'!E3+'heures mardis'!$AK$3) -> 0.75 | E53: =('permanences mardi'!E4+'heures mardis'!$AK$3) -> 0.79166667 | F53: =('permanences mardi'!E5+'heures mardis'!$AK$3) -> 0.70833333 | G53: =('permanences mardi'!E6+'heures mardis'!$AK$3) -> 0.70833333 | H53: =('permanences mardi'!E7+'heures mardis'!$AK$3) -> 0.70833333 | I53: =('permanences mardi'!E8+'heures mardis'!$AK$3) -> 0.70833333 | J53: =('permanences mardi'!E9+'heures mardis'!$AK$3) -> 0.70833333 | K53: =('permanences mardi'!E10+'heures mardis'!$AK$3) -> 0.70833333 | L53: =('permanences mardi'!E11+'heures mardis'!$AK$3) -> 0.70833333 | M53: =('permanences mardi'!E12+'heures mardis'!$AK$3) -> 0.70833333 | N53: =('permanences mardi'!E13+'heures mardis'!$AK$3) -> 0.70833333 | O53: =('permanences mardi'!E14+'heures mardis'!$AK$3) -> 0.70833333 | P53: =('permanences mardi'!E15+'heures mardis'!$AK$3) -> 0.70833333 | Q53: =('permanences mardi'!E16+'heures mardis'!$AK$3) -> 0.70833333 | R53: =('permanences mardi'!E17+'heures mardis'!$AK$3) -> 0.70833333 | S53: =('permanences mardi'!E18+'heures mardis'!$AK$3) -> 0.70833333 | T53: =('permanences mardi'!E19+'heures mardis'!$AK$3) -> 0.70833333 | U53: =('permanences mardi'!E20+'heures mardis'!$AK$3) -> 0.70833333 | V53: =('permanences mardi'!E21+'heures mardis'!$AK$3) -> 0.70833333 | W53: =('permanences mardi'!E22+'heures mardis'!$AK$3) -> 0.70833333 | X53: =('permanences mardi'!E23+'heures mardis'!$AK$3) -> 0.70833333 | Y53: =('permanences mardi'!E24+'heures mardis'!$AK$3) -> 0.70833333 | Z53: =('permanences mardi'!E25+'heures mardis'!$AK$3) -> 0.70833333 | AA53: =('permanences mardi'!E26+'heures mardis'!$AK$3) -> 0.70833333 | AB53: =('permanences mardi'!E27+'heures mardis'!$AK$3) -> 0.70833333 | AC53: =('permanences mardi'!E28+'heures mardis'!$AK$3) -> 0.70833333 | AD53: =('permanences mardi'!E29+'heures mardis'!$AK$3) -> 0.70833333
B55: Heures | D55: =D50-D49+D53-D52 -> 0.35416667 | E55: =E50-E49+E53-E52 -> 0.39583333 | F55: =F50-F49+F53-F52 -> 0.3125 | G55: =G50-G49+G53-G52 -> 0.3125 | H55: =H50-H49+H53-H52 -> 0.3125 | I55: =I50-I49+I53-I52 -> 0.3125 | J55: =J50-J49+J53-J52 -> 0.3125 | K55: =K50-K49+K53-K52 -> 0.3125 | ... O55: =O50-O49+O53-O52 -> 0.3125 | Q55: =Q50-Q49+Q53-Q52 -> 0.3125 | R55: =R50-R49+R53-R52 -> 0.3125 | S55: =S50-S49+S53-S52 -> 0.3125 | T55: =T50-T49+T53-T52 -> 0.3125 | U55: =U50-U49+U53-U52 -> 0.3125 | V55: =V50-V49+V53-V52 -> 0.3125 | W55: =W50-W49+W53-W52 -> 0.3125 | X55: =X50-X49+X53-X52 -> 0.3125 | ... AD55: =AD50-AD49+AD53-AD52 -> 0.3125
C58: =Feuil1!$M$13 -> 0.3125
C59: =Feuil1!$M$13 -> 0.3125
C60: =Feuil1!$M$13 -> 0.3125
C61: =Feuil1!$M$13 -> 0.3125
B62: Total Semaines | C62: 1.5625
B63: Contrat 100% | C63: 1.5625
B64: Heures supplémentaires | C64: ='permanences mardi'!E30-'heures mardis'!AI42 -> 0.041666667
B69: Victor | C69: récupération | D69: Mardi | E69: Mardi | F69: Mardi
D70: =7*$B$2+DATE($C$2,1,3)-WEEKDAY(DATE($C$2,1,3))-4 -> 43830 | E70: =7*B2+DATE(C2,1,3)-WEEKDAY(DATE(E2,1,3))+0 -> 43837 | F70: =7*B2+DATE(C2,1,3)-WEEKDAY(DATE(E2,1,3))+7 -> 43844 | G70: =7*$B$2+DATE($C$2,1,3)-WEEKDAY(DATE(G67,1,3))+14 -> 43851 | H70: =7*$B$2+DATE($C$2,1,3)-WEEKDAY(DATE(H67,1,3))+21 -> 43858 | I70: =7*$B$2+DATE($C$2,1,3)-WEEKDAY(DATE(I67,1,3))+28 -> 43865 | J70: =7*$B$2+DATE($C$2,1,3)-WEEKDAY(DATE(J67,1,3))+35 -> 43872 | K70: =7*$B$2+DATE($C$2,1,3)-WEEKDAY(DATE(K67,1,3))+42 -> 43879 | L70: =7*$B$2+DATE($C$2,1,3)-WEEKDAY(DATE(L67,1,3))+49 -> 43886 | M70: =7*$B$2+DATE($C$2,1,3)-WEEKDAY(DATE(M67,1,3))+56 -> 43893 | N70: =7*$B$2+DATE($C$2,1,3)-WEEKDAY(DATE(N67,1,3))+63 -> 43900 | O70: =7*$B$2+DATE($C$2,1,3)-WEEKDAY(DATE(O67,1,3))+70 -> 43907 | P70: =7*$B$2+DATE($C$2,1,3)-WEEKDAY(DATE(P67,1,3))+77 -> 43914 | Q70: =7*$B$2+DATE($C$2,1,3)-WEEKDAY(DATE(Q67,1,3))+84 -> 43921 | R70: =7*$B$2+DATE($C$2,1,3)-WEEKDAY(DATE(R67,1,3))+91 -> 43928 | S70: =7*$B$2+DATE($C$2,1,3)-WEEKDAY(DATE(S67,1,3))+98 -> 43935 | T70: =7*$B$2+DATE($C$2,1,3)-WEEKDAY(DATE(T67,1,3))+105 -> 43942 | U70: =7*$B$2+DATE($C$2,1,3)-WEEKDAY(DATE(U67,1,3))+112 -> 43949 | V70: =7*$B$2+DATE($C$2,1,3)-WEEKDAY(DATE(V67,1,3))+119 -> 43956 | W70: =7*$B$2+DATE($C$2,1,3)-WEEKDAY(DATE(W67,1,3))+126 -> 43963 | X70: =7*$B$2+DATE($C$2,1,3)-WEEKDAY(DATE(X67,1,3))+133 -> 43970 | Y70: =7*$B$2+DATE($C$2,1,3)-WEEKDAY(DATE(Y67,1,3))+140 -> 43977 | Z70: =7*$B$2+DATE($C$2,1,3)-WEEKDAY(DATE(Z67,1,3))+147 -> 43984 | AA70: =7*$B$2+DATE($C$2,1,3)-WEEKDAY(DATE(AA67,1,3))+154 -> 43991 | AB70: =7*$B$2+DATE($C$2,1,3)-WEEKDAY(DATE(AB67,1,3))+161 -> 43998 | AC70: =7*$B$2+DATE($C$2,1,3)-WEEKDAY(DATE(AC67,1,3))+168 -> 44005 | AD70: =7*$B$2+DATE($C$2,1,3)-WEEKDAY(DATE(AD67,1,3))+175 -> 44012
B72: Début | D72: 0.35416667 | E72: 0.35416667 | F72: 0.35416667 | G72: 0.35416667 | H72: 0.35416667 | I72: 0.35416667 | J72: 0.35416667 | K72: 0.35416667 | L72: 0.35416667 | M72: 0.35416667 | N72: 0.35416667 | O72: 0.35416667 | P72: 0.35416667 | Q72: 0.35416667 | R72: 0.35416667 | S72: 0.35416667 | T72: 0.35416667 | U72: 0.35416667 | V72: 0.35416667 | W72: 0.35416667 | X72: 0.35416667 | Y72: 0.35416667 | Z72: 0.35416667 | AA72: 0.35416667 | AB72: 0.35416667 | AC72: 0.35416667 | AD72: 0.35416667
B73: Fin | D73: 0.54166667 | E73: 0.54166667 | F73: 0.54166667 | G73: 0.54166667 | H73: 0.54166667 | I73: 0.54166667 | J73: 0.54166667 | K73: 0.54166667 | L73: 0.54166667 | M73: 0.54166667 | N73: 0.54166667 | O73: 0.54166667 | P73: 0.54166667 | Q73: 0.54166667 | R73: 0.54166667 | S73: 0.54166667 | T73: 0.54166667 | U73: 0.54166667 | V73: 0.54166667 | W73: 0.54166667 | X73: 0.54166667 | Y73: 0.54166667 | Z73: 0.54166667 | AA73: 0.54166667 | AB73: 0.54166667 | AC73: 0.54166667 | AD73: 0.54166667
B75: Début | D75: 0.58333333 | E75: 0.58333333 | F75: 0.58333333 | G75: 0.58333333 | H75: 0.58333333 | I75: 0.58333333 | J75: 0.58333333 | K75: 0.58333333 | L75: 0.58333333 | M75: 0.58333333 | N75: 0.58333333 | O75: 0.58333333 | P75: 0.58333333 | Q75: 0.58333333 | R75: 0.58333333 | S75: 0.58333333 | T75: 0.58333333 | U75: 0.58333333 | V75: 0.58333333 | W75: 0.58333333 | X75: 0.58333333 | Y75: 0.58333333 | Z75: 0.58333333 | AA75: 0.58333333 | AB75: 0.58333333 | AC75: 0.58333333 | AD75: 0.58333333
B76: Fin | D76: ='permanences mardi'!F3+'heures mardis'!$AK$3 -> 0.70833333 | E76: ='permanences mardi'!F4+'heures mardis'!$AK$3 -> 0.70833333 | F76: ='permanences mardi'!F5+'heures mardis'!$AK$3 -> 0.79166667 | G76: ='permanences mardi'!F6+'heures mardis'!$AK$3 -> 0.70833333 | H76: ='permanences mardi'!F7+'heures mardis'!$AK$3 -> 0.70833333 | I76: ='permanences mardi'!F8+'heures mardis'!$AK$3 -> 0.70833333 | J76: ='permanences mardi'!F9+'heures mardis'!$AK$3 -> 0.70833333 | K76: ='permanences mardi'!F10+'heures mardis'!$AK$3 -> 0.70833333 | L76: ='permanences mardi'!F11+'heures mardis'!$AK$3 -> 0.70833333 | M76: ='permanences mardi'!F12+'heures mardis'!$AK$3 -> 0.70833333 | N76: ='permanences mardi'!F13+'heures mardis'!$AK$3 -> 0.70833333 | O76: ='permanences mardi'!F14+'heures mardis'!$AK$3 -> 0.70833333 | P76: ='permanences mardi'!F15+'heures mardis'!$AK$3 -> 0.70833333 | Q76: ='permanences mardi'!F16+'heures mardis'!$AK$3 -> 0.70833333 | R76: ='permanences mardi'!F17+'heures mardis'!$AK$3 -> 0.70833333 | S76: ='permanences mardi'!F18+'heures mardis'!$AK$3 -> 0.70833333 | T76: ='permanences mardi'!F19+'heures mardis'!$AK$3 -> 0.70833333 | U76: ='permanences mardi'!F20+'heures mardis'!$AK$3 -> 0.70833333 | V76: ='permanences mardi'!F21+'heures mardis'!$AK$3 -> 0.70833333 | W76: ='permanences mardi'!F22+'heures mardis'!$AK$3 -> 0.70833333 | X76: ='permanences mardi'!F23+'heures mardis'!$AK$3 -> 0.70833333 | Y76: ='permanences mardi'!F24+'heures mardis'!$AK$3 -> 0.70833333 | Z76: ='permanences mardi'!F25+'heures mardis'!$AK$3 -> 0.70833333 | AA76: ='permanences mardi'!F26+'heures mardis'!$AK$3 -> 0.70833333 | AB76: ='permanences mardi'!F27+'heures mardis'!$AK$3 -> 0.70833333 | AC76: ='permanences mardi'!F28+'heures mardis'!$AK$3 -> 0.70833333 | AD76: ='permanences mardi'!F29+'heures mardis'!$AK$3 -> 0.70833333
B78: Heures | D78: =D73-D72+D76-D75 -> 0.3125 | E78: =E73-E72+E76-E75 -> 0.3125 | F78: =F73-F72+F76-F75 -> 0.39583333 | G78: =G73-G72+G76-G75 -> 0.3125 | H78: =H73-H72+H76-H75 -> 0.3125 | I78: =I73-I72+I76-I75 -> 0.3125 | J78: =J73-J72+J76-J75 -> 0.3125 | K78: =K73-K72+K76-K75 -> 0.3125 | ... AD78: =AD73-AD72+AD76-AD75 -> 0.3125
...

Sheet permanences mardi
C1: total mardi
C2: BG | D2: FM | E2: LC | F2: VG
B3: 43830 | C3: 0.041666667 | E3: 0.041666667
B4: 43837 | D4: 0.083333333 | E4: 0.083333333
B5: 43844 | C5: 0.083333333 | F5: 0.083333333
B6: 43851
B7: 43858
B8: 43865
B9: 43872
B10: 43879
B11: 43886
B12: 43893
B13: 43900
B14: 43907
B15: 43914
B16: 43921
B17: 43928
... B29: 44012
C30: =SUM(C3:C29) -> 0.125 | D30: =SUM(D3:D29) -> 0.083333333 | E30: =SUM(E3:E29) -> 0.125 | F30: =SUM(F3:F29) -> 0.083333333
