Workbook

Sheet FEUIL1 &FEUIL 2
B3: FEUIL 1 | F3: FEUIL 2
A4: Numero | B4: Nom | C4: Montant | E4: Numero | F4: Nom | G4: Montant
A5: 100 | B5: ALFRED | C5: 10000 | E5: 100 | F5: ALFRED | G5: 10000 | L5: =IF(A5="","",IF(AND(A5=E5,B5=F5),A5,"")) -> 100 | M5: =IF(A5="","",IF(AND(A5=E5,B5<>F5),A5,"")) | N5: =IF(A5="","",IF(AND(A5<>E5,B5=F5),A5,""))
A6: 131 | B6: JACQUE | C6: 10000 | E6: 131 | F6: JACQUE | G6: 10000 | L6: =IF(A6="","",IF(AND(A6=E6,B6=F6),A6,"")) -> 131 | M6: =IF(A6="","",IF(AND(A6=E6,B6<>F6),A6,"")) | N6: =IF(A6="","",IF(AND(A6<>E6,B6=F6),A6,""))
A7: 101 | B7: JEAN | C7: 10000 | E7: 142 | F7: JEAN | G7: 10000 | L7: =IF(A7="","",IF(AND(A7=E7,B7=F7),A7,"")) | M7: =IF(A7="","",IF(AND(A7=E7,B7<>F7),A7,"")) | N7: =IF(A7="","",IF(AND(A7<>E7,B7=F7),A7,"")) -> 101
A8: 111 | B8: EUDE | C8: 10000 | E8: 145 | F8: EUDE | G8: 10000 | L8: =IF(A8="","",IF(AND(A8=E8,B8=F8),A8,"")) | M8: =IF(A8="","",IF(AND(A8=E8,B8<>F8),A8,"")) | N8: =IF(A8="","",IF(AND(A8<>E8,B8=F8),A8,"")) -> 111
A9: 150 | B9: AMI | C9: 10000 | E9: 150 | F9: BERGER | G9: 10000 | L9: =IF(A9="","",IF(AND(A9=E9,B9=F9),A9,"")) | M9: =IF(A9="","",IF(AND(A9=E9,B9<>F9),A9,"")) -> 150 | N9: =IF(A9="","",IF(AND(A9<>E9,B9=F9),A9,""))
A10: 168 | B10: NIASSE | C10: 10000 | E10: 168 | F10: ROLAND | G10: 10000 | L10: =IF(A10="","",IF(AND(A10=E10,B10=F10),A10,"")) | M10: =IF(A10="","",IF(AND(A10=E10,B10<>F10),A10,"")) -> 168 | N10: =IF(A10="","",IF(AND(A10<>E10,B10=F10),A10,""))
L11: =IF(A11="","",IF(AND(A11=E11,B11=F11),A11,"")) | M11: =IF(A11="","",IF(AND(A11=E11,B11<>F11),A11,"")) | N11: =IF(A11="","",IF(AND(A11<>E11,B11=F11),A11,""))
L12: =IF(A12="","",IF(AND(A12=E12,B12=F12),A12,"")) | M12: =IF(A12="","",IF(AND(A12=E12,B12<>F12),A12,"")) | N12: =IF(A12="","",IF(AND(A12<>E12,B12=F12),A12,""))
L13: =IF(A13="","",IF(AND(A13=E13,B13=F13),A13,"")) | M13: =IF(A13="","",IF(AND(A13=E13,B13<>F13),A13,"")) | N13: =IF(A13="","",IF(AND(A13<>E13,B13=F13),A13,""))
L14: =IF(A14="","",IF(AND(A14=E14,B14=F14),A14,"")) | M14: =IF(A14="","",IF(AND(A14=E14,B14<>F14),A14,"")) | N14: =IF(A14="","",IF(AND(A14<>E14,B14=F14),A14,""))
L15: =IF(A15="","",IF(AND(A15=E15,B15=F15),A15,"")) | M15: =IF(A15="","",IF(AND(A15=E15,B15<>F15),A15,"")) | N15: =IF(A15="","",IF(AND(A15<>E15,B15=F15),A15,""))
L16: =IF(A16="","",IF(AND(A16=E16,B16=F16),A16,"")) | M16: =IF(A16="","",IF(AND(A16=E16,B16<>F16),A16,"")) | N16: =IF(A16="","",IF(AND(A16<>E16,B16=F16),A16,""))
L17: =IF(A17="","",IF(AND(A17=E17,B17=F17),A17,"")) | M17: =IF(A17="","",IF(AND(A17=E17,B17<>F17),A17,"")) | N17: =IF(A17="","",IF(AND(A17<>E17,B17=F17),A17,""))
L18: =IF(A18="","",IF(AND(A18=E18,B18=F18),A18,"")) | M18: =IF(A18="","",IF(AND(A18=E18,B18<>F18),A18,"")) | N18: =IF(A18="","",IF(AND(A18<>E18,B18=F18),A18,""))
L19: =IF(A19="","",IF(AND(A19=E19,B19=F19),A19,"")) | M19: =IF(A19="","",IF(AND(A19=E19,B19<>F19),A19,"")) | N19: =IF(A19="","",IF(AND(A19<>E19,B19=F19),A19,""))
L20: =IF(A20="","",IF(AND(A20=E20,B20=F20),A20,"")) | M20: =IF(A20="","",IF(AND(A20=E20,B20<>F20),A20,"")) | N20: =IF(A20="","",IF(AND(A20<>E20,B20=F20),A20,""))

Sheet les ligne totalement identiques
B2: FEUIL 1 | F2: FEUIL 2
A3: Numero | B3: Nom | C3: Montant | E3: Numero | F3: Nom | G3: Montant
A4: {=IFERROR(IF(ROW(A1)>COUNTA('FEUIL1 &FEUIL 2'!L:L),"",INDEX('FEUIL1 &FEUIL 2'!L:L,SMALL(IF('FEUIL1 &FEUIL 2'!L$1:L$1000<>"",ROW($1:$1000)),ROW(A1)))),"")} -> 100 | B4: =IFERROR(VLOOKUP(A4,'FEUIL1 &FEUIL 2'!A5:C20,2,0),"") -> ALFRED | C4: =IFERROR(VLOOKUP(A4,'FEUIL1 &FEUIL 2'!A5:C20,3,0),"") -> 10000 | E4: =A4 -> 100 | F4: =B4 -> ALFRED | G4: =C4 -> 10000
A5: {=IFERROR(IF(ROW(A2)>COUNTA('FEUIL1 &FEUIL 2'!L:L),"",INDEX('FEUIL1 &FEUIL 2'!L:L,SMALL(IF('FEUIL1 &FEUIL 2'!L$1:L$1000<>"",ROW($1:$1000)),ROW(A2)))),"")} -> 131 | B5: =IFERROR(VLOOKUP(A5,'FEUIL1 &FEUIL 2'!A6:C21,2,0),"") -> JACQUE | C5: =IFERROR(VLOOKUP(A5,'FEUIL1 &FEUIL 2'!A6:C21,3,0),"") -> 10000 | E5: =A5 -> 131 | F5: =B5 -> JACQUE | G5: =C5 -> 10000
A6: {=IFERROR(IF(ROW(A3)>COUNTA('FEUIL1 &FEUIL 2'!L:L),"",INDEX('FEUIL1 &FEUIL 2'!L:L,SMALL(IF('FEUIL1 &FEUIL 2'!L$1:L$1000<>"",ROW($1:$1000)),ROW(A3)))),"")} | B6: =IFERROR(VLOOKUP(A6,'FEUIL1 &FEUIL 2'!A7:C22,2,0),"") | C6: =IFERROR(VLOOKUP(A6,'FEUIL1 &FEUIL 2'!A7:C22,3,0),"") | E6: =A6 | F6: =B6 | G6: =C6
A7: {=IFERROR(IF(ROW(A4)>COUNTA('FEUIL1 &FEUIL 2'!L:L),"",INDEX('FEUIL1 &FEUIL 2'!L:L,SMALL(IF('FEUIL1 &FEUIL 2'!L$1:L$1000<>"",ROW($1:$1000)),ROW(A4)))),"")} | B7: =IFERROR(VLOOKUP(A7,'FEUIL1 &FEUIL 2'!A8:C23,2,0),"") | C7: =IFERROR(VLOOKUP(A7,'FEUIL1 &FEUIL 2'!A8:C23,3,0),"") | E7: =A7 | F7: =B7 | G7: =C7
A8: {=IFERROR(IF(ROW(A5)>COUNTA('FEUIL1 &FEUIL 2'!L:L),"",INDEX('FEUIL1 &FEUIL 2'!L:L,SMALL(IF('FEUIL1 &FEUIL 2'!L$1:L$1000<>"",ROW($1:$1000)),ROW(A5)))),"")} | B8: =IFERROR(VLOOKUP(A8,'FEUIL1 &FEUIL 2'!A9:C24,2,0),"") | C8: =IFERROR(VLOOKUP(A8,'FEUIL1 &FEUIL 2'!A9:C24,3,0),"") | E8: =A8 | F8: =B8 | G8: =C8
A9: {=IFERROR(IF(ROW(A6)>COUNTA('FEUIL1 &FEUIL 2'!L:L),"",INDEX('FEUIL1 &FEUIL 2'!L:L,SMALL(IF('FEUIL1 &FEUIL 2'!L$1:L$1000<>"",ROW($1:$1000)),ROW(A6)))),"")} | B9: =IFERROR(VLOOKUP(A9,'FEUIL1 &FEUIL 2'!A10:C25,2,0),"") | C9: =IFERROR(VLOOKUP(A9,'FEUIL1 &FEUIL 2'!A10:C25,3,0),"") | E9: =A9 | F9: =B9 | G9: =C9
A10: {=IFERROR(IF(ROW(A7)>COUNTA('FEUIL1 &FEUIL 2'!L:L),"",INDEX('FEUIL1 &FEUIL 2'!L:L,SMALL(IF('FEUIL1 &FEUIL 2'!L$1:L$1000<>"",ROW($1:$1000)),ROW(A7)))),"")} | B10: =IFERROR(VLOOKUP(A10,'FEUIL1 &FEUIL 2'!A11:C26,2,0),"") | C10: =IFERROR(VLOOKUP(A10,'FEUIL1 &FEUIL 2'!A11:C26,3,0),"") | E10: =A10 | F10: =B10 | G10: =C10
A11: {=IFERROR(IF(ROW(A8)>COUNTA('FEUIL1 &FEUIL 2'!L:L),"",INDEX('FEUIL1 &FEUIL 2'!L:L,SMALL(IF('FEUIL1 &FEUIL 2'!L$1:L$1000<>"",ROW($1:$1000)),ROW(A8)))),"")} | B11: =IFERROR(VLOOKUP(A11,'FEUIL1 &FEUIL 2'!A12:C27,2,0),"") | C11: =IFERROR(VLOOKUP(A11,'FEUIL1 &FEUIL 2'!A12:C27,3,0),"") | E11: =A11 | F11: =B11 | G11: =C11
A12: {=IFERROR(IF(ROW(A9)>COUNTA('FEUIL1 &FEUIL 2'!L:L),"",INDEX('FEUIL1 &FEUIL 2'!L:L,SMALL(IF('FEUIL1 &FEUIL 2'!L$1:L$1000<>"",ROW($1:$1000)),ROW(A9)))),"")} | B12: =IFERROR(VLOOKUP(A12,'FEUIL1 &FEUIL 2'!A13:C28,2,0),"") | C12: =IFERROR(VLOOKUP(A12,'FEUIL1 &FEUIL 2'!A13:C28,3,0),"") | E12: =A12 | F12: =B12 | G12: =C12
A13: {=IFERROR(IF(ROW(A10)>COUNTA('FEUIL1 &FEUIL 2'!L:L),"",INDEX('FEUIL1 &FEUIL 2'!L:L,SMALL(IF('FEUIL1 &FEUIL 2'!L$1:L$1000<>"",ROW($1:$1000)),ROW(A10)))),"")} | B13: =IFERROR(VLOOKUP(A13,'FEUIL1 &FEUIL 2'!A14:C29,2,0),"") | C13: =IFERROR(VLOOKUP(A13,'FEUIL1 &FEUIL 2'!A14:C29,3,0),"") | E13: =A13 | F13: =B13 | G13: =C13
A14: {=IFERROR(IF(ROW(A11)>COUNTA('FEUIL1 &FEUIL 2'!L:L),"",INDEX('FEUIL1 &FEUIL 2'!L:L,SMALL(IF('FEUIL1 &FEUIL 2'!L$1:L$1000<>"",ROW($1:$1000)),ROW(A11)))),"")} | B14: =IFERROR(VLOOKUP(A14,'FEUIL1 &FEUIL 2'!A15:C30,2,0),"") | C14: =IFERROR(VLOOKUP(A14,'FEUIL1 &FEUIL 2'!A15:C30,3,0),"") | E14: =A14 | F14: =B14 | G14: =C14
A15: {=IFERROR(IF(ROW(A12)>COUNTA('FEUIL1 &FEUIL 2'!L:L),"",INDEX('FEUIL1 &FEUIL 2'!L:L,SMALL(IF('FEUIL1 &FEUIL 2'!L$1:L$1000<>"",ROW($1:$1000)),ROW(A12)))),"")} | B15: =IFERROR(VLOOKUP(A15,'FEUIL1 &FEUIL 2'!A16:C31,2,0),"") | C15: =IFERROR(VLOOKUP(A15,'FEUIL1 &FEUIL 2'!A16:C31,3,0),"") | E15: =A15 | F15: =B15 | G15: =C15

Sheet Que Les Noms sont identique
B2: FEUIL 1 | F2: FEUIL 2
A3: Numero | B3: Nom | C3: Montant | E3: Numero | F3: Nom | G3: Montant
A4: {=IFERROR(IF(ROW(A1)>COUNTA('FEUIL1 &FEUIL 2'!N:N),"",INDEX('FEUIL1 &FEUIL 2'!N:N,SMALL(IF('FEUIL1 &FEUIL 2'!N$1:N$1000<>"",ROW($1:$1000)),ROW(A1)))),"")} -> 101 | B4: =IFERROR(VLOOKUP(A4,'FEUIL1 &FEUIL 2'!A5:C20,2,0),"") -> JEAN | C4: =IFERROR(VLOOKUP(A4,'FEUIL1 &FEUIL 2'!A5:C20,3,0),"") -> 10000 | E4: =IFERROR(INDEX('FEUIL1 &FEUIL 2'!E:E,MATCH(F4,'FEUIL1 &FEUIL 2'!F:F,0)),"") -> 142 | F4: =B4 -> JEAN | G4: =IFERROR(VLOOKUP(F4,'FEUIL1 &FEUIL 2'!F5:G20,2,0),"") -> 10000
A5: {=IFERROR(IF(ROW(A2)>COUNTA('FEUIL1 &FEUIL 2'!N:N),"",INDEX('FEUIL1 &FEUIL 2'!N:N,SMALL(IF('FEUIL1 &FEUIL 2'!N$1:N$1000<>"",ROW($1:$1000)),ROW(A2)))),"")} -> 111 | B5: =IFERROR(VLOOKUP(A5,'FEUIL1 &FEUIL 2'!A6:C21,2,0),"") -> EUDE | C5: =IFERROR(VLOOKUP(A5,'FEUIL1 &FEUIL 2'!A6:C21,3,0),"") -> 10000 | E5: =IFERROR(INDEX('FEUIL1 &FEUIL 2'!E:E,MATCH(F5,'FEUIL1 &FEUIL 2'!F:F,0)),"") -> 145 | F5: =B5 -> EUDE | G5: =IFERROR(VLOOKUP(F5,'FEUIL1 &FEUIL 2'!F6:G21,2,0),"") -> 10000
A6: {=IFERROR(IF(ROW(A3)>COUNTA('FEUIL1 &FEUIL 2'!N:N),"",INDEX('FEUIL1 &FEUIL 2'!N:N,SMALL(IF('FEUIL1 &FEUIL 2'!N$1:N$1000<>"",ROW($1:$1000)),ROW(A3)))),"")} | B6: =IFERROR(VLOOKUP(A6,'FEUIL1 &FEUIL 2'!A7:C22,2,0),"") | C6: =IFERROR(VLOOKUP(A6,'FEUIL1 &FEUIL 2'!A7:C22,3,0),"") | E6: =IFERROR(INDEX('FEUIL1 &FEUIL 2'!E:E,MATCH(F6,'FEUIL1 &FEUIL 2'!F:F,0)),"") | F6: =B6 | G6: =IFERROR(VLOOKUP(F6,'FEUIL1 &FEUIL 2'!F7:G22,2,0),"")
A7: {=IFERROR(IF(ROW(A4)>COUNTA('FEUIL1 &FEUIL 2'!N:N),"",INDEX('FEUIL1 &FEUIL 2'!N:N,SMALL(IF('FEUIL1 &FEUIL 2'!N$1:N$1000<>"",ROW($1:$1000)),ROW(A4)))),"")} | B7: =IFERROR(VLOOKUP(A7,'FEUIL1 &FEUIL 2'!A8:C23,2,0),"") | C7: =IFERROR(VLOOKUP(A7,'FEUIL1 &FEUIL 2'!A8:C23,3,0),"") | E7: =IFERROR(INDEX('FEUIL1 &FEUIL 2'!E:E,MATCH(F7,'FEUIL1 &FEUIL 2'!F:F,0)),"") | F7: =B7 | G7: =IFERROR(VLOOKUP(F7,'FEUIL1 &FEUIL 2'!F8:G23,2,0),"")
A8: {=IFERROR(IF(ROW(A5)>COUNTA('FEUIL1 &FEUIL 2'!N:N),"",INDEX('FEUIL1 &FEUIL 2'!N:N,SMALL(IF('FEUIL1 &FEUIL 2'!N$1:N$1000<>"",ROW($1:$1000)),ROW(A5)))),"")} | B8: =IFERROR(VLOOKUP(A8,'FEUIL1 &FEUIL 2'!A9:C24,2,0),"") | C8: =IFERROR(VLOOKUP(A8,'FEUIL1 &FEUIL 2'!A9:C24,3,0),"") | E8: =IFERROR(INDEX('FEUIL1 &FEUIL 2'!E:E,MATCH(F8,'FEUIL1 &FEUIL 2'!F:F,0)),"") | F8: =B8 | G8: =IFERROR(VLOOKUP(F8,'FEUIL1 &FEUIL 2'!F9:G24,2,0),"")
A9: {=IFERROR(IF(ROW(A6)>COUNTA('FEUIL1 &FEUIL 2'!N:N),"",INDEX('FEUIL1 &FEUIL 2'!N:N,SMALL(IF('FEUIL1 &FEUIL 2'!N$1:N$1000<>"",ROW($1:$1000)),ROW(A6)))),"")} | B9: =IFERROR(VLOOKUP(A9,'FEUIL1 &FEUIL 2'!A10:C25,2,0),"") | C9: =IFERROR(VLOOKUP(A9,'FEUIL1 &FEUIL 2'!A10:C25,3,0),"") | E9: =IFERROR(INDEX('FEUIL1 &FEUIL 2'!E:E,MATCH(F9,'FEUIL1 &FEUIL 2'!F:F,0)),"") | F9: =B9 | G9: =IFERROR(VLOOKUP(F9,'FEUIL1 &FEUIL 2'!F10:G25,2,0),"")
A10: {=IFERROR(IF(ROW(A7)>COUNTA('FEUIL1 &FEUIL 2'!N:N),"",INDEX('FEUIL1 &FEUIL 2'!N:N,SMALL(IF('FEUIL1 &FEUIL 2'!N$1:N$1000<>"",ROW($1:$1000)),ROW(A7)))),"")} | B10: =IFERROR(VLOOKUP(A10,'FEUIL1 &FEUIL 2'!A11:C26,2,0),"") | C10: =IFERROR(VLOOKUP(A10,'FEUIL1 &FEUIL 2'!A11:C26,3,0),"") | E10: =IFERROR(INDEX('FEUIL1 &FEUIL 2'!E:E,MATCH(F10,'FEUIL1 &FEUIL 2'!F:F,0)),"") | F10: =B10 | G10: =IFERROR(VLOOKUP(F10,'FEUIL1 &FEUIL 2'!F11:G26,2,0),"")
A11: {=IFERROR(IF(ROW(A8)>COUNTA('FEUIL1 &FEUIL 2'!N:N),"",INDEX('FEUIL1 &FEUIL 2'!N:N,SMALL(IF('FEUIL1 &FEUIL 2'!N$1:N$1000<>"",ROW($1:$1000)),ROW(A8)))),"")} | B11: =IFERROR(VLOOKUP(A11,'FEUIL1 &FEUIL 2'!A12:C27,2,0),"") | C11: =IFERROR(VLOOKUP(A11,'FEUIL1 &FEUIL 2'!A12:C27,3,0),"") | E11: =IFERROR(INDEX('FEUIL1 &FEUIL 2'!E:E,MATCH(F11,'FEUIL1 &FEUIL 2'!F:F,0)),"") | F11: =B11 | G11: =IFERROR(VLOOKUP(F11,'FEUIL1 &FEUIL 2'!F12:G27,2,0),"")
A12: {=IFERROR(IF(ROW(A9)>COUNTA('FEUIL1 &FEUIL 2'!N:N),"",INDEX('FEUIL1 &FEUIL 2'!N:N,SMALL(IF('FEUIL1 &FEUIL 2'!N$1:N$1000<>"",ROW($1:$1000)),ROW(A9)))),"")} | B12: =IFERROR(VLOOKUP(A12,'FEUIL1 &FEUIL 2'!A13:C28,2,0),"") | C12: =IFERROR(VLOOKUP(A12,'FEUIL1 &FEUIL 2'!A13:C28,3,0),"") | E12: =IFERROR(INDEX('FEUIL1 &FEUIL 2'!E:E,MATCH(F12,'FEUIL1 &FEUIL 2'!F:F,0)),"") | F12: =B12 | G12: =IFERROR(VLOOKUP(F12,'FEUIL1 &FEUIL 2'!F13:G28,2,0),"")
A13: {=IFERROR(IF(ROW(A10)>COUNTA('FEUIL1 &FEUIL 2'!N:N),"",INDEX('FEUIL1 &FEUIL 2'!N:N,SMALL(IF('FEUIL1 &FEUIL 2'!N$1:N$1000<>"",ROW($1:$1000)),ROW(A10)))),"")} | B13: =IFERROR(VLOOKUP(A13,'FEUIL1 &FEUIL 2'!A14:C29,2,0),"") | C13: =IFERROR(VLOOKUP(A13,'FEUIL1 &FEUIL 2'!A14:C29,3,0),"") | E13: =IFERROR(INDEX('FEUIL1 &FEUIL 2'!E:E,MATCH(F13,'FEUIL1 &FEUIL 2'!F:F,0)),"") | F13: =B13 | G13: =IFERROR(VLOOKUP(F13,'FEUIL1 &FEUIL 2'!F14:G29,2,0),"")
A14: {=IFERROR(IF(ROW(A11)>COUNTA('FEUIL1 &FEUIL 2'!N:N),"",INDEX('FEUIL1 &FEUIL 2'!N:N,SMALL(IF('FEUIL1 &FEUIL 2'!N$1:N$1000<>"",ROW($1:$1000)),ROW(A11)))),"")} | B14: =IFERROR(VLOOKUP(A14,'FEUIL1 &FEUIL 2'!A15:C30,2,0),"") | C14: =IFERROR(VLOOKUP(A14,'FEUIL1 &FEUIL 2'!A15:C30,3,0),"") | E14: =IFERROR(INDEX('FEUIL1 &FEUIL 2'!E:E,MATCH(F14,'FEUIL1 &FEUIL 2'!F:F,0)),"") | F14: =B14 | G14: =IFERROR(VLOOKUP(F14,'FEUIL1 &FEUIL 2'!F15:G30,2,0),"")
A15: {=IFERROR(IF(ROW(A12)>COUNTA('FEUIL1 &FEUIL 2'!N:N),"",INDEX('FEUIL1 &FEUIL 2'!N:N,SMALL(IF('FEUIL1 &FEUIL 2'!N$1:N$1000<>"",ROW($1:$1000)),ROW(A12)))),"")} | B15: =IFERROR(VLOOKUP(A15,'FEUIL1 &FEUIL 2'!A16:C31,2,0),"") | C15: =IFERROR(VLOOKUP(A15,'FEUIL1 &FEUIL 2'!A16:C31,3,0),"") | E15: =IFERROR(INDEX('FEUIL1 &FEUIL 2'!E:E,MATCH(F15,'FEUIL1 &FEUIL 2'!F:F,0)),"") | F15: =B15 | G15: =IFERROR(VLOOKUP(F15,'FEUIL1 &FEUIL 2'!F16:G31,2,0),"")
... A18: {=IFERROR(IF(ROW(A15)>COUNTA('FEUIL1 &FEUIL 2'!N:N),"",INDEX('FEUIL1 &FEUIL 2'!N:N,SMALL(IF('FEUIL1 &FEUIL 2'!N$1:N$1000<>"",ROW($1:$1000)),ROW(A15)))),"")} | B18: =IFERROR(VLOOKUP(A18,'FEUIL1 &FEUIL 2'!A19:C34,2,0),"") | C18: =IFERROR(VLOOKUP(A18,'FEUIL1 &FEUIL 2'!A19:C34,3,0),"") | E18: =IFERROR(INDEX('FEUIL1 &FEUIL 2'!E:E,MATCH(F18,'FEUIL1 &FEUIL 2'!F:F,0)),"") | F18: =B18 | G18: =IFERROR(VLOOKUP(F18,'FEUIL1 &FEUIL 2'!F19:G34,2,0),"")

Sheet Que les numéro sont identique
B2: FEUIL 1 | F2: FEUIL 2
A3: Numero | B3: Nom | C3: Montant | E3: Numero | F3: Nom | G3: Montant
A4: {=IFERROR(IF(ROW(A1)>COUNTA('FEUIL1 &FEUIL 2'!M:M),"",INDEX('FEUIL1 &FEUIL 2'!M:M,SMALL(IF('FEUIL1 &FEUIL 2'!M$1:M$1000<>"",ROW($1:$1000)),ROW(A1)))),"")} -> 150 | B4: =IFERROR(VLOOKUP(A4,'FEUIL1 &FEUIL 2'!A5:C20,2,0),"") -> AMI | C4: =IFERROR(VLOOKUP(A4,'FEUIL1 &FEUIL 2'!A5:C20,3,0),"") -> 10000 | E4: =A4 -> 150 | F4: =IFERROR(VLOOKUP(A4,'FEUIL1 &FEUIL 2'!E5:G20,2,0),"") -> BERGER | G4: =IFERROR(VLOOKUP(A4,'FEUIL1 &FEUIL 2'!E5:G20,3,0),"") -> 10000
A5: {=IFERROR(IF(ROW(A2)>COUNTA('FEUIL1 &FEUIL 2'!M:M),"",INDEX('FEUIL1 &FEUIL 2'!M:M,SMALL(IF('FEUIL1 &FEUIL 2'!M$1:M$1000<>"",ROW($1:$1000)),ROW(A2)))),"")} -> 168 | B5: =IFERROR(VLOOKUP(A5,'FEUIL1 &FEUIL 2'!A6:C21,2,0),"") -> NIASSE | C5: =IFERROR(VLOOKUP(A5,'FEUIL1 &FEUIL 2'!A6:C21,3,0),"") -> 10000 | E5: =A5 -> 168 | F5: =IFERROR(VLOOKUP(A5,'FEUIL1 &FEUIL 2'!E6:G21,2,0),"") -> ROLAND | G5: =IFERROR(VLOOKUP(A5,'FEUIL1 &FEUIL 2'!E6:G21,3,0),"") -> 10000
A6: {=IFERROR(IF(ROW(A3)>COUNTA('FEUIL1 &FEUIL 2'!M:M),"",INDEX('FEUIL1 &FEUIL 2'!M:M,SMALL(IF('FEUIL1 &FEUIL 2'!M$1:M$1000<>"",ROW($1:$1000)),ROW(A3)))),"")} | B6: =IFERROR(VLOOKUP(A6,'FEUIL1 &FEUIL 2'!A7:C22,2,0),"") | C6: =IFERROR(VLOOKUP(A6,'FEUIL1 &FEUIL 2'!A7:C22,3,0),"") | E6: =A6 | F6: =IFERROR(VLOOKUP(A6,'FEUIL1 &FEUIL 2'!E7:G22,2,0),"") | G6: =IFERROR(VLOOKUP(A6,'FEUIL1 &FEUIL 2'!E7:G22,3,0),"")
A7: {=IFERROR(IF(ROW(A4)>COUNTA('FEUIL1 &FEUIL 2'!M:M),"",INDEX('FEUIL1 &FEUIL 2'!M:M,SMALL(IF('FEUIL1 &FEUIL 2'!M$1:M$1000<>"",ROW($1:$1000)),ROW(A4)))),"")} | B7: =IFERROR(VLOOKUP(A7,'FEUIL1 &FEUIL 2'!A8:C23,2,0),"") | C7: =IFERROR(VLOOKUP(A7,'FEUIL1 &FEUIL 2'!A8:C23,3,0),"") | E7: =A7 | F7: =IFERROR(VLOOKUP(A7,'FEUIL1 &FEUIL 2'!E8:G23,2,0),"") | G7: =IFERROR(VLOOKUP(A7,'FEUIL1 &FEUIL 2'!E8:G23,3,0),"")
A8: {=IFERROR(IF(ROW(A5)>COUNTA('FEUIL1 &FEUIL 2'!M:M),"",INDEX('FEUIL1 &FEUIL 2'!M:M,SMALL(IF('FEUIL1 &FEUIL 2'!M$1:M$1000<>"",ROW($1:$1000)),ROW(A5)))),"")} | B8: =IFERROR(VLOOKUP(A8,'FEUIL1 &FEUIL 2'!A9:C24,2,0),"") | C8: =IFERROR(VLOOKUP(A8,'FEUIL1 &FEUIL 2'!A9:C24,3,0),"") | E8: =A8 | F8: =IFERROR(VLOOKUP(A8,'FEUIL1 &FEUIL 2'!E9:G24,2,0),"") | G8: =IFERROR(VLOOKUP(A8,'FEUIL1 &FEUIL 2'!E9:G24,3,0),"")
A9: {=IFERROR(IF(ROW(A6)>COUNTA('FEUIL1 &FEUIL 2'!M:M),"",INDEX('FEUIL1 &FEUIL 2'!M:M,SMALL(IF('FEUIL1 &FEUIL 2'!M$1:M$1000<>"",ROW($1:$1000)),ROW(A6)))),"")} | B9: =IFERROR(VLOOKUP(A9,'FEUIL1 &FEUIL 2'!A10:C25,2,0),"") | C9: =IFERROR(VLOOKUP(A9,'FEUIL1 &FEUIL 2'!A10:C25,3,0),"") | E9: =A9 | F9: =IFERROR(VLOOKUP(A9,'FEUIL1 &FEUIL 2'!E10:G25,2,0),"") | G9: =IFERROR(VLOOKUP(A9,'FEUIL1 &FEUIL 2'!E10:G25,3,0),"")
A10: {=IFERROR(IF(ROW(A7)>COUNTA('FEUIL1 &FEUIL 2'!M:M),"",INDEX('FEUIL1 &FEUIL 2'!M:M,SMALL(IF('FEUIL1 &FEUIL 2'!M$1:M$1000<>"",ROW($1:$1000)),ROW(A7)))),"")} | B10: =IFERROR(VLOOKUP(A10,'FEUIL1 &FEUIL 2'!A11:C26,2,0),"") | C10: =IFERROR(VLOOKUP(A10,'FEUIL1 &FEUIL 2'!A11:C26,3,0),"") | E10: =A10 | F10: =IFERROR(VLOOKUP(A10,'FEUIL1 &FEUIL 2'!E11:G26,2,0),"") | G10: =IFERROR(VLOOKUP(A10,'FEUIL1 &FEUIL 2'!E11:G26,3,0),"")
A11: {=IFERROR(IF(ROW(A8)>COUNTA('FEUIL1 &FEUIL 2'!M:M),"",INDEX('FEUIL1 &FEUIL 2'!M:M,SMALL(IF('FEUIL1 &FEUIL 2'!M$1:M$1000<>"",ROW($1:$1000)),ROW(A8)))),"")} | B11: =IFERROR(VLOOKUP(A11,'FEUIL1 &FEUIL 2'!A12:C27,2,0),"") | C11: =IFERROR(VLOOKUP(A11,'FEUIL1 &FEUIL 2'!A12:C27,3,0),"") | E11: =A11 | F11: =IFERROR(VLOOKUP(A11,'FEUIL1 &FEUIL 2'!E12:G27,2,0),"") | G11: =IFERROR(VLOOKUP(A11,'FEUIL1 &FEUIL 2'!E12:G27,3,0),"")
A12: {=IFERROR(IF(ROW(A9)>COUNTA('FEUIL1 &FEUIL 2'!M:M),"",INDEX('FEUIL1 &FEUIL 2'!M:M,SMALL(IF('FEUIL1 &FEUIL 2'!M$1:M$1000<>"",ROW($1:$1000)),ROW(A9)))),"")} | B12: =IFERROR(VLOOKUP(A12,'FEUIL1 &FEUIL 2'!A13:C28,2,0),"") | C12: =IFERROR(VLOOKUP(A12,'FEUIL1 &FEUIL 2'!A13:C28,3,0),"") | E12: =A12 | F12: =IFERROR(VLOOKUP(A12,'FEUIL1 &FEUIL 2'!E13:G28,2,0),"") | G12: =IFERROR(VLOOKUP(A12,'FEUIL1 &FEUIL 2'!E13:G28,3,0),"")
A13: {=IFERROR(IF(ROW(A10)>COUNTA('FEUIL1 &FEUIL 2'!M:M),"",INDEX('FEUIL1 &FEUIL 2'!M:M,SMALL(IF('FEUIL1 &FEUIL 2'!M$1:M$1000<>"",ROW($1:$1000)),ROW(A10)))),"")} | B13: =IFERROR(VLOOKUP(A13,'FEUIL1 &FEUIL 2'!A14:C29,2,0),"") | C13: =IFERROR(VLOOKUP(A13,'FEUIL1 &FEUIL 2'!A14:C29,3,0),"") | E13: =A13 | F13: =IFERROR(VLOOKUP(A13,'FEUIL1 &FEUIL 2'!E14:G29,2,0),"") | G13: =IFERROR(VLOOKUP(A13,'FEUIL1 &FEUIL 2'!E14:G29,3,0),"")
A14: {=IFERROR(IF(ROW(A11)>COUNTA('FEUIL1 &FEUIL 2'!M:M),"",INDEX('FEUIL1 &FEUIL 2'!M:M,SMALL(IF('FEUIL1 &FEUIL 2'!M$1:M$1000<>"",ROW($1:$1000)),ROW(A11)))),"")} | B14: =IFERROR(VLOOKUP(A14,'FEUIL1 &FEUIL 2'!A15:C30,2,0),"") | C14: =IFERROR(VLOOKUP(A14,'FEUIL1 &FEUIL 2'!A15:C30,3,0),"") | E14: =A14 | F14: =IFERROR(VLOOKUP(A14,'FEUIL1 &FEUIL 2'!E15:G30,2,0),"") | G14: =IFERROR(VLOOKUP(A14,'FEUIL1 &FEUIL 2'!E15:G30,3,0),"")
A15: {=IFERROR(IF(ROW(A12)>COUNTA('FEUIL1 &FEUIL 2'!M:M),"",INDEX('FEUIL1 &FEUIL 2'!M:M,SMALL(IF('FEUIL1 &FEUIL 2'!M$1:M$1000<>"",ROW($1:$1000)),ROW(A12)))),"")} | B15: =IFERROR(VLOOKUP(A15,'FEUIL1 &FEUIL 2'!A16:C31,2,0),"") | C15: =IFERROR(VLOOKUP(A15,'FEUIL1 &FEUIL 2'!A16:C31,3,0),"") | E15: =A15 | F15: =IFERROR(VLOOKUP(A15,'FEUIL1 &FEUIL 2'!E16:G31,2,0),"") | G15: =IFERROR(VLOOKUP(A15,'FEUIL1 &FEUIL 2'!E16:G31,3,0),"")
... A18: {=IFERROR(IF(ROW(A15)>COUNTA('FEUIL1 &FEUIL 2'!M:M),"",INDEX('FEUIL1 &FEUIL 2'!M:M,SMALL(IF('FEUIL1 &FEUIL 2'!M$1:M$1000<>"",ROW($1:$1000)),ROW(A15)))),"")} | B18: =IFERROR(VLOOKUP(A18,'FEUIL1 &FEUIL 2'!A19:C34,2,0),"") | C18: =IFERROR(VLOOKUP(A18,'FEUIL1 &FEUIL 2'!A19:C34,3,0),"") | E18: =A18 | F18: =IFERROR(VLOOKUP(A18,'FEUIL1 &FEUIL 2'!E19:G34,2,0),"") | G18: =IFERROR(VLOOKUP(A18,'FEUIL1 &FEUIL 2'!E19:G34,3,0),"")
