Workbook

Sheet A
A1: Date de Chargement | B1: Adresse livr. | C1: Commune livr. | D1: CP livr. | E1: CA transport | F1: CA taxes | G1: CA Total | H1: Poids | I1: ML | J1: Palettes
A2: 43468 | B2: BOBCAT | C2: Pontchâteau | D2: 44160 | E2: 87 | F2: 4.35 | G2: 91.35 | H2: 0.5 | I2: 0.4 | J2: 1
A3: 43469 | B3: GUINTOLI | C3: Saint-Priest | D3: 69800 | E3: 57 | F3: 2.85 | G3: 59.85 | H3: 0.11 | I3: 0.4 | J3: 1
A4: 43469 | B4: MANITOWOC | C4: Saint-Nizier-sous-Charlieu | D4: 42190 | E4: 69 | F4: 3.45 | G4: 72.45 | H4: 0.505 | I4: 0.4 | J4: 2
A5: 43472 | B5: SCHRADER REVENTE CITY PARK | C5: Pontarlier | D5: 25300 | E5: 72 | F5: 3.6 | G5: 75.6 | H5: 0.6 | I5: 0.4 | J5: 1
A6: 43473 | B6: MANITOWOC | C6: Saint-Pierre-de-Chandieu | D6: 69780 | E6: 57 | F6: 2.85 | G6: 59.85 | H6: 0.15 | I6: 0.4 | J6: 1
A7: 43473 | B7: BOBCAT | C7: Pontchâteau | D7: 44160 | E7: 87 | F7: 4.35 | G7: 91.35 | H7: 0.6 | I7: 0.4 | J7: 2
A8: 43473 | B8: MANITOWOC | C8: Avermes | D8: 3000 | E8: 113 | F8: 5.65 | G8: 118.65 | H8: 0.53 | I8: 0.8 | J8: 2
A9: 43474 | B9: MEDIACO | C9: Hoerdt | D9: 67720 | E9: 62 | F9: 3.1 | G9: 65.1 | H9: 0.33 | I9: 0.5 | J9: 1
A10: 43474 | B10: LE CAPITAINE PA NEPTUNE I | C10: Saint-Lô | D10: 50000 | E10: 165 | F10: 8.25 | G10: 173.25 | H10: 0.18 | I10: 0.2 | J10: 1
A11: 43475 | B11: SCHRADER REVENTE CITY PARK | C11: Pontarlier | D11: 25300 | E11: 113 | F11: 5.65 | G11: 118.65 | H11: 0.12 | I11: 0.4 | J11: 1
A12: 43475 | B12: MINO GAILLARD | C12: Izernore | D12: 1580 | E12: 163 | F12: 8.15 | G12: 171.15 | H12: 2.2 | I12: 1.2 | J12: 3
A13: 43475 | B13: BOBCAT | C13: Pontchâteau | D13: 44160 | E13: 165 | F13: 8.25 | G13: 173.25 | H13: 0.188 | I13: 0.6 | J13: 2
... A17: 43480 | B17: SIDEL BLOWING AND SERVICES | C17: Hénin-Beaumont | D17: 62110 | E17: 196 | F17: 9.8 | G17: 205.8 | H17: 150 | I17: 0 | J17: 0
A18: 43480 | C18: Châteauneuf-d'Ille-et-Vilaine | D18: 35430 | E18: 300 | F18: 15 | G18: 315 | H18: 1.7 | I18: 0 | J18: 1.5
A19: 43480 | B19: MANITOWOC | C19: Avermes | D19: 3000 | E19: 113 | F19: 5.65 | G19: 118.65 | H19: 0.555 | I19: 0.6 | J19: 2
A20: 43480 | B20: URBAN LOGISTIQUE | C20: Elancourt | D20: 78990 | E20: 124 | F20: 6.2 | G20: 130.2 | H20: 0.32 | I20: 0.8 | J20: 2
A21: 43480 | B21: SAS FRANCE LABO AUBENAS | C21: Aubenas | D21: 7200 | E21: 186 | F21: 9.3 | G21: 195.3 | H21: 0.57 | I21: 1 | J21: 1
A22: 43481 | B22: URBAN LOGISTIQUE | C22: Elancourt | D22: 78990 | E22: 124 | F22: 6.2 | G22: 130.2 | H22: 1.05 | I22: 0.8 | J22: 2
A23: 43482 | B23: MANITOWOC | C23: Saint-Pierre-de-Chandieu | D23: 69780 | E23: 57 | F23: 2.85 | G23: 59.85 | H23: 0.78 | I23: 0.5 | J23: 1
A24: 43482 | B24: AUTAA LEVAGE | C24: Artix | D24: 64170 | E24: 105 | F24: 5.25 | G24: 110.25 | H24: 0.52 | I24: 0.5 | J24: 1
A25: 43482 | B25: DECO CUIR | C25: Campbon | D25: 44750 | E25: 87 | F25: 4.35 | G25: 91.35 | H25: 0.26 | I25: 0.5 | J25: 1
A26: 43482 | B26: SORALEP | C26: Romans-sur-Isère | D26: 26100 | E26: 124 | F26: 6.2 | G26: 130.2 | H26: 0.165 | I26: 1 | J26: 1
A27: 43482 | B27: BOBCAT | C27: Pontchâteau | D27: 44160 | E27: 87 | F27: 4.35 | G27: 91.35 | H27: 0.17 | I27: 0.4 | J27: 2
A28: 43483 | B28: CARROSERIE VINCENT | C28: Etoile-sur-Rhône | D28: 26800 | E28: 82 | F28: 4.1 | G28: 86.1 | H28: 0.38 | I28: 0.4 | J28: 1
A29: 43486 | C29: Colmar | D29: 68000 | E29: 180 | F29: 9 | G29: 189 | H29: 1.2 | I29: 2.5 | J29: 0
A30: 43487 | B30: PLASTFRANCE | C30: Brunstatt | D30: 68350 | E30: 215 | F30: 10.75 | G30: 225.75 | H30: 0.5 | I30: 4.2 | J30: 0
A31: 43487 | B31: MANITOWOC | C31: Saint-Nizier-sous-Charlieu | D31: 42190 | E31: 113 | F31: 5.65 | G31: 118.65 | H31: 0.326 | I31: 0.8 | J31: 2
A32: 43487 | B32: SCHRADER REVENTE CITY PARK | C32: Pontarlier | D32: 25300 | E32: 72 | F32: 3.6 | G32: 75.6 | H32: 0.6 | I32: 0.4 | J32: 1
A33: 43487 | B33: FRANCE LABO AUBENAS | C33: Aubenas | D33: 7200 | E33: 77 | F33: 3.85 | G33: 80.85 | H33: 0.228 | I33: 0.4 | J33: 1
A34: 43487 | B34: MANITOWOC | C34: Avermes | D34: 3000 | E34: 183 | F34: 9.15 | G34: 192.15 | H34: 0.6 | I34: 1 | J34: 3
A35: 43488 | B35: MANITOWOC | C35: Saint-Pierre-de-Chandieu | D35: 69780 | E35: 57 | F35: 2.85 | G35: 59.85 | H35: 0.514 | I35: 0.4 | J35: 2
A36: 43488 | B36: URBAN LOGISTIUE | C36: Elancourt | D36: 78990 | E36: 88 | F36: 4.4 | G36: 92.4 | H36: 0.22 | I36: 0.4 | J36: 1
A37: 43488 | B37: REMA TIP TOP | C37: Trappes | D37: 78190 | E37: 124 | F37: 6.2 | G37: 130.2 | H37: 0.9 | I37: 0.8 | J37: 2
A38: 43488 | B38: MANITOWOC | C38: Avermes | D38: 3000 | E38: 113 | F38: 5.65 | G38: 118.65 | H38: 0.666 | I38: 0.8 | J38: 2
A39: 43489 | B39: BOBCAT (BOBCAT) | C39: Pontchâteau | D39: 44160 | E39: 87 | F39: 4.35 | G39: 91.35 | H39: 0.6 | I39: 0.8 | J39: 2
A40: 43489 | B40: SAS FRANCE LABO RENOV | C40: Saint-Sauveur | D40: 70300 | E40: 227 | F40: 11.35 | G40: 238.35 | H40: 1.5 | I40: 2.4 | J40: 3
A41: 43489 | B41: KLUBB | C41: Ferrières | D41: 77164 | E41: 85 | F41: 4.25 | G41: 89.25 | H41: 0.37 | I41: 0.4 | J41: 1
... A43: 43493 | B43: AUTONEUM | C43: Lachapelle-aux-Pots | D43: 60650 | E43: 237 | F43: 11.85 | G43: 248.85 | H43: 2 | I43: 1.6 | J43: 2
A44: 43494 | C44: Le-Havre | D44: 76600 | E44: 470 | F44: 23.5 | G44: 493.5 | H44: 4.84 | I44: 4.2 | J44: 0
...

Sheet B
A1: Commune livr. Uniques | B1: CP | C1: Nbr total d'envois | D1: Nbr total de palettes | E1: CA total | F1: Poids total
A2: {=IFERROR(INDEX(A!$C$2:$C$715,MATCH(0,COUNTIF($A$1:A1,A!$C$2:$C$715),0)),"")} -> Pontchâteau | B2: =VLOOKUP(A2,A!C2:D715,2,0) -> 44160 | C2: =SUMIF(A!$D$2:$D$715,B2,A!$E$2:$E$715) -> 5075 | D2: =SUMIF(A!$D$2:$D$715,B2,A!$J$2:$J$715) -> 78 | E2: =SUMIF(A!$D$2:$D$715,B2,A!$G$2:$G$715) -> 5328.75 | F2: =SUMIF(A!$D$2:$D$715,B2,A!$H$2:$H$715) -> 15.443
A3: {=IFERROR(INDEX(A!$C$2:$C$715,MATCH(0,COUNTIF($A$1:A2,A!$C$2:$C$715),0)),"")} -> Saint-Priest | B3: =VLOOKUP(A3,A!C3:D716,2,0) -> 69800 | C3: =SUMIF(A!$D$2:$D$715,B3,A!$E$2:$E$715) -> 57 | D3: =SUMIF(A!$D$2:$D$715,B3,A!$J$2:$J$715) -> 1 | E3: =SUMIF(A!$D$2:$D$715,B3,A!$G$2:$G$715) -> 59.85 | F3: =SUMIF(A!$D$2:$D$715,B3,A!$H$2:$H$715) -> 0.11
A4: {=IFERROR(INDEX(A!$C$2:$C$715,MATCH(0,COUNTIF($A$1:A3,A!$C$2:$C$715),0)),"")} -> Saint-Nizier-sous-Charlieu | B4: =VLOOKUP(A4,A!C4:D717,2,0) -> 42190 | C4: =SUMIF(A!$D$2:$D$715,B4,A!$E$2:$E$715) -> 4546 | D4: =SUMIF(A!$D$2:$D$715,B4,A!$J$2:$J$715) -> 100 | E4: =SUMIF(A!$D$2:$D$715,B4,A!$G$2:$G$715) -> 4773.3 | F4: =SUMIF(A!$D$2:$D$715,B4,A!$H$2:$H$715) -> 21.391
A5: {=IFERROR(INDEX(A!$C$2:$C$715,MATCH(0,COUNTIF($A$1:A4,A!$C$2:$C$715),0)),"")} -> Pontarlier | B5: =VLOOKUP(A5,A!C5:D718,2,0) -> 25300 | C5: =SUMIF(A!$D$2:$D$715,B5,A!$E$2:$E$715) -> 1308 | D5: =SUMIF(A!$D$2:$D$715,B5,A!$J$2:$J$715) -> 19 | E5: =SUMIF(A!$D$2:$D$715,B5,A!$G$2:$G$715) -> 1297.8 | F5: =SUMIF(A!$D$2:$D$715,B5,A!$H$2:$H$715) -> 8.945
A6: {=IFERROR(INDEX(A!$C$2:$C$715,MATCH(0,COUNTIF($A$1:A5,A!$C$2:$C$715),0)),"")} -> Saint-Pierre-de-Chandieu | B6: =VLOOKUP(A6,A!C6:D719,2,0) -> 69780 | C6: =SUMIF(A!$D$2:$D$715,B6,A!$E$2:$E$715) -> 6700 | D6: =SUMIF(A!$D$2:$D$715,B6,A!$J$2:$J$715) -> 144 | E6: =SUMIF(A!$D$2:$D$715,B6,A!$G$2:$G$715) -> 6926.85 | F6: =SUMIF(A!$D$2:$D$715,B6,A!$H$2:$H$715) -> 40.124
A7: {=IFERROR(INDEX(A!$C$2:$C$715,MATCH(0,COUNTIF($A$1:A6,A!$C$2:$C$715),0)),"")} -> Avermes | B7: =VLOOKUP(A7,A!C7:D720,2,0) -> 3000 | C7: =SUMIF(A!$D$2:$D$715,B7,A!$E$2:$E$715) -> 5256 | D7: =SUMIF(A!$D$2:$D$715,B7,A!$J$2:$J$715) -> 94 | E7: =SUMIF(A!$D$2:$D$715,B7,A!$G$2:$G$715) -> 5518.8 | F7: =SUMIF(A!$D$2:$D$715,B7,A!$H$2:$H$715) -> 20.608
A8: {=IFERROR(INDEX(A!$C$2:$C$715,MATCH(0,COUNTIF($A$1:A7,A!$C$2:$C$715),0)),"")} -> Hoerdt | B8: =VLOOKUP(A8,A!C8:D721,2,0) -> 67720 | C8: =SUMIF(A!$D$2:$D$715,B8,A!$E$2:$E$715) -> 144 | D8: =SUMIF(A!$D$2:$D$715,B8,A!$J$2:$J$715) -> 2 | E8: =SUMIF(A!$D$2:$D$715,B8,A!$G$2:$G$715) -> 151.2 | F8: =SUMIF(A!$D$2:$D$715,B8,A!$H$2:$H$715) -> 1.405
A9: {=IFERROR(INDEX(A!$C$2:$C$715,MATCH(0,COUNTIF($A$1:A8,A!$C$2:$C$715),0)),"")} -> Saint-Lô | B9: =VLOOKUP(A9,A!C9:D722,2,0) -> 50000 | C9: =SUMIF(A!$D$2:$D$715,B9,A!$E$2:$E$715) -> 662 | D9: =SUMIF(A!$D$2:$D$715,B9,A!$J$2:$J$715) -> 7 | E9: =SUMIF(A!$D$2:$D$715,B9,A!$G$2:$G$715) -> 695.1 | F9: =SUMIF(A!$D$2:$D$715,B9,A!$H$2:$H$715) -> 1.515
A10: {=IFERROR(INDEX(A!$C$2:$C$715,MATCH(0,COUNTIF($A$1:A9,A!$C$2:$C$715),0)),"")} -> Izernore | B10: =VLOOKUP(A10,A!C10:D723,2,0) -> 1580 | C10: =SUMIF(A!$D$2:$D$715,B10,A!$E$2:$E$715) -> 333 | D10: =SUMIF(A!$D$2:$D$715,B10,A!$J$2:$J$715) -> 6 | E10: =SUMIF(A!$D$2:$D$715,B10,A!$G$2:$G$715) -> 349.65 | F10: =SUMIF(A!$D$2:$D$715,B10,A!$H$2:$H$715) -> 2.9
A11: {=IFERROR(INDEX(A!$C$2:$C$715,MATCH(0,COUNTIF($A$1:A10,A!$C$2:$C$715),0)),"")} -> Segré | B11: =VLOOKUP(A11,A!C11:D724,2,0) -> 49500 | C11: =SUMIF(A!$D$2:$D$715,B11,A!$E$2:$E$715) -> 1467 | D11: =SUMIF(A!$D$2:$D$715,B11,A!$J$2:$J$715) -> 8 | E11: =SUMIF(A!$D$2:$D$715,B11,A!$G$2:$G$715) -> 1318.8 | F11: =SUMIF(A!$D$2:$D$715,B11,A!$H$2:$H$715) -> 4.855
A12: {=IFERROR(INDEX(A!$C$2:$C$715,MATCH(0,COUNTIF($A$1:A11,A!$C$2:$C$715),0)),"")} -> Chabris | B12: =VLOOKUP(A12,A!C12:D725,2,0) -> 36210 | C12: =SUMIF(A!$D$2:$D$715,B12,A!$E$2:$E$715) -> 428 | D12: =SUMIF(A!$D$2:$D$715,B12,A!$J$2:$J$715) -> 2 | E12: =SUMIF(A!$D$2:$D$715,B12,A!$G$2:$G$715) -> 449.4 | F12: =SUMIF(A!$D$2:$D$715,B12,A!$H$2:$H$715) -> 0.62
A13: {=IFERROR(INDEX(A!$C$2:$C$715,MATCH(0,COUNTIF($A$1:A12,A!$C$2:$C$715),0)),"")} -> Hénin-Beaumont | B13: =VLOOKUP(A13,A!C13:D726,2,0) -> 62110 | C13: =SUMIF(A!$D$2:$D$715,B13,A!$E$2:$E$715) -> 2651 | D13: =SUMIF(A!$D$2:$D$715,B13,A!$J$2:$J$715) -> 13 | E13: =SUMIF(A!$D$2:$D$715,B13,A!$G$2:$G$715) -> 2783.55 | F13: =SUMIF(A!$D$2:$D$715,B13,A!$H$2:$H$715) -> 155.023
... A237: {=IFERROR(INDEX(A!$C$2:$C$715,MATCH(0,COUNTIF($A$1:A236,A!$C$2:$C$715),0)),"")} -> St Sauveur | B237: =VLOOKUP(A237,A!C237:D950,2,0) -> 70300 | C237: =SUMIF(A!$D$2:$D$715,B237,A!$E$2:$E$715) -> 3469 | D237: =SUMIF(A!$D$2:$D$715,B237,A!$J$2:$J$715) -> 52 | E237: =SUMIF(A!$D$2:$D$715,B237,A!$G$2:$G$715) -> 3436.65 | F237: =SUMIF(A!$D$2:$D$715,B237,A!$H$2:$H$715) -> 19.21
