Workbook

Sheet A
A1: Date de Chargement | B1: Adresse livr. | C1: Commune livr. | D1: CP livr. | E1: CA transport | F1: CA taxes | G1: CA Total | H1: Poids | I1: ML | J1: Palettes
A2: 43468 | B2: BOBCAT | C2: Pontchâteau | D2: 44160 | E2: 87 | F2: 4.35 | G2: 91.35 | H2: 0.5 | I2: 0.4 | J2: 1
A3: 43469 | B3: GUINTOLI | C3: Saint-Priest | D3: 69800 | E3: 57 | F3: 2.85 | G3: 59.85 | H3: 0.11 | I3: 0.4 | J3: 1
A4: 43469 | B4: MANITOWOC | C4: Saint-Nizier-sous-Charlieu | D4: 42190 | E4: 69 | F4: 3.45 | G4: 72.45 | H4: 0.505 | I4: 0.4 | J4: 2
A5: 43472 | B5: SCHRADER REVENTE CITY PARK | C5: Pontarlier | D5: 25300 | E5: 72 | F5: 3.6 | G5: 75.6 | H5: 0.6 | I5: 0.4 | J5: 1
A6: 43473 | B6: MANITOWOC | C6: Saint-Pierre-de-Chandieu | D6: 69780 | E6: 57 | F6: 2.85 | G6: 59.85 | H6: 0.15 | I6: 0.4 | J6: 1
A7: 43473 | B7: BOBCAT | C7: Pontchâteau | D7: 44160 | E7: 87 | F7: 4.35 | G7: 91.35 | H7: 0.6 | I7: 0.4 | J7: 2
A8: 43473 | B8: MANITOWOC | C8: Avermes | D8: 3000 | E8: 113 | F8: 5.65 | G8: 118.65 | H8: 0.53 | I8: 0.8 | J8: 2
A9: 43474 | B9: MEDIACO | C9: Hoerdt | D9: 67720 | E9: 62 | F9: 3.1 | G9: 65.1 | H9: 0.33 | I9: 0.5 | J9: 1
A10: 43474 | B10: LE CAPITAINE PA NEPTUNE I | C10: Saint-Lô | D10: 50000 | E10: 165 | F10: 8.25 | G10: 173.25 | H10: 0.18 | I10: 0.2 | J10: 1
A11: 43475 | B11: SCHRADER REVENTE CITY PARK | C11: Pontarlier | D11: 25300 | E11: 113 | F11: 5.65 | G11: 118.65 | H11: 0.12 | I11: 0.4 | J11: 1
A12: 43475 | B12: MINO GAILLARD | C12: Izernore | D12: 1580 | E12: 163 | F12: 8.15 | G12: 171.15 | H12: 2.2 | I12: 1.2 | J12: 3
A13: 43475 | B13: BOBCAT | C13: Pontchâteau | D13: 44160 | E13: 165 | F13: 8.25 | G13: 173.25 | H13: 0.188 | I13: 0.6 | J13: 2
... A17: 43480 | B17: SIDEL BLOWING AND SERVICES | C17: Hénin-Beaumont | D17: 62110 | E17: 196 | F17: 9.8 | G17: 205.8 | H17: 150 | I17: 0 | J17: 0
A18: 43480 | C18: Châteauneuf-d'Ille-et-Vilaine | D18: 35430 | E18: 300 | F18: 15 | G18: 315 | H18: 1.7 | I18: 0 | J18: 1.5
A19: 43480 | B19: MANITOWOC | C19: Avermes | D19: 3000 | E19: 113 | F19: 5.65 | G19: 118.65 | H19: 0.555 | I19: 0.6 | J19: 2
A20: 43480 | B20: URBAN LOGISTIQUE | C20: Elancourt | D20: 78990 | E20: 124 | F20: 6.2 | G20: 130.2 | H20: 0.32 | I20: 0.8 | J20: 2
A21: 43480 | B21: SAS FRANCE LABO AUBENAS | C21: Aubenas | D21: 7200 | E21: 186 | F21: 9.3 | G21: 195.3 | H21: 0.57 | I21: 1 | J21: 1
A22: 43481 | B22: URBAN LOGISTIQUE | C22: Elancourt | D22: 78990 | E22: 124 | F22: 6.2 | G22: 130.2 | H22: 1.05 | I22: 0.8 | J22: 2
A23: 43482 | B23: MANITOWOC | C23: Saint-Pierre-de-Chandieu | D23: 69780 | E23: 57 | F23: 2.85 | G23: 59.85 | H23: 0.78 | I23: 0.5 | J23: 1
A24: 43482 | B24: AUTAA LEVAGE | C24: Artix | D24: 64170 | E24: 105 | F24: 5.25 | G24: 110.25 | H24: 0.52 | I24: 0.5 | J24: 1
A25: 43482 | B25: DECO CUIR | C25: Campbon | D25: 44750 | E25: 87 | F25: 4.35 | G25: 91.35 | H25: 0.26 | I25: 0.5 | J25: 1
A26: 43482 | B26: SORALEP | C26: Romans-sur-Isère | D26: 26100 | E26: 124 | F26: 6.2 | G26: 130.2 | H26: 0.165 | I26: 1 | J26: 1
A27: 43482 | B27: BOBCAT | C27: Pontchâteau | D27: 44160 | E27: 87 | F27: 4.35 | G27: 91.35 | H27: 0.17 | I27: 0.4 | J27: 2
A28: 43483 | B28: CARROSERIE VINCENT | C28: Etoile-sur-Rhône | D28: 26800 | E28: 82 | F28: 4.1 | G28: 86.1 | H28: 0.38 | I28: 0.4 | J28: 1
A29: 43486 | C29: Colmar | D29: 68000 | E29: 180 | F29: 9 | G29: 189 | H29: 1.2 | I29: 2.5 | J29: 0
A30: 43487 | B30: PLASTFRANCE | C30: Brunstatt | D30: 68350 | E30: 215 | F30: 10.75 | G30: 225.75 | H30: 0.5 | I30: 4.2 | J30: 0
A31: 43487 | B31: MANITOWOC | C31: Saint-Nizier-sous-Charlieu | D31: 42190 | E31: 113 | F31: 5.65 | G31: 118.65 | H31: 0.326 | I31: 0.8 | J31: 2
A32: 43487 | B32: SCHRADER REVENTE CITY PARK | C32: Pontarlier | D32: 25300 | E32: 72 | F32: 3.6 | G32: 75.6 | H32: 0.6 | I32: 0.4 | J32: 1
A33: 43487 | B33: FRANCE LABO AUBENAS | C33: Aubenas | D33: 7200 | E33: 77 | F33: 3.85 | G33: 80.85 | H33: 0.228 | I33: 0.4 | J33: 1
A34: 43487 | B34: MANITOWOC | C34: Avermes | D34: 3000 | E34: 183 | F34: 9.15 | G34: 192.15 | H34: 0.6 | I34: 1 | J34: 3
A35: 43488 | B35: MANITOWOC | C35: Saint-Pierre-de-Chandieu | D35: 69780 | E35: 57 | F35: 2.85 | G35: 59.85 | H35: 0.514 | I35: 0.4 | J35: 2
A36: 43488 | B36: URBAN LOGISTIUE | C36: Elancourt | D36: 78990 | E36: 88 | F36: 4.4 | G36: 92.4 | H36: 0.22 | I36: 0.4 | J36: 1
A37: 43488 | B37: REMA TIP TOP | C37: Trappes | D37: 78190 | E37: 124 | F37: 6.2 | G37: 130.2 | H37: 0.9 | I37: 0.8 | J37: 2
A38: 43488 | B38: MANITOWOC | C38: Avermes | D38: 3000 | E38: 113 | F38: 5.65 | G38: 118.65 | H38: 0.666 | I38: 0.8 | J38: 2
A39: 43489 | B39: BOBCAT (BOBCAT) | C39: Pontchâteau | D39: 44160 | E39: 87 | F39: 4.35 | G39: 91.35 | H39: 0.6 | I39: 0.8 | J39: 2
A40: 43489 | B40: SAS FRANCE LABO RENOV | C40: Saint-Sauveur | D40: 70300 | E40: 227 | F40: 11.35 | G40: 238.35 | H40: 1.5 | I40: 2.4 | J40: 3
A41: 43489 | B41: KLUBB | C41: Ferrières | D41: 77164 | E41: 85 | F41: 4.25 | G41: 89.25 | H41: 0.37 | I41: 0.4 | J41: 1
... A43: 43493 | B43: AUTONEUM | C43: Lachapelle-aux-Pots | D43: 60650 | E43: 237 | F43: 11.85 | G43: 248.85 | H43: 2 | I43: 1.6 | J43: 2
A44: 43494 | C44: Le-Havre | D44: 76600 | E44: 470 | F44: 23.5 | G44: 493.5 | H44: 4.84 | I44: 4.2 | J44: 0
A45: 43494 | B45: MANITOWOC (MANITOWOC 03) | C45: Avermes | D45: 3000 | E45: 113 | F45: 5.65 | G45: 118.65 | H45: 0.6 | I45: 0.8 | J45: 2
A46: 43494 | B46: MANITOWOC (MANITOWOC 42) | C46: Saint-Nizier-sous-Charlieu | D46: 42190 | E46: 175 | F46: 8.75 | G46: 183.75 | H46: 0.8 | I46: 1.2 | J46: 3
A47: 43494 | B47: mephisto | C47: Sarrebourg | D47: 57400 | E47: 61 | F47: 3.05 | G47: 64.05 | H47: 0.3 | I47: 0.4 | J47: 1
A48: 43495 | B48: SIDEL BLOWING AND SERVICE | C48: Hénin-Beaumont | D48: 62110 | E48: 226 | F48: 11.3 | G48: 237.3 | H48: 0.24 | I48: 1 | J48: 0
A49: 43495 | B49: MEDIACO LOCATION SERVICES | C49: Fos-sur-Mer | D49: 13270 | E49: 88 | F49: 4.4 | G49: 92.4 | H49: 0.17 | I49: 0.4 | J49: 1
A50: 43495 | B50: PONTICELLI | C50: Lillebonne | D50: 76170 | E50: 144 | F50: 7.2 | G50: 151.2 | H50: 0.32 | I50: 0.65 | J50: 1
A51: 43496 | B51: JIB | C51: Garges-lès-Gonesse | D51: 95140 | E51: 113 | F51: 5.65 | G51: 118.65 | H51: 0.2 | I51: 1 | J51: 1
A52: 43496 | B52: BOBCAT (BOBCAT) | C52: Pontchâteau | D52: 44160 | E52: 87 | F52: 4.35 | G52: 91.35 | H52: 0.225 | I52: 0.4 | J52: 2
A53: 43496 | B53: SECRIL | C53: Martignat | D53: 1100 | E53: 283 | F53: 14.15 | G53: 297.15 | H53: 0.9 | I53: 2 | J53: 5
A54: 43496 | B54: TRANSPORT HENRIOT | C54: Morteau | D54: 25500 | E54: 113 | F54: 5.65 | G54: 118.65 | H54: 0.48 | I54: 1 | J54: 1
A55: 43497 | B55: PALFINGER SERVICE | C55: Poisy | D55: 74330 | E55: 227 | F55: 11.35 | G55: 238.35 | H55: 0.35 | I55: 0 | J55: 0
A56: 43497 | B56: LDCT PLATEFORME MULTIMODAL DELTA 3 | C56: Hénin-Beaumont | D56: 62110 | E56: 78 | F56: 3.9 | G56: 81.9 | H56: 0.35 | I56: 0.4 | J56: 1
... A63: 43503 | B63: SCHRADER REVENTE CITY PARK (SCHRADER) | C63: Pontarlier | D63: 25300 | E63: 72 | F63: 3.6 | G63: 75.6 | H63: 0.3 | I63: 0.4 | J63: 1
A64: 43503 | C64: Lezoux | D64: 63190 | E64: 124 | F64: 6.2 | G64: 130.2 | H64: 0.4 | I64: 0.4 | J64: 1
A65: 43504 | B65: MANITOWOC (MANITOWOC) | C65: Saint-Pierre-de-Chandieu | D65: 69780 | E65: 149 | F65: 7.45 | G65: 156.45 | H65: 0.6 | I65: 1.2 | J65: 3
A66: 43504 | B66: TRECCIA | C66: Etupes | D66: 25460 | E66: 113 | F66: 5.65 | G66: 118.65 | H66: 0.4 | I66: 1 | J66: 1
A67: 43508 | B67: FRANCE LABO AUBENAS (FRANCE LABO) | C67: Aubenas | D67: 7200 | E67: 186 | F67: 9.3 | G67: 195.3 | H67: 0.5 | I67: 1 | J67: 1
A68: 43508 | B68: MANITOWOC (MANITOWOC 03) | C68: Avermes | D68: 3000 | E68: 183 | F68: 9.15 | G68: 192.15 | H68: 0.63 | I68: 1.2 | J68: 3
A69: 43509 | B69: MANITOWOC (MANITOWOC 03) | C69: Avermes | D69: 3000 | E69: 165 | F69: 8.25 | G69: 173.25 | H69: 0.3 | I69: 0.4 | J69: 1
A70: 43509 | B70: SN TOUZET | C70: Luce | D70: 28110 | E70: 340 | F70: 17 | G70: 357 | H70: 1.8 | I70: 1.25 | J70: 1
A71: 43510 | C71: Brunstatt | D71: 68350 | E71: 180 | F71: 9 | G71: 189 | H71: 1 | I71: 4 | J71: 0
A72: 43510 | B72: MANITOWOC (MANITOWOC) | C72: Saint-Pierre-de-Chandieu | D72: 69780 | E72: 149 | F72: 7.45 | G72: 156.45 | H72: 0.6 | I72: 1 | J72: 3
A73: 43510 | C73: Brunstatt | D73: 68350 | E73: 280 | F73: 14 | G73: 294 | H73: 0.6 | I73: 3 | J73: 0
A74: 43510 | C74: Labastide-Dénat | D74: 81120 | E74: 260 | F74: 13 | G74: 273 | H74: 0.6 | I74: 1.2 | J74: 1
A75: 43510 | C75: Vernoux-en-Gâtine | D75: 79240 | E75: 345 | F75: 17.25 | G75: 362.25 | H75: 0.6 | I75: 1.8 | J75: 3
A76: 43511 | B76: MANITOWOC (MANITOWOC) | C76: Saint-Pierre-de-Chandieu | D76: 69780 | E76: 103 | F76: 5.15 | G76: 108.15 | H76: 0.97 | I76: 0.6 | J76: 1
A77: 43511 | B77: SCHRADER REVENTE CITY PARK (SCHRADER) | C77: Pontarlier | D77: 25300 | E77: 72 | F77: 3.6 | G77: 75.6 | H77: 0.65 | I77: 0.4 | J77: 1
A78: 43511 | B78: MANITOWOC (MANITOWOC 03) | C78: Avermes | D78: 3000 | E78: 113 | F78: 5.65 | G78: 118.65 | H78: 0.368 | I78: 0.6 | J78: 2
A79: 43515 | B79: MANITOWOC (MANITOWOC 03) | C79: Avermes | D79: 3000 | E79: 183 | F79: 9.15 | G79: 192.15 | H79: 0.6 | I79: 1.2 | J79: 3
A80: 43515 | C80: Noyelles-Godault | D80: 62950 | E80: 68 | F80: 3.4 | G80: 71.4 | H80: 0.3 | I80: 0.4 | J80: 1
A81: 43515 | B81: SAS FRANCE LABO RENOV (LABO RENOV) | C81: Saint-Sauveur | D81: 70300 | E81: 134 | F81: 6.7 | G81: 140.7 | H81: 0.5 | I81: 1.2 | J81: 2
A82: 43516 | B82: URBAN LOGISTIUE (URBAN LOGISTIQUE) | C82: Elancourt | D82: 78990 | E82: 88 | F82: 4.4 | G82: 92.4 | H82: 0.5 | I82: 0.4 | J82: 1
A83: 43516 | B83: FRANCE LABO AUBENAS (FRANCE LABO) | C83: Aubenas | D83: 7200 | E83: 144 | F83: 7.2 | G83: 151.2 | H83: 0.5 | I83: 0.4 | J83: 1
A84: 43517 | B84: BOBCAT (BOBCAT) | C84: Pontchâteau | D84: 44160 | E84: 87 | F84: 4.35 | G84: 91.35 | H84: 0.5 | I84: 0.4 | J84: 1
A85: 43517 | B85: KLUBB | C85: Ferrières | D85: 77164 | E85: 85 | F85: 4.25 | G85: 89.25 | H85: 3 | I85: 0.4 | J85: 1
A86: 43517 | B86: KLUBB CROISSY MAGASIN | C86: Croissy-Beaubourg | D86: 77183 | E86: 75 | F86: 3.75 | G86: 78.75 | H86: 0.55 | I86: 0.2 | J86: 1
A87: 43518 | B87: SORALEP | C87: Romans-sur-Isère | D87: 26100 | E87: 124 | F87: 6.2 | G87: 130.2 | H87: 0.5 | I87: 0.4 | J87: 1
A88: 43522 | C88: Imphy | D88: 58160 | E88: 270 | F88: 13.5 | G88: 283.5 | H88: 3.14 | I88: 2.5 | J88: 0
A89: 43522 | B89: MANITOWOC (MANITOWOC 03) | C89: Avermes | D89: 3000 | E89: 72 | F89: 3.6 | G89: 75.6 | H89: 0.3 | I89: 0.4 | J89: 1
A90: 43522 | B90: MANITOWOC (MANITOWOC 42) | C90: Saint-Nizier-sous-Charlieu | D90: 42190 | E90: 113 | F90: 5.65 | G90: 118.65 | H90: 0.56 | I90: 0.6 | J90: 3
A91: 43522 | B91: FOSELEV MEDITERRANEE - AGENCE DE FOS | C91: Fos-sur-Mer | D91: 13270 | E91: 124 | F91: 6.2 | G91: 130.2 | H91: 0.56 | I91: 0.6 | J91: 1
A92: 43523 | B92: FRANCE LABO AUBENAS (FRANCE LABO) | C92: Aubenas | D92: 7200 | E92: 77 | F92: 3.85 | G92: 80.85 | H92: 0.3 | I92: 0.4 | J92: 1
A93: 43523 | B93: SCHRADER REVENTE CITY PARK (SCHRADER) | C93: Pontarlier | D93: 25300 | E93: 146 | F93: 7.3 | G93: 153.3 | H93: 0.3 | I93: 1 | J93: 3
A94: 43524 | B94: BOBCAT (BOBCAT) | C94: Pontchâteau | D94: 44160 | E94: 87 | F94: 4.35 | G94: 91.35 | H94: 0.6 | I94: 0.4 | J94: 2
A95: 43524 | B95: POREAUX SAS - LAPEYRE INDUSTRIES | C95: Saint-Martin-sur-le-Pré | D95: 51520 | E95: 124 | F95: 6.2 | G95: 130.2 | H95: 0.5 | I95: 0.8 | J95: 2
A96: 43524 | B96: VOSSLOH COGIFER | C96: Fère-en-Tardenois | D96: 2130 | E96: 57 | F96: 2.85 | G96: 59.85 | H96: 0.3 | I96: 0.2 | J96: 1
A97: 43525 | B97: VINCI CONSTRUCTION TERRASSSEMENT | C97: Valence | D97: 26000 | E97: 124 | F97: 6.2 | G97: 130.2 | H97: 1 | I97: 0.8 | J97: 2
A98: 43528 | B98: MANITOWOC (MANITOWOC 03) | C98: Avermes | D98: 3000 | E98: 113 | F98: 5.65 | G98: 118.65 | H98: 0.8 | I98: 0.6 | J98: 3
A99: 43528 | B99: MANITOWOC (MANITOWOC 42) | C99: Saint-Nizier-sous-Charlieu | D99: 42190 | E99: 69 | F99: 3.45 | G99: 72.45 | H99: 0.5 | I99: 0.4 | J99: 2
A100: 43528 | B100: JIGE | C100: Revigny-sur-Ornain | D100: 55800 | E100: 67 | F100: 3.35 | G100: 70.35 | H100: 0.3 | I100: 0.2 | J100: 1
A101: 43529 | C101: Marseille | D101: 13000 | E101: 88 | F101: 4.4 | G101: 92.4 | H101: 0.5 | I101: 0.4 | J101: 1
A102: 43529 | B102: MANITOWOC (MANITOWOC 03) | C102: Avermes | D102: 3000 | E102: 113 | F102: 5.65 | G102: 118.65 | H102: 0.6 | I102: 0.6 | J102: 2
A103: 43529 | B103: MANITOWOC (MANITOWOC 42) | C103: Saint-Nizier-sous-Charlieu | D103: 42190 | E103: 57 | F103: 2.85 | G103: 59.85 | H103: 0.4 | I103: 0.2 | J103: 1
A104: 43529 | B104: FRANCE LABO AUBENAS (FRANCE LABO) | C104: Aubenas | D104: 7200 | E104: 77 | F104: 3.85 | G104: 80.85 | H104: 0.5 | I104: 0.4 | J104: 1
A105: 43530 | C105: Martignat | D105: 1100 | E105: 103 | F105: 5.15 | G105: 108.15 | H105: 0.6 | I105: 0.8 | J105: 2
A106: 43530 | C106: Aouste-sur-Sye | D106: 26400 | E106: 124 | F106: 6.2 | G106: 130.2 | H106: 0.4 | I106: 0.4 | J106: 1
A107: 43530 | C107: Richwiller | D107: 68120 | E107: 84 | F107: 4.2 | G107: 88.2 | H107: 0.3 | I107: 0.4 | J107: 1
A108: 43531 | B108: MAROQUINERIE MARJO | C108: Montmirail | D108: 51210 | E108: 66 | F108: 3.3 | G108: 69.3 | H108: 0.4 | I108: 0.4 | J108: 1
A109: 43531 | B109: MANITOWOC (MANITOWOC) | C109: Saint-Pierre-de-Chandieu | D109: 69780 | E109: 57 | F109: 2.85 | G109: 59.85 | H109: 0.5 | I109: 0.4 | J109: 1
A110: 43535 | B110: DISTRIBUTION EQUIPEMENT DEPANNAGE | C110: Meaux | D110: 77100 | E110: 85 | F110: 4.25 | G110: 89.25 | H110: 0.53 | I110: 0.4 | J110: 1
...

Sheet B
A1: Commune livr. Uniques | B1: CP | C1: Nbr total d'envois | D1: Nbr total de palettes | E1: CA total | F1: Poids total
A2: {=IFERROR(INDEX(A!$C$2:$C$715,MATCH(0,COUNTIF($A$1:A1,A!$C$2:$C$715),0)),"")} -> Pontchâteau | B2: =VLOOKUP(A2,A!C2:D715,2,0) -> 44160 | C2: =SUMIF(A!$D$2:$D$715,B2,A!$E$2:$E$715) -> 5075 | D2: =SUMIF(A!$D$2:$D$715,B2,A!$J$2:$J$715) -> 78 | E2: =SUMIF(A!$D$2:$D$715,B2,A!$G$2:$G$715) -> 5328.75 | F2: =SUMIF(A!$D$2:$D$715,B2,A!$H$2:$H$715) -> 15.443
A3: {=IFERROR(INDEX(A!$C$2:$C$715,MATCH(0,COUNTIF($A$1:A2,A!$C$2:$C$715),0)),"")} -> Saint-Priest | B3: =VLOOKUP(A3,A!C3:D716,2,0) -> 69800 | C3: =SUMIF(A!$D$2:$D$715,B3,A!$E$2:$E$715) -> 57 | D3: =SUMIF(A!$D$2:$D$715,B3,A!$J$2:$J$715) -> 1 | E3: =SUMIF(A!$D$2:$D$715,B3,A!$G$2:$G$715) -> 59.85 | F3: =SUMIF(A!$D$2:$D$715,B3,A!$H$2:$H$715) -> 0.11
A4: {=IFERROR(INDEX(A!$C$2:$C$715,MATCH(0,COUNTIF($A$1:A3,A!$C$2:$C$715),0)),"")} -> Saint-Nizier-sous-Charlieu | B4: =VLOOKUP(A4,A!C4:D717,2,0) -> 42190 | C4: =SUMIF(A!$D$2:$D$715,B4,A!$E$2:$E$715) -> 4546 | D4: =SUMIF(A!$D$2:$D$715,B4,A!$J$2:$J$715) -> 100 | E4: =SUMIF(A!$D$2:$D$715,B4,A!$G$2:$G$715) -> 4773.3 | F4: =SUMIF(A!$D$2:$D$715,B4,A!$H$2:$H$715) -> 21.391
A5: {=IFERROR(INDEX(A!$C$2:$C$715,MATCH(0,COUNTIF($A$1:A4,A!$C$2:$C$715),0)),"")} -> Pontarlier | B5: =VLOOKUP(A5,A!C5:D718,2,0) -> 25300 | C5: =SUMIF(A!$D$2:$D$715,B5,A!$E$2:$E$715) -> 1308 | D5: =SUMIF(A!$D$2:$D$715,B5,A!$J$2:$J$715) -> 19 | E5: =SUMIF(A!$D$2:$D$715,B5,A!$G$2:$G$715) -> 1297.8 | F5: =SUMIF(A!$D$2:$D$715,B5,A!$H$2:$H$715) -> 8.945
A6: {=IFERROR(INDEX(A!$C$2:$C$715,MATCH(0,COUNTIF($A$1:A5,A!$C$2:$C$715),0)),"")} -> Saint-Pierre-de-Chandieu | B6: =VLOOKUP(A6,A!C6:D719,2,0) -> 69780 | C6: =SUMIF(A!$D$2:$D$715,B6,A!$E$2:$E$715) -> 6700 | D6: =SUMIF(A!$D$2:$D$715,B6,A!$J$2:$J$715) -> 144 | E6: =SUMIF(A!$D$2:$D$715,B6,A!$G$2:$G$715) -> 6926.85 | F6: =SUMIF(A!$D$2:$D$715,B6,A!$H$2:$H$715) -> 40.124
A7: {=IFERROR(INDEX(A!$C$2:$C$715,MATCH(0,COUNTIF($A$1:A6,A!$C$2:$C$715),0)),"")} -> Avermes | B7: =VLOOKUP(A7,A!C7:D720,2,0) -> 3000 | C7: =SUMIF(A!$D$2:$D$715,B7,A!$E$2:$E$715) -> 5256 | D7: =SUMIF(A!$D$2:$D$715,B7,A!$J$2:$J$715) -> 94 | E7: =SUMIF(A!$D$2:$D$715,B7,A!$G$2:$G$715) -> 5518.8 | F7: =SUMIF(A!$D$2:$D$715,B7,A!$H$2:$H$715) -> 20.608
A8: {=IFERROR(INDEX(A!$C$2:$C$715,MATCH(0,COUNTIF($A$1:A7,A!$C$2:$C$715),0)),"")} -> Hoerdt | B8: =VLOOKUP(A8,A!C8:D721,2,0) -> 67720 | C8: =SUMIF(A!$D$2:$D$715,B8,A!$E$2:$E$715) -> 144 | D8: =SUMIF(A!$D$2:$D$715,B8,A!$J$2:$J$715) -> 2 | E8: =SUMIF(A!$D$2:$D$715,B8,A!$G$2:$G$715) -> 151.2 | F8: =SUMIF(A!$D$2:$D$715,B8,A!$H$2:$H$715) -> 1.405
A9: {=IFERROR(INDEX(A!$C$2:$C$715,MATCH(0,COUNTIF($A$1:A8,A!$C$2:$C$715),0)),"")} -> Saint-Lô | B9: =VLOOKUP(A9,A!C9:D722,2,0) -> 50000 | C9: =SUMIF(A!$D$2:$D$715,B9,A!$E$2:$E$715) -> 662 | D9: =SUMIF(A!$D$2:$D$715,B9,A!$J$2:$J$715) -> 7 | E9: =SUMIF(A!$D$2:$D$715,B9,A!$G$2:$G$715) -> 695.1 | F9: =SUMIF(A!$D$2:$D$715,B9,A!$H$2:$H$715) -> 1.515
A10: {=IFERROR(INDEX(A!$C$2:$C$715,MATCH(0,COUNTIF($A$1:A9,A!$C$2:$C$715),0)),"")} -> Izernore | B10: =VLOOKUP(A10,A!C10:D723,2,0) -> 1580 | C10: =SUMIF(A!$D$2:$D$715,B10,A!$E$2:$E$715) -> 333 | D10: =SUMIF(A!$D$2:$D$715,B10,A!$J$2:$J$715) -> 6 | E10: =SUMIF(A!$D$2:$D$715,B10,A!$G$2:$G$715) -> 349.65 | F10: =SUMIF(A!$D$2:$D$715,B10,A!$H$2:$H$715) -> 2.9
A11: {=IFERROR(INDEX(A!$C$2:$C$715,MATCH(0,COUNTIF($A$1:A10,A!$C$2:$C$715),0)),"")} -> Segré | B11: =VLOOKUP(A11,A!C11:D724,2,0) -> 49500 | C11: =SUMIF(A!$D$2:$D$715,B11,A!$E$2:$E$715) -> 1467 | D11: =SUMIF(A!$D$2:$D$715,B11,A!$J$2:$J$715) -> 8 | E11: =SUMIF(A!$D$2:$D$715,B11,A!$G$2:$G$715) -> 1318.8 | F11: =SUMIF(A!$D$2:$D$715,B11,A!$H$2:$H$715) -> 4.855
A12: {=IFERROR(INDEX(A!$C$2:$C$715,MATCH(0,COUNTIF($A$1:A11,A!$C$2:$C$715),0)),"")} -> Chabris | B12: =VLOOKUP(A12,A!C12:D725,2,0) -> 36210 | C12: =SUMIF(A!$D$2:$D$715,B12,A!$E$2:$E$715) -> 428 | D12: =SUMIF(A!$D$2:$D$715,B12,A!$J$2:$J$715) -> 2 | E12: =SUMIF(A!$D$2:$D$715,B12,A!$G$2:$G$715) -> 449.4 | F12: =SUMIF(A!$D$2:$D$715,B12,A!$H$2:$H$715) -> 0.62
A13: {=IFERROR(INDEX(A!$C$2:$C$715,MATCH(0,COUNTIF($A$1:A12,A!$C$2:$C$715),0)),"")} -> Hénin-Beaumont | B13: =VLOOKUP(A13,A!C13:D726,2,0) -> 62110 | C13: =SUMIF(A!$D$2:$D$715,B13,A!$E$2:$E$715) -> 2651 | D13: =SUMIF(A!$D$2:$D$715,B13,A!$J$2:$J$715) -> 13 | E13: =SUMIF(A!$D$2:$D$715,B13,A!$G$2:$G$715) -> 2783.55 | F13: =SUMIF(A!$D$2:$D$715,B13,A!$H$2:$H$715) -> 155.023
... A237: {=IFERROR(INDEX(A!$C$2:$C$715,MATCH(0,COUNTIF($A$1:A236,A!$C$2:$C$715),0)),"")} -> St Sauveur | B237: =VLOOKUP(A237,A!C237:D950,2,0) -> 70300 | C237: =SUMIF(A!$D$2:$D$715,B237,A!$E$2:$E$715) -> 3469 | D237: =SUMIF(A!$D$2:$D$715,B237,A!$J$2:$J$715) -> 52 | E237: =SUMIF(A!$D$2:$D$715,B237,A!$G$2:$G$715) -> 3436.65 | F237: =SUMIF(A!$D$2:$D$715,B237,A!$H$2:$H$715) -> 19.21
