Workbook
Name dates_reunions: OFFSET(BD!$K$3,0,0,COUNTA(BD!$K$3:$K$100),1)
Name MaListe: tableau_BP!$J$7:$J$100

Sheet BD
A2: identité | C2: Titre | D2: NOM/Prénom | E2: prénom | F2: Adresse | G2: CP / Localité | K2: date réunion
A3: =C3&" "&D3&" "&E3 -> Mme 11 111 | C3: Mme | D3: 11 | E3: 111 | F3: aze | G3: 25000 | J3: 43605 | K3: 43682
A4: =C4&" "&D4&" "&E4 -> Mme 22 222 | C4: Mme | D4: 22 | E4: 222 | F4: rty | G4: 25000 | J4: 43644 | K4: 43733
A5: =C5&" "&D5&" "&E5 -> Mme 33 333 | C5: Mme | D5: 33 | E5: 333 | F5: uio | G5: 25000 | J5: 43643 | K5: 43639
A6: =C6&" "&D6&" "&E6 -> Mme 44 444 | C6: Mme | D6: 44 | E6: 444 | F6: poi | G6: 25000 | H6: x | J6: 43661 | K6: 43682
A7: =C7&" "&D7&" "&E7
A8: =C8&" "&D8&" "&E8
A9: =C9&" "&D9&" "&E9
A10: =C10&" "&D10&" "&E10
A11: =C11&" "&D11&" "&E11
A12: =C12&" "&D12&" "&E12
A13: =C13&" "&D13&" "&E13
A14: =C14&" "&D14&" "&E14
A15: =C15&" "&D15&" "&E15
A16: =C16&" "&D16&" "&E16
A17: =C17&" "&D17&" "&E17
A18: =C18&" "&D18&" "&E18
... A51: =C51&" "&D51&" "&E51

Sheet tableau_BP
E6: 43682 | J6: Liste sans doublons
J7: {=IFERROR(INDEX(dates_reunions,MATCH(0,COUNTIF($J$6:J6,dates_reunions),0)),"")} -> 43682
J8: {=IFERROR(INDEX(dates_reunions,MATCH(0,COUNTIF($J$6:J7,dates_reunions),0)),"")} -> 43733
J9: {=IFERROR(INDEX(dates_reunions,MATCH(0,COUNTIF($J$6:J8,dates_reunions),0)),"")} -> 43639
J10: {=IFERROR(INDEX(dates_reunions,MATCH(0,COUNTIF($J$6:J9,dates_reunions),0)),"")}
J11: {=IFERROR(INDEX(dates_reunions,MATCH(0,COUNTIF($J$6:J10,dates_reunions),0)),"")}
J12: {=IFERROR(INDEX(dates_reunions,MATCH(0,COUNTIF($J$6:J11,dates_reunions),0)),"")}
B13: Identification | C13: Adresse | D13: Localité | J13: {=IFERROR(INDEX(dates_reunions,MATCH(0,COUNTIF($J$6:J12,dates_reunions),0)),"")}
B14: {=IFERROR(INDEX(BD!$D$3:$D$100,LARGE((BD!$K$3:$K$100=$E$6)*(ROW(BD!$K$3:$K$100)-2),COUNTIF(BD!$K$3:$K$100,$E$6)+1-ROW(A1))),"")} -> 11 | C14: =IFERROR(VLOOKUP(B14,BD!$D$3:$G$100,3,FALSE),"") -> aze | D14: =IFERROR(VLOOKUP(B14,BD!$D$3:$G$100,4,FALSE),"") -> 25000 | J14: {=IFERROR(INDEX(dates_reunions,MATCH(0,COUNTIF($J$6:J13,dates_reunions),0)),"")}
B15: {=IFERROR(INDEX(BD!$D$3:$D$100,LARGE((BD!$K$3:$K$100=$E$6)*(ROW(BD!$K$3:$K$100)-2),COUNTIF(BD!$K$3:$K$100,$E$6)+1-ROW(A2))),"")} -> 44 | C15: =IFERROR(VLOOKUP(B15,BD!$D$3:$G$100,3,FALSE),"") -> poi | D15: =IFERROR(VLOOKUP(B15,BD!$D$3:$G$100,4,FALSE),"") -> 25000 | J15: {=IFERROR(INDEX(dates_reunions,MATCH(0,COUNTIF($J$6:J14,dates_reunions),0)),"")}
B16: {=IFERROR(INDEX(BD!$D$3:$D$100,LARGE((BD!$K$3:$K$100=$E$6)*(ROW(BD!$K$3:$K$100)-2),COUNTIF(BD!$K$3:$K$100,$E$6)+1-ROW(A3))),"")} | C16: =IFERROR(VLOOKUP(B16,BD!$D$3:$G$100,3,FALSE),"") | D16: =IFERROR(VLOOKUP(B16,BD!$D$3:$G$100,4,FALSE),"") | J16: {=IFERROR(INDEX(dates_reunions,MATCH(0,COUNTIF($J$6:J15,dates_reunions),0)),"")}
B17: {=IFERROR(INDEX(BD!$D$3:$D$100,LARGE((BD!$K$3:$K$100=$E$6)*(ROW(BD!$K$3:$K$100)-2),COUNTIF(BD!$K$3:$K$100,$E$6)+1-ROW(A4))),"")} | C17: =IFERROR(VLOOKUP(B17,BD!$D$3:$G$100,3,FALSE),"") | D17: =IFERROR(VLOOKUP(B17,BD!$D$3:$G$100,4,FALSE),"") | J17: {=IFERROR(INDEX(dates_reunions,MATCH(0,COUNTIF($J$6:J16,dates_reunions),0)),"")}
B18: {=IFERROR(INDEX(BD!$D$3:$D$100,LARGE((BD!$K$3:$K$100=$E$6)*(ROW(BD!$K$3:$K$100)-2),COUNTIF(BD!$K$3:$K$100,$E$6)+1-ROW(A5))),"")} | C18: =IFERROR(VLOOKUP(B18,BD!$D$3:$G$100,3,FALSE),"") | D18: =IFERROR(VLOOKUP(B18,BD!$D$3:$G$100,4,FALSE),"") | J18: {=IFERROR(INDEX(dates_reunions,MATCH(0,COUNTIF($J$6:J17,dates_reunions),0)),"")}
B19: {=IFERROR(INDEX(BD!$D$3:$D$100,LARGE((BD!$K$3:$K$100=$E$6)*(ROW(BD!$K$3:$K$100)-2),COUNTIF(BD!$K$3:$K$100,$E$6)+1-ROW(A6))),"")} | C19: =IFERROR(VLOOKUP(B19,BD!$D$3:$G$100,3,FALSE),"") | D19: =IFERROR(VLOOKUP(B19,BD!$D$3:$G$100,4,FALSE),"") | J19: {=IFERROR(INDEX(dates_reunions,MATCH(0,COUNTIF($J$6:J18,dates_reunions),0)),"")}
B20: {=IFERROR(INDEX(BD!$D$3:$D$100,LARGE((BD!$K$3:$K$100=$E$6)*(ROW(BD!$K$3:$K$100)-2),COUNTIF(BD!$K$3:$K$100,$E$6)+1-ROW(A7))),"")} | C20: =IFERROR(VLOOKUP(B20,BD!$D$3:$G$100,3,FALSE),"") | D20: =IFERROR(VLOOKUP(B20,BD!$D$3:$G$100,4,FALSE),"") | J20: {=IFERROR(INDEX(dates_reunions,MATCH(0,COUNTIF($J$6:J19,dates_reunions),0)),"")}
B21: {=IFERROR(INDEX(BD!$D$3:$D$100,LARGE((BD!$K$3:$K$100=$E$6)*(ROW(BD!$K$3:$K$100)-2),COUNTIF(BD!$K$3:$K$100,$E$6)+1-ROW(A8))),"")} | C21: =IFERROR(VLOOKUP(B21,BD!$D$3:$G$100,3,FALSE),"") | D21: =IFERROR(VLOOKUP(B21,BD!$D$3:$G$100,4,FALSE),"") | J21: {=IFERROR(INDEX(dates_reunions,MATCH(0,COUNTIF($J$6:J20,dates_reunions),0)),"")}
J22: {=IFERROR(INDEX(dates_reunions,MATCH(0,COUNTIF($J$6:J21,dates_reunions),0)),"")}
J23: {=IFERROR(INDEX(dates_reunions,MATCH(0,COUNTIF($J$6:J22,dates_reunions),0)),"")}
J24: {=IFERROR(INDEX(dates_reunions,MATCH(0,COUNTIF($J$6:J23,dates_reunions),0)),"")}
J25: {=IFERROR(INDEX(dates_reunions,MATCH(0,COUNTIF($J$6:J24,dates_reunions),0)),"")}
J26: {=IFERROR(INDEX(dates_reunions,MATCH(0,COUNTIF($J$6:J25,dates_reunions),0)),"")}
J27: {=IFERROR(INDEX(dates_reunions,MATCH(0,COUNTIF($J$6:J26,dates_reunions),0)),"")}
J28: {=IFERROR(INDEX(dates_reunions,MATCH(0,COUNTIF($J$6:J27,dates_reunions),0)),"")}
J29: {=IFERROR(INDEX(dates_reunions,MATCH(0,COUNTIF($J$6:J28,dates_reunions),0)),"")}
J30: {=IFERROR(INDEX(dates_reunions,MATCH(0,COUNTIF($J$6:J29,dates_reunions),0)),"")}
J31: {=IFERROR(INDEX(dates_reunions,MATCH(0,COUNTIF($J$6:J30,dates_reunions),0)),"")}
J32: {=IFERROR(INDEX(dates_reunions,MATCH(0,COUNTIF($J$6:J31,dates_reunions),0)),"")}
J33: {=IFERROR(INDEX(dates_reunions,MATCH(0,COUNTIF($J$6:J32,dates_reunions),0)),"")}
... J100: {=IFERROR(INDEX(dates_reunions,MATCH(0,COUNTIF($J$6:J99,dates_reunions),0)),"")}
