Workbook

Sheet suivi
A1: affaire | B1: heure | C1: statut | G1: GO
A2: ma | B2: 10 | C2: GO | G2: NO GO
A3: ta | B3: 11 | C3: GO
A4: sa | B4: 12 | C4: NO GO
A5: la | B5: 13 | C5: GO
A6: fa | B6: 14 | C6: GO

Sheet planning
A1: affaire | B1: heure
A2: {=IFERROR(INDEX(suivi!A:A,SMALL(IF(suivi!$C$1:$C$1000="GO",ROW($1:$1000)),ROW(A1))),"")} -> ma | B2: {=IFERROR(INDEX(suivi!B:B,SMALL(IF(suivi!$C$1:$C$1000="GO",ROW($1:$1000)),ROW(B1))),"")} -> 10
A3: {=IFERROR(INDEX(suivi!A:A,SMALL(IF(suivi!$C$1:$C$1000="GO",ROW($1:$1000)),ROW(A2))),"")} -> ta | B3: {=IFERROR(INDEX(suivi!B:B,SMALL(IF(suivi!$C$1:$C$1000="GO",ROW($1:$1000)),ROW(B2))),"")} -> 11
A4: {=IFERROR(INDEX(suivi!A:A,SMALL(IF(suivi!$C$1:$C$1000="GO",ROW($1:$1000)),ROW(A3))),"")} -> la | B4: {=IFERROR(INDEX(suivi!B:B,SMALL(IF(suivi!$C$1:$C$1000="GO",ROW($1:$1000)),ROW(B3))),"")} -> 13
A5: {=IFERROR(INDEX(suivi!A:A,SMALL(IF(suivi!$C$1:$C$1000="GO",ROW($1:$1000)),ROW(A4))),"")} -> fa | B5: {=IFERROR(INDEX(suivi!B:B,SMALL(IF(suivi!$C$1:$C$1000="GO",ROW($1:$1000)),ROW(B4))),"")} -> 14
A6: {=IFERROR(INDEX(suivi!A:A,SMALL(IF(suivi!$C$1:$C$1000="GO",ROW($1:$1000)),ROW(A5))),"")} | B6: {=IFERROR(INDEX(suivi!B:B,SMALL(IF(suivi!$C$1:$C$1000="GO",ROW($1:$1000)),ROW(B5))),"")}
A7: {=IFERROR(INDEX(suivi!A:A,SMALL(IF(suivi!$C$1:$C$1000="GO",ROW($1:$1000)),ROW(A6))),"")} | B7: {=IFERROR(INDEX(suivi!B:B,SMALL(IF(suivi!$C$1:$C$1000="GO",ROW($1:$1000)),ROW(B6))),"")}
A8: {=IFERROR(INDEX(suivi!A:A,SMALL(IF(suivi!$C$1:$C$1000="GO",ROW($1:$1000)),ROW(A7))),"")} | B8: {=IFERROR(INDEX(suivi!B:B,SMALL(IF(suivi!$C$1:$C$1000="GO",ROW($1:$1000)),ROW(B7))),"")}
A9: {=IFERROR(INDEX(suivi!A:A,SMALL(IF(suivi!$C$1:$C$1000="GO",ROW($1:$1000)),ROW(A8))),"")} | B9: {=IFERROR(INDEX(suivi!B:B,SMALL(IF(suivi!$C$1:$C$1000="GO",ROW($1:$1000)),ROW(B8))),"")}
A10: {=IFERROR(INDEX(suivi!A:A,SMALL(IF(suivi!$C$1:$C$1000="GO",ROW($1:$1000)),ROW(A9))),"")} | B10: {=IFERROR(INDEX(suivi!B:B,SMALL(IF(suivi!$C$1:$C$1000="GO",ROW($1:$1000)),ROW(B9))),"")}
A11: {=IFERROR(INDEX(suivi!A:A,SMALL(IF(suivi!$C$1:$C$1000="GO",ROW($1:$1000)),ROW(A10))),"")} | B11: {=IFERROR(INDEX(suivi!B:B,SMALL(IF(suivi!$C$1:$C$1000="GO",ROW($1:$1000)),ROW(B10))),"")}
A12: {=IFERROR(INDEX(suivi!A:A,SMALL(IF(suivi!$C$1:$C$1000="GO",ROW($1:$1000)),ROW(A11))),"")} | B12: {=IFERROR(INDEX(suivi!B:B,SMALL(IF(suivi!$C$1:$C$1000="GO",ROW($1:$1000)),ROW(B11))),"")}
A13: {=IFERROR(INDEX(suivi!A:A,SMALL(IF(suivi!$C$1:$C$1000="GO",ROW($1:$1000)),ROW(A12))),"")} | B13: {=IFERROR(INDEX(suivi!B:B,SMALL(IF(suivi!$C$1:$C$1000="GO",ROW($1:$1000)),ROW(B12))),"")}
... A18: {=IFERROR(INDEX(suivi!A:A,SMALL(IF(suivi!$C$1:$C$1000="GO",ROW($1:$1000)),ROW(A17))),"")} | B18: {=IFERROR(INDEX(suivi!B:B,SMALL(IF(suivi!$C$1:$C$1000="GO",ROW($1:$1000)),ROW(B17))),"")}
