Workbook

Sheet Liste
A1: Col1 | B1: Col2 | C1: Col3 | D1: Col4 | E1: Col5 | F1: Col6 | G1: Col7
A2: BTLGPA | B2: AOPEAP | C2: 16384 | D2: 171208 | E2: P | F2: 17 | G2: =IFERROR(INDEX(LF!$E:$E,_xlfn.AGGREGATE(15,6,ROW(LF!$B:$B)/(LF!$B:$B=Liste!$B2), COLUMN(LF!A1))), "") -> AOPEA01 | H2: =IFERROR(INDEX(LF!$E:$E,_xlfn.AGGREGATE(15,6,ROW(LF!$B:$B)/(LF!$B:$B=Liste!$B2), COLUMN(LF!B1))), "") -> AOPEA73 | I2: =IFERROR(INDEX(LF!$E:$E,_xlfn.AGGREGATE(15,6,ROW(LF!$B:$B)/(LF!$B:$B=Liste!$B2), COLUMN(LF!C1))), "") | J2: =IFERROR(INDEX(LF!$E:$E,_xlfn.AGGREGATE(15,6,ROW(LF!$B:$B)/(LF!$B:$B=Liste!$B2), COLUMN(LF!D1))), "") | K2: =IFERROR(INDEX(LF!$E:$E,_xlfn.AGGREGATE(15,6,ROW(LF!$B:$B)/(LF!$B:$B=Liste!F$2), ROW(LF!E1))), "")
A3: BTLGPA | B3: AXESTP | C3: 8192 | D3: 171208 | E3: P | F3: 17 | G3: =IFERROR(INDEX(LF!$E:$E,_xlfn.AGGREGATE(15,6,ROW(LF!$B:$B)/(LF!$B:$B=Liste!$B3), COLUMN(LF!A2))), "") -> AXEST01 | H3: =IFERROR(INDEX(LF!$E:$E,_xlfn.AGGREGATE(15,6,ROW(LF!$B:$B)/(LF!$B:$B=Liste!$B3), COLUMN(LF!B2))), "") -> AXEST60 | I3: =IFERROR(INDEX(LF!$E:$E,_xlfn.AGGREGATE(15,6,ROW(LF!$B:$B)/(LF!$B:$B=Liste!$B3), COLUMN(LF!C2))), "") | J3: =IFERROR(INDEX(LF!$E:$E,_xlfn.AGGREGATE(15,6,ROW(LF!$B:$B)/(LF!$B:$B=Liste!$B3), COLUMN(LF!D2))), "")
A4: BTOD_TEST | B4: AATLANTKP | C4: 8192 | D4: 171208 | E4: P | F4: 17 | G4: =IFERROR(INDEX(LF!$E:$E,_xlfn.AGGREGATE(15,6,ROW(LF!$B:$B)/(LF!$B:$B=Liste!$B4), COLUMN(LF!A3))), "") | H4: =IFERROR(INDEX(LF!$E:$E,_xlfn.AGGREGATE(15,6,ROW(LF!$B:$B)/(LF!$B:$B=Liste!$B4), COLUMN(LF!B3))), "") | I4: =IFERROR(INDEX(LF!$E:$E,_xlfn.AGGREGATE(15,6,ROW(LF!$B:$B)/(LF!$B:$B=Liste!$B4), COLUMN(LF!C3))), "") | J4: =IFERROR(INDEX(LF!$E:$E,_xlfn.AGGREGATE(15,6,ROW(LF!$B:$B)/(LF!$B:$B=Liste!$B4), COLUMN(LF!D3))), "")
A5: BTOD_TEST | B5: ANSAAP | C5: 12288 | D5: 171208 | E5: P | F5: 17 | G5: =IFERROR(INDEX(LF!$E:$E,_xlfn.AGGREGATE(15,6,ROW(LF!$B:$B)/(LF!$B:$B=Liste!$B5), COLUMN(LF!A4))), "") -> ANSAA03 | H5: =IFERROR(INDEX(LF!$E:$E,_xlfn.AGGREGATE(15,6,ROW(LF!$B:$B)/(LF!$B:$B=Liste!$B5), COLUMN(LF!B4))), "") -> ANSAA04 | I5: =IFERROR(INDEX(LF!$E:$E,_xlfn.AGGREGATE(15,6,ROW(LF!$B:$B)/(LF!$B:$B=Liste!$B5), COLUMN(LF!C4))), "") -> ANSAA05 | J5: =IFERROR(INDEX(LF!$E:$E,_xlfn.AGGREGATE(15,6,ROW(LF!$B:$B)/(LF!$B:$B=Liste!$B5), COLUMN(LF!D4))), "") -> ANSAA01
A6: BTOD_TEST | B6: ANSBAP | C6: 8192 | D6: 171208 | E6: P | F6: 17 | G6: =IFERROR(INDEX(LF!$E:$E,_xlfn.AGGREGATE(15,6,ROW(LF!$B:$B)/(LF!$B:$B=Liste!$B6), COLUMN(LF!A5))), "") -> ANSBA01 | H6: =IFERROR(INDEX(LF!$E:$E,_xlfn.AGGREGATE(15,6,ROW(LF!$B:$B)/(LF!$B:$B=Liste!$B6), COLUMN(LF!B5))), "") -> ANSBA99 | I6: =IFERROR(INDEX(LF!$E:$E,_xlfn.AGGREGATE(15,6,ROW(LF!$B:$B)/(LF!$B:$B=Liste!$B6), COLUMN(LF!C5))), "") -> ANSBA11 | J6: =IFERROR(INDEX(LF!$E:$E,_xlfn.AGGREGATE(15,6,ROW(LF!$B:$B)/(LF!$B:$B=Liste!$B6), COLUMN(LF!D5))), "") -> ANSBA10
A7: BTOD_TEST | B7: ANSCAP | C7: 8192 | D7: 171208 | E7: P | F7: 17 | G7: =IFERROR(INDEX(LF!$E:$E,_xlfn.AGGREGATE(15,6,ROW(LF!$B:$B)/(LF!$B:$B=Liste!$B7), COLUMN(LF!A6))), "") -> ANSCA01 | H7: =IFERROR(INDEX(LF!$E:$E,_xlfn.AGGREGATE(15,6,ROW(LF!$B:$B)/(LF!$B:$B=Liste!$B7), COLUMN(LF!B6))), "") -> ANSCA99 | I7: =IFERROR(INDEX(LF!$E:$E,_xlfn.AGGREGATE(15,6,ROW(LF!$B:$B)/(LF!$B:$B=Liste!$B7), COLUMN(LF!C6))), "") -> ANSCA11 | J7: =IFERROR(INDEX(LF!$E:$E,_xlfn.AGGREGATE(15,6,ROW(LF!$B:$B)/(LF!$B:$B=Liste!$B7), COLUMN(LF!D6))), "") -> ANSCA10
A8: BTOD_TEST | B8: ANSRAP | C8: 8192 | D8: 171208 | E8: P | F8: 17 | G8: =IFERROR(INDEX(LF!$E:$E,_xlfn.AGGREGATE(15,6,ROW(LF!$B:$B)/(LF!$B:$B=Liste!$B8), COLUMN(LF!A7))), "") -> ANSRA01 | H8: =IFERROR(INDEX(LF!$E:$E,_xlfn.AGGREGATE(15,6,ROW(LF!$B:$B)/(LF!$B:$B=Liste!$B8), COLUMN(LF!B7))), "") -> ANSRA99 | I8: =IFERROR(INDEX(LF!$E:$E,_xlfn.AGGREGATE(15,6,ROW(LF!$B:$B)/(LF!$B:$B=Liste!$B8), COLUMN(LF!C7))), "") -> ANSRA11 | J8: =IFERROR(INDEX(LF!$E:$E,_xlfn.AGGREGATE(15,6,ROW(LF!$B:$B)/(LF!$B:$B=Liste!$B8), COLUMN(LF!D7))), "") -> ANSRA10
A9: BTOD_TEST | B9: ANSTAP | C9: 8192 | D9: 171208 | E9: P | F9: 17 | G9: =IFERROR(INDEX(LF!$E:$E,_xlfn.AGGREGATE(15,6,ROW(LF!$B:$B)/(LF!$B:$B=Liste!$B9), COLUMN(LF!A8))), "") -> ANSTA01 | H9: =IFERROR(INDEX(LF!$E:$E,_xlfn.AGGREGATE(15,6,ROW(LF!$B:$B)/(LF!$B:$B=Liste!$B9), COLUMN(LF!B8))), "") -> ANSTA99 | I9: =IFERROR(INDEX(LF!$E:$E,_xlfn.AGGREGATE(15,6,ROW(LF!$B:$B)/(LF!$B:$B=Liste!$B9), COLUMN(LF!C8))), "") -> ANSTA11 | J9: =IFERROR(INDEX(LF!$E:$E,_xlfn.AGGREGATE(15,6,ROW(LF!$B:$B)/(LF!$B:$B=Liste!$B9), COLUMN(LF!D8))), "") -> ANSTA10
A10: BTOD_TEST | B10: ANSVAP | C10: 8192 | D10: 171208 | E10: P | F10: 17 | G10: =IFERROR(INDEX(LF!$E:$E,_xlfn.AGGREGATE(15,6,ROW(LF!$B:$B)/(LF!$B:$B=Liste!$B10), COLUMN(LF!A9))), "") -> ANSVA01 | H10: =IFERROR(INDEX(LF!$E:$E,_xlfn.AGGREGATE(15,6,ROW(LF!$B:$B)/(LF!$B:$B=Liste!$B10), COLUMN(LF!B9))), "") -> ANSVA99 | I10: =IFERROR(INDEX(LF!$E:$E,_xlfn.AGGREGATE(15,6,ROW(LF!$B:$B)/(LF!$B:$B=Liste!$B10), COLUMN(LF!C9))), "") -> ANSVA11 | J10: =IFERROR(INDEX(LF!$E:$E,_xlfn.AGGREGATE(15,6,ROW(LF!$B:$B)/(LF!$B:$B=Liste!$B10), COLUMN(LF!D9))), "") -> ANSVA10
A11: BTOD_TEST | B11: IAFCOP_RHU | C11: 12288 | D11: 171208 | E11: P | F11: 17 | G11: =IFERROR(INDEX(LF!$E:$E,_xlfn.AGGREGATE(15,6,ROW(LF!$B:$B)/(LF!$B:$B=Liste!$B11), COLUMN(LF!A10))), "") | H11: =IFERROR(INDEX(LF!$E:$E,_xlfn.AGGREGATE(15,6,ROW(LF!$B:$B)/(LF!$B:$B=Liste!$B11), COLUMN(LF!B10))), "") | I11: =IFERROR(INDEX(LF!$E:$E,_xlfn.AGGREGATE(15,6,ROW(LF!$B:$B)/(LF!$B:$B=Liste!$B11), COLUMN(LF!C10))), "") | J11: =IFERROR(INDEX(LF!$E:$E,_xlfn.AGGREGATE(15,6,ROW(LF!$B:$B)/(LF!$B:$B=Liste!$B11), COLUMN(LF!D10))), "")
A12: BTOD_TEST | B12: IMCRMP_IMH | C12: 8192 | D12: 171208 | E12: P | F12: 17 | G12: =IFERROR(INDEX(LF!$E:$E,_xlfn.AGGREGATE(15,6,ROW(LF!$B:$B)/(LF!$B:$B=Liste!$B12), COLUMN(LF!A11))), "") | H12: =IFERROR(INDEX(LF!$E:$E,_xlfn.AGGREGATE(15,6,ROW(LF!$B:$B)/(LF!$B:$B=Liste!$B12), COLUMN(LF!B11))), "") | I12: =IFERROR(INDEX(LF!$E:$E,_xlfn.AGGREGATE(15,6,ROW(LF!$B:$B)/(LF!$B:$B=Liste!$B12), COLUMN(LF!C11))), "") | J12: =IFERROR(INDEX(LF!$E:$E,_xlfn.AGGREGATE(15,6,ROW(LF!$B:$B)/(LF!$B:$B=Liste!$B12), COLUMN(LF!D11))), "")
A13: BTOD_TEST | B13: IMCRMP_TMP | C13: 8192 | D13: 171208 | E13: P | F13: 17 | G13: =IFERROR(INDEX(LF!$E:$E,_xlfn.AGGREGATE(15,6,ROW(LF!$B:$B)/(LF!$B:$B=Liste!$B13), COLUMN(LF!A12))), "") | H13: =IFERROR(INDEX(LF!$E:$E,_xlfn.AGGREGATE(15,6,ROW(LF!$B:$B)/(LF!$B:$B=Liste!$B13), COLUMN(LF!B12))), "") | I13: =IFERROR(INDEX(LF!$E:$E,_xlfn.AGGREGATE(15,6,ROW(LF!$B:$B)/(LF!$B:$B=Liste!$B13), COLUMN(LF!C12))), "") | J13: =IFERROR(INDEX(LF!$E:$E,_xlfn.AGGREGATE(15,6,ROW(LF!$B:$B)/(LF!$B:$B=Liste!$B13), COLUMN(LF!D12))), "")
A14: BTOD_TEST | B14: IW001P | C14: 8192 | D14: 171208 | E14: P | F14: 17 | G14: =IFERROR(INDEX(LF!$E:$E,_xlfn.AGGREGATE(15,6,ROW(LF!$B:$B)/(LF!$B:$B=Liste!$B14), COLUMN(LF!A13))), "") -> IW00101 | H14: =IFERROR(INDEX(LF!$E:$E,_xlfn.AGGREGATE(15,6,ROW(LF!$B:$B)/(LF!$B:$B=Liste!$B14), COLUMN(LF!B13))), "") | I14: =IFERROR(INDEX(LF!$E:$E,_xlfn.AGGREGATE(15,6,ROW(LF!$B:$B)/(LF!$B:$B=Liste!$B14), COLUMN(LF!C13))), "") | J14: =IFERROR(INDEX(LF!$E:$E,_xlfn.AGGREGATE(15,6,ROW(LF!$B:$B)/(LF!$B:$B=Liste!$B14), COLUMN(LF!D13))), "")
... A16: BTOD_TEST | B16: RSMARP | C16: 12288 | D16: 171208 | E16: P | F16: 17 | G16: =IFERROR(INDEX(LF!$E:$E,_xlfn.AGGREGATE(15,6,ROW(LF!$B:$B)/(LF!$B:$B=Liste!$B16), COLUMN(LF!A15))), "") -> RSMAR01 | H16: =IFERROR(INDEX(LF!$E:$E,_xlfn.AGGREGATE(15,6,ROW(LF!$B:$B)/(LF!$B:$B=Liste!$B16), COLUMN(LF!B15))), "") | I16: =IFERROR(INDEX(LF!$E:$E,_xlfn.AGGREGATE(15,6,ROW(LF!$B:$B)/(LF!$B:$B=Liste!$B16), COLUMN(LF!C15))), "") | J16: =IFERROR(INDEX(LF!$E:$E,_xlfn.AGGREGATE(15,6,ROW(LF!$B:$B)/(LF!$B:$B=Liste!$B16), COLUMN(LF!D15))), "")
G17: =IFERROR(VLOOKUP(B17,LF!B:E,4,0),"")
G18: =IFERROR(VLOOKUP(B18,LF!B:E,4,0),"")
G19: =IFERROR(VLOOKUP(B19,LF!B:E,4,0),"")
G20: =IFERROR(VLOOKUP(B20,LF!B:E,4,0),"")
G21: =IFERROR(VLOOKUP(B21,LF!B:E,4,0),"")
G22: =IFERROR(VLOOKUP(B22,LF!B:E,4,0),"")
G23: =IFERROR(VLOOKUP(B23,LF!B:E,4,0),"")
G24: =IFERROR(VLOOKUP(B24,LF!B:E,4,0),"")
G25: =IFERROR(VLOOKUP(B25,LF!B:E,4,0),"")
G26: =IFERROR(VLOOKUP(B26,LF!B:E,4,0),"")
G27: =IFERROR(VLOOKUP(B27,LF!B:E,4,0),"")
G28: =IFERROR(VLOOKUP(B28,LF!B:E,4,0),"")

Sheet LF
A1: Col1 | B1: Col2 | C1: Col3 | D1: Col4 | E1: Col5
A2: BTLGPA | B2: AOPEAP | C2: 2 | D2: BTLGPA | E2: AOPEA01
A3: BTLGPA | B3: AOPEAP | C3: 2 | D3: BTLGP99 | E3: AOPEA73
A4: BTLGPA | B4: AXESTP | C4: 2 | D4: BTLGPA | E4: AXEST01
A5: BTLGPA | B5: AXESTP | C5: 2 | D5: BTLGP99 | E5: AXEST60
A6: BTOD_TEST | B6: ANSAAP | C6: 7 | D6: BTOD_TEST | E6: ANSAA03
A7: BTOD_TEST | B7: ANSAAP | C7: 7 | D7: BTOD_TEST | E7: ANSAA04
A8: BTOD_TEST | B8: ANSAAP | C8: 7 | D8: BTOD_TEST | E8: ANSAA05
A9: BTOD_TEST | B9: ANSAAP | C9: 7 | D9: BTOD_TEST | E9: ANSAA01
A10: BTOD_TEST | B10: ANSAAP | C10: 7 | D10: BTOD_TEST | E10: ANSAA99
A11: BTOD_TEST | B11: ANSAAP | C11: 7 | D11: BTOD_TEST | E11: ANSAA11
A12: BTOD_TEST | B12: ANSAAP | C12: 7 | D12: BTOD_TEST | E12: ANSAA10
A13: BTOD_TEST | B13: ANSBAP | C13: 4 | D13: BTOD_TEST | E13: ANSBA01
... A36: BTOD_TEST | B36: RSMARP | C36: 1 | D36: BTOD_TEST | E36: RSMAR01
