Workbook

Sheet LISTING GENERAL
A6: Koala | B6: 1 | C6: X | D6: DUPONT | E6: 1 | G6: 1 | J6: 1 | L6: 1 | O6: 1 | Q6: 1 | T6: 1
A7: Coccinelle | B7: 1 | C7: Y | D7: DURANT | F7: 1 | H7: 1 | I7: 1 | R7: 1 | T7: 1
A8: Dauphin | B8: 1 | C8: Z | D8: DUPLAIS | F8: 1 | G8: 1 | K8: 1 | M8: 1 | O8: 1 | Q8: 1 | S8: 1

Sheet LISTING PRESENT
A1: Semaine du 2 au 5 juin 2020
A2: CIRCUIT | C2: Conducteur | D2: Nom Prénom | E2: Mardi | I2: Mercredi | M2: Jeudi | Q2: Vendredi
E3: Arrivée 9h | F3: Départ 12h | G3: Arrivée 13h30 | H3: Départ 16h15 | I3: Arrivée 9h | J3: Départ 12h | K3: Départ 13h30 | L3: Départ 16h15 | M3: Arrivée 9h | N3: Départ 12h | O3: Arrivée 13h30 | P3: Départ 16h15 | Q3: Arrivée 9h | R3: Départ 12h | S3: Arrivée 13h30 | T3: Départ 16h15
A5: ='LISTING GENERAL'!A6 -> Koala | B5: ='LISTING GENERAL'!B6 -> 1 | C5: ='LISTING GENERAL'!C6 -> X | D5: ='LISTING GENERAL'!D6 -> DUPONT | E5: ='LISTING GENERAL'!E6 -> 1 | F5: ='LISTING GENERAL'!F6 -> 0 | G5: ='LISTING GENERAL'!G6 -> 1 | H5: ='LISTING GENERAL'!H6 -> 0 | ... T5: ='LISTING GENERAL'!T6 -> 1
A6: ='LISTING GENERAL'!A7 -> Coccinelle | B6: ='LISTING GENERAL'!B7 -> 1 | C6: ='LISTING GENERAL'!C7 -> Y | D6: ='LISTING GENERAL'!D7 -> DURANT | E6: ='LISTING GENERAL'!E7 -> 0 | F6: ='LISTING GENERAL'!F7 -> 1 | G6: ='LISTING GENERAL'!G7 -> 0 | H6: ='LISTING GENERAL'!H7 -> 1 | ... T6: ='LISTING GENERAL'!T7 -> 1
A7: ='LISTING GENERAL'!A8 -> Dauphin | B7: ='LISTING GENERAL'!B8 -> 1 | C7: ='LISTING GENERAL'!C8 -> Z | D7: ='LISTING GENERAL'!D8 -> DUPLAIS | E7: ='LISTING GENERAL'!E8 -> 0 | F7: ='LISTING GENERAL'!F8 -> 1 | G7: ='LISTING GENERAL'!G8 -> 1 | H7: ='LISTING GENERAL'!H8 -> 0 | ... T7: ='LISTING GENERAL'!T8 -> 0
A8: ='LISTING GENERAL'!A9 -> 0 | B8: ='LISTING GENERAL'!B9 -> 0 | C8: ='LISTING GENERAL'!C9 -> 0 | D8: ='LISTING GENERAL'!D9 -> 0 | E8: ='LISTING GENERAL'!E9 -> 0 | F8: ='LISTING GENERAL'!F9 -> 0 | G8: ='LISTING GENERAL'!G9 -> 0 | H8: ='LISTING GENERAL'!H9 -> 0 | ... T8: ='LISTING GENERAL'!T9 -> 0
A9: ='LISTING GENERAL'!A10 -> 0 | B9: ='LISTING GENERAL'!B10 -> 0 | C9: ='LISTING GENERAL'!C10 -> 0 | D9: ='LISTING GENERAL'!D10 -> 0 | E9: ='LISTING GENERAL'!E10 -> 0 | F9: ='LISTING GENERAL'!F10 -> 0 | G9: ='LISTING GENERAL'!G10 -> 0 | H9: ='LISTING GENERAL'!H10 -> 0 | ... T9: ='LISTING GENERAL'!T10 -> 0
A10: ='LISTING GENERAL'!A11 -> 0 | B10: ='LISTING GENERAL'!B11 -> 0 | C10: ='LISTING GENERAL'!C11 -> 0 | D10: ='LISTING GENERAL'!D11 -> 0 | E10: ='LISTING GENERAL'!E11 -> 0 | F10: ='LISTING GENERAL'!F11 -> 0 | G10: ='LISTING GENERAL'!G11 -> 0 | H10: ='LISTING GENERAL'!H11 -> 0 | ... T10: ='LISTING GENERAL'!T11 -> 0
A11: ='LISTING GENERAL'!A12 -> 0 | B11: ='LISTING GENERAL'!B12 -> 0 | C11: ='LISTING GENERAL'!C12 -> 0 | D11: ='LISTING GENERAL'!D12 -> 0 | E11: ='LISTING GENERAL'!E12 -> 0 | F11: ='LISTING GENERAL'!F12 -> 0 | G11: ='LISTING GENERAL'!G12 -> 0 | H11: ='LISTING GENERAL'!H12 -> 0 | ... T11: ='LISTING GENERAL'!T12 -> 0
