Workbook
Name Balance_utilisée: #REF!
Name Date_Fab: INDEX!$D:$D
Name Equipe: INDEX!$C:$C
Name Grammage: INDEX!#REF!
Name Machine: INDEX!$E:$E
Name N°L_Emballage: INDEX!$I:$I
Name N°lot_MP: INDEX!$G:$G
Name Nom_Machine: #REF!
Name Réf: INDEX!$F:$F
Name Ticket: #REF!
Name TT_PF: INDEX!$H:$H
Name Verification: #REF!

Sheet SAISE
A2: Nom de l'opérateur | B2: Nom de l'opérateur | C2: Date fabrication | D2: Machine | E2: Réf | F2: N°Lot MP | G2: Quantité Total produit fini | H2: N° Lot emballage
A3: A | B3: B | C3: 43852 | D3: 3 | E3: P6 | F3: MP2 | G3: 20 | H3: E10001
A4: C | C4: 43852 | D4: 1 | E4: P3 | F4: MP1 | G4: 33 | H4: 52005813/7145
A5: C | C5: 43852 | D5: 1 | E5: P17 | F5: MP4 | G5: 10 | H5: 52005813/7145
A6: C | C6: 43852 | D6: 1 | E6: P12 | F6: MP9 | G6: 11 | H6: 52005813/7145
A7: C | C7: 43852 | D7: 1 | E7: P2 | F7: MP14 | G7: 81 | H7: 52005813/7145
A8: A | B8: B | C8: 43852 | D8: 3 | E8: P1 | F8: MP2 | G8: 162 | H8: 52004030/6861
A9: A | B9: B | C9: 43852 | D9: 3 | E9: P7 | F9: MP5 | G9: 155 | H9: 52004030/6861
A10: A | B10: B | C10: 43852 | D10: 4 | E10: P10 | F10: MP11 | G10: 98 | H10: 52004030/6861
A11: A | B11: B | C11: 43852 | D11: 4 | E11: P11 | F11: MP12 | G11: 48 | H11: 52004030/6861
A12: A | B12: B | C12: 43852 | D12: 4 | E12: P14 | F12: MP13 | G12: 97 | H12: 52004030/6861
A13: C | C13: 43852 | D13: 1 | E13: P9 | F13: MP10 | G13: 12 | H13: 520005813/7145
A14: A | B14: B | C14: 43852 | D14: 3 | E14: P5 | F14: MP6 | G14: 134 | H14: 52000571/6107
A15: A | B15: B | C15: 43852 | D15: 3 | E15: P8 | F15: MP5 | G15: 20 | H15: 52000571/6107
A16: A | B16: B | C16: 43852 | D16: 3 | E16: P4 | F16: MP6 | G16: 15 | H16: 52000571/6107
A17: C | C17: 43852 | D17: 1 | E17: P15 | F17: MP3 | G17: 10 | H17: 50005813/7145
A18: T | C18: 43852 | D18: 2 | E18: P20 | F18: MP7 | G18: 88 | H18: 11735085003
A19: T | C19: 43852 | D19: 2 | E19: P18 | F19: MP8 | G19: 101 | H19: 11735085003
A20: T | C20: 43852 | D20: 2 | E20: P19 | F20: MP8 | G20: 102 | H20: 11735085003
A21: T | C21: 43852 | D21: 2 | E21: P21 | F21: MP8 | G21: 58 | H21: 11735085003
A22: C | C22: 43852 | D22: 1 | E22: P13 | F22: MP3 | G22: 56 | H22: 11008396
A23: C | C23: 43852 | D23: 1 | E23: P16 | F23: MP4 | G23: 36 | H23: 11008396

Sheet INDEX
C1: Texte | F1: Texte | G1: Texte | I1: Texte
A2: Nom de l'opérateur | B2: Nom de l'opérateur | C2: Equipe | D2: Date fabrication | E2: Machine | F2: Réf | G2: N°Lot MP | H2: Quantité Total produit fini | I2: N° Lot emballage
A3: =IF(SAISE!A3="","",SAISE!A3) -> A | B3: =IF(SAISE!B3="","",SAISE!B3) -> B | C3: =CONCATENATE(A3,IF(B3="",""," & "),B3) -> A & B | D3: =IF(SAISE!C3="","",SAISE!C3) -> 43852 | E3: =IF(SAISE!D3="","",SAISE!D3) -> 3 | F3: =IF(SAISE!E3="","",SAISE!E3) -> P6 | G3: =IF(SAISE!F3="","",SAISE!F3) -> MP2 | H3: =IF(SAISE!G3="","",SAISE!G3) -> 20 | I3: =IF(SAISE!H3="","",SAISE!H3) -> E10001
A4: =IF(SAISE!A8="","",SAISE!A8) -> A | B4: =IF(SAISE!B8="","",SAISE!B8) -> B | C4: =CONCATENATE(A4,IF(B4="",""," & "),B4) -> A & B | D4: =IF(SAISE!C8="","",SAISE!C8) -> 43852 | E4: =IF(SAISE!D8="","",SAISE!D8) -> 3 | F4: =IF(SAISE!E8="","",SAISE!E8) -> P1 | G4: =IF(SAISE!F8="","",SAISE!F8) -> MP2 | H4: =IF(SAISE!G8="","",SAISE!G8) -> 162 | I4: =IF(SAISE!H8="","",SAISE!H8) -> 52004030/6861
A5: =IF(SAISE!A15="","",SAISE!A15) -> A | B5: =IF(SAISE!B15="","",SAISE!B15) -> B | C5: =CONCATENATE(A5,IF(B5="",""," & "),B5) -> A & B | D5: =IF(SAISE!C15="","",SAISE!C15) -> 43852 | E5: =IF(SAISE!D15="","",SAISE!D15) -> 3 | F5: =IF(SAISE!E15="","",SAISE!E15) -> P8 | G5: =IF(SAISE!F15="","",SAISE!F15) -> MP5 | H5: =IF(SAISE!G15="","",SAISE!G15) -> 20 | I5: =IF(SAISE!H15="","",SAISE!H15) -> 52000571/6107
A6: =IF(SAISE!A9="","",SAISE!A9) -> A | B6: =IF(SAISE!B9="","",SAISE!B9) -> B | C6: =CONCATENATE(A6,IF(B6="",""," & "),B6) -> A & B | D6: =IF(SAISE!C9="","",SAISE!C9) -> 43852 | E6: =IF(SAISE!D9="","",SAISE!D9) -> 3 | F6: =IF(SAISE!E9="","",SAISE!E9) -> P7 | G6: =IF(SAISE!F9="","",SAISE!F9) -> MP5 | H6: =IF(SAISE!G9="","",SAISE!G9) -> 155 | I6: =IF(SAISE!H9="","",SAISE!H9) -> 52004030/6861
A7: =IF(SAISE!A14="","",SAISE!A14) -> A | B7: =IF(SAISE!B14="","",SAISE!B14) -> B | C7: =CONCATENATE(A7,IF(B7="",""," & "),B7) -> A & B | D7: =IF(SAISE!C14="","",SAISE!C14) -> 43852 | E7: =IF(SAISE!D14="","",SAISE!D14) -> 3 | F7: =IF(SAISE!E14="","",SAISE!E14) -> P5 | G7: =IF(SAISE!F14="","",SAISE!F14) -> MP6 | H7: =IF(SAISE!G14="","",SAISE!G14) -> 134 | I7: =IF(SAISE!H14="","",SAISE!H14) -> 52000571/6107
A8: =IF(SAISE!A16="","",SAISE!A16) -> A | B8: =IF(SAISE!B16="","",SAISE!B16) -> B | C8: =CONCATENATE(A8,IF(B8="",""," & "),B8) -> A & B | D8: =IF(SAISE!C16="","",SAISE!C16) -> 43852 | E8: =IF(SAISE!D16="","",SAISE!D16) -> 3 | F8: =IF(SAISE!E16="","",SAISE!E16) -> P4 | G8: =IF(SAISE!F16="","",SAISE!F16) -> MP6 | H8: =IF(SAISE!G16="","",SAISE!G16) -> 15 | I8: =IF(SAISE!H16="","",SAISE!H16) -> 52000571/6107
A9: =IF(SAISE!A10="","",SAISE!A10) -> A | B9: =IF(SAISE!B10="","",SAISE!B10) -> B | C9: =CONCATENATE(A9,IF(B9="",""," & "),B9) -> A & B | D9: =IF(SAISE!C10="","",SAISE!C10) -> 43852 | E9: =IF(SAISE!D10="","",SAISE!D10) -> 4 | F9: =IF(SAISE!E10="","",SAISE!E10) -> P10 | G9: =IF(SAISE!F10="","",SAISE!F10) -> MP11 | H9: =IF(SAISE!G10="","",SAISE!G10) -> 98 | I9: =IF(SAISE!H10="","",SAISE!H10) -> 52004030/6861
A10: =IF(SAISE!A11="","",SAISE!A11) -> A | B10: =IF(SAISE!B11="","",SAISE!B11) -> B | C10: =CONCATENATE(A10,IF(B10="",""," & "),B10) -> A & B | D10: =IF(SAISE!C11="","",SAISE!C11) -> 43852 | E10: =IF(SAISE!D11="","",SAISE!D11) -> 4 | F10: =IF(SAISE!E11="","",SAISE!E11) -> P11 | G10: =IF(SAISE!F11="","",SAISE!F11) -> MP12 | H10: =IF(SAISE!G11="","",SAISE!G11) -> 48 | I10: =IF(SAISE!H11="","",SAISE!H11) -> 52004030/6861
A11: =IF(SAISE!A12="","",SAISE!A12) -> A | B11: =IF(SAISE!B12="","",SAISE!B12) -> B | C11: =CONCATENATE(A11,IF(B11="",""," & "),B11) -> A & B | D11: =IF(SAISE!C12="","",SAISE!C12) -> 43852 | E11: =IF(SAISE!D12="","",SAISE!D12) -> 4 | F11: =IF(SAISE!E12="","",SAISE!E12) -> P14 | G11: =IF(SAISE!F12="","",SAISE!F12) -> MP13 | H11: =IF(SAISE!G12="","",SAISE!G12) -> 97 | I11: =IF(SAISE!H12="","",SAISE!H12) -> 52004030/6861
A12: =IF(SAISE!A4="","",SAISE!A4) -> C | B12: =IF(SAISE!B4="","",SAISE!B4) | C12: =CONCATENATE(A12,IF(B12="",""," & "),B12) -> C | D12: =IF(SAISE!C4="","",SAISE!C4) -> 43852 | E12: =IF(SAISE!D4="","",SAISE!D4) -> 1 | F12: =IF(SAISE!E4="","",SAISE!E4) -> P3 | G12: =IF(SAISE!F4="","",SAISE!F4) -> MP1 | H12: =IF(SAISE!G4="","",SAISE!G4) -> 33 | I12: =IF(SAISE!H4="","",SAISE!H4) -> 52005813/7145
A13: =IF(SAISE!A13="","",SAISE!A13) -> C | B13: =IF(SAISE!B13="","",SAISE!B13) | C13: =CONCATENATE(A13,IF(B13="",""," & "),B13) -> C | D13: =IF(SAISE!C13="","",SAISE!C13) -> 43852 | E13: =IF(SAISE!D13="","",SAISE!D13) -> 1 | F13: =IF(SAISE!E13="","",SAISE!E13) -> P9 | G13: =IF(SAISE!F13="","",SAISE!F13) -> MP10 | H13: =IF(SAISE!G13="","",SAISE!G13) -> 12 | I13: =IF(SAISE!H13="","",SAISE!H13) -> 520005813/7145
A14: =IF(SAISE!A7="","",SAISE!A7) -> C | B14: =IF(SAISE!B7="","",SAISE!B7) | C14: =CONCATENATE(A14,IF(B14="",""," & "),B14) -> C | D14: =IF(SAISE!C7="","",SAISE!C7) -> 43852 | E14: =IF(SAISE!D7="","",SAISE!D7) -> 1 | F14: =IF(SAISE!E7="","",SAISE!E7) -> P2 | G14: =IF(SAISE!F7="","",SAISE!F7) -> MP14 | H14: =IF(SAISE!G7="","",SAISE!G7) -> 81 | I14: =IF(SAISE!H7="","",SAISE!H7) -> 52005813/7145
A15: =IF(SAISE!A17="","",SAISE!A17) -> C | B15: =IF(SAISE!B17="","",SAISE!B17) | C15: =CONCATENATE(A15,IF(B15="",""," & "),B15) -> C | D15: =IF(SAISE!C17="","",SAISE!C17) -> 43852 | E15: =IF(SAISE!D17="","",SAISE!D17) -> 1 | F15: =IF(SAISE!E17="","",SAISE!E17) -> P15 | G15: =IF(SAISE!F17="","",SAISE!F17) -> MP3 | H15: =IF(SAISE!G17="","",SAISE!G17) -> 10 | I15: =IF(SAISE!H17="","",SAISE!H17) -> 50005813/7145
A16: =IF(SAISE!A22="","",SAISE!A22) -> C | B16: =IF(SAISE!B22="","",SAISE!B22) | C16: =CONCATENATE(A16,IF(B16="",""," & "),B16) -> C | D16: =IF(SAISE!C22="","",SAISE!C22) -> 43852 | E16: =IF(SAISE!D22="","",SAISE!D22) -> 1 | F16: =IF(SAISE!E22="","",SAISE!E22) -> P13 | G16: =IF(SAISE!F22="","",SAISE!F22) -> MP3 | H16: =IF(SAISE!G22="","",SAISE!G22) -> 56 | I16: =IF(SAISE!H22="","",SAISE!H22) -> 11008396
A17: =IF(SAISE!A5="","",SAISE!A5) -> C | B17: =IF(SAISE!B5="","",SAISE!B5) | C17: =CONCATENATE(A17,IF(B17="",""," & "),B17) -> C | D17: =IF(SAISE!C5="","",SAISE!C5) -> 43852 | E17: =IF(SAISE!D5="","",SAISE!D5) -> 1 | F17: =IF(SAISE!E5="","",SAISE!E5) -> P17 | G17: =IF(SAISE!F5="","",SAISE!F5) -> MP4 | H17: =IF(SAISE!G5="","",SAISE!G5) -> 10 | I17: =IF(SAISE!H5="","",SAISE!H5) -> 52005813/7145
A18: =IF(SAISE!A23="","",SAISE!A23) -> C | B18: =IF(SAISE!B23="","",SAISE!B23) | C18: =CONCATENATE(A18,IF(B18="",""," & "),B18) -> C | D18: =IF(SAISE!C23="","",SAISE!C23) -> 43852 | E18: =IF(SAISE!D23="","",SAISE!D23) -> 1 | F18: =IF(SAISE!E23="","",SAISE!E23) -> P16 | G18: =IF(SAISE!F23="","",SAISE!F23) -> MP4 | H18: =IF(SAISE!G23="","",SAISE!G23) -> 36 | I18: =IF(SAISE!H23="","",SAISE!H23) -> 11008396
A19: =IF(SAISE!A6="","",SAISE!A6) -> C | B19: =IF(SAISE!B6="","",SAISE!B6) | C19: =CONCATENATE(A19,IF(B19="",""," & "),B19) -> C | D19: =IF(SAISE!C6="","",SAISE!C6) -> 43852 | E19: =IF(SAISE!D6="","",SAISE!D6) -> 1 | F19: =IF(SAISE!E6="","",SAISE!E6) -> P12 | G19: =IF(SAISE!F6="","",SAISE!F6) -> MP9 | H19: =IF(SAISE!G6="","",SAISE!G6) -> 11 | I19: =IF(SAISE!H6="","",SAISE!H6) -> 52005813/7145
A20: =IF(SAISE!A18="","",SAISE!A18) -> T | B20: =IF(SAISE!B18="","",SAISE!B18) | C20: =CONCATENATE(A20,IF(B20="",""," & "),B20) -> T | D20: =IF(SAISE!C18="","",SAISE!C18) -> 43852 | E20: =IF(SAISE!D18="","",SAISE!D18) -> 2 | F20: =IF(SAISE!E18="","",SAISE!E18) -> P20 | G20: =IF(SAISE!F18="","",SAISE!F18) -> MP7 | H20: =IF(SAISE!G18="","",SAISE!G18) -> 88 | I20: =IF(SAISE!H18="","",SAISE!H18) -> 11735085003
A21: =IF(SAISE!A21="","",SAISE!A21) -> T | B21: =IF(SAISE!B21="","",SAISE!B21) | C21: =CONCATENATE(A21,IF(B21="",""," & "),B21) -> T | D21: =IF(SAISE!C21="","",SAISE!C21) -> 43852 | E21: =IF(SAISE!D21="","",SAISE!D21) -> 2 | F21: =IF(SAISE!E21="","",SAISE!E21) -> P21 | G21: =IF(SAISE!F21="","",SAISE!F21) -> MP8 | H21: =IF(SAISE!G21="","",SAISE!G21) -> 58 | I21: =IF(SAISE!H21="","",SAISE!H21) -> 11735085003
A22: =IF(SAISE!A20="","",SAISE!A20) -> T | B22: =IF(SAISE!B20="","",SAISE!B20) | C22: =CONCATENATE(A22,IF(B22="",""," & "),B22) -> T | D22: =IF(SAISE!C20="","",SAISE!C20) -> 43852 | E22: =IF(SAISE!D20="","",SAISE!D20) -> 2 | F22: =IF(SAISE!E20="","",SAISE!E20) -> P19 | G22: =IF(SAISE!F20="","",SAISE!F20) -> MP8 | H22: =IF(SAISE!G20="","",SAISE!G20) -> 102 | I22: =IF(SAISE!H20="","",SAISE!H20) -> 11735085003
A23: =IF(SAISE!A19="","",SAISE!A19) -> T | B23: =IF(SAISE!B19="","",SAISE!B19) | C23: =CONCATENATE(A23,IF(B23="",""," & "),B23) -> T | D23: =IF(SAISE!C19="","",SAISE!C19) -> 43852 | E23: =IF(SAISE!D19="","",SAISE!D19) -> 2 | F23: =IF(SAISE!E19="","",SAISE!E19) -> P18 | G23: =IF(SAISE!F19="","",SAISE!F19) -> MP8 | H23: =IF(SAISE!G19="","",SAISE!G19) -> 101 | I23: =IF(SAISE!H19="","",SAISE!H19) -> 11735085003

Sheet STAT
A1: Text | B1: Date | C1: Text | F1: Dans la colonne F je cherche à compter le nombre de valeur différente (unique) de la colonne INDEX!G:G avec les conditions: Date ;Machine; Equipe de la feuille STAT (un peux comme en E3 avec NB.SI.ENS)
A2: Equipe | B2: Date fabrication | C2: Machine N° | D2: Quantité produit | E2: Nbres de Ref | F2: Nbres de MP différent utilisé | G2: Résultat théorique
A3: A & B | B3: 43852 | C3: 3 | D3: =SUMIFS(TT_PF,Date_Fab,STAT!B3,Equipe,STAT!A3,Machine,STAT!C3) -> 506 | E3: =COUNTIFS(Date_Fab,STAT!B3,Equipe,STAT!A3,Machine,STAT!C3) -> 6 | F3: =SUMPRODUCT(((INDEX!$C$3:$C$23=A3)*(INDEX!$D$3:$D$23=B3)*(INDEX!$E$3:$E$23=C3))/(COUNTIFS(INDEX!$G$3:$G$23,INDEX!$G$3:$G$23,INDEX!$C$3:$C$23,A3,INDEX!$D$3:$D$23,B3,INDEX!$E$3:$E$23,C3)+((INDEX!$C$3:$C$23<>A3)+(INDEX!$D$3:$D$23<>B3)+(INDEX!$E$3:$E$23<>C3)))) -> 3 | G3: 3
A4: A & B | B4: 43852 | C4: 4 | D4: =SUMIFS(TT_PF,Date_Fab,STAT!B4,Equipe,STAT!A4,Machine,STAT!C4) -> 243 | E4: =COUNTIFS(Date_Fab,STAT!B4,Equipe,STAT!A4,Machine,STAT!C4) -> 3 | F4: =SUMPRODUCT(((INDEX!$C$3:$C$23=A4)*(INDEX!$D$3:$D$23=B4)*(INDEX!$E$3:$E$23=C4))/(COUNTIFS(INDEX!$G$3:$G$23,INDEX!$G$3:$G$23,INDEX!$C$3:$C$23,A4,INDEX!$D$3:$D$23,B4,INDEX!$E$3:$E$23,C4)+((INDEX!$C$3:$C$23<>A4)+(INDEX!$D$3:$D$23<>B4)+(INDEX!$E$3:$E$23<>C4)))) -> 3 | G4: 3
A5: C | B5: 43852 | C5: 1 | D5: =SUMIFS(TT_PF,Date_Fab,STAT!B5,Equipe,STAT!A5,Machine,STAT!C5) -> 249 | E5: =COUNTIFS(Date_Fab,STAT!B5,Equipe,STAT!A5,Machine,STAT!C5) -> 8 | F5: =SUMPRODUCT(((INDEX!$C$3:$C$23=A5)*(INDEX!$D$3:$D$23=B5)*(INDEX!$E$3:$E$23=C5))/(COUNTIFS(INDEX!$G$3:$G$23,INDEX!$G$3:$G$23,INDEX!$C$3:$C$23,A5,INDEX!$D$3:$D$23,B5,INDEX!$E$3:$E$23,C5)+((INDEX!$C$3:$C$23<>A5)+(INDEX!$D$3:$D$23<>B5)+(INDEX!$E$3:$E$23<>C5)))) -> 6 | G5: 6
A6: T | B6: 43852 | C6: 2 | D6: =SUMIFS(TT_PF,Date_Fab,STAT!B6,Equipe,STAT!A6,Machine,STAT!C6) -> 349 | E6: =COUNTIFS(Date_Fab,STAT!B6,Equipe,STAT!A6,Machine,STAT!C6) -> 4 | F6: =SUMPRODUCT(((INDEX!$C$3:$C$23=A6)*(INDEX!$D$3:$D$23=B6)*(INDEX!$E$3:$E$23=C6))/(COUNTIFS(INDEX!$G$3:$G$23,INDEX!$G$3:$G$23,INDEX!$C$3:$C$23,A6,INDEX!$D$3:$D$23,B6,INDEX!$E$3:$E$23,C6)+((INDEX!$C$3:$C$23<>A6)+(INDEX!$D$3:$D$23<>B6)+(INDEX!$E$3:$E$23<>C6)))) -> 2 | G6: 2
