Workbook

Sheet Résultat
B1: Année | C1: 43830
A3: Code | B3: Montant de l'encours | C3: Montant restant | D3: Int | E3: ICNE | F3: Date de valeur | G3: Date de maturité | H3: Date de premier remboursement
A4: ACDE | B4: =VLOOKUP(A4,Tableaux!A:G,4,0) -> 2500 | C4: {=INDEX(Tableaux!D:D,MATCH(1,(Tableaux!A:A=A4)*(Tableaux!C:C>=TODAY()),0))} -> 312.5 | D4: =SUMIFS(Tableaux!F:F,Tableaux!A:A,A4,Tableaux!C:C,"<"&TODAY()) -> 475.26042 | E4: {=ROUNDUP(INDEX(Tableaux!F:F,MATCH(1,(Tableaux!A:A=A4)*(Tableaux!C:C>=TODAY()),0))*(($C$1-INDEX(Tableaux!C:C,MATCH(1,(Tableaux!A:A=A4)*(Tableaux!C:C>=TODAY()),0)-1))/(INDEX(Tableaux!C:C,MATCH(1,(Tableaux!A:A=A4)*(Tableaux!C:C>=TODAY()),0))-INDEX(Tableaux!C:C,MATCH(1,(Tableaux!A:A=A4)*(Tableaux!C:C>=TODAY()),0)-1))),0)} -> 0 | F4: =VLOOKUP(A4,Tableaux!A:B,2,0) -> 42552 | G4: =LOOKUP(2,1/(Tableaux!A:A=A4),Tableaux!C:C) -> 44012 | H4: {=INDEX(Tableaux!C:C,MATCH(1,(Tableaux!A:A=A4)*(Tableaux!E:E>1),0))} -> 42735
A5: AZET | B5: =VLOOKUP(A5,Tableaux!A:G,4,0) -> 4400 | C5: {=INDEX(Tableaux!D:D,MATCH(1,(Tableaux!A:A=A5)*(Tableaux!C:C>=TODAY()),0))} -> 4190 | D5: =SUMIFS(Tableaux!F:F,Tableaux!A:A,A5,Tableaux!C:C,"<"&TODAY()) -> 58.629359 | E5: {=ROUNDUP(INDEX(Tableaux!F:F,MATCH(1,(Tableaux!A:A=A5)*(Tableaux!C:C>=TODAY()),0))*(($C$1-INDEX(Tableaux!C:C,MATCH(1,(Tableaux!A:A=A5)*(Tableaux!C:C>=TODAY()),0)-1))/(INDEX(Tableaux!C:C,MATCH(1,(Tableaux!A:A=A5)*(Tableaux!C:C>=TODAY()),0))-INDEX(Tableaux!C:C,MATCH(1,(Tableaux!A:A=A5)*(Tableaux!C:C>=TODAY()),0)-1))),0)} -> 10 | F5: =VLOOKUP(A5,Tableaux!A:B,2,0) -> 43405 | G5: =LOOKUP(2,1/(Tableaux!A:A=A5),Tableaux!C:C) -> 44865 | H5: {=INDEX(Tableaux!C:C,MATCH(1,(Tableaux!A:A=A5)*(Tableaux!E:E>1),0))} -> 43585
A6: AMFE | B6: =VLOOKUP(A6,Tableaux!A:G,4,0) -> 8610.0958 | C6: {=INDEX(Tableaux!D:D,MATCH(1,(Tableaux!A:A=A6)*(Tableaux!C:C>=TODAY()),0))} -> 8610.0958 | D6: =SUMIFS(Tableaux!F:F,Tableaux!A:A,A6,Tableaux!C:C,"<"&TODAY()) -> 0.803582 | E6: {=ROUNDUP(INDEX(Tableaux!F:F,MATCH(1,(Tableaux!A:A=A6)*(Tableaux!C:C>=TODAY()),0))*(($C$1-INDEX(Tableaux!C:C,MATCH(1,(Tableaux!A:A=A6)*(Tableaux!C:C>=TODAY()),0)-1))/(INDEX(Tableaux!C:C,MATCH(1,(Tableaux!A:A=A6)*(Tableaux!C:C>=TODAY()),0))-INDEX(Tableaux!C:C,MATCH(1,(Tableaux!A:A=A6)*(Tableaux!C:C>=TODAY()),0)-1))),0)} -> 50 | F6: =VLOOKUP(A6,Tableaux!A:B,2,0) -> 43435 | G6: =LOOKUP(2,1/(Tableaux!A:A=A6),Tableaux!C:C) -> 31/11/2022 | H6: {=INDEX(Tableaux!C:C,MATCH(1,(Tableaux!A:A=A6)*(Tableaux!E:E>1),0))} -> 43982
F22: ="F"&MATCH(VLOOKUP(A4,Tableaux!$A$1:$G$25,4,0),Tableaux!F2:F25,0) -> #N/A

Sheet Tableaux
A1: Code | B1: Valeur | C1: Échéance | D1: KRD | E1: RBT | F1: Intérêt | G1: Annuité
A2: ACDE | B2: 42552 | C2: 42735 | D2: 2500 | E2: 312.5 | F2: 95.833333 | G2: 408.33333
A3: ACDE | B3: 42736 | C3: 42916 | D3: 2187.5 | E3: 312.5 | F3: 82.486979 | G3: 394.98698
A4: ACDE | B4: 42917 | C4: 43100 | D4: 1875 | E4: 312.5 | F4: 71.875 | G4: 384.375
A5: ACDE | B5: 43101 | C5: 43281 | D5: 1562.5 | E5: 312.5 | F5: 58.919271 | G5: 371.41927
A6: ACDE | B6: 43282 | C6: 43465 | D6: 1250 | E6: 312.5 | F6: 47.916667 | G6: 360.41667
A7: ACDE | B7: 43466 | C7: 43646 | D7: 937.5 | E7: 312.5 | F7: 94.270833 | G7: 406.77083
A8: ACDE | B8: 43647 | C8: 43830 | D8: 625 | E8: 312.5 | F8: 23.958333 | G8: 336.45833
A9: ACDE | B9: 43831 | C9: 44012 | D9: 312.5 | E9: 312.5 | F9: 11.848958 | G9: 324.34896
A10: AZET | B10: 43405 | C10: 43585 | D10: 4400 | E10: 105.25 | F10: 27.837855 | G10: 133.08785
A11: AZET | B11: 43586 | C11: 43769 | D11: 4294.75 | E11: 104.75 | F11: 30.791504 | G11: 135.5415
A12: AZET | B12: 43770 | C12: 43951 | D12: 4190 | E12: 104.75 | F12: 29.721872 | G12: 134.47187
A13: AZET | B13: 43952 | C13: 44135 | D13: 4085.25 | E13: 104.75 | F13: 29.209664 | G13: 133.95966
... A24: AMFE | B24: 44531 | C24: 44712 | D24: 5918 | E24: 538 | F24: 206.71156 | G24: 744.71156
A25: AMFE | B25: 44713 | C25: 31/11/2022 | D25: 5380 | E25: 538 | F25: 206.71156 | G25: 744.71156
