Workbook
Name dates: OFFSET(Feuil1!$J$7,,,MATCH("zzzzz",Feuil1!$J:$J))
Name datescongrès: Feuil1!$J:$J
Name lieu: OFFSET(Feuil1!$N$7,,,MATCH("zzzzz",Feuil1!$N:$N))
Name lieu_congrès: Feuil1!$N:$N
Name nom_congrès: Feuil1!$L:$L
Name noms: OFFSET(Feuil1!$L$7,,,MATCH("zzzzz",Feuil1!$J:$J))

Sheet Base de données Congrès
A6: Jour début | B6: Mois début | C6: Année | D6: Date début | E6: Jour fin | F6: Mois fin | G6: Année2 | H6: Nombre | I6: Date fin | J6: Date évenement | K6: Nom | L6: Lieu | M6: Inscrit | N6: Prix | O6: Participation HELPP | P6: Participants | Q6: Organisateur | R6: Matériels à prévoir
A7: 11 | B7: 1 | C7: 2019 | D7: =+DATE(C7,B7,A7) -> 43476 | E7: 12 | F7: 1 | G7: 2019 | H7: =CONCATENATE(TEXT(I7,"jj/mm/aaaa")&"_"&COUNTIF($I$7:I7,I7)) -> 12/01/2019_1 | I7: =+DATE(Tableau3[[#This Row],[Année2]],Tableau3[[#This Row],[Mois fin]],Tableau3[[#This Row],[Jour fin]]) -> 43477 | J7: =IF(D7=I7,CONCATENATE("Le "&TEXT(D7,"jj mmmm")),CONCATENATE("Du "&TEXT(D7,"jj mmmm")&" au "&TEXT(I7,"jj mmmm"))) -> Du 11 janvier au 12 janvier | K7: AM | L7: Palavas les Flot | M7: oui | P7: JO; FD; FR
A8: 18 | B8: 1 | C8: 2019 | D8: =+DATE(C8,B8,A8) -> 43483 | E8: 18 | F8: 1 | G8: 2019 | H8: =CONCATENATE(TEXT(I8,"jj/mm/aaaa")&"_"&COUNTIF($I$7:I8,I8)) -> 18/01/2019_1 | I8: =+DATE(Tableau3[[#This Row],[Année2]],Tableau3[[#This Row],[Mois fin]],Tableau3[[#This Row],[Jour fin]]) -> 43483 | J8: =IF(D8=I8,CONCATENATE("Le "&TEXT(D8,"jj mmmm")),CONCATENATE("Du "&TEXT(D8,"jj mmmm")&" au "&TEXT(I8,"jj mmmm"))) -> Le 18 janvier | K8: R 360 | L8: Toulouse | M8: oui
A9: 19 | B9: 1 | C9: 2019 | D9: =+DATE(C9,B9,A9) -> 43484 | E9: 19 | F9: 1 | G9: 2019 | H9: =CONCATENATE(TEXT(I9,"jj/mm/aaaa")&"_"&COUNTIF($I$7:I9,I9)) -> 19/01/2019_1 | I9: =+DATE(Tableau3[[#This Row],[Année2]],Tableau3[[#This Row],[Mois fin]],Tableau3[[#This Row],[Jour fin]]) -> 43484 | J9: =IF(D9=I9,CONCATENATE("Le "&TEXT(D9,"jj mmmm")),CONCATENATE("Du "&TEXT(D9,"jj mmmm")&" au "&TEXT(I9,"jj mmmm"))) -> Le 19 janvier | K9: SFR | L9: Paris | M9: oui
A10: 7 | B10: 2 | C10: 2019 | D10: =+DATE(C10,B10,A10) -> 43503 | E10: 9 | F10: 2 | G10: 2019 | H10: =CONCATENATE(TEXT(I10,"jj/mm/aaaa")&"_"&COUNTIF($I$7:I10,I10)) -> 09/02/2019_1 | I10: =+DATE(Tableau3[[#This Row],[Année2]],Tableau3[[#This Row],[Mois fin]],Tableau3[[#This Row],[Jour fin]]) -> 43505 | J10: =IF(D10=I10,CONCATENATE("Le "&TEXT(D10,"jj mmmm")),CONCATENATE("Du "&TEXT(D10,"jj mmmm")&" au "&TEXT(I10,"jj mmmm"))) -> Du 07 février au 09 février | K10: SM | L10: Maroc | M10: oui
A11: 7 | B11: 3 | C11: 2019 | D11: =+DATE(C11,B11,A11) -> 43531 | E11: 9 | F11: 3 | G11: 2019 | H11: =CONCATENATE(TEXT(I11,"jj/mm/aaaa")&"_"&COUNTIF($I$7:I11,I11)) -> 09/03/2019_1 | I11: =+DATE(Tableau3[[#This Row],[Année2]],Tableau3[[#This Row],[Mois fin]],Tableau3[[#This Row],[Jour fin]]) -> 43533 | J11: =IF(D11=I11,CONCATENATE("Le "&TEXT(D11,"jj mmmm")),CONCATENATE("Du "&TEXT(D11,"jj mmmm")&" au "&TEXT(I11,"jj mmmm"))) -> Du 07 mars au 09 mars | K11: JR | L11: Paris | M11: oui
A12: 15 | B12: 3 | C12: 2019 | D12: =+DATE(C12,B12,A12) -> 43539 | E12: 15 | F12: 3 | G12: 2019 | H12: =CONCATENATE(TEXT(I12,"jj/mm/aaaa")&"_"&COUNTIF($I$7:I12,I12)) -> 15/03/2019_1 | I12: =+DATE(Tableau3[[#This Row],[Année2]],Tableau3[[#This Row],[Mois fin]],Tableau3[[#This Row],[Jour fin]]) -> 43539 | J12: =IF(D12=I12,CONCATENATE("Le "&TEXT(D12,"jj mmmm")),CONCATENATE("Du "&TEXT(D12,"jj mmmm")&" au "&TEXT(I12,"jj mmmm"))) -> Le 15 mars | K12: RI | L12: Bordeaux | M12: oui
A13: 22 | B13: 3 | C13: 2019 | D13: =+DATE(C13,B13,A13) -> 43546 | E13: 22 | F13: 3 | G13: 2019 | H13: =CONCATENATE(TEXT(I13,"jj/mm/aaaa")&"_"&COUNTIF($I$7:I13,I13)) -> 22/03/2019_1 | I13: =+DATE(Tableau3[[#This Row],[Année2]],Tableau3[[#This Row],[Mois fin]],Tableau3[[#This Row],[Jour fin]]) -> 43546 | J13: =IF(D13=I13,CONCATENATE("Le "&TEXT(D13,"jj mmmm")),CONCATENATE("Du "&TEXT(D13,"jj mmmm")&" au "&TEXT(I13,"jj mmmm"))) -> Le 22 mars | K13: Duo | L13: Montpellier | M13: non
A14: 23 | B14: 3 | C14: 2019 | D14: =+DATE(C14,B14,A14) -> 43547 | E14: 24 | F14: 3 | G14: 2019 | H14: =CONCATENATE(TEXT(I14,"jj/mm/aaaa")&"_"&COUNTIF($I$7:I14,I14)) -> 24/03/2019_1 | I14: =+DATE(Tableau3[[#This Row],[Année2]],Tableau3[[#This Row],[Mois fin]],Tableau3[[#This Row],[Jour fin]]) -> 43548 | J14: =IF(D14=I14,CONCATENATE("Le "&TEXT(D14,"jj mmmm")),CONCATENATE("Du "&TEXT(D14,"jj mmmm")&" au "&TEXT(I14,"jj mmmm"))) -> Du 23 mars au 24 mars | L14: Paris
A15: 29 | B15: 3 | C15: 2019 | D15: =+DATE(C15,B15,A15) -> 43553 | E15: 29 | F15: 3 | G15: 2019 | H15: =CONCATENATE(TEXT(I15,"jj/mm/aaaa")&"_"&COUNTIF($I$7:I15,I15)) -> 29/03/2019_1 | I15: =+DATE(Tableau3[[#This Row],[Année2]],Tableau3[[#This Row],[Mois fin]],Tableau3[[#This Row],[Jour fin]]) -> 43553 | J15: =IF(D15=I15,CONCATENATE("Le "&TEXT(D15,"jj mmmm")),CONCATENATE("Du "&TEXT(D15,"jj mmmm")&" au "&TEXT(I15,"jj mmmm"))) -> Le 29 mars | K15: Pratique | M15: non
A16: 29 | B16: 3 | C16: 2019 | D16: =+DATE(C16,B16,A16) -> 43553 | E16: 29 | F16: 3 | G16: 2019 | H16: =CONCATENATE(TEXT(I16,"jj/mm/aaaa")&"_"&COUNTIF($I$7:I16,I16)) -> 29/03/2019_2 | I16: =+DATE(Tableau3[[#This Row],[Année2]],Tableau3[[#This Row],[Mois fin]],Tableau3[[#This Row],[Jour fin]]) -> 43553 | J16: =IF(D16=I16,CONCATENATE("Le "&TEXT(D16,"jj mmmm")),CONCATENATE("Du "&TEXT(D16,"jj mmmm")&" au "&TEXT(I16,"jj mmmm"))) -> Le 29 mars | K16: SC | L16: Paris | M16: oui
H17: =CONCATENATE(TEXT(I17,"jj/mm/aaaa")&"_"&COUNTIF($I$7:I17,I17)) -> 00/01/1900_0
H18: =CONCATENATE(TEXT(I18,"jj/mm/aaaa")&"_"&COUNTIF($I$7:I18,I18)) -> 00/01/1900_0
H19: =CONCATENATE(TEXT(I19,"jj/mm/aaaa")&"_"&COUNTIF($I$7:I19,I19)) -> 00/01/1900_0
H20: =CONCATENATE(TEXT(I20,"jj/mm/aaaa")&"_"&COUNTIF($I$7:I20,I20)) -> 00/01/1900_0
H21: =CONCATENATE(TEXT(I21,"jj/mm/aaaa")&"_"&COUNTIF($I$7:I21,I21)) -> 00/01/1900_0
H22: =CONCATENATE(TEXT(I22,"jj/mm/aaaa")&"_"&COUNTIF($I$7:I22,I22)) -> 00/01/1900_0
H23: =CONCATENATE(TEXT(I23,"jj/mm/aaaa")&"_"&COUNTIF($I$7:I23,I23)) -> 00/01/1900_0
H24: =CONCATENATE(TEXT(I24,"jj/mm/aaaa")&"_"&COUNTIF($I$7:I24,I24)) -> 00/01/1900_0
H25: =CONCATENATE(TEXT(I25,"jj/mm/aaaa")&"_"&COUNTIF($I$7:I25,I25)) -> 00/01/1900_0
H26: =CONCATENATE(TEXT(I26,"jj/mm/aaaa")&"_"&COUNTIF($I$7:I26,I26)) -> 00/01/1900_0
H27: =CONCATENATE(TEXT(I27,"jj/mm/aaaa")&"_"&COUNTIF($I$7:I27,I27)) -> 00/01/1900_0
H28: =CONCATENATE(TEXT(I28,"jj/mm/aaaa")&"_"&COUNTIF($I$7:I28,I28)) -> 00/01/1900_0
... H186: =CONCATENATE(TEXT(I186,"jj/mm/aaaa")&"_"&COUNTIF($I$7:I186,I186)) -> 00/01/1900_0

Sheet Feuil1
B2: Planning congrès | J2: Informations congrès
F4: Année
F5: Mois
AH6: Mois | AI6: Résultat | AJ6: Années | AK6: Résultats | AL6: Jours | AM6: NB Occurrences | AN6: Dates | AO6: Jsemaine | AP6: Périodes
B7: =PROPER(TEXT(DATE($AK$7+2017,$AI$7,$AL7),"jjjj")) -> 2019 | C7: =PROPER(TEXT(DATE($AK$7+2017,$AI$7,$AL7)+1,"jjjj")) -> 2019 | D7: =PROPER(TEXT(DATE($AK$7+2017,$AI$7,$AL7+2),"jjjj")) -> 2019 | E7: =PROPER(TEXT(DATE($AK$7+2017,$AI$7,$AL7+3),"jjjj")) -> 2019 | F7: =PROPER(TEXT(DATE($AK$7+2017,$AI$7,$AL7)+4,"jjjj")) -> 2019 | G7: =PROPER(TEXT(DATE($AK$7+2017,$AI$7,$AL7+5),"jjjj")) -> 2019 | H7: =PROPER(TEXT(DATE($AK$7+2017,$AI$7,$AL7+6),"jjjj")) -> 2019 | J7: Dates | K7: {=INDEX(datescongrès,MIN(IF(dates<>"",IF(COUNTIF(K$6:K6,dates)=0,ROW(dates)))))&""} -> Dates | L7: Noms Congrés | M7: =INDEX(nom_congrès,MIN(IF(noms<>"",IF(COUNTIF(M$6:M6,noms)=0,ROW(noms)))))&"" -> Noms Congrés | N7: Lieu | O7: {=INDEX(lieu_congrès,MIN(IF(lieu<>"",IF(COUNTIF(O$6:O6,lieu)=0,ROW(lieu)))))&""} -> Lieu | AH7: Janvier | AI7: 3 | AJ7: 2018 | AK7: 2 | AL7: 1 | AM7: =COUNTIF(Tableau3[Date fin],Feuil1!AN7) -> 0 | AN7: =DATE($AK$7+2017,$AI$7,AL7) -> 43525 | AO7: =WEEKDAY(AN7,2) -> 5 | AP7: =DATE($AK$7+2017,$AI$7,$AL$7) -> 43525
B8: =AN7 -> 43525 | C8: =B8+1 -> 43526 | D8: =C8+1 -> 43527 | E8: =D8+1 -> 43528 | F8: =E8+1 -> 43529 | G8: =F8+1 -> 43530 | H8: =G8+1 -> 43531 | J8: =IFERROR(VLOOKUP(AN7,'Base de données Congrès'!I:J,2,0),"") | K8: {=INDEX(datescongrès,MIN(IF(dates<>"",IF(COUNTIF(K$6:K7,dates)=0,ROW(dates)))))&""} -> Du 07 mars au 09 mars | L8: =IFERROR(VLOOKUP(AN7,'Base de données Congrès'!I:K,3,0),"") | M8: {=INDEX(nom_congrès,MIN(IF(noms<>"",IF(COUNTIF(M$6:M7,noms)=0,ROW(noms)))))&""} -> JR | N8: =IFERROR(VLOOKUP(AN7,'Base de données Congrès'!I:L,4,0),"") | O8: =VLOOKUP(K8,J16:N36,5,0) -> Paris | AH8: Février | AJ8: 2019 | AL8: 2 | AM8: =COUNTIF(Tableau3[Date fin],Feuil1!AN8) -> 0 | AN8: =IFERROR(IF(AN7+1>$AP$8,"-",AN7+1),"") -> 43526 | AO8: =WEEKDAY(AN8,2) -> 6 | AP8: =DATE($AK$7+2017,$AI$7+1,$AL$7)-1 -> 43555
B9: =H8+1 -> 43532 | C9: =B9+1 -> 43533 | D9: =C9+1 -> 43534 | E9: =D9+1 -> 43535 | F9: =E9+1 -> 43536 | G9: =F9+1 -> 43537 | H9: =G9+1 -> 43538 | J9: =IFERROR(VLOOKUP(AN8,'Base de données Congrès'!I:J,2,0),"") | K9: {=INDEX(datescongrès,MIN(IF(dates<>"",IF(COUNTIF(K$6:K8,dates)=0,ROW(dates)))))&""} -> Le 15 mars | L9: =IFERROR(VLOOKUP(AN8,'Base de données Congrès'!I:K,3,0),"") | M9: {=INDEX(nom_congrès,MIN(IF(noms<>"",IF(COUNTIF(M$6:M8,noms)=0,ROW(noms)))))&""} -> RI | N9: =IFERROR(VLOOKUP(AN8,'Base de données Congrès'!I:L,4,0),"") | O9: =VLOOKUP(K9,J17:N37,5,0) -> Bordeaux | AH9: Mars | AJ9: 2020 | AL9: 3 | AM9: =COUNTIF(Tableau3[Date fin],Feuil1!AN9) -> 0 | AN9: =IFERROR(IF(AN8+1>$AP$8,"-",AN8+1),"") -> 43527 | AO9: =WEEKDAY(AN9,2) -> 7
B10: =H9+1 -> 43539 | C10: =B10+1 -> 43540 | D10: =C10+1 -> 43541 | E10: =D10+1 -> 43542 | F10: =E10+1 -> 43543 | G10: =F10+1 -> 43544 | H10: =G10+1 -> 43545 | J10: =IFERROR(VLOOKUP(AN9,'Base de données Congrès'!I:J,2,0),"") | K10: {=INDEX(datescongrès,MIN(IF(dates<>"",IF(COUNTIF(K$6:K9,dates)=0,ROW(dates)))))&""} -> Le 22 mars | L10: =IFERROR(VLOOKUP(AN9,'Base de données Congrès'!I:K,3,0),"") | M10: {=INDEX(nom_congrès,MIN(IF(noms<>"",IF(COUNTIF(M$6:M9,noms)=0,ROW(noms)))))&""} -> Duo | N10: =IFERROR(VLOOKUP(AN9,'Base de données Congrès'!I:L,4,0),"") | O10: =VLOOKUP(K10,J18:N38,5,0) -> Montpellier | AH10: Avril | AJ10: 2021 | AL10: 4 | AM10: =COUNTIF(Tableau3[Date fin],Feuil1!AN10) -> 0 | AN10: =IFERROR(IF(AN9+1>$AP$8,"-",AN9+1),"") -> 43528 | AO10: =WEEKDAY(AN10,2) -> 1
B11: =H10+1 -> 43546 | C11: =B11+1 -> 43547 | D11: =C11+1 -> 43548 | E11: =D11+1 -> 43549 | F11: =E11+1 -> 43550 | G11: =F11+1 -> 43551 | H11: =G11+1 -> 43552 | J11: =IFERROR(VLOOKUP(AN10,'Base de données Congrès'!I:J,2,0),"") | K11: {=INDEX(datescongrès,MIN(IF(dates<>"",IF(COUNTIF(K$6:K10,dates)=0,ROW(dates)))))&""} -> Du 23 mars au 24 mars | L11: =IFERROR(VLOOKUP(AN10,'Base de données Congrès'!I:K,3,0),"") | M11: {=INDEX(nom_congrès,MIN(IF(noms<>"",IF(COUNTIF(M$6:M10,noms)=0,ROW(noms)))))&""} -> 0 | N11: =IFERROR(VLOOKUP(AN10,'Base de données Congrès'!I:L,4,0),"") | O11: =VLOOKUP(K11,J19:N39,5,0) -> Paris | AH11: Mai | AJ11: 2022 | AL11: 5 | AM11: =COUNTIF(Tableau3[Date fin],Feuil1!AN11) -> 0 | AN11: =IFERROR(IF(AN10+1>$AP$8,"-",AN10+1),"") -> 43529 | AO11: =WEEKDAY(AN11,2) -> 2
B12: =H11+1 -> 43553 | C12: =B12+1 -> 43554 | D12: =C12+1 -> 43555 | E12: =D12+1 -> 43556 | F12: =E12+1 -> 43557 | G12: =F12+1 -> 43558 | H12: =G12+1 -> 43559 | J12: =IFERROR(VLOOKUP(AN11,'Base de données Congrès'!I:J,2,0),"") | K12: {=INDEX(datescongrès,MIN(IF(dates<>"",IF(COUNTIF(K$6:K11,dates)=0,ROW(dates)))))&""} -> Le 29 mars | L12: =IFERROR(VLOOKUP(AN11,'Base de données Congrès'!I:K,3,0),"") | M12: {=INDEX(nom_congrès,MIN(IF(noms<>"",IF(COUNTIF(M$6:M11,noms)=0,ROW(noms)))))&""} -> Pratique | N12: =IFERROR(VLOOKUP(AN11,'Base de données Congrès'!I:L,4,0),"") | O12: =VLOOKUP(K12,J20:N40,5,0) -> 0 | AH12: Juin | AL12: 6 | AM12: =COUNTIF(Tableau3[Date fin],Feuil1!AN12) -> 0 | AN12: =IFERROR(IF(AN11+1>$AP$8,"-",AN11+1),"") -> 43530 | AO12: =WEEKDAY(AN12,2) -> 3
J13: =IFERROR(VLOOKUP(AN12,'Base de données Congrès'!I:J,2,0),"") | K13: {=INDEX(datescongrès,MIN(IF(dates<>"",IF(COUNTIF(K$6:K12,dates)=0,ROW(dates)))))&""} | L13: =IFERROR(VLOOKUP(AN12,'Base de données Congrès'!I:K,3,0),"") | M13: {=INDEX(nom_congrès,MIN(IF(noms<>"",IF(COUNTIF(M$6:M12,noms)=0,ROW(noms)))))&""} | N13: =IFERROR(VLOOKUP(AN12,'Base de données Congrès'!I:L,4,0),"") | O13: {=INDEX(lieu_congrès,MIN(IF(lieu<>"",IF(COUNTIF(O$6:O12,lieu)=0,ROW(lieu)))))&""} | AH13: Juillet | AL13: 7 | AM13: =COUNTIF(Tableau3[Date fin],Feuil1!AN13) -> 0 | AN13: =IFERROR(IF(AN12+1>$AP$8,"-",AN12+1),"") -> 43531 | AO13: =WEEKDAY(AN13,2) -> 4
J14: =IFERROR(VLOOKUP(AN13,'Base de données Congrès'!I:J,2,0),"") | K14: {=INDEX(datescongrès,MIN(IF(dates<>"",IF(COUNTIF(K$6:K13,dates)=0,ROW(dates)))))&""} | L14: =IFERROR(VLOOKUP(AN13,'Base de données Congrès'!I:K,3,0),"") | M14: {=INDEX(nom_congrès,MIN(IF(noms<>"",IF(COUNTIF(M$6:M13,noms)=0,ROW(noms)))))&""} | N14: =IFERROR(VLOOKUP(AN13,'Base de données Congrès'!I:L,4,0),"") | O14: {=INDEX(lieu_congrès,MIN(IF(lieu<>"",IF(COUNTIF(O$6:O13,lieu)=0,ROW(lieu)))))&""} | AH14: Août | AL14: 8 | AM14: =COUNTIF(Tableau3[Date fin],Feuil1!AN14) -> 0 | AN14: =IFERROR(IF(AN13+1>$AP$8,"-",AN13+1),"") -> 43532 | AO14: =WEEKDAY(AN14,2) -> 5
J15: =IFERROR(VLOOKUP(AN14,'Base de données Congrès'!I:J,2,0),"") | K15: {=INDEX(datescongrès,MIN(IF(dates<>"",IF(COUNTIF(K$6:K14,dates)=0,ROW(dates)))))&""} | L15: =IFERROR(VLOOKUP(AN14,'Base de données Congrès'!I:K,3,0),"") | M15: {=INDEX(nom_congrès,MIN(IF(noms<>"",IF(COUNTIF(M$6:M14,noms)=0,ROW(noms)))))&""} | N15: =IFERROR(VLOOKUP(AN14,'Base de données Congrès'!I:L,4,0),"") | O15: {=INDEX(lieu_congrès,MIN(IF(lieu<>"",IF(COUNTIF(O$6:O14,lieu)=0,ROW(lieu)))))&""} | AH15: Septembre | AL15: 9 | AM15: =COUNTIF(Tableau3[Date fin],Feuil1!AN15) -> 1 | AN15: =IFERROR(IF(AN14+1>$AP$8,"-",AN14+1),"") -> 43533 | AO15: =WEEKDAY(AN15,2) -> 6
J16: =IFERROR(VLOOKUP(AN15,'Base de données Congrès'!I:J,2,0),"") -> Du 07 mars au 09 mars | K16: {=INDEX(datescongrès,MIN(IF(dates<>"",IF(COUNTIF(K$6:K15,dates)=0,ROW(dates)))))&""} | L16: =IFERROR(VLOOKUP(AN15,'Base de données Congrès'!I:K,3,0),"") -> JR | M16: {=INDEX(nom_congrès,MIN(IF(noms<>"",IF(COUNTIF(M$6:M15,noms)=0,ROW(noms)))))&""} | N16: =IFERROR(VLOOKUP(AN15,'Base de données Congrès'!I:L,4,0),"") -> Paris | O16: {=INDEX(lieu_congrès,MIN(IF(lieu<>"",IF(COUNTIF(O$6:O15,lieu)=0,ROW(lieu)))))&""} | AH16: Octobre | AL16: 10 | AM16: =COUNTIF(Tableau3[Date fin],Feuil1!AN16) -> 0 | AN16: =IFERROR(IF(AN15+1>$AP$8,"-",AN15+1),"") -> 43534 | AO16: =WEEKDAY(AN16,2) -> 7
J17: =IFERROR(VLOOKUP(AN16,'Base de données Congrès'!I:J,2,0),"") | K17: {=INDEX(datescongrès,MIN(IF(dates<>"",IF(COUNTIF(K$6:K16,dates)=0,ROW(dates)))))&""} | L17: =IFERROR(VLOOKUP(AN16,'Base de données Congrès'!I:K,3,0),"") | M17: {=INDEX(nom_congrès,MIN(IF(noms<>"",IF(COUNTIF(M$6:M16,noms)=0,ROW(noms)))))&""} | N17: =IFERROR(VLOOKUP(AN16,'Base de données Congrès'!I:L,4,0),"") | O17: {=INDEX(lieu_congrès,MIN(IF(lieu<>"",IF(COUNTIF(O$6:O16,lieu)=0,ROW(lieu)))))&""} | AH17: Novembre | AL17: 11 | AM17: =COUNTIF(Tableau3[Date fin],Feuil1!AN17) -> 0 | AN17: =IFERROR(IF(AN16+1>$AP$8,"-",AN16+1),"") -> 43535 | AO17: =WEEKDAY(AN17,2) -> 1
J18: =IFERROR(VLOOKUP(AN17,'Base de données Congrès'!I:J,2,0),"") | K18: {=INDEX(datescongrès,MIN(IF(dates<>"",IF(COUNTIF(K$6:K17,dates)=0,ROW(dates)))))&""} | L18: =IFERROR(VLOOKUP(AN17,'Base de données Congrès'!I:K,3,0),"") | M18: {=INDEX(nom_congrès,MIN(IF(noms<>"",IF(COUNTIF(M$6:M17,noms)=0,ROW(noms)))))&""} | N18: =IFERROR(VLOOKUP(AN17,'Base de données Congrès'!I:L,4,0),"") | O18: {=INDEX(lieu_congrès,MIN(IF(lieu<>"",IF(COUNTIF(O$6:O17,lieu)=0,ROW(lieu)))))&""} | AH18: Décembre | AL18: 12 | AM18: =COUNTIF(Tableau3[Date fin],Feuil1!AN18) -> 0 | AN18: =IFERROR(IF(AN17+1>$AP$8,"-",AN17+1),"") -> 43536 | AO18: =WEEKDAY(AN18,2) -> 2
J19: =IFERROR(VLOOKUP(AN18,'Base de données Congrès'!I:J,2,0),"") | K19: {=INDEX(datescongrès,MIN(IF(dates<>"",IF(COUNTIF(K$6:K18,dates)=0,ROW(dates)))))&""} | L19: =IFERROR(VLOOKUP(AN18,'Base de données Congrès'!I:K,3,0),"") | M19: {=INDEX(nom_congrès,MIN(IF(noms<>"",IF(COUNTIF(M$6:M18,noms)=0,ROW(noms)))))&""} | N19: =IFERROR(VLOOKUP(AN18,'Base de données Congrès'!I:L,4,0),"") | O19: {=INDEX(lieu_congrès,MIN(IF(lieu<>"",IF(COUNTIF(O$6:O18,lieu)=0,ROW(lieu)))))&""} | AL19: 13 | AM19: =COUNTIF(Tableau3[Date fin],Feuil1!AN19) -> 0 | AN19: =IFERROR(IF(AN18+1>$AP$8,"-",AN18+1),"") -> 43537 | AO19: =WEEKDAY(AN19,2) -> 3
J20: =IFERROR(VLOOKUP(AN19,'Base de données Congrès'!I:J,2,0),"") | K20: {=INDEX(datescongrès,MIN(IF(dates<>"",IF(COUNTIF(K$6:K19,dates)=0,ROW(dates)))))&""} | L20: =IFERROR(VLOOKUP(AN19,'Base de données Congrès'!I:K,3,0),"") | M20: {=INDEX(nom_congrès,MIN(IF(noms<>"",IF(COUNTIF(M$6:M19,noms)=0,ROW(noms)))))&""} | N20: =IFERROR(VLOOKUP(AN19,'Base de données Congrès'!I:L,4,0),"") | O20: {=INDEX(lieu_congrès,MIN(IF(lieu<>"",IF(COUNTIF(O$6:O19,lieu)=0,ROW(lieu)))))&""} | AL20: 14 | AM20: =COUNTIF(Tableau3[Date fin],Feuil1!AN20) -> 0 | AN20: =IFERROR(IF(AN19+1>$AP$8,"-",AN19+1),"") -> 43538 | AO20: =WEEKDAY(AN20,2) -> 4
J21: =IFERROR(VLOOKUP(AN20,'Base de données Congrès'!I:J,2,0),"") | K21: {=INDEX(datescongrès,MIN(IF(dates<>"",IF(COUNTIF(K$6:K20,dates)=0,ROW(dates)))))&""} | L21: =IFERROR(VLOOKUP(AN20,'Base de données Congrès'!I:K,3,0),"") | M21: {=INDEX(nom_congrès,MIN(IF(noms<>"",IF(COUNTIF(M$6:M20,noms)=0,ROW(noms)))))&""} | N21: =IFERROR(VLOOKUP(AN20,'Base de données Congrès'!I:L,4,0),"") | O21: {=INDEX(lieu_congrès,MIN(IF(lieu<>"",IF(COUNTIF(O$6:O20,lieu)=0,ROW(lieu)))))&""} | AL21: 15 | AM21: =COUNTIF(Tableau3[Date fin],Feuil1!AN21) -> 1 | AN21: =IFERROR(IF(AN20+1>$AP$8,"-",AN20+1),"") -> 43539 | AO21: =WEEKDAY(AN21,2) -> 5
J22: =IFERROR(VLOOKUP(AN21,'Base de données Congrès'!I:J,2,0),"") -> Le 15 mars | K22: {=INDEX(datescongrès,MIN(IF(dates<>"",IF(COUNTIF(K$6:K21,dates)=0,ROW(dates)))))&""} | L22: =IFERROR(VLOOKUP(AN21,'Base de données Congrès'!I:K,3,0),"") -> RI | M22: {=INDEX(nom_congrès,MIN(IF(noms<>"",IF(COUNTIF(M$6:M21,noms)=0,ROW(noms)))))&""} | N22: =IFERROR(VLOOKUP(AN21,'Base de données Congrès'!I:L,4,0),"") -> Bordeaux | O22: {=INDEX(lieu_congrès,MIN(IF(lieu<>"",IF(COUNTIF(O$6:O21,lieu)=0,ROW(lieu)))))&""} | AL22: 16 | AM22: =COUNTIF(Tableau3[Date fin],Feuil1!AN22) -> 0 | AN22: =IFERROR(IF(AN21+1>$AP$8,"-",AN21+1),"") -> 43540 | AO22: =WEEKDAY(AN22,2) -> 6
J23: =IFERROR(VLOOKUP(AN22,'Base de données Congrès'!I:J,2,0),"") | K23: {=INDEX(datescongrès,MIN(IF(dates<>"",IF(COUNTIF(K$6:K22,dates)=0,ROW(dates)))))&""} | L23: =IFERROR(VLOOKUP(AN22,'Base de données Congrès'!I:K,3,0),"") | M23: {=INDEX(nom_congrès,MIN(IF(noms<>"",IF(COUNTIF(M$6:M22,noms)=0,ROW(noms)))))&""} | N23: =IFERROR(VLOOKUP(AN22,'Base de données Congrès'!I:L,4,0),"") | O23: {=INDEX(lieu_congrès,MIN(IF(lieu<>"",IF(COUNTIF(O$6:O22,lieu)=0,ROW(lieu)))))&""} | AL23: 17 | AM23: =COUNTIF(Tableau3[Date fin],Feuil1!AN23) -> 0 | AN23: =IFERROR(IF(AN22+1>$AP$8,"-",AN22+1),"") -> 43541 | AO23: =WEEKDAY(AN23,2) -> 7
J24: =IFERROR(VLOOKUP(AN23,'Base de données Congrès'!I:J,2,0),"") | K24: {=INDEX(datescongrès,MIN(IF(dates<>"",IF(COUNTIF(K$6:K23,dates)=0,ROW(dates)))))&""} | L24: =IFERROR(VLOOKUP(AN23,'Base de données Congrès'!I:K,3,0),"") | M24: {=INDEX(nom_congrès,MIN(IF(noms<>"",IF(COUNTIF(M$6:M23,noms)=0,ROW(noms)))))&""} | N24: =IFERROR(VLOOKUP(AN23,'Base de données Congrès'!I:L,4,0),"") | O24: {=INDEX(lieu_congrès,MIN(IF(lieu<>"",IF(COUNTIF(O$6:O23,lieu)=0,ROW(lieu)))))&""} | AL24: 18 | AM24: =COUNTIF(Tableau3[Date fin],Feuil1!AN24) -> 0 | AN24: =IFERROR(IF(AN23+1>$AP$8,"-",AN23+1),"") -> 43542 | AO24: =WEEKDAY(AN24,2) -> 1
J25: =IFERROR(VLOOKUP(AN24,'Base de données Congrès'!I:J,2,0),"") | K25: {=INDEX(datescongrès,MIN(IF(dates<>"",IF(COUNTIF(K$6:K24,dates)=0,ROW(dates)))))&""} | L25: =IFERROR(VLOOKUP(AN24,'Base de données Congrès'!I:K,3,0),"") | M25: {=INDEX(nom_congrès,MIN(IF(noms<>"",IF(COUNTIF(M$6:M24,noms)=0,ROW(noms)))))&""} | N25: =IFERROR(VLOOKUP(AN24,'Base de données Congrès'!I:L,4,0),"") | O25: {=INDEX(lieu_congrès,MIN(IF(lieu<>"",IF(COUNTIF(O$6:O24,lieu)=0,ROW(lieu)))))&""} | AL25: 19 | AM25: =COUNTIF(Tableau3[Date fin],Feuil1!AN25) -> 0 | AN25: =IFERROR(IF(AN24+1>$AP$8,"-",AN24+1),"") -> 43543 | AO25: =WEEKDAY(AN25,2) -> 2
J26: =IFERROR(VLOOKUP(AN25,'Base de données Congrès'!I:J,2,0),"") | K26: {=INDEX(datescongrès,MIN(IF(dates<>"",IF(COUNTIF(K$6:K25,dates)=0,ROW(dates)))))&""} | L26: =IFERROR(VLOOKUP(AN25,'Base de données Congrès'!I:K,3,0),"") | M26: {=INDEX(nom_congrès,MIN(IF(noms<>"",IF(COUNTIF(M$6:M25,noms)=0,ROW(noms)))))&""} | N26: =IFERROR(VLOOKUP(AN25,'Base de données Congrès'!I:L,4,0),"") | O26: {=INDEX(lieu_congrès,MIN(IF(lieu<>"",IF(COUNTIF(O$6:O25,lieu)=0,ROW(lieu)))))&""} | AL26: 20 | AM26: =COUNTIF(Tableau3[Date fin],Feuil1!AN26) -> 0 | AN26: =IFERROR(IF(AN25+1>$AP$8,"-",AN25+1),"") -> 43544 | AO26: =WEEKDAY(AN26,2) -> 3
J27: =IFERROR(VLOOKUP(AN26,'Base de données Congrès'!I:J,2,0),"") | K27: {=INDEX(datescongrès,MIN(IF(dates<>"",IF(COUNTIF(K$6:K26,dates)=0,ROW(dates)))))&""} | L27: =IFERROR(VLOOKUP(AN26,'Base de données Congrès'!I:K,3,0),"") | M27: {=INDEX(nom_congrès,MIN(IF(noms<>"",IF(COUNTIF(M$6:M26,noms)=0,ROW(noms)))))&""} | N27: =IFERROR(VLOOKUP(AN26,'Base de données Congrès'!I:L,4,0),"") | O27: {=INDEX(lieu_congrès,MIN(IF(lieu<>"",IF(COUNTIF(O$6:O26,lieu)=0,ROW(lieu)))))&""} | AL27: 21 | AM27: =COUNTIF(Tableau3[Date fin],Feuil1!AN27) -> 0 | AN27: =IFERROR(IF(AN26+1>$AP$8,"-",AN26+1),"") -> 43545 | AO27: =WEEKDAY(AN27,2) -> 4
J28: =IFERROR(VLOOKUP(AN27,'Base de données Congrès'!I:J,2,0),"") | K28: {=INDEX(datescongrès,MIN(IF(dates<>"",IF(COUNTIF(K$6:K27,dates)=0,ROW(dates)))))&""} | L28: =IFERROR(VLOOKUP(AN27,'Base de données Congrès'!I:K,3,0),"") | M28: {=INDEX(nom_congrès,MIN(IF(noms<>"",IF(COUNTIF(M$6:M27,noms)=0,ROW(noms)))))&""} | N28: =IFERROR(VLOOKUP(AN27,'Base de données Congrès'!I:L,4,0),"") | O28: {=INDEX(lieu_congrès,MIN(IF(lieu<>"",IF(COUNTIF(O$6:O27,lieu)=0,ROW(lieu)))))&""} | AL28: 22 | AM28: =COUNTIF(Tableau3[Date fin],Feuil1!AN28) -> 1 | AN28: =IFERROR(IF(AN27+1>$AP$8,"-",AN27+1),"") -> 43546 | AO28: =WEEKDAY(AN28,2) -> 5
J29: =IFERROR(VLOOKUP(AN28,'Base de données Congrès'!I:J,2,0),"") -> Le 22 mars | K29: {=INDEX(datescongrès,MIN(IF(dates<>"",IF(COUNTIF(K$6:K28,dates)=0,ROW(dates)))))&""} | L29: =IFERROR(VLOOKUP(AN28,'Base de données Congrès'!I:K,3,0),"") -> Duo | M29: {=INDEX(nom_congrès,MIN(IF(noms<>"",IF(COUNTIF(M$6:M28,noms)=0,ROW(noms)))))&""} | N29: =IFERROR(VLOOKUP(AN28,'Base de données Congrès'!I:L,4,0),"") -> Montpellier | O29: {=INDEX(lieu_congrès,MIN(IF(lieu<>"",IF(COUNTIF(O$6:O28,lieu)=0,ROW(lieu)))))&""} | AL29: 23 | AM29: =COUNTIF(Tableau3[Date fin],Feuil1!AN29) -> 0 | AN29: =IFERROR(IF(AN28+1>$AP$8,"-",AN28+1),"") -> 43547 | AO29: =WEEKDAY(AN29,2) -> 6
J30: =IFERROR(VLOOKUP(AN29,'Base de données Congrès'!I:J,2,0),"") | K30: {=INDEX(datescongrès,MIN(IF(dates<>"",IF(COUNTIF(K$6:K29,dates)=0,ROW(dates)))))&""} | L30: =IFERROR(VLOOKUP(AN29,'Base de données Congrès'!I:K,3,0),"") | M30: {=INDEX(nom_congrès,MIN(IF(noms<>"",IF(COUNTIF(M$6:M29,noms)=0,ROW(noms)))))&""} | N30: =IFERROR(VLOOKUP(AN29,'Base de données Congrès'!I:L,4,0),"") | O30: {=INDEX(lieu_congrès,MIN(IF(lieu<>"",IF(COUNTIF(O$6:O29,lieu)=0,ROW(lieu)))))&""} | AL30: 24 | AM30: =COUNTIF(Tableau3[Date fin],Feuil1!AN30) -> 1 | AN30: =IFERROR(IF(AN29+1>$AP$8,"-",AN29+1),"") -> 43548 | AO30: =WEEKDAY(AN30,2) -> 7
... J34: =IFERROR(VLOOKUP(AN33,'Base de données Congrès'!I:J,2,0),"") | K34: {=INDEX(datescongrès,MIN(IF(dates<>"",IF(COUNTIF(K$6:K33,dates)=0,ROW(dates)))))&""} | L34: =IFERROR(VLOOKUP(AN33,'Base de données Congrès'!I:K,3,0),"") | M34: {=INDEX(nom_congrès,MIN(IF(noms<>"",IF(COUNTIF(M$6:M33,noms)=0,ROW(noms)))))&""} | N34: =IFERROR(VLOOKUP(AN33,'Base de données Congrès'!I:L,4,0),"") | O34: {=INDEX(lieu_congrès,MIN(IF(lieu<>"",IF(COUNTIF(O$6:O33,lieu)=0,ROW(lieu)))))&""} | AL34: 28 | AM34: =COUNTIF(Tableau3[Date fin],Feuil1!AN34) -> 0 | AN34: =IFERROR(IF(AN33+1>$AP$8,"-",AN33+1),"") -> 43552 | AO34: =WEEKDAY(AN34,2) -> 4
J35: =IFERROR(VLOOKUP(AN34,'Base de données Congrès'!I:J,2,0),"") | L35: =IFERROR(VLOOKUP(AN34,'Base de données Congrès'!I:K,3,0),"") | M35: {=INDEX(nom_congrès,MIN(IF(noms<>"",IF(COUNTIF(M$6:M34,noms)=0,ROW(noms)))))&""} | N35: =IFERROR(VLOOKUP(AN34,'Base de données Congrès'!I:L,4,0),"") | O35: {=INDEX(lieu_congrès,MIN(IF(lieu<>"",IF(COUNTIF(O$6:O34,lieu)=0,ROW(lieu)))))&""} | AL35: 29 | AM35: =COUNTIF(Tableau3[Date fin],Feuil1!AN35) -> 2 | AN35: =IFERROR(IF(AN34+1>$AP$8,"-",AN34+1),"-") -> 43553 | AO35: =WEEKDAY(AN35,2) -> 5
J36: =IFERROR(VLOOKUP(AN35,'Base de données Congrès'!I:J,2,0),"") -> Le 29 mars | L36: =IFERROR(VLOOKUP(AN35,'Base de données Congrès'!I:K,3,0),"") -> Pratique | M36: {=INDEX(nom_congrès,MIN(IF(noms<>"",IF(COUNTIF(M$6:M35,noms)=0,ROW(noms)))))&""} | N36: =IFERROR(VLOOKUP(AN35,'Base de données Congrès'!I:L,4,0),"") -> 0 | O36: {=INDEX(lieu_congrès,MIN(IF(lieu<>"",IF(COUNTIF(O$6:O35,lieu)=0,ROW(lieu)))))&""} | AL36: 30 | AM36: =COUNTIF(Tableau3[Date fin],Feuil1!AN36) -> 0 | AN36: =IFERROR(IF(AN35+1>$AP$8,"-",AN35+1),"-") -> 43554 | AO36: =WEEKDAY(AN36,2) -> 6
J37: =IFERROR(VLOOKUP(AN36,'Base de données Congrès'!I:J,2,0),"") | M37: {=INDEX(nom_congrès,MIN(IF(noms<>"",IF(COUNTIF(M$6:M36,noms)=0,ROW(noms)))))&""} | N37: =IFERROR(VLOOKUP(AN36,'Base de données Congrès'!I:L,4,0),"") | O37: {=INDEX(lieu_congrès,MIN(IF(lieu<>"",IF(COUNTIF(O$6:O36,lieu)=0,ROW(lieu)))))&""} | AL37: 31 | AM37: =COUNTIF(Tableau3[Date fin],Feuil1!AN37) -> 0 | AN37: =IFERROR(IF(AN36+1>$AP$8,"-",AN36+1),"-") -> 43555 | AO37: =WEEKDAY(AN37,2) -> 7
J38: =IFERROR(VLOOKUP(AN37,'Base de données Congrès'!I:J,2,0),"") | M38: {=INDEX(nom_congrès,MIN(IF(noms<>"",IF(COUNTIF(M$6:M37,noms)=0,ROW(noms)))))&""} | N38: =IFERROR(VLOOKUP(AN37,'Base de données Congrès'!I:L,4,0),"") | O38: {=INDEX(lieu_congrès,MIN(IF(lieu<>"",IF(COUNTIF(O$6:O37,lieu)=0,ROW(lieu)))))&""}
AF41: Tableau surlignage date
AF42: Zeilenbeschriftungen | AG42: Zeilenbeschriftungen
AF43: 43476 | AG43: SFR
AF44: 43477 | AG44: (Leer)
AF45: 43483 | AG45: AM
AF46: 43483 | AG46: R 360
AF47: 43484 | AG47: SM
AF48: 43484 | AG48: JR
AF49: 43503 | AG49: RI
AF50: 43505 | AG50: Duo
AF51: 43531 | AG51: Pratique
AF52: 43533 | AG52: SC
AF53: 43539 | AG53: Gesamtergebnis
AF54: 43539
AF55: 43546
AF56: 43546
AF57: 43547
AF58: 43548
AF59: 43553
AF60: 43553
AF61: (Leer)
AF62: (Leer)
AF63: Gesamtergebnis
AQ88: Jours | AR88: Dates à plusieurs occurrences
AQ89: 1 | AR89: =IF(AM7>=2,AN7,"")
AQ90: 2 | AR90: =IF(AM8>=2,AN8,"")
AQ91: 3 | AR91: =IF(AM9>=2,AN9,"")
AQ92: 4 | AR92: =IF(AM10>=2,AN10,"")
AQ93: 5 | AR93: =IF(AM11>=2,AN11,"")
AQ94: 6 | AR94: =IF(AM12>=2,AN12,"")
AQ95: 7 | AR95: =IF(AM13>=2,AN13,"")
AQ96: 8 | AR96: =IF(AM14>=2,AN14,"")
AQ97: 9 | AR97: =IF(AM15>=2,AN15,"")
AQ98: 10 | AR98: =IF(AM16>=2,AN16,"")
AQ99: 11 | AR99: =IF(AM17>=2,AN17,"")
AQ100: 12 | AR100: =IF(AM18>=2,AN18,"")
... AQ119: 31 | AR119: =IF(AM37>=2,AN37,"")
AR120: =IF(AM38>=2,AN38,"")
AR121: =IF(AM39>=2,AN39,"")
AR122: =IF(AM40>=2,AN40,"")
