Workbook
Name Countries: Sheet3!$A$1:$A$26
Name ProjectSize: Sheet1!$C$5:$C$8

Sheet Base Source
A1: Product List | C1: Based Price | E1: Discount on Base Price | H1: Australia | J1: Small Size Project - Less than 20.000 gratings fasteners | K1: Medium Size Project - Between 20'000 and 50'000 pcs. grating fasteners | L1: Big Size project - Between 50'000 and 120'000 pcs grating fasteners | M1: Mega Size Project - Bigger than 120'000 pcs of grating fasteners | N1: Azerbaïjan | P1: Small Size Project - Less than 20.000 gratings fasteners | Q1: Medium Size Project - Between 20'000 and 50'000 pcs. grating fasteners | R1: Big Size project - Between 50'000 and 120'000 pcs grating fasteners | S1: Mega Size Project - Bigger than 120'000 pcs of grating fasteners | T1: Bahrain | Z1: Belgium | AF1: Brazil | AL1: Canada | AR1: China | AX1: Egypt | BD1: Finland | BJ1: India | BP1: Indonesia | BV1: Italy | CB1: Malaysia | CH1: Mexico | CN1: Philippines | CT1: Portugal | CZ1: Qatar | DF1: Russia | DL1: Saudi Arabia | DR1: Singapore | DX1: South Korea | ED1: Spain | EJ1: UAE | EP1: UK | EV1: USA
A2: Product Family | B2: Description | C2: Item Number | D2: French "Reference Price" 1 | E2: Medium Size Project | F2: Big Size project | G2: Mega Size Project | H2: Item Number / | I2: C.I.2 | J2: Final Project Price | K2: Final Project Price | L2: Final Project Price | M2: Final Project Price | N2: Item Number | O2: C.I.2 | P2: Final Price for Small Project | Q2: Final Price for Medium Project | R2: Final Price for Big Project | S2: Final Price for Mega Project | T2: Item Number | U2: C.I.2 | V2: Final Price for Small Project | W2: Final Price for Medium Project | X2: Final Price for Big Project | Y2: Final Price for Mega Project | Z2: Item Number | AA2: C.I.2 | AB2: Final Price for Small Project | AC2: Final Price for Medium Project | AD2: Final Price for Big Project | AE2: Final Price for Mega Project | AF2: Item Number | AG2: C.I.2 | AH2: Final Price for Small Project | AI2: Final Price for Medium Project | AJ2: Final Price for Big Project | AK2: Final Price for Mega Project | AL2: Item Number | AM2: C.I.2 | AN2: Final Price for Small Project | AO2: Final Price for Medium Project | AP2: Final Price for Big Project | AQ2: Final Price for Mega Project | AR2: Item Number | AS2: C.I.2 | AT2: Final Price for Small Project | AU2: Final Price for Medium Project | AV2: Final Price for Big Project | AW2: Final Price for Mega Project | AX2: Item Number | AY2: C.I.2 | AZ2: Final Price for Small Project | BA2: Final Price for Medium Project | BB2: Final Price for Big Project | BC2: Final Price for Mega Project | BD2: Item Number | BE2: C.I.2 | BF2: Final Price for Small Project | BG2: Final Price for Medium Project | BH2: Final Price for Big Project | BI2: Final Price for Mega Project | BJ2: Item Number | BK2: C.I.2 | BL2: Final Price for Small Project | BM2: Final Price for Medium Project | BN2: Final Price for Big Project | BO2: Final Price for Mega Project | BP2: Item Number | BQ2: C.I.2 | BR2: Final Price for Small Project | BS2: Final Price for Medium Project | BT2: Final Price for Big Project | BU2: Final Price for Mega Project | BV2: Item Number | BW2: C.I.2 | BX2: Final Price for Small Project | BY2: Final Price for Medium Project | BZ2: Final Price for Big Project | CA2: Final Price for Mega Project | CB2: Item Number | CC2: C.I.2 | CD2: Final Price for Small Project | CE2: Final Price for Medium Project | CF2: Final Price for Big Project | CG2: Final Price for Mega Project | CH2: Item Number | CI2: C.I.2 | CJ2: Final Price for Small Project | CK2: Final Price for Medium Project | CL2: Final Price for Big Project | CM2: Final Price for Mega Project | CN2: Item Number | CO2: C.I.2 | CP2: Final Price for Small Project | CQ2: Final Price for Medium Project | CR2: Final Price for Big Project | CS2: Final Price for Mega Project | CT2: Item Number | CU2: C.I.2 | CV2: Final Price for Small Project | CW2: Final Price for Medium Project | CX2: Final Price for Big Project | CY2: Final Price for Mega Project | CZ2: Item Number | DA2: C.I.2 | DB2: Final Price for Small Project | DC2: Final Price for Medium Project | DD2: Final Price for Big Project | DE2: Final Price for Mega Project | DF2: Item Number | DG2: C.I.2 | DH2: Final Price for Small Project | DI2: Final Price for Medium Project | DJ2: Final Price for Big Project | DK2: Final Price for Mega Project | DL2: Item Number | DM2: C.I.2 | DN2: Final Price for Small Project | DO2: Final Price for Medium Project | DP2: Final Price for Big Project | DQ2: Final Price for Mega Project | DR2: Item Number | DS2: C.I.2 | DT2: Final Price for Small Project | DU2: Final Price for Medium Project | DV2: Final Price for Big Project | DW2: Final Price for Mega Project | DX2: Item Number | DY2: C.I.2 | DZ2: Final Price for Small Project | EA2: Final Price for Medium Project | EB2: Final Price for Big Project | EC2: Final Price for Mega Project | ED2: Item Number | EE2: C.I.2 | EF2: Final Price for Small Project | EG2: Final Price for Medium Project | EH2: Final Price for Big Project | EI2: Final Price for Mega Project | EJ2: Item Number | EK2: C.I.2 | EL2: Final Price for Small Project | EM2: Final Price for Medium Project | EN2: Final Price for Big Project | EO2: Final Price for Mega Project | EP2: Item Number | EQ2: C.I.2 | ER2: Final Price for Small Project | ES2: Final Price for Medium Project | ET2: Final Price for Big Project | EU2: Final Price for Mega Project | EV2: Item Number | EW2: C.I.2 | EX2: Final Price for Small Project | EY2: Final Price for Medium Project | EZ2: Final Price for Big Project | FA2: Final Price for Mega Project
A3: X-BT Threaded Stud | B3: X-BT-GR M8/7 SN 8 | C3: 2194344 | D3: 1 | E3: 0.055 | F3: 0.107 | G3: 0.157 | H3: =C3 -> 2194344 | I3: 1.2 | J3: =$D3*I3 -> 1.2 | K3: =$D3*I3*(1-$E3) -> 1.134 | L3: =$D3*I3*(1-$F3) -> 1.0716 | M3: =$D3*I3*(1-$G3) -> 1.0116 | N3: =H3 -> 2194344 | O3: 1.4 | P3: =$D3*O3 -> 1.4 | Q3: =$D3*O3*(1-$E3) -> 1.323 | R3: =$D3*O3*(1-$F3) -> 1.2502 | S3: =$D3*O3*(1-$G3) -> 1.1802 | T3: =N3 -> 2194344 | V3: =$D3*U3 -> 0 | W3: =$D3*U3*(1-$E3) -> 0 | X3: =$D3*U3*(1-$F3) -> 0 | Y3: =$D3*U3*(1-$G3) -> 0 | Z3: =T3 -> 2194344 | AB3: =$D3*AA3 -> 0 | AC3: =$D3*AA3*(1-$E3) -> 0 | AD3: =$D3*AA3*(1-$F3) -> 0 | AE3: =$D3*AA3*(1-$G3) -> 0 | AF3: =Z3 -> 2194344 | AH3: =$D3*AG3 -> 0 | AI3: =$D3*AG3*(1-$E3) -> 0 | AJ3: =$D3*AG3*(1-$F3) -> 0 | AK3: =$D3*AG3*(1-$G3) -> 0 | AL3: =AF3 -> 2194344 | AN3: =$D3*AM3 -> 0 | AO3: =$D3*AM3*(1-$E3) -> 0 | AP3: =$D3*AM3*(1-$F3) -> 0 | AQ3: =$D3*AM3*(1-$G3) -> 0 | AR3: =AL3 -> 2194344 | AT3: =$D3*AS3 -> 0 | AU3: =$D3*AS3*(1-$E3) -> 0 | AV3: =$D3*AS3*(1-$F3) -> 0 | AW3: =$D3*AS3*(1-$G3) -> 0 | AX3: =AR3 -> 2194344 | AZ3: =$D3*AY3 -> 0 | BA3: =$D3*AY3*(1-$E3) -> 0 | BB3: =$D3*AY3*(1-$F3) -> 0 | BC3: =$D3*AY3*(1-$G3) -> 0 | BD3: =AX3 -> 2194344 | BF3: =$D3*BE3 -> 0 | BG3: =$D3*BE3*(1-$E3) -> 0 | BH3: =$D3*BE3*(1-$F3) -> 0 | BI3: =$D3*BE3*(1-$G3) -> 0 | BJ3: =BD3 -> 2194344 | BL3: =$D3*BK3 -> 0 | BM3: =$D3*BK3*(1-$E3) -> 0 | BN3: =$D3*BK3*(1-$F3) -> 0 | BO3: =$D3*BK3*(1-$G3) -> 0 | BP3: =BJ3 -> 2194344 | BR3: =$D3*BQ3 -> 0 | BS3: =$D3*BQ3*(1-$E3) -> 0 | BT3: =$D3*BQ3*(1-$F3) -> 0 | BU3: =$D3*BQ3*(1-$G3) -> 0 | BV3: =BP3 -> 2194344 | BX3: =$D3*BW3 -> 0 | BY3: =$D3*BW3*(1-$E3) -> 0 | BZ3: =$D3*BW3*(1-$F3) -> 0 | CA3: =$D3*BW3*(1-$G3) -> 0 | CB3: =BV3 -> 2194344 | CD3: =$D3*CC3 -> 0 | CE3: =$D3*CC3*(1-$E3) -> 0 | CF3: =$D3*CC3*(1-$F3) -> 0 | CG3: =$D3*CC3*(1-$G3) -> 0 | CH3: =CB3 -> 2194344 | CJ3: =$D3*CI3 -> 0 | CK3: =$D3*CI3*(1-$E3) -> 0 | CL3: =$D3*CI3*(1-$F3) -> 0 | CM3: =$D3*CI3*(1-$G3) -> 0 | CN3: =CH3 -> 2194344 | CP3: =$D3*CO3 -> 0 | CQ3: =$D3*CO3*(1-$E3) -> 0 | CR3: =$D3*CO3*(1-$F3) -> 0 | CS3: =$D3*CO3*(1-$G3) -> 0 | CT3: =CN3 -> 2194344 | CV3: =$D3*CU3 -> 0 | CW3: =$D3*CU3*(1-$E3) -> 0 | CX3: =$D3*CU3*(1-$F3) -> 0 | CY3: =$D3*CU3*(1-$G3) -> 0 | CZ3: =CT3 -> 2194344 | DB3: =$D3*DA3 -> 0 | DC3: =$D3*DA3*(1-$E3) -> 0 | DD3: =$D3*DA3*(1-$F3) -> 0 | DE3: =$D3*DA3*(1-$G3) -> 0 | DF3: =CZ3 -> 2194344 | DH3: =$D3*DG3 -> 0 | DI3: =$D3*DG3*(1-$E3) -> 0 | DJ3: =$D3*DG3*(1-$F3) -> 0 | DK3: =$D3*DG3*(1-$G3) -> 0 | DL3: =DF3 -> 2194344 | DN3: =$D3*DM3 -> 0 | DO3: =$D3*DM3*(1-$E3) -> 0 | DP3: =$D3*DM3*(1-$F3) -> 0 | DQ3: =$D3*DM3*(1-$G3) -> 0 | DR3: =DL3 -> 2194344 | DT3: =$D3*DS3 -> 0 | DU3: =$D3*DS3*(1-$E3) -> 0 | DV3: =$D3*DS3*(1-$F3) -> 0 | DW3: =$D3*DS3*(1-$G3) -> 0 | DX3: =DR3 -> 2194344 | DZ3: =$D3*DY3 -> 0 | EA3: =$D3*DY3*(1-$E3) -> 0 | EB3: =$D3*DY3*(1-$F3) -> 0 | EC3: =$D3*DY3*(1-$G3) -> 0 | ED3: =DX3 -> 2194344 | EF3: =$D3*EE3 -> 0 | EG3: =$D3*EE3*(1-$E3) -> 0 | EH3: =$D3*EE3*(1-$F3) -> 0 | EI3: =$D3*EE3*(1-$G3) -> 0 | EJ3: =ED3 -> 2194344 | EL3: =$D3*EK3 -> 0 | EM3: =$D3*EK3*(1-$E3) -> 0 | EN3: =$D3*EK3*(1-$F3) -> 0 | EO3: =$D3*EK3*(1-$G3) -> 0 | EP3: =EJ3 -> 2194344 | ER3: =$D3*EQ3 -> 0 | ES3: =$D3*EQ3*(1-$E3) -> 0 | ET3: =$D3*EQ3*(1-$F3) -> 0 | EU3: =$D3*EQ3*(1-$G3) -> 0 | EV3: =EP3 -> 2194344 | EX3: =$D3*EW3 -> 0 | EY3: =$D3*EW3*(1-$E3) -> 0 | EZ3: =$D3*EW3*(1-$F3) -> 0 | FA3: =$D3*EW3*(1-$G3) -> 0
A4: X-BT Threaded Stud | B4: X-BT-MF M10/10 SN 4 | C4: 2083549 | D4: 1 | E4: 0.055 | F4: 0.107 | G4: 0.157 | H4: =C4 -> 2083549 | I4: 1.2 | J4: =$D4*I4 -> 1.2 | K4: =$D4*I4*(1-$E4) -> 1.134 | L4: =$D4*I4*(1-$F4) -> 1.0716 | M4: =$D4*I4*(1-$G4) -> 1.0116 | N4: =H4 -> 2083549 | O4: 1.4 | P4: =$D4*O4 -> 1.4 | Q4: =$D4*O4*(1-$E4) -> 1.323 | R4: =$D4*O4*(1-$F4) -> 1.2502 | S4: =$D4*O4*(1-$G4) -> 1.1802 | T4: =N4 -> 2083549 | V4: =$D4*U4 -> 0 | W4: =$D4*U4*(1-$E4) -> 0 | X4: =$D4*U4*(1-$F4) -> 0 | Y4: =$D4*U4*(1-$G4) -> 0 | Z4: =T4 -> 2083549 | AB4: =$D4*AA4 -> 0 | AC4: =$D4*AA4*(1-$E4) -> 0 | AD4: =$D4*AA4*(1-$F4) -> 0 | AE4: =$D4*AA4*(1-$G4) -> 0 | AF4: =Z4 -> 2083549 | AH4: =$D4*AG4 -> 0 | AI4: =$D4*AG4*(1-$E4) -> 0 | AJ4: =$D4*AG4*(1-$F4) -> 0 | AK4: =$D4*AG4*(1-$G4) -> 0 | AL4: =AF4 -> 2083549 | AN4: =$D4*AM4 -> 0 | AO4: =$D4*AM4*(1-$E4) -> 0 | AP4: =$D4*AM4*(1-$F4) -> 0 | AQ4: =$D4*AM4*(1-$G4) -> 0 | AR4: =AL4 -> 2083549 | AT4: =$D4*AS4 -> 0 | AU4: =$D4*AS4*(1-$E4) -> 0 | AV4: =$D4*AS4*(1-$F4) -> 0 | AW4: =$D4*AS4*(1-$G4) -> 0 | AX4: =AR4 -> 2083549 | AZ4: =$D4*AY4 -> 0 | BA4: =$D4*AY4*(1-$E4) -> 0 | BB4: =$D4*AY4*(1-$F4) -> 0 | BC4: =$D4*AY4*(1-$G4) -> 0 | BD4: =AX4 -> 2083549 | BF4: =$D4*BE4 -> 0 | BG4: =$D4*BE4*(1-$E4) -> 0 | BH4: =$D4*BE4*(1-$F4) -> 0 | BI4: =$D4*BE4*(1-$G4) -> 0 | BJ4: =BD4 -> 2083549 | BL4: =$D4*BK4 -> 0 | BM4: =$D4*BK4*(1-$E4) -> 0 | BN4: =$D4*BK4*(1-$F4) -> 0 | BO4: =$D4*BK4*(1-$G4) -> 0 | BP4: =BJ4 -> 2083549 | BR4: =$D4*BQ4 -> 0 | BS4: =$D4*BQ4*(1-$E4) -> 0 | BT4: =$D4*BQ4*(1-$F4) -> 0 | BU4: =$D4*BQ4*(1-$G4) -> 0 | BV4: =BP4 -> 2083549 | BX4: =$D4*BW4 -> 0 | BY4: =$D4*BW4*(1-$E4) -> 0 | BZ4: =$D4*BW4*(1-$F4) -> 0 | CA4: =$D4*BW4*(1-$G4) -> 0 | CB4: =BV4 -> 2083549 | CD4: =$D4*CC4 -> 0 | CE4: =$D4*CC4*(1-$E4) -> 0 | CF4: =$D4*CC4*(1-$F4) -> 0 | CG4: =$D4*CC4*(1-$G4) -> 0 | CH4: =CB4 -> 2083549 | CJ4: =$D4*CI4 -> 0 | CK4: =$D4*CI4*(1-$E4) -> 0 | CL4: =$D4*CI4*(1-$F4) -> 0 | CM4: =$D4*CI4*(1-$G4) -> 0 | CN4: =CH4 -> 2083549 | CP4: =$D4*CO4 -> 0 | CQ4: =$D4*CO4*(1-$E4) -> 0 | CR4: =$D4*CO4*(1-$F4) -> 0 | CS4: =$D4*CO4*(1-$G4) -> 0 | CT4: =CN4 -> 2083549 | CV4: =$D4*CU4 -> 0 | CW4: =$D4*CU4*(1-$E4) -> 0 | CX4: =$D4*CU4*(1-$F4) -> 0 | CY4: =$D4*CU4*(1-$G4) -> 0 | CZ4: =CT4 -> 2083549 | DB4: =$D4*DA4 -> 0 | DC4: =$D4*DA4*(1-$E4) -> 0 | DD4: =$D4*DA4*(1-$F4) -> 0 | DE4: =$D4*DA4*(1-$G4) -> 0 | DF4: =CZ4 -> 2083549 | DH4: =$D4*DG4 -> 0 | DI4: =$D4*DG4*(1-$E4) -> 0 | DJ4: =$D4*DG4*(1-$F4) -> 0 | DK4: =$D4*DG4*(1-$G4) -> 0 | DL4: =DF4 -> 2083549 | DN4: =$D4*DM4 -> 0 | DO4: =$D4*DM4*(1-$E4) -> 0 | DP4: =$D4*DM4*(1-$F4) -> 0 | DQ4: =$D4*DM4*(1-$G4) -> 0 | DR4: =DL4 -> 2083549 | DT4: =$D4*DS4 -> 0 | DU4: =$D4*DS4*(1-$E4) -> 0 | DV4: =$D4*DS4*(1-$F4) -> 0 | DW4: =$D4*DS4*(1-$G4) -> 0 | DX4: =DR4 -> 2083549 | DZ4: =$D4*DY4 -> 0 | EA4: =$D4*DY4*(1-$E4) -> 0 | EB4: =$D4*DY4*(1-$F4) -> 0 | EC4: =$D4*DY4*(1-$G4) -> 0 | ED4: =DX4 -> 2083549 | EF4: =$D4*EE4 -> 0 | EG4: =$D4*EE4*(1-$E4) -> 0 | EH4: =$D4*EE4*(1-$F4) -> 0 | EI4: =$D4*EE4*(1-$G4) -> 0 | EJ4: =ED4 -> 2083549 | EL4: =$D4*EK4 -> 0 | EM4: =$D4*EK4*(1-$E4) -> 0 | EN4: =$D4*EK4*(1-$F4) -> 0 | EO4: =$D4*EK4*(1-$G4) -> 0 | EP4: =EJ4 -> 2083549 | ER4: =$D4*EQ4 -> 0 | ES4: =$D4*EQ4*(1-$E4) -> 0 | ET4: =$D4*EQ4*(1-$F4) -> 0 | EU4: =$D4*EQ4*(1-$G4) -> 0 | EV4: =EP4 -> 2083549 | EX4: =$D4*EW4 -> 0 | EY4: =$D4*EW4*(1-$E4) -> 0 | EZ4: =$D4*EW4*(1-$F4) -> 0 | FA4: =$D4*EW4*(1-$G4) -> 0
A5: X-BT Threaded Stud | B5: X-BT-MR M8/14 N 8 | C5: 2194339 | D5: 1 | E5: 0.055 | F5: 0.107 | G5: 0.157 | H5: =C5 -> 2194339 | I5: 1.2 | J5: =$D5*I5 -> 1.2 | K5: =$D5*I5*(1-$E5) -> 1.134 | L5: =$D5*I5*(1-$F5) -> 1.0716 | M5: =$D5*I5*(1-$G5) -> 1.0116 | N5: =H5 -> 2194339 | O5: 1.4 | P5: =$D5*O5 -> 1.4 | Q5: =$D5*O5*(1-$E5) -> 1.323 | R5: =$D5*O5*(1-$F5) -> 1.2502 | S5: =$D5*O5*(1-$G5) -> 1.1802 | T5: =N5 -> 2194339 | V5: =$D5*U5 -> 0 | W5: =$D5*U5*(1-$E5) -> 0 | X5: =$D5*U5*(1-$F5) -> 0 | Y5: =$D5*U5*(1-$G5) -> 0 | Z5: =T5 -> 2194339 | AB5: =$D5*AA5 -> 0 | AC5: =$D5*AA5*(1-$E5) -> 0 | AD5: =$D5*AA5*(1-$F5) -> 0 | AE5: =$D5*AA5*(1-$G5) -> 0 | AF5: =Z5 -> 2194339 | AH5: =$D5*AG5 -> 0 | AI5: =$D5*AG5*(1-$E5) -> 0 | AJ5: =$D5*AG5*(1-$F5) -> 0 | AK5: =$D5*AG5*(1-$G5) -> 0 | AL5: =AF5 -> 2194339 | AN5: =$D5*AM5 -> 0 | AO5: =$D5*AM5*(1-$E5) -> 0 | AP5: =$D5*AM5*(1-$F5) -> 0 | AQ5: =$D5*AM5*(1-$G5) -> 0 | AR5: =AL5 -> 2194339 | AT5: =$D5*AS5 -> 0 | AU5: =$D5*AS5*(1-$E5) -> 0 | AV5: =$D5*AS5*(1-$F5) -> 0 | AW5: =$D5*AS5*(1-$G5) -> 0 | AX5: =AR5 -> 2194339 | AZ5: =$D5*AY5 -> 0 | BA5: =$D5*AY5*(1-$E5) -> 0 | BB5: =$D5*AY5*(1-$F5) -> 0 | BC5: =$D5*AY5*(1-$G5) -> 0 | BD5: =AX5 -> 2194339 | BF5: =$D5*BE5 -> 0 | BG5: =$D5*BE5*(1-$E5) -> 0 | BH5: =$D5*BE5*(1-$F5) -> 0 | BI5: =$D5*BE5*(1-$G5) -> 0 | BJ5: =BD5 -> 2194339 | BL5: =$D5*BK5 -> 0 | BM5: =$D5*BK5*(1-$E5) -> 0 | BN5: =$D5*BK5*(1-$F5) -> 0 | BO5: =$D5*BK5*(1-$G5) -> 0 | BP5: =BJ5 -> 2194339 | BR5: =$D5*BQ5 -> 0 | BS5: =$D5*BQ5*(1-$E5) -> 0 | BT5: =$D5*BQ5*(1-$F5) -> 0 | BU5: =$D5*BQ5*(1-$G5) -> 0 | BV5: =BP5 -> 2194339 | BX5: =$D5*BW5 -> 0 | BY5: =$D5*BW5*(1-$E5) -> 0 | BZ5: =$D5*BW5*(1-$F5) -> 0 | CA5: =$D5*BW5*(1-$G5) -> 0 | CB5: =BV5 -> 2194339 | CD5: =$D5*CC5 -> 0 | CE5: =$D5*CC5*(1-$E5) -> 0 | CF5: =$D5*CC5*(1-$F5) -> 0 | CG5: =$D5*CC5*(1-$G5) -> 0 | CH5: =CB5 -> 2194339 | CJ5: =$D5*CI5 -> 0 | CK5: =$D5*CI5*(1-$E5) -> 0 | CL5: =$D5*CI5*(1-$F5) -> 0 | CM5: =$D5*CI5*(1-$G5) -> 0 | CN5: =CH5 -> 2194339 | CP5: =$D5*CO5 -> 0 | CQ5: =$D5*CO5*(1-$E5) -> 0 | CR5: =$D5*CO5*(1-$F5) -> 0 | CS5: =$D5*CO5*(1-$G5) -> 0 | CT5: =CN5 -> 2194339 | CV5: =$D5*CU5 -> 0 | CW5: =$D5*CU5*(1-$E5) -> 0 | CX5: =$D5*CU5*(1-$F5) -> 0 | CY5: =$D5*CU5*(1-$G5) -> 0 | CZ5: =CT5 -> 2194339 | DB5: =$D5*DA5 -> 0 | DC5: =$D5*DA5*(1-$E5) -> 0 | DD5: =$D5*DA5*(1-$F5) -> 0 | DE5: =$D5*DA5*(1-$G5) -> 0 | DF5: =CZ5 -> 2194339 | DH5: =$D5*DG5 -> 0 | DI5: =$D5*DG5*(1-$E5) -> 0 | DJ5: =$D5*DG5*(1-$F5) -> 0 | DK5: =$D5*DG5*(1-$G5) -> 0 | DL5: =DF5 -> 2194339 | DN5: =$D5*DM5 -> 0 | DO5: =$D5*DM5*(1-$E5) -> 0 | DP5: =$D5*DM5*(1-$F5) -> 0 | DQ5: =$D5*DM5*(1-$G5) -> 0 | DR5: =DL5 -> 2194339 | DT5: =$D5*DS5 -> 0 | DU5: =$D5*DS5*(1-$E5) -> 0 | DV5: =$D5*DS5*(1-$F5) -> 0 | DW5: =$D5*DS5*(1-$G5) -> 0 | DX5: =DR5 -> 2194339 | DZ5: =$D5*DY5 -> 0 | EA5: =$D5*DY5*(1-$E5) -> 0 | EB5: =$D5*DY5*(1-$F5) -> 0 | EC5: =$D5*DY5*(1-$G5) -> 0 | ED5: =DX5 -> 2194339 | EF5: =$D5*EE5 -> 0 | EG5: =$D5*EE5*(1-$E5) -> 0 | EH5: =$D5*EE5*(1-$F5) -> 0 | EI5: =$D5*EE5*(1-$G5) -> 0 | EJ5: =ED5 -> 2194339 | EL5: =$D5*EK5 -> 0 | EM5: =$D5*EK5*(1-$E5) -> 0 | EN5: =$D5*EK5*(1-$F5) -> 0 | EO5: =$D5*EK5*(1-$G5) -> 0 | EP5: =EJ5 -> 2194339 | ER5: =$D5*EQ5 -> 0 | ES5: =$D5*EQ5*(1-$E5) -> 0 | ET5: =$D5*EQ5*(1-$F5) -> 0 | EU5: =$D5*EQ5*(1-$G5) -> 0 | EV5: =EP5 -> 2194339 | EX5: =$D5*EW5 -> 0 | EY5: =$D5*EW5*(1-$E5) -> 0 | EZ5: =$D5*EW5*(1-$F5) -> 0 | FA5: =$D5*EW5*(1-$G5) -> 0
A6: X-BT Threaded Stud | B6: X-BT-MR M10/15 SN 8 | C6: 2194340 | D6: 1 | E6: 0.055 | F6: 0.107 | G6: 0.157 | H6: =C6 -> 2194340 | I6: 1.2 | J6: =$D6*I6 -> 1.2 | K6: =$D6*I6*(1-$E6) -> 1.134 | L6: =$D6*I6*(1-$F6) -> 1.0716 | M6: =$D6*I6*(1-$G6) -> 1.0116 | N6: =H6 -> 2194340 | O6: 1.4 | P6: =$D6*O6 -> 1.4 | Q6: =$D6*O6*(1-$E6) -> 1.323 | R6: =$D6*O6*(1-$F6) -> 1.2502 | S6: =$D6*O6*(1-$G6) -> 1.1802 | T6: =N6 -> 2194340 | V6: =$D6*U6 -> 0 | W6: =$D6*U6*(1-$E6) -> 0 | X6: =$D6*U6*(1-$F6) -> 0 | Y6: =$D6*U6*(1-$G6) -> 0 | Z6: =T6 -> 2194340 | AB6: =$D6*AA6 -> 0 | AC6: =$D6*AA6*(1-$E6) -> 0 | AD6: =$D6*AA6*(1-$F6) -> 0 | AE6: =$D6*AA6*(1-$G6) -> 0 | AF6: =Z6 -> 2194340 | AH6: =$D6*AG6 -> 0 | AI6: =$D6*AG6*(1-$E6) -> 0 | AJ6: =$D6*AG6*(1-$F6) -> 0 | AK6: =$D6*AG6*(1-$G6) -> 0 | AL6: =AF6 -> 2194340 | AN6: =$D6*AM6 -> 0 | AO6: =$D6*AM6*(1-$E6) -> 0 | AP6: =$D6*AM6*(1-$F6) -> 0 | AQ6: =$D6*AM6*(1-$G6) -> 0 | AR6: =AL6 -> 2194340 | AT6: =$D6*AS6 -> 0 | AU6: =$D6*AS6*(1-$E6) -> 0 | AV6: =$D6*AS6*(1-$F6) -> 0 | AW6: =$D6*AS6*(1-$G6) -> 0 | AX6: =AR6 -> 2194340 | AZ6: =$D6*AY6 -> 0 | BA6: =$D6*AY6*(1-$E6) -> 0 | BB6: =$D6*AY6*(1-$F6) -> 0 | BC6: =$D6*AY6*(1-$G6) -> 0 | BD6: =AX6 -> 2194340 | BF6: =$D6*BE6 -> 0 | BG6: =$D6*BE6*(1-$E6) -> 0 | BH6: =$D6*BE6*(1-$F6) -> 0 | BI6: =$D6*BE6*(1-$G6) -> 0 | BJ6: =BD6 -> 2194340 | BL6: =$D6*BK6 -> 0 | BM6: =$D6*BK6*(1-$E6) -> 0 | BN6: =$D6*BK6*(1-$F6) -> 0 | BO6: =$D6*BK6*(1-$G6) -> 0 | BP6: =BJ6 -> 2194340 | BR6: =$D6*BQ6 -> 0 | BS6: =$D6*BQ6*(1-$E6) -> 0 | BT6: =$D6*BQ6*(1-$F6) -> 0 | BU6: =$D6*BQ6*(1-$G6) -> 0 | BV6: =BP6 -> 2194340 | BX6: =$D6*BW6 -> 0 | BY6: =$D6*BW6*(1-$E6) -> 0 | BZ6: =$D6*BW6*(1-$F6) -> 0 | CA6: =$D6*BW6*(1-$G6) -> 0 | CB6: =BV6 -> 2194340 | CD6: =$D6*CC6 -> 0 | CE6: =$D6*CC6*(1-$E6) -> 0 | CF6: =$D6*CC6*(1-$F6) -> 0 | CG6: =$D6*CC6*(1-$G6) -> 0 | CH6: =CB6 -> 2194340 | CJ6: =$D6*CI6 -> 0 | CK6: =$D6*CI6*(1-$E6) -> 0 | CL6: =$D6*CI6*(1-$F6) -> 0 | CM6: =$D6*CI6*(1-$G6) -> 0 | CN6: =CH6 -> 2194340 | CP6: =$D6*CO6 -> 0 | CQ6: =$D6*CO6*(1-$E6) -> 0 | CR6: =$D6*CO6*(1-$F6) -> 0 | CS6: =$D6*CO6*(1-$G6) -> 0 | CT6: =CN6 -> 2194340 | CV6: =$D6*CU6 -> 0 | CW6: =$D6*CU6*(1-$E6) -> 0 | CX6: =$D6*CU6*(1-$F6) -> 0 | CY6: =$D6*CU6*(1-$G6) -> 0 | CZ6: =CT6 -> 2194340 | DB6: =$D6*DA6 -> 0 | DC6: =$D6*DA6*(1-$E6) -> 0 | DD6: =$D6*DA6*(1-$F6) -> 0 | DE6: =$D6*DA6*(1-$G6) -> 0 | DF6: =CZ6 -> 2194340 | DH6: =$D6*DG6 -> 0 | DI6: =$D6*DG6*(1-$E6) -> 0 | DJ6: =$D6*DG6*(1-$F6) -> 0 | DK6: =$D6*DG6*(1-$G6) -> 0 | DL6: =DF6 -> 2194340 | DN6: =$D6*DM6 -> 0 | DO6: =$D6*DM6*(1-$E6) -> 0 | DP6: =$D6*DM6*(1-$F6) -> 0 | DQ6: =$D6*DM6*(1-$G6) -> 0 | DR6: =DL6 -> 2194340 | DT6: =$D6*DS6 -> 0 | DU6: =$D6*DS6*(1-$E6) -> 0 | DV6: =$D6*DS6*(1-$F6) -> 0 | DW6: =$D6*DS6*(1-$G6) -> 0 | DX6: =DR6 -> 2194340 | DZ6: =$D6*DY6 -> 0 | EA6: =$D6*DY6*(1-$E6) -> 0 | EB6: =$D6*DY6*(1-$F6) -> 0 | EC6: =$D6*DY6*(1-$G6) -> 0 | ED6: =DX6 -> 2194340 | EF6: =$D6*EE6 -> 0 | EG6: =$D6*EE6*(1-$E6) -> 0 | EH6: =$D6*EE6*(1-$F6) -> 0 | EI6: =$D6*EE6*(1-$G6) -> 0 | EJ6: =ED6 -> 2194340 | EL6: =$D6*EK6 -> 0 | EM6: =$D6*EK6*(1-$E6) -> 0 | EN6: =$D6*EK6*(1-$F6) -> 0 | EO6: =$D6*EK6*(1-$G6) -> 0 | EP6: =EJ6 -> 2194340 | ER6: =$D6*EQ6 -> 0 | ES6: =$D6*EQ6*(1-$E6) -> 0 | ET6: =$D6*EQ6*(1-$F6) -> 0 | EU6: =$D6*EQ6*(1-$G6) -> 0 | EV6: =EP6 -> 2194340 | EX6: =$D6*EW6 -> 0 | EY6: =$D6*EW6*(1-$E6) -> 0 | EZ6: =$D6*EW6*(1-$F6) -> 0 | FA6: =$D6*EW6*(1-$G6) -> 0
A7: X-BT Threaded Stud | B7: X-BT-ER M8/7 SN 8 | C7: 2194351 | D7: 1 | E7: 0.055 | F7: 0.107 | G7: 0.157 | H7: =C7 -> 2194351 | I7: 1.2 | J7: =$D7*I7 -> 1.2 | K7: =$D7*I7*(1-$E7) -> 1.134 | L7: =$D7*I7*(1-$F7) -> 1.0716 | M7: =$D7*I7*(1-$G7) -> 1.0116 | N7: =H7 -> 2194351 | O7: 1.4 | P7: =$D7*O7 -> 1.4 | Q7: =$D7*O7*(1-$E7) -> 1.323 | R7: =$D7*O7*(1-$F7) -> 1.2502 | S7: =$D7*O7*(1-$G7) -> 1.1802 | T7: =N7 -> 2194351 | V7: =$D7*U7 -> 0 | W7: =$D7*U7*(1-$E7) -> 0 | X7: =$D7*U7*(1-$F7) -> 0 | Y7: =$D7*U7*(1-$G7) -> 0 | Z7: =T7 -> 2194351 | AB7: =$D7*AA7 -> 0 | AC7: =$D7*AA7*(1-$E7) -> 0 | AD7: =$D7*AA7*(1-$F7) -> 0 | AE7: =$D7*AA7*(1-$G7) -> 0 | AF7: =Z7 -> 2194351 | AH7: =$D7*AG7 -> 0 | AI7: =$D7*AG7*(1-$E7) -> 0 | AJ7: =$D7*AG7*(1-$F7) -> 0 | AK7: =$D7*AG7*(1-$G7) -> 0 | AL7: =AF7 -> 2194351 | AN7: =$D7*AM7 -> 0 | AO7: =$D7*AM7*(1-$E7) -> 0 | AP7: =$D7*AM7*(1-$F7) -> 0 | AQ7: =$D7*AM7*(1-$G7) -> 0 | AR7: =AL7 -> 2194351 | AT7: =$D7*AS7 -> 0 | AU7: =$D7*AS7*(1-$E7) -> 0 | AV7: =$D7*AS7*(1-$F7) -> 0 | AW7: =$D7*AS7*(1-$G7) -> 0 | AX7: =AR7 -> 2194351 | AZ7: =$D7*AY7 -> 0 | BA7: =$D7*AY7*(1-$E7) -> 0 | BB7: =$D7*AY7*(1-$F7) -> 0 | BC7: =$D7*AY7*(1-$G7) -> 0 | BD7: =AX7 -> 2194351 | BF7: =$D7*BE7 -> 0 | BG7: =$D7*BE7*(1-$E7) -> 0 | BH7: =$D7*BE7*(1-$F7) -> 0 | BI7: =$D7*BE7*(1-$G7) -> 0 | BJ7: =BD7 -> 2194351 | BL7: =$D7*BK7 -> 0 | BM7: =$D7*BK7*(1-$E7) -> 0 | BN7: =$D7*BK7*(1-$F7) -> 0 | BO7: =$D7*BK7*(1-$G7) -> 0 | BP7: =BJ7 -> 2194351 | BR7: =$D7*BQ7 -> 0 | BS7: =$D7*BQ7*(1-$E7) -> 0 | BT7: =$D7*BQ7*(1-$F7) -> 0 | BU7: =$D7*BQ7*(1-$G7) -> 0 | BV7: =BP7 -> 2194351 | BX7: =$D7*BW7 -> 0 | BY7: =$D7*BW7*(1-$E7) -> 0 | BZ7: =$D7*BW7*(1-$F7) -> 0 | CA7: =$D7*BW7*(1-$G7) -> 0 | CB7: =BV7 -> 2194351 | CD7: =$D7*CC7 -> 0 | CE7: =$D7*CC7*(1-$E7) -> 0 | CF7: =$D7*CC7*(1-$F7) -> 0 | CG7: =$D7*CC7*(1-$G7) -> 0 | CH7: =CB7 -> 2194351 | CJ7: =$D7*CI7 -> 0 | CK7: =$D7*CI7*(1-$E7) -> 0 | CL7: =$D7*CI7*(1-$F7) -> 0 | CM7: =$D7*CI7*(1-$G7) -> 0 | CN7: =CH7 -> 2194351 | CP7: =$D7*CO7 -> 0 | CQ7: =$D7*CO7*(1-$E7) -> 0 | CR7: =$D7*CO7*(1-$F7) -> 0 | CS7: =$D7*CO7*(1-$G7) -> 0 | CT7: =CN7 -> 2194351 | CV7: =$D7*CU7 -> 0 | CW7: =$D7*CU7*(1-$E7) -> 0 | CX7: =$D7*CU7*(1-$F7) -> 0 | CY7: =$D7*CU7*(1-$G7) -> 0 | CZ7: =CT7 -> 2194351 | DB7: =$D7*DA7 -> 0 | DC7: =$D7*DA7*(1-$E7) -> 0 | DD7: =$D7*DA7*(1-$F7) -> 0 | DE7: =$D7*DA7*(1-$G7) -> 0 | DF7: =CZ7 -> 2194351 | DH7: =$D7*DG7 -> 0 | DI7: =$D7*DG7*(1-$E7) -> 0 | DJ7: =$D7*DG7*(1-$F7) -> 0 | DK7: =$D7*DG7*(1-$G7) -> 0 | DL7: =DF7 -> 2194351 | DN7: =$D7*DM7 -> 0 | DO7: =$D7*DM7*(1-$E7) -> 0 | DP7: =$D7*DM7*(1-$F7) -> 0 | DQ7: =$D7*DM7*(1-$G7) -> 0 | DR7: =DL7 -> 2194351 | DT7: =$D7*DS7 -> 0 | DU7: =$D7*DS7*(1-$E7) -> 0 | DV7: =$D7*DS7*(1-$F7) -> 0 | DW7: =$D7*DS7*(1-$G7) -> 0 | DX7: =DR7 -> 2194351 | DZ7: =$D7*DY7 -> 0 | EA7: =$D7*DY7*(1-$E7) -> 0 | EB7: =$D7*DY7*(1-$F7) -> 0 | EC7: =$D7*DY7*(1-$G7) -> 0 | ED7: =DX7 -> 2194351 | EF7: =$D7*EE7 -> 0 | EG7: =$D7*EE7*(1-$E7) -> 0 | EH7: =$D7*EE7*(1-$F7) -> 0 | EI7: =$D7*EE7*(1-$G7) -> 0 | EJ7: =ED7 -> 2194351 | EL7: =$D7*EK7 -> 0 | EM7: =$D7*EK7*(1-$E7) -> 0 | EN7: =$D7*EK7*(1-$F7) -> 0 | EO7: =$D7*EK7*(1-$G7) -> 0 | EP7: =EJ7 -> 2194351 | ER7: =$D7*EQ7 -> 0 | ES7: =$D7*EQ7*(1-$E7) -> 0 | ET7: =$D7*EQ7*(1-$F7) -> 0 | EU7: =$D7*EQ7*(1-$G7) -> 0 | EV7: =EP7 -> 2194351 | EX7: =$D7*EW7 -> 0 | EY7: =$D7*EW7*(1-$E7) -> 0 | EZ7: =$D7*EW7*(1-$F7) -> 0 | FA7: =$D7*EW7*(1-$G7) -> 0
A8: X-BT Threaded Stud | B8: X-BT-ER M8/7 SN 8 | C8: 2103095 | D8: 1 | E8: 0.055 | F8: 0.107 | G8: 0.157 | H8: =C8 -> 2103095 | I8: 1.2 | J8: =$D8*I8 -> 1.2 | K8: =$D8*I8*(1-$E8) -> 1.134 | L8: =$D8*I8*(1-$F8) -> 1.0716 | M8: =$D8*I8*(1-$G8) -> 1.0116 | N8: =H8 -> 2103095 | O8: 1.4 | P8: =$D8*O8 -> 1.4 | Q8: =$D8*O8*(1-$E8) -> 1.323 | R8: =$D8*O8*(1-$F8) -> 1.2502 | S8: =$D8*O8*(1-$G8) -> 1.1802 | T8: =N8 -> 2103095 | V8: =$D8*U8 -> 0 | W8: =$D8*U8*(1-$E8) -> 0 | X8: =$D8*U8*(1-$F8) -> 0 | Y8: =$D8*U8*(1-$G8) -> 0 | Z8: =T8 -> 2103095 | AB8: =$D8*AA8 -> 0 | AC8: =$D8*AA8*(1-$E8) -> 0 | AD8: =$D8*AA8*(1-$F8) -> 0 | AE8: =$D8*AA8*(1-$G8) -> 0 | AF8: =Z8 -> 2103095 | AH8: =$D8*AG8 -> 0 | AI8: =$D8*AG8*(1-$E8) -> 0 | AJ8: =$D8*AG8*(1-$F8) -> 0 | AK8: =$D8*AG8*(1-$G8) -> 0 | AL8: =AF8 -> 2103095 | AN8: =$D8*AM8 -> 0 | AO8: =$D8*AM8*(1-$E8) -> 0 | AP8: =$D8*AM8*(1-$F8) -> 0 | AQ8: =$D8*AM8*(1-$G8) -> 0 | AR8: =AL8 -> 2103095 | AT8: =$D8*AS8 -> 0 | AU8: =$D8*AS8*(1-$E8) -> 0 | AV8: =$D8*AS8*(1-$F8) -> 0 | AW8: =$D8*AS8*(1-$G8) -> 0 | AX8: =AR8 -> 2103095 | AZ8: =$D8*AY8 -> 0 | BA8: =$D8*AY8*(1-$E8) -> 0 | BB8: =$D8*AY8*(1-$F8) -> 0 | BC8: =$D8*AY8*(1-$G8) -> 0 | BD8: =AX8 -> 2103095 | BF8: =$D8*BE8 -> 0 | BG8: =$D8*BE8*(1-$E8) -> 0 | BH8: =$D8*BE8*(1-$F8) -> 0 | BI8: =$D8*BE8*(1-$G8) -> 0 | BJ8: =BD8 -> 2103095 | BL8: =$D8*BK8 -> 0 | BM8: =$D8*BK8*(1-$E8) -> 0 | BN8: =$D8*BK8*(1-$F8) -> 0 | BO8: =$D8*BK8*(1-$G8) -> 0 | BP8: =BJ8 -> 2103095 | BR8: =$D8*BQ8 -> 0 | BS8: =$D8*BQ8*(1-$E8) -> 0 | BT8: =$D8*BQ8*(1-$F8) -> 0 | BU8: =$D8*BQ8*(1-$G8) -> 0 | BV8: =BP8 -> 2103095 | BX8: =$D8*BW8 -> 0 | BY8: =$D8*BW8*(1-$E8) -> 0 | BZ8: =$D8*BW8*(1-$F8) -> 0 | CA8: =$D8*BW8*(1-$G8) -> 0 | CB8: =BV8 -> 2103095 | CD8: =$D8*CC8 -> 0 | CE8: =$D8*CC8*(1-$E8) -> 0 | CF8: =$D8*CC8*(1-$F8) -> 0 | CG8: =$D8*CC8*(1-$G8) -> 0 | CH8: =CB8 -> 2103095 | CJ8: =$D8*CI8 -> 0 | CK8: =$D8*CI8*(1-$E8) -> 0 | CL8: =$D8*CI8*(1-$F8) -> 0 | CM8: =$D8*CI8*(1-$G8) -> 0 | CN8: =CH8 -> 2103095 | CP8: =$D8*CO8 -> 0 | CQ8: =$D8*CO8*(1-$E8) -> 0 | CR8: =$D8*CO8*(1-$F8) -> 0 | CS8: =$D8*CO8*(1-$G8) -> 0 | CT8: =CN8 -> 2103095 | CV8: =$D8*CU8 -> 0 | CW8: =$D8*CU8*(1-$E8) -> 0 | CX8: =$D8*CU8*(1-$F8) -> 0 | CY8: =$D8*CU8*(1-$G8) -> 0 | CZ8: =CT8 -> 2103095 | DB8: =$D8*DA8 -> 0 | DC8: =$D8*DA8*(1-$E8) -> 0 | DD8: =$D8*DA8*(1-$F8) -> 0 | DE8: =$D8*DA8*(1-$G8) -> 0 | DF8: =CZ8 -> 2103095 | DH8: =$D8*DG8 -> 0 | DI8: =$D8*DG8*(1-$E8) -> 0 | DJ8: =$D8*DG8*(1-$F8) -> 0 | DK8: =$D8*DG8*(1-$G8) -> 0 | DL8: =DF8 -> 2103095 | DN8: =$D8*DM8 -> 0 | DO8: =$D8*DM8*(1-$E8) -> 0 | DP8: =$D8*DM8*(1-$F8) -> 0 | DQ8: =$D8*DM8*(1-$G8) -> 0 | DR8: =DL8 -> 2103095 | DT8: =$D8*DS8 -> 0 | DU8: =$D8*DS8*(1-$E8) -> 0 | DV8: =$D8*DS8*(1-$F8) -> 0 | DW8: =$D8*DS8*(1-$G8) -> 0 | DX8: =DR8 -> 2103095 | DZ8: =$D8*DY8 -> 0 | EA8: =$D8*DY8*(1-$E8) -> 0 | EB8: =$D8*DY8*(1-$F8) -> 0 | EC8: =$D8*DY8*(1-$G8) -> 0 | ED8: =DX8 -> 2103095 | EF8: =$D8*EE8 -> 0 | EG8: =$D8*EE8*(1-$E8) -> 0 | EH8: =$D8*EE8*(1-$F8) -> 0 | EI8: =$D8*EE8*(1-$G8) -> 0 | EJ8: =ED8 -> 2103095 | EL8: =$D8*EK8 -> 0 | EM8: =$D8*EK8*(1-$E8) -> 0 | EN8: =$D8*EK8*(1-$F8) -> 0 | EO8: =$D8*EK8*(1-$G8) -> 0 | EP8: =EJ8 -> 2103095 | ER8: =$D8*EQ8 -> 0 | ES8: =$D8*EQ8*(1-$E8) -> 0 | ET8: =$D8*EQ8*(1-$F8) -> 0 | EU8: =$D8*EQ8*(1-$G8) -> 0 | EV8: =EP8 -> 2103095 | EX8: =$D8*EW8 -> 0 | EY8: =$D8*EW8*(1-$E8) -> 0 | EZ8: =$D8*EW8*(1-$F8) -> 0 | FA8: =$D8*EW8*(1-$G8) -> 0
A9: X-BT Threaded Stud | B9: X-BT-ER M10/7 SN 8 | C9: 2194352 | D9: 1 | E9: 0.055 | F9: 0.107 | G9: 0.157 | H9: =C9 -> 2194352 | I9: 1.2 | J9: =$D9*I9 -> 1.2 | K9: =$D9*I9*(1-$E9) -> 1.134 | L9: =$D9*I9*(1-$F9) -> 1.0716 | M9: =$D9*I9*(1-$G9) -> 1.0116 | N9: =H9 -> 2194352 | O9: 1.4 | P9: =$D9*O9 -> 1.4 | Q9: =$D9*O9*(1-$E9) -> 1.323 | R9: =$D9*O9*(1-$F9) -> 1.2502 | S9: =$D9*O9*(1-$G9) -> 1.1802 | T9: =N9 -> 2194352 | V9: =$D9*U9 -> 0 | W9: =$D9*U9*(1-$E9) -> 0 | X9: =$D9*U9*(1-$F9) -> 0 | Y9: =$D9*U9*(1-$G9) -> 0 | Z9: =T9 -> 2194352 | AB9: =$D9*AA9 -> 0 | AC9: =$D9*AA9*(1-$E9) -> 0 | AD9: =$D9*AA9*(1-$F9) -> 0 | AE9: =$D9*AA9*(1-$G9) -> 0 | AF9: =Z9 -> 2194352 | AH9: =$D9*AG9 -> 0 | AI9: =$D9*AG9*(1-$E9) -> 0 | AJ9: =$D9*AG9*(1-$F9) -> 0 | AK9: =$D9*AG9*(1-$G9) -> 0 | AL9: =AF9 -> 2194352 | AN9: =$D9*AM9 -> 0 | AO9: =$D9*AM9*(1-$E9) -> 0 | AP9: =$D9*AM9*(1-$F9) -> 0 | AQ9: =$D9*AM9*(1-$G9) -> 0 | AR9: =AL9 -> 2194352 | AT9: =$D9*AS9 -> 0 | AU9: =$D9*AS9*(1-$E9) -> 0 | AV9: =$D9*AS9*(1-$F9) -> 0 | AW9: =$D9*AS9*(1-$G9) -> 0 | AX9: =AR9 -> 2194352 | AZ9: =$D9*AY9 -> 0 | BA9: =$D9*AY9*(1-$E9) -> 0 | BB9: =$D9*AY9*(1-$F9) -> 0 | BC9: =$D9*AY9*(1-$G9) -> 0 | BD9: =AX9 -> 2194352 | BF9: =$D9*BE9 -> 0 | BG9: =$D9*BE9*(1-$E9) -> 0 | BH9: =$D9*BE9*(1-$F9) -> 0 | BI9: =$D9*BE9*(1-$G9) -> 0 | BJ9: =BD9 -> 2194352 | BL9: =$D9*BK9 -> 0 | BM9: =$D9*BK9*(1-$E9) -> 0 | BN9: =$D9*BK9*(1-$F9) -> 0 | BO9: =$D9*BK9*(1-$G9) -> 0 | BP9: =BJ9 -> 2194352 | BR9: =$D9*BQ9 -> 0 | BS9: =$D9*BQ9*(1-$E9) -> 0 | BT9: =$D9*BQ9*(1-$F9) -> 0 | BU9: =$D9*BQ9*(1-$G9) -> 0 | BV9: =BP9 -> 2194352 | BX9: =$D9*BW9 -> 0 | BY9: =$D9*BW9*(1-$E9) -> 0 | BZ9: =$D9*BW9*(1-$F9) -> 0 | CA9: =$D9*BW9*(1-$G9) -> 0 | CB9: =BV9 -> 2194352 | CD9: =$D9*CC9 -> 0 | CE9: =$D9*CC9*(1-$E9) -> 0 | CF9: =$D9*CC9*(1-$F9) -> 0 | CG9: =$D9*CC9*(1-$G9) -> 0 | CH9: =CB9 -> 2194352 | CJ9: =$D9*CI9 -> 0 | CK9: =$D9*CI9*(1-$E9) -> 0 | CL9: =$D9*CI9*(1-$F9) -> 0 | CM9: =$D9*CI9*(1-$G9) -> 0 | CN9: =CH9 -> 2194352 | CP9: =$D9*CO9 -> 0 | CQ9: =$D9*CO9*(1-$E9) -> 0 | CR9: =$D9*CO9*(1-$F9) -> 0 | CS9: =$D9*CO9*(1-$G9) -> 0 | CT9: =CN9 -> 2194352 | CV9: =$D9*CU9 -> 0 | CW9: =$D9*CU9*(1-$E9) -> 0 | CX9: =$D9*CU9*(1-$F9) -> 0 | CY9: =$D9*CU9*(1-$G9) -> 0 | CZ9: =CT9 -> 2194352 | DB9: =$D9*DA9 -> 0 | DC9: =$D9*DA9*(1-$E9) -> 0 | DD9: =$D9*DA9*(1-$F9) -> 0 | DE9: =$D9*DA9*(1-$G9) -> 0 | DF9: =CZ9 -> 2194352 | DH9: =$D9*DG9 -> 0 | DI9: =$D9*DG9*(1-$E9) -> 0 | DJ9: =$D9*DG9*(1-$F9) -> 0 | DK9: =$D9*DG9*(1-$G9) -> 0 | DL9: =DF9 -> 2194352 | DN9: =$D9*DM9 -> 0 | DO9: =$D9*DM9*(1-$E9) -> 0 | DP9: =$D9*DM9*(1-$F9) -> 0 | DQ9: =$D9*DM9*(1-$G9) -> 0 | DR9: =DL9 -> 2194352 | DT9: =$D9*DS9 -> 0 | DU9: =$D9*DS9*(1-$E9) -> 0 | DV9: =$D9*DS9*(1-$F9) -> 0 | DW9: =$D9*DS9*(1-$G9) -> 0 | DX9: =DR9 -> 2194352 | DZ9: =$D9*DY9 -> 0 | EA9: =$D9*DY9*(1-$E9) -> 0 | EB9: =$D9*DY9*(1-$F9) -> 0 | EC9: =$D9*DY9*(1-$G9) -> 0 | ED9: =DX9 -> 2194352 | EF9: =$D9*EE9 -> 0 | EG9: =$D9*EE9*(1-$E9) -> 0 | EH9: =$D9*EE9*(1-$F9) -> 0 | EI9: =$D9*EE9*(1-$G9) -> 0 | EJ9: =ED9 -> 2194352 | EL9: =$D9*EK9 -> 0 | EM9: =$D9*EK9*(1-$E9) -> 0 | EN9: =$D9*EK9*(1-$F9) -> 0 | EO9: =$D9*EK9*(1-$G9) -> 0 | EP9: =EJ9 -> 2194352 | ER9: =$D9*EQ9 -> 0 | ES9: =$D9*EQ9*(1-$E9) -> 0 | ET9: =$D9*EQ9*(1-$F9) -> 0 | EU9: =$D9*EQ9*(1-$G9) -> 0 | EV9: =EP9 -> 2194352 | EX9: =$D9*EW9 -> 0 | EY9: =$D9*EW9*(1-$E9) -> 0 | EZ9: =$D9*EW9*(1-$F9) -> 0 | FA9: =$D9*EW9*(1-$G9) -> 0
A10: X-BT Threaded Stud | B10: X-BT-ER M10/3 SN 4 | C10: 2103094 | D10: 1 | E10: 0.055 | F10: 0.107 | G10: 0.157 | H10: =C10 -> 2103094 | I10: 1.2 | J10: =$D10*I10 -> 1.2 | K10: =$D10*I10*(1-$E10) -> 1.134 | L10: =$D10*I10*(1-$F10) -> 1.0716 | M10: =$D10*I10*(1-$G10) -> 1.0116 | N10: =H10 -> 2103094 | O10: 1.4 | P10: =$D10*O10 -> 1.4 | Q10: =$D10*O10*(1-$E10) -> 1.323 | R10: =$D10*O10*(1-$F10) -> 1.2502 | S10: =$D10*O10*(1-$G10) -> 1.1802 | T10: =N10 -> 2103094 | V10: =$D10*U10 -> 0 | W10: =$D10*U10*(1-$E10) -> 0 | X10: =$D10*U10*(1-$F10) -> 0 | Y10: =$D10*U10*(1-$G10) -> 0 | Z10: =T10 -> 2103094 | AB10: =$D10*AA10 -> 0 | AC10: =$D10*AA10*(1-$E10) -> 0 | AD10: =$D10*AA10*(1-$F10) -> 0 | AE10: =$D10*AA10*(1-$G10) -> 0 | AF10: =Z10 -> 2103094 | AH10: =$D10*AG10 -> 0 | AI10: =$D10*AG10*(1-$E10) -> 0 | AJ10: =$D10*AG10*(1-$F10) -> 0 | AK10: =$D10*AG10*(1-$G10) -> 0 | AL10: =AF10 -> 2103094 | AN10: =$D10*AM10 -> 0 | AO10: =$D10*AM10*(1-$E10) -> 0 | AP10: =$D10*AM10*(1-$F10) -> 0 | AQ10: =$D10*AM10*(1-$G10) -> 0 | AR10: =AL10 -> 2103094 | AT10: =$D10*AS10 -> 0 | AU10: =$D10*AS10*(1-$E10) -> 0 | AV10: =$D10*AS10*(1-$F10) -> 0 | AW10: =$D10*AS10*(1-$G10) -> 0 | AX10: =AR10 -> 2103094 | AZ10: =$D10*AY10 -> 0 | BA10: =$D10*AY10*(1-$E10) -> 0 | BB10: =$D10*AY10*(1-$F10) -> 0 | BC10: =$D10*AY10*(1-$G10) -> 0 | BD10: =AX10 -> 2103094 | BF10: =$D10*BE10 -> 0 | BG10: =$D10*BE10*(1-$E10) -> 0 | BH10: =$D10*BE10*(1-$F10) -> 0 | BI10: =$D10*BE10*(1-$G10) -> 0 | BJ10: =BD10 -> 2103094 | BL10: =$D10*BK10 -> 0 | BM10: =$D10*BK10*(1-$E10) -> 0 | BN10: =$D10*BK10*(1-$F10) -> 0 | BO10: =$D10*BK10*(1-$G10) -> 0 | BP10: =BJ10 -> 2103094 | BR10: =$D10*BQ10 -> 0 | BS10: =$D10*BQ10*(1-$E10) -> 0 | BT10: =$D10*BQ10*(1-$F10) -> 0 | BU10: =$D10*BQ10*(1-$G10) -> 0 | BV10: =BP10 -> 2103094 | BX10: =$D10*BW10 -> 0 | BY10: =$D10*BW10*(1-$E10) -> 0 | BZ10: =$D10*BW10*(1-$F10) -> 0 | CA10: =$D10*BW10*(1-$G10) -> 0 | CB10: =BV10 -> 2103094 | CD10: =$D10*CC10 -> 0 | CE10: =$D10*CC10*(1-$E10) -> 0 | CF10: =$D10*CC10*(1-$F10) -> 0 | CG10: =$D10*CC10*(1-$G10) -> 0 | CH10: =CB10 -> 2103094 | CJ10: =$D10*CI10 -> 0 | CK10: =$D10*CI10*(1-$E10) -> 0 | CL10: =$D10*CI10*(1-$F10) -> 0 | CM10: =$D10*CI10*(1-$G10) -> 0 | CN10: =CH10 -> 2103094 | CP10: =$D10*CO10 -> 0 | CQ10: =$D10*CO10*(1-$E10) -> 0 | CR10: =$D10*CO10*(1-$F10) -> 0 | CS10: =$D10*CO10*(1-$G10) -> 0 | CT10: =CN10 -> 2103094 | CV10: =$D10*CU10 -> 0 | CW10: =$D10*CU10*(1-$E10) -> 0 | CX10: =$D10*CU10*(1-$F10) -> 0 | CY10: =$D10*CU10*(1-$G10) -> 0 | CZ10: =CT10 -> 2103094 | DB10: =$D10*DA10 -> 0 | DC10: =$D10*DA10*(1-$E10) -> 0 | DD10: =$D10*DA10*(1-$F10) -> 0 | DE10: =$D10*DA10*(1-$G10) -> 0 | DF10: =CZ10 -> 2103094 | DH10: =$D10*DG10 -> 0 | DI10: =$D10*DG10*(1-$E10) -> 0 | DJ10: =$D10*DG10*(1-$F10) -> 0 | DK10: =$D10*DG10*(1-$G10) -> 0 | DL10: =DF10 -> 2103094 | DN10: =$D10*DM10 -> 0 | DO10: =$D10*DM10*(1-$E10) -> 0 | DP10: =$D10*DM10*(1-$F10) -> 0 | DQ10: =$D10*DM10*(1-$G10) -> 0 | DR10: =DL10 -> 2103094 | DT10: =$D10*DS10 -> 0 | DU10: =$D10*DS10*(1-$E10) -> 0 | DV10: =$D10*DS10*(1-$F10) -> 0 | DW10: =$D10*DS10*(1-$G10) -> 0 | DX10: =DR10 -> 2103094 | DZ10: =$D10*DY10 -> 0 | EA10: =$D10*DY10*(1-$E10) -> 0 | EB10: =$D10*DY10*(1-$F10) -> 0 | EC10: =$D10*DY10*(1-$G10) -> 0 | ED10: =DX10 -> 2103094 | EF10: =$D10*EE10 -> 0 | EG10: =$D10*EE10*(1-$E10) -> 0 | EH10: =$D10*EE10*(1-$F10) -> 0 | EI10: =$D10*EE10*(1-$G10) -> 0 | EJ10: =ED10 -> 2103094 | EL10: =$D10*EK10 -> 0 | EM10: =$D10*EK10*(1-$E10) -> 0 | EN10: =$D10*EK10*(1-$F10) -> 0 | EO10: =$D10*EK10*(1-$G10) -> 0 | EP10: =EJ10 -> 2103094 | ER10: =$D10*EQ10 -> 0 | ES10: =$D10*EQ10*(1-$E10) -> 0 | ET10: =$D10*EQ10*(1-$F10) -> 0 | EU10: =$D10*EQ10*(1-$G10) -> 0 | EV10: =EP10 -> 2103094 | EX10: =$D10*EW10 -> 0 | EY10: =$D10*EW10*(1-$E10) -> 0 | EZ10: =$D10*EW10*(1-$F10) -> 0 | FA10: =$D10*EW10*(1-$G10) -> 0
A11: S-BT Threaded Stud | B11: S-BT-MR M10/15 SN6 | C11: 2140740 | D11: 1 | E11: 0.055 | F11: 0.107 | G11: 0.157 | H11: =C11 -> 2140740 | I11: 1.2 | J11: =$D11*I11 -> 1.2 | K11: =$D11*I11*(1-$E11) -> 1.134 | L11: =$D11*I11*(1-$F11) -> 1.0716 | M11: =$D11*I11*(1-$G11) -> 1.0116 | N11: =H11 -> 2140740 | O11: 1.4 | P11: =$D11*O11 -> 1.4 | Q11: =$D11*O11*(1-$E11) -> 1.323 | R11: =$D11*O11*(1-$F11) -> 1.2502 | S11: =$D11*O11*(1-$G11) -> 1.1802 | T11: =N11 -> 2140740 | V11: =$D11*U11 -> 0 | W11: =$D11*U11*(1-$E11) -> 0 | X11: =$D11*U11*(1-$F11) -> 0 | Y11: =$D11*U11*(1-$G11) -> 0 | Z11: =T11 -> 2140740 | AB11: =$D11*AA11 -> 0 | AC11: =$D11*AA11*(1-$E11) -> 0 | AD11: =$D11*AA11*(1-$F11) -> 0 | AE11: =$D11*AA11*(1-$G11) -> 0 | AF11: =Z11 -> 2140740 | AH11: =$D11*AG11 -> 0 | AI11: =$D11*AG11*(1-$E11) -> 0 | AJ11: =$D11*AG11*(1-$F11) -> 0 | AK11: =$D11*AG11*(1-$G11) -> 0 | AL11: =AF11 -> 2140740 | AN11: =$D11*AM11 -> 0 | AO11: =$D11*AM11*(1-$E11) -> 0 | AP11: =$D11*AM11*(1-$F11) -> 0 | AQ11: =$D11*AM11*(1-$G11) -> 0 | AR11: =AL11 -> 2140740 | AT11: =$D11*AS11 -> 0 | AU11: =$D11*AS11*(1-$E11) -> 0 | AV11: =$D11*AS11*(1-$F11) -> 0 | AW11: =$D11*AS11*(1-$G11) -> 0 | AX11: =AR11 -> 2140740 | AZ11: =$D11*AY11 -> 0 | BA11: =$D11*AY11*(1-$E11) -> 0 | BB11: =$D11*AY11*(1-$F11) -> 0 | BC11: =$D11*AY11*(1-$G11) -> 0 | BD11: =AX11 -> 2140740 | BF11: =$D11*BE11 -> 0 | BG11: =$D11*BE11*(1-$E11) -> 0 | BH11: =$D11*BE11*(1-$F11) -> 0 | BI11: =$D11*BE11*(1-$G11) -> 0 | BJ11: =BD11 -> 2140740 | BL11: =$D11*BK11 -> 0 | BM11: =$D11*BK11*(1-$E11) -> 0 | BN11: =$D11*BK11*(1-$F11) -> 0 | BO11: =$D11*BK11*(1-$G11) -> 0 | BP11: =BJ11 -> 2140740 | BR11: =$D11*BQ11 -> 0 | BS11: =$D11*BQ11*(1-$E11) -> 0 | BT11: =$D11*BQ11*(1-$F11) -> 0 | BU11: =$D11*BQ11*(1-$G11) -> 0 | BV11: =BP11 -> 2140740 | BX11: =$D11*BW11 -> 0 | BY11: =$D11*BW11*(1-$E11) -> 0 | BZ11: =$D11*BW11*(1-$F11) -> 0 | CA11: =$D11*BW11*(1-$G11) -> 0 | CB11: =BV11 -> 2140740 | CD11: =$D11*CC11 -> 0 | CE11: =$D11*CC11*(1-$E11) -> 0 | CF11: =$D11*CC11*(1-$F11) -> 0 | CG11: =$D11*CC11*(1-$G11) -> 0 | CH11: =CB11 -> 2140740 | CJ11: =$D11*CI11 -> 0 | CK11: =$D11*CI11*(1-$E11) -> 0 | CL11: =$D11*CI11*(1-$F11) -> 0 | CM11: =$D11*CI11*(1-$G11) -> 0 | CN11: =CH11 -> 2140740 | CP11: =$D11*CO11 -> 0 | CQ11: =$D11*CO11*(1-$E11) -> 0 | CR11: =$D11*CO11*(1-$F11) -> 0 | CS11: =$D11*CO11*(1-$G11) -> 0 | CT11: =CN11 -> 2140740 | CV11: =$D11*CU11 -> 0 | CW11: =$D11*CU11*(1-$E11) -> 0 | CX11: =$D11*CU11*(1-$F11) -> 0 | CY11: =$D11*CU11*(1-$G11) -> 0 | CZ11: =CT11 -> 2140740 | DB11: =$D11*DA11 -> 0 | DC11: =$D11*DA11*(1-$E11) -> 0 | DD11: =$D11*DA11*(1-$F11) -> 0 | DE11: =$D11*DA11*(1-$G11) -> 0 | DF11: =CZ11 -> 2140740 | DH11: =$D11*DG11 -> 0 | DI11: =$D11*DG11*(1-$E11) -> 0 | DJ11: =$D11*DG11*(1-$F11) -> 0 | DK11: =$D11*DG11*(1-$G11) -> 0 | DL11: =DF11 -> 2140740 | DN11: =$D11*DM11 -> 0 | DO11: =$D11*DM11*(1-$E11) -> 0 | DP11: =$D11*DM11*(1-$F11) -> 0 | DQ11: =$D11*DM11*(1-$G11) -> 0 | DR11: =DL11 -> 2140740 | DT11: =$D11*DS11 -> 0 | DU11: =$D11*DS11*(1-$E11) -> 0 | DV11: =$D11*DS11*(1-$F11) -> 0 | DW11: =$D11*DS11*(1-$G11) -> 0 | DX11: =DR11 -> 2140740 | DZ11: =$D11*DY11 -> 0 | EA11: =$D11*DY11*(1-$E11) -> 0 | EB11: =$D11*DY11*(1-$F11) -> 0 | EC11: =$D11*DY11*(1-$G11) -> 0 | ED11: =DX11 -> 2140740 | EF11: =$D11*EE11 -> 0 | EG11: =$D11*EE11*(1-$E11) -> 0 | EH11: =$D11*EE11*(1-$F11) -> 0 | EI11: =$D11*EE11*(1-$G11) -> 0 | EJ11: =ED11 -> 2140740 | EL11: =$D11*EK11 -> 0 | EM11: =$D11*EK11*(1-$E11) -> 0 | EN11: =$D11*EK11*(1-$F11) -> 0 | EO11: =$D11*EK11*(1-$G11) -> 0 | EP11: =EJ11 -> 2140740 | ER11: =$D11*EQ11 -> 0 | ES11: =$D11*EQ11*(1-$E11) -> 0 | ET11: =$D11*EQ11*(1-$F11) -> 0 | EU11: =$D11*EQ11*(1-$G11) -> 0 | EV11: =EP11 -> 2140740 | EX11: =$D11*EW11 -> 0 | EY11: =$D11*EW11*(1-$E11) -> 0 | EZ11: =$D11*EW11*(1-$F11) -> 0 | FA11: =$D11*EW11*(1-$G11) -> 0
B12: S-BT-MF M10/15 AN6 | C12: 2140528 | D12: 1 | E12: 0.055 | F12: 0.107 | G12: 0.157 | H12: =C12 -> 2140528 | I12: 1.2 | J12: =$D12*I12 -> 1.2 | K12: =$D12*I12*(1-$E12) -> 1.134 | L12: =$D12*I12*(1-$F12) -> 1.0716 | M12: =$D12*I12*(1-$G12) -> 1.0116 | N12: =H12 -> 2140528 | O12: 1.4 | P12: =$D12*O12 -> 1.4 | Q12: =$D12*O12*(1-$E12) -> 1.323 | R12: =$D12*O12*(1-$F12) -> 1.2502 | S12: =$D12*O12*(1-$G12) -> 1.1802 | T12: =N12 -> 2140528 | V12: =$D12*U12 -> 0 | W12: =$D12*U12*(1-$E12) -> 0 | X12: =$D12*U12*(1-$F12) -> 0 | Y12: =$D12*U12*(1-$G12) -> 0 | Z12: =T12 -> 2140528 | AB12: =$D12*AA12 -> 0 | AC12: =$D12*AA12*(1-$E12) -> 0 | AD12: =$D12*AA12*(1-$F12) -> 0 | AE12: =$D12*AA12*(1-$G12) -> 0 | AF12: =Z12 -> 2140528 | AH12: =$D12*AG12 -> 0 | AI12: =$D12*AG12*(1-$E12) -> 0 | AJ12: =$D12*AG12*(1-$F12) -> 0 | AK12: =$D12*AG12*(1-$G12) -> 0 | AL12: =AF12 -> 2140528 | AN12: =$D12*AM12 -> 0 | AO12: =$D12*AM12*(1-$E12) -> 0 | AP12: =$D12*AM12*(1-$F12) -> 0 | AQ12: =$D12*AM12*(1-$G12) -> 0 | AR12: =AL12 -> 2140528 | AT12: =$D12*AS12 -> 0 | AU12: =$D12*AS12*(1-$E12) -> 0 | AV12: =$D12*AS12*(1-$F12) -> 0 | AW12: =$D12*AS12*(1-$G12) -> 0 | AX12: =AR12 -> 2140528 | AZ12: =$D12*AY12 -> 0 | BA12: =$D12*AY12*(1-$E12) -> 0 | BB12: =$D12*AY12*(1-$F12) -> 0 | BC12: =$D12*AY12*(1-$G12) -> 0 | BD12: =AX12 -> 2140528 | BF12: =$D12*BE12 -> 0 | BG12: =$D12*BE12*(1-$E12) -> 0 | BH12: =$D12*BE12*(1-$F12) -> 0 | BI12: =$D12*BE12*(1-$G12) -> 0 | BJ12: =BD12 -> 2140528 | BL12: =$D12*BK12 -> 0 | BM12: =$D12*BK12*(1-$E12) -> 0 | BN12: =$D12*BK12*(1-$F12) -> 0 | BO12: =$D12*BK12*(1-$G12) -> 0 | BP12: =BJ12 -> 2140528 | BR12: =$D12*BQ12 -> 0 | BS12: =$D12*BQ12*(1-$E12) -> 0 | BT12: =$D12*BQ12*(1-$F12) -> 0 | BU12: =$D12*BQ12*(1-$G12) -> 0 | BV12: =BP12 -> 2140528 | BX12: =$D12*BW12 -> 0 | BY12: =$D12*BW12*(1-$E12) -> 0 | BZ12: =$D12*BW12*(1-$F12) -> 0 | CA12: =$D12*BW12*(1-$G12) -> 0 | CB12: =BV12 -> 2140528 | CD12: =$D12*CC12 -> 0 | CE12: =$D12*CC12*(1-$E12) -> 0 | CF12: =$D12*CC12*(1-$F12) -> 0 | CG12: =$D12*CC12*(1-$G12) -> 0 | CH12: =CB12 -> 2140528 | CJ12: =$D12*CI12 -> 0 | CK12: =$D12*CI12*(1-$E12) -> 0 | CL12: =$D12*CI12*(1-$F12) -> 0 | CM12: =$D12*CI12*(1-$G12) -> 0 | CN12: =CH12 -> 2140528 | CP12: =$D12*CO12 -> 0 | CQ12: =$D12*CO12*(1-$E12) -> 0 | CR12: =$D12*CO12*(1-$F12) -> 0 | CS12: =$D12*CO12*(1-$G12) -> 0 | CT12: =CN12 -> 2140528 | CV12: =$D12*CU12 -> 0 | CW12: =$D12*CU12*(1-$E12) -> 0 | CX12: =$D12*CU12*(1-$F12) -> 0 | CY12: =$D12*CU12*(1-$G12) -> 0 | CZ12: =CT12 -> 2140528 | DB12: =$D12*DA12 -> 0 | DC12: =$D12*DA12*(1-$E12) -> 0 | DD12: =$D12*DA12*(1-$F12) -> 0 | DE12: =$D12*DA12*(1-$G12) -> 0 | DF12: =CZ12 -> 2140528 | DH12: =$D12*DG12 -> 0 | DI12: =$D12*DG12*(1-$E12) -> 0 | DJ12: =$D12*DG12*(1-$F12) -> 0 | DK12: =$D12*DG12*(1-$G12) -> 0 | DL12: =DF12 -> 2140528 | DN12: =$D12*DM12 -> 0 | DO12: =$D12*DM12*(1-$E12) -> 0 | DP12: =$D12*DM12*(1-$F12) -> 0 | DQ12: =$D12*DM12*(1-$G12) -> 0 | DR12: =DL12 -> 2140528 | DT12: =$D12*DS12 -> 0 | DU12: =$D12*DS12*(1-$E12) -> 0 | DV12: =$D12*DS12*(1-$F12) -> 0 | DW12: =$D12*DS12*(1-$G12) -> 0 | DX12: =DR12 -> 2140528 | DZ12: =$D12*DY12 -> 0 | EA12: =$D12*DY12*(1-$E12) -> 0 | EB12: =$D12*DY12*(1-$F12) -> 0 | EC12: =$D12*DY12*(1-$G12) -> 0 | ED12: =DX12 -> 2140528 | EF12: =$D12*EE12 -> 0 | EG12: =$D12*EE12*(1-$E12) -> 0 | EH12: =$D12*EE12*(1-$F12) -> 0 | EI12: =$D12*EE12*(1-$G12) -> 0 | EJ12: =ED12 -> 2140528 | EL12: =$D12*EK12 -> 0 | EM12: =$D12*EK12*(1-$E12) -> 0 | EN12: =$D12*EK12*(1-$F12) -> 0 | EO12: =$D12*EK12*(1-$G12) -> 0 | EP12: =EJ12 -> 2140528 | ER12: =$D12*EQ12 -> 0 | ES12: =$D12*EQ12*(1-$E12) -> 0 | ET12: =$D12*EQ12*(1-$F12) -> 0 | EU12: =$D12*EQ12*(1-$G12) -> 0 | EV12: =EP12 -> 2140528 | EX12: =$D12*EW12 -> 0 | EY12: =$D12*EW12*(1-$E12) -> 0 | EZ12: =$D12*EW12*(1-$F12) -> 0 | FA12: =$D12*EW12*(1-$G12) -> 0
B13: S-BT-GF M8/7 AN 6 | C13: 2140527 | D13: 1 | E13: 0.055 | F13: 0.107 | G13: 0.157 | H13: =C13 -> 2140527 | I13: 1.2 | J13: =$D13*I13 -> 1.2 | K13: =$D13*I13*(1-$E13) -> 1.134 | L13: =$D13*I13*(1-$F13) -> 1.0716 | M13: =$D13*I13*(1-$G13) -> 1.0116 | N13: =H13 -> 2140527 | O13: 1.4 | P13: =$D13*O13 -> 1.4 | Q13: =$D13*O13*(1-$E13) -> 1.323 | R13: =$D13*O13*(1-$F13) -> 1.2502 | S13: =$D13*O13*(1-$G13) -> 1.1802 | T13: =N13 -> 2140527 | V13: =$D13*U13 -> 0 | W13: =$D13*U13*(1-$E13) -> 0 | X13: =$D13*U13*(1-$F13) -> 0 | Y13: =$D13*U13*(1-$G13) -> 0 | Z13: =T13 -> 2140527 | AB13: =$D13*AA13 -> 0 | AC13: =$D13*AA13*(1-$E13) -> 0 | AD13: =$D13*AA13*(1-$F13) -> 0 | AE13: =$D13*AA13*(1-$G13) -> 0 | AF13: =Z13 -> 2140527 | AH13: =$D13*AG13 -> 0 | AI13: =$D13*AG13*(1-$E13) -> 0 | AJ13: =$D13*AG13*(1-$F13) -> 0 | AK13: =$D13*AG13*(1-$G13) -> 0 | AL13: =AF13 -> 2140527 | AN13: =$D13*AM13 -> 0 | AO13: =$D13*AM13*(1-$E13) -> 0 | AP13: =$D13*AM13*(1-$F13) -> 0 | AQ13: =$D13*AM13*(1-$G13) -> 0 | AR13: =AL13 -> 2140527 | AT13: =$D13*AS13 -> 0 | AU13: =$D13*AS13*(1-$E13) -> 0 | AV13: =$D13*AS13*(1-$F13) -> 0 | AW13: =$D13*AS13*(1-$G13) -> 0 | AX13: =AR13 -> 2140527 | AZ13: =$D13*AY13 -> 0 | BA13: =$D13*AY13*(1-$E13) -> 0 | BB13: =$D13*AY13*(1-$F13) -> 0 | BC13: =$D13*AY13*(1-$G13) -> 0 | BD13: =AX13 -> 2140527 | BF13: =$D13*BE13 -> 0 | BG13: =$D13*BE13*(1-$E13) -> 0 | BH13: =$D13*BE13*(1-$F13) -> 0 | BI13: =$D13*BE13*(1-$G13) -> 0 | BJ13: =BD13 -> 2140527 | BL13: =$D13*BK13 -> 0 | BM13: =$D13*BK13*(1-$E13) -> 0 | BN13: =$D13*BK13*(1-$F13) -> 0 | BO13: =$D13*BK13*(1-$G13) -> 0 | BP13: =BJ13 -> 2140527 | BR13: =$D13*BQ13 -> 0 | BS13: =$D13*BQ13*(1-$E13) -> 0 | BT13: =$D13*BQ13*(1-$F13) -> 0 | BU13: =$D13*BQ13*(1-$G13) -> 0 | BV13: =BP13 -> 2140527 | BX13: =$D13*BW13 -> 0 | BY13: =$D13*BW13*(1-$E13) -> 0 | BZ13: =$D13*BW13*(1-$F13) -> 0 | CA13: =$D13*BW13*(1-$G13) -> 0 | CB13: =BV13 -> 2140527 | CD13: =$D13*CC13 -> 0 | CE13: =$D13*CC13*(1-$E13) -> 0 | CF13: =$D13*CC13*(1-$F13) -> 0 | CG13: =$D13*CC13*(1-$G13) -> 0 | CH13: =CB13 -> 2140527 | CJ13: =$D13*CI13 -> 0 | CK13: =$D13*CI13*(1-$E13) -> 0 | CL13: =$D13*CI13*(1-$F13) -> 0 | CM13: =$D13*CI13*(1-$G13) -> 0 | CN13: =CH13 -> 2140527 | CP13: =$D13*CO13 -> 0 | CQ13: =$D13*CO13*(1-$E13) -> 0 | CR13: =$D13*CO13*(1-$F13) -> 0 | CS13: =$D13*CO13*(1-$G13) -> 0 | CT13: =CN13 -> 2140527 | CV13: =$D13*CU13 -> 0 | CW13: =$D13*CU13*(1-$E13) -> 0 | CX13: =$D13*CU13*(1-$F13) -> 0 | CY13: =$D13*CU13*(1-$G13) -> 0 | CZ13: =CT13 -> 2140527 | DB13: =$D13*DA13 -> 0 | DC13: =$D13*DA13*(1-$E13) -> 0 | DD13: =$D13*DA13*(1-$F13) -> 0 | DE13: =$D13*DA13*(1-$G13) -> 0 | DF13: =CZ13 -> 2140527 | DH13: =$D13*DG13 -> 0 | DI13: =$D13*DG13*(1-$E13) -> 0 | DJ13: =$D13*DG13*(1-$F13) -> 0 | DK13: =$D13*DG13*(1-$G13) -> 0 | DL13: =DF13 -> 2140527 | DN13: =$D13*DM13 -> 0 | DO13: =$D13*DM13*(1-$E13) -> 0 | DP13: =$D13*DM13*(1-$F13) -> 0 | DQ13: =$D13*DM13*(1-$G13) -> 0 | DR13: =DL13 -> 2140527 | DT13: =$D13*DS13 -> 0 | DU13: =$D13*DS13*(1-$E13) -> 0 | DV13: =$D13*DS13*(1-$F13) -> 0 | DW13: =$D13*DS13*(1-$G13) -> 0 | DX13: =DR13 -> 2140527 | DZ13: =$D13*DY13 -> 0 | EA13: =$D13*DY13*(1-$E13) -> 0 | EB13: =$D13*DY13*(1-$F13) -> 0 | EC13: =$D13*DY13*(1-$G13) -> 0 | ED13: =DX13 -> 2140527 | EF13: =$D13*EE13 -> 0 | EG13: =$D13*EE13*(1-$E13) -> 0 | EH13: =$D13*EE13*(1-$F13) -> 0 | EI13: =$D13*EE13*(1-$G13) -> 0 | EJ13: =ED13 -> 2140527 | EL13: =$D13*EK13 -> 0 | EM13: =$D13*EK13*(1-$E13) -> 0 | EN13: =$D13*EK13*(1-$F13) -> 0 | EO13: =$D13*EK13*(1-$G13) -> 0 | EP13: =EJ13 -> 2140527 | ER13: =$D13*EQ13 -> 0 | ES13: =$D13*EQ13*(1-$E13) -> 0 | ET13: =$D13*EQ13*(1-$F13) -> 0 | EU13: =$D13*EQ13*(1-$G13) -> 0 | EV13: =EP13 -> 2140527 | EX13: =$D13*EW13 -> 0 | EY13: =$D13*EW13*(1-$E13) -> 0 | EZ13: =$D13*EW13*(1-$F13) -> 0 | FA13: =$D13*EW13*(1-$G13) -> 0
B14: S-BT GR M8/7 | C14: 2140529 | D14: 1 | E14: 0.055 | F14: 0.107 | G14: 0.157 | H14: =C14 -> 2140529 | I14: 1.2 | J14: =$D14*I14 -> 1.2 | K14: =$D14*I14*(1-$E14) -> 1.134 | L14: =$D14*I14*(1-$F14) -> 1.0716 | M14: =$D14*I14*(1-$G14) -> 1.0116 | N14: =H14 -> 2140529 | O14: 1.4 | P14: =$D14*O14 -> 1.4 | Q14: =$D14*O14*(1-$E14) -> 1.323 | R14: =$D14*O14*(1-$F14) -> 1.2502 | S14: =$D14*O14*(1-$G14) -> 1.1802 | T14: =N14 -> 2140529 | V14: =$D14*U14 -> 0 | W14: =$D14*U14*(1-$E14) -> 0 | X14: =$D14*U14*(1-$F14) -> 0 | Y14: =$D14*U14*(1-$G14) -> 0 | Z14: =T14 -> 2140529 | AB14: =$D14*AA14 -> 0 | AC14: =$D14*AA14*(1-$E14) -> 0 | AD14: =$D14*AA14*(1-$F14) -> 0 | AE14: =$D14*AA14*(1-$G14) -> 0 | AF14: =Z14 -> 2140529 | AH14: =$D14*AG14 -> 0 | AI14: =$D14*AG14*(1-$E14) -> 0 | AJ14: =$D14*AG14*(1-$F14) -> 0 | AK14: =$D14*AG14*(1-$G14) -> 0 | AL14: =AF14 -> 2140529 | AN14: =$D14*AM14 -> 0 | AO14: =$D14*AM14*(1-$E14) -> 0 | AP14: =$D14*AM14*(1-$F14) -> 0 | AQ14: =$D14*AM14*(1-$G14) -> 0 | AR14: =AL14 -> 2140529 | AT14: =$D14*AS14 -> 0 | AU14: =$D14*AS14*(1-$E14) -> 0 | AV14: =$D14*AS14*(1-$F14) -> 0 | AW14: =$D14*AS14*(1-$G14) -> 0 | AX14: =AR14 -> 2140529 | AZ14: =$D14*AY14 -> 0 | BA14: =$D14*AY14*(1-$E14) -> 0 | BB14: =$D14*AY14*(1-$F14) -> 0 | BC14: =$D14*AY14*(1-$G14) -> 0 | BD14: =AX14 -> 2140529 | BF14: =$D14*BE14 -> 0 | BG14: =$D14*BE14*(1-$E14) -> 0 | BH14: =$D14*BE14*(1-$F14) -> 0 | BI14: =$D14*BE14*(1-$G14) -> 0 | BJ14: =BD14 -> 2140529 | BL14: =$D14*BK14 -> 0 | BM14: =$D14*BK14*(1-$E14) -> 0 | BN14: =$D14*BK14*(1-$F14) -> 0 | BO14: =$D14*BK14*(1-$G14) -> 0 | BP14: =BJ14 -> 2140529 | BR14: =$D14*BQ14 -> 0 | BS14: =$D14*BQ14*(1-$E14) -> 0 | BT14: =$D14*BQ14*(1-$F14) -> 0 | BU14: =$D14*BQ14*(1-$G14) -> 0 | BV14: =BP14 -> 2140529 | BX14: =$D14*BW14 -> 0 | BY14: =$D14*BW14*(1-$E14) -> 0 | BZ14: =$D14*BW14*(1-$F14) -> 0 | CA14: =$D14*BW14*(1-$G14) -> 0 | CB14: =BV14 -> 2140529 | CD14: =$D14*CC14 -> 0 | CE14: =$D14*CC14*(1-$E14) -> 0 | CF14: =$D14*CC14*(1-$F14) -> 0 | CG14: =$D14*CC14*(1-$G14) -> 0 | CH14: =CB14 -> 2140529 | CJ14: =$D14*CI14 -> 0 | CK14: =$D14*CI14*(1-$E14) -> 0 | CL14: =$D14*CI14*(1-$F14) -> 0 | CM14: =$D14*CI14*(1-$G14) -> 0 | CN14: =CH14 -> 2140529 | CP14: =$D14*CO14 -> 0 | CQ14: =$D14*CO14*(1-$E14) -> 0 | CR14: =$D14*CO14*(1-$F14) -> 0 | CS14: =$D14*CO14*(1-$G14) -> 0 | CT14: =CN14 -> 2140529 | CV14: =$D14*CU14 -> 0 | CW14: =$D14*CU14*(1-$E14) -> 0 | CX14: =$D14*CU14*(1-$F14) -> 0 | CY14: =$D14*CU14*(1-$G14) -> 0 | CZ14: =CT14 -> 2140529 | DB14: =$D14*DA14 -> 0 | DC14: =$D14*DA14*(1-$E14) -> 0 | DD14: =$D14*DA14*(1-$F14) -> 0 | DE14: =$D14*DA14*(1-$G14) -> 0 | DF14: =CZ14 -> 2140529 | DH14: =$D14*DG14 -> 0 | DI14: =$D14*DG14*(1-$E14) -> 0 | DJ14: =$D14*DG14*(1-$F14) -> 0 | DK14: =$D14*DG14*(1-$G14) -> 0 | DL14: =DF14 -> 2140529 | DN14: =$D14*DM14 -> 0 | DO14: =$D14*DM14*(1-$E14) -> 0 | DP14: =$D14*DM14*(1-$F14) -> 0 | DQ14: =$D14*DM14*(1-$G14) -> 0 | DR14: =DL14 -> 2140529 | DT14: =$D14*DS14 -> 0 | DU14: =$D14*DS14*(1-$E14) -> 0 | DV14: =$D14*DS14*(1-$F14) -> 0 | DW14: =$D14*DS14*(1-$G14) -> 0 | DX14: =DR14 -> 2140529 | DZ14: =$D14*DY14 -> 0 | EA14: =$D14*DY14*(1-$E14) -> 0 | EB14: =$D14*DY14*(1-$F14) -> 0 | EC14: =$D14*DY14*(1-$G14) -> 0 | ED14: =DX14 -> 2140529 | EF14: =$D14*EE14 -> 0 | EG14: =$D14*EE14*(1-$E14) -> 0 | EH14: =$D14*EE14*(1-$F14) -> 0 | EI14: =$D14*EE14*(1-$G14) -> 0 | EJ14: =ED14 -> 2140529 | EL14: =$D14*EK14 -> 0 | EM14: =$D14*EK14*(1-$E14) -> 0 | EN14: =$D14*EK14*(1-$F14) -> 0 | EO14: =$D14*EK14*(1-$G14) -> 0 | EP14: =EJ14 -> 2140529 | ER14: =$D14*EQ14 -> 0 | ES14: =$D14*EQ14*(1-$E14) -> 0 | ET14: =$D14*EQ14*(1-$F14) -> 0 | EU14: =$D14*EQ14*(1-$G14) -> 0 | EV14: =EP14 -> 2140529 | EX14: =$D14*EW14 -> 0 | EY14: =$D14*EW14*(1-$E14) -> 0 | EZ14: =$D14*EW14*(1-$F14) -> 0 | FA14: =$D14*EW14*(1-$G14) -> 0
B15: S-BT-MR-M8/7 SN6 | C15: 2139172 | D15: 1 | E15: 0.055 | F15: 0.107 | G15: 0.157 | H15: =C15 -> 2139172 | I15: 1.2 | J15: =$D15*I15 -> 1.2 | K15: =$D15*I15*(1-$E15) -> 1.134 | L15: =$D15*I15*(1-$F15) -> 1.0716 | M15: =$D15*I15*(1-$G15) -> 1.0116 | N15: =H15 -> 2139172 | O15: 1.4 | P15: =$D15*O15 -> 1.4 | Q15: =$D15*O15*(1-$E15) -> 1.323 | R15: =$D15*O15*(1-$F15) -> 1.2502 | S15: =$D15*O15*(1-$G15) -> 1.1802 | T15: =N15 -> 2139172 | V15: =$D15*U15 -> 0 | W15: =$D15*U15*(1-$E15) -> 0 | X15: =$D15*U15*(1-$F15) -> 0 | Y15: =$D15*U15*(1-$G15) -> 0 | Z15: =T15 -> 2139172 | AB15: =$D15*AA15 -> 0 | AC15: =$D15*AA15*(1-$E15) -> 0 | AD15: =$D15*AA15*(1-$F15) -> 0 | AE15: =$D15*AA15*(1-$G15) -> 0 | AF15: =Z15 -> 2139172 | AH15: =$D15*AG15 -> 0 | AI15: =$D15*AG15*(1-$E15) -> 0 | AJ15: =$D15*AG15*(1-$F15) -> 0 | AK15: =$D15*AG15*(1-$G15) -> 0 | AL15: =AF15 -> 2139172 | AN15: =$D15*AM15 -> 0 | AO15: =$D15*AM15*(1-$E15) -> 0 | AP15: =$D15*AM15*(1-$F15) -> 0 | AQ15: =$D15*AM15*(1-$G15) -> 0 | AR15: =AL15 -> 2139172 | AT15: =$D15*AS15 -> 0 | AU15: =$D15*AS15*(1-$E15) -> 0 | AV15: =$D15*AS15*(1-$F15) -> 0 | AW15: =$D15*AS15*(1-$G15) -> 0 | AX15: =AR15 -> 2139172 | AZ15: =$D15*AY15 -> 0 | BA15: =$D15*AY15*(1-$E15) -> 0 | BB15: =$D15*AY15*(1-$F15) -> 0 | BC15: =$D15*AY15*(1-$G15) -> 0 | BD15: =AX15 -> 2139172 | BF15: =$D15*BE15 -> 0 | BG15: =$D15*BE15*(1-$E15) -> 0 | BH15: =$D15*BE15*(1-$F15) -> 0 | BI15: =$D15*BE15*(1-$G15) -> 0 | BJ15: =BD15 -> 2139172 | BL15: =$D15*BK15 -> 0 | BM15: =$D15*BK15*(1-$E15) -> 0 | BN15: =$D15*BK15*(1-$F15) -> 0 | BO15: =$D15*BK15*(1-$G15) -> 0 | BP15: =BJ15 -> 2139172 | BR15: =$D15*BQ15 -> 0 | BS15: =$D15*BQ15*(1-$E15) -> 0 | BT15: =$D15*BQ15*(1-$F15) -> 0 | BU15: =$D15*BQ15*(1-$G15) -> 0 | BV15: =BP15 -> 2139172 | BX15: =$D15*BW15 -> 0 | BY15: =$D15*BW15*(1-$E15) -> 0 | BZ15: =$D15*BW15*(1-$F15) -> 0 | CA15: =$D15*BW15*(1-$G15) -> 0 | CB15: =BV15 -> 2139172 | CD15: =$D15*CC15 -> 0 | CE15: =$D15*CC15*(1-$E15) -> 0 | CF15: =$D15*CC15*(1-$F15) -> 0 | CG15: =$D15*CC15*(1-$G15) -> 0 | CH15: =CB15 -> 2139172 | CJ15: =$D15*CI15 -> 0 | CK15: =$D15*CI15*(1-$E15) -> 0 | CL15: =$D15*CI15*(1-$F15) -> 0 | CM15: =$D15*CI15*(1-$G15) -> 0 | CN15: =CH15 -> 2139172 | CP15: =$D15*CO15 -> 0 | CQ15: =$D15*CO15*(1-$E15) -> 0 | CR15: =$D15*CO15*(1-$F15) -> 0 | CS15: =$D15*CO15*(1-$G15) -> 0 | CT15: =CN15 -> 2139172 | CV15: =$D15*CU15 -> 0 | CW15: =$D15*CU15*(1-$E15) -> 0 | CX15: =$D15*CU15*(1-$F15) -> 0 | CY15: =$D15*CU15*(1-$G15) -> 0 | CZ15: =CT15 -> 2139172 | DB15: =$D15*DA15 -> 0 | DC15: =$D15*DA15*(1-$E15) -> 0 | DD15: =$D15*DA15*(1-$F15) -> 0 | DE15: =$D15*DA15*(1-$G15) -> 0 | DF15: =CZ15 -> 2139172 | DH15: =$D15*DG15 -> 0 | DI15: =$D15*DG15*(1-$E15) -> 0 | DJ15: =$D15*DG15*(1-$F15) -> 0 | DK15: =$D15*DG15*(1-$G15) -> 0 | DL15: =DF15 -> 2139172 | DN15: =$D15*DM15 -> 0 | DO15: =$D15*DM15*(1-$E15) -> 0 | DP15: =$D15*DM15*(1-$F15) -> 0 | DQ15: =$D15*DM15*(1-$G15) -> 0 | DR15: =DL15 -> 2139172 | DT15: =$D15*DS15 -> 0 | DU15: =$D15*DS15*(1-$E15) -> 0 | DV15: =$D15*DS15*(1-$F15) -> 0 | DW15: =$D15*DS15*(1-$G15) -> 0 | DX15: =DR15 -> 2139172 | DZ15: =$D15*DY15 -> 0 | EA15: =$D15*DY15*(1-$E15) -> 0 | EB15: =$D15*DY15*(1-$F15) -> 0 | EC15: =$D15*DY15*(1-$G15) -> 0 | ED15: =DX15 -> 2139172 | EF15: =$D15*EE15 -> 0 | EG15: =$D15*EE15*(1-$E15) -> 0 | EH15: =$D15*EE15*(1-$F15) -> 0 | EI15: =$D15*EE15*(1-$G15) -> 0 | EJ15: =ED15 -> 2139172 | EL15: =$D15*EK15 -> 0 | EM15: =$D15*EK15*(1-$E15) -> 0 | EN15: =$D15*EK15*(1-$F15) -> 0 | EO15: =$D15*EK15*(1-$G15) -> 0 | EP15: =EJ15 -> 2139172 | ER15: =$D15*EQ15 -> 0 | ES15: =$D15*EQ15*(1-$E15) -> 0 | ET15: =$D15*EQ15*(1-$F15) -> 0 | EU15: =$D15*EQ15*(1-$G15) -> 0 | EV15: =EP15 -> 2139172 | EX15: =$D15*EW15 -> 0 | EY15: =$D15*EW15*(1-$E15) -> 0 | EZ15: =$D15*EW15*(1-$F15) -> 0 | FA15: =$D15*EW15*(1-$G15) -> 0
B16: S-BT-MF M8/7 AN 6 | C16: 2139174 | D16: 1 | E16: 0.055 | F16: 0.107 | G16: 0.157 | H16: =C16 -> 2139174 | I16: 1.2 | J16: =$D16*I16 -> 1.2 | K16: =$D16*I16*(1-$E16) -> 1.134 | L16: =$D16*I16*(1-$F16) -> 1.0716 | M16: =$D16*I16*(1-$G16) -> 1.0116 | N16: =H16 -> 2139174 | O16: 1.4 | P16: =$D16*O16 -> 1.4 | Q16: =$D16*O16*(1-$E16) -> 1.323 | R16: =$D16*O16*(1-$F16) -> 1.2502 | S16: =$D16*O16*(1-$G16) -> 1.1802 | T16: =N16 -> 2139174 | V16: =$D16*U16 -> 0 | W16: =$D16*U16*(1-$E16) -> 0 | X16: =$D16*U16*(1-$F16) -> 0 | Y16: =$D16*U16*(1-$G16) -> 0 | Z16: =T16 -> 2139174 | AB16: =$D16*AA16 -> 0 | AC16: =$D16*AA16*(1-$E16) -> 0 | AD16: =$D16*AA16*(1-$F16) -> 0 | AE16: =$D16*AA16*(1-$G16) -> 0 | AF16: =Z16 -> 2139174 | AH16: =$D16*AG16 -> 0 | AI16: =$D16*AG16*(1-$E16) -> 0 | AJ16: =$D16*AG16*(1-$F16) -> 0 | AK16: =$D16*AG16*(1-$G16) -> 0 | AL16: =AF16 -> 2139174 | AN16: =$D16*AM16 -> 0 | AO16: =$D16*AM16*(1-$E16) -> 0 | AP16: =$D16*AM16*(1-$F16) -> 0 | AQ16: =$D16*AM16*(1-$G16) -> 0 | AR16: =AL16 -> 2139174 | AT16: =$D16*AS16 -> 0 | AU16: =$D16*AS16*(1-$E16) -> 0 | AV16: =$D16*AS16*(1-$F16) -> 0 | AW16: =$D16*AS16*(1-$G16) -> 0 | AX16: =AR16 -> 2139174 | AZ16: =$D16*AY16 -> 0 | BA16: =$D16*AY16*(1-$E16) -> 0 | BB16: =$D16*AY16*(1-$F16) -> 0 | BC16: =$D16*AY16*(1-$G16) -> 0 | BD16: =AX16 -> 2139174 | BF16: =$D16*BE16 -> 0 | BG16: =$D16*BE16*(1-$E16) -> 0 | BH16: =$D16*BE16*(1-$F16) -> 0 | BI16: =$D16*BE16*(1-$G16) -> 0 | BJ16: =BD16 -> 2139174 | BL16: =$D16*BK16 -> 0 | BM16: =$D16*BK16*(1-$E16) -> 0 | BN16: =$D16*BK16*(1-$F16) -> 0 | BO16: =$D16*BK16*(1-$G16) -> 0 | BP16: =BJ16 -> 2139174 | BR16: =$D16*BQ16 -> 0 | BS16: =$D16*BQ16*(1-$E16) -> 0 | BT16: =$D16*BQ16*(1-$F16) -> 0 | BU16: =$D16*BQ16*(1-$G16) -> 0 | BV16: =BP16 -> 2139174 | BX16: =$D16*BW16 -> 0 | BY16: =$D16*BW16*(1-$E16) -> 0 | BZ16: =$D16*BW16*(1-$F16) -> 0 | CA16: =$D16*BW16*(1-$G16) -> 0 | CB16: =BV16 -> 2139174 | CD16: =$D16*CC16 -> 0 | CE16: =$D16*CC16*(1-$E16) -> 0 | CF16: =$D16*CC16*(1-$F16) -> 0 | CG16: =$D16*CC16*(1-$G16) -> 0 | CH16: =CB16 -> 2139174 | CJ16: =$D16*CI16 -> 0 | CK16: =$D16*CI16*(1-$E16) -> 0 | CL16: =$D16*CI16*(1-$F16) -> 0 | CM16: =$D16*CI16*(1-$G16) -> 0 | CN16: =CH16 -> 2139174 | CP16: =$D16*CO16 -> 0 | CQ16: =$D16*CO16*(1-$E16) -> 0 | CR16: =$D16*CO16*(1-$F16) -> 0 | CS16: =$D16*CO16*(1-$G16) -> 0 | CT16: =CN16 -> 2139174 | CV16: =$D16*CU16 -> 0 | CW16: =$D16*CU16*(1-$E16) -> 0 | CX16: =$D16*CU16*(1-$F16) -> 0 | CY16: =$D16*CU16*(1-$G16) -> 0 | CZ16: =CT16 -> 2139174 | DB16: =$D16*DA16 -> 0 | DC16: =$D16*DA16*(1-$E16) -> 0 | DD16: =$D16*DA16*(1-$F16) -> 0 | DE16: =$D16*DA16*(1-$G16) -> 0 | DF16: =CZ16 -> 2139174 | DH16: =$D16*DG16 -> 0 | DI16: =$D16*DG16*(1-$E16) -> 0 | DJ16: =$D16*DG16*(1-$F16) -> 0 | DK16: =$D16*DG16*(1-$G16) -> 0 | DL16: =DF16 -> 2139174 | DN16: =$D16*DM16 -> 0 | DO16: =$D16*DM16*(1-$E16) -> 0 | DP16: =$D16*DM16*(1-$F16) -> 0 | DQ16: =$D16*DM16*(1-$G16) -> 0 | DR16: =DL16 -> 2139174 | DT16: =$D16*DS16 -> 0 | DU16: =$D16*DS16*(1-$E16) -> 0 | DV16: =$D16*DS16*(1-$F16) -> 0 | DW16: =$D16*DS16*(1-$G16) -> 0 | DX16: =DR16 -> 2139174 | DZ16: =$D16*DY16 -> 0 | EA16: =$D16*DY16*(1-$E16) -> 0 | EB16: =$D16*DY16*(1-$F16) -> 0 | EC16: =$D16*DY16*(1-$G16) -> 0 | ED16: =DX16 -> 2139174 | EF16: =$D16*EE16 -> 0 | EG16: =$D16*EE16*(1-$E16) -> 0 | EH16: =$D16*EE16*(1-$F16) -> 0 | EI16: =$D16*EE16*(1-$G16) -> 0 | EJ16: =ED16 -> 2139174 | EL16: =$D16*EK16 -> 0 | EM16: =$D16*EK16*(1-$E16) -> 0 | EN16: =$D16*EK16*(1-$F16) -> 0 | EO16: =$D16*EK16*(1-$G16) -> 0 | EP16: =EJ16 -> 2139174 | ER16: =$D16*EQ16 -> 0 | ES16: =$D16*EQ16*(1-$E16) -> 0 | ET16: =$D16*EQ16*(1-$F16) -> 0 | EU16: =$D16*EQ16*(1-$G16) -> 0 | EV16: =EP16 -> 2139174 | EX16: =$D16*EW16 -> 0 | EY16: =$D16*EW16*(1-$E16) -> 0 | EZ16: =$D16*EW16*(1-$F16) -> 0 | FA16: =$D16*EW16*(1-$G16) -> 0
B17: S-BT EF M10/15 AN 6 | C17: 2186204 | D17: 1 | E17: 0.055 | F17: 0.107 | G17: 0.157 | H17: =C17 -> 2186204 | I17: 1.2 | J17: =$D17*I17 -> 1.2 | K17: =$D17*I17*(1-$E17) -> 1.134 | L17: =$D17*I17*(1-$F17) -> 1.0716 | M17: =$D17*I17*(1-$G17) -> 1.0116 | N17: =H17 -> 2186204 | O17: 1.4 | P17: =$D17*O17 -> 1.4 | Q17: =$D17*O17*(1-$E17) -> 1.323 | R17: =$D17*O17*(1-$F17) -> 1.2502 | S17: =$D17*O17*(1-$G17) -> 1.1802 | T17: =N17 -> 2186204 | V17: =$D17*U17 -> 0 | W17: =$D17*U17*(1-$E17) -> 0 | X17: =$D17*U17*(1-$F17) -> 0 | Y17: =$D17*U17*(1-$G17) -> 0 | Z17: =T17 -> 2186204 | AB17: =$D17*AA17 -> 0 | AC17: =$D17*AA17*(1-$E17) -> 0 | AD17: =$D17*AA17*(1-$F17) -> 0 | AE17: =$D17*AA17*(1-$G17) -> 0 | AF17: =Z17 -> 2186204 | AH17: =$D17*AG17 -> 0 | AI17: =$D17*AG17*(1-$E17) -> 0 | AJ17: =$D17*AG17*(1-$F17) -> 0 | AK17: =$D17*AG17*(1-$G17) -> 0 | AL17: =AF17 -> 2186204 | AN17: =$D17*AM17 -> 0 | AO17: =$D17*AM17*(1-$E17) -> 0 | AP17: =$D17*AM17*(1-$F17) -> 0 | AQ17: =$D17*AM17*(1-$G17) -> 0 | AR17: =AL17 -> 2186204 | AT17: =$D17*AS17 -> 0 | AU17: =$D17*AS17*(1-$E17) -> 0 | AV17: =$D17*AS17*(1-$F17) -> 0 | AW17: =$D17*AS17*(1-$G17) -> 0 | AX17: =AR17 -> 2186204 | AZ17: =$D17*AY17 -> 0 | BA17: =$D17*AY17*(1-$E17) -> 0 | BB17: =$D17*AY17*(1-$F17) -> 0 | BC17: =$D17*AY17*(1-$G17) -> 0 | BD17: =AX17 -> 2186204 | BF17: =$D17*BE17 -> 0 | BG17: =$D17*BE17*(1-$E17) -> 0 | BH17: =$D17*BE17*(1-$F17) -> 0 | BI17: =$D17*BE17*(1-$G17) -> 0 | BJ17: =BD17 -> 2186204 | BL17: =$D17*BK17 -> 0 | BM17: =$D17*BK17*(1-$E17) -> 0 | BN17: =$D17*BK17*(1-$F17) -> 0 | BO17: =$D17*BK17*(1-$G17) -> 0 | BP17: =BJ17 -> 2186204 | BR17: =$D17*BQ17 -> 0 | BS17: =$D17*BQ17*(1-$E17) -> 0 | BT17: =$D17*BQ17*(1-$F17) -> 0 | BU17: =$D17*BQ17*(1-$G17) -> 0 | BV17: =BP17 -> 2186204 | BX17: =$D17*BW17 -> 0 | BY17: =$D17*BW17*(1-$E17) -> 0 | BZ17: =$D17*BW17*(1-$F17) -> 0 | CA17: =$D17*BW17*(1-$G17) -> 0 | CB17: =BV17 -> 2186204 | CD17: =$D17*CC17 -> 0 | CE17: =$D17*CC17*(1-$E17) -> 0 | CF17: =$D17*CC17*(1-$F17) -> 0 | CG17: =$D17*CC17*(1-$G17) -> 0 | CH17: =CB17 -> 2186204 | CJ17: =$D17*CI17 -> 0 | CK17: =$D17*CI17*(1-$E17) -> 0 | CL17: =$D17*CI17*(1-$F17) -> 0 | CM17: =$D17*CI17*(1-$G17) -> 0 | CN17: =CH17 -> 2186204 | CP17: =$D17*CO17 -> 0 | CQ17: =$D17*CO17*(1-$E17) -> 0 | CR17: =$D17*CO17*(1-$F17) -> 0 | CS17: =$D17*CO17*(1-$G17) -> 0 | CT17: =CN17 -> 2186204 | CV17: =$D17*CU17 -> 0 | CW17: =$D17*CU17*(1-$E17) -> 0 | CX17: =$D17*CU17*(1-$F17) -> 0 | CY17: =$D17*CU17*(1-$G17) -> 0 | CZ17: =CT17 -> 2186204 | DB17: =$D17*DA17 -> 0 | DC17: =$D17*DA17*(1-$E17) -> 0 | DD17: =$D17*DA17*(1-$F17) -> 0 | DE17: =$D17*DA17*(1-$G17) -> 0 | DF17: =CZ17 -> 2186204 | DH17: =$D17*DG17 -> 0 | DI17: =$D17*DG17*(1-$E17) -> 0 | DJ17: =$D17*DG17*(1-$F17) -> 0 | DK17: =$D17*DG17*(1-$G17) -> 0 | DL17: =DF17 -> 2186204 | DN17: =$D17*DM17 -> 0 | DO17: =$D17*DM17*(1-$E17) -> 0 | DP17: =$D17*DM17*(1-$F17) -> 0 | DQ17: =$D17*DM17*(1-$G17) -> 0 | DR17: =DL17 -> 2186204 | DT17: =$D17*DS17 -> 0 | DU17: =$D17*DS17*(1-$E17) -> 0 | DV17: =$D17*DS17*(1-$F17) -> 0 | DW17: =$D17*DS17*(1-$G17) -> 0 | DX17: =DR17 -> 2186204 | DZ17: =$D17*DY17 -> 0 | EA17: =$D17*DY17*(1-$E17) -> 0 | EB17: =$D17*DY17*(1-$F17) -> 0 | EC17: =$D17*DY17*(1-$G17) -> 0 | ED17: =DX17 -> 2186204 | EF17: =$D17*EE17 -> 0 | EG17: =$D17*EE17*(1-$E17) -> 0 | EH17: =$D17*EE17*(1-$F17) -> 0 | EI17: =$D17*EE17*(1-$G17) -> 0 | EJ17: =ED17 -> 2186204 | EL17: =$D17*EK17 -> 0 | EM17: =$D17*EK17*(1-$E17) -> 0 | EN17: =$D17*EK17*(1-$F17) -> 0 | EO17: =$D17*EK17*(1-$G17) -> 0 | EP17: =EJ17 -> 2186204 | ER17: =$D17*EQ17 -> 0 | ES17: =$D17*EQ17*(1-$E17) -> 0 | ET17: =$D17*EQ17*(1-$F17) -> 0 | EU17: =$D17*EQ17*(1-$G17) -> 0 | EV17: =EP17 -> 2186204 | EX17: =$D17*EW17 -> 0 | EY17: =$D17*EW17*(1-$E17) -> 0 | EZ17: =$D17*EW17*(1-$F17) -> 0 | FA17: =$D17*EW17*(1-$G17) -> 0
B18: S-BT EF M8/15 AN 6 | C18: 2186208 | D18: 1 | E18: 0.055 | F18: 0.107 | G18: 0.157 | H18: =C18 -> 2186208 | I18: 1.2 | J18: =$D18*I18 -> 1.2 | K18: =$D18*I18*(1-$E18) -> 1.134 | L18: =$D18*I18*(1-$F18) -> 1.0716 | M18: =$D18*I18*(1-$G18) -> 1.0116 | N18: =H18 -> 2186208 | O18: 1.4 | P18: =$D18*O18 -> 1.4 | Q18: =$D18*O18*(1-$E18) -> 1.323 | R18: =$D18*O18*(1-$F18) -> 1.2502 | S18: =$D18*O18*(1-$G18) -> 1.1802 | T18: =N18 -> 2186208 | V18: =$D18*U18 -> 0 | W18: =$D18*U18*(1-$E18) -> 0 | X18: =$D18*U18*(1-$F18) -> 0 | Y18: =$D18*U18*(1-$G18) -> 0 | Z18: =T18 -> 2186208 | AB18: =$D18*AA18 -> 0 | AC18: =$D18*AA18*(1-$E18) -> 0 | AD18: =$D18*AA18*(1-$F18) -> 0 | AE18: =$D18*AA18*(1-$G18) -> 0 | AF18: =Z18 -> 2186208 | AH18: =$D18*AG18 -> 0 | AI18: =$D18*AG18*(1-$E18) -> 0 | AJ18: =$D18*AG18*(1-$F18) -> 0 | AK18: =$D18*AG18*(1-$G18) -> 0 | AL18: =AF18 -> 2186208 | AN18: =$D18*AM18 -> 0 | AO18: =$D18*AM18*(1-$E18) -> 0 | AP18: =$D18*AM18*(1-$F18) -> 0 | AQ18: =$D18*AM18*(1-$G18) -> 0 | AR18: =AL18 -> 2186208 | AT18: =$D18*AS18 -> 0 | AU18: =$D18*AS18*(1-$E18) -> 0 | AV18: =$D18*AS18*(1-$F18) -> 0 | AW18: =$D18*AS18*(1-$G18) -> 0 | AX18: =AR18 -> 2186208 | AZ18: =$D18*AY18 -> 0 | BA18: =$D18*AY18*(1-$E18) -> 0 | BB18: =$D18*AY18*(1-$F18) -> 0 | BC18: =$D18*AY18*(1-$G18) -> 0 | BD18: =AX18 -> 2186208 | BF18: =$D18*BE18 -> 0 | BG18: =$D18*BE18*(1-$E18) -> 0 | BH18: =$D18*BE18*(1-$F18) -> 0 | BI18: =$D18*BE18*(1-$G18) -> 0 | BJ18: =BD18 -> 2186208 | BL18: =$D18*BK18 -> 0 | BM18: =$D18*BK18*(1-$E18) -> 0 | BN18: =$D18*BK18*(1-$F18) -> 0 | BO18: =$D18*BK18*(1-$G18) -> 0 | BP18: =BJ18 -> 2186208 | BR18: =$D18*BQ18 -> 0 | BS18: =$D18*BQ18*(1-$E18) -> 0 | BT18: =$D18*BQ18*(1-$F18) -> 0 | BU18: =$D18*BQ18*(1-$G18) -> 0 | BV18: =BP18 -> 2186208 | BX18: =$D18*BW18 -> 0 | BY18: =$D18*BW18*(1-$E18) -> 0 | BZ18: =$D18*BW18*(1-$F18) -> 0 | CA18: =$D18*BW18*(1-$G18) -> 0 | CB18: =BV18 -> 2186208 | CD18: =$D18*CC18 -> 0 | CE18: =$D18*CC18*(1-$E18) -> 0 | CF18: =$D18*CC18*(1-$F18) -> 0 | CG18: =$D18*CC18*(1-$G18) -> 0 | CH18: =CB18 -> 2186208 | CJ18: =$D18*CI18 -> 0 | CK18: =$D18*CI18*(1-$E18) -> 0 | CL18: =$D18*CI18*(1-$F18) -> 0 | CM18: =$D18*CI18*(1-$G18) -> 0 | CN18: =CH18 -> 2186208 | CP18: =$D18*CO18 -> 0 | CQ18: =$D18*CO18*(1-$E18) -> 0 | CR18: =$D18*CO18*(1-$F18) -> 0 | CS18: =$D18*CO18*(1-$G18) -> 0 | CT18: =CN18 -> 2186208 | CV18: =$D18*CU18 -> 0 | CW18: =$D18*CU18*(1-$E18) -> 0 | CX18: =$D18*CU18*(1-$F18) -> 0 | CY18: =$D18*CU18*(1-$G18) -> 0 | CZ18: =CT18 -> 2186208 | DB18: =$D18*DA18 -> 0 | DC18: =$D18*DA18*(1-$E18) -> 0 | DD18: =$D18*DA18*(1-$F18) -> 0 | DE18: =$D18*DA18*(1-$G18) -> 0 | DF18: =CZ18 -> 2186208 | DH18: =$D18*DG18 -> 0 | DI18: =$D18*DG18*(1-$E18) -> 0 | DJ18: =$D18*DG18*(1-$F18) -> 0 | DK18: =$D18*DG18*(1-$G18) -> 0 | DL18: =DF18 -> 2186208 | DN18: =$D18*DM18 -> 0 | DO18: =$D18*DM18*(1-$E18) -> 0 | DP18: =$D18*DM18*(1-$F18) -> 0 | DQ18: =$D18*DM18*(1-$G18) -> 0 | DR18: =DL18 -> 2186208 | DT18: =$D18*DS18 -> 0 | DU18: =$D18*DS18*(1-$E18) -> 0 | DV18: =$D18*DS18*(1-$F18) -> 0 | DW18: =$D18*DS18*(1-$G18) -> 0 | DX18: =DR18 -> 2186208 | DZ18: =$D18*DY18 -> 0 | EA18: =$D18*DY18*(1-$E18) -> 0 | EB18: =$D18*DY18*(1-$F18) -> 0 | EC18: =$D18*DY18*(1-$G18) -> 0 | ED18: =DX18 -> 2186208 | EF18: =$D18*EE18 -> 0 | EG18: =$D18*EE18*(1-$E18) -> 0 | EH18: =$D18*EE18*(1-$F18) -> 0 | EI18: =$D18*EE18*(1-$G18) -> 0 | EJ18: =ED18 -> 2186208 | EL18: =$D18*EK18 -> 0 | EM18: =$D18*EK18*(1-$E18) -> 0 | EN18: =$D18*EK18*(1-$F18) -> 0 | EO18: =$D18*EK18*(1-$G18) -> 0 | EP18: =EJ18 -> 2186208 | ER18: =$D18*EQ18 -> 0 | ES18: =$D18*EQ18*(1-$E18) -> 0 | ET18: =$D18*EQ18*(1-$F18) -> 0 | EU18: =$D18*EQ18*(1-$G18) -> 0 | EV18: =EP18 -> 2186208 | EX18: =$D18*EW18 -> 0 | EY18: =$D18*EW18*(1-$E18) -> 0 | EZ18: =$D18*EW18*(1-$F18) -> 0 | FA18: =$D18*EW18*(1-$G18) -> 0
B19: S-BT ER M10/15 SN 6 | C19: 2186203 | D19: 1 | E19: 0.055 | F19: 0.107 | G19: 0.157 | H19: =C19 -> 2186203 | I19: 1.2 | J19: =$D19*I19 -> 1.2 | K19: =$D19*I19*(1-$E19) -> 1.134 | L19: =$D19*I19*(1-$F19) -> 1.0716 | M19: =$D19*I19*(1-$G19) -> 1.0116 | N19: =H19 -> 2186203 | O19: 1.4 | P19: =$D19*O19 -> 1.4 | Q19: =$D19*O19*(1-$E19) -> 1.323 | R19: =$D19*O19*(1-$F19) -> 1.2502 | S19: =$D19*O19*(1-$G19) -> 1.1802 | T19: =N19 -> 2186203 | V19: =$D19*U19 -> 0 | W19: =$D19*U19*(1-$E19) -> 0 | X19: =$D19*U19*(1-$F19) -> 0 | Y19: =$D19*U19*(1-$G19) -> 0 | Z19: =T19 -> 2186203 | AB19: =$D19*AA19 -> 0 | AC19: =$D19*AA19*(1-$E19) -> 0 | AD19: =$D19*AA19*(1-$F19) -> 0 | AE19: =$D19*AA19*(1-$G19) -> 0 | AF19: =Z19 -> 2186203 | AH19: =$D19*AG19 -> 0 | AI19: =$D19*AG19*(1-$E19) -> 0 | AJ19: =$D19*AG19*(1-$F19) -> 0 | AK19: =$D19*AG19*(1-$G19) -> 0 | AL19: =AF19 -> 2186203 | AN19: =$D19*AM19 -> 0 | AO19: =$D19*AM19*(1-$E19) -> 0 | AP19: =$D19*AM19*(1-$F19) -> 0 | AQ19: =$D19*AM19*(1-$G19) -> 0 | AR19: =AL19 -> 2186203 | AT19: =$D19*AS19 -> 0 | AU19: =$D19*AS19*(1-$E19) -> 0 | AV19: =$D19*AS19*(1-$F19) -> 0 | AW19: =$D19*AS19*(1-$G19) -> 0 | AX19: =AR19 -> 2186203 | AZ19: =$D19*AY19 -> 0 | BA19: =$D19*AY19*(1-$E19) -> 0 | BB19: =$D19*AY19*(1-$F19) -> 0 | BC19: =$D19*AY19*(1-$G19) -> 0 | BD19: =AX19 -> 2186203 | BF19: =$D19*BE19 -> 0 | BG19: =$D19*BE19*(1-$E19) -> 0 | BH19: =$D19*BE19*(1-$F19) -> 0 | BI19: =$D19*BE19*(1-$G19) -> 0 | BJ19: =BD19 -> 2186203 | BL19: =$D19*BK19 -> 0 | BM19: =$D19*BK19*(1-$E19) -> 0 | BN19: =$D19*BK19*(1-$F19) -> 0 | BO19: =$D19*BK19*(1-$G19) -> 0 | BP19: =BJ19 -> 2186203 | BR19: =$D19*BQ19 -> 0 | BS19: =$D19*BQ19*(1-$E19) -> 0 | BT19: =$D19*BQ19*(1-$F19) -> 0 | BU19: =$D19*BQ19*(1-$G19) -> 0 | BV19: =BP19 -> 2186203 | BX19: =$D19*BW19 -> 0 | BY19: =$D19*BW19*(1-$E19) -> 0 | BZ19: =$D19*BW19*(1-$F19) -> 0 | CA19: =$D19*BW19*(1-$G19) -> 0 | CB19: =BV19 -> 2186203 | CD19: =$D19*CC19 -> 0 | CE19: =$D19*CC19*(1-$E19) -> 0 | CF19: =$D19*CC19*(1-$F19) -> 0 | CG19: =$D19*CC19*(1-$G19) -> 0 | CH19: =CB19 -> 2186203 | CJ19: =$D19*CI19 -> 0 | CK19: =$D19*CI19*(1-$E19) -> 0 | CL19: =$D19*CI19*(1-$F19) -> 0 | CM19: =$D19*CI19*(1-$G19) -> 0 | CN19: =CH19 -> 2186203 | CP19: =$D19*CO19 -> 0 | CQ19: =$D19*CO19*(1-$E19) -> 0 | CR19: =$D19*CO19*(1-$F19) -> 0 | CS19: =$D19*CO19*(1-$G19) -> 0 | CT19: =CN19 -> 2186203 | CV19: =$D19*CU19 -> 0 | CW19: =$D19*CU19*(1-$E19) -> 0 | CX19: =$D19*CU19*(1-$F19) -> 0 | CY19: =$D19*CU19*(1-$G19) -> 0 | CZ19: =CT19 -> 2186203 | DB19: =$D19*DA19 -> 0 | DC19: =$D19*DA19*(1-$E19) -> 0 | DD19: =$D19*DA19*(1-$F19) -> 0 | DE19: =$D19*DA19*(1-$G19) -> 0 | DF19: =CZ19 -> 2186203 | DH19: =$D19*DG19 -> 0 | DI19: =$D19*DG19*(1-$E19) -> 0 | DJ19: =$D19*DG19*(1-$F19) -> 0 | DK19: =$D19*DG19*(1-$G19) -> 0 | DL19: =DF19 -> 2186203 | DN19: =$D19*DM19 -> 0 | DO19: =$D19*DM19*(1-$E19) -> 0 | DP19: =$D19*DM19*(1-$F19) -> 0 | DQ19: =$D19*DM19*(1-$G19) -> 0 | DR19: =DL19 -> 2186203 | DT19: =$D19*DS19 -> 0 | DU19: =$D19*DS19*(1-$E19) -> 0 | DV19: =$D19*DS19*(1-$F19) -> 0 | DW19: =$D19*DS19*(1-$G19) -> 0 | DX19: =DR19 -> 2186203 | DZ19: =$D19*DY19 -> 0 | EA19: =$D19*DY19*(1-$E19) -> 0 | EB19: =$D19*DY19*(1-$F19) -> 0 | EC19: =$D19*DY19*(1-$G19) -> 0 | ED19: =DX19 -> 2186203 | EF19: =$D19*EE19 -> 0 | EG19: =$D19*EE19*(1-$E19) -> 0 | EH19: =$D19*EE19*(1-$F19) -> 0 | EI19: =$D19*EE19*(1-$G19) -> 0 | EJ19: =ED19 -> 2186203 | EL19: =$D19*EK19 -> 0 | EM19: =$D19*EK19*(1-$E19) -> 0 | EN19: =$D19*EK19*(1-$F19) -> 0 | EO19: =$D19*EK19*(1-$G19) -> 0 | EP19: =EJ19 -> 2186203 | ER19: =$D19*EQ19 -> 0 | ES19: =$D19*EQ19*(1-$E19) -> 0 | ET19: =$D19*EQ19*(1-$F19) -> 0 | EU19: =$D19*EQ19*(1-$G19) -> 0 | EV19: =EP19 -> 2186203 | EX19: =$D19*EW19 -> 0 | EY19: =$D19*EW19*(1-$E19) -> 0 | EZ19: =$D19*EW19*(1-$F19) -> 0 | FA19: =$D19*EW19*(1-$G19) -> 0
B20: S-BT ER M8/15 SN 6 | C20: 2186207 | D20: 1 | E20: 0.055 | F20: 0.107 | G20: 0.157 | H20: =C20 -> 2186207 | I20: 1.2 | J20: =$D20*I20 -> 1.2 | K20: =$D20*I20*(1-$E20) -> 1.134 | L20: =$D20*I20*(1-$F20) -> 1.0716 | M20: =$D20*I20*(1-$G20) -> 1.0116 | N20: =H20 -> 2186207 | O20: 1.4 | P20: =$D20*O20 -> 1.4 | Q20: =$D20*O20*(1-$E20) -> 1.323 | R20: =$D20*O20*(1-$F20) -> 1.2502 | S20: =$D20*O20*(1-$G20) -> 1.1802 | T20: =N20 -> 2186207 | V20: =$D20*U20 -> 0 | W20: =$D20*U20*(1-$E20) -> 0 | X20: =$D20*U20*(1-$F20) -> 0 | Y20: =$D20*U20*(1-$G20) -> 0 | Z20: =T20 -> 2186207 | AB20: =$D20*AA20 -> 0 | AC20: =$D20*AA20*(1-$E20) -> 0 | AD20: =$D20*AA20*(1-$F20) -> 0 | AE20: =$D20*AA20*(1-$G20) -> 0 | AF20: =Z20 -> 2186207 | AH20: =$D20*AG20 -> 0 | AI20: =$D20*AG20*(1-$E20) -> 0 | AJ20: =$D20*AG20*(1-$F20) -> 0 | AK20: =$D20*AG20*(1-$G20) -> 0 | AL20: =AF20 -> 2186207 | AN20: =$D20*AM20 -> 0 | AO20: =$D20*AM20*(1-$E20) -> 0 | AP20: =$D20*AM20*(1-$F20) -> 0 | AQ20: =$D20*AM20*(1-$G20) -> 0 | AR20: =AL20 -> 2186207 | AT20: =$D20*AS20 -> 0 | AU20: =$D20*AS20*(1-$E20) -> 0 | AV20: =$D20*AS20*(1-$F20) -> 0 | AW20: =$D20*AS20*(1-$G20) -> 0 | AX20: =AR20 -> 2186207 | AZ20: =$D20*AY20 -> 0 | BA20: =$D20*AY20*(1-$E20) -> 0 | BB20: =$D20*AY20*(1-$F20) -> 0 | BC20: =$D20*AY20*(1-$G20) -> 0 | BD20: =AX20 -> 2186207 | BF20: =$D20*BE20 -> 0 | BG20: =$D20*BE20*(1-$E20) -> 0 | BH20: =$D20*BE20*(1-$F20) -> 0 | BI20: =$D20*BE20*(1-$G20) -> 0 | BJ20: =BD20 -> 2186207 | BL20: =$D20*BK20 -> 0 | BM20: =$D20*BK20*(1-$E20) -> 0 | BN20: =$D20*BK20*(1-$F20) -> 0 | BO20: =$D20*BK20*(1-$G20) -> 0 | BP20: =BJ20 -> 2186207 | BR20: =$D20*BQ20 -> 0 | BS20: =$D20*BQ20*(1-$E20) -> 0 | BT20: =$D20*BQ20*(1-$F20) -> 0 | BU20: =$D20*BQ20*(1-$G20) -> 0 | BV20: =BP20 -> 2186207 | BX20: =$D20*BW20 -> 0 | BY20: =$D20*BW20*(1-$E20) -> 0 | BZ20: =$D20*BW20*(1-$F20) -> 0 | CA20: =$D20*BW20*(1-$G20) -> 0 | CB20: =BV20 -> 2186207 | CD20: =$D20*CC20 -> 0 | CE20: =$D20*CC20*(1-$E20) -> 0 | CF20: =$D20*CC20*(1-$F20) -> 0 | CG20: =$D20*CC20*(1-$G20) -> 0 | CH20: =CB20 -> 2186207 | CJ20: =$D20*CI20 -> 0 | CK20: =$D20*CI20*(1-$E20) -> 0 | CL20: =$D20*CI20*(1-$F20) -> 0 | CM20: =$D20*CI20*(1-$G20) -> 0 | CN20: =CH20 -> 2186207 | CP20: =$D20*CO20 -> 0 | CQ20: =$D20*CO20*(1-$E20) -> 0 | CR20: =$D20*CO20*(1-$F20) -> 0 | CS20: =$D20*CO20*(1-$G20) -> 0 | CT20: =CN20 -> 2186207 | CV20: =$D20*CU20 -> 0 | CW20: =$D20*CU20*(1-$E20) -> 0 | CX20: =$D20*CU20*(1-$F20) -> 0 | CY20: =$D20*CU20*(1-$G20) -> 0 | CZ20: =CT20 -> 2186207 | DB20: =$D20*DA20 -> 0 | DC20: =$D20*DA20*(1-$E20) -> 0 | DD20: =$D20*DA20*(1-$F20) -> 0 | DE20: =$D20*DA20*(1-$G20) -> 0 | DF20: =CZ20 -> 2186207 | DH20: =$D20*DG20 -> 0 | DI20: =$D20*DG20*(1-$E20) -> 0 | DJ20: =$D20*DG20*(1-$F20) -> 0 | DK20: =$D20*DG20*(1-$G20) -> 0 | DL20: =DF20 -> 2186207 | DN20: =$D20*DM20 -> 0 | DO20: =$D20*DM20*(1-$E20) -> 0 | DP20: =$D20*DM20*(1-$F20) -> 0 | DQ20: =$D20*DM20*(1-$G20) -> 0 | DR20: =DL20 -> 2186207 | DT20: =$D20*DS20 -> 0 | DU20: =$D20*DS20*(1-$E20) -> 0 | DV20: =$D20*DS20*(1-$F20) -> 0 | DW20: =$D20*DS20*(1-$G20) -> 0 | DX20: =DR20 -> 2186207 | DZ20: =$D20*DY20 -> 0 | EA20: =$D20*DY20*(1-$E20) -> 0 | EB20: =$D20*DY20*(1-$F20) -> 0 | EC20: =$D20*DY20*(1-$G20) -> 0 | ED20: =DX20 -> 2186207 | EF20: =$D20*EE20 -> 0 | EG20: =$D20*EE20*(1-$E20) -> 0 | EH20: =$D20*EE20*(1-$F20) -> 0 | EI20: =$D20*EE20*(1-$G20) -> 0 | EJ20: =ED20 -> 2186207 | EL20: =$D20*EK20 -> 0 | EM20: =$D20*EK20*(1-$E20) -> 0 | EN20: =$D20*EK20*(1-$F20) -> 0 | EO20: =$D20*EK20*(1-$G20) -> 0 | EP20: =EJ20 -> 2186207 | ER20: =$D20*EQ20 -> 0 | ES20: =$D20*EQ20*(1-$E20) -> 0 | ET20: =$D20*EQ20*(1-$F20) -> 0 | EU20: =$D20*EQ20*(1-$G20) -> 0 | EV20: =EP20 -> 2186207 | EX20: =$D20*EW20 -> 0 | EY20: =$D20*EW20*(1-$E20) -> 0 | EZ20: =$D20*EW20*(1-$F20) -> 0 | FA20: =$D20*EW20*(1-$G20) -> 0
B21: S-BT-EF M10 HC 35 | C21: 2204930 | D21: 1 | E21: 0.055 | F21: 0.107 | G21: 0.157 | H21: =C21 -> 2204930 | I21: 1.2 | J21: =$D21*I21 -> 1.2 | K21: =$D21*I21*(1-$E21) -> 1.134 | L21: =$D21*I21*(1-$F21) -> 1.0716 | M21: =$D21*I21*(1-$G21) -> 1.0116 | N21: =H21 -> 2204930 | O21: 1.4 | P21: =$D21*O21 -> 1.4 | Q21: =$D21*O21*(1-$E21) -> 1.323 | R21: =$D21*O21*(1-$F21) -> 1.2502 | S21: =$D21*O21*(1-$G21) -> 1.1802 | T21: =N21 -> 2204930 | V21: =$D21*U21 -> 0 | W21: =$D21*U21*(1-$E21) -> 0 | X21: =$D21*U21*(1-$F21) -> 0 | Y21: =$D21*U21*(1-$G21) -> 0 | Z21: =T21 -> 2204930 | AB21: =$D21*AA21 -> 0 | AC21: =$D21*AA21*(1-$E21) -> 0 | AD21: =$D21*AA21*(1-$F21) -> 0 | AE21: =$D21*AA21*(1-$G21) -> 0 | AF21: =Z21 -> 2204930 | AH21: =$D21*AG21 -> 0 | AI21: =$D21*AG21*(1-$E21) -> 0 | AJ21: =$D21*AG21*(1-$F21) -> 0 | AK21: =$D21*AG21*(1-$G21) -> 0 | AL21: =AF21 -> 2204930 | AN21: =$D21*AM21 -> 0 | AO21: =$D21*AM21*(1-$E21) -> 0 | AP21: =$D21*AM21*(1-$F21) -> 0 | AQ21: =$D21*AM21*(1-$G21) -> 0 | AR21: =AL21 -> 2204930 | AT21: =$D21*AS21 -> 0 | AU21: =$D21*AS21*(1-$E21) -> 0 | AV21: =$D21*AS21*(1-$F21) -> 0 | AW21: =$D21*AS21*(1-$G21) -> 0 | AX21: =AR21 -> 2204930 | AZ21: =$D21*AY21 -> 0 | BA21: =$D21*AY21*(1-$E21) -> 0 | BB21: =$D21*AY21*(1-$F21) -> 0 | BC21: =$D21*AY21*(1-$G21) -> 0 | BD21: =AX21 -> 2204930 | BF21: =$D21*BE21 -> 0 | BG21: =$D21*BE21*(1-$E21) -> 0 | BH21: =$D21*BE21*(1-$F21) -> 0 | BI21: =$D21*BE21*(1-$G21) -> 0 | BJ21: =BD21 -> 2204930 | BL21: =$D21*BK21 -> 0 | BM21: =$D21*BK21*(1-$E21) -> 0 | BN21: =$D21*BK21*(1-$F21) -> 0 | BO21: =$D21*BK21*(1-$G21) -> 0 | BP21: =BJ21 -> 2204930 | BR21: =$D21*BQ21 -> 0 | BS21: =$D21*BQ21*(1-$E21) -> 0 | BT21: =$D21*BQ21*(1-$F21) -> 0 | BU21: =$D21*BQ21*(1-$G21) -> 0 | BV21: =BP21 -> 2204930 | BX21: =$D21*BW21 -> 0 | BY21: =$D21*BW21*(1-$E21) -> 0 | BZ21: =$D21*BW21*(1-$F21) -> 0 | CA21: =$D21*BW21*(1-$G21) -> 0 | CB21: =BV21 -> 2204930 | CD21: =$D21*CC21 -> 0 | CE21: =$D21*CC21*(1-$E21) -> 0 | CF21: =$D21*CC21*(1-$F21) -> 0 | CG21: =$D21*CC21*(1-$G21) -> 0 | CH21: =CB21 -> 2204930 | CJ21: =$D21*CI21 -> 0 | CK21: =$D21*CI21*(1-$E21) -> 0 | CL21: =$D21*CI21*(1-$F21) -> 0 | CM21: =$D21*CI21*(1-$G21) -> 0 | CN21: =CH21 -> 2204930 | CP21: =$D21*CO21 -> 0 | CQ21: =$D21*CO21*(1-$E21) -> 0 | CR21: =$D21*CO21*(1-$F21) -> 0 | CS21: =$D21*CO21*(1-$G21) -> 0 | CT21: =CN21 -> 2204930 | CV21: =$D21*CU21 -> 0 | CW21: =$D21*CU21*(1-$E21) -> 0 | CX21: =$D21*CU21*(1-$F21) -> 0 | CY21: =$D21*CU21*(1-$G21) -> 0 | CZ21: =CT21 -> 2204930 | DB21: =$D21*DA21 -> 0 | DC21: =$D21*DA21*(1-$E21) -> 0 | DD21: =$D21*DA21*(1-$F21) -> 0 | DE21: =$D21*DA21*(1-$G21) -> 0 | DF21: =CZ21 -> 2204930 | DH21: =$D21*DG21 -> 0 | DI21: =$D21*DG21*(1-$E21) -> 0 | DJ21: =$D21*DG21*(1-$F21) -> 0 | DK21: =$D21*DG21*(1-$G21) -> 0 | DL21: =DF21 -> 2204930 | DN21: =$D21*DM21 -> 0 | DO21: =$D21*DM21*(1-$E21) -> 0 | DP21: =$D21*DM21*(1-$F21) -> 0 | DQ21: =$D21*DM21*(1-$G21) -> 0 | DR21: =DL21 -> 2204930 | DT21: =$D21*DS21 -> 0 | DU21: =$D21*DS21*(1-$E21) -> 0 | DV21: =$D21*DS21*(1-$F21) -> 0 | DW21: =$D21*DS21*(1-$G21) -> 0 | DX21: =DR21 -> 2204930 | DZ21: =$D21*DY21 -> 0 | EA21: =$D21*DY21*(1-$E21) -> 0 | EB21: =$D21*DY21*(1-$F21) -> 0 | EC21: =$D21*DY21*(1-$G21) -> 0 | ED21: =DX21 -> 2204930 | EF21: =$D21*EE21 -> 0 | EG21: =$D21*EE21*(1-$E21) -> 0 | EH21: =$D21*EE21*(1-$F21) -> 0 | EI21: =$D21*EE21*(1-$G21) -> 0 | EJ21: =ED21 -> 2204930 | EL21: =$D21*EK21 -> 0 | EM21: =$D21*EK21*(1-$E21) -> 0 | EN21: =$D21*EK21*(1-$F21) -> 0 | EO21: =$D21*EK21*(1-$G21) -> 0 | EP21: =EJ21 -> 2204930 | ER21: =$D21*EQ21 -> 0 | ES21: =$D21*EQ21*(1-$E21) -> 0 | ET21: =$D21*EQ21*(1-$F21) -> 0 | EU21: =$D21*EQ21*(1-$G21) -> 0 | EV21: =EP21 -> 2204930 | EX21: =$D21*EW21 -> 0 | EY21: =$D21*EW21*(1-$E21) -> 0 | EZ21: =$D21*EW21*(1-$F21) -> 0 | FA21: =$D21*EW21*(1-$G21) -> 0
B22: S-BT-ER M10 HC 35 | C22: 2204737 | D22: 1 | E22: 0.055 | F22: 0.107 | G22: 0.157 | H22: =C22 -> 2204737 | I22: 1.2 | J22: =$D22*I22 -> 1.2 | K22: =$D22*I22*(1-$E22) -> 1.134 | L22: =$D22*I22*(1-$F22) -> 1.0716 | M22: =$D22*I22*(1-$G22) -> 1.0116 | N22: =H22 -> 2204737 | O22: 1.4 | P22: =$D22*O22 -> 1.4 | Q22: =$D22*O22*(1-$E22) -> 1.323 | R22: =$D22*O22*(1-$F22) -> 1.2502 | S22: =$D22*O22*(1-$G22) -> 1.1802 | T22: =N22 -> 2204737 | V22: =$D22*U22 -> 0 | W22: =$D22*U22*(1-$E22) -> 0 | X22: =$D22*U22*(1-$F22) -> 0 | Y22: =$D22*U22*(1-$G22) -> 0 | Z22: =T22 -> 2204737 | AB22: =$D22*AA22 -> 0 | AC22: =$D22*AA22*(1-$E22) -> 0 | AD22: =$D22*AA22*(1-$F22) -> 0 | AE22: =$D22*AA22*(1-$G22) -> 0 | AF22: =Z22 -> 2204737 | AH22: =$D22*AG22 -> 0 | AI22: =$D22*AG22*(1-$E22) -> 0 | AJ22: =$D22*AG22*(1-$F22) -> 0 | AK22: =$D22*AG22*(1-$G22) -> 0 | AL22: =AF22 -> 2204737 | AN22: =$D22*AM22 -> 0 | AO22: =$D22*AM22*(1-$E22) -> 0 | AP22: =$D22*AM22*(1-$F22) -> 0 | AQ22: =$D22*AM22*(1-$G22) -> 0 | AR22: =AL22 -> 2204737 | AT22: =$D22*AS22 -> 0 | AU22: =$D22*AS22*(1-$E22) -> 0 | AV22: =$D22*AS22*(1-$F22) -> 0 | AW22: =$D22*AS22*(1-$G22) -> 0 | AX22: =AR22 -> 2204737 | AZ22: =$D22*AY22 -> 0 | BA22: =$D22*AY22*(1-$E22) -> 0 | BB22: =$D22*AY22*(1-$F22) -> 0 | BC22: =$D22*AY22*(1-$G22) -> 0 | BD22: =AX22 -> 2204737 | BF22: =$D22*BE22 -> 0 | BG22: =$D22*BE22*(1-$E22) -> 0 | BH22: =$D22*BE22*(1-$F22) -> 0 | BI22: =$D22*BE22*(1-$G22) -> 0 | BJ22: =BD22 -> 2204737 | BL22: =$D22*BK22 -> 0 | BM22: =$D22*BK22*(1-$E22) -> 0 | BN22: =$D22*BK22*(1-$F22) -> 0 | BO22: =$D22*BK22*(1-$G22) -> 0 | BP22: =BJ22 -> 2204737 | BR22: =$D22*BQ22 -> 0 | BS22: =$D22*BQ22*(1-$E22) -> 0 | BT22: =$D22*BQ22*(1-$F22) -> 0 | BU22: =$D22*BQ22*(1-$G22) -> 0 | BV22: =BP22 -> 2204737 | BX22: =$D22*BW22 -> 0 | BY22: =$D22*BW22*(1-$E22) -> 0 | BZ22: =$D22*BW22*(1-$F22) -> 0 | CA22: =$D22*BW22*(1-$G22) -> 0 | CB22: =BV22 -> 2204737 | CD22: =$D22*CC22 -> 0 | CE22: =$D22*CC22*(1-$E22) -> 0 | CF22: =$D22*CC22*(1-$F22) -> 0 | CG22: =$D22*CC22*(1-$G22) -> 0 | CH22: =CB22 -> 2204737 | CJ22: =$D22*CI22 -> 0 | CK22: =$D22*CI22*(1-$E22) -> 0 | CL22: =$D22*CI22*(1-$F22) -> 0 | CM22: =$D22*CI22*(1-$G22) -> 0 | CN22: =CH22 -> 2204737 | CP22: =$D22*CO22 -> 0 | CQ22: =$D22*CO22*(1-$E22) -> 0 | CR22: =$D22*CO22*(1-$F22) -> 0 | CS22: =$D22*CO22*(1-$G22) -> 0 | CT22: =CN22 -> 2204737 | CV22: =$D22*CU22 -> 0 | CW22: =$D22*CU22*(1-$E22) -> 0 | CX22: =$D22*CU22*(1-$F22) -> 0 | CY22: =$D22*CU22*(1-$G22) -> 0 | CZ22: =CT22 -> 2204737 | DB22: =$D22*DA22 -> 0 | DC22: =$D22*DA22*(1-$E22) -> 0 | DD22: =$D22*DA22*(1-$F22) -> 0 | DE22: =$D22*DA22*(1-$G22) -> 0 | DF22: =CZ22 -> 2204737 | DH22: =$D22*DG22 -> 0 | DI22: =$D22*DG22*(1-$E22) -> 0 | DJ22: =$D22*DG22*(1-$F22) -> 0 | DK22: =$D22*DG22*(1-$G22) -> 0 | DL22: =DF22 -> 2204737 | DN22: =$D22*DM22 -> 0 | DO22: =$D22*DM22*(1-$E22) -> 0 | DP22: =$D22*DM22*(1-$F22) -> 0 | DQ22: =$D22*DM22*(1-$G22) -> 0 | DR22: =DL22 -> 2204737 | DT22: =$D22*DS22 -> 0 | DU22: =$D22*DS22*(1-$E22) -> 0 | DV22: =$D22*DS22*(1-$F22) -> 0 | DW22: =$D22*DS22*(1-$G22) -> 0 | DX22: =DR22 -> 2204737 | DZ22: =$D22*DY22 -> 0 | EA22: =$D22*DY22*(1-$E22) -> 0 | EB22: =$D22*DY22*(1-$F22) -> 0 | EC22: =$D22*DY22*(1-$G22) -> 0 | ED22: =DX22 -> 2204737 | EF22: =$D22*EE22 -> 0 | EG22: =$D22*EE22*(1-$E22) -> 0 | EH22: =$D22*EE22*(1-$F22) -> 0 | EI22: =$D22*EE22*(1-$G22) -> 0 | EJ22: =ED22 -> 2204737 | EL22: =$D22*EK22 -> 0 | EM22: =$D22*EK22*(1-$E22) -> 0 | EN22: =$D22*EK22*(1-$F22) -> 0 | EO22: =$D22*EK22*(1-$G22) -> 0 | EP22: =EJ22 -> 2204737 | ER22: =$D22*EQ22 -> 0 | ES22: =$D22*EQ22*(1-$E22) -> 0 | ET22: =$D22*EQ22*(1-$F22) -> 0 | EU22: =$D22*EQ22*(1-$G22) -> 0 | EV22: =EP22 -> 2204737 | EX22: =$D22*EW22 -> 0 | EY22: =$D22*EW22*(1-$E22) -> 0 | EZ22: =$D22*EW22*(1-$F22) -> 0 | FA22: =$D22*EW22*(1-$G22) -> 0
B23: S-BT-EF M10 HC 120 | C23: 2204932 | D23: 1 | E23: 0.055 | F23: 0.107 | G23: 0.157 | H23: =C23 -> 2204932 | I23: 1.2 | J23: =$D23*I23 -> 1.2 | K23: =$D23*I23*(1-$E23) -> 1.134 | L23: =$D23*I23*(1-$F23) -> 1.0716 | M23: =$D23*I23*(1-$G23) -> 1.0116 | N23: =H23 -> 2204932 | O23: 1.4 | P23: =$D23*O23 -> 1.4 | Q23: =$D23*O23*(1-$E23) -> 1.323 | R23: =$D23*O23*(1-$F23) -> 1.2502 | S23: =$D23*O23*(1-$G23) -> 1.1802 | T23: =N23 -> 2204932 | V23: =$D23*U23 -> 0 | W23: =$D23*U23*(1-$E23) -> 0 | X23: =$D23*U23*(1-$F23) -> 0 | Y23: =$D23*U23*(1-$G23) -> 0 | Z23: =T23 -> 2204932 | AB23: =$D23*AA23 -> 0 | AC23: =$D23*AA23*(1-$E23) -> 0 | AD23: =$D23*AA23*(1-$F23) -> 0 | AE23: =$D23*AA23*(1-$G23) -> 0 | AF23: =Z23 -> 2204932 | AH23: =$D23*AG23 -> 0 | AI23: =$D23*AG23*(1-$E23) -> 0 | AJ23: =$D23*AG23*(1-$F23) -> 0 | AK23: =$D23*AG23*(1-$G23) -> 0 | AL23: =AF23 -> 2204932 | AN23: =$D23*AM23 -> 0 | AO23: =$D23*AM23*(1-$E23) -> 0 | AP23: =$D23*AM23*(1-$F23) -> 0 | AQ23: =$D23*AM23*(1-$G23) -> 0 | AR23: =AL23 -> 2204932 | AT23: =$D23*AS23 -> 0 | AU23: =$D23*AS23*(1-$E23) -> 0 | AV23: =$D23*AS23*(1-$F23) -> 0 | AW23: =$D23*AS23*(1-$G23) -> 0 | AX23: =AR23 -> 2204932 | AZ23: =$D23*AY23 -> 0 | BA23: =$D23*AY23*(1-$E23) -> 0 | BB23: =$D23*AY23*(1-$F23) -> 0 | BC23: =$D23*AY23*(1-$G23) -> 0 | BD23: =AX23 -> 2204932 | BF23: =$D23*BE23 -> 0 | BG23: =$D23*BE23*(1-$E23) -> 0 | BH23: =$D23*BE23*(1-$F23) -> 0 | BI23: =$D23*BE23*(1-$G23) -> 0 | BJ23: =BD23 -> 2204932 | BL23: =$D23*BK23 -> 0 | BM23: =$D23*BK23*(1-$E23) -> 0 | BN23: =$D23*BK23*(1-$F23) -> 0 | BO23: =$D23*BK23*(1-$G23) -> 0 | BP23: =BJ23 -> 2204932 | BR23: =$D23*BQ23 -> 0 | BS23: =$D23*BQ23*(1-$E23) -> 0 | BT23: =$D23*BQ23*(1-$F23) -> 0 | BU23: =$D23*BQ23*(1-$G23) -> 0 | BV23: =BP23 -> 2204932 | BX23: =$D23*BW23 -> 0 | BY23: =$D23*BW23*(1-$E23) -> 0 | BZ23: =$D23*BW23*(1-$F23) -> 0 | CA23: =$D23*BW23*(1-$G23) -> 0 | CB23: =BV23 -> 2204932 | CD23: =$D23*CC23 -> 0 | CE23: =$D23*CC23*(1-$E23) -> 0 | CF23: =$D23*CC23*(1-$F23) -> 0 | CG23: =$D23*CC23*(1-$G23) -> 0 | CH23: =CB23 -> 2204932 | CJ23: =$D23*CI23 -> 0 | CK23: =$D23*CI23*(1-$E23) -> 0 | CL23: =$D23*CI23*(1-$F23) -> 0 | CM23: =$D23*CI23*(1-$G23) -> 0 | CN23: =CH23 -> 2204932 | CP23: =$D23*CO23 -> 0 | CQ23: =$D23*CO23*(1-$E23) -> 0 | CR23: =$D23*CO23*(1-$F23) -> 0 | CS23: =$D23*CO23*(1-$G23) -> 0 | CT23: =CN23 -> 2204932 | CV23: =$D23*CU23 -> 0 | CW23: =$D23*CU23*(1-$E23) -> 0 | CX23: =$D23*CU23*(1-$F23) -> 0 | CY23: =$D23*CU23*(1-$G23) -> 0 | CZ23: =CT23 -> 2204932 | DB23: =$D23*DA23 -> 0 | DC23: =$D23*DA23*(1-$E23) -> 0 | DD23: =$D23*DA23*(1-$F23) -> 0 | DE23: =$D23*DA23*(1-$G23) -> 0 | DF23: =CZ23 -> 2204932 | DH23: =$D23*DG23 -> 0 | DI23: =$D23*DG23*(1-$E23) -> 0 | DJ23: =$D23*DG23*(1-$F23) -> 0 | DK23: =$D23*DG23*(1-$G23) -> 0 | DL23: =DF23 -> 2204932 | DN23: =$D23*DM23 -> 0 | DO23: =$D23*DM23*(1-$E23) -> 0 | DP23: =$D23*DM23*(1-$F23) -> 0 | DQ23: =$D23*DM23*(1-$G23) -> 0 | DR23: =DL23 -> 2204932 | DT23: =$D23*DS23 -> 0 | DU23: =$D23*DS23*(1-$E23) -> 0 | DV23: =$D23*DS23*(1-$F23) -> 0 | DW23: =$D23*DS23*(1-$G23) -> 0 | DX23: =DR23 -> 2204932 | DZ23: =$D23*DY23 -> 0 | EA23: =$D23*DY23*(1-$E23) -> 0 | EB23: =$D23*DY23*(1-$F23) -> 0 | EC23: =$D23*DY23*(1-$G23) -> 0 | ED23: =DX23 -> 2204932 | EF23: =$D23*EE23 -> 0 | EG23: =$D23*EE23*(1-$E23) -> 0 | EH23: =$D23*EE23*(1-$F23) -> 0 | EI23: =$D23*EE23*(1-$G23) -> 0 | EJ23: =ED23 -> 2204932 | EL23: =$D23*EK23 -> 0 | EM23: =$D23*EK23*(1-$E23) -> 0 | EN23: =$D23*EK23*(1-$F23) -> 0 | EO23: =$D23*EK23*(1-$G23) -> 0 | EP23: =EJ23 -> 2204932 | ER23: =$D23*EQ23 -> 0 | ES23: =$D23*EQ23*(1-$E23) -> 0 | ET23: =$D23*EQ23*(1-$F23) -> 0 | EU23: =$D23*EQ23*(1-$G23) -> 0 | EV23: =EP23 -> 2204932 | EX23: =$D23*EW23 -> 0 | EY23: =$D23*EW23*(1-$E23) -> 0 | EZ23: =$D23*EW23*(1-$F23) -> 0 | FA23: =$D23*EW23*(1-$G23) -> 0
B24: S-BT-ER M10 HC 120 | C24: 2204739 | D24: 1 | E24: 0.055 | F24: 0.107 | G24: 0.157 | H24: =C24 -> 2204739 | I24: 1.2 | J24: =$D24*I24 -> 1.2 | K24: =$D24*I24*(1-$E24) -> 1.134 | L24: =$D24*I24*(1-$F24) -> 1.0716 | M24: =$D24*I24*(1-$G24) -> 1.0116 | N24: =H24 -> 2204739 | O24: 1.4 | P24: =$D24*O24 -> 1.4 | Q24: =$D24*O24*(1-$E24) -> 1.323 | R24: =$D24*O24*(1-$F24) -> 1.2502 | S24: =$D24*O24*(1-$G24) -> 1.1802 | T24: =N24 -> 2204739 | V24: =$D24*U24 -> 0 | W24: =$D24*U24*(1-$E24) -> 0 | X24: =$D24*U24*(1-$F24) -> 0 | Y24: =$D24*U24*(1-$G24) -> 0 | Z24: =T24 -> 2204739 | AB24: =$D24*AA24 -> 0 | AC24: =$D24*AA24*(1-$E24) -> 0 | AD24: =$D24*AA24*(1-$F24) -> 0 | AE24: =$D24*AA24*(1-$G24) -> 0 | AF24: =Z24 -> 2204739 | AH24: =$D24*AG24 -> 0 | AI24: =$D24*AG24*(1-$E24) -> 0 | AJ24: =$D24*AG24*(1-$F24) -> 0 | AK24: =$D24*AG24*(1-$G24) -> 0 | AL24: =AF24 -> 2204739 | AN24: =$D24*AM24 -> 0 | AO24: =$D24*AM24*(1-$E24) -> 0 | AP24: =$D24*AM24*(1-$F24) -> 0 | AQ24: =$D24*AM24*(1-$G24) -> 0 | AR24: =AL24 -> 2204739 | AT24: =$D24*AS24 -> 0 | AU24: =$D24*AS24*(1-$E24) -> 0 | AV24: =$D24*AS24*(1-$F24) -> 0 | AW24: =$D24*AS24*(1-$G24) -> 0 | AX24: =AR24 -> 2204739 | AZ24: =$D24*AY24 -> 0 | BA24: =$D24*AY24*(1-$E24) -> 0 | BB24: =$D24*AY24*(1-$F24) -> 0 | BC24: =$D24*AY24*(1-$G24) -> 0 | BD24: =AX24 -> 2204739 | BF24: =$D24*BE24 -> 0 | BG24: =$D24*BE24*(1-$E24) -> 0 | BH24: =$D24*BE24*(1-$F24) -> 0 | BI24: =$D24*BE24*(1-$G24) -> 0 | BJ24: =BD24 -> 2204739 | BL24: =$D24*BK24 -> 0 | BM24: =$D24*BK24*(1-$E24) -> 0 | BN24: =$D24*BK24*(1-$F24) -> 0 | BO24: =$D24*BK24*(1-$G24) -> 0 | BP24: =BJ24 -> 2204739 | BR24: =$D24*BQ24 -> 0 | BS24: =$D24*BQ24*(1-$E24) -> 0 | BT24: =$D24*BQ24*(1-$F24) -> 0 | BU24: =$D24*BQ24*(1-$G24) -> 0 | BV24: =BP24 -> 2204739 | BX24: =$D24*BW24 -> 0 | BY24: =$D24*BW24*(1-$E24) -> 0 | BZ24: =$D24*BW24*(1-$F24) -> 0 | CA24: =$D24*BW24*(1-$G24) -> 0 | CB24: =BV24 -> 2204739 | CD24: =$D24*CC24 -> 0 | CE24: =$D24*CC24*(1-$E24) -> 0 | CF24: =$D24*CC24*(1-$F24) -> 0 | CG24: =$D24*CC24*(1-$G24) -> 0 | CH24: =CB24 -> 2204739 | CJ24: =$D24*CI24 -> 0 | CK24: =$D24*CI24*(1-$E24) -> 0 | CL24: =$D24*CI24*(1-$F24) -> 0 | CM24: =$D24*CI24*(1-$G24) -> 0 | CN24: =CH24 -> 2204739 | CP24: =$D24*CO24 -> 0 | CQ24: =$D24*CO24*(1-$E24) -> 0 | CR24: =$D24*CO24*(1-$F24) -> 0 | CS24: =$D24*CO24*(1-$G24) -> 0 | CT24: =CN24 -> 2204739 | CV24: =$D24*CU24 -> 0 | CW24: =$D24*CU24*(1-$E24) -> 0 | CX24: =$D24*CU24*(1-$F24) -> 0 | CY24: =$D24*CU24*(1-$G24) -> 0 | CZ24: =CT24 -> 2204739 | DB24: =$D24*DA24 -> 0 | DC24: =$D24*DA24*(1-$E24) -> 0 | DD24: =$D24*DA24*(1-$F24) -> 0 | DE24: =$D24*DA24*(1-$G24) -> 0 | DF24: =CZ24 -> 2204739 | DH24: =$D24*DG24 -> 0 | DI24: =$D24*DG24*(1-$E24) -> 0 | DJ24: =$D24*DG24*(1-$F24) -> 0 | DK24: =$D24*DG24*(1-$G24) -> 0 | DL24: =DF24 -> 2204739 | DN24: =$D24*DM24 -> 0 | DO24: =$D24*DM24*(1-$E24) -> 0 | DP24: =$D24*DM24*(1-$F24) -> 0 | DQ24: =$D24*DM24*(1-$G24) -> 0 | DR24: =DL24 -> 2204739 | DT24: =$D24*DS24 -> 0 | DU24: =$D24*DS24*(1-$E24) -> 0 | DV24: =$D24*DS24*(1-$F24) -> 0 | DW24: =$D24*DS24*(1-$G24) -> 0 | DX24: =DR24 -> 2204739 | DZ24: =$D24*DY24 -> 0 | EA24: =$D24*DY24*(1-$E24) -> 0 | EB24: =$D24*DY24*(1-$F24) -> 0 | EC24: =$D24*DY24*(1-$G24) -> 0 | ED24: =DX24 -> 2204739 | EF24: =$D24*EE24 -> 0 | EG24: =$D24*EE24*(1-$E24) -> 0 | EH24: =$D24*EE24*(1-$F24) -> 0 | EI24: =$D24*EE24*(1-$G24) -> 0 | EJ24: =ED24 -> 2204739 | EL24: =$D24*EK24 -> 0 | EM24: =$D24*EK24*(1-$E24) -> 0 | EN24: =$D24*EK24*(1-$F24) -> 0 | EO24: =$D24*EK24*(1-$G24) -> 0 | EP24: =EJ24 -> 2204739 | ER24: =$D24*EQ24 -> 0 | ES24: =$D24*EQ24*(1-$E24) -> 0 | ET24: =$D24*EQ24*(1-$F24) -> 0 | EU24: =$D24*EQ24*(1-$G24) -> 0 | EV24: =EP24 -> 2204739 | EX24: =$D24*EW24 -> 0 | EY24: =$D24*EW24*(1-$E24) -> 0 | EZ24: =$D24*EW24*(1-$F24) -> 0 | FA24: =$D24*EW24*(1-$G24) -> 0
A25: X-ST Threaded Stud | B25: X-ST-GR M8/5 P8 | C25: 2122209 | D25: 1 | E25: 0.055 | F25: 0.107 | G25: 0.157 | H25: =C25 -> 2122209 | I25: 1.2 | J25: =$D25*I25 -> 1.2 | K25: =$D25*I25*(1-$E25) -> 1.134 | L25: =$D25*I25*(1-$F25) -> 1.0716 | M25: =$D25*I25*(1-$G25) -> 1.0116 | N25: =H25 -> 2122209 | O25: 1.4 | P25: =$D25*O25 -> 1.4 | Q25: =$D25*O25*(1-$E25) -> 1.323 | R25: =$D25*O25*(1-$F25) -> 1.2502 | S25: =$D25*O25*(1-$G25) -> 1.1802 | T25: =N25 -> 2122209 | V25: =$D25*U25 -> 0 | W25: =$D25*U25*(1-$E25) -> 0 | X25: =$D25*U25*(1-$F25) -> 0 | Y25: =$D25*U25*(1-$G25) -> 0 | Z25: =T25 -> 2122209 | AB25: =$D25*AA25 -> 0 | AC25: =$D25*AA25*(1-$E25) -> 0 | AD25: =$D25*AA25*(1-$F25) -> 0 | AE25: =$D25*AA25*(1-$G25) -> 0 | AF25: =Z25 -> 2122209 | AH25: =$D25*AG25 -> 0 | AI25: =$D25*AG25*(1-$E25) -> 0 | AJ25: =$D25*AG25*(1-$F25) -> 0 | AK25: =$D25*AG25*(1-$G25) -> 0 | AL25: =AF25 -> 2122209 | AN25: =$D25*AM25 -> 0 | AO25: =$D25*AM25*(1-$E25) -> 0 | AP25: =$D25*AM25*(1-$F25) -> 0 | AQ25: =$D25*AM25*(1-$G25) -> 0 | AR25: =AL25 -> 2122209 | AT25: =$D25*AS25 -> 0 | AU25: =$D25*AS25*(1-$E25) -> 0 | AV25: =$D25*AS25*(1-$F25) -> 0 | AW25: =$D25*AS25*(1-$G25) -> 0 | AX25: =AR25 -> 2122209 | AZ25: =$D25*AY25 -> 0 | BA25: =$D25*AY25*(1-$E25) -> 0 | BB25: =$D25*AY25*(1-$F25) -> 0 | BC25: =$D25*AY25*(1-$G25) -> 0 | BD25: =AX25 -> 2122209 | BF25: =$D25*BE25 -> 0 | BG25: =$D25*BE25*(1-$E25) -> 0 | BH25: =$D25*BE25*(1-$F25) -> 0 | BI25: =$D25*BE25*(1-$G25) -> 0 | BJ25: =BD25 -> 2122209 | BL25: =$D25*BK25 -> 0 | BM25: =$D25*BK25*(1-$E25) -> 0 | BN25: =$D25*BK25*(1-$F25) -> 0 | BO25: =$D25*BK25*(1-$G25) -> 0 | BP25: =BJ25 -> 2122209 | BR25: =$D25*BQ25 -> 0 | BS25: =$D25*BQ25*(1-$E25) -> 0 | BT25: =$D25*BQ25*(1-$F25) -> 0 | BU25: =$D25*BQ25*(1-$G25) -> 0 | BV25: =BP25 -> 2122209 | BX25: =$D25*BW25 -> 0 | BY25: =$D25*BW25*(1-$E25) -> 0 | BZ25: =$D25*BW25*(1-$F25) -> 0 | CA25: =$D25*BW25*(1-$G25) -> 0 | CB25: =BV25 -> 2122209 | CD25: =$D25*CC25 -> 0 | CE25: =$D25*CC25*(1-$E25) -> 0 | CF25: =$D25*CC25*(1-$F25) -> 0 | CG25: =$D25*CC25*(1-$G25) -> 0 | CH25: =CB25 -> 2122209 | CJ25: =$D25*CI25 -> 0 | CK25: =$D25*CI25*(1-$E25) -> 0 | CL25: =$D25*CI25*(1-$F25) -> 0 | CM25: =$D25*CI25*(1-$G25) -> 0 | CN25: =CH25 -> 2122209 | CP25: =$D25*CO25 -> 0 | CQ25: =$D25*CO25*(1-$E25) -> 0 | CR25: =$D25*CO25*(1-$F25) -> 0 | CS25: =$D25*CO25*(1-$G25) -> 0 | CT25: =CN25 -> 2122209 | CV25: =$D25*CU25 -> 0 | CW25: =$D25*CU25*(1-$E25) -> 0 | CX25: =$D25*CU25*(1-$F25) -> 0 | CY25: =$D25*CU25*(1-$G25) -> 0 | CZ25: =CT25 -> 2122209 | DB25: =$D25*DA25 -> 0 | DC25: =$D25*DA25*(1-$E25) -> 0 | DD25: =$D25*DA25*(1-$F25) -> 0 | DE25: =$D25*DA25*(1-$G25) -> 0 | DF25: =CZ25 -> 2122209 | DH25: =$D25*DG25 -> 0 | DI25: =$D25*DG25*(1-$E25) -> 0 | DJ25: =$D25*DG25*(1-$F25) -> 0 | DK25: =$D25*DG25*(1-$G25) -> 0 | DL25: =DF25 -> 2122209 | DN25: =$D25*DM25 -> 0 | DO25: =$D25*DM25*(1-$E25) -> 0 | DP25: =$D25*DM25*(1-$F25) -> 0 | DQ25: =$D25*DM25*(1-$G25) -> 0 | DR25: =DL25 -> 2122209 | DT25: =$D25*DS25 -> 0 | DU25: =$D25*DS25*(1-$E25) -> 0 | DV25: =$D25*DS25*(1-$F25) -> 0 | DW25: =$D25*DS25*(1-$G25) -> 0 | DX25: =DR25 -> 2122209 | DZ25: =$D25*DY25 -> 0 | EA25: =$D25*DY25*(1-$E25) -> 0 | EB25: =$D25*DY25*(1-$F25) -> 0 | EC25: =$D25*DY25*(1-$G25) -> 0 | ED25: =DX25 -> 2122209 | EF25: =$D25*EE25 -> 0 | EG25: =$D25*EE25*(1-$E25) -> 0 | EH25: =$D25*EE25*(1-$F25) -> 0 | EI25: =$D25*EE25*(1-$G25) -> 0 | EJ25: =ED25 -> 2122209 | EL25: =$D25*EK25 -> 0 | EM25: =$D25*EK25*(1-$E25) -> 0 | EN25: =$D25*EK25*(1-$F25) -> 0 | EO25: =$D25*EK25*(1-$G25) -> 0 | EP25: =EJ25 -> 2122209 | ER25: =$D25*EQ25 -> 0 | ES25: =$D25*EQ25*(1-$E25) -> 0 | ET25: =$D25*EQ25*(1-$F25) -> 0 | EU25: =$D25*EQ25*(1-$G25) -> 0 | EV25: =EP25 -> 2122209 | EX25: =$D25*EW25 -> 0 | EY25: =$D25*EW25*(1-$E25) -> 0 | EZ25: =$D25*EW25*(1-$F25) -> 0 | FA25: =$D25*EW25*(1-$G25) -> 0
B26: X-ST-GR M8/10 P8 | C26: 2122460 | D26: 1 | E26: 0.055 | F26: 0.107 | G26: 0.157 | H26: =C26 -> 2122460 | I26: 1.2 | J26: =$D26*I26 -> 1.2 | K26: =$D26*I26*(1-$E26) -> 1.134 | L26: =$D26*I26*(1-$F26) -> 1.0716 | M26: =$D26*I26*(1-$G26) -> 1.0116 | N26: =H26 -> 2122460 | O26: 1.4 | P26: =$D26*O26 -> 1.4 | Q26: =$D26*O26*(1-$E26) -> 1.323 | R26: =$D26*O26*(1-$F26) -> 1.2502 | S26: =$D26*O26*(1-$G26) -> 1.1802 | T26: =N26 -> 2122460 | V26: =$D26*U26 -> 0 | W26: =$D26*U26*(1-$E26) -> 0 | X26: =$D26*U26*(1-$F26) -> 0 | Y26: =$D26*U26*(1-$G26) -> 0 | Z26: =T26 -> 2122460 | AB26: =$D26*AA26 -> 0 | AC26: =$D26*AA26*(1-$E26) -> 0 | AD26: =$D26*AA26*(1-$F26) -> 0 | AE26: =$D26*AA26*(1-$G26) -> 0 | AF26: =Z26 -> 2122460 | AH26: =$D26*AG26 -> 0 | AI26: =$D26*AG26*(1-$E26) -> 0 | AJ26: =$D26*AG26*(1-$F26) -> 0 | AK26: =$D26*AG26*(1-$G26) -> 0 | AL26: =AF26 -> 2122460 | AN26: =$D26*AM26 -> 0 | AO26: =$D26*AM26*(1-$E26) -> 0 | AP26: =$D26*AM26*(1-$F26) -> 0 | AQ26: =$D26*AM26*(1-$G26) -> 0 | AR26: =AL26 -> 2122460 | AT26: =$D26*AS26 -> 0 | AU26: =$D26*AS26*(1-$E26) -> 0 | AV26: =$D26*AS26*(1-$F26) -> 0 | AW26: =$D26*AS26*(1-$G26) -> 0 | AX26: =AR26 -> 2122460 | AZ26: =$D26*AY26 -> 0 | BA26: =$D26*AY26*(1-$E26) -> 0 | BB26: =$D26*AY26*(1-$F26) -> 0 | BC26: =$D26*AY26*(1-$G26) -> 0 | BD26: =AX26 -> 2122460 | BF26: =$D26*BE26 -> 0 | BG26: =$D26*BE26*(1-$E26) -> 0 | BH26: =$D26*BE26*(1-$F26) -> 0 | BI26: =$D26*BE26*(1-$G26) -> 0 | BJ26: =BD26 -> 2122460 | BL26: =$D26*BK26 -> 0 | BM26: =$D26*BK26*(1-$E26) -> 0 | BN26: =$D26*BK26*(1-$F26) -> 0 | BO26: =$D26*BK26*(1-$G26) -> 0 | BP26: =BJ26 -> 2122460 | BR26: =$D26*BQ26 -> 0 | BS26: =$D26*BQ26*(1-$E26) -> 0 | BT26: =$D26*BQ26*(1-$F26) -> 0 | BU26: =$D26*BQ26*(1-$G26) -> 0 | BV26: =BP26 -> 2122460 | BX26: =$D26*BW26 -> 0 | BY26: =$D26*BW26*(1-$E26) -> 0 | BZ26: =$D26*BW26*(1-$F26) -> 0 | CA26: =$D26*BW26*(1-$G26) -> 0 | CB26: =BV26 -> 2122460 | CD26: =$D26*CC26 -> 0 | CE26: =$D26*CC26*(1-$E26) -> 0 | CF26: =$D26*CC26*(1-$F26) -> 0 | CG26: =$D26*CC26*(1-$G26) -> 0 | CH26: =CB26 -> 2122460 | CJ26: =$D26*CI26 -> 0 | CK26: =$D26*CI26*(1-$E26) -> 0 | CL26: =$D26*CI26*(1-$F26) -> 0 | CM26: =$D26*CI26*(1-$G26) -> 0 | CN26: =CH26 -> 2122460 | CP26: =$D26*CO26 -> 0 | CQ26: =$D26*CO26*(1-$E26) -> 0 | CR26: =$D26*CO26*(1-$F26) -> 0 | CS26: =$D26*CO26*(1-$G26) -> 0 | CT26: =CN26 -> 2122460 | CV26: =$D26*CU26 -> 0 | CW26: =$D26*CU26*(1-$E26) -> 0 | CX26: =$D26*CU26*(1-$F26) -> 0 | CY26: =$D26*CU26*(1-$G26) -> 0 | CZ26: =CT26 -> 2122460 | DB26: =$D26*DA26 -> 0 | DC26: =$D26*DA26*(1-$E26) -> 0 | DD26: =$D26*DA26*(1-$F26) -> 0 | DE26: =$D26*DA26*(1-$G26) -> 0 | DF26: =CZ26 -> 2122460 | DH26: =$D26*DG26 -> 0 | DI26: =$D26*DG26*(1-$E26) -> 0 | DJ26: =$D26*DG26*(1-$F26) -> 0 | DK26: =$D26*DG26*(1-$G26) -> 0 | DL26: =DF26 -> 2122460 | DN26: =$D26*DM26 -> 0 | DO26: =$D26*DM26*(1-$E26) -> 0 | DP26: =$D26*DM26*(1-$F26) -> 0 | DQ26: =$D26*DM26*(1-$G26) -> 0 | DR26: =DL26 -> 2122460 | DT26: =$D26*DS26 -> 0 | DU26: =$D26*DS26*(1-$E26) -> 0 | DV26: =$D26*DS26*(1-$F26) -> 0 | DW26: =$D26*DS26*(1-$G26) -> 0 | DX26: =DR26 -> 2122460 | DZ26: =$D26*DY26 -> 0 | EA26: =$D26*DY26*(1-$E26) -> 0 | EB26: =$D26*DY26*(1-$F26) -> 0 | EC26: =$D26*DY26*(1-$G26) -> 0 | ED26: =DX26 -> 2122460 | EF26: =$D26*EE26 -> 0 | EG26: =$D26*EE26*(1-$E26) -> 0 | EH26: =$D26*EE26*(1-$F26) -> 0 | EI26: =$D26*EE26*(1-$G26) -> 0 | EJ26: =ED26 -> 2122460 | EL26: =$D26*EK26 -> 0 | EM26: =$D26*EK26*(1-$E26) -> 0 | EN26: =$D26*EK26*(1-$F26) -> 0 | EO26: =$D26*EK26*(1-$G26) -> 0 | EP26: =EJ26 -> 2122460 | ER26: =$D26*EQ26 -> 0 | ES26: =$D26*EQ26*(1-$E26) -> 0 | ET26: =$D26*EQ26*(1-$F26) -> 0 | EU26: =$D26*EQ26*(1-$G26) -> 0 | EV26: =EP26 -> 2122460 | EX26: =$D26*EW26 -> 0 | EY26: =$D26*EW26*(1-$E26) -> 0 | EZ26: =$D26*EW26*(1-$F26) -> 0 | FA26: =$D26*EW26*(1-$G26) -> 0
A27: FCM Grating Discs | B27: X-FCM M 25/30 | C27: 378683 | D27: 1 | E27: 0.055 | F27: 0.107 | G27: 0.157 | H27: =C27 -> 378683 | I27: 1.2 | J27: =$D27*I27 -> 1.2 | K27: =$D27*I27*(1-$E27) -> 1.134 | L27: =$D27*I27*(1-$F27) -> 1.0716 | M27: =$D27*I27*(1-$G27) -> 1.0116 | N27: =H27 -> 378683 | O27: 1.4 | P27: =$D27*O27 -> 1.4 | Q27: =$D27*O27*(1-$E27) -> 1.323 | R27: =$D27*O27*(1-$F27) -> 1.2502 | S27: =$D27*O27*(1-$G27) -> 1.1802 | T27: =N27 -> 378683 | V27: =$D27*U27 -> 0 | W27: =$D27*U27*(1-$E27) -> 0 | X27: =$D27*U27*(1-$F27) -> 0 | Y27: =$D27*U27*(1-$G27) -> 0 | Z27: =T27 -> 378683 | AB27: =$D27*AA27 -> 0 | AC27: =$D27*AA27*(1-$E27) -> 0 | AD27: =$D27*AA27*(1-$F27) -> 0 | AE27: =$D27*AA27*(1-$G27) -> 0 | AF27: =Z27 -> 378683 | AH27: =$D27*AG27 -> 0 | AI27: =$D27*AG27*(1-$E27) -> 0 | AJ27: =$D27*AG27*(1-$F27) -> 0 | AK27: =$D27*AG27*(1-$G27) -> 0 | AL27: =AF27 -> 378683 | AN27: =$D27*AM27 -> 0 | AO27: =$D27*AM27*(1-$E27) -> 0 | AP27: =$D27*AM27*(1-$F27) -> 0 | AQ27: =$D27*AM27*(1-$G27) -> 0 | AR27: =AL27 -> 378683 | AT27: =$D27*AS27 -> 0 | AU27: =$D27*AS27*(1-$E27) -> 0 | AV27: =$D27*AS27*(1-$F27) -> 0 | AW27: =$D27*AS27*(1-$G27) -> 0 | AX27: =AR27 -> 378683 | AZ27: =$D27*AY27 -> 0 | BA27: =$D27*AY27*(1-$E27) -> 0 | BB27: =$D27*AY27*(1-$F27) -> 0 | BC27: =$D27*AY27*(1-$G27) -> 0 | BD27: =AX27 -> 378683 | BF27: =$D27*BE27 -> 0 | BG27: =$D27*BE27*(1-$E27) -> 0 | BH27: =$D27*BE27*(1-$F27) -> 0 | BI27: =$D27*BE27*(1-$G27) -> 0 | BJ27: =BD27 -> 378683 | BL27: =$D27*BK27 -> 0 | BM27: =$D27*BK27*(1-$E27) -> 0 | BN27: =$D27*BK27*(1-$F27) -> 0 | BO27: =$D27*BK27*(1-$G27) -> 0 | BP27: =BJ27 -> 378683 | BR27: =$D27*BQ27 -> 0 | BS27: =$D27*BQ27*(1-$E27) -> 0 | BT27: =$D27*BQ27*(1-$F27) -> 0 | BU27: =$D27*BQ27*(1-$G27) -> 0 | BV27: =BP27 -> 378683 | BX27: =$D27*BW27 -> 0 | BY27: =$D27*BW27*(1-$E27) -> 0 | BZ27: =$D27*BW27*(1-$F27) -> 0 | CA27: =$D27*BW27*(1-$G27) -> 0 | CB27: =BV27 -> 378683 | CD27: =$D27*CC27 -> 0 | CE27: =$D27*CC27*(1-$E27) -> 0 | CF27: =$D27*CC27*(1-$F27) -> 0 | CG27: =$D27*CC27*(1-$G27) -> 0 | CH27: =CB27 -> 378683 | CJ27: =$D27*CI27 -> 0 | CK27: =$D27*CI27*(1-$E27) -> 0 | CL27: =$D27*CI27*(1-$F27) -> 0 | CM27: =$D27*CI27*(1-$G27) -> 0 | CN27: =CH27 -> 378683 | CP27: =$D27*CO27 -> 0 | CQ27: =$D27*CO27*(1-$E27) -> 0 | CR27: =$D27*CO27*(1-$F27) -> 0 | CS27: =$D27*CO27*(1-$G27) -> 0 | CT27: =CN27 -> 378683 | CV27: =$D27*CU27 -> 0 | CW27: =$D27*CU27*(1-$E27) -> 0 | CX27: =$D27*CU27*(1-$F27) -> 0 | CY27: =$D27*CU27*(1-$G27) -> 0 | CZ27: =CT27 -> 378683 | DB27: =$D27*DA27 -> 0 | DC27: =$D27*DA27*(1-$E27) -> 0 | DD27: =$D27*DA27*(1-$F27) -> 0 | DE27: =$D27*DA27*(1-$G27) -> 0 | DF27: =CZ27 -> 378683 | DH27: =$D27*DG27 -> 0 | DI27: =$D27*DG27*(1-$E27) -> 0 | DJ27: =$D27*DG27*(1-$F27) -> 0 | DK27: =$D27*DG27*(1-$G27) -> 0 | DL27: =DF27 -> 378683 | DN27: =$D27*DM27 -> 0 | DO27: =$D27*DM27*(1-$E27) -> 0 | DP27: =$D27*DM27*(1-$F27) -> 0 | DQ27: =$D27*DM27*(1-$G27) -> 0 | DR27: =DL27 -> 378683 | DT27: =$D27*DS27 -> 0 | DU27: =$D27*DS27*(1-$E27) -> 0 | DV27: =$D27*DS27*(1-$F27) -> 0 | DW27: =$D27*DS27*(1-$G27) -> 0 | DX27: =DR27 -> 378683 | DZ27: =$D27*DY27 -> 0 | EA27: =$D27*DY27*(1-$E27) -> 0 | EB27: =$D27*DY27*(1-$F27) -> 0 | EC27: =$D27*DY27*(1-$G27) -> 0 | ED27: =DX27 -> 378683 | EF27: =$D27*EE27 -> 0 | EG27: =$D27*EE27*(1-$E27) -> 0 | EH27: =$D27*EE27*(1-$F27) -> 0 | EI27: =$D27*EE27*(1-$G27) -> 0 | EJ27: =ED27 -> 378683 | EL27: =$D27*EK27 -> 0 | EM27: =$D27*EK27*(1-$E27) -> 0 | EN27: =$D27*EK27*(1-$F27) -> 0 | EO27: =$D27*EK27*(1-$G27) -> 0 | EP27: =EJ27 -> 378683 | ER27: =$D27*EQ27 -> 0 | ES27: =$D27*EQ27*(1-$E27) -> 0 | ET27: =$D27*EQ27*(1-$F27) -> 0 | EU27: =$D27*EQ27*(1-$G27) -> 0 | EV27: =EP27 -> 378683 | EX27: =$D27*EW27 -> 0 | EY27: =$D27*EW27*(1-$E27) -> 0 | EZ27: =$D27*EW27*(1-$F27) -> 0 | FA27: =$D27*EW27*(1-$G27) -> 0
B28: X-FCM M 1 1/4" | C28: 378686 | D28: 1 | E28: 0.055 | F28: 0.107 | G28: 0.157 | H28: =C28 -> 378686 | I28: 1.2 | J28: =$D28*I28 -> 1.2 | K28: =$D28*I28*(1-$E28) -> 1.134 | L28: =$D28*I28*(1-$F28) -> 1.0716 | M28: =$D28*I28*(1-$G28) -> 1.0116 | N28: =H28 -> 378686 | O28: 1.4 | P28: =$D28*O28 -> 1.4 | Q28: =$D28*O28*(1-$E28) -> 1.323 | R28: =$D28*O28*(1-$F28) -> 1.2502 | S28: =$D28*O28*(1-$G28) -> 1.1802 | T28: =N28 -> 378686 | V28: =$D28*U28 -> 0 | W28: =$D28*U28*(1-$E28) -> 0 | X28: =$D28*U28*(1-$F28) -> 0 | Y28: =$D28*U28*(1-$G28) -> 0 | Z28: =T28 -> 378686 | AB28: =$D28*AA28 -> 0 | AC28: =$D28*AA28*(1-$E28) -> 0 | AD28: =$D28*AA28*(1-$F28) -> 0 | AE28: =$D28*AA28*(1-$G28) -> 0 | AF28: =Z28 -> 378686 | AH28: =$D28*AG28 -> 0 | AI28: =$D28*AG28*(1-$E28) -> 0 | AJ28: =$D28*AG28*(1-$F28) -> 0 | AK28: =$D28*AG28*(1-$G28) -> 0 | AL28: =AF28 -> 378686 | AN28: =$D28*AM28 -> 0 | AO28: =$D28*AM28*(1-$E28) -> 0 | AP28: =$D28*AM28*(1-$F28) -> 0 | AQ28: =$D28*AM28*(1-$G28) -> 0 | AR28: =AL28 -> 378686 | AT28: =$D28*AS28 -> 0 | AU28: =$D28*AS28*(1-$E28) -> 0 | AV28: =$D28*AS28*(1-$F28) -> 0 | AW28: =$D28*AS28*(1-$G28) -> 0 | AX28: =AR28 -> 378686 | AZ28: =$D28*AY28 -> 0 | BA28: =$D28*AY28*(1-$E28) -> 0 | BB28: =$D28*AY28*(1-$F28) -> 0 | BC28: =$D28*AY28*(1-$G28) -> 0 | BD28: =AX28 -> 378686 | BF28: =$D28*BE28 -> 0 | BG28: =$D28*BE28*(1-$E28) -> 0 | BH28: =$D28*BE28*(1-$F28) -> 0 | BI28: =$D28*BE28*(1-$G28) -> 0 | BJ28: =BD28 -> 378686 | BL28: =$D28*BK28 -> 0 | BM28: =$D28*BK28*(1-$E28) -> 0 | BN28: =$D28*BK28*(1-$F28) -> 0 | BO28: =$D28*BK28*(1-$G28) -> 0 | BP28: =BJ28 -> 378686 | BR28: =$D28*BQ28 -> 0 | BS28: =$D28*BQ28*(1-$E28) -> 0 | BT28: =$D28*BQ28*(1-$F28) -> 0 | BU28: =$D28*BQ28*(1-$G28) -> 0 | BV28: =BP28 -> 378686 | BX28: =$D28*BW28 -> 0 | BY28: =$D28*BW28*(1-$E28) -> 0 | BZ28: =$D28*BW28*(1-$F28) -> 0 | CA28: =$D28*BW28*(1-$G28) -> 0 | CB28: =BV28 -> 378686 | CD28: =$D28*CC28 -> 0 | CE28: =$D28*CC28*(1-$E28) -> 0 | CF28: =$D28*CC28*(1-$F28) -> 0 | CG28: =$D28*CC28*(1-$G28) -> 0 | CH28: =CB28 -> 378686 | CJ28: =$D28*CI28 -> 0 | CK28: =$D28*CI28*(1-$E28) -> 0 | CL28: =$D28*CI28*(1-$F28) -> 0 | CM28: =$D28*CI28*(1-$G28) -> 0 | CN28: =CH28 -> 378686 | CP28: =$D28*CO28 -> 0 | CQ28: =$D28*CO28*(1-$E28) -> 0 | CR28: =$D28*CO28*(1-$F28) -> 0 | CS28: =$D28*CO28*(1-$G28) -> 0 | CT28: =CN28 -> 378686 | CV28: =$D28*CU28 -> 0 | CW28: =$D28*CU28*(1-$E28) -> 0 | CX28: =$D28*CU28*(1-$F28) -> 0 | CY28: =$D28*CU28*(1-$G28) -> 0 | CZ28: =CT28 -> 378686 | DB28: =$D28*DA28 -> 0 | DC28: =$D28*DA28*(1-$E28) -> 0 | DD28: =$D28*DA28*(1-$F28) -> 0 | DE28: =$D28*DA28*(1-$G28) -> 0 | DF28: =CZ28 -> 378686 | DH28: =$D28*DG28 -> 0 | DI28: =$D28*DG28*(1-$E28) -> 0 | DJ28: =$D28*DG28*(1-$F28) -> 0 | DK28: =$D28*DG28*(1-$G28) -> 0 | DL28: =DF28 -> 378686 | DN28: =$D28*DM28 -> 0 | DO28: =$D28*DM28*(1-$E28) -> 0 | DP28: =$D28*DM28*(1-$F28) -> 0 | DQ28: =$D28*DM28*(1-$G28) -> 0 | DR28: =DL28 -> 378686 | DT28: =$D28*DS28 -> 0 | DU28: =$D28*DS28*(1-$E28) -> 0 | DV28: =$D28*DS28*(1-$F28) -> 0 | DW28: =$D28*DS28*(1-$G28) -> 0 | DX28: =DR28 -> 378686 | DZ28: =$D28*DY28 -> 0 | EA28: =$D28*DY28*(1-$E28) -> 0 | EB28: =$D28*DY28*(1-$F28) -> 0 | EC28: =$D28*DY28*(1-$G28) -> 0 | ED28: =DX28 -> 378686 | EF28: =$D28*EE28 -> 0 | EG28: =$D28*EE28*(1-$E28) -> 0 | EH28: =$D28*EE28*(1-$F28) -> 0 | EI28: =$D28*EE28*(1-$G28) -> 0 | EJ28: =ED28 -> 378686 | EL28: =$D28*EK28 -> 0 | EM28: =$D28*EK28*(1-$E28) -> 0 | EN28: =$D28*EK28*(1-$F28) -> 0 | EO28: =$D28*EK28*(1-$G28) -> 0 | EP28: =EJ28 -> 378686 | ER28: =$D28*EQ28 -> 0 | ES28: =$D28*EQ28*(1-$E28) -> 0 | ET28: =$D28*EQ28*(1-$F28) -> 0 | EU28: =$D28*EQ28*(1-$G28) -> 0 | EV28: =EP28 -> 378686 | EX28: =$D28*EW28 -> 0 | EY28: =$D28*EW28*(1-$E28) -> 0 | EZ28: =$D28*EW28*(1-$F28) -> 0 | FA28: =$D28*EW28*(1-$G28) -> 0
B29: X-FCM M 35/40 | C29: 378684 | D29: 1 | E29: 0.055 | F29: 0.107 | G29: 0.157 | H29: =C29 -> 378684 | I29: 1.2 | J29: =$D29*I29 -> 1.2 | K29: =$D29*I29*(1-$E29) -> 1.134 | L29: =$D29*I29*(1-$F29) -> 1.0716 | M29: =$D29*I29*(1-$G29) -> 1.0116 | N29: =H29 -> 378684 | O29: 1.4 | P29: =$D29*O29 -> 1.4 | Q29: =$D29*O29*(1-$E29) -> 1.323 | R29: =$D29*O29*(1-$F29) -> 1.2502 | S29: =$D29*O29*(1-$G29) -> 1.1802 | T29: =N29 -> 378684 | V29: =$D29*U29 -> 0 | W29: =$D29*U29*(1-$E29) -> 0 | X29: =$D29*U29*(1-$F29) -> 0 | Y29: =$D29*U29*(1-$G29) -> 0 | Z29: =T29 -> 378684 | AB29: =$D29*AA29 -> 0 | AC29: =$D29*AA29*(1-$E29) -> 0 | AD29: =$D29*AA29*(1-$F29) -> 0 | AE29: =$D29*AA29*(1-$G29) -> 0 | AF29: =Z29 -> 378684 | AH29: =$D29*AG29 -> 0 | AI29: =$D29*AG29*(1-$E29) -> 0 | AJ29: =$D29*AG29*(1-$F29) -> 0 | AK29: =$D29*AG29*(1-$G29) -> 0 | AL29: =AF29 -> 378684 | AN29: =$D29*AM29 -> 0 | AO29: =$D29*AM29*(1-$E29) -> 0 | AP29: =$D29*AM29*(1-$F29) -> 0 | AQ29: =$D29*AM29*(1-$G29) -> 0 | AR29: =AL29 -> 378684 | AT29: =$D29*AS29 -> 0 | AU29: =$D29*AS29*(1-$E29) -> 0 | AV29: =$D29*AS29*(1-$F29) -> 0 | AW29: =$D29*AS29*(1-$G29) -> 0 | AX29: =AR29 -> 378684 | AZ29: =$D29*AY29 -> 0 | BA29: =$D29*AY29*(1-$E29) -> 0 | BB29: =$D29*AY29*(1-$F29) -> 0 | BC29: =$D29*AY29*(1-$G29) -> 0 | BD29: =AX29 -> 378684 | BF29: =$D29*BE29 -> 0 | BG29: =$D29*BE29*(1-$E29) -> 0 | BH29: =$D29*BE29*(1-$F29) -> 0 | BI29: =$D29*BE29*(1-$G29) -> 0 | BJ29: =BD29 -> 378684 | BL29: =$D29*BK29 -> 0 | BM29: =$D29*BK29*(1-$E29) -> 0 | BN29: =$D29*BK29*(1-$F29) -> 0 | BO29: =$D29*BK29*(1-$G29) -> 0 | BP29: =BJ29 -> 378684 | BR29: =$D29*BQ29 -> 0 | BS29: =$D29*BQ29*(1-$E29) -> 0 | BT29: =$D29*BQ29*(1-$F29) -> 0 | BU29: =$D29*BQ29*(1-$G29) -> 0 | BV29: =BP29 -> 378684 | BX29: =$D29*BW29 -> 0 | BY29: =$D29*BW29*(1-$E29) -> 0 | BZ29: =$D29*BW29*(1-$F29) -> 0 | CA29: =$D29*BW29*(1-$G29) -> 0 | CB29: =BV29 -> 378684 | CD29: =$D29*CC29 -> 0 | CE29: =$D29*CC29*(1-$E29) -> 0 | CF29: =$D29*CC29*(1-$F29) -> 0 | CG29: =$D29*CC29*(1-$G29) -> 0 | CH29: =CB29 -> 378684 | CJ29: =$D29*CI29 -> 0 | CK29: =$D29*CI29*(1-$E29) -> 0 | CL29: =$D29*CI29*(1-$F29) -> 0 | CM29: =$D29*CI29*(1-$G29) -> 0 | CN29: =CH29 -> 378684 | CP29: =$D29*CO29 -> 0 | CQ29: =$D29*CO29*(1-$E29) -> 0 | CR29: =$D29*CO29*(1-$F29) -> 0 | CS29: =$D29*CO29*(1-$G29) -> 0 | CT29: =CN29 -> 378684 | CV29: =$D29*CU29 -> 0 | CW29: =$D29*CU29*(1-$E29) -> 0 | CX29: =$D29*CU29*(1-$F29) -> 0 | CY29: =$D29*CU29*(1-$G29) -> 0 | CZ29: =CT29 -> 378684 | DB29: =$D29*DA29 -> 0 | DC29: =$D29*DA29*(1-$E29) -> 0 | DD29: =$D29*DA29*(1-$F29) -> 0 | DE29: =$D29*DA29*(1-$G29) -> 0 | DF29: =CZ29 -> 378684 | DH29: =$D29*DG29 -> 0 | DI29: =$D29*DG29*(1-$E29) -> 0 | DJ29: =$D29*DG29*(1-$F29) -> 0 | DK29: =$D29*DG29*(1-$G29) -> 0 | DL29: =DF29 -> 378684 | DN29: =$D29*DM29 -> 0 | DO29: =$D29*DM29*(1-$E29) -> 0 | DP29: =$D29*DM29*(1-$F29) -> 0 | DQ29: =$D29*DM29*(1-$G29) -> 0 | DR29: =DL29 -> 378684 | DT29: =$D29*DS29 -> 0 | DU29: =$D29*DS29*(1-$E29) -> 0 | DV29: =$D29*DS29*(1-$F29) -> 0 | DW29: =$D29*DS29*(1-$G29) -> 0 | DX29: =DR29 -> 378684 | DZ29: =$D29*DY29 -> 0 | EA29: =$D29*DY29*(1-$E29) -> 0 | EB29: =$D29*DY29*(1-$F29) -> 0 | EC29: =$D29*DY29*(1-$G29) -> 0 | ED29: =DX29 -> 378684 | EF29: =$D29*EE29 -> 0 | EG29: =$D29*EE29*(1-$E29) -> 0 | EH29: =$D29*EE29*(1-$F29) -> 0 | EI29: =$D29*EE29*(1-$G29) -> 0 | EJ29: =ED29 -> 378684 | EL29: =$D29*EK29 -> 0 | EM29: =$D29*EK29*(1-$E29) -> 0 | EN29: =$D29*EK29*(1-$F29) -> 0 | EO29: =$D29*EK29*(1-$G29) -> 0 | EP29: =EJ29 -> 378684 | ER29: =$D29*EQ29 -> 0 | ES29: =$D29*EQ29*(1-$E29) -> 0 | ET29: =$D29*EQ29*(1-$F29) -> 0 | EU29: =$D29*EQ29*(1-$G29) -> 0 | EV29: =EP29 -> 378684 | EX29: =$D29*EW29 -> 0 | EY29: =$D29*EW29*(1-$E29) -> 0 | EZ29: =$D29*EW29*(1-$F29) -> 0 | FA29: =$D29*EW29*(1-$G29) -> 0
B30: X-FCM M 45/50 | C30: 378685 | D30: 1 | E30: 0.055 | F30: 0.107 | G30: 0.157 | H30: =C30 -> 378685 | I30: 1.2 | J30: =$D30*I30 -> 1.2 | K30: =$D30*I30*(1-$E30) -> 1.134 | L30: =$D30*I30*(1-$F30) -> 1.0716 | M30: =$D30*I30*(1-$G30) -> 1.0116 | N30: =H30 -> 378685 | O30: 1.4 | P30: =$D30*O30 -> 1.4 | Q30: =$D30*O30*(1-$E30) -> 1.323 | R30: =$D30*O30*(1-$F30) -> 1.2502 | S30: =$D30*O30*(1-$G30) -> 1.1802 | T30: =N30 -> 378685 | V30: =$D30*U30 -> 0 | W30: =$D30*U30*(1-$E30) -> 0 | X30: =$D30*U30*(1-$F30) -> 0 | Y30: =$D30*U30*(1-$G30) -> 0 | Z30: =T30 -> 378685 | AB30: =$D30*AA30 -> 0 | AC30: =$D30*AA30*(1-$E30) -> 0 | AD30: =$D30*AA30*(1-$F30) -> 0 | AE30: =$D30*AA30*(1-$G30) -> 0 | AF30: =Z30 -> 378685 | AH30: =$D30*AG30 -> 0 | AI30: =$D30*AG30*(1-$E30) -> 0 | AJ30: =$D30*AG30*(1-$F30) -> 0 | AK30: =$D30*AG30*(1-$G30) -> 0 | AL30: =AF30 -> 378685 | AN30: =$D30*AM30 -> 0 | AO30: =$D30*AM30*(1-$E30) -> 0 | AP30: =$D30*AM30*(1-$F30) -> 0 | AQ30: =$D30*AM30*(1-$G30) -> 0 | AR30: =AL30 -> 378685 | AT30: =$D30*AS30 -> 0 | AU30: =$D30*AS30*(1-$E30) -> 0 | AV30: =$D30*AS30*(1-$F30) -> 0 | AW30: =$D30*AS30*(1-$G30) -> 0 | AX30: =AR30 -> 378685 | AZ30: =$D30*AY30 -> 0 | BA30: =$D30*AY30*(1-$E30) -> 0 | BB30: =$D30*AY30*(1-$F30) -> 0 | BC30: =$D30*AY30*(1-$G30) -> 0 | BD30: =AX30 -> 378685 | BF30: =$D30*BE30 -> 0 | BG30: =$D30*BE30*(1-$E30) -> 0 | BH30: =$D30*BE30*(1-$F30) -> 0 | BI30: =$D30*BE30*(1-$G30) -> 0 | BJ30: =BD30 -> 378685 | BL30: =$D30*BK30 -> 0 | BM30: =$D30*BK30*(1-$E30) -> 0 | BN30: =$D30*BK30*(1-$F30) -> 0 | BO30: =$D30*BK30*(1-$G30) -> 0 | BP30: =BJ30 -> 378685 | BR30: =$D30*BQ30 -> 0 | BS30: =$D30*BQ30*(1-$E30) -> 0 | BT30: =$D30*BQ30*(1-$F30) -> 0 | BU30: =$D30*BQ30*(1-$G30) -> 0 | BV30: =BP30 -> 378685 | BX30: =$D30*BW30 -> 0 | BY30: =$D30*BW30*(1-$E30) -> 0 | BZ30: =$D30*BW30*(1-$F30) -> 0 | CA30: =$D30*BW30*(1-$G30) -> 0 | CB30: =BV30 -> 378685 | CD30: =$D30*CC30 -> 0 | CE30: =$D30*CC30*(1-$E30) -> 0 | CF30: =$D30*CC30*(1-$F30) -> 0 | CG30: =$D30*CC30*(1-$G30) -> 0 | CH30: =CB30 -> 378685 | CJ30: =$D30*CI30 -> 0 | CK30: =$D30*CI30*(1-$E30) -> 0 | CL30: =$D30*CI30*(1-$F30) -> 0 | CM30: =$D30*CI30*(1-$G30) -> 0 | CN30: =CH30 -> 378685 | CP30: =$D30*CO30 -> 0 | CQ30: =$D30*CO30*(1-$E30) -> 0 | CR30: =$D30*CO30*(1-$F30) -> 0 | CS30: =$D30*CO30*(1-$G30) -> 0 | CT30: =CN30 -> 378685 | CV30: =$D30*CU30 -> 0 | CW30: =$D30*CU30*(1-$E30) -> 0 | CX30: =$D30*CU30*(1-$F30) -> 0 | CY30: =$D30*CU30*(1-$G30) -> 0 | CZ30: =CT30 -> 378685 | DB30: =$D30*DA30 -> 0 | DC30: =$D30*DA30*(1-$E30) -> 0 | DD30: =$D30*DA30*(1-$F30) -> 0 | DE30: =$D30*DA30*(1-$G30) -> 0 | DF30: =CZ30 -> 378685 | DH30: =$D30*DG30 -> 0 | DI30: =$D30*DG30*(1-$E30) -> 0 | DJ30: =$D30*DG30*(1-$F30) -> 0 | DK30: =$D30*DG30*(1-$G30) -> 0 | DL30: =DF30 -> 378685 | DN30: =$D30*DM30 -> 0 | DO30: =$D30*DM30*(1-$E30) -> 0 | DP30: =$D30*DM30*(1-$F30) -> 0 | DQ30: =$D30*DM30*(1-$G30) -> 0 | DR30: =DL30 -> 378685 | DT30: =$D30*DS30 -> 0 | DU30: =$D30*DS30*(1-$E30) -> 0 | DV30: =$D30*DS30*(1-$F30) -> 0 | DW30: =$D30*DS30*(1-$G30) -> 0 | DX30: =DR30 -> 378685 | DZ30: =$D30*DY30 -> 0 | EA30: =$D30*DY30*(1-$E30) -> 0 | EB30: =$D30*DY30*(1-$F30) -> 0 | EC30: =$D30*DY30*(1-$G30) -> 0 | ED30: =DX30 -> 378685 | EF30: =$D30*EE30 -> 0 | EG30: =$D30*EE30*(1-$E30) -> 0 | EH30: =$D30*EE30*(1-$F30) -> 0 | EI30: =$D30*EE30*(1-$G30) -> 0 | EJ30: =ED30 -> 378685 | EL30: =$D30*EK30 -> 0 | EM30: =$D30*EK30*(1-$E30) -> 0 | EN30: =$D30*EK30*(1-$F30) -> 0 | EO30: =$D30*EK30*(1-$G30) -> 0 | EP30: =EJ30 -> 378685 | ER30: =$D30*EQ30 -> 0 | ES30: =$D30*EQ30*(1-$E30) -> 0 | ET30: =$D30*EQ30*(1-$F30) -> 0 | EU30: =$D30*EQ30*(1-$G30) -> 0 | EV30: =EP30 -> 378685 | EX30: =$D30*EW30 -> 0 | EY30: =$D30*EW30*(1-$E30) -> 0 | EZ30: =$D30*EW30*(1-$F30) -> 0 | FA30: =$D30*EW30*(1-$G30) -> 0
B31: X-FCM-R 25/30 | C31: 247181 | D31: 1 | E31: 0.055 | F31: 0.107 | G31: 0.157 | H31: =C31 -> 247181 | I31: 1.2 | J31: =$D31*I31 -> 1.2 | K31: =$D31*I31*(1-$E31) -> 1.134 | L31: =$D31*I31*(1-$F31) -> 1.0716 | M31: =$D31*I31*(1-$G31) -> 1.0116 | N31: =H31 -> 247181 | O31: 1.4 | P31: =$D31*O31 -> 1.4 | Q31: =$D31*O31*(1-$E31) -> 1.323 | R31: =$D31*O31*(1-$F31) -> 1.2502 | S31: =$D31*O31*(1-$G31) -> 1.1802 | T31: =N31 -> 247181 | V31: =$D31*U31 -> 0 | W31: =$D31*U31*(1-$E31) -> 0 | X31: =$D31*U31*(1-$F31) -> 0 | Y31: =$D31*U31*(1-$G31) -> 0 | Z31: =T31 -> 247181 | AB31: =$D31*AA31 -> 0 | AC31: =$D31*AA31*(1-$E31) -> 0 | AD31: =$D31*AA31*(1-$F31) -> 0 | AE31: =$D31*AA31*(1-$G31) -> 0 | AF31: =Z31 -> 247181 | AH31: =$D31*AG31 -> 0 | AI31: =$D31*AG31*(1-$E31) -> 0 | AJ31: =$D31*AG31*(1-$F31) -> 0 | AK31: =$D31*AG31*(1-$G31) -> 0 | AL31: =AF31 -> 247181 | AN31: =$D31*AM31 -> 0 | AO31: =$D31*AM31*(1-$E31) -> 0 | AP31: =$D31*AM31*(1-$F31) -> 0 | AQ31: =$D31*AM31*(1-$G31) -> 0 | AR31: =AL31 -> 247181 | AT31: =$D31*AS31 -> 0 | AU31: =$D31*AS31*(1-$E31) -> 0 | AV31: =$D31*AS31*(1-$F31) -> 0 | AW31: =$D31*AS31*(1-$G31) -> 0 | AX31: =AR31 -> 247181 | AZ31: =$D31*AY31 -> 0 | BA31: =$D31*AY31*(1-$E31) -> 0 | BB31: =$D31*AY31*(1-$F31) -> 0 | BC31: =$D31*AY31*(1-$G31) -> 0 | BD31: =AX31 -> 247181 | BF31: =$D31*BE31 -> 0 | BG31: =$D31*BE31*(1-$E31) -> 0 | BH31: =$D31*BE31*(1-$F31) -> 0 | BI31: =$D31*BE31*(1-$G31) -> 0 | BJ31: =BD31 -> 247181 | BL31: =$D31*BK31 -> 0 | BM31: =$D31*BK31*(1-$E31) -> 0 | BN31: =$D31*BK31*(1-$F31) -> 0 | BO31: =$D31*BK31*(1-$G31) -> 0 | BP31: =BJ31 -> 247181 | BR31: =$D31*BQ31 -> 0 | BS31: =$D31*BQ31*(1-$E31) -> 0 | BT31: =$D31*BQ31*(1-$F31) -> 0 | BU31: =$D31*BQ31*(1-$G31) -> 0 | BV31: =BP31 -> 247181 | BX31: =$D31*BW31 -> 0 | BY31: =$D31*BW31*(1-$E31) -> 0 | BZ31: =$D31*BW31*(1-$F31) -> 0 | CA31: =$D31*BW31*(1-$G31) -> 0 | CB31: =BV31 -> 247181 | CD31: =$D31*CC31 -> 0 | CE31: =$D31*CC31*(1-$E31) -> 0 | CF31: =$D31*CC31*(1-$F31) -> 0 | CG31: =$D31*CC31*(1-$G31) -> 0 | CH31: =CB31 -> 247181 | CJ31: =$D31*CI31 -> 0 | CK31: =$D31*CI31*(1-$E31) -> 0 | CL31: =$D31*CI31*(1-$F31) -> 0 | CM31: =$D31*CI31*(1-$G31) -> 0 | CN31: =CH31 -> 247181 | CP31: =$D31*CO31 -> 0 | CQ31: =$D31*CO31*(1-$E31) -> 0 | CR31: =$D31*CO31*(1-$F31) -> 0 | CS31: =$D31*CO31*(1-$G31) -> 0 | CT31: =CN31 -> 247181 | CV31: =$D31*CU31 -> 0 | CW31: =$D31*CU31*(1-$E31) -> 0 | CX31: =$D31*CU31*(1-$F31) -> 0 | CY31: =$D31*CU31*(1-$G31) -> 0 | CZ31: =CT31 -> 247181 | DB31: =$D31*DA31 -> 0 | DC31: =$D31*DA31*(1-$E31) -> 0 | DD31: =$D31*DA31*(1-$F31) -> 0 | DE31: =$D31*DA31*(1-$G31) -> 0 | DF31: =CZ31 -> 247181 | DH31: =$D31*DG31 -> 0 | DI31: =$D31*DG31*(1-$E31) -> 0 | DJ31: =$D31*DG31*(1-$F31) -> 0 | DK31: =$D31*DG31*(1-$G31) -> 0 | DL31: =DF31 -> 247181 | DN31: =$D31*DM31 -> 0 | DO31: =$D31*DM31*(1-$E31) -> 0 | DP31: =$D31*DM31*(1-$F31) -> 0 | DQ31: =$D31*DM31*(1-$G31) -> 0 | DR31: =DL31 -> 247181 | DT31: =$D31*DS31 -> 0 | DU31: =$D31*DS31*(1-$E31) -> 0 | DV31: =$D31*DS31*(1-$F31) -> 0 | DW31: =$D31*DS31*(1-$G31) -> 0 | DX31: =DR31 -> 247181 | DZ31: =$D31*DY31 -> 0 | EA31: =$D31*DY31*(1-$E31) -> 0 | EB31: =$D31*DY31*(1-$F31) -> 0 | EC31: =$D31*DY31*(1-$G31) -> 0 | ED31: =DX31 -> 247181 | EF31: =$D31*EE31 -> 0 | EG31: =$D31*EE31*(1-$E31) -> 0 | EH31: =$D31*EE31*(1-$F31) -> 0 | EI31: =$D31*EE31*(1-$G31) -> 0 | EJ31: =ED31 -> 247181 | EL31: =$D31*EK31 -> 0 | EM31: =$D31*EK31*(1-$E31) -> 0 | EN31: =$D31*EK31*(1-$F31) -> 0 | EO31: =$D31*EK31*(1-$G31) -> 0 | EP31: =EJ31 -> 247181 | ER31: =$D31*EQ31 -> 0 | ES31: =$D31*EQ31*(1-$E31) -> 0 | ET31: =$D31*EQ31*(1-$F31) -> 0 | EU31: =$D31*EQ31*(1-$G31) -> 0 | EV31: =EP31 -> 247181 | EX31: =$D31*EW31 -> 0 | EY31: =$D31*EW31*(1-$E31) -> 0 | EZ31: =$D31*EW31*(1-$F31) -> 0 | FA31: =$D31*EW31*(1-$G31) -> 0
B32: X-FCM-R 1 1/4" | C32: 247184 | D32: 1 | E32: 0.055 | F32: 0.107 | G32: 0.157 | H32: =C32 -> 247184 | I32: 1.2 | J32: =$D32*I32 -> 1.2 | K32: =$D32*I32*(1-$E32) -> 1.134 | L32: =$D32*I32*(1-$F32) -> 1.0716 | M32: =$D32*I32*(1-$G32) -> 1.0116 | N32: =H32 -> 247184 | O32: 1.4 | P32: =$D32*O32 -> 1.4 | Q32: =$D32*O32*(1-$E32) -> 1.323 | R32: =$D32*O32*(1-$F32) -> 1.2502 | S32: =$D32*O32*(1-$G32) -> 1.1802 | T32: =N32 -> 247184 | V32: =$D32*U32 -> 0 | W32: =$D32*U32*(1-$E32) -> 0 | X32: =$D32*U32*(1-$F32) -> 0 | Y32: =$D32*U32*(1-$G32) -> 0 | Z32: =T32 -> 247184 | AB32: =$D32*AA32 -> 0 | AC32: =$D32*AA32*(1-$E32) -> 0 | AD32: =$D32*AA32*(1-$F32) -> 0 | AE32: =$D32*AA32*(1-$G32) -> 0 | AF32: =Z32 -> 247184 | AH32: =$D32*AG32 -> 0 | AI32: =$D32*AG32*(1-$E32) -> 0 | AJ32: =$D32*AG32*(1-$F32) -> 0 | AK32: =$D32*AG32*(1-$G32) -> 0 | AL32: =AF32 -> 247184 | AN32: =$D32*AM32 -> 0 | AO32: =$D32*AM32*(1-$E32) -> 0 | AP32: =$D32*AM32*(1-$F32) -> 0 | AQ32: =$D32*AM32*(1-$G32) -> 0 | AR32: =AL32 -> 247184 | AT32: =$D32*AS32 -> 0 | AU32: =$D32*AS32*(1-$E32) -> 0 | AV32: =$D32*AS32*(1-$F32) -> 0 | AW32: =$D32*AS32*(1-$G32) -> 0 | AX32: =AR32 -> 247184 | AZ32: =$D32*AY32 -> 0 | BA32: =$D32*AY32*(1-$E32) -> 0 | BB32: =$D32*AY32*(1-$F32) -> 0 | BC32: =$D32*AY32*(1-$G32) -> 0 | BD32: =AX32 -> 247184 | BF32: =$D32*BE32 -> 0 | BG32: =$D32*BE32*(1-$E32) -> 0 | BH32: =$D32*BE32*(1-$F32) -> 0 | BI32: =$D32*BE32*(1-$G32) -> 0 | BJ32: =BD32 -> 247184 | BL32: =$D32*BK32 -> 0 | BM32: =$D32*BK32*(1-$E32) -> 0 | BN32: =$D32*BK32*(1-$F32) -> 0 | BO32: =$D32*BK32*(1-$G32) -> 0 | BP32: =BJ32 -> 247184 | BR32: =$D32*BQ32 -> 0 | BS32: =$D32*BQ32*(1-$E32) -> 0 | BT32: =$D32*BQ32*(1-$F32) -> 0 | BU32: =$D32*BQ32*(1-$G32) -> 0 | BV32: =BP32 -> 247184 | BX32: =$D32*BW32 -> 0 | BY32: =$D32*BW32*(1-$E32) -> 0 | BZ32: =$D32*BW32*(1-$F32) -> 0 | CA32: =$D32*BW32*(1-$G32) -> 0 | CB32: =BV32 -> 247184 | CD32: =$D32*CC32 -> 0 | CE32: =$D32*CC32*(1-$E32) -> 0 | CF32: =$D32*CC32*(1-$F32) -> 0 | CG32: =$D32*CC32*(1-$G32) -> 0 | CH32: =CB32 -> 247184 | CJ32: =$D32*CI32 -> 0 | CK32: =$D32*CI32*(1-$E32) -> 0 | CL32: =$D32*CI32*(1-$F32) -> 0 | CM32: =$D32*CI32*(1-$G32) -> 0 | CN32: =CH32 -> 247184 | CP32: =$D32*CO32 -> 0 | CQ32: =$D32*CO32*(1-$E32) -> 0 | CR32: =$D32*CO32*(1-$F32) -> 0 | CS32: =$D32*CO32*(1-$G32) -> 0 | CT32: =CN32 -> 247184 | CV32: =$D32*CU32 -> 0 | CW32: =$D32*CU32*(1-$E32) -> 0 | CX32: =$D32*CU32*(1-$F32) -> 0 | CY32: =$D32*CU32*(1-$G32) -> 0 | CZ32: =CT32 -> 247184 | DB32: =$D32*DA32 -> 0 | DC32: =$D32*DA32*(1-$E32) -> 0 | DD32: =$D32*DA32*(1-$F32) -> 0 | DE32: =$D32*DA32*(1-$G32) -> 0 | DF32: =CZ32 -> 247184 | DH32: =$D32*DG32 -> 0 | DI32: =$D32*DG32*(1-$E32) -> 0 | DJ32: =$D32*DG32*(1-$F32) -> 0 | DK32: =$D32*DG32*(1-$G32) -> 0 | DL32: =DF32 -> 247184 | DN32: =$D32*DM32 -> 0 | DO32: =$D32*DM32*(1-$E32) -> 0 | DP32: =$D32*DM32*(1-$F32) -> 0 | DQ32: =$D32*DM32*(1-$G32) -> 0 | DR32: =DL32 -> 247184 | DT32: =$D32*DS32 -> 0 | DU32: =$D32*DS32*(1-$E32) -> 0 | DV32: =$D32*DS32*(1-$F32) -> 0 | DW32: =$D32*DS32*(1-$G32) -> 0 | DX32: =DR32 -> 247184 | DZ32: =$D32*DY32 -> 0 | EA32: =$D32*DY32*(1-$E32) -> 0 | EB32: =$D32*DY32*(1-$F32) -> 0 | EC32: =$D32*DY32*(1-$G32) -> 0 | ED32: =DX32 -> 247184 | EF32: =$D32*EE32 -> 0 | EG32: =$D32*EE32*(1-$E32) -> 0 | EH32: =$D32*EE32*(1-$F32) -> 0 | EI32: =$D32*EE32*(1-$G32) -> 0 | EJ32: =ED32 -> 247184 | EL32: =$D32*EK32 -> 0 | EM32: =$D32*EK32*(1-$E32) -> 0 | EN32: =$D32*EK32*(1-$F32) -> 0 | EO32: =$D32*EK32*(1-$G32) -> 0 | EP32: =EJ32 -> 247184 | ER32: =$D32*EQ32 -> 0 | ES32: =$D32*EQ32*(1-$E32) -> 0 | ET32: =$D32*EQ32*(1-$F32) -> 0 | EU32: =$D32*EQ32*(1-$G32) -> 0 | EV32: =EP32 -> 247184 | EX32: =$D32*EW32 -> 0 | EY32: =$D32*EW32*(1-$E32) -> 0 | EZ32: =$D32*EW32*(1-$F32) -> 0 | FA32: =$D32*EW32*(1-$G32) -> 0
B33: X-FCM-R 35/40 | C33: 247182 | D33: 1 | E33: 0.055 | F33: 0.107 | G33: 0.157 | H33: =C33 -> 247182 | I33: 1.2 | J33: =$D33*I33 -> 1.2 | K33: =$D33*I33*(1-$E33) -> 1.134 | L33: =$D33*I33*(1-$F33) -> 1.0716 | M33: =$D33*I33*(1-$G33) -> 1.0116 | N33: =H33 -> 247182 | O33: 1.4 | P33: =$D33*O33 -> 1.4 | Q33: =$D33*O33*(1-$E33) -> 1.323 | R33: =$D33*O33*(1-$F33) -> 1.2502 | S33: =$D33*O33*(1-$G33) -> 1.1802 | T33: =N33 -> 247182 | V33: =$D33*U33 -> 0 | W33: =$D33*U33*(1-$E33) -> 0 | X33: =$D33*U33*(1-$F33) -> 0 | Y33: =$D33*U33*(1-$G33) -> 0 | Z33: =T33 -> 247182 | AB33: =$D33*AA33 -> 0 | AC33: =$D33*AA33*(1-$E33) -> 0 | AD33: =$D33*AA33*(1-$F33) -> 0 | AE33: =$D33*AA33*(1-$G33) -> 0 | AF33: =Z33 -> 247182 | AH33: =$D33*AG33 -> 0 | AI33: =$D33*AG33*(1-$E33) -> 0 | AJ33: =$D33*AG33*(1-$F33) -> 0 | AK33: =$D33*AG33*(1-$G33) -> 0 | AL33: =AF33 -> 247182 | AN33: =$D33*AM33 -> 0 | AO33: =$D33*AM33*(1-$E33) -> 0 | AP33: =$D33*AM33*(1-$F33) -> 0 | AQ33: =$D33*AM33*(1-$G33) -> 0 | AR33: =AL33 -> 247182 | AT33: =$D33*AS33 -> 0 | AU33: =$D33*AS33*(1-$E33) -> 0 | AV33: =$D33*AS33*(1-$F33) -> 0 | AW33: =$D33*AS33*(1-$G33) -> 0 | AX33: =AR33 -> 247182 | AZ33: =$D33*AY33 -> 0 | BA33: =$D33*AY33*(1-$E33) -> 0 | BB33: =$D33*AY33*(1-$F33) -> 0 | BC33: =$D33*AY33*(1-$G33) -> 0 | BD33: =AX33 -> 247182 | BF33: =$D33*BE33 -> 0 | BG33: =$D33*BE33*(1-$E33) -> 0 | BH33: =$D33*BE33*(1-$F33) -> 0 | BI33: =$D33*BE33*(1-$G33) -> 0 | BJ33: =BD33 -> 247182 | BL33: =$D33*BK33 -> 0 | BM33: =$D33*BK33*(1-$E33) -> 0 | BN33: =$D33*BK33*(1-$F33) -> 0 | BO33: =$D33*BK33*(1-$G33) -> 0 | BP33: =BJ33 -> 247182 | BR33: =$D33*BQ33 -> 0 | BS33: =$D33*BQ33*(1-$E33) -> 0 | BT33: =$D33*BQ33*(1-$F33) -> 0 | BU33: =$D33*BQ33*(1-$G33) -> 0 | BV33: =BP33 -> 247182 | BX33: =$D33*BW33 -> 0 | BY33: =$D33*BW33*(1-$E33) -> 0 | BZ33: =$D33*BW33*(1-$F33) -> 0 | CA33: =$D33*BW33*(1-$G33) -> 0 | CB33: =BV33 -> 247182 | CD33: =$D33*CC33 -> 0 | CE33: =$D33*CC33*(1-$E33) -> 0 | CF33: =$D33*CC33*(1-$F33) -> 0 | CG33: =$D33*CC33*(1-$G33) -> 0 | CH33: =CB33 -> 247182 | CJ33: =$D33*CI33 -> 0 | CK33: =$D33*CI33*(1-$E33) -> 0 | CL33: =$D33*CI33*(1-$F33) -> 0 | CM33: =$D33*CI33*(1-$G33) -> 0 | CN33: =CH33 -> 247182 | CP33: =$D33*CO33 -> 0 | CQ33: =$D33*CO33*(1-$E33) -> 0 | CR33: =$D33*CO33*(1-$F33) -> 0 | CS33: =$D33*CO33*(1-$G33) -> 0 | CT33: =CN33 -> 247182 | CV33: =$D33*CU33 -> 0 | CW33: =$D33*CU33*(1-$E33) -> 0 | CX33: =$D33*CU33*(1-$F33) -> 0 | CY33: =$D33*CU33*(1-$G33) -> 0 | CZ33: =CT33 -> 247182 | DB33: =$D33*DA33 -> 0 | DC33: =$D33*DA33*(1-$E33) -> 0 | DD33: =$D33*DA33*(1-$F33) -> 0 | DE33: =$D33*DA33*(1-$G33) -> 0 | DF33: =CZ33 -> 247182 | DH33: =$D33*DG33 -> 0 | DI33: =$D33*DG33*(1-$E33) -> 0 | DJ33: =$D33*DG33*(1-$F33) -> 0 | DK33: =$D33*DG33*(1-$G33) -> 0 | DL33: =DF33 -> 247182 | DN33: =$D33*DM33 -> 0 | DO33: =$D33*DM33*(1-$E33) -> 0 | DP33: =$D33*DM33*(1-$F33) -> 0 | DQ33: =$D33*DM33*(1-$G33) -> 0 | DR33: =DL33 -> 247182 | DT33: =$D33*DS33 -> 0 | DU33: =$D33*DS33*(1-$E33) -> 0 | DV33: =$D33*DS33*(1-$F33) -> 0 | DW33: =$D33*DS33*(1-$G33) -> 0 | DX33: =DR33 -> 247182 | DZ33: =$D33*DY33 -> 0 | EA33: =$D33*DY33*(1-$E33) -> 0 | EB33: =$D33*DY33*(1-$F33) -> 0 | EC33: =$D33*DY33*(1-$G33) -> 0 | ED33: =DX33 -> 247182 | EF33: =$D33*EE33 -> 0 | EG33: =$D33*EE33*(1-$E33) -> 0 | EH33: =$D33*EE33*(1-$F33) -> 0 | EI33: =$D33*EE33*(1-$G33) -> 0 | EJ33: =ED33 -> 247182 | EL33: =$D33*EK33 -> 0 | EM33: =$D33*EK33*(1-$E33) -> 0 | EN33: =$D33*EK33*(1-$F33) -> 0 | EO33: =$D33*EK33*(1-$G33) -> 0 | EP33: =EJ33 -> 247182 | ER33: =$D33*EQ33 -> 0 | ES33: =$D33*EQ33*(1-$E33) -> 0 | ET33: =$D33*EQ33*(1-$F33) -> 0 | EU33: =$D33*EQ33*(1-$G33) -> 0 | EV33: =EP33 -> 247182 | EX33: =$D33*EW33 -> 0 | EY33: =$D33*EW33*(1-$E33) -> 0 | EZ33: =$D33*EW33*(1-$F33) -> 0 | FA33: =$D33*EW33*(1-$G33) -> 0
B34: X-FCM-R 45/50 | C34: 247183 | D34: 1 | E34: 0.055 | F34: 0.107 | G34: 0.157 | H34: =C34 -> 247183 | I34: 1.2 | J34: =$D34*I34 -> 1.2 | K34: =$D34*I34*(1-$E34) -> 1.134 | L34: =$D34*I34*(1-$F34) -> 1.0716 | M34: =$D34*I34*(1-$G34) -> 1.0116 | N34: =H34 -> 247183 | O34: 1.4 | P34: =$D34*O34 -> 1.4 | Q34: =$D34*O34*(1-$E34) -> 1.323 | R34: =$D34*O34*(1-$F34) -> 1.2502 | S34: =$D34*O34*(1-$G34) -> 1.1802 | T34: =N34 -> 247183 | V34: =$D34*U34 -> 0 | W34: =$D34*U34*(1-$E34) -> 0 | X34: =$D34*U34*(1-$F34) -> 0 | Y34: =$D34*U34*(1-$G34) -> 0 | Z34: =T34 -> 247183 | AB34: =$D34*AA34 -> 0 | AC34: =$D34*AA34*(1-$E34) -> 0 | AD34: =$D34*AA34*(1-$F34) -> 0 | AE34: =$D34*AA34*(1-$G34) -> 0 | AF34: =Z34 -> 247183 | AH34: =$D34*AG34 -> 0 | AI34: =$D34*AG34*(1-$E34) -> 0 | AJ34: =$D34*AG34*(1-$F34) -> 0 | AK34: =$D34*AG34*(1-$G34) -> 0 | AL34: =AF34 -> 247183 | AN34: =$D34*AM34 -> 0 | AO34: =$D34*AM34*(1-$E34) -> 0 | AP34: =$D34*AM34*(1-$F34) -> 0 | AQ34: =$D34*AM34*(1-$G34) -> 0 | AR34: =AL34 -> 247183 | AT34: =$D34*AS34 -> 0 | AU34: =$D34*AS34*(1-$E34) -> 0 | AV34: =$D34*AS34*(1-$F34) -> 0 | AW34: =$D34*AS34*(1-$G34) -> 0 | AX34: =AR34 -> 247183 | AZ34: =$D34*AY34 -> 0 | BA34: =$D34*AY34*(1-$E34) -> 0 | BB34: =$D34*AY34*(1-$F34) -> 0 | BC34: =$D34*AY34*(1-$G34) -> 0 | BD34: =AX34 -> 247183 | BF34: =$D34*BE34 -> 0 | BG34: =$D34*BE34*(1-$E34) -> 0 | BH34: =$D34*BE34*(1-$F34) -> 0 | BI34: =$D34*BE34*(1-$G34) -> 0 | BJ34: =BD34 -> 247183 | BL34: =$D34*BK34 -> 0 | BM34: =$D34*BK34*(1-$E34) -> 0 | BN34: =$D34*BK34*(1-$F34) -> 0 | BO34: =$D34*BK34*(1-$G34) -> 0 | BP34: =BJ34 -> 247183 | BR34: =$D34*BQ34 -> 0 | BS34: =$D34*BQ34*(1-$E34) -> 0 | BT34: =$D34*BQ34*(1-$F34) -> 0 | BU34: =$D34*BQ34*(1-$G34) -> 0 | BV34: =BP34 -> 247183 | BX34: =$D34*BW34 -> 0 | BY34: =$D34*BW34*(1-$E34) -> 0 | BZ34: =$D34*BW34*(1-$F34) -> 0 | CA34: =$D34*BW34*(1-$G34) -> 0 | CB34: =BV34 -> 247183 | CD34: =$D34*CC34 -> 0 | CE34: =$D34*CC34*(1-$E34) -> 0 | CF34: =$D34*CC34*(1-$F34) -> 0 | CG34: =$D34*CC34*(1-$G34) -> 0 | CH34: =CB34 -> 247183 | CJ34: =$D34*CI34 -> 0 | CK34: =$D34*CI34*(1-$E34) -> 0 | CL34: =$D34*CI34*(1-$F34) -> 0 | CM34: =$D34*CI34*(1-$G34) -> 0 | CN34: =CH34 -> 247183 | CP34: =$D34*CO34 -> 0 | CQ34: =$D34*CO34*(1-$E34) -> 0 | CR34: =$D34*CO34*(1-$F34) -> 0 | CS34: =$D34*CO34*(1-$G34) -> 0 | CT34: =CN34 -> 247183 | CV34: =$D34*CU34 -> 0 | CW34: =$D34*CU34*(1-$E34) -> 0 | CX34: =$D34*CU34*(1-$F34) -> 0 | CY34: =$D34*CU34*(1-$G34) -> 0 | CZ34: =CT34 -> 247183 | DB34: =$D34*DA34 -> 0 | DC34: =$D34*DA34*(1-$E34) -> 0 | DD34: =$D34*DA34*(1-$F34) -> 0 | DE34: =$D34*DA34*(1-$G34) -> 0 | DF34: =CZ34 -> 247183 | DH34: =$D34*DG34 -> 0 | DI34: =$D34*DG34*(1-$E34) -> 0 | DJ34: =$D34*DG34*(1-$F34) -> 0 | DK34: =$D34*DG34*(1-$G34) -> 0 | DL34: =DF34 -> 247183 | DN34: =$D34*DM34 -> 0 | DO34: =$D34*DM34*(1-$E34) -> 0 | DP34: =$D34*DM34*(1-$F34) -> 0 | DQ34: =$D34*DM34*(1-$G34) -> 0 | DR34: =DL34 -> 247183 | DT34: =$D34*DS34 -> 0 | DU34: =$D34*DS34*(1-$E34) -> 0 | DV34: =$D34*DS34*(1-$F34) -> 0 | DW34: =$D34*DS34*(1-$G34) -> 0 | DX34: =DR34 -> 247183 | DZ34: =$D34*DY34 -> 0 | EA34: =$D34*DY34*(1-$E34) -> 0 | EB34: =$D34*DY34*(1-$F34) -> 0 | EC34: =$D34*DY34*(1-$G34) -> 0 | ED34: =DX34 -> 247183 | EF34: =$D34*EE34 -> 0 | EG34: =$D34*EE34*(1-$E34) -> 0 | EH34: =$D34*EE34*(1-$F34) -> 0 | EI34: =$D34*EE34*(1-$G34) -> 0 | EJ34: =ED34 -> 247183 | EL34: =$D34*EK34 -> 0 | EM34: =$D34*EK34*(1-$E34) -> 0 | EN34: =$D34*EK34*(1-$F34) -> 0 | EO34: =$D34*EK34*(1-$G34) -> 0 | EP34: =EJ34 -> 247183 | ER34: =$D34*EQ34 -> 0 | ES34: =$D34*EQ34*(1-$E34) -> 0 | ET34: =$D34*EQ34*(1-$F34) -> 0 | EU34: =$D34*EQ34*(1-$G34) -> 0 | EV34: =EP34 -> 247183 | EX34: =$D34*EW34 -> 0 | EY34: =$D34*EW34*(1-$E34) -> 0 | EZ34: =$D34*EW34*(1-$F34) -> 0 | FA34: =$D34*EW34*(1-$G34) -> 0
B35: X-FCM-R HL 25/30 | C35: 2194345 | D35: 1 | E35: 0.055 | F35: 0.107 | G35: 0.157 | H35: =C35 -> 2194345 | I35: 1.2 | J35: =$D35*I35 -> 1.2 | K35: =$D35*I35*(1-$E35) -> 1.134 | L35: =$D35*I35*(1-$F35) -> 1.0716 | M35: =$D35*I35*(1-$G35) -> 1.0116 | N35: =H35 -> 2194345 | O35: 1.4 | P35: =$D35*O35 -> 1.4 | Q35: =$D35*O35*(1-$E35) -> 1.323 | R35: =$D35*O35*(1-$F35) -> 1.2502 | S35: =$D35*O35*(1-$G35) -> 1.1802 | T35: =N35 -> 2194345 | V35: =$D35*U35 -> 0 | W35: =$D35*U35*(1-$E35) -> 0 | X35: =$D35*U35*(1-$F35) -> 0 | Y35: =$D35*U35*(1-$G35) -> 0 | Z35: =T35 -> 2194345 | AB35: =$D35*AA35 -> 0 | AC35: =$D35*AA35*(1-$E35) -> 0 | AD35: =$D35*AA35*(1-$F35) -> 0 | AE35: =$D35*AA35*(1-$G35) -> 0 | AF35: =Z35 -> 2194345 | AH35: =$D35*AG35 -> 0 | AI35: =$D35*AG35*(1-$E35) -> 0 | AJ35: =$D35*AG35*(1-$F35) -> 0 | AK35: =$D35*AG35*(1-$G35) -> 0 | AL35: =AF35 -> 2194345 | AN35: =$D35*AM35 -> 0 | AO35: =$D35*AM35*(1-$E35) -> 0 | AP35: =$D35*AM35*(1-$F35) -> 0 | AQ35: =$D35*AM35*(1-$G35) -> 0 | AR35: =AL35 -> 2194345 | AT35: =$D35*AS35 -> 0 | AU35: =$D35*AS35*(1-$E35) -> 0 | AV35: =$D35*AS35*(1-$F35) -> 0 | AW35: =$D35*AS35*(1-$G35) -> 0 | AX35: =AR35 -> 2194345 | AZ35: =$D35*AY35 -> 0 | BA35: =$D35*AY35*(1-$E35) -> 0 | BB35: =$D35*AY35*(1-$F35) -> 0 | BC35: =$D35*AY35*(1-$G35) -> 0 | BD35: =AX35 -> 2194345 | BF35: =$D35*BE35 -> 0 | BG35: =$D35*BE35*(1-$E35) -> 0 | BH35: =$D35*BE35*(1-$F35) -> 0 | BI35: =$D35*BE35*(1-$G35) -> 0 | BJ35: =BD35 -> 2194345 | BL35: =$D35*BK35 -> 0 | BM35: =$D35*BK35*(1-$E35) -> 0 | BN35: =$D35*BK35*(1-$F35) -> 0 | BO35: =$D35*BK35*(1-$G35) -> 0 | BP35: =BJ35 -> 2194345 | BR35: =$D35*BQ35 -> 0 | BS35: =$D35*BQ35*(1-$E35) -> 0 | BT35: =$D35*BQ35*(1-$F35) -> 0 | BU35: =$D35*BQ35*(1-$G35) -> 0 | BV35: =BP35 -> 2194345 | BX35: =$D35*BW35 -> 0 | BY35: =$D35*BW35*(1-$E35) -> 0 | BZ35: =$D35*BW35*(1-$F35) -> 0 | CA35: =$D35*BW35*(1-$G35) -> 0 | CB35: =BV35 -> 2194345 | CD35: =$D35*CC35 -> 0 | CE35: =$D35*CC35*(1-$E35) -> 0 | CF35: =$D35*CC35*(1-$F35) -> 0 | CG35: =$D35*CC35*(1-$G35) -> 0 | CH35: =CB35 -> 2194345 | CJ35: =$D35*CI35 -> 0 | CK35: =$D35*CI35*(1-$E35) -> 0 | CL35: =$D35*CI35*(1-$F35) -> 0 | CM35: =$D35*CI35*(1-$G35) -> 0 | CN35: =CH35 -> 2194345 | CP35: =$D35*CO35 -> 0 | CQ35: =$D35*CO35*(1-$E35) -> 0 | CR35: =$D35*CO35*(1-$F35) -> 0 | CS35: =$D35*CO35*(1-$G35) -> 0 | CT35: =CN35 -> 2194345 | CV35: =$D35*CU35 -> 0 | CW35: =$D35*CU35*(1-$E35) -> 0 | CX35: =$D35*CU35*(1-$F35) -> 0 | CY35: =$D35*CU35*(1-$G35) -> 0 | CZ35: =CT35 -> 2194345 | DB35: =$D35*DA35 -> 0 | DC35: =$D35*DA35*(1-$E35) -> 0 | DD35: =$D35*DA35*(1-$F35) -> 0 | DE35: =$D35*DA35*(1-$G35) -> 0 | DF35: =CZ35 -> 2194345 | DH35: =$D35*DG35 -> 0 | DI35: =$D35*DG35*(1-$E35) -> 0 | DJ35: =$D35*DG35*(1-$F35) -> 0 | DK35: =$D35*DG35*(1-$G35) -> 0 | DL35: =DF35 -> 2194345 | DN35: =$D35*DM35 -> 0 | DO35: =$D35*DM35*(1-$E35) -> 0 | DP35: =$D35*DM35*(1-$F35) -> 0 | DQ35: =$D35*DM35*(1-$G35) -> 0 | DR35: =DL35 -> 2194345 | DT35: =$D35*DS35 -> 0 | DU35: =$D35*DS35*(1-$E35) -> 0 | DV35: =$D35*DS35*(1-$F35) -> 0 | DW35: =$D35*DS35*(1-$G35) -> 0 | DX35: =DR35 -> 2194345 | DZ35: =$D35*DY35 -> 0 | EA35: =$D35*DY35*(1-$E35) -> 0 | EB35: =$D35*DY35*(1-$F35) -> 0 | EC35: =$D35*DY35*(1-$G35) -> 0 | ED35: =DX35 -> 2194345 | EF35: =$D35*EE35 -> 0 | EG35: =$D35*EE35*(1-$E35) -> 0 | EH35: =$D35*EE35*(1-$F35) -> 0 | EI35: =$D35*EE35*(1-$G35) -> 0 | EJ35: =ED35 -> 2194345 | EL35: =$D35*EK35 -> 0 | EM35: =$D35*EK35*(1-$E35) -> 0 | EN35: =$D35*EK35*(1-$F35) -> 0 | EO35: =$D35*EK35*(1-$G35) -> 0 | EP35: =EJ35 -> 2194345 | ER35: =$D35*EQ35 -> 0 | ES35: =$D35*EQ35*(1-$E35) -> 0 | ET35: =$D35*EQ35*(1-$F35) -> 0 | EU35: =$D35*EQ35*(1-$G35) -> 0 | EV35: =EP35 -> 2194345 | EX35: =$D35*EW35 -> 0 | EY35: =$D35*EW35*(1-$E35) -> 0 | EZ35: =$D35*EW35*(1-$F35) -> 0 | FA35: =$D35*EW35*(1-$G35) -> 0
B36: X-FCM-R HL 1 1/4" | C36: 2194348 | D36: 1 | E36: 0.055 | F36: 0.107 | G36: 0.157 | H36: =C36 -> 2194348 | I36: 1.2 | J36: =$D36*I36 -> 1.2 | K36: =$D36*I36*(1-$E36) -> 1.134 | L36: =$D36*I36*(1-$F36) -> 1.0716 | M36: =$D36*I36*(1-$G36) -> 1.0116 | N36: =H36 -> 2194348 | O36: 1.4 | P36: =$D36*O36 -> 1.4 | Q36: =$D36*O36*(1-$E36) -> 1.323 | R36: =$D36*O36*(1-$F36) -> 1.2502 | S36: =$D36*O36*(1-$G36) -> 1.1802 | T36: =N36 -> 2194348 | V36: =$D36*U36 -> 0 | W36: =$D36*U36*(1-$E36) -> 0 | X36: =$D36*U36*(1-$F36) -> 0 | Y36: =$D36*U36*(1-$G36) -> 0 | Z36: =T36 -> 2194348 | AB36: =$D36*AA36 -> 0 | AC36: =$D36*AA36*(1-$E36) -> 0 | AD36: =$D36*AA36*(1-$F36) -> 0 | AE36: =$D36*AA36*(1-$G36) -> 0 | AF36: =Z36 -> 2194348 | AH36: =$D36*AG36 -> 0 | AI36: =$D36*AG36*(1-$E36) -> 0 | AJ36: =$D36*AG36*(1-$F36) -> 0 | AK36: =$D36*AG36*(1-$G36) -> 0 | AL36: =AF36 -> 2194348 | AN36: =$D36*AM36 -> 0 | AO36: =$D36*AM36*(1-$E36) -> 0 | AP36: =$D36*AM36*(1-$F36) -> 0 | AQ36: =$D36*AM36*(1-$G36) -> 0 | AR36: =AL36 -> 2194348 | AT36: =$D36*AS36 -> 0 | AU36: =$D36*AS36*(1-$E36) -> 0 | AV36: =$D36*AS36*(1-$F36) -> 0 | AW36: =$D36*AS36*(1-$G36) -> 0 | AX36: =AR36 -> 2194348 | AZ36: =$D36*AY36 -> 0 | BA36: =$D36*AY36*(1-$E36) -> 0 | BB36: =$D36*AY36*(1-$F36) -> 0 | BC36: =$D36*AY36*(1-$G36) -> 0 | BD36: =AX36 -> 2194348 | BF36: =$D36*BE36 -> 0 | BG36: =$D36*BE36*(1-$E36) -> 0 | BH36: =$D36*BE36*(1-$F36) -> 0 | BI36: =$D36*BE36*(1-$G36) -> 0 | BJ36: =BD36 -> 2194348 | BL36: =$D36*BK36 -> 0 | BM36: =$D36*BK36*(1-$E36) -> 0 | BN36: =$D36*BK36*(1-$F36) -> 0 | BO36: =$D36*BK36*(1-$G36) -> 0 | BP36: =BJ36 -> 2194348 | BR36: =$D36*BQ36 -> 0 | BS36: =$D36*BQ36*(1-$E36) -> 0 | BT36: =$D36*BQ36*(1-$F36) -> 0 | BU36: =$D36*BQ36*(1-$G36) -> 0 | BV36: =BP36 -> 2194348 | BX36: =$D36*BW36 -> 0 | BY36: =$D36*BW36*(1-$E36) -> 0 | BZ36: =$D36*BW36*(1-$F36) -> 0 | CA36: =$D36*BW36*(1-$G36) -> 0 | CB36: =BV36 -> 2194348 | CD36: =$D36*CC36 -> 0 | CE36: =$D36*CC36*(1-$E36) -> 0 | CF36: =$D36*CC36*(1-$F36) -> 0 | CG36: =$D36*CC36*(1-$G36) -> 0 | CH36: =CB36 -> 2194348 | CJ36: =$D36*CI36 -> 0 | CK36: =$D36*CI36*(1-$E36) -> 0 | CL36: =$D36*CI36*(1-$F36) -> 0 | CM36: =$D36*CI36*(1-$G36) -> 0 | CN36: =CH36 -> 2194348 | CP36: =$D36*CO36 -> 0 | CQ36: =$D36*CO36*(1-$E36) -> 0 | CR36: =$D36*CO36*(1-$F36) -> 0 | CS36: =$D36*CO36*(1-$G36) -> 0 | CT36: =CN36 -> 2194348 | CV36: =$D36*CU36 -> 0 | CW36: =$D36*CU36*(1-$E36) -> 0 | CX36: =$D36*CU36*(1-$F36) -> 0 | CY36: =$D36*CU36*(1-$G36) -> 0 | CZ36: =CT36 -> 2194348 | DB36: =$D36*DA36 -> 0 | DC36: =$D36*DA36*(1-$E36) -> 0 | DD36: =$D36*DA36*(1-$F36) -> 0 | DE36: =$D36*DA36*(1-$G36) -> 0 | DF36: =CZ36 -> 2194348 | DH36: =$D36*DG36 -> 0 | DI36: =$D36*DG36*(1-$E36) -> 0 | DJ36: =$D36*DG36*(1-$F36) -> 0 | DK36: =$D36*DG36*(1-$G36) -> 0 | DL36: =DF36 -> 2194348 | DN36: =$D36*DM36 -> 0 | DO36: =$D36*DM36*(1-$E36) -> 0 | DP36: =$D36*DM36*(1-$F36) -> 0 | DQ36: =$D36*DM36*(1-$G36) -> 0 | DR36: =DL36 -> 2194348 | DT36: =$D36*DS36 -> 0 | DU36: =$D36*DS36*(1-$E36) -> 0 | DV36: =$D36*DS36*(1-$F36) -> 0 | DW36: =$D36*DS36*(1-$G36) -> 0 | DX36: =DR36 -> 2194348 | DZ36: =$D36*DY36 -> 0 | EA36: =$D36*DY36*(1-$E36) -> 0 | EB36: =$D36*DY36*(1-$F36) -> 0 | EC36: =$D36*DY36*(1-$G36) -> 0 | ED36: =DX36 -> 2194348 | EF36: =$D36*EE36 -> 0 | EG36: =$D36*EE36*(1-$E36) -> 0 | EH36: =$D36*EE36*(1-$F36) -> 0 | EI36: =$D36*EE36*(1-$G36) -> 0 | EJ36: =ED36 -> 2194348 | EL36: =$D36*EK36 -> 0 | EM36: =$D36*EK36*(1-$E36) -> 0 | EN36: =$D36*EK36*(1-$F36) -> 0 | EO36: =$D36*EK36*(1-$G36) -> 0 | EP36: =EJ36 -> 2194348 | ER36: =$D36*EQ36 -> 0 | ES36: =$D36*EQ36*(1-$E36) -> 0 | ET36: =$D36*EQ36*(1-$F36) -> 0 | EU36: =$D36*EQ36*(1-$G36) -> 0 | EV36: =EP36 -> 2194348 | EX36: =$D36*EW36 -> 0 | EY36: =$D36*EW36*(1-$E36) -> 0 | EZ36: =$D36*EW36*(1-$F36) -> 0 | FA36: =$D36*EW36*(1-$G36) -> 0
B37: X-FCM-R HL 35/40 | C37: 2194347 | D37: 1 | E37: 0.055 | F37: 0.107 | G37: 0.157 | H37: =C37 -> 2194347 | I37: 1.2 | J37: =$D37*I37 -> 1.2 | K37: =$D37*I37*(1-$E37) -> 1.134 | L37: =$D37*I37*(1-$F37) -> 1.0716 | M37: =$D37*I37*(1-$G37) -> 1.0116 | N37: =H37 -> 2194347 | O37: 1.4 | P37: =$D37*O37 -> 1.4 | Q37: =$D37*O37*(1-$E37) -> 1.323 | R37: =$D37*O37*(1-$F37) -> 1.2502 | S37: =$D37*O37*(1-$G37) -> 1.1802 | T37: =N37 -> 2194347 | V37: =$D37*U37 -> 0 | W37: =$D37*U37*(1-$E37) -> 0 | X37: =$D37*U37*(1-$F37) -> 0 | Y37: =$D37*U37*(1-$G37) -> 0 | Z37: =T37 -> 2194347 | AB37: =$D37*AA37 -> 0 | AC37: =$D37*AA37*(1-$E37) -> 0 | AD37: =$D37*AA37*(1-$F37) -> 0 | AE37: =$D37*AA37*(1-$G37) -> 0 | AF37: =Z37 -> 2194347 | AH37: =$D37*AG37 -> 0 | AI37: =$D37*AG37*(1-$E37) -> 0 | AJ37: =$D37*AG37*(1-$F37) -> 0 | AK37: =$D37*AG37*(1-$G37) -> 0 | AL37: =AF37 -> 2194347 | AN37: =$D37*AM37 -> 0 | AO37: =$D37*AM37*(1-$E37) -> 0 | AP37: =$D37*AM37*(1-$F37) -> 0 | AQ37: =$D37*AM37*(1-$G37) -> 0 | AR37: =AL37 -> 2194347 | AT37: =$D37*AS37 -> 0 | AU37: =$D37*AS37*(1-$E37) -> 0 | AV37: =$D37*AS37*(1-$F37) -> 0 | AW37: =$D37*AS37*(1-$G37) -> 0 | AX37: =AR37 -> 2194347 | AZ37: =$D37*AY37 -> 0 | BA37: =$D37*AY37*(1-$E37) -> 0 | BB37: =$D37*AY37*(1-$F37) -> 0 | BC37: =$D37*AY37*(1-$G37) -> 0 | BD37: =AX37 -> 2194347 | BF37: =$D37*BE37 -> 0 | BG37: =$D37*BE37*(1-$E37) -> 0 | BH37: =$D37*BE37*(1-$F37) -> 0 | BI37: =$D37*BE37*(1-$G37) -> 0 | BJ37: =BD37 -> 2194347 | BL37: =$D37*BK37 -> 0 | BM37: =$D37*BK37*(1-$E37) -> 0 | BN37: =$D37*BK37*(1-$F37) -> 0 | BO37: =$D37*BK37*(1-$G37) -> 0 | BP37: =BJ37 -> 2194347 | BR37: =$D37*BQ37 -> 0 | BS37: =$D37*BQ37*(1-$E37) -> 0 | BT37: =$D37*BQ37*(1-$F37) -> 0 | BU37: =$D37*BQ37*(1-$G37) -> 0 | BV37: =BP37 -> 2194347 | BX37: =$D37*BW37 -> 0 | BY37: =$D37*BW37*(1-$E37) -> 0 | BZ37: =$D37*BW37*(1-$F37) -> 0 | CA37: =$D37*BW37*(1-$G37) -> 0 | CB37: =BV37 -> 2194347 | CD37: =$D37*CC37 -> 0 | CE37: =$D37*CC37*(1-$E37) -> 0 | CF37: =$D37*CC37*(1-$F37) -> 0 | CG37: =$D37*CC37*(1-$G37) -> 0 | CH37: =CB37 -> 2194347 | CJ37: =$D37*CI37 -> 0 | CK37: =$D37*CI37*(1-$E37) -> 0 | CL37: =$D37*CI37*(1-$F37) -> 0 | CM37: =$D37*CI37*(1-$G37) -> 0 | CN37: =CH37 -> 2194347 | CP37: =$D37*CO37 -> 0 | CQ37: =$D37*CO37*(1-$E37) -> 0 | CR37: =$D37*CO37*(1-$F37) -> 0 | CS37: =$D37*CO37*(1-$G37) -> 0 | CT37: =CN37 -> 2194347 | CV37: =$D37*CU37 -> 0 | CW37: =$D37*CU37*(1-$E37) -> 0 | CX37: =$D37*CU37*(1-$F37) -> 0 | CY37: =$D37*CU37*(1-$G37) -> 0 | CZ37: =CT37 -> 2194347 | DB37: =$D37*DA37 -> 0 | DC37: =$D37*DA37*(1-$E37) -> 0 | DD37: =$D37*DA37*(1-$F37) -> 0 | DE37: =$D37*DA37*(1-$G37) -> 0 | DF37: =CZ37 -> 2194347 | DH37: =$D37*DG37 -> 0 | DI37: =$D37*DG37*(1-$E37) -> 0 | DJ37: =$D37*DG37*(1-$F37) -> 0 | DK37: =$D37*DG37*(1-$G37) -> 0 | DL37: =DF37 -> 2194347 | DN37: =$D37*DM37 -> 0 | DO37: =$D37*DM37*(1-$E37) -> 0 | DP37: =$D37*DM37*(1-$F37) -> 0 | DQ37: =$D37*DM37*(1-$G37) -> 0 | DR37: =DL37 -> 2194347 | DT37: =$D37*DS37 -> 0 | DU37: =$D37*DS37*(1-$E37) -> 0 | DV37: =$D37*DS37*(1-$F37) -> 0 | DW37: =$D37*DS37*(1-$G37) -> 0 | DX37: =DR37 -> 2194347 | DZ37: =$D37*DY37 -> 0 | EA37: =$D37*DY37*(1-$E37) -> 0 | EB37: =$D37*DY37*(1-$F37) -> 0 | EC37: =$D37*DY37*(1-$G37) -> 0 | ED37: =DX37 -> 2194347 | EF37: =$D37*EE37 -> 0 | EG37: =$D37*EE37*(1-$E37) -> 0 | EH37: =$D37*EE37*(1-$F37) -> 0 | EI37: =$D37*EE37*(1-$G37) -> 0 | EJ37: =ED37 -> 2194347 | EL37: =$D37*EK37 -> 0 | EM37: =$D37*EK37*(1-$E37) -> 0 | EN37: =$D37*EK37*(1-$F37) -> 0 | EO37: =$D37*EK37*(1-$G37) -> 0 | EP37: =EJ37 -> 2194347 | ER37: =$D37*EQ37 -> 0 | ES37: =$D37*EQ37*(1-$E37) -> 0 | ET37: =$D37*EQ37*(1-$F37) -> 0 | EU37: =$D37*EQ37*(1-$G37) -> 0 | EV37: =EP37 -> 2194347 | EX37: =$D37*EW37 -> 0 | EY37: =$D37*EW37*(1-$E37) -> 0 | EZ37: =$D37*EW37*(1-$F37) -> 0 | FA37: =$D37*EW37*(1-$G37) -> 0
B38: X-FCM-R HL 45/50 | C38: 2194348 | D38: 1 | E38: 0.055 | F38: 0.107 | G38: 0.157 | H38: =C38 -> 2194348 | I38: 1.2 | J38: =$D38*I38 -> 1.2 | K38: =$D38*I38*(1-$E38) -> 1.134 | L38: =$D38*I38*(1-$F38) -> 1.0716 | M38: =$D38*I38*(1-$G38) -> 1.0116 | N38: =H38 -> 2194348 | O38: 1.4 | P38: =$D38*O38 -> 1.4 | Q38: =$D38*O38*(1-$E38) -> 1.323 | R38: =$D38*O38*(1-$F38) -> 1.2502 | S38: =$D38*O38*(1-$G38) -> 1.1802 | T38: =N38 -> 2194348 | V38: =$D38*U38 -> 0 | W38: =$D38*U38*(1-$E38) -> 0 | X38: =$D38*U38*(1-$F38) -> 0 | Y38: =$D38*U38*(1-$G38) -> 0 | Z38: =T38 -> 2194348 | AB38: =$D38*AA38 -> 0 | AC38: =$D38*AA38*(1-$E38) -> 0 | AD38: =$D38*AA38*(1-$F38) -> 0 | AE38: =$D38*AA38*(1-$G38) -> 0 | AF38: =Z38 -> 2194348 | AH38: =$D38*AG38 -> 0 | AI38: =$D38*AG38*(1-$E38) -> 0 | AJ38: =$D38*AG38*(1-$F38) -> 0 | AK38: =$D38*AG38*(1-$G38) -> 0 | AL38: =AF38 -> 2194348 | AN38: =$D38*AM38 -> 0 | AO38: =$D38*AM38*(1-$E38) -> 0 | AP38: =$D38*AM38*(1-$F38) -> 0 | AQ38: =$D38*AM38*(1-$G38) -> 0 | AR38: =AL38 -> 2194348 | AT38: =$D38*AS38 -> 0 | AU38: =$D38*AS38*(1-$E38) -> 0 | AV38: =$D38*AS38*(1-$F38) -> 0 | AW38: =$D38*AS38*(1-$G38) -> 0 | AX38: =AR38 -> 2194348 | AZ38: =$D38*AY38 -> 0 | BA38: =$D38*AY38*(1-$E38) -> 0 | BB38: =$D38*AY38*(1-$F38) -> 0 | BC38: =$D38*AY38*(1-$G38) -> 0 | BD38: =AX38 -> 2194348 | BF38: =$D38*BE38 -> 0 | BG38: =$D38*BE38*(1-$E38) -> 0 | BH38: =$D38*BE38*(1-$F38) -> 0 | BI38: =$D38*BE38*(1-$G38) -> 0 | BJ38: =BD38 -> 2194348 | BL38: =$D38*BK38 -> 0 | BM38: =$D38*BK38*(1-$E38) -> 0 | BN38: =$D38*BK38*(1-$F38) -> 0 | BO38: =$D38*BK38*(1-$G38) -> 0 | BP38: =BJ38 -> 2194348 | BR38: =$D38*BQ38 -> 0 | BS38: =$D38*BQ38*(1-$E38) -> 0 | BT38: =$D38*BQ38*(1-$F38) -> 0 | BU38: =$D38*BQ38*(1-$G38) -> 0 | BV38: =BP38 -> 2194348 | BX38: =$D38*BW38 -> 0 | BY38: =$D38*BW38*(1-$E38) -> 0 | BZ38: =$D38*BW38*(1-$F38) -> 0 | CA38: =$D38*BW38*(1-$G38) -> 0 | CB38: =BV38 -> 2194348 | CD38: =$D38*CC38 -> 0 | CE38: =$D38*CC38*(1-$E38) -> 0 | CF38: =$D38*CC38*(1-$F38) -> 0 | CG38: =$D38*CC38*(1-$G38) -> 0 | CH38: =CB38 -> 2194348 | CJ38: =$D38*CI38 -> 0 | CK38: =$D38*CI38*(1-$E38) -> 0 | CL38: =$D38*CI38*(1-$F38) -> 0 | CM38: =$D38*CI38*(1-$G38) -> 0 | CN38: =CH38 -> 2194348 | CP38: =$D38*CO38 -> 0 | CQ38: =$D38*CO38*(1-$E38) -> 0 | CR38: =$D38*CO38*(1-$F38) -> 0 | CS38: =$D38*CO38*(1-$G38) -> 0 | CT38: =CN38 -> 2194348 | CV38: =$D38*CU38 -> 0 | CW38: =$D38*CU38*(1-$E38) -> 0 | CX38: =$D38*CU38*(1-$F38) -> 0 | CY38: =$D38*CU38*(1-$G38) -> 0 | CZ38: =CT38 -> 2194348 | DB38: =$D38*DA38 -> 0 | DC38: =$D38*DA38*(1-$E38) -> 0 | DD38: =$D38*DA38*(1-$F38) -> 0 | DE38: =$D38*DA38*(1-$G38) -> 0 | DF38: =CZ38 -> 2194348 | DH38: =$D38*DG38 -> 0 | DI38: =$D38*DG38*(1-$E38) -> 0 | DJ38: =$D38*DG38*(1-$F38) -> 0 | DK38: =$D38*DG38*(1-$G38) -> 0 | DL38: =DF38 -> 2194348 | DN38: =$D38*DM38 -> 0 | DO38: =$D38*DM38*(1-$E38) -> 0 | DP38: =$D38*DM38*(1-$F38) -> 0 | DQ38: =$D38*DM38*(1-$G38) -> 0 | DR38: =DL38 -> 2194348 | DT38: =$D38*DS38 -> 0 | DU38: =$D38*DS38*(1-$E38) -> 0 | DV38: =$D38*DS38*(1-$F38) -> 0 | DW38: =$D38*DS38*(1-$G38) -> 0 | DX38: =DR38 -> 2194348 | DZ38: =$D38*DY38 -> 0 | EA38: =$D38*DY38*(1-$E38) -> 0 | EB38: =$D38*DY38*(1-$F38) -> 0 | EC38: =$D38*DY38*(1-$G38) -> 0 | ED38: =DX38 -> 2194348 | EF38: =$D38*EE38 -> 0 | EG38: =$D38*EE38*(1-$E38) -> 0 | EH38: =$D38*EE38*(1-$F38) -> 0 | EI38: =$D38*EE38*(1-$G38) -> 0 | EJ38: =ED38 -> 2194348 | EL38: =$D38*EK38 -> 0 | EM38: =$D38*EK38*(1-$E38) -> 0 | EN38: =$D38*EK38*(1-$F38) -> 0 | EO38: =$D38*EK38*(1-$G38) -> 0 | EP38: =EJ38 -> 2194348 | ER38: =$D38*EQ38 -> 0 | ES38: =$D38*EQ38*(1-$E38) -> 0 | ET38: =$D38*EQ38*(1-$F38) -> 0 | EU38: =$D38*EQ38*(1-$G38) -> 0 | EV38: =EP38 -> 2194348 | EX38: =$D38*EW38 -> 0 | EY38: =$D38*EW38*(1-$E38) -> 0 | EZ38: =$D38*EW38*(1-$F38) -> 0 | FA38: =$D38*EW38*(1-$G38) -> 0
B39: X-SEA stud extension | C39: 432274 | D39: 1 | E39: 0.055 | F39: 0.107 | G39: 0.157 | H39: =C39 -> 432274 | I39: 1.2 | J39: =$D39*I39 -> 1.2 | K39: =$D39*I39*(1-$E39) -> 1.134 | L39: =$D39*I39*(1-$F39) -> 1.0716 | M39: =$D39*I39*(1-$G39) -> 1.0116 | N39: =H39 -> 432274 | O39: 1.4 | P39: =$D39*O39 -> 1.4 | Q39: =$D39*O39*(1-$E39) -> 1.323 | R39: =$D39*O39*(1-$F39) -> 1.2502 | S39: =$D39*O39*(1-$G39) -> 1.1802 | T39: =N39 -> 432274 | V39: =$D39*U39 -> 0 | W39: =$D39*U39*(1-$E39) -> 0 | X39: =$D39*U39*(1-$F39) -> 0 | Y39: =$D39*U39*(1-$G39) -> 0 | Z39: =T39 -> 432274 | AB39: =$D39*AA39 -> 0 | AC39: =$D39*AA39*(1-$E39) -> 0 | AD39: =$D39*AA39*(1-$F39) -> 0 | AE39: =$D39*AA39*(1-$G39) -> 0 | AF39: =Z39 -> 432274 | AH39: =$D39*AG39 -> 0 | AI39: =$D39*AG39*(1-$E39) -> 0 | AJ39: =$D39*AG39*(1-$F39) -> 0 | AK39: =$D39*AG39*(1-$G39) -> 0 | AL39: =AF39 -> 432274 | AN39: =$D39*AM39 -> 0 | AO39: =$D39*AM39*(1-$E39) -> 0 | AP39: =$D39*AM39*(1-$F39) -> 0 | AQ39: =$D39*AM39*(1-$G39) -> 0 | AR39: =AL39 -> 432274 | AT39: =$D39*AS39 -> 0 | AU39: =$D39*AS39*(1-$E39) -> 0 | AV39: =$D39*AS39*(1-$F39) -> 0 | AW39: =$D39*AS39*(1-$G39) -> 0 | AX39: =AR39 -> 432274 | AZ39: =$D39*AY39 -> 0 | BA39: =$D39*AY39*(1-$E39) -> 0 | BB39: =$D39*AY39*(1-$F39) -> 0 | BC39: =$D39*AY39*(1-$G39) -> 0 | BD39: =AX39 -> 432274 | BF39: =$D39*BE39 -> 0 | BG39: =$D39*BE39*(1-$E39) -> 0 | BH39: =$D39*BE39*(1-$F39) -> 0 | BI39: =$D39*BE39*(1-$G39) -> 0 | BJ39: =BD39 -> 432274 | BL39: =$D39*BK39 -> 0 | BM39: =$D39*BK39*(1-$E39) -> 0 | BN39: =$D39*BK39*(1-$F39) -> 0 | BO39: =$D39*BK39*(1-$G39) -> 0 | BP39: =BJ39 -> 432274 | BR39: =$D39*BQ39 -> 0 | BS39: =$D39*BQ39*(1-$E39) -> 0 | BT39: =$D39*BQ39*(1-$F39) -> 0 | BU39: =$D39*BQ39*(1-$G39) -> 0 | BV39: =BP39 -> 432274 | BX39: =$D39*BW39 -> 0 | BY39: =$D39*BW39*(1-$E39) -> 0 | BZ39: =$D39*BW39*(1-$F39) -> 0 | CA39: =$D39*BW39*(1-$G39) -> 0 | CB39: =BV39 -> 432274 | CD39: =$D39*CC39 -> 0 | CE39: =$D39*CC39*(1-$E39) -> 0 | CF39: =$D39*CC39*(1-$F39) -> 0 | CG39: =$D39*CC39*(1-$G39) -> 0 | CH39: =CB39 -> 432274 | CJ39: =$D39*CI39 -> 0 | CK39: =$D39*CI39*(1-$E39) -> 0 | CL39: =$D39*CI39*(1-$F39) -> 0 | CM39: =$D39*CI39*(1-$G39) -> 0 | CN39: =CH39 -> 432274 | CP39: =$D39*CO39 -> 0 | CQ39: =$D39*CO39*(1-$E39) -> 0 | CR39: =$D39*CO39*(1-$F39) -> 0 | CS39: =$D39*CO39*(1-$G39) -> 0 | CT39: =CN39 -> 432274 | CV39: =$D39*CU39 -> 0 | CW39: =$D39*CU39*(1-$E39) -> 0 | CX39: =$D39*CU39*(1-$F39) -> 0 | CY39: =$D39*CU39*(1-$G39) -> 0 | CZ39: =CT39 -> 432274 | DB39: =$D39*DA39 -> 0 | DC39: =$D39*DA39*(1-$E39) -> 0 | DD39: =$D39*DA39*(1-$F39) -> 0 | DE39: =$D39*DA39*(1-$G39) -> 0 | DF39: =CZ39 -> 432274 | DH39: =$D39*DG39 -> 0 | DI39: =$D39*DG39*(1-$E39) -> 0 | DJ39: =$D39*DG39*(1-$F39) -> 0 | DK39: =$D39*DG39*(1-$G39) -> 0 | DL39: =DF39 -> 432274 | DN39: =$D39*DM39 -> 0 | DO39: =$D39*DM39*(1-$E39) -> 0 | DP39: =$D39*DM39*(1-$F39) -> 0 | DQ39: =$D39*DM39*(1-$G39) -> 0 | DR39: =DL39 -> 432274 | DT39: =$D39*DS39 -> 0 | DU39: =$D39*DS39*(1-$E39) -> 0 | DV39: =$D39*DS39*(1-$F39) -> 0 | DW39: =$D39*DS39*(1-$G39) -> 0 | DX39: =DR39 -> 432274 | DZ39: =$D39*DY39 -> 0 | EA39: =$D39*DY39*(1-$E39) -> 0 | EB39: =$D39*DY39*(1-$F39) -> 0 | EC39: =$D39*DY39*(1-$G39) -> 0 | ED39: =DX39 -> 432274 | EF39: =$D39*EE39 -> 0 | EG39: =$D39*EE39*(1-$E39) -> 0 | EH39: =$D39*EE39*(1-$F39) -> 0 | EI39: =$D39*EE39*(1-$G39) -> 0 | EJ39: =ED39 -> 432274 | EL39: =$D39*EK39 -> 0 | EM39: =$D39*EK39*(1-$E39) -> 0 | EN39: =$D39*EK39*(1-$F39) -> 0 | EO39: =$D39*EK39*(1-$G39) -> 0 | EP39: =EJ39 -> 432274 | ER39: =$D39*EQ39 -> 0 | ES39: =$D39*EQ39*(1-$E39) -> 0 | ET39: =$D39*EQ39*(1-$F39) -> 0 | EU39: =$D39*EQ39*(1-$G39) -> 0 | EV39: =EP39 -> 432274 | EX39: =$D39*EW39 -> 0 | EY39: =$D39*EW39*(1-$E39) -> 0 | EZ39: =$D39*EW39*(1-$F39) -> 0 | FA39: =$D39*EW39*(1-$G39) -> 0
A40: FCS Grating Clips | B40: X-FCS-R-3-25 31/35 | C40: 2198296 | D40: 1 | E40: 0.055 | F40: 0.107 | G40: 0.157 | H40: =C40 -> 2198296 | I40: 1.2 | J40: =$D40*I40 -> 1.2 | K40: =$D40*I40*(1-$E40) -> 1.134 | L40: =$D40*I40*(1-$F40) -> 1.0716 | M40: =$D40*I40*(1-$G40) -> 1.0116 | N40: =H40 -> 2198296 | O40: 1.4 | P40: =$D40*O40 -> 1.4 | Q40: =$D40*O40*(1-$E40) -> 1.323 | R40: =$D40*O40*(1-$F40) -> 1.2502 | S40: =$D40*O40*(1-$G40) -> 1.1802 | T40: =N40 -> 2198296 | V40: =$D40*U40 -> 0 | W40: =$D40*U40*(1-$E40) -> 0 | X40: =$D40*U40*(1-$F40) -> 0 | Y40: =$D40*U40*(1-$G40) -> 0 | Z40: =T40 -> 2198296 | AB40: =$D40*AA40 -> 0 | AC40: =$D40*AA40*(1-$E40) -> 0 | AD40: =$D40*AA40*(1-$F40) -> 0 | AE40: =$D40*AA40*(1-$G40) -> 0 | AF40: =Z40 -> 2198296 | AH40: =$D40*AG40 -> 0 | AI40: =$D40*AG40*(1-$E40) -> 0 | AJ40: =$D40*AG40*(1-$F40) -> 0 | AK40: =$D40*AG40*(1-$G40) -> 0 | AL40: =AF40 -> 2198296 | AN40: =$D40*AM40 -> 0 | AO40: =$D40*AM40*(1-$E40) -> 0 | AP40: =$D40*AM40*(1-$F40) -> 0 | AQ40: =$D40*AM40*(1-$G40) -> 0 | AR40: =AL40 -> 2198296 | AT40: =$D40*AS40 -> 0 | AU40: =$D40*AS40*(1-$E40) -> 0 | AV40: =$D40*AS40*(1-$F40) -> 0 | AW40: =$D40*AS40*(1-$G40) -> 0 | AX40: =AR40 -> 2198296 | AZ40: =$D40*AY40 -> 0 | BA40: =$D40*AY40*(1-$E40) -> 0 | BB40: =$D40*AY40*(1-$F40) -> 0 | BC40: =$D40*AY40*(1-$G40) -> 0 | BD40: =AX40 -> 2198296 | BF40: =$D40*BE40 -> 0 | BG40: =$D40*BE40*(1-$E40) -> 0 | BH40: =$D40*BE40*(1-$F40) -> 0 | BI40: =$D40*BE40*(1-$G40) -> 0 | BJ40: =BD40 -> 2198296 | BL40: =$D40*BK40 -> 0 | BM40: =$D40*BK40*(1-$E40) -> 0 | BN40: =$D40*BK40*(1-$F40) -> 0 | BO40: =$D40*BK40*(1-$G40) -> 0 | BP40: =BJ40 -> 2198296 | BR40: =$D40*BQ40 -> 0 | BS40: =$D40*BQ40*(1-$E40) -> 0 | BT40: =$D40*BQ40*(1-$F40) -> 0 | BU40: =$D40*BQ40*(1-$G40) -> 0 | BV40: =BP40 -> 2198296 | BX40: =$D40*BW40 -> 0 | BY40: =$D40*BW40*(1-$E40) -> 0 | BZ40: =$D40*BW40*(1-$F40) -> 0 | CA40: =$D40*BW40*(1-$G40) -> 0 | CB40: =BV40 -> 2198296 | CD40: =$D40*CC40 -> 0 | CE40: =$D40*CC40*(1-$E40) -> 0 | CF40: =$D40*CC40*(1-$F40) -> 0 | CG40: =$D40*CC40*(1-$G40) -> 0 | CH40: =CB40 -> 2198296 | CJ40: =$D40*CI40 -> 0 | CK40: =$D40*CI40*(1-$E40) -> 0 | CL40: =$D40*CI40*(1-$F40) -> 0 | CM40: =$D40*CI40*(1-$G40) -> 0 | CN40: =CH40 -> 2198296 | CP40: =$D40*CO40 -> 0 | CQ40: =$D40*CO40*(1-$E40) -> 0 | CR40: =$D40*CO40*(1-$F40) -> 0 | CS40: =$D40*CO40*(1-$G40) -> 0 | CT40: =CN40 -> 2198296 | CV40: =$D40*CU40 -> 0 | CW40: =$D40*CU40*(1-$E40) -> 0 | CX40: =$D40*CU40*(1-$F40) -> 0 | CY40: =$D40*CU40*(1-$G40) -> 0 | CZ40: =CT40 -> 2198296 | DB40: =$D40*DA40 -> 0 | DC40: =$D40*DA40*(1-$E40) -> 0 | DD40: =$D40*DA40*(1-$F40) -> 0 | DE40: =$D40*DA40*(1-$G40) -> 0 | DF40: =CZ40 -> 2198296 | DH40: =$D40*DG40 -> 0 | DI40: =$D40*DG40*(1-$E40) -> 0 | DJ40: =$D40*DG40*(1-$F40) -> 0 | DK40: =$D40*DG40*(1-$G40) -> 0 | DL40: =DF40 -> 2198296 | DN40: =$D40*DM40 -> 0 | DO40: =$D40*DM40*(1-$E40) -> 0 | DP40: =$D40*DM40*(1-$F40) -> 0 | DQ40: =$D40*DM40*(1-$G40) -> 0 | DR40: =DL40 -> 2198296 | DT40: =$D40*DS40 -> 0 | DU40: =$D40*DS40*(1-$E40) -> 0 | DV40: =$D40*DS40*(1-$F40) -> 0 | DW40: =$D40*DS40*(1-$G40) -> 0 | DX40: =DR40 -> 2198296 | DZ40: =$D40*DY40 -> 0 | EA40: =$D40*DY40*(1-$E40) -> 0 | EB40: =$D40*DY40*(1-$F40) -> 0 | EC40: =$D40*DY40*(1-$G40) -> 0 | ED40: =DX40 -> 2198296 | EF40: =$D40*EE40 -> 0 | EG40: =$D40*EE40*(1-$E40) -> 0 | EH40: =$D40*EE40*(1-$F40) -> 0 | EI40: =$D40*EE40*(1-$G40) -> 0 | EJ40: =ED40 -> 2198296 | EL40: =$D40*EK40 -> 0 | EM40: =$D40*EK40*(1-$E40) -> 0 | EN40: =$D40*EK40*(1-$F40) -> 0 | EO40: =$D40*EK40*(1-$G40) -> 0 | EP40: =EJ40 -> 2198296 | ER40: =$D40*EQ40 -> 0 | ES40: =$D40*EQ40*(1-$E40) -> 0 | ET40: =$D40*EQ40*(1-$F40) -> 0 | EU40: =$D40*EQ40*(1-$G40) -> 0 | EV40: =EP40 -> 2198296 | EX40: =$D40*EW40 -> 0 | EY40: =$D40*EW40*(1-$E40) -> 0 | EZ40: =$D40*EW40*(1-$F40) -> 0 | FA40: =$D40*EW40*(1-$G40) -> 0
B41: X-FCS-R-3-25 37/41 | C41: 2198297 | D41: 1 | E41: 0.055 | F41: 0.107 | G41: 0.157 | H41: =C41 -> 2198297 | I41: 1.2 | J41: =$D41*I41 -> 1.2 | K41: =$D41*I41*(1-$E41) -> 1.134 | L41: =$D41*I41*(1-$F41) -> 1.0716 | M41: =$D41*I41*(1-$G41) -> 1.0116 | N41: =H41 -> 2198297 | O41: 1.4 | P41: =$D41*O41 -> 1.4 | Q41: =$D41*O41*(1-$E41) -> 1.323 | R41: =$D41*O41*(1-$F41) -> 1.2502 | S41: =$D41*O41*(1-$G41) -> 1.1802 | T41: =N41 -> 2198297 | V41: =$D41*U41 -> 0 | W41: =$D41*U41*(1-$E41) -> 0 | X41: =$D41*U41*(1-$F41) -> 0 | Y41: =$D41*U41*(1-$G41) -> 0 | Z41: =T41 -> 2198297 | AB41: =$D41*AA41 -> 0 | AC41: =$D41*AA41*(1-$E41) -> 0 | AD41: =$D41*AA41*(1-$F41) -> 0 | AE41: =$D41*AA41*(1-$G41) -> 0 | AF41: =Z41 -> 2198297 | AH41: =$D41*AG41 -> 0 | AI41: =$D41*AG41*(1-$E41) -> 0 | AJ41: =$D41*AG41*(1-$F41) -> 0 | AK41: =$D41*AG41*(1-$G41) -> 0 | AL41: =AF41 -> 2198297 | AN41: =$D41*AM41 -> 0 | AO41: =$D41*AM41*(1-$E41) -> 0 | AP41: =$D41*AM41*(1-$F41) -> 0 | AQ41: =$D41*AM41*(1-$G41) -> 0 | AR41: =AL41 -> 2198297 | AT41: =$D41*AS41 -> 0 | AU41: =$D41*AS41*(1-$E41) -> 0 | AV41: =$D41*AS41*(1-$F41) -> 0 | AW41: =$D41*AS41*(1-$G41) -> 0 | AX41: =AR41 -> 2198297 | AZ41: =$D41*AY41 -> 0 | BA41: =$D41*AY41*(1-$E41) -> 0 | BB41: =$D41*AY41*(1-$F41) -> 0 | BC41: =$D41*AY41*(1-$G41) -> 0 | BD41: =AX41 -> 2198297 | BF41: =$D41*BE41 -> 0 | BG41: =$D41*BE41*(1-$E41) -> 0 | BH41: =$D41*BE41*(1-$F41) -> 0 | BI41: =$D41*BE41*(1-$G41) -> 0 | BJ41: =BD41 -> 2198297 | BL41: =$D41*BK41 -> 0 | BM41: =$D41*BK41*(1-$E41) -> 0 | BN41: =$D41*BK41*(1-$F41) -> 0 | BO41: =$D41*BK41*(1-$G41) -> 0 | BP41: =BJ41 -> 2198297 | BR41: =$D41*BQ41 -> 0 | BS41: =$D41*BQ41*(1-$E41) -> 0 | BT41: =$D41*BQ41*(1-$F41) -> 0 | BU41: =$D41*BQ41*(1-$G41) -> 0 | BV41: =BP41 -> 2198297 | BX41: =$D41*BW41 -> 0 | BY41: =$D41*BW41*(1-$E41) -> 0 | BZ41: =$D41*BW41*(1-$F41) -> 0 | CA41: =$D41*BW41*(1-$G41) -> 0 | CB41: =BV41 -> 2198297 | CD41: =$D41*CC41 -> 0 | CE41: =$D41*CC41*(1-$E41) -> 0 | CF41: =$D41*CC41*(1-$F41) -> 0 | CG41: =$D41*CC41*(1-$G41) -> 0 | CH41: =CB41 -> 2198297 | CJ41: =$D41*CI41 -> 0 | CK41: =$D41*CI41*(1-$E41) -> 0 | CL41: =$D41*CI41*(1-$F41) -> 0 | CM41: =$D41*CI41*(1-$G41) -> 0 | CN41: =CH41 -> 2198297 | CP41: =$D41*CO41 -> 0 | CQ41: =$D41*CO41*(1-$E41) -> 0 | CR41: =$D41*CO41*(1-$F41) -> 0 | CS41: =$D41*CO41*(1-$G41) -> 0 | CT41: =CN41 -> 2198297 | CV41: =$D41*CU41 -> 0 | CW41: =$D41*CU41*(1-$E41) -> 0 | CX41: =$D41*CU41*(1-$F41) -> 0 | CY41: =$D41*CU41*(1-$G41) -> 0 | CZ41: =CT41 -> 2198297 | DB41: =$D41*DA41 -> 0 | DC41: =$D41*DA41*(1-$E41) -> 0 | DD41: =$D41*DA41*(1-$F41) -> 0 | DE41: =$D41*DA41*(1-$G41) -> 0 | DF41: =CZ41 -> 2198297 | DH41: =$D41*DG41 -> 0 | DI41: =$D41*DG41*(1-$E41) -> 0 | DJ41: =$D41*DG41*(1-$F41) -> 0 | DK41: =$D41*DG41*(1-$G41) -> 0 | DL41: =DF41 -> 2198297 | DN41: =$D41*DM41 -> 0 | DO41: =$D41*DM41*(1-$E41) -> 0 | DP41: =$D41*DM41*(1-$F41) -> 0 | DQ41: =$D41*DM41*(1-$G41) -> 0 | DR41: =DL41 -> 2198297 | DT41: =$D41*DS41 -> 0 | DU41: =$D41*DS41*(1-$E41) -> 0 | DV41: =$D41*DS41*(1-$F41) -> 0 | DW41: =$D41*DS41*(1-$G41) -> 0 | DX41: =DR41 -> 2198297 | DZ41: =$D41*DY41 -> 0 | EA41: =$D41*DY41*(1-$E41) -> 0 | EB41: =$D41*DY41*(1-$F41) -> 0 | EC41: =$D41*DY41*(1-$G41) -> 0 | ED41: =DX41 -> 2198297 | EF41: =$D41*EE41 -> 0 | EG41: =$D41*EE41*(1-$E41) -> 0 | EH41: =$D41*EE41*(1-$F41) -> 0 | EI41: =$D41*EE41*(1-$G41) -> 0 | EJ41: =ED41 -> 2198297 | EL41: =$D41*EK41 -> 0 | EM41: =$D41*EK41*(1-$E41) -> 0 | EN41: =$D41*EK41*(1-$F41) -> 0 | EO41: =$D41*EK41*(1-$G41) -> 0 | EP41: =EJ41 -> 2198297 | ER41: =$D41*EQ41 -> 0 | ES41: =$D41*EQ41*(1-$E41) -> 0 | ET41: =$D41*EQ41*(1-$F41) -> 0 | EU41: =$D41*EQ41*(1-$G41) -> 0 | EV41: =EP41 -> 2198297 | EX41: =$D41*EW41 -> 0 | EY41: =$D41*EW41*(1-$E41) -> 0 | EZ41: =$D41*EW41*(1-$F41) -> 0 | FA41: =$D41*EW41*(1-$G41) -> 0
B42: X-FCS-R-4-25 31/35 | C42: 2198298 | D42: 1 | E42: 0.055 | F42: 0.107 | G42: 0.157 | H42: =C42 -> 2198298 | I42: 1.2 | J42: =$D42*I42 -> 1.2 | K42: =$D42*I42*(1-$E42) -> 1.134 | L42: =$D42*I42*(1-$F42) -> 1.0716 | M42: =$D42*I42*(1-$G42) -> 1.0116 | N42: =H42 -> 2198298 | O42: 1.4 | P42: =$D42*O42 -> 1.4 | Q42: =$D42*O42*(1-$E42) -> 1.323 | R42: =$D42*O42*(1-$F42) -> 1.2502 | S42: =$D42*O42*(1-$G42) -> 1.1802 | T42: =N42 -> 2198298 | V42: =$D42*U42 -> 0 | W42: =$D42*U42*(1-$E42) -> 0 | X42: =$D42*U42*(1-$F42) -> 0 | Y42: =$D42*U42*(1-$G42) -> 0 | Z42: =T42 -> 2198298 | AB42: =$D42*AA42 -> 0 | AC42: =$D42*AA42*(1-$E42) -> 0 | AD42: =$D42*AA42*(1-$F42) -> 0 | AE42: =$D42*AA42*(1-$G42) -> 0 | AF42: =Z42 -> 2198298 | AH42: =$D42*AG42 -> 0 | AI42: =$D42*AG42*(1-$E42) -> 0 | AJ42: =$D42*AG42*(1-$F42) -> 0 | AK42: =$D42*AG42*(1-$G42) -> 0 | AL42: =AF42 -> 2198298 | AN42: =$D42*AM42 -> 0 | AO42: =$D42*AM42*(1-$E42) -> 0 | AP42: =$D42*AM42*(1-$F42) -> 0 | AQ42: =$D42*AM42*(1-$G42) -> 0 | AR42: =AL42 -> 2198298 | AT42: =$D42*AS42 -> 0 | AU42: =$D42*AS42*(1-$E42) -> 0 | AV42: =$D42*AS42*(1-$F42) -> 0 | AW42: =$D42*AS42*(1-$G42) -> 0 | AX42: =AR42 -> 2198298 | AZ42: =$D42*AY42 -> 0 | BA42: =$D42*AY42*(1-$E42) -> 0 | BB42: =$D42*AY42*(1-$F42) -> 0 | BC42: =$D42*AY42*(1-$G42) -> 0 | BD42: =AX42 -> 2198298 | BF42: =$D42*BE42 -> 0 | BG42: =$D42*BE42*(1-$E42) -> 0 | BH42: =$D42*BE42*(1-$F42) -> 0 | BI42: =$D42*BE42*(1-$G42) -> 0 | BJ42: =BD42 -> 2198298 | BL42: =$D42*BK42 -> 0 | BM42: =$D42*BK42*(1-$E42) -> 0 | BN42: =$D42*BK42*(1-$F42) -> 0 | BO42: =$D42*BK42*(1-$G42) -> 0 | BP42: =BJ42 -> 2198298 | BR42: =$D42*BQ42 -> 0 | BS42: =$D42*BQ42*(1-$E42) -> 0 | BT42: =$D42*BQ42*(1-$F42) -> 0 | BU42: =$D42*BQ42*(1-$G42) -> 0 | BV42: =BP42 -> 2198298 | BX42: =$D42*BW42 -> 0 | BY42: =$D42*BW42*(1-$E42) -> 0 | BZ42: =$D42*BW42*(1-$F42) -> 0 | CA42: =$D42*BW42*(1-$G42) -> 0 | CB42: =BV42 -> 2198298 | CD42: =$D42*CC42 -> 0 | CE42: =$D42*CC42*(1-$E42) -> 0 | CF42: =$D42*CC42*(1-$F42) -> 0 | CG42: =$D42*CC42*(1-$G42) -> 0 | CH42: =CB42 -> 2198298 | CJ42: =$D42*CI42 -> 0 | CK42: =$D42*CI42*(1-$E42) -> 0 | CL42: =$D42*CI42*(1-$F42) -> 0 | CM42: =$D42*CI42*(1-$G42) -> 0 | CN42: =CH42 -> 2198298 | CP42: =$D42*CO42 -> 0 | CQ42: =$D42*CO42*(1-$E42) -> 0 | CR42: =$D42*CO42*(1-$F42) -> 0 | CS42: =$D42*CO42*(1-$G42) -> 0 | CT42: =CN42 -> 2198298 | CV42: =$D42*CU42 -> 0 | CW42: =$D42*CU42*(1-$E42) -> 0 | CX42: =$D42*CU42*(1-$F42) -> 0 | CY42: =$D42*CU42*(1-$G42) -> 0 | CZ42: =CT42 -> 2198298 | DB42: =$D42*DA42 -> 0 | DC42: =$D42*DA42*(1-$E42) -> 0 | DD42: =$D42*DA42*(1-$F42) -> 0 | DE42: =$D42*DA42*(1-$G42) -> 0 | DF42: =CZ42 -> 2198298 | DH42: =$D42*DG42 -> 0 | DI42: =$D42*DG42*(1-$E42) -> 0 | DJ42: =$D42*DG42*(1-$F42) -> 0 | DK42: =$D42*DG42*(1-$G42) -> 0 | DL42: =DF42 -> 2198298 | DN42: =$D42*DM42 -> 0 | DO42: =$D42*DM42*(1-$E42) -> 0 | DP42: =$D42*DM42*(1-$F42) -> 0 | DQ42: =$D42*DM42*(1-$G42) -> 0 | DR42: =DL42 -> 2198298 | DT42: =$D42*DS42 -> 0 | DU42: =$D42*DS42*(1-$E42) -> 0 | DV42: =$D42*DS42*(1-$F42) -> 0 | DW42: =$D42*DS42*(1-$G42) -> 0 | DX42: =DR42 -> 2198298 | DZ42: =$D42*DY42 -> 0 | EA42: =$D42*DY42*(1-$E42) -> 0 | EB42: =$D42*DY42*(1-$F42) -> 0 | EC42: =$D42*DY42*(1-$G42) -> 0 | ED42: =DX42 -> 2198298 | EF42: =$D42*EE42 -> 0 | EG42: =$D42*EE42*(1-$E42) -> 0 | EH42: =$D42*EE42*(1-$F42) -> 0 | EI42: =$D42*EE42*(1-$G42) -> 0 | EJ42: =ED42 -> 2198298 | EL42: =$D42*EK42 -> 0 | EM42: =$D42*EK42*(1-$E42) -> 0 | EN42: =$D42*EK42*(1-$F42) -> 0 | EO42: =$D42*EK42*(1-$G42) -> 0 | EP42: =EJ42 -> 2198298 | ER42: =$D42*EQ42 -> 0 | ES42: =$D42*EQ42*(1-$E42) -> 0 | ET42: =$D42*EQ42*(1-$F42) -> 0 | EU42: =$D42*EQ42*(1-$G42) -> 0 | EV42: =EP42 -> 2198298 | EX42: =$D42*EW42 -> 0 | EY42: =$D42*EW42*(1-$E42) -> 0 | EZ42: =$D42*EW42*(1-$F42) -> 0 | FA42: =$D42*EW42*(1-$G42) -> 0
B43: X-FCS-R-4-25 37/41 | C43: 2198299 | D43: 1 | E43: 0.055 | F43: 0.107 | G43: 0.157 | H43: =C43 -> 2198299 | I43: 1.2 | J43: =$D43*I43 -> 1.2 | K43: =$D43*I43*(1-$E43) -> 1.134 | L43: =$D43*I43*(1-$F43) -> 1.0716 | M43: =$D43*I43*(1-$G43) -> 1.0116 | N43: =H43 -> 2198299 | O43: 1.4 | P43: =$D43*O43 -> 1.4 | Q43: =$D43*O43*(1-$E43) -> 1.323 | R43: =$D43*O43*(1-$F43) -> 1.2502 | S43: =$D43*O43*(1-$G43) -> 1.1802 | T43: =N43 -> 2198299 | V43: =$D43*U43 -> 0 | W43: =$D43*U43*(1-$E43) -> 0 | X43: =$D43*U43*(1-$F43) -> 0 | Y43: =$D43*U43*(1-$G43) -> 0 | Z43: =T43 -> 2198299 | AB43: =$D43*AA43 -> 0 | AC43: =$D43*AA43*(1-$E43) -> 0 | AD43: =$D43*AA43*(1-$F43) -> 0 | AE43: =$D43*AA43*(1-$G43) -> 0 | AF43: =Z43 -> 2198299 | AH43: =$D43*AG43 -> 0 | AI43: =$D43*AG43*(1-$E43) -> 0 | AJ43: =$D43*AG43*(1-$F43) -> 0 | AK43: =$D43*AG43*(1-$G43) -> 0 | AL43: =AF43 -> 2198299 | AN43: =$D43*AM43 -> 0 | AO43: =$D43*AM43*(1-$E43) -> 0 | AP43: =$D43*AM43*(1-$F43) -> 0 | AQ43: =$D43*AM43*(1-$G43) -> 0 | AR43: =AL43 -> 2198299 | AT43: =$D43*AS43 -> 0 | AU43: =$D43*AS43*(1-$E43) -> 0 | AV43: =$D43*AS43*(1-$F43) -> 0 | AW43: =$D43*AS43*(1-$G43) -> 0 | AX43: =AR43 -> 2198299 | AZ43: =$D43*AY43 -> 0 | BA43: =$D43*AY43*(1-$E43) -> 0 | BB43: =$D43*AY43*(1-$F43) -> 0 | BC43: =$D43*AY43*(1-$G43) -> 0 | BD43: =AX43 -> 2198299 | BF43: =$D43*BE43 -> 0 | BG43: =$D43*BE43*(1-$E43) -> 0 | BH43: =$D43*BE43*(1-$F43) -> 0 | BI43: =$D43*BE43*(1-$G43) -> 0 | BJ43: =BD43 -> 2198299 | BL43: =$D43*BK43 -> 0 | BM43: =$D43*BK43*(1-$E43) -> 0 | BN43: =$D43*BK43*(1-$F43) -> 0 | BO43: =$D43*BK43*(1-$G43) -> 0 | BP43: =BJ43 -> 2198299 | BR43: =$D43*BQ43 -> 0 | BS43: =$D43*BQ43*(1-$E43) -> 0 | BT43: =$D43*BQ43*(1-$F43) -> 0 | BU43: =$D43*BQ43*(1-$G43) -> 0 | BV43: =BP43 -> 2198299 | BX43: =$D43*BW43 -> 0 | BY43: =$D43*BW43*(1-$E43) -> 0 | BZ43: =$D43*BW43*(1-$F43) -> 0 | CA43: =$D43*BW43*(1-$G43) -> 0 | CB43: =BV43 -> 2198299 | CD43: =$D43*CC43 -> 0 | CE43: =$D43*CC43*(1-$E43) -> 0 | CF43: =$D43*CC43*(1-$F43) -> 0 | CG43: =$D43*CC43*(1-$G43) -> 0 | CH43: =CB43 -> 2198299 | CJ43: =$D43*CI43 -> 0 | CK43: =$D43*CI43*(1-$E43) -> 0 | CL43: =$D43*CI43*(1-$F43) -> 0 | CM43: =$D43*CI43*(1-$G43) -> 0 | CN43: =CH43 -> 2198299 | CP43: =$D43*CO43 -> 0 | CQ43: =$D43*CO43*(1-$E43) -> 0 | CR43: =$D43*CO43*(1-$F43) -> 0 | CS43: =$D43*CO43*(1-$G43) -> 0 | CT43: =CN43 -> 2198299 | CV43: =$D43*CU43 -> 0 | CW43: =$D43*CU43*(1-$E43) -> 0 | CX43: =$D43*CU43*(1-$F43) -> 0 | CY43: =$D43*CU43*(1-$G43) -> 0 | CZ43: =CT43 -> 2198299 | DB43: =$D43*DA43 -> 0 | DC43: =$D43*DA43*(1-$E43) -> 0 | DD43: =$D43*DA43*(1-$F43) -> 0 | DE43: =$D43*DA43*(1-$G43) -> 0 | DF43: =CZ43 -> 2198299 | DH43: =$D43*DG43 -> 0 | DI43: =$D43*DG43*(1-$E43) -> 0 | DJ43: =$D43*DG43*(1-$F43) -> 0 | DK43: =$D43*DG43*(1-$G43) -> 0 | DL43: =DF43 -> 2198299 | DN43: =$D43*DM43 -> 0 | DO43: =$D43*DM43*(1-$E43) -> 0 | DP43: =$D43*DM43*(1-$F43) -> 0 | DQ43: =$D43*DM43*(1-$G43) -> 0 | DR43: =DL43 -> 2198299 | DT43: =$D43*DS43 -> 0 | DU43: =$D43*DS43*(1-$E43) -> 0 | DV43: =$D43*DS43*(1-$F43) -> 0 | DW43: =$D43*DS43*(1-$G43) -> 0 | DX43: =DR43 -> 2198299 | DZ43: =$D43*DY43 -> 0 | EA43: =$D43*DY43*(1-$E43) -> 0 | EB43: =$D43*DY43*(1-$F43) -> 0 | EC43: =$D43*DY43*(1-$G43) -> 0 | ED43: =DX43 -> 2198299 | EF43: =$D43*EE43 -> 0 | EG43: =$D43*EE43*(1-$E43) -> 0 | EH43: =$D43*EE43*(1-$F43) -> 0 | EI43: =$D43*EE43*(1-$G43) -> 0 | EJ43: =ED43 -> 2198299 | EL43: =$D43*EK43 -> 0 | EM43: =$D43*EK43*(1-$E43) -> 0 | EN43: =$D43*EK43*(1-$F43) -> 0 | EO43: =$D43*EK43*(1-$G43) -> 0 | EP43: =EJ43 -> 2198299 | ER43: =$D43*EQ43 -> 0 | ES43: =$D43*EQ43*(1-$E43) -> 0 | ET43: =$D43*EQ43*(1-$F43) -> 0 | EU43: =$D43*EQ43*(1-$G43) -> 0 | EV43: =EP43 -> 2198299 | EX43: =$D43*EW43 -> 0 | EY43: =$D43*EW43*(1-$E43) -> 0 | EZ43: =$D43*EW43*(1-$F43) -> 0 | FA43: =$D43*EW43*(1-$G43) -> 0
A44: FCP Grating Discs | B44: X-FCP F5/10 | C44: 308859 | D44: 1 | E44: 0.055 | F44: 0.107 | G44: 0.157 | H44: =C44 -> 308859 | I44: 1.2 | J44: =$D44*I44 -> 1.2 | K44: =$D44*I44*(1-$E44) -> 1.134 | L44: =$D44*I44*(1-$F44) -> 1.0716 | M44: =$D44*I44*(1-$G44) -> 1.0116 | N44: =H44 -> 308859 | O44: 1.4 | P44: =$D44*O44 -> 1.4 | Q44: =$D44*O44*(1-$E44) -> 1.323 | R44: =$D44*O44*(1-$F44) -> 1.2502 | S44: =$D44*O44*(1-$G44) -> 1.1802 | T44: =N44 -> 308859 | V44: =$D44*U44 -> 0 | W44: =$D44*U44*(1-$E44) -> 0 | X44: =$D44*U44*(1-$F44) -> 0 | Y44: =$D44*U44*(1-$G44) -> 0 | Z44: =T44 -> 308859 | AB44: =$D44*AA44 -> 0 | AC44: =$D44*AA44*(1-$E44) -> 0 | AD44: =$D44*AA44*(1-$F44) -> 0 | AE44: =$D44*AA44*(1-$G44) -> 0 | AF44: =Z44 -> 308859 | AH44: =$D44*AG44 -> 0 | AI44: =$D44*AG44*(1-$E44) -> 0 | AJ44: =$D44*AG44*(1-$F44) -> 0 | AK44: =$D44*AG44*(1-$G44) -> 0 | AL44: =AF44 -> 308859 | AN44: =$D44*AM44 -> 0 | AO44: =$D44*AM44*(1-$E44) -> 0 | AP44: =$D44*AM44*(1-$F44) -> 0 | AQ44: =$D44*AM44*(1-$G44) -> 0 | AR44: =AL44 -> 308859 | AT44: =$D44*AS44 -> 0 | AU44: =$D44*AS44*(1-$E44) -> 0 | AV44: =$D44*AS44*(1-$F44) -> 0 | AW44: =$D44*AS44*(1-$G44) -> 0 | AX44: =AR44 -> 308859 | AZ44: =$D44*AY44 -> 0 | BA44: =$D44*AY44*(1-$E44) -> 0 | BB44: =$D44*AY44*(1-$F44) -> 0 | BC44: =$D44*AY44*(1-$G44) -> 0 | BD44: =AX44 -> 308859 | BF44: =$D44*BE44 -> 0 | BG44: =$D44*BE44*(1-$E44) -> 0 | BH44: =$D44*BE44*(1-$F44) -> 0 | BI44: =$D44*BE44*(1-$G44) -> 0 | BJ44: =BD44 -> 308859 | BL44: =$D44*BK44 -> 0 | BM44: =$D44*BK44*(1-$E44) -> 0 | BN44: =$D44*BK44*(1-$F44) -> 0 | BO44: =$D44*BK44*(1-$G44) -> 0 | BP44: =BJ44 -> 308859 | BR44: =$D44*BQ44 -> 0 | BS44: =$D44*BQ44*(1-$E44) -> 0 | BT44: =$D44*BQ44*(1-$F44) -> 0 | BU44: =$D44*BQ44*(1-$G44) -> 0 | BV44: =BP44 -> 308859 | BX44: =$D44*BW44 -> 0 | BY44: =$D44*BW44*(1-$E44) -> 0 | BZ44: =$D44*BW44*(1-$F44) -> 0 | CA44: =$D44*BW44*(1-$G44) -> 0 | CB44: =BV44 -> 308859 | CD44: =$D44*CC44 -> 0 | CE44: =$D44*CC44*(1-$E44) -> 0 | CF44: =$D44*CC44*(1-$F44) -> 0 | CG44: =$D44*CC44*(1-$G44) -> 0 | CH44: =CB44 -> 308859 | CJ44: =$D44*CI44 -> 0 | CK44: =$D44*CI44*(1-$E44) -> 0 | CL44: =$D44*CI44*(1-$F44) -> 0 | CM44: =$D44*CI44*(1-$G44) -> 0 | CN44: =CH44 -> 308859 | CP44: =$D44*CO44 -> 0 | CQ44: =$D44*CO44*(1-$E44) -> 0 | CR44: =$D44*CO44*(1-$F44) -> 0 | CS44: =$D44*CO44*(1-$G44) -> 0 | CT44: =CN44 -> 308859 | CV44: =$D44*CU44 -> 0 | CW44: =$D44*CU44*(1-$E44) -> 0 | CX44: =$D44*CU44*(1-$F44) -> 0 | CY44: =$D44*CU44*(1-$G44) -> 0 | CZ44: =CT44 -> 308859 | DB44: =$D44*DA44 -> 0 | DC44: =$D44*DA44*(1-$E44) -> 0 | DD44: =$D44*DA44*(1-$F44) -> 0 | DE44: =$D44*DA44*(1-$G44) -> 0 | DF44: =CZ44 -> 308859 | DH44: =$D44*DG44 -> 0 | DI44: =$D44*DG44*(1-$E44) -> 0 | DJ44: =$D44*DG44*(1-$F44) -> 0 | DK44: =$D44*DG44*(1-$G44) -> 0 | DL44: =DF44 -> 308859 | DN44: =$D44*DM44 -> 0 | DO44: =$D44*DM44*(1-$E44) -> 0 | DP44: =$D44*DM44*(1-$F44) -> 0 | DQ44: =$D44*DM44*(1-$G44) -> 0 | DR44: =DL44 -> 308859 | DT44: =$D44*DS44 -> 0 | DU44: =$D44*DS44*(1-$E44) -> 0 | DV44: =$D44*DS44*(1-$F44) -> 0 | DW44: =$D44*DS44*(1-$G44) -> 0 | DX44: =DR44 -> 308859 | DZ44: =$D44*DY44 -> 0 | EA44: =$D44*DY44*(1-$E44) -> 0 | EB44: =$D44*DY44*(1-$F44) -> 0 | EC44: =$D44*DY44*(1-$G44) -> 0 | ED44: =DX44 -> 308859 | EF44: =$D44*EE44 -> 0 | EG44: =$D44*EE44*(1-$E44) -> 0 | EH44: =$D44*EE44*(1-$F44) -> 0 | EI44: =$D44*EE44*(1-$G44) -> 0 | EJ44: =ED44 -> 308859 | EL44: =$D44*EK44 -> 0 | EM44: =$D44*EK44*(1-$E44) -> 0 | EN44: =$D44*EK44*(1-$F44) -> 0 | EO44: =$D44*EK44*(1-$G44) -> 0 | EP44: =EJ44 -> 308859 | ER44: =$D44*EQ44 -> 0 | ES44: =$D44*EQ44*(1-$E44) -> 0 | ET44: =$D44*EQ44*(1-$F44) -> 0 | EU44: =$D44*EQ44*(1-$G44) -> 0 | EV44: =EP44 -> 308859 | EX44: =$D44*EW44 -> 0 | EY44: =$D44*EW44*(1-$E44) -> 0 | EZ44: =$D44*EW44*(1-$F44) -> 0 | FA44: =$D44*EW44*(1-$G44) -> 0
B45: X-FCP R5/10 | C45: 308860 | D45: 1 | E45: 0.055 | F45: 0.107 | G45: 0.157 | H45: =C45 -> 308860 | I45: 1.2 | J45: =$D45*I45 -> 1.2 | K45: =$D45*I45*(1-$E45) -> 1.134 | L45: =$D45*I45*(1-$F45) -> 1.0716 | M45: =$D45*I45*(1-$G45) -> 1.0116 | N45: =H45 -> 308860 | O45: 1.4 | P45: =$D45*O45 -> 1.4 | Q45: =$D45*O45*(1-$E45) -> 1.323 | R45: =$D45*O45*(1-$F45) -> 1.2502 | S45: =$D45*O45*(1-$G45) -> 1.1802 | T45: =N45 -> 308860 | V45: =$D45*U45 -> 0 | W45: =$D45*U45*(1-$E45) -> 0 | X45: =$D45*U45*(1-$F45) -> 0 | Y45: =$D45*U45*(1-$G45) -> 0 | Z45: =T45 -> 308860 | AB45: =$D45*AA45 -> 0 | AC45: =$D45*AA45*(1-$E45) -> 0 | AD45: =$D45*AA45*(1-$F45) -> 0 | AE45: =$D45*AA45*(1-$G45) -> 0 | AF45: =Z45 -> 308860 | AH45: =$D45*AG45 -> 0 | AI45: =$D45*AG45*(1-$E45) -> 0 | AJ45: =$D45*AG45*(1-$F45) -> 0 | AK45: =$D45*AG45*(1-$G45) -> 0 | AL45: =AF45 -> 308860 | AN45: =$D45*AM45 -> 0 | AO45: =$D45*AM45*(1-$E45) -> 0 | AP45: =$D45*AM45*(1-$F45) -> 0 | AQ45: =$D45*AM45*(1-$G45) -> 0 | AR45: =AL45 -> 308860 | AT45: =$D45*AS45 -> 0 | AU45: =$D45*AS45*(1-$E45) -> 0 | AV45: =$D45*AS45*(1-$F45) -> 0 | AW45: =$D45*AS45*(1-$G45) -> 0 | AX45: =AR45 -> 308860 | AZ45: =$D45*AY45 -> 0 | BA45: =$D45*AY45*(1-$E45) -> 0 | BB45: =$D45*AY45*(1-$F45) -> 0 | BC45: =$D45*AY45*(1-$G45) -> 0 | BD45: =AX45 -> 308860 | BF45: =$D45*BE45 -> 0 | BG45: =$D45*BE45*(1-$E45) -> 0 | BH45: =$D45*BE45*(1-$F45) -> 0 | BI45: =$D45*BE45*(1-$G45) -> 0 | BJ45: =BD45 -> 308860 | BL45: =$D45*BK45 -> 0 | BM45: =$D45*BK45*(1-$E45) -> 0 | BN45: =$D45*BK45*(1-$F45) -> 0 | BO45: =$D45*BK45*(1-$G45) -> 0 | BP45: =BJ45 -> 308860 | BR45: =$D45*BQ45 -> 0 | BS45: =$D45*BQ45*(1-$E45) -> 0 | BT45: =$D45*BQ45*(1-$F45) -> 0 | BU45: =$D45*BQ45*(1-$G45) -> 0 | BV45: =BP45 -> 308860 | BX45: =$D45*BW45 -> 0 | BY45: =$D45*BW45*(1-$E45) -> 0 | BZ45: =$D45*BW45*(1-$F45) -> 0 | CA45: =$D45*BW45*(1-$G45) -> 0 | CB45: =BV45 -> 308860 | CD45: =$D45*CC45 -> 0 | CE45: =$D45*CC45*(1-$E45) -> 0 | CF45: =$D45*CC45*(1-$F45) -> 0 | CG45: =$D45*CC45*(1-$G45) -> 0 | CH45: =CB45 -> 308860 | CJ45: =$D45*CI45 -> 0 | CK45: =$D45*CI45*(1-$E45) -> 0 | CL45: =$D45*CI45*(1-$F45) -> 0 | CM45: =$D45*CI45*(1-$G45) -> 0 | CN45: =CH45 -> 308860 | CP45: =$D45*CO45 -> 0 | CQ45: =$D45*CO45*(1-$E45) -> 0 | CR45: =$D45*CO45*(1-$F45) -> 0 | CS45: =$D45*CO45*(1-$G45) -> 0 | CT45: =CN45 -> 308860 | CV45: =$D45*CU45 -> 0 | CW45: =$D45*CU45*(1-$E45) -> 0 | CX45: =$D45*CU45*(1-$F45) -> 0 | CY45: =$D45*CU45*(1-$G45) -> 0 | CZ45: =CT45 -> 308860 | DB45: =$D45*DA45 -> 0 | DC45: =$D45*DA45*(1-$E45) -> 0 | DD45: =$D45*DA45*(1-$F45) -> 0 | DE45: =$D45*DA45*(1-$G45) -> 0 | DF45: =CZ45 -> 308860 | DH45: =$D45*DG45 -> 0 | DI45: =$D45*DG45*(1-$E45) -> 0 | DJ45: =$D45*DG45*(1-$F45) -> 0 | DK45: =$D45*DG45*(1-$G45) -> 0 | DL45: =DF45 -> 308860 | DN45: =$D45*DM45 -> 0 | DO45: =$D45*DM45*(1-$E45) -> 0 | DP45: =$D45*DM45*(1-$F45) -> 0 | DQ45: =$D45*DM45*(1-$G45) -> 0 | DR45: =DL45 -> 308860 | DT45: =$D45*DS45 -> 0 | DU45: =$D45*DS45*(1-$E45) -> 0 | DV45: =$D45*DS45*(1-$F45) -> 0 | DW45: =$D45*DS45*(1-$G45) -> 0 | DX45: =DR45 -> 308860 | DZ45: =$D45*DY45 -> 0 | EA45: =$D45*DY45*(1-$E45) -> 0 | EB45: =$D45*DY45*(1-$F45) -> 0 | EC45: =$D45*DY45*(1-$G45) -> 0 | ED45: =DX45 -> 308860 | EF45: =$D45*EE45 -> 0 | EG45: =$D45*EE45*(1-$E45) -> 0 | EH45: =$D45*EE45*(1-$F45) -> 0 | EI45: =$D45*EE45*(1-$G45) -> 0 | EJ45: =ED45 -> 308860 | EL45: =$D45*EK45 -> 0 | EM45: =$D45*EK45*(1-$E45) -> 0 | EN45: =$D45*EK45*(1-$F45) -> 0 | EO45: =$D45*EK45*(1-$G45) -> 0 | EP45: =EJ45 -> 308860 | ER45: =$D45*EQ45 -> 0 | ES45: =$D45*EQ45*(1-$E45) -> 0 | ET45: =$D45*EQ45*(1-$F45) -> 0 | EU45: =$D45*EQ45*(1-$G45) -> 0 | EV45: =EP45 -> 308860 | EX45: =$D45*EW45 -> 0 | EY45: =$D45*EW45*(1-$E45) -> 0 | EZ45: =$D45*EW45*(1-$F45) -> 0 | FA45: =$D45*EW45*(1-$G45) -> 0
B46: X-FCP Sealing Washer | C46: 308856 | D46: 1 | E46: 0.055 | F46: 0.107 | G46: 0.157 | H46: =C46 -> 308856 | I46: 1.2 | J46: =$D46*I46 -> 1.2 | K46: =$D46*I46*(1-$E46) -> 1.134 | L46: =$D46*I46*(1-$F46) -> 1.0716 | M46: =$D46*I46*(1-$G46) -> 1.0116 | N46: =H46 -> 308856 | O46: 1.4 | P46: =$D46*O46 -> 1.4 | Q46: =$D46*O46*(1-$E46) -> 1.323 | R46: =$D46*O46*(1-$F46) -> 1.2502 | S46: =$D46*O46*(1-$G46) -> 1.1802 | T46: =N46 -> 308856 | V46: =$D46*U46 -> 0 | W46: =$D46*U46*(1-$E46) -> 0 | X46: =$D46*U46*(1-$F46) -> 0 | Y46: =$D46*U46*(1-$G46) -> 0 | Z46: =T46 -> 308856 | AB46: =$D46*AA46 -> 0 | AC46: =$D46*AA46*(1-$E46) -> 0 | AD46: =$D46*AA46*(1-$F46) -> 0 | AE46: =$D46*AA46*(1-$G46) -> 0 | AF46: =Z46 -> 308856 | AH46: =$D46*AG46 -> 0 | AI46: =$D46*AG46*(1-$E46) -> 0 | AJ46: =$D46*AG46*(1-$F46) -> 0 | AK46: =$D46*AG46*(1-$G46) -> 0 | AL46: =AF46 -> 308856 | AN46: =$D46*AM46 -> 0 | AO46: =$D46*AM46*(1-$E46) -> 0 | AP46: =$D46*AM46*(1-$F46) -> 0 | AQ46: =$D46*AM46*(1-$G46) -> 0 | AR46: =AL46 -> 308856 | AT46: =$D46*AS46 -> 0 | AU46: =$D46*AS46*(1-$E46) -> 0 | AV46: =$D46*AS46*(1-$F46) -> 0 | AW46: =$D46*AS46*(1-$G46) -> 0 | AX46: =AR46 -> 308856 | AZ46: =$D46*AY46 -> 0 | BA46: =$D46*AY46*(1-$E46) -> 0 | BB46: =$D46*AY46*(1-$F46) -> 0 | BC46: =$D46*AY46*(1-$G46) -> 0 | BD46: =AX46 -> 308856 | BF46: =$D46*BE46 -> 0 | BG46: =$D46*BE46*(1-$E46) -> 0 | BH46: =$D46*BE46*(1-$F46) -> 0 | BI46: =$D46*BE46*(1-$G46) -> 0 | BJ46: =BD46 -> 308856 | BL46: =$D46*BK46 -> 0 | BM46: =$D46*BK46*(1-$E46) -> 0 | BN46: =$D46*BK46*(1-$F46) -> 0 | BO46: =$D46*BK46*(1-$G46) -> 0 | BP46: =BJ46 -> 308856 | BR46: =$D46*BQ46 -> 0 | BS46: =$D46*BQ46*(1-$E46) -> 0 | BT46: =$D46*BQ46*(1-$F46) -> 0 | BU46: =$D46*BQ46*(1-$G46) -> 0 | BV46: =BP46 -> 308856 | BX46: =$D46*BW46 -> 0 | BY46: =$D46*BW46*(1-$E46) -> 0 | BZ46: =$D46*BW46*(1-$F46) -> 0 | CA46: =$D46*BW46*(1-$G46) -> 0 | CB46: =BV46 -> 308856 | CD46: =$D46*CC46 -> 0 | CE46: =$D46*CC46*(1-$E46) -> 0 | CF46: =$D46*CC46*(1-$F46) -> 0 | CG46: =$D46*CC46*(1-$G46) -> 0 | CH46: =CB46 -> 308856 | CJ46: =$D46*CI46 -> 0 | CK46: =$D46*CI46*(1-$E46) -> 0 | CL46: =$D46*CI46*(1-$F46) -> 0 | CM46: =$D46*CI46*(1-$G46) -> 0 | CN46: =CH46 -> 308856 | CP46: =$D46*CO46 -> 0 | CQ46: =$D46*CO46*(1-$E46) -> 0 | CR46: =$D46*CO46*(1-$F46) -> 0 | CS46: =$D46*CO46*(1-$G46) -> 0 | CT46: =CN46 -> 308856 | CV46: =$D46*CU46 -> 0 | CW46: =$D46*CU46*(1-$E46) -> 0 | CX46: =$D46*CU46*(1-$F46) -> 0 | CY46: =$D46*CU46*(1-$G46) -> 0 | CZ46: =CT46 -> 308856 | DB46: =$D46*DA46 -> 0 | DC46: =$D46*DA46*(1-$E46) -> 0 | DD46: =$D46*DA46*(1-$F46) -> 0 | DE46: =$D46*DA46*(1-$G46) -> 0 | DF46: =CZ46 -> 308856 | DH46: =$D46*DG46 -> 0 | DI46: =$D46*DG46*(1-$E46) -> 0 | DJ46: =$D46*DG46*(1-$F46) -> 0 | DK46: =$D46*DG46*(1-$G46) -> 0 | DL46: =DF46 -> 308856 | DN46: =$D46*DM46 -> 0 | DO46: =$D46*DM46*(1-$E46) -> 0 | DP46: =$D46*DM46*(1-$F46) -> 0 | DQ46: =$D46*DM46*(1-$G46) -> 0 | DR46: =DL46 -> 308856 | DT46: =$D46*DS46 -> 0 | DU46: =$D46*DS46*(1-$E46) -> 0 | DV46: =$D46*DS46*(1-$F46) -> 0 | DW46: =$D46*DS46*(1-$G46) -> 0 | DX46: =DR46 -> 308856 | DZ46: =$D46*DY46 -> 0 | EA46: =$D46*DY46*(1-$E46) -> 0 | EB46: =$D46*DY46*(1-$F46) -> 0 | EC46: =$D46*DY46*(1-$G46) -> 0 | ED46: =DX46 -> 308856 | EF46: =$D46*EE46 -> 0 | EG46: =$D46*EE46*(1-$E46) -> 0 | EH46: =$D46*EE46*(1-$F46) -> 0 | EI46: =$D46*EE46*(1-$G46) -> 0 | EJ46: =ED46 -> 308856 | EL46: =$D46*EK46 -> 0 | EM46: =$D46*EK46*(1-$E46) -> 0 | EN46: =$D46*EK46*(1-$F46) -> 0 | EO46: =$D46*EK46*(1-$G46) -> 0 | EP46: =EJ46 -> 308856 | ER46: =$D46*EQ46 -> 0 | ES46: =$D46*EQ46*(1-$E46) -> 0 | ET46: =$D46*EQ46*(1-$F46) -> 0 | EU46: =$D46*EQ46*(1-$G46) -> 0 | EV46: =EP46 -> 308856 | EX46: =$D46*EW46 -> 0 | EY46: =$D46*EW46*(1-$E46) -> 0 | EZ46: =$D46*EW46*(1-$F46) -> 0 | FA46: =$D46*EW46*(1-$G46) -> 0
A47: GR-RU Grating Fasteners | B47: X-PGR-RU 25/30 | C47: 2061313 | D47: 1 | E47: 0.055 | F47: 0.107 | G47: 0.157 | H47: =C47 -> 2061313 | I47: 1.2 | J47: =$D47*I47 -> 1.2 | K47: =$D47*I47*(1-$E47) -> 1.134 | L47: =$D47*I47*(1-$F47) -> 1.0716 | M47: =$D47*I47*(1-$G47) -> 1.0116 | N47: =H47 -> 2061313 | O47: 1.4 | P47: =$D47*O47 -> 1.4 | Q47: =$D47*O47*(1-$E47) -> 1.323 | R47: =$D47*O47*(1-$F47) -> 1.2502 | S47: =$D47*O47*(1-$G47) -> 1.1802 | T47: =N47 -> 2061313 | V47: =$D47*U47 -> 0 | W47: =$D47*U47*(1-$E47) -> 0 | X47: =$D47*U47*(1-$F47) -> 0 | Y47: =$D47*U47*(1-$G47) -> 0 | Z47: =T47 -> 2061313 | AB47: =$D47*AA47 -> 0 | AC47: =$D47*AA47*(1-$E47) -> 0 | AD47: =$D47*AA47*(1-$F47) -> 0 | AE47: =$D47*AA47*(1-$G47) -> 0 | AF47: =Z47 -> 2061313 | AH47: =$D47*AG47 -> 0 | AI47: =$D47*AG47*(1-$E47) -> 0 | AJ47: =$D47*AG47*(1-$F47) -> 0 | AK47: =$D47*AG47*(1-$G47) -> 0 | AL47: =AF47 -> 2061313 | AN47: =$D47*AM47 -> 0 | AO47: =$D47*AM47*(1-$E47) -> 0 | AP47: =$D47*AM47*(1-$F47) -> 0 | AQ47: =$D47*AM47*(1-$G47) -> 0 | AR47: =AL47 -> 2061313 | AT47: =$D47*AS47 -> 0 | AU47: =$D47*AS47*(1-$E47) -> 0 | AV47: =$D47*AS47*(1-$F47) -> 0 | AW47: =$D47*AS47*(1-$G47) -> 0 | AX47: =AR47 -> 2061313 | AZ47: =$D47*AY47 -> 0 | BA47: =$D47*AY47*(1-$E47) -> 0 | BB47: =$D47*AY47*(1-$F47) -> 0 | BC47: =$D47*AY47*(1-$G47) -> 0 | BD47: =AX47 -> 2061313 | BF47: =$D47*BE47 -> 0 | BG47: =$D47*BE47*(1-$E47) -> 0 | BH47: =$D47*BE47*(1-$F47) -> 0 | BI47: =$D47*BE47*(1-$G47) -> 0 | BJ47: =BD47 -> 2061313 | BL47: =$D47*BK47 -> 0 | BM47: =$D47*BK47*(1-$E47) -> 0 | BN47: =$D47*BK47*(1-$F47) -> 0 | BO47: =$D47*BK47*(1-$G47) -> 0 | BP47: =BJ47 -> 2061313 | BR47: =$D47*BQ47 -> 0 | BS47: =$D47*BQ47*(1-$E47) -> 0 | BT47: =$D47*BQ47*(1-$F47) -> 0 | BU47: =$D47*BQ47*(1-$G47) -> 0 | BV47: =BP47 -> 2061313 | BX47: =$D47*BW47 -> 0 | BY47: =$D47*BW47*(1-$E47) -> 0 | BZ47: =$D47*BW47*(1-$F47) -> 0 | CA47: =$D47*BW47*(1-$G47) -> 0 | CB47: =BV47 -> 2061313 | CD47: =$D47*CC47 -> 0 | CE47: =$D47*CC47*(1-$E47) -> 0 | CF47: =$D47*CC47*(1-$F47) -> 0 | CG47: =$D47*CC47*(1-$G47) -> 0 | CH47: =CB47 -> 2061313 | CJ47: =$D47*CI47 -> 0 | CK47: =$D47*CI47*(1-$E47) -> 0 | CL47: =$D47*CI47*(1-$F47) -> 0 | CM47: =$D47*CI47*(1-$G47) -> 0 | CN47: =CH47 -> 2061313 | CP47: =$D47*CO47 -> 0 | CQ47: =$D47*CO47*(1-$E47) -> 0 | CR47: =$D47*CO47*(1-$F47) -> 0 | CS47: =$D47*CO47*(1-$G47) -> 0 | CT47: =CN47 -> 2061313 | CV47: =$D47*CU47 -> 0 | CW47: =$D47*CU47*(1-$E47) -> 0 | CX47: =$D47*CU47*(1-$F47) -> 0 | CY47: =$D47*CU47*(1-$G47) -> 0 | CZ47: =CT47 -> 2061313 | DB47: =$D47*DA47 -> 0 | DC47: =$D47*DA47*(1-$E47) -> 0 | DD47: =$D47*DA47*(1-$F47) -> 0 | DE47: =$D47*DA47*(1-$G47) -> 0 | DF47: =CZ47 -> 2061313 | DH47: =$D47*DG47 -> 0 | DI47: =$D47*DG47*(1-$E47) -> 0 | DJ47: =$D47*DG47*(1-$F47) -> 0 | DK47: =$D47*DG47*(1-$G47) -> 0 | DL47: =DF47 -> 2061313 | DN47: =$D47*DM47 -> 0 | DO47: =$D47*DM47*(1-$E47) -> 0 | DP47: =$D47*DM47*(1-$F47) -> 0 | DQ47: =$D47*DM47*(1-$G47) -> 0 | DR47: =DL47 -> 2061313 | DT47: =$D47*DS47 -> 0 | DU47: =$D47*DS47*(1-$E47) -> 0 | DV47: =$D47*DS47*(1-$F47) -> 0 | DW47: =$D47*DS47*(1-$G47) -> 0 | DX47: =DR47 -> 2061313 | DZ47: =$D47*DY47 -> 0 | EA47: =$D47*DY47*(1-$E47) -> 0 | EB47: =$D47*DY47*(1-$F47) -> 0 | EC47: =$D47*DY47*(1-$G47) -> 0 | ED47: =DX47 -> 2061313 | EF47: =$D47*EE47 -> 0 | EG47: =$D47*EE47*(1-$E47) -> 0 | EH47: =$D47*EE47*(1-$F47) -> 0 | EI47: =$D47*EE47*(1-$G47) -> 0 | EJ47: =ED47 -> 2061313 | EL47: =$D47*EK47 -> 0 | EM47: =$D47*EK47*(1-$E47) -> 0 | EN47: =$D47*EK47*(1-$F47) -> 0 | EO47: =$D47*EK47*(1-$G47) -> 0 | EP47: =EJ47 -> 2061313 | ER47: =$D47*EQ47 -> 0 | ES47: =$D47*EQ47*(1-$E47) -> 0 | ET47: =$D47*EQ47*(1-$F47) -> 0 | EU47: =$D47*EQ47*(1-$G47) -> 0 | EV47: =EP47 -> 2061313 | EX47: =$D47*EW47 -> 0 | EY47: =$D47*EW47*(1-$E47) -> 0 | EZ47: =$D47*EW47*(1-$F47) -> 0 | FA47: =$D47*EW47*(1-$G47) -> 0
B48: X-PGR-RU 1 1/4'' | C48: 2061314 | D48: 1 | E48: 0.055 | F48: 0.107 | G48: 0.157 | H48: =C48 -> 2061314 | I48: 1.2 | J48: =$D48*I48 -> 1.2 | K48: =$D48*I48*(1-$E48) -> 1.134 | L48: =$D48*I48*(1-$F48) -> 1.0716 | M48: =$D48*I48*(1-$G48) -> 1.0116 | N48: =H48 -> 2061314 | O48: 1.4 | P48: =$D48*O48 -> 1.4 | Q48: =$D48*O48*(1-$E48) -> 1.323 | R48: =$D48*O48*(1-$F48) -> 1.2502 | S48: =$D48*O48*(1-$G48) -> 1.1802 | T48: =N48 -> 2061314 | V48: =$D48*U48 -> 0 | W48: =$D48*U48*(1-$E48) -> 0 | X48: =$D48*U48*(1-$F48) -> 0 | Y48: =$D48*U48*(1-$G48) -> 0 | Z48: =T48 -> 2061314 | AB48: =$D48*AA48 -> 0 | AC48: =$D48*AA48*(1-$E48) -> 0 | AD48: =$D48*AA48*(1-$F48) -> 0 | AE48: =$D48*AA48*(1-$G48) -> 0 | AF48: =Z48 -> 2061314 | AH48: =$D48*AG48 -> 0 | AI48: =$D48*AG48*(1-$E48) -> 0 | AJ48: =$D48*AG48*(1-$F48) -> 0 | AK48: =$D48*AG48*(1-$G48) -> 0 | AL48: =AF48 -> 2061314 | AN48: =$D48*AM48 -> 0 | AO48: =$D48*AM48*(1-$E48) -> 0 | AP48: =$D48*AM48*(1-$F48) -> 0 | AQ48: =$D48*AM48*(1-$G48) -> 0 | AR48: =AL48 -> 2061314 | AT48: =$D48*AS48 -> 0 | AU48: =$D48*AS48*(1-$E48) -> 0 | AV48: =$D48*AS48*(1-$F48) -> 0 | AW48: =$D48*AS48*(1-$G48) -> 0 | AX48: =AR48 -> 2061314 | AZ48: =$D48*AY48 -> 0 | BA48: =$D48*AY48*(1-$E48) -> 0 | BB48: =$D48*AY48*(1-$F48) -> 0 | BC48: =$D48*AY48*(1-$G48) -> 0 | BD48: =AX48 -> 2061314 | BF48: =$D48*BE48 -> 0 | BG48: =$D48*BE48*(1-$E48) -> 0 | BH48: =$D48*BE48*(1-$F48) -> 0 | BI48: =$D48*BE48*(1-$G48) -> 0 | BJ48: =BD48 -> 2061314 | BL48: =$D48*BK48 -> 0 | BM48: =$D48*BK48*(1-$E48) -> 0 | BN48: =$D48*BK48*(1-$F48) -> 0 | BO48: =$D48*BK48*(1-$G48) -> 0 | BP48: =BJ48 -> 2061314 | BR48: =$D48*BQ48 -> 0 | BS48: =$D48*BQ48*(1-$E48) -> 0 | BT48: =$D48*BQ48*(1-$F48) -> 0 | BU48: =$D48*BQ48*(1-$G48) -> 0 | BV48: =BP48 -> 2061314 | BX48: =$D48*BW48 -> 0 | BY48: =$D48*BW48*(1-$E48) -> 0 | BZ48: =$D48*BW48*(1-$F48) -> 0 | CA48: =$D48*BW48*(1-$G48) -> 0 | CB48: =BV48 -> 2061314 | CD48: =$D48*CC48 -> 0 | CE48: =$D48*CC48*(1-$E48) -> 0 | CF48: =$D48*CC48*(1-$F48) -> 0 | CG48: =$D48*CC48*(1-$G48) -> 0 | CH48: =CB48 -> 2061314 | CJ48: =$D48*CI48 -> 0 | CK48: =$D48*CI48*(1-$E48) -> 0 | CL48: =$D48*CI48*(1-$F48) -> 0 | CM48: =$D48*CI48*(1-$G48) -> 0 | CN48: =CH48 -> 2061314 | CP48: =$D48*CO48 -> 0 | CQ48: =$D48*CO48*(1-$E48) -> 0 | CR48: =$D48*CO48*(1-$F48) -> 0 | CS48: =$D48*CO48*(1-$G48) -> 0 | CT48: =CN48 -> 2061314 | CV48: =$D48*CU48 -> 0 | CW48: =$D48*CU48*(1-$E48) -> 0 | CX48: =$D48*CU48*(1-$F48) -> 0 | CY48: =$D48*CU48*(1-$G48) -> 0 | CZ48: =CT48 -> 2061314 | DB48: =$D48*DA48 -> 0 | DC48: =$D48*DA48*(1-$E48) -> 0 | DD48: =$D48*DA48*(1-$F48) -> 0 | DE48: =$D48*DA48*(1-$G48) -> 0 | DF48: =CZ48 -> 2061314 | DH48: =$D48*DG48 -> 0 | DI48: =$D48*DG48*(1-$E48) -> 0 | DJ48: =$D48*DG48*(1-$F48) -> 0 | DK48: =$D48*DG48*(1-$G48) -> 0 | DL48: =DF48 -> 2061314 | DN48: =$D48*DM48 -> 0 | DO48: =$D48*DM48*(1-$E48) -> 0 | DP48: =$D48*DM48*(1-$F48) -> 0 | DQ48: =$D48*DM48*(1-$G48) -> 0 | DR48: =DL48 -> 2061314 | DT48: =$D48*DS48 -> 0 | DU48: =$D48*DS48*(1-$E48) -> 0 | DV48: =$D48*DS48*(1-$F48) -> 0 | DW48: =$D48*DS48*(1-$G48) -> 0 | DX48: =DR48 -> 2061314 | DZ48: =$D48*DY48 -> 0 | EA48: =$D48*DY48*(1-$E48) -> 0 | EB48: =$D48*DY48*(1-$F48) -> 0 | EC48: =$D48*DY48*(1-$G48) -> 0 | ED48: =DX48 -> 2061314 | EF48: =$D48*EE48 -> 0 | EG48: =$D48*EE48*(1-$E48) -> 0 | EH48: =$D48*EE48*(1-$F48) -> 0 | EI48: =$D48*EE48*(1-$G48) -> 0 | EJ48: =ED48 -> 2061314 | EL48: =$D48*EK48 -> 0 | EM48: =$D48*EK48*(1-$E48) -> 0 | EN48: =$D48*EK48*(1-$F48) -> 0 | EO48: =$D48*EK48*(1-$G48) -> 0 | EP48: =EJ48 -> 2061314 | ER48: =$D48*EQ48 -> 0 | ES48: =$D48*EQ48*(1-$E48) -> 0 | ET48: =$D48*EQ48*(1-$F48) -> 0 | EU48: =$D48*EQ48*(1-$G48) -> 0 | EV48: =EP48 -> 2061314 | EX48: =$D48*EW48 -> 0 | EY48: =$D48*EW48*(1-$E48) -> 0 | EZ48: =$D48*EW48*(1-$F48) -> 0 | FA48: =$D48*EW48*(1-$G48) -> 0
B49: X-PGR-RU 35/40 | C49: 2061315 | D49: 1 | E49: 0.055 | F49: 0.107 | G49: 0.157 | H49: =C49 -> 2061315 | I49: 1.2 | J49: =$D49*I49 -> 1.2 | K49: =$D49*I49*(1-$E49) -> 1.134 | L49: =$D49*I49*(1-$F49) -> 1.0716 | M49: =$D49*I49*(1-$G49) -> 1.0116 | N49: =H49 -> 2061315 | O49: 1.4 | P49: =$D49*O49 -> 1.4 | Q49: =$D49*O49*(1-$E49) -> 1.323 | R49: =$D49*O49*(1-$F49) -> 1.2502 | S49: =$D49*O49*(1-$G49) -> 1.1802 | T49: =N49 -> 2061315 | V49: =$D49*U49 -> 0 | W49: =$D49*U49*(1-$E49) -> 0 | X49: =$D49*U49*(1-$F49) -> 0 | Y49: =$D49*U49*(1-$G49) -> 0 | Z49: =T49 -> 2061315 | AB49: =$D49*AA49 -> 0 | AC49: =$D49*AA49*(1-$E49) -> 0 | AD49: =$D49*AA49*(1-$F49) -> 0 | AE49: =$D49*AA49*(1-$G49) -> 0 | AF49: =Z49 -> 2061315 | AH49: =$D49*AG49 -> 0 | AI49: =$D49*AG49*(1-$E49) -> 0 | AJ49: =$D49*AG49*(1-$F49) -> 0 | AK49: =$D49*AG49*(1-$G49) -> 0 | AL49: =AF49 -> 2061315 | AN49: =$D49*AM49 -> 0 | AO49: =$D49*AM49*(1-$E49) -> 0 | AP49: =$D49*AM49*(1-$F49) -> 0 | AQ49: =$D49*AM49*(1-$G49) -> 0 | AR49: =AL49 -> 2061315 | AT49: =$D49*AS49 -> 0 | AU49: =$D49*AS49*(1-$E49) -> 0 | AV49: =$D49*AS49*(1-$F49) -> 0 | AW49: =$D49*AS49*(1-$G49) -> 0 | AX49: =AR49 -> 2061315 | AZ49: =$D49*AY49 -> 0 | BA49: =$D49*AY49*(1-$E49) -> 0 | BB49: =$D49*AY49*(1-$F49) -> 0 | BC49: =$D49*AY49*(1-$G49) -> 0 | BD49: =AX49 -> 2061315 | BF49: =$D49*BE49 -> 0 | BG49: =$D49*BE49*(1-$E49) -> 0 | BH49: =$D49*BE49*(1-$F49) -> 0 | BI49: =$D49*BE49*(1-$G49) -> 0 | BJ49: =BD49 -> 2061315 | BL49: =$D49*BK49 -> 0 | BM49: =$D49*BK49*(1-$E49) -> 0 | BN49: =$D49*BK49*(1-$F49) -> 0 | BO49: =$D49*BK49*(1-$G49) -> 0 | BP49: =BJ49 -> 2061315 | BR49: =$D49*BQ49 -> 0 | BS49: =$D49*BQ49*(1-$E49) -> 0 | BT49: =$D49*BQ49*(1-$F49) -> 0 | BU49: =$D49*BQ49*(1-$G49) -> 0 | BV49: =BP49 -> 2061315 | BX49: =$D49*BW49 -> 0 | BY49: =$D49*BW49*(1-$E49) -> 0 | BZ49: =$D49*BW49*(1-$F49) -> 0 | CA49: =$D49*BW49*(1-$G49) -> 0 | CB49: =BV49 -> 2061315 | CD49: =$D49*CC49 -> 0 | CE49: =$D49*CC49*(1-$E49) -> 0 | CF49: =$D49*CC49*(1-$F49) -> 0 | CG49: =$D49*CC49*(1-$G49) -> 0 | CH49: =CB49 -> 2061315 | CJ49: =$D49*CI49 -> 0 | CK49: =$D49*CI49*(1-$E49) -> 0 | CL49: =$D49*CI49*(1-$F49) -> 0 | CM49: =$D49*CI49*(1-$G49) -> 0 | CN49: =CH49 -> 2061315 | CP49: =$D49*CO49 -> 0 | CQ49: =$D49*CO49*(1-$E49) -> 0 | CR49: =$D49*CO49*(1-$F49) -> 0 | CS49: =$D49*CO49*(1-$G49) -> 0 | CT49: =CN49 -> 2061315 | CV49: =$D49*CU49 -> 0 | CW49: =$D49*CU49*(1-$E49) -> 0 | CX49: =$D49*CU49*(1-$F49) -> 0 | CY49: =$D49*CU49*(1-$G49) -> 0 | CZ49: =CT49 -> 2061315 | DB49: =$D49*DA49 -> 0 | DC49: =$D49*DA49*(1-$E49) -> 0 | DD49: =$D49*DA49*(1-$F49) -> 0 | DE49: =$D49*DA49*(1-$G49) -> 0 | DF49: =CZ49 -> 2061315 | DH49: =$D49*DG49 -> 0 | DI49: =$D49*DG49*(1-$E49) -> 0 | DJ49: =$D49*DG49*(1-$F49) -> 0 | DK49: =$D49*DG49*(1-$G49) -> 0 | DL49: =DF49 -> 2061315 | DN49: =$D49*DM49 -> 0 | DO49: =$D49*DM49*(1-$E49) -> 0 | DP49: =$D49*DM49*(1-$F49) -> 0 | DQ49: =$D49*DM49*(1-$G49) -> 0 | DR49: =DL49 -> 2061315 | DT49: =$D49*DS49 -> 0 | DU49: =$D49*DS49*(1-$E49) -> 0 | DV49: =$D49*DS49*(1-$F49) -> 0 | DW49: =$D49*DS49*(1-$G49) -> 0 | DX49: =DR49 -> 2061315 | DZ49: =$D49*DY49 -> 0 | EA49: =$D49*DY49*(1-$E49) -> 0 | EB49: =$D49*DY49*(1-$F49) -> 0 | EC49: =$D49*DY49*(1-$G49) -> 0 | ED49: =DX49 -> 2061315 | EF49: =$D49*EE49 -> 0 | EG49: =$D49*EE49*(1-$E49) -> 0 | EH49: =$D49*EE49*(1-$F49) -> 0 | EI49: =$D49*EE49*(1-$G49) -> 0 | EJ49: =ED49 -> 2061315 | EL49: =$D49*EK49 -> 0 | EM49: =$D49*EK49*(1-$E49) -> 0 | EN49: =$D49*EK49*(1-$F49) -> 0 | EO49: =$D49*EK49*(1-$G49) -> 0 | EP49: =EJ49 -> 2061315 | ER49: =$D49*EQ49 -> 0 | ES49: =$D49*EQ49*(1-$E49) -> 0 | ET49: =$D49*EQ49*(1-$F49) -> 0 | EU49: =$D49*EQ49*(1-$G49) -> 0 | EV49: =EP49 -> 2061315 | EX49: =$D49*EW49 -> 0 | EY49: =$D49*EW49*(1-$E49) -> 0 | EZ49: =$D49*EW49*(1-$F49) -> 0 | FA49: =$D49*EW49*(1-$G49) -> 0
A50: GR Grating Fasteners | B50: X-GR 25/30 | C50: 2106415 | D50: 1 | E50: 0.055 | F50: 0.107 | G50: 0.157 | H50: =C50 -> 2106415 | I50: 1.2 | J50: =$D50*I50 -> 1.2 | K50: =$D50*I50*(1-$E50) -> 1.134 | L50: =$D50*I50*(1-$F50) -> 1.0716 | M50: =$D50*I50*(1-$G50) -> 1.0116 | N50: =H50 -> 2106415 | O50: 1.4 | P50: =$D50*O50 -> 1.4 | Q50: =$D50*O50*(1-$E50) -> 1.323 | R50: =$D50*O50*(1-$F50) -> 1.2502 | S50: =$D50*O50*(1-$G50) -> 1.1802 | T50: =N50 -> 2106415 | V50: =$D50*U50 -> 0 | W50: =$D50*U50*(1-$E50) -> 0 | X50: =$D50*U50*(1-$F50) -> 0 | Y50: =$D50*U50*(1-$G50) -> 0 | Z50: =T50 -> 2106415 | AB50: =$D50*AA50 -> 0 | AC50: =$D50*AA50*(1-$E50) -> 0 | AD50: =$D50*AA50*(1-$F50) -> 0 | AE50: =$D50*AA50*(1-$G50) -> 0 | AF50: =Z50 -> 2106415 | AH50: =$D50*AG50 -> 0 | AI50: =$D50*AG50*(1-$E50) -> 0 | AJ50: =$D50*AG50*(1-$F50) -> 0 | AK50: =$D50*AG50*(1-$G50) -> 0 | AL50: =AF50 -> 2106415 | AN50: =$D50*AM50 -> 0 | AO50: =$D50*AM50*(1-$E50) -> 0 | AP50: =$D50*AM50*(1-$F50) -> 0 | AQ50: =$D50*AM50*(1-$G50) -> 0 | AR50: =AL50 -> 2106415 | AT50: =$D50*AS50 -> 0 | AU50: =$D50*AS50*(1-$E50) -> 0 | AV50: =$D50*AS50*(1-$F50) -> 0 | AW50: =$D50*AS50*(1-$G50) -> 0 | AX50: =AR50 -> 2106415 | AZ50: =$D50*AY50 -> 0 | BA50: =$D50*AY50*(1-$E50) -> 0 | BB50: =$D50*AY50*(1-$F50) -> 0 | BC50: =$D50*AY50*(1-$G50) -> 0 | BD50: =AX50 -> 2106415 | BF50: =$D50*BE50 -> 0 | BG50: =$D50*BE50*(1-$E50) -> 0 | BH50: =$D50*BE50*(1-$F50) -> 0 | BI50: =$D50*BE50*(1-$G50) -> 0 | BJ50: =BD50 -> 2106415 | BL50: =$D50*BK50 -> 0 | BM50: =$D50*BK50*(1-$E50) -> 0 | BN50: =$D50*BK50*(1-$F50) -> 0 | BO50: =$D50*BK50*(1-$G50) -> 0 | BP50: =BJ50 -> 2106415 | BR50: =$D50*BQ50 -> 0 | BS50: =$D50*BQ50*(1-$E50) -> 0 | BT50: =$D50*BQ50*(1-$F50) -> 0 | BU50: =$D50*BQ50*(1-$G50) -> 0 | BV50: =BP50 -> 2106415 | BX50: =$D50*BW50 -> 0 | BY50: =$D50*BW50*(1-$E50) -> 0 | BZ50: =$D50*BW50*(1-$F50) -> 0 | CA50: =$D50*BW50*(1-$G50) -> 0 | CB50: =BV50 -> 2106415 | CD50: =$D50*CC50 -> 0 | CE50: =$D50*CC50*(1-$E50) -> 0 | CF50: =$D50*CC50*(1-$F50) -> 0 | CG50: =$D50*CC50*(1-$G50) -> 0 | CH50: =CB50 -> 2106415 | CJ50: =$D50*CI50 -> 0 | CK50: =$D50*CI50*(1-$E50) -> 0 | CL50: =$D50*CI50*(1-$F50) -> 0 | CM50: =$D50*CI50*(1-$G50) -> 0 | CN50: =CH50 -> 2106415 | CP50: =$D50*CO50 -> 0 | CQ50: =$D50*CO50*(1-$E50) -> 0 | CR50: =$D50*CO50*(1-$F50) -> 0 | CS50: =$D50*CO50*(1-$G50) -> 0 | CT50: =CN50 -> 2106415 | CV50: =$D50*CU50 -> 0 | CW50: =$D50*CU50*(1-$E50) -> 0 | CX50: =$D50*CU50*(1-$F50) -> 0 | CY50: =$D50*CU50*(1-$G50) -> 0 | CZ50: =CT50 -> 2106415 | DB50: =$D50*DA50 -> 0 | DC50: =$D50*DA50*(1-$E50) -> 0 | DD50: =$D50*DA50*(1-$F50) -> 0 | DE50: =$D50*DA50*(1-$G50) -> 0 | DF50: =CZ50 -> 2106415 | DH50: =$D50*DG50 -> 0 | DI50: =$D50*DG50*(1-$E50) -> 0 | DJ50: =$D50*DG50*(1-$F50) -> 0 | DK50: =$D50*DG50*(1-$G50) -> 0 | DL50: =DF50 -> 2106415 | DN50: =$D50*DM50 -> 0 | DO50: =$D50*DM50*(1-$E50) -> 0 | DP50: =$D50*DM50*(1-$F50) -> 0 | DQ50: =$D50*DM50*(1-$G50) -> 0 | DR50: =DL50 -> 2106415 | DT50: =$D50*DS50 -> 0 | DU50: =$D50*DS50*(1-$E50) -> 0 | DV50: =$D50*DS50*(1-$F50) -> 0 | DW50: =$D50*DS50*(1-$G50) -> 0 | DX50: =DR50 -> 2106415 | DZ50: =$D50*DY50 -> 0 | EA50: =$D50*DY50*(1-$E50) -> 0 | EB50: =$D50*DY50*(1-$F50) -> 0 | EC50: =$D50*DY50*(1-$G50) -> 0 | ED50: =DX50 -> 2106415 | EF50: =$D50*EE50 -> 0 | EG50: =$D50*EE50*(1-$E50) -> 0 | EH50: =$D50*EE50*(1-$F50) -> 0 | EI50: =$D50*EE50*(1-$G50) -> 0 | EJ50: =ED50 -> 2106415 | EL50: =$D50*EK50 -> 0 | EM50: =$D50*EK50*(1-$E50) -> 0 | EN50: =$D50*EK50*(1-$F50) -> 0 | EO50: =$D50*EK50*(1-$G50) -> 0 | EP50: =EJ50 -> 2106415 | ER50: =$D50*EQ50 -> 0 | ES50: =$D50*EQ50*(1-$E50) -> 0 | ET50: =$D50*EQ50*(1-$F50) -> 0 | EU50: =$D50*EQ50*(1-$G50) -> 0 | EV50: =EP50 -> 2106415 | EX50: =$D50*EW50 -> 0 | EY50: =$D50*EW50*(1-$E50) -> 0 | EZ50: =$D50*EW50*(1-$F50) -> 0 | FA50: =$D50*EW50*(1-$G50) -> 0
B51: X-GR 1 1/4" | C51: 2106416 | D51: 1 | E51: 0.055 | F51: 0.107 | G51: 0.157 | H51: =C51 -> 2106416 | I51: 1.2 | J51: =$D51*I51 -> 1.2 | K51: =$D51*I51*(1-$E51) -> 1.134 | L51: =$D51*I51*(1-$F51) -> 1.0716 | M51: =$D51*I51*(1-$G51) -> 1.0116 | N51: =H51 -> 2106416 | O51: 1.4 | P51: =$D51*O51 -> 1.4 | Q51: =$D51*O51*(1-$E51) -> 1.323 | R51: =$D51*O51*(1-$F51) -> 1.2502 | S51: =$D51*O51*(1-$G51) -> 1.1802 | T51: =N51 -> 2106416 | V51: =$D51*U51 -> 0 | W51: =$D51*U51*(1-$E51) -> 0 | X51: =$D51*U51*(1-$F51) -> 0 | Y51: =$D51*U51*(1-$G51) -> 0 | Z51: =T51 -> 2106416 | AB51: =$D51*AA51 -> 0 | AC51: =$D51*AA51*(1-$E51) -> 0 | AD51: =$D51*AA51*(1-$F51) -> 0 | AE51: =$D51*AA51*(1-$G51) -> 0 | AF51: =Z51 -> 2106416 | AH51: =$D51*AG51 -> 0 | AI51: =$D51*AG51*(1-$E51) -> 0 | AJ51: =$D51*AG51*(1-$F51) -> 0 | AK51: =$D51*AG51*(1-$G51) -> 0 | AL51: =AF51 -> 2106416 | AN51: =$D51*AM51 -> 0 | AO51: =$D51*AM51*(1-$E51) -> 0 | AP51: =$D51*AM51*(1-$F51) -> 0 | AQ51: =$D51*AM51*(1-$G51) -> 0 | AR51: =AL51 -> 2106416 | AT51: =$D51*AS51 -> 0 | AU51: =$D51*AS51*(1-$E51) -> 0 | AV51: =$D51*AS51*(1-$F51) -> 0 | AW51: =$D51*AS51*(1-$G51) -> 0 | AX51: =AR51 -> 2106416 | AZ51: =$D51*AY51 -> 0 | BA51: =$D51*AY51*(1-$E51) -> 0 | BB51: =$D51*AY51*(1-$F51) -> 0 | BC51: =$D51*AY51*(1-$G51) -> 0 | BD51: =AX51 -> 2106416 | BF51: =$D51*BE51 -> 0 | BG51: =$D51*BE51*(1-$E51) -> 0 | BH51: =$D51*BE51*(1-$F51) -> 0 | BI51: =$D51*BE51*(1-$G51) -> 0 | BJ51: =BD51 -> 2106416 | BL51: =$D51*BK51 -> 0 | BM51: =$D51*BK51*(1-$E51) -> 0 | BN51: =$D51*BK51*(1-$F51) -> 0 | BO51: =$D51*BK51*(1-$G51) -> 0 | BP51: =BJ51 -> 2106416 | BR51: =$D51*BQ51 -> 0 | BS51: =$D51*BQ51*(1-$E51) -> 0 | BT51: =$D51*BQ51*(1-$F51) -> 0 | BU51: =$D51*BQ51*(1-$G51) -> 0 | BV51: =BP51 -> 2106416 | BX51: =$D51*BW51 -> 0 | BY51: =$D51*BW51*(1-$E51) -> 0 | BZ51: =$D51*BW51*(1-$F51) -> 0 | CA51: =$D51*BW51*(1-$G51) -> 0 | CB51: =BV51 -> 2106416 | CD51: =$D51*CC51 -> 0 | CE51: =$D51*CC51*(1-$E51) -> 0 | CF51: =$D51*CC51*(1-$F51) -> 0 | CG51: =$D51*CC51*(1-$G51) -> 0 | CH51: =CB51 -> 2106416 | CJ51: =$D51*CI51 -> 0 | CK51: =$D51*CI51*(1-$E51) -> 0 | CL51: =$D51*CI51*(1-$F51) -> 0 | CM51: =$D51*CI51*(1-$G51) -> 0 | CN51: =CH51 -> 2106416 | CP51: =$D51*CO51 -> 0 | CQ51: =$D51*CO51*(1-$E51) -> 0 | CR51: =$D51*CO51*(1-$F51) -> 0 | CS51: =$D51*CO51*(1-$G51) -> 0 | CT51: =CN51 -> 2106416 | CV51: =$D51*CU51 -> 0 | CW51: =$D51*CU51*(1-$E51) -> 0 | CX51: =$D51*CU51*(1-$F51) -> 0 | CY51: =$D51*CU51*(1-$G51) -> 0 | CZ51: =CT51 -> 2106416 | DB51: =$D51*DA51 -> 0 | DC51: =$D51*DA51*(1-$E51) -> 0 | DD51: =$D51*DA51*(1-$F51) -> 0 | DE51: =$D51*DA51*(1-$G51) -> 0 | DF51: =CZ51 -> 2106416 | DH51: =$D51*DG51 -> 0 | DI51: =$D51*DG51*(1-$E51) -> 0 | DJ51: =$D51*DG51*(1-$F51) -> 0 | DK51: =$D51*DG51*(1-$G51) -> 0 | DL51: =DF51 -> 2106416 | DN51: =$D51*DM51 -> 0 | DO51: =$D51*DM51*(1-$E51) -> 0 | DP51: =$D51*DM51*(1-$F51) -> 0 | DQ51: =$D51*DM51*(1-$G51) -> 0 | DR51: =DL51 -> 2106416 | DT51: =$D51*DS51 -> 0 | DU51: =$D51*DS51*(1-$E51) -> 0 | DV51: =$D51*DS51*(1-$F51) -> 0 | DW51: =$D51*DS51*(1-$G51) -> 0 | DX51: =DR51 -> 2106416 | DZ51: =$D51*DY51 -> 0 | EA51: =$D51*DY51*(1-$E51) -> 0 | EB51: =$D51*DY51*(1-$F51) -> 0 | EC51: =$D51*DY51*(1-$G51) -> 0 | ED51: =DX51 -> 2106416 | EF51: =$D51*EE51 -> 0 | EG51: =$D51*EE51*(1-$E51) -> 0 | EH51: =$D51*EE51*(1-$F51) -> 0 | EI51: =$D51*EE51*(1-$G51) -> 0 | EJ51: =ED51 -> 2106416 | EL51: =$D51*EK51 -> 0 | EM51: =$D51*EK51*(1-$E51) -> 0 | EN51: =$D51*EK51*(1-$F51) -> 0 | EO51: =$D51*EK51*(1-$G51) -> 0 | EP51: =EJ51 -> 2106416 | ER51: =$D51*EQ51 -> 0 | ES51: =$D51*EQ51*(1-$E51) -> 0 | ET51: =$D51*EQ51*(1-$F51) -> 0 | EU51: =$D51*EQ51*(1-$G51) -> 0 | EV51: =EP51 -> 2106416 | EX51: =$D51*EW51 -> 0 | EY51: =$D51*EW51*(1-$E51) -> 0 | EZ51: =$D51*EW51*(1-$F51) -> 0 | FA51: =$D51*EW51*(1-$G51) -> 0
B52: X-GR 35/40 | C52: 2106417 | D52: 1 | E52: 0.055 | F52: 0.107 | G52: 0.157 | H52: =C52 -> 2106417 | I52: 1.2 | J52: =$D52*I52 -> 1.2 | K52: =$D52*I52*(1-$E52) -> 1.134 | L52: =$D52*I52*(1-$F52) -> 1.0716 | M52: =$D52*I52*(1-$G52) -> 1.0116 | N52: =H52 -> 2106417 | O52: 1.4 | P52: =$D52*O52 -> 1.4 | Q52: =$D52*O52*(1-$E52) -> 1.323 | R52: =$D52*O52*(1-$F52) -> 1.2502 | S52: =$D52*O52*(1-$G52) -> 1.1802 | T52: =N52 -> 2106417 | V52: =$D52*U52 -> 0 | W52: =$D52*U52*(1-$E52) -> 0 | X52: =$D52*U52*(1-$F52) -> 0 | Y52: =$D52*U52*(1-$G52) -> 0 | Z52: =T52 -> 2106417 | AB52: =$D52*AA52 -> 0 | AC52: =$D52*AA52*(1-$E52) -> 0 | AD52: =$D52*AA52*(1-$F52) -> 0 | AE52: =$D52*AA52*(1-$G52) -> 0 | AF52: =Z52 -> 2106417 | AH52: =$D52*AG52 -> 0 | AI52: =$D52*AG52*(1-$E52) -> 0 | AJ52: =$D52*AG52*(1-$F52) -> 0 | AK52: =$D52*AG52*(1-$G52) -> 0 | AL52: =AF52 -> 2106417 | AN52: =$D52*AM52 -> 0 | AO52: =$D52*AM52*(1-$E52) -> 0 | AP52: =$D52*AM52*(1-$F52) -> 0 | AQ52: =$D52*AM52*(1-$G52) -> 0 | AR52: =AL52 -> 2106417 | AT52: =$D52*AS52 -> 0 | AU52: =$D52*AS52*(1-$E52) -> 0 | AV52: =$D52*AS52*(1-$F52) -> 0 | AW52: =$D52*AS52*(1-$G52) -> 0 | AX52: =AR52 -> 2106417 | AZ52: =$D52*AY52 -> 0 | BA52: =$D52*AY52*(1-$E52) -> 0 | BB52: =$D52*AY52*(1-$F52) -> 0 | BC52: =$D52*AY52*(1-$G52) -> 0 | BD52: =AX52 -> 2106417 | BF52: =$D52*BE52 -> 0 | BG52: =$D52*BE52*(1-$E52) -> 0 | BH52: =$D52*BE52*(1-$F52) -> 0 | BI52: =$D52*BE52*(1-$G52) -> 0 | BJ52: =BD52 -> 2106417 | BL52: =$D52*BK52 -> 0 | BM52: =$D52*BK52*(1-$E52) -> 0 | BN52: =$D52*BK52*(1-$F52) -> 0 | BO52: =$D52*BK52*(1-$G52) -> 0 | BP52: =BJ52 -> 2106417 | BR52: =$D52*BQ52 -> 0 | BS52: =$D52*BQ52*(1-$E52) -> 0 | BT52: =$D52*BQ52*(1-$F52) -> 0 | BU52: =$D52*BQ52*(1-$G52) -> 0 | BV52: =BP52 -> 2106417 | BX52: =$D52*BW52 -> 0 | BY52: =$D52*BW52*(1-$E52) -> 0 | BZ52: =$D52*BW52*(1-$F52) -> 0 | CA52: =$D52*BW52*(1-$G52) -> 0 | CB52: =BV52 -> 2106417 | CD52: =$D52*CC52 -> 0 | CE52: =$D52*CC52*(1-$E52) -> 0 | CF52: =$D52*CC52*(1-$F52) -> 0 | CG52: =$D52*CC52*(1-$G52) -> 0 | CH52: =CB52 -> 2106417 | CJ52: =$D52*CI52 -> 0 | CK52: =$D52*CI52*(1-$E52) -> 0 | CL52: =$D52*CI52*(1-$F52) -> 0 | CM52: =$D52*CI52*(1-$G52) -> 0 | CN52: =CH52 -> 2106417 | CP52: =$D52*CO52 -> 0 | CQ52: =$D52*CO52*(1-$E52) -> 0 | CR52: =$D52*CO52*(1-$F52) -> 0 | CS52: =$D52*CO52*(1-$G52) -> 0 | CT52: =CN52 -> 2106417 | CV52: =$D52*CU52 -> 0 | CW52: =$D52*CU52*(1-$E52) -> 0 | CX52: =$D52*CU52*(1-$F52) -> 0 | CY52: =$D52*CU52*(1-$G52) -> 0 | CZ52: =CT52 -> 2106417 | DB52: =$D52*DA52 -> 0 | DC52: =$D52*DA52*(1-$E52) -> 0 | DD52: =$D52*DA52*(1-$F52) -> 0 | DE52: =$D52*DA52*(1-$G52) -> 0 | DF52: =CZ52 -> 2106417 | DH52: =$D52*DG52 -> 0 | DI52: =$D52*DG52*(1-$E52) -> 0 | DJ52: =$D52*DG52*(1-$F52) -> 0 | DK52: =$D52*DG52*(1-$G52) -> 0 | DL52: =DF52 -> 2106417 | DN52: =$D52*DM52 -> 0 | DO52: =$D52*DM52*(1-$E52) -> 0 | DP52: =$D52*DM52*(1-$F52) -> 0 | DQ52: =$D52*DM52*(1-$G52) -> 0 | DR52: =DL52 -> 2106417 | DT52: =$D52*DS52 -> 0 | DU52: =$D52*DS52*(1-$E52) -> 0 | DV52: =$D52*DS52*(1-$F52) -> 0 | DW52: =$D52*DS52*(1-$G52) -> 0 | DX52: =DR52 -> 2106417 | DZ52: =$D52*DY52 -> 0 | EA52: =$D52*DY52*(1-$E52) -> 0 | EB52: =$D52*DY52*(1-$F52) -> 0 | EC52: =$D52*DY52*(1-$G52) -> 0 | ED52: =DX52 -> 2106417 | EF52: =$D52*EE52 -> 0 | EG52: =$D52*EE52*(1-$E52) -> 0 | EH52: =$D52*EE52*(1-$F52) -> 0 | EI52: =$D52*EE52*(1-$G52) -> 0 | EJ52: =ED52 -> 2106417 | EL52: =$D52*EK52 -> 0 | EM52: =$D52*EK52*(1-$E52) -> 0 | EN52: =$D52*EK52*(1-$F52) -> 0 | EO52: =$D52*EK52*(1-$G52) -> 0 | EP52: =EJ52 -> 2106417 | ER52: =$D52*EQ52 -> 0 | ES52: =$D52*EQ52*(1-$E52) -> 0 | ET52: =$D52*EQ52*(1-$F52) -> 0 | EU52: =$D52*EQ52*(1-$G52) -> 0 | EV52: =EP52 -> 2106417 | EX52: =$D52*EW52 -> 0 | EY52: =$D52*EW52*(1-$E52) -> 0 | EZ52: =$D52*EW52*(1-$F52) -> 0 | FA52: =$D52*EW52*(1-$G52) -> 0
B53: X-GR 33/37 | C53: 2222597 | D53: 1 | E53: 0.055 | F53: 0.107 | G53: 0.157 | H53: =C53 -> 2222597 | I53: 1.2 | J53: =$D53*I53 -> 1.2 | K53: =$D53*I53*(1-$E53) -> 1.134 | L53: =$D53*I53*(1-$F53) -> 1.0716 | M53: =$D53*I53*(1-$G53) -> 1.0116 | N53: =H53 -> 2222597 | O53: 1.4 | P53: =$D53*O53 -> 1.4 | Q53: =$D53*O53*(1-$E53) -> 1.323 | R53: =$D53*O53*(1-$F53) -> 1.2502 | S53: =$D53*O53*(1-$G53) -> 1.1802 | T53: =N53 -> 2222597 | V53: =$D53*U53 -> 0 | W53: =$D53*U53*(1-$E53) -> 0 | X53: =$D53*U53*(1-$F53) -> 0 | Y53: =$D53*U53*(1-$G53) -> 0 | Z53: =T53 -> 2222597 | AB53: =$D53*AA53 -> 0 | AC53: =$D53*AA53*(1-$E53) -> 0 | AD53: =$D53*AA53*(1-$F53) -> 0 | AE53: =$D53*AA53*(1-$G53) -> 0 | AF53: =Z53 -> 2222597 | AH53: =$D53*AG53 -> 0 | AI53: =$D53*AG53*(1-$E53) -> 0 | AJ53: =$D53*AG53*(1-$F53) -> 0 | AK53: =$D53*AG53*(1-$G53) -> 0 | AL53: =AF53 -> 2222597 | AN53: =$D53*AM53 -> 0 | AO53: =$D53*AM53*(1-$E53) -> 0 | AP53: =$D53*AM53*(1-$F53) -> 0 | AQ53: =$D53*AM53*(1-$G53) -> 0 | AR53: =AL53 -> 2222597 | AT53: =$D53*AS53 -> 0 | AU53: =$D53*AS53*(1-$E53) -> 0 | AV53: =$D53*AS53*(1-$F53) -> 0 | AW53: =$D53*AS53*(1-$G53) -> 0 | AX53: =AR53 -> 2222597 | AZ53: =$D53*AY53 -> 0 | BA53: =$D53*AY53*(1-$E53) -> 0 | BB53: =$D53*AY53*(1-$F53) -> 0 | BC53: =$D53*AY53*(1-$G53) -> 0 | BD53: =AX53 -> 2222597 | BF53: =$D53*BE53 -> 0 | BG53: =$D53*BE53*(1-$E53) -> 0 | BH53: =$D53*BE53*(1-$F53) -> 0 | BI53: =$D53*BE53*(1-$G53) -> 0 | BJ53: =BD53 -> 2222597 | BL53: =$D53*BK53 -> 0 | BM53: =$D53*BK53*(1-$E53) -> 0 | BN53: =$D53*BK53*(1-$F53) -> 0 | BO53: =$D53*BK53*(1-$G53) -> 0 | BP53: =BJ53 -> 2222597 | BR53: =$D53*BQ53 -> 0 | BS53: =$D53*BQ53*(1-$E53) -> 0 | BT53: =$D53*BQ53*(1-$F53) -> 0 | BU53: =$D53*BQ53*(1-$G53) -> 0 | BV53: =BP53 -> 2222597 | BX53: =$D53*BW53 -> 0 | BY53: =$D53*BW53*(1-$E53) -> 0 | BZ53: =$D53*BW53*(1-$F53) -> 0 | CA53: =$D53*BW53*(1-$G53) -> 0 | CB53: =BV53 -> 2222597 | CD53: =$D53*CC53 -> 0 | CE53: =$D53*CC53*(1-$E53) -> 0 | CF53: =$D53*CC53*(1-$F53) -> 0 | CG53: =$D53*CC53*(1-$G53) -> 0 | CH53: =CB53 -> 2222597 | CJ53: =$D53*CI53 -> 0 | CK53: =$D53*CI53*(1-$E53) -> 0 | CL53: =$D53*CI53*(1-$F53) -> 0 | CM53: =$D53*CI53*(1-$G53) -> 0 | CN53: =CH53 -> 2222597 | CP53: =$D53*CO53 -> 0 | CQ53: =$D53*CO53*(1-$E53) -> 0 | CR53: =$D53*CO53*(1-$F53) -> 0 | CS53: =$D53*CO53*(1-$G53) -> 0 | CT53: =CN53 -> 2222597 | CV53: =$D53*CU53 -> 0 | CW53: =$D53*CU53*(1-$E53) -> 0 | CX53: =$D53*CU53*(1-$F53) -> 0 | CY53: =$D53*CU53*(1-$G53) -> 0 | CZ53: =CT53 -> 2222597 | DB53: =$D53*DA53 -> 0 | DC53: =$D53*DA53*(1-$E53) -> 0 | DD53: =$D53*DA53*(1-$F53) -> 0 | DE53: =$D53*DA53*(1-$G53) -> 0 | DF53: =CZ53 -> 2222597 | DH53: =$D53*DG53 -> 0 | DI53: =$D53*DG53*(1-$E53) -> 0 | DJ53: =$D53*DG53*(1-$F53) -> 0 | DK53: =$D53*DG53*(1-$G53) -> 0 | DL53: =DF53 -> 2222597 | DN53: =$D53*DM53 -> 0 | DO53: =$D53*DM53*(1-$E53) -> 0 | DP53: =$D53*DM53*(1-$F53) -> 0 | DQ53: =$D53*DM53*(1-$G53) -> 0 | DR53: =DL53 -> 2222597 | DT53: =$D53*DS53 -> 0 | DU53: =$D53*DS53*(1-$E53) -> 0 | DV53: =$D53*DS53*(1-$F53) -> 0 | DW53: =$D53*DS53*(1-$G53) -> 0 | DX53: =DR53 -> 2222597 | DZ53: =$D53*DY53 -> 0 | EA53: =$D53*DY53*(1-$E53) -> 0 | EB53: =$D53*DY53*(1-$F53) -> 0 | EC53: =$D53*DY53*(1-$G53) -> 0 | ED53: =DX53 -> 2222597 | EF53: =$D53*EE53 -> 0 | EG53: =$D53*EE53*(1-$E53) -> 0 | EH53: =$D53*EE53*(1-$F53) -> 0 | EI53: =$D53*EE53*(1-$G53) -> 0 | EJ53: =ED53 -> 2222597 | EL53: =$D53*EK53 -> 0 | EM53: =$D53*EK53*(1-$E53) -> 0 | EN53: =$D53*EK53*(1-$F53) -> 0 | EO53: =$D53*EK53*(1-$G53) -> 0 | EP53: =EJ53 -> 2222597 | ER53: =$D53*EQ53 -> 0 | ES53: =$D53*EQ53*(1-$E53) -> 0 | ET53: =$D53*EQ53*(1-$F53) -> 0 | EU53: =$D53*EQ53*(1-$G53) -> 0 | EV53: =EP53 -> 2222597 | EX53: =$D53*EW53 -> 0 | EY53: =$D53*EW53*(1-$E53) -> 0 | EZ53: =$D53*EW53*(1-$F53) -> 0 | FA53: =$D53*EW53*(1-$G53) -> 0
