Workbook
Name Countries: Sheet3!$A$1:$A$26
Name ProjectSize: Sheet1!$C$5:$C$8

Sheet Base Source
A1: Product List | C1: Based Price | E1: Discount on Base Price | H1: Australia | J1: Small Size Project - Less than 20.000 gratings fasteners | K1: Medium Size Project - Between 20'000 and 50'000 pcs. grating fasteners | L1: Big Size project - Between 50'000 and 120'000 pcs grating fasteners | M1: Mega Size Project - Bigger than 120'000 pcs of grating fasteners | N1: Azerbaïjan | P1: Small Size Project - Less than 20.000 gratings fasteners | Q1: Medium Size Project - Between 20'000 and 50'000 pcs. grating fasteners | R1: Big Size project - Between 50'000 and 120'000 pcs grating fasteners | S1: Mega Size Project - Bigger than 120'000 pcs of grating fasteners | T1: Bahrain | Z1: Belgium | AF1: Brazil | AL1: Canada | AR1: China | AX1: Egypt | BD1: Finland | BJ1: India | BP1: Indonesia | BV1: Italy | CB1: Malaysia | CH1: Mexico | CN1: Philippines | CT1: Portugal | CZ1: Qatar | DF1: Russia | DL1: Saudi Arabia | DR1: Singapore | DX1: South Korea | ED1: Spain | EJ1: UAE | EP1: UK | EV1: USA
A2: Product Family | B2: Description | C2: Item Number | D2: French "Reference Price" 1 | E2: Medium Size Project | F2: Big Size project | G2: Mega Size Project | H2: Item Number / | I2: C.I.2 | J2: Final Project Price | K2: Final Project Price | L2: Final Project Price | M2: Final Project Price | N2: Item Number | O2: C.I.2 | P2: Final Price for Small Project | Q2: Final Price for Medium Project | R2: Final Price for Big Project | S2: Final Price for Mega Project | T2: Item Number | U2: C.I.2 | V2: Final Price for Small Project | W2: Final Price for Medium Project | X2: Final Price for Big Project | Y2: Final Price for Mega Project | Z2: Item Number | AA2: C.I.2 | AB2: Final Price for Small Project | AC2: Final Price for Medium Project | AD2: Final Price for Big Project | AE2: Final Price for Mega Project | AF2: Item Number | AG2: C.I.2 | AH2: Final Price for Small Project | AI2: Final Price for Medium Project | AJ2: Final Price for Big Project | AK2: Final Price for Mega Project | AL2: Item Number | AM2: C.I.2 | AN2: Final Price for Small Project | AO2: Final Price for Medium Project | AP2: Final Price for Big Project | AQ2: Final Price for Mega Project | AR2: Item Number | AS2: C.I.2 | AT2: Final Price for Small Project | AU2: Final Price for Medium Project | AV2: Final Price for Big Project | AW2: Final Price for Mega Project | AX2: Item Number | AY2: C.I.2 | AZ2: Final Price for Small Project | BA2: Final Price for Medium Project | BB2: Final Price for Big Project | BC2: Final Price for Mega Project | BD2: Item Number | BE2: C.I.2 | BF2: Final Price for Small Project | BG2: Final Price for Medium Project | BH2: Final Price for Big Project | BI2: Final Price for Mega Project | BJ2: Item Number | BK2: C.I.2 | BL2: Final Price for Small Project | BM2: Final Price for Medium Project | BN2: Final Price for Big Project | BO2: Final Price for Mega Project | BP2: Item Number | BQ2: C.I.2 | BR2: Final Price for Small Project | BS2: Final Price for Medium Project | BT2: Final Price for Big Project | BU2: Final Price for Mega Project | BV2: Item Number | BW2: C.I.2 | BX2: Final Price for Small Project | BY2: Final Price for Medium Project | BZ2: Final Price for Big Project | CA2: Final Price for Mega Project | CB2: Item Number | CC2: C.I.2 | CD2: Final Price for Small Project | CE2: Final Price for Medium Project | CF2: Final Price for Big Project | CG2: Final Price for Mega Project | CH2: Item Number | CI2: C.I.2 | CJ2: Final Price for Small Project | CK2: Final Price for Medium Project | CL2: Final Price for Big Project | CM2: Final Price for Mega Project | CN2: Item Number | CO2: C.I.2 | CP2: Final Price for Small Project | CQ2: Final Price for Medium Project | CR2: Final Price for Big Project | CS2: Final Price for Mega Project | CT2: Item Number | CU2: C.I.2 | CV2: Final Price for Small Project | CW2: Final Price for Medium Project | CX2: Final Price for Big Project | CY2: Final Price for Mega Project | CZ2: Item Number | DA2: C.I.2 | DB2: Final Price for Small Project | DC2: Final Price for Medium Project | DD2: Final Price for Big Project | DE2: Final Price for Mega Project | DF2: Item Number | DG2: C.I.2 | DH2: Final Price for Small Project | DI2: Final Price for Medium Project | DJ2: Final Price for Big Project | DK2: Final Price for Mega Project | DL2: Item Number | DM2: C.I.2 | DN2: Final Price for Small Project | DO2: Final Price for Medium Project | DP2: Final Price for Big Project | DQ2: Final Price for Mega Project | DR2: Item Number | DS2: C.I.2 | DT2: Final Price for Small Project | DU2: Final Price for Medium Project | DV2: Final Price for Big Project | DW2: Final Price for Mega Project | DX2: Item Number | DY2: C.I.2 | DZ2: Final Price for Small Project | EA2: Final Price for Medium Project | EB2: Final Price for Big Project | EC2: Final Price for Mega Project | ED2: Item Number | EE2: C.I.2 | EF2: Final Price for Small Project | EG2: Final Price for Medium Project | EH2: Final Price for Big Project | EI2: Final Price for Mega Project | EJ2: Item Number | EK2: C.I.2 | EL2: Final Price for Small Project | EM2: Final Price for Medium Project | EN2: Final Price for Big Project | EO2: Final Price for Mega Project | EP2: Item Number | EQ2: C.I.2 | ER2: Final Price for Small Project | ES2: Final Price for Medium Project | ET2: Final Price for Big Project | EU2: Final Price for Mega Project | EV2: Item Number | EW2: C.I.2 | EX2: Final Price for Small Project | EY2: Final Price for Medium Project | EZ2: Final Price for Big Project | FA2: Final Price for Mega Project
A3: X-BT Threaded Stud | B3: X-BT-GR M8/7 SN 8 | C3: 2194344 | D3: 1 | E3: 0.055 | F3: 0.107 | G3: 0.157 | H3: =C3 -> 2194344 | I3: 1.2 | J3: =$D3*I3 -> 1.2 | K3: =$D3*I3*(1-$E3) -> 1.134 | L3: =$D3*I3*(1-$F3) -> 1.0716 | M3: =$D3*I3*(1-$G3) -> 1.0116 | N3: =H3 -> 2194344 | O3: 1.4 | P3: =$D3*O3 -> 1.4 | Q3: =$D3*O3*(1-$E3) -> 1.323 | R3: =$D3*O3*(1-$F3) -> 1.2502 | S3: =$D3*O3*(1-$G3) -> 1.1802 | T3: =N3 -> 2194344 | V3: =$D3*U3 -> 0 | W3: =$D3*U3*(1-$E3) -> 0 | X3: =$D3*U3*(1-$F3) -> 0 | Y3: =$D3*U3*(1-$G3) -> 0 | Z3: =T3 -> 2194344 | AB3: =$D3*AA3 -> 0 | AC3: =$D3*AA3*(1-$E3) -> 0 | AD3: =$D3*AA3*(1-$F3) -> 0 | AE3: =$D3*AA3*(1-$G3) -> 0 | AF3: =Z3 -> 2194344 | AH3: =$D3*AG3 -> 0 | AI3: =$D3*AG3*(1-$E3) -> 0 | AJ3: =$D3*AG3*(1-$F3) -> 0 | AK3: =$D3*AG3*(1-$G3) -> 0 | AL3: =AF3 -> 2194344 | AN3: =$D3*AM3 -> 0 | AO3: =$D3*AM3*(1-$E3) -> 0 | AP3: =$D3*AM3*(1-$F3) -> 0 | AQ3: =$D3*AM3*(1-$G3) -> 0 | AR3: =AL3 -> 2194344 | AT3: =$D3*AS3 -> 0 | AU3: =$D3*AS3*(1-$E3) -> 0 | AV3: =$D3*AS3*(1-$F3) -> 0 | AW3: =$D3*AS3*(1-$G3) -> 0 | AX3: =AR3 -> 2194344 | AZ3: =$D3*AY3 -> 0 | BA3: =$D3*AY3*(1-$E3) -> 0 | BB3: =$D3*AY3*(1-$F3) -> 0 | BC3: =$D3*AY3*(1-$G3) -> 0 | BD3: =AX3 -> 2194344 | BF3: =$D3*BE3 -> 0 | BG3: =$D3*BE3*(1-$E3) -> 0 | BH3: =$D3*BE3*(1-$F3) -> 0 | BI3: =$D3*BE3*(1-$G3) -> 0 | BJ3: =BD3 -> 2194344 | BL3: =$D3*BK3 -> 0 | BM3: =$D3*BK3*(1-$E3) -> 0 | BN3: =$D3*BK3*(1-$F3) -> 0 | BO3: =$D3*BK3*(1-$G3) -> 0 | BP3: =BJ3 -> 2194344 | BR3: =$D3*BQ3 -> 0 | BS3: =$D3*BQ3*(1-$E3) -> 0 | BT3: =$D3*BQ3*(1-$F3) -> 0 | BU3: =$D3*BQ3*(1-$G3) -> 0 | BV3: =BP3 -> 2194344 | BX3: =$D3*BW3 -> 0 | BY3: =$D3*BW3*(1-$E3) -> 0 | BZ3: =$D3*BW3*(1-$F3) -> 0 | CA3: =$D3*BW3*(1-$G3) -> 0 | CB3: =BV3 -> 2194344 | CD3: =$D3*CC3 -> 0 | CE3: =$D3*CC3*(1-$E3) -> 0 | CF3: =$D3*CC3*(1-$F3) -> 0 | CG3: =$D3*CC3*(1-$G3) -> 0 | CH3: =CB3 -> 2194344 | CJ3: =$D3*CI3 -> 0 | CK3: =$D3*CI3*(1-$E3) -> 0 | CL3: =$D3*CI3*(1-$F3) -> 0 | CM3: =$D3*CI3*(1-$G3) -> 0 | CN3: =CH3 -> 2194344 | CP3: =$D3*CO3 -> 0 | CQ3: =$D3*CO3*(1-$E3) -> 0 | CR3: =$D3*CO3*(1-$F3) -> 0 | CS3: =$D3*CO3*(1-$G3) -> 0 | CT3: =CN3 -> 2194344 | CV3: =$D3*CU3 -> 0 | CW3: =$D3*CU3*(1-$E3) -> 0 | CX3: =$D3*CU3*(1-$F3) -> 0 | CY3: =$D3*CU3*(1-$G3) -> 0 | CZ3: =CT3 -> 2194344 | DB3: =$D3*DA3 -> 0 | DC3: =$D3*DA3*(1-$E3) -> 0 | DD3: =$D3*DA3*(1-$F3) -> 0 | DE3: =$D3*DA3*(1-$G3) -> 0 | DF3: =CZ3 -> 2194344 | DH3: =$D3*DG3 -> 0 | DI3: =$D3*DG3*(1-$E3) -> 0 | DJ3: =$D3*DG3*(1-$F3) -> 0 | DK3: =$D3*DG3*(1-$G3) -> 0 | DL3: =DF3 -> 2194344 | DN3: =$D3*DM3 -> 0 | DO3: =$D3*DM3*(1-$E3) -> 0 | DP3: =$D3*DM3*(1-$F3) -> 0 | DQ3: =$D3*DM3*(1-$G3) -> 0 | DR3: =DL3 -> 2194344 | DT3: =$D3*DS3 -> 0 | DU3: =$D3*DS3*(1-$E3) -> 0 | DV3: =$D3*DS3*(1-$F3) -> 0 | DW3: =$D3*DS3*(1-$G3) -> 0 | DX3: =DR3 -> 2194344 | DZ3: =$D3*DY3 -> 0 | EA3: =$D3*DY3*(1-$E3) -> 0 | EB3: =$D3*DY3*(1-$F3) -> 0 | EC3: =$D3*DY3*(1-$G3) -> 0 | ED3: =DX3 -> 2194344 | EF3: =$D3*EE3 -> 0 | EG3: =$D3*EE3*(1-$E3) -> 0 | EH3: =$D3*EE3*(1-$F3) -> 0 | EI3: =$D3*EE3*(1-$G3) -> 0 | EJ3: =ED3 -> 2194344 | EL3: =$D3*EK3 -> 0 | EM3: =$D3*EK3*(1-$E3) -> 0 | EN3: =$D3*EK3*(1-$F3) -> 0 | EO3: =$D3*EK3*(1-$G3) -> 0 | EP3: =EJ3 -> 2194344 | ER3: =$D3*EQ3 -> 0 | ES3: =$D3*EQ3*(1-$E3) -> 0 | ET3: =$D3*EQ3*(1-$F3) -> 0 | EU3: =$D3*EQ3*(1-$G3) -> 0 | EV3: =EP3 -> 2194344 | EX3: =$D3*EW3 -> 0 | EY3: =$D3*EW3*(1-$E3) -> 0 | EZ3: =$D3*EW3*(1-$F3) -> 0 | FA3: =$D3*EW3*(1-$G3) -> 0
A4: X-BT Threaded Stud | B4: X-BT-MF M10/10 SN 4 | C4: 2083549 | D4: 1 | E4: 0.055 | F4: 0.107 | G4: 0.157 | H4: =C4 -> 2083549 | I4: 1.2 | J4: =$D4*I4 -> 1.2 | K4: =$D4*I4*(1-$E4) -> 1.134 | L4: =$D4*I4*(1-$F4) -> 1.0716 | M4: =$D4*I4*(1-$G4) -> 1.0116 | N4: =H4 -> 2083549 | O4: 1.4 | P4: =$D4*O4 -> 1.4 | Q4: =$D4*O4*(1-$E4) -> 1.323 | R4: =$D4*O4*(1-$F4) -> 1.2502 | S4: =$D4*O4*(1-$G4) -> 1.1802 | T4: =N4 -> 2083549 | V4: =$D4*U4 -> 0 | W4: =$D4*U4*(1-$E4) -> 0 | X4: =$D4*U4*(1-$F4) -> 0 | Y4: =$D4*U4*(1-$G4) -> 0 | Z4: =T4 -> 2083549 | AB4: =$D4*AA4 -> 0 | AC4: =$D4*AA4*(1-$E4) -> 0 | AD4: =$D4*AA4*(1-$F4) -> 0 | AE4: =$D4*AA4*(1-$G4) -> 0 | AF4: =Z4 -> 2083549 | AH4: =$D4*AG4 -> 0 | AI4: =$D4*AG4*(1-$E4) -> 0 | AJ4: =$D4*AG4*(1-$F4) -> 0 | AK4: =$D4*AG4*(1-$G4) -> 0 | AL4: =AF4 -> 2083549 | AN4: =$D4*AM4 -> 0 | AO4: =$D4*AM4*(1-$E4) -> 0 | AP4: =$D4*AM4*(1-$F4) -> 0 | AQ4: =$D4*AM4*(1-$G4) -> 0 | AR4: =AL4 -> 2083549 | AT4: =$D4*AS4 -> 0 | AU4: =$D4*AS4*(1-$E4) -> 0 | AV4: =$D4*AS4*(1-$F4) -> 0 | AW4: =$D4*AS4*(1-$G4) -> 0 | AX4: =AR4 -> 2083549 | AZ4: =$D4*AY4 -> 0 | BA4: =$D4*AY4*(1-$E4) -> 0 | BB4: =$D4*AY4*(1-$F4) -> 0 | BC4: =$D4*AY4*(1-$G4) -> 0 | BD4: =AX4 -> 2083549 | BF4: =$D4*BE4 -> 0 | BG4: =$D4*BE4*(1-$E4) -> 0 | BH4: =$D4*BE4*(1-$F4) -> 0 | BI4: =$D4*BE4*(1-$G4) -> 0 | BJ4: =BD4 -> 2083549 | BL4: =$D4*BK4 -> 0 | BM4: =$D4*BK4*(1-$E4) -> 0 | BN4: =$D4*BK4*(1-$F4) -> 0 | BO4: =$D4*BK4*(1-$G4) -> 0 | BP4: =BJ4 -> 2083549 | BR4: =$D4*BQ4 -> 0 | BS4: =$D4*BQ4*(1-$E4) -> 0 | BT4: =$D4*BQ4*(1-$F4) -> 0 | BU4: =$D4*BQ4*(1-$G4) -> 0 | BV4: =BP4 -> 2083549 | BX4: =$D4*BW4 -> 0 | BY4: =$D4*BW4*(1-$E4) -> 0 | BZ4: =$D4*BW4*(1-$F4) -> 0 | CA4: =$D4*BW4*(1-$G4) -> 0 | CB4: =BV4 -> 2083549 | CD4: =$D4*CC4 -> 0 | CE4: =$D4*CC4*(1-$E4) -> 0 | CF4: =$D4*CC4*(1-$F4) -> 0 | CG4: =$D4*CC4*(1-$G4) -> 0 | CH4: =CB4 -> 2083549 | CJ4: =$D4*CI4 -> 0 | CK4: =$D4*CI4*(1-$E4) -> 0 | CL4: =$D4*CI4*(1-$F4) -> 0 | CM4: =$D4*CI4*(1-$G4) -> 0 | CN4: =CH4 -> 2083549 | CP4: =$D4*CO4 -> 0 | CQ4: =$D4*CO4*(1-$E4) -> 0 | CR4: =$D4*CO4*(1-$F4) -> 0 | CS4: =$D4*CO4*(1-$G4) -> 0 | CT4: =CN4 -> 2083549 | CV4: =$D4*CU4 -> 0 | CW4: =$D4*CU4*(1-$E4) -> 0 | CX4: =$D4*CU4*(1-$F4) -> 0 | CY4: =$D4*CU4*(1-$G4) -> 0 | CZ4: =CT4 -> 2083549 | DB4: =$D4*DA4 -> 0 | DC4: =$D4*DA4*(1-$E4) -> 0 | DD4: =$D4*DA4*(1-$F4) -> 0 | DE4: =$D4*DA4*(1-$G4) -> 0 | DF4: =CZ4 -> 2083549 | DH4: =$D4*DG4 -> 0 | DI4: =$D4*DG4*(1-$E4) -> 0 | DJ4: =$D4*DG4*(1-$F4) -> 0 | DK4: =$D4*DG4*(1-$G4) -> 0 | DL4: =DF4 -> 2083549 | DN4: =$D4*DM4 -> 0 | DO4: =$D4*DM4*(1-$E4) -> 0 | DP4: =$D4*DM4*(1-$F4) -> 0 | DQ4: =$D4*DM4*(1-$G4) -> 0 | DR4: =DL4 -> 2083549 | DT4: =$D4*DS4 -> 0 | DU4: =$D4*DS4*(1-$E4) -> 0 | DV4: =$D4*DS4*(1-$F4) -> 0 | DW4: =$D4*DS4*(1-$G4) -> 0 | DX4: =DR4 -> 2083549 | DZ4: =$D4*DY4 -> 0 | EA4: =$D4*DY4*(1-$E4) -> 0 | EB4: =$D4*DY4*(1-$F4) -> 0 | EC4: =$D4*DY4*(1-$G4) -> 0 | ED4: =DX4 -> 2083549 | EF4: =$D4*EE4 -> 0 | EG4: =$D4*EE4*(1-$E4) -> 0 | EH4: =$D4*EE4*(1-$F4) -> 0 | EI4: =$D4*EE4*(1-$G4) -> 0 | EJ4: =ED4 -> 2083549 | EL4: =$D4*EK4 -> 0 | EM4: =$D4*EK4*(1-$E4) -> 0 | EN4: =$D4*EK4*(1-$F4) -> 0 | EO4: =$D4*EK4*(1-$G4) -> 0 | EP4: =EJ4 -> 2083549 | ER4: =$D4*EQ4 -> 0 | ES4: =$D4*EQ4*(1-$E4) -> 0 | ET4: =$D4*EQ4*(1-$F4) -> 0 | EU4: =$D4*EQ4*(1-$G4) -> 0 | EV4: =EP4 -> 2083549 | EX4: =$D4*EW4 -> 0 | EY4: =$D4*EW4*(1-$E4) -> 0 | EZ4: =$D4*EW4*(1-$F4) -> 0 | FA4: =$D4*EW4*(1-$G4) -> 0
A5: X-BT Threaded Stud | B5: X-BT-MR M8/14 N 8 | C5: 2194339 | D5: 1 | E5: 0.055 | F5: 0.107 | G5: 0.157 | H5: =C5 -> 2194339 | I5: 1.2 | J5: =$D5*I5 -> 1.2 | K5: =$D5*I5*(1-$E5) -> 1.134 | L5: =$D5*I5*(1-$F5) -> 1.0716 | M5: =$D5*I5*(1-$G5) -> 1.0116 | N5: =H5 -> 2194339 | O5: 1.4 | P5: =$D5*O5 -> 1.4 | Q5: =$D5*O5*(1-$E5) -> 1.323 | R5: =$D5*O5*(1-$F5) -> 1.2502 | S5: =$D5*O5*(1-$G5) -> 1.1802 | T5: =N5 -> 2194339 | V5: =$D5*U5 -> 0 | W5: =$D5*U5*(1-$E5) -> 0 | X5: =$D5*U5*(1-$F5) -> 0 | Y5: =$D5*U5*(1-$G5) -> 0 | Z5: =T5 -> 2194339 | AB5: =$D5*AA5 -> 0 | AC5: =$D5*AA5*(1-$E5) -> 0 | AD5: =$D5*AA5*(1-$F5) -> 0 | AE5: =$D5*AA5*(1-$G5) -> 0 | AF5: =Z5 -> 2194339 | AH5: =$D5*AG5 -> 0 | AI5: =$D5*AG5*(1-$E5) -> 0 | AJ5: =$D5*AG5*(1-$F5) -> 0 | AK5: =$D5*AG5*(1-$G5) -> 0 | AL5: =AF5 -> 2194339 | AN5: =$D5*AM5 -> 0 | AO5: =$D5*AM5*(1-$E5) -> 0 | AP5: =$D5*AM5*(1-$F5) -> 0 | AQ5: =$D5*AM5*(1-$G5) -> 0 | AR5: =AL5 -> 2194339 | AT5: =$D5*AS5 -> 0 | AU5: =$D5*AS5*(1-$E5) -> 0 | AV5: =$D5*AS5*(1-$F5) -> 0 | AW5: =$D5*AS5*(1-$G5) -> 0 | AX5: =AR5 -> 2194339 | AZ5: =$D5*AY5 -> 0 | BA5: =$D5*AY5*(1-$E5) -> 0 | BB5: =$D5*AY5*(1-$F5) -> 0 | BC5: =$D5*AY5*(1-$G5) -> 0 | BD5: =AX5 -> 2194339 | BF5: =$D5*BE5 -> 0 | BG5: =$D5*BE5*(1-$E5) -> 0 | BH5: =$D5*BE5*(1-$F5) -> 0 | BI5: =$D5*BE5*(1-$G5) -> 0 | BJ5: =BD5 -> 2194339 | BL5: =$D5*BK5 -> 0 | BM5: =$D5*BK5*(1-$E5) -> 0 | BN5: =$D5*BK5*(1-$F5) -> 0 | BO5: =$D5*BK5*(1-$G5) -> 0 | BP5: =BJ5 -> 2194339 | BR5: =$D5*BQ5 -> 0 | BS5: =$D5*BQ5*(1-$E5) -> 0 | BT5: =$D5*BQ5*(1-$F5) -> 0 | BU5: =$D5*BQ5*(1-$G5) -> 0 | BV5: =BP5 -> 2194339 | BX5: =$D5*BW5 -> 0 | BY5: =$D5*BW5*(1-$E5) -> 0 | BZ5: =$D5*BW5*(1-$F5) -> 0 | CA5: =$D5*BW5*(1-$G5) -> 0 | CB5: =BV5 -> 2194339 | CD5: =$D5*CC5 -> 0 | CE5: =$D5*CC5*(1-$E5) -> 0 | CF5: =$D5*CC5*(1-$F5) -> 0 | CG5: =$D5*CC5*(1-$G5) -> 0 | CH5: =CB5 -> 2194339 | CJ5: =$D5*CI5 -> 0 | CK5: =$D5*CI5*(1-$E5) -> 0 | CL5: =$D5*CI5*(1-$F5) -> 0 | CM5: =$D5*CI5*(1-$G5) -> 0 | CN5: =CH5 -> 2194339 | CP5: =$D5*CO5 -> 0 | CQ5: =$D5*CO5*(1-$E5) -> 0 | CR5: =$D5*CO5*(1-$F5) -> 0 | CS5: =$D5*CO5*(1-$G5) -> 0 | CT5: =CN5 -> 2194339 | CV5: =$D5*CU5 -> 0 | CW5: =$D5*CU5*(1-$E5) -> 0 | CX5: =$D5*CU5*(1-$F5) -> 0 | CY5: =$D5*CU5*(1-$G5) -> 0 | CZ5: =CT5 -> 2194339 | DB5: =$D5*DA5 -> 0 | DC5: =$D5*DA5*(1-$E5) -> 0 | DD5: =$D5*DA5*(1-$F5) -> 0 | DE5: =$D5*DA5*(1-$G5) -> 0 | DF5: =CZ5 -> 2194339 | DH5: =$D5*DG5 -> 0 | DI5: =$D5*DG5*(1-$E5) -> 0 | DJ5: =$D5*DG5*(1-$F5) -> 0 | DK5: =$D5*DG5*(1-$G5) -> 0 | DL5: =DF5 -> 2194339 | DN5: =$D5*DM5 -> 0 | DO5: =$D5*DM5*(1-$E5) -> 0 | DP5: =$D5*DM5*(1-$F5) -> 0 | DQ5: =$D5*DM5*(1-$G5) -> 0 | DR5: =DL5 -> 2194339 | DT5: =$D5*DS5 -> 0 | DU5: =$D5*DS5*(1-$E5) -> 0 | DV5: =$D5*DS5*(1-$F5) -> 0 | DW5: =$D5*DS5*(1-$G5) -> 0 | DX5: =DR5 -> 2194339 | DZ5: =$D5*DY5 -> 0 | EA5: =$D5*DY5*(1-$E5) -> 0 | EB5: =$D5*DY5*(1-$F5) -> 0 | EC5: =$D5*DY5*(1-$G5) -> 0 | ED5: =DX5 -> 2194339 | EF5: =$D5*EE5 -> 0 | EG5: =$D5*EE5*(1-$E5) -> 0 | EH5: =$D5*EE5*(1-$F5) -> 0 | EI5: =$D5*EE5*(1-$G5) -> 0 | EJ5: =ED5 -> 2194339 | EL5: =$D5*EK5 -> 0 | EM5: =$D5*EK5*(1-$E5) -> 0 | EN5: =$D5*EK5*(1-$F5) -> 0 | EO5: =$D5*EK5*(1-$G5) -> 0 | EP5: =EJ5 -> 2194339 | ER5: =$D5*EQ5 -> 0 | ES5: =$D5*EQ5*(1-$E5) -> 0 | ET5: =$D5*EQ5*(1-$F5) -> 0 | EU5: =$D5*EQ5*(1-$G5) -> 0 | EV5: =EP5 -> 2194339 | EX5: =$D5*EW5 -> 0 | EY5: =$D5*EW5*(1-$E5) -> 0 | EZ5: =$D5*EW5*(1-$F5) -> 0 | FA5: =$D5*EW5*(1-$G5) -> 0
A6: X-BT Threaded Stud | B6: X-BT-MR M10/15 SN 8 | C6: 2194340 | D6: 1 | E6: 0.055 | F6: 0.107 | G6: 0.157 | H6: =C6 -> 2194340 | I6: 1.2 | J6: =$D6*I6 -> 1.2 | K6: =$D6*I6*(1-$E6) -> 1.134 | L6: =$D6*I6*(1-$F6) -> 1.0716 | M6: =$D6*I6*(1-$G6) -> 1.0116 | N6: =H6 -> 2194340 | O6: 1.4 | P6: =$D6*O6 -> 1.4 | Q6: =$D6*O6*(1-$E6) -> 1.323 | R6: =$D6*O6*(1-$F6) -> 1.2502 | S6: =$D6*O6*(1-$G6) -> 1.1802 | T6: =N6 -> 2194340 | V6: =$D6*U6 -> 0 | W6: =$D6*U6*(1-$E6) -> 0 | X6: =$D6*U6*(1-$F6) -> 0 | Y6: =$D6*U6*(1-$G6) -> 0 | Z6: =T6 -> 2194340 | AB6: =$D6*AA6 -> 0 | AC6: =$D6*AA6*(1-$E6) -> 0 | AD6: =$D6*AA6*(1-$F6) -> 0 | AE6: =$D6*AA6*(1-$G6) -> 0 | AF6: =Z6 -> 2194340 | AH6: =$D6*AG6 -> 0 | AI6: =$D6*AG6*(1-$E6) -> 0 | AJ6: =$D6*AG6*(1-$F6) -> 0 | AK6: =$D6*AG6*(1-$G6) -> 0 | AL6: =AF6 -> 2194340 | AN6: =$D6*AM6 -> 0 | AO6: =$D6*AM6*(1-$E6) -> 0 | AP6: =$D6*AM6*(1-$F6) -> 0 | AQ6: =$D6*AM6*(1-$G6) -> 0 | AR6: =AL6 -> 2194340 | AT6: =$D6*AS6 -> 0 | AU6: =$D6*AS6*(1-$E6) -> 0 | AV6: =$D6*AS6*(1-$F6) -> 0 | AW6: =$D6*AS6*(1-$G6) -> 0 | AX6: =AR6 -> 2194340 | AZ6: =$D6*AY6 -> 0 | BA6: =$D6*AY6*(1-$E6) -> 0 | BB6: =$D6*AY6*(1-$F6) -> 0 | BC6: =$D6*AY6*(1-$G6) -> 0 | BD6: =AX6 -> 2194340 | BF6: =$D6*BE6 -> 0 | BG6: =$D6*BE6*(1-$E6) -> 0 | BH6: =$D6*BE6*(1-$F6) -> 0 | BI6: =$D6*BE6*(1-$G6) -> 0 | BJ6: =BD6 -> 2194340 | BL6: =$D6*BK6 -> 0 | BM6: =$D6*BK6*(1-$E6) -> 0 | BN6: =$D6*BK6*(1-$F6) -> 0 | BO6: =$D6*BK6*(1-$G6) -> 0 | BP6: =BJ6 -> 2194340 | BR6: =$D6*BQ6 -> 0 | BS6: =$D6*BQ6*(1-$E6) -> 0 | BT6: =$D6*BQ6*(1-$F6) -> 0 | BU6: =$D6*BQ6*(1-$G6) -> 0 | BV6: =BP6 -> 2194340 | BX6: =$D6*BW6 -> 0 | BY6: =$D6*BW6*(1-$E6) -> 0 | BZ6: =$D6*BW6*(1-$F6) -> 0 | CA6: =$D6*BW6*(1-$G6) -> 0 | CB6: =BV6 -> 2194340 | CD6: =$D6*CC6 -> 0 | CE6: =$D6*CC6*(1-$E6) -> 0 | CF6: =$D6*CC6*(1-$F6) -> 0 | CG6: =$D6*CC6*(1-$G6) -> 0 | CH6: =CB6 -> 2194340 | CJ6: =$D6*CI6 -> 0 | CK6: =$D6*CI6*(1-$E6) -> 0 | CL6: =$D6*CI6*(1-$F6) -> 0 | CM6: =$D6*CI6*(1-$G6) -> 0 | CN6: =CH6 -> 2194340 | CP6: =$D6*CO6 -> 0 | CQ6: =$D6*CO6*(1-$E6) -> 0 | CR6: =$D6*CO6*(1-$F6) -> 0 | CS6: =$D6*CO6*(1-$G6) -> 0 | CT6: =CN6 -> 2194340 | CV6: =$D6*CU6 -> 0 | CW6: =$D6*CU6*(1-$E6) -> 0 | CX6: =$D6*CU6*(1-$F6) -> 0 | CY6: =$D6*CU6*(1-$G6) -> 0 | CZ6: =CT6 -> 2194340 | DB6: =$D6*DA6 -> 0 | DC6: =$D6*DA6*(1-$E6) -> 0 | DD6: =$D6*DA6*(1-$F6) -> 0 | DE6: =$D6*DA6*(1-$G6) -> 0 | DF6: =CZ6 -> 2194340 | DH6: =$D6*DG6 -> 0 | DI6: =$D6*DG6*(1-$E6) -> 0 | DJ6: =$D6*DG6*(1-$F6) -> 0 | DK6: =$D6*DG6*(1-$G6) -> 0 | DL6: =DF6 -> 2194340 | DN6: =$D6*DM6 -> 0 | DO6: =$D6*DM6*(1-$E6) -> 0 | DP6: =$D6*DM6*(1-$F6) -> 0 | DQ6: =$D6*DM6*(1-$G6) -> 0 | DR6: =DL6 -> 2194340 | DT6: =$D6*DS6 -> 0 | DU6: =$D6*DS6*(1-$E6) -> 0 | DV6: =$D6*DS6*(1-$F6) -> 0 | DW6: =$D6*DS6*(1-$G6) -> 0 | DX6: =DR6 -> 2194340 | DZ6: =$D6*DY6 -> 0 | EA6: =$D6*DY6*(1-$E6) -> 0 | EB6: =$D6*DY6*(1-$F6) -> 0 | EC6: =$D6*DY6*(1-$G6) -> 0 | ED6: =DX6 -> 2194340 | EF6: =$D6*EE6 -> 0 | EG6: =$D6*EE6*(1-$E6) -> 0 | EH6: =$D6*EE6*(1-$F6) -> 0 | EI6: =$D6*EE6*(1-$G6) -> 0 | EJ6: =ED6 -> 2194340 | EL6: =$D6*EK6 -> 0 | EM6: =$D6*EK6*(1-$E6) -> 0 | EN6: =$D6*EK6*(1-$F6) -> 0 | EO6: =$D6*EK6*(1-$G6) -> 0 | EP6: =EJ6 -> 2194340 | ER6: =$D6*EQ6 -> 0 | ES6: =$D6*EQ6*(1-$E6) -> 0 | ET6: =$D6*EQ6*(1-$F6) -> 0 | EU6: =$D6*EQ6*(1-$G6) -> 0 | EV6: =EP6 -> 2194340 | EX6: =$D6*EW6 -> 0 | EY6: =$D6*EW6*(1-$E6) -> 0 | EZ6: =$D6*EW6*(1-$F6) -> 0 | FA6: =$D6*EW6*(1-$G6) -> 0
A7: X-BT Threaded Stud | B7: X-BT-ER M8/7 SN 8 | C7: 2194351 | D7: 1 | E7: 0.055 | F7: 0.107 | G7: 0.157 | H7: =C7 -> 2194351 | I7: 1.2 | J7: =$D7*I7 -> 1.2 | K7: =$D7*I7*(1-$E7) -> 1.134 | L7: =$D7*I7*(1-$F7) -> 1.0716 | M7: =$D7*I7*(1-$G7) -> 1.0116 | N7: =H7 -> 2194351 | O7: 1.4 | P7: =$D7*O7 -> 1.4 | Q7: =$D7*O7*(1-$E7) -> 1.323 | R7: =$D7*O7*(1-$F7) -> 1.2502 | S7: =$D7*O7*(1-$G7) -> 1.1802 | T7: =N7 -> 2194351 | V7: =$D7*U7 -> 0 | W7: =$D7*U7*(1-$E7) -> 0 | X7: =$D7*U7*(1-$F7) -> 0 | Y7: =$D7*U7*(1-$G7) -> 0 | Z7: =T7 -> 2194351 | AB7: =$D7*AA7 -> 0 | AC7: =$D7*AA7*(1-$E7) -> 0 | AD7: =$D7*AA7*(1-$F7) -> 0 | AE7: =$D7*AA7*(1-$G7) -> 0 | AF7: =Z7 -> 2194351 | AH7: =$D7*AG7 -> 0 | AI7: =$D7*AG7*(1-$E7) -> 0 | AJ7: =$D7*AG7*(1-$F7) -> 0 | AK7: =$D7*AG7*(1-$G7) -> 0 | AL7: =AF7 -> 2194351 | AN7: =$D7*AM7 -> 0 | AO7: =$D7*AM7*(1-$E7) -> 0 | AP7: =$D7*AM7*(1-$F7) -> 0 | AQ7: =$D7*AM7*(1-$G7) -> 0 | AR7: =AL7 -> 2194351 | AT7: =$D7*AS7 -> 0 | AU7: =$D7*AS7*(1-$E7) -> 0 | AV7: =$D7*AS7*(1-$F7) -> 0 | AW7: =$D7*AS7*(1-$G7) -> 0 | AX7: =AR7 -> 2194351 | AZ7: =$D7*AY7 -> 0 | BA7: =$D7*AY7*(1-$E7) -> 0 | BB7: =$D7*AY7*(1-$F7) -> 0 | BC7: =$D7*AY7*(1-$G7) -> 0 | BD7: =AX7 -> 2194351 | BF7: =$D7*BE7 -> 0 | BG7: =$D7*BE7*(1-$E7) -> 0 | BH7: =$D7*BE7*(1-$F7) -> 0 | BI7: =$D7*BE7*(1-$G7) -> 0 | BJ7: =BD7 -> 2194351 | BL7: =$D7*BK7 -> 0 | BM7: =$D7*BK7*(1-$E7) -> 0 | BN7: =$D7*BK7*(1-$F7) -> 0 | BO7: =$D7*BK7*(1-$G7) -> 0 | BP7: =BJ7 -> 2194351 | BR7: =$D7*BQ7 -> 0 | BS7: =$D7*BQ7*(1-$E7) -> 0 | BT7: =$D7*BQ7*(1-$F7) -> 0 | BU7: =$D7*BQ7*(1-$G7) -> 0 | BV7: =BP7 -> 2194351 | BX7: =$D7*BW7 -> 0 | BY7: =$D7*BW7*(1-$E7) -> 0 | BZ7: =$D7*BW7*(1-$F7) -> 0 | CA7: =$D7*BW7*(1-$G7) -> 0 | CB7: =BV7 -> 2194351 | CD7: =$D7*CC7 -> 0 | CE7: =$D7*CC7*(1-$E7) -> 0 | CF7: =$D7*CC7*(1-$F7) -> 0 | CG7: =$D7*CC7*(1-$G7) -> 0 | CH7: =CB7 -> 2194351 | CJ7: =$D7*CI7 -> 0 | CK7: =$D7*CI7*(1-$E7) -> 0 | CL7: =$D7*CI7*(1-$F7) -> 0 | CM7: =$D7*CI7*(1-$G7) -> 0 | CN7: =CH7 -> 2194351 | CP7: =$D7*CO7 -> 0 | CQ7: =$D7*CO7*(1-$E7) -> 0 | CR7: =$D7*CO7*(1-$F7) -> 0 | CS7: =$D7*CO7*(1-$G7) -> 0 | CT7: =CN7 -> 2194351 | CV7: =$D7*CU7 -> 0 | CW7: =$D7*CU7*(1-$E7) -> 0 | CX7: =$D7*CU7*(1-$F7) -> 0 | CY7: =$D7*CU7*(1-$G7) -> 0 | CZ7: =CT7 -> 2194351 | DB7: =$D7*DA7 -> 0 | DC7: =$D7*DA7*(1-$E7) -> 0 | DD7: =$D7*DA7*(1-$F7) -> 0 | DE7: =$D7*DA7*(1-$G7) -> 0 | DF7: =CZ7 -> 2194351 | DH7: =$D7*DG7 -> 0 | DI7: =$D7*DG7*(1-$E7) -> 0 | DJ7: =$D7*DG7*(1-$F7) -> 0 | DK7: =$D7*DG7*(1-$G7) -> 0 | DL7: =DF7 -> 2194351 | DN7: =$D7*DM7 -> 0 | DO7: =$D7*DM7*(1-$E7) -> 0 | DP7: =$D7*DM7*(1-$F7) -> 0 | DQ7: =$D7*DM7*(1-$G7) -> 0 | DR7: =DL7 -> 2194351 | DT7: =$D7*DS7 -> 0 | DU7: =$D7*DS7*(1-$E7) -> 0 | DV7: =$D7*DS7*(1-$F7) -> 0 | DW7: =$D7*DS7*(1-$G7) -> 0 | DX7: =DR7 -> 2194351 | DZ7: =$D7*DY7 -> 0 | EA7: =$D7*DY7*(1-$E7) -> 0 | EB7: =$D7*DY7*(1-$F7) -> 0 | EC7: =$D7*DY7*(1-$G7) -> 0 | ED7: =DX7 -> 2194351 | EF7: =$D7*EE7 -> 0 | EG7: =$D7*EE7*(1-$E7) -> 0 | EH7: =$D7*EE7*(1-$F7) -> 0 | EI7: =$D7*EE7*(1-$G7) -> 0 | EJ7: =ED7 -> 2194351 | EL7: =$D7*EK7 -> 0 | EM7: =$D7*EK7*(1-$E7) -> 0 | EN7: =$D7*EK7*(1-$F7) -> 0 | EO7: =$D7*EK7*(1-$G7) -> 0 | EP7: =EJ7 -> 2194351 | ER7: =$D7*EQ7 -> 0 | ES7: =$D7*EQ7*(1-$E7) -> 0 | ET7: =$D7*EQ7*(1-$F7) -> 0 | EU7: =$D7*EQ7*(1-$G7) -> 0 | EV7: =EP7 -> 2194351 | EX7: =$D7*EW7 -> 0 | EY7: =$D7*EW7*(1-$E7) -> 0 | EZ7: =$D7*EW7*(1-$F7) -> 0 | FA7: =$D7*EW7*(1-$G7) -> 0
A8: X-BT Threaded Stud | B8: X-BT-ER M8/7 SN 8 | C8: 2103095 | D8: 1 | E8: 0.055 | F8: 0.107 | G8: 0.157 | H8: =C8 -> 2103095 | I8: 1.2 | J8: =$D8*I8 -> 1.2 | K8: =$D8*I8*(1-$E8) -> 1.134 | L8: =$D8*I8*(1-$F8) -> 1.0716 | M8: =$D8*I8*(1-$G8) -> 1.0116 | N8: =H8 -> 2103095 | O8: 1.4 | P8: =$D8*O8 -> 1.4 | Q8: =$D8*O8*(1-$E8) -> 1.323 | R8: =$D8*O8*(1-$F8) -> 1.2502 | S8: =$D8*O8*(1-$G8) -> 1.1802 | T8: =N8 -> 2103095 | V8: =$D8*U8 -> 0 | W8: =$D8*U8*(1-$E8) -> 0 | X8: =$D8*U8*(1-$F8) -> 0 | Y8: =$D8*U8*(1-$G8) -> 0 | Z8: =T8 -> 2103095 | AB8: =$D8*AA8 -> 0 | AC8: =$D8*AA8*(1-$E8) -> 0 | AD8: =$D8*AA8*(1-$F8) -> 0 | AE8: =$D8*AA8*(1-$G8) -> 0 | AF8: =Z8 -> 2103095 | AH8: =$D8*AG8 -> 0 | AI8: =$D8*AG8*(1-$E8) -> 0 | AJ8: =$D8*AG8*(1-$F8) -> 0 | AK8: =$D8*AG8*(1-$G8) -> 0 | AL8: =AF8 -> 2103095 | AN8: =$D8*AM8 -> 0 | AO8: =$D8*AM8*(1-$E8) -> 0 | AP8: =$D8*AM8*(1-$F8) -> 0 | AQ8: =$D8*AM8*(1-$G8) -> 0 | AR8: =AL8 -> 2103095 | AT8: =$D8*AS8 -> 0 | AU8: =$D8*AS8*(1-$E8) -> 0 | AV8: =$D8*AS8*(1-$F8) -> 0 | AW8: =$D8*AS8*(1-$G8) -> 0 | AX8: =AR8 -> 2103095 | AZ8: =$D8*AY8 -> 0 | BA8: =$D8*AY8*(1-$E8) -> 0 | BB8: =$D8*AY8*(1-$F8) -> 0 | BC8: =$D8*AY8*(1-$G8) -> 0 | BD8: =AX8 -> 2103095 | BF8: =$D8*BE8 -> 0 | BG8: =$D8*BE8*(1-$E8) -> 0 | BH8: =$D8*BE8*(1-$F8) -> 0 | BI8: =$D8*BE8*(1-$G8) -> 0 | BJ8: =BD8 -> 2103095 | BL8: =$D8*BK8 -> 0 | BM8: =$D8*BK8*(1-$E8) -> 0 | BN8: =$D8*BK8*(1-$F8) -> 0 | BO8: =$D8*BK8*(1-$G8) -> 0 | BP8: =BJ8 -> 2103095 | BR8: =$D8*BQ8 -> 0 | BS8: =$D8*BQ8*(1-$E8) -> 0 | BT8: =$D8*BQ8*(1-$F8) -> 0 | BU8: =$D8*BQ8*(1-$G8) -> 0 | BV8: =BP8 -> 2103095 | BX8: =$D8*BW8 -> 0 | BY8: =$D8*BW8*(1-$E8) -> 0 | BZ8: =$D8*BW8*(1-$F8) -> 0 | CA8: =$D8*BW8*(1-$G8) -> 0 | CB8: =BV8 -> 2103095 | CD8: =$D8*CC8 -> 0 | CE8: =$D8*CC8*(1-$E8) -> 0 | CF8: =$D8*CC8*(1-$F8) -> 0 | CG8: =$D8*CC8*(1-$G8) -> 0 | CH8: =CB8 -> 2103095 | CJ8: =$D8*CI8 -> 0 | CK8: =$D8*CI8*(1-$E8) -> 0 | CL8: =$D8*CI8*(1-$F8) -> 0 | CM8: =$D8*CI8*(1-$G8) -> 0 | CN8: =CH8 -> 2103095 | CP8: =$D8*CO8 -> 0 | CQ8: =$D8*CO8*(1-$E8) -> 0 | CR8: =$D8*CO8*(1-$F8) -> 0 | CS8: =$D8*CO8*(1-$G8) -> 0 | CT8: =CN8 -> 2103095 | CV8: =$D8*CU8 -> 0 | CW8: =$D8*CU8*(1-$E8) -> 0 | CX8: =$D8*CU8*(1-$F8) -> 0 | CY8: =$D8*CU8*(1-$G8) -> 0 | CZ8: =CT8 -> 2103095 | DB8: =$D8*DA8 -> 0 | DC8: =$D8*DA8*(1-$E8) -> 0 | DD8: =$D8*DA8*(1-$F8) -> 0 | DE8: =$D8*DA8*(1-$G8) -> 0 | DF8: =CZ8 -> 2103095 | DH8: =$D8*DG8 -> 0 | DI8: =$D8*DG8*(1-$E8) -> 0 | DJ8: =$D8*DG8*(1-$F8) -> 0 | DK8: =$D8*DG8*(1-$G8) -> 0 | DL8: =DF8 -> 2103095 | DN8: =$D8*DM8 -> 0 | DO8: =$D8*DM8*(1-$E8) -> 0 | DP8: =$D8*DM8*(1-$F8) -> 0 | DQ8: =$D8*DM8*(1-$G8) -> 0 | DR8: =DL8 -> 2103095 | DT8: =$D8*DS8 -> 0 | DU8: =$D8*DS8*(1-$E8) -> 0 | DV8: =$D8*DS8*(1-$F8) -> 0 | DW8: =$D8*DS8*(1-$G8) -> 0 | DX8: =DR8 -> 2103095 | DZ8: =$D8*DY8 -> 0 | EA8: =$D8*DY8*(1-$E8) -> 0 | EB8: =$D8*DY8*(1-$F8) -> 0 | EC8: =$D8*DY8*(1-$G8) -> 0 | ED8: =DX8 -> 2103095 | EF8: =$D8*EE8 -> 0 | EG8: =$D8*EE8*(1-$E8) -> 0 | EH8: =$D8*EE8*(1-$F8) -> 0 | EI8: =$D8*EE8*(1-$G8) -> 0 | EJ8: =ED8 -> 2103095 | EL8: =$D8*EK8 -> 0 | EM8: =$D8*EK8*(1-$E8) -> 0 | EN8: =$D8*EK8*(1-$F8) -> 0 | EO8: =$D8*EK8*(1-$G8) -> 0 | EP8: =EJ8 -> 2103095 | ER8: =$D8*EQ8 -> 0 | ES8: =$D8*EQ8*(1-$E8) -> 0 | ET8: =$D8*EQ8*(1-$F8) -> 0 | EU8: =$D8*EQ8*(1-$G8) -> 0 | EV8: =EP8 -> 2103095 | EX8: =$D8*EW8 -> 0 | EY8: =$D8*EW8*(1-$E8) -> 0 | EZ8: =$D8*EW8*(1-$F8) -> 0 | FA8: =$D8*EW8*(1-$G8) -> 0
A9: X-BT Threaded Stud | B9: X-BT-ER M10/7 SN 8 | C9: 2194352 | D9: 1 | E9: 0.055 | F9: 0.107 | G9: 0.157 | H9: =C9 -> 2194352 | I9: 1.2 | J9: =$D9*I9 -> 1.2 | K9: =$D9*I9*(1-$E9) -> 1.134 | L9: =$D9*I9*(1-$F9) -> 1.0716 | M9: =$D9*I9*(1-$G9) -> 1.0116 | N9: =H9 -> 2194352 | O9: 1.4 | P9: =$D9*O9 -> 1.4 | Q9: =$D9*O9*(1-$E9) -> 1.323 | R9: =$D9*O9*(1-$F9) -> 1.2502 | S9: =$D9*O9*(1-$G9) -> 1.1802 | T9: =N9 -> 2194352 | V9: =$D9*U9 -> 0 | W9: =$D9*U9*(1-$E9) -> 0 | X9: =$D9*U9*(1-$F9) -> 0 | Y9: =$D9*U9*(1-$G9) -> 0 | Z9: =T9 -> 2194352 | AB9: =$D9*AA9 -> 0 | AC9: =$D9*AA9*(1-$E9) -> 0 | AD9: =$D9*AA9*(1-$F9) -> 0 | AE9: =$D9*AA9*(1-$G9) -> 0 | AF9: =Z9 -> 2194352 | AH9: =$D9*AG9 -> 0 | AI9: =$D9*AG9*(1-$E9) -> 0 | AJ9: =$D9*AG9*(1-$F9) -> 0 | AK9: =$D9*AG9*(1-$G9) -> 0 | AL9: =AF9 -> 2194352 | AN9: =$D9*AM9 -> 0 | AO9: =$D9*AM9*(1-$E9) -> 0 | AP9: =$D9*AM9*(1-$F9) -> 0 | AQ9: =$D9*AM9*(1-$G9) -> 0 | AR9: =AL9 -> 2194352 | AT9: =$D9*AS9 -> 0 | AU9: =$D9*AS9*(1-$E9) -> 0 | AV9: =$D9*AS9*(1-$F9) -> 0 | AW9: =$D9*AS9*(1-$G9) -> 0 | AX9: =AR9 -> 2194352 | AZ9: =$D9*AY9 -> 0 | BA9: =$D9*AY9*(1-$E9) -> 0 | BB9: =$D9*AY9*(1-$F9) -> 0 | BC9: =$D9*AY9*(1-$G9) -> 0 | BD9: =AX9 -> 2194352 | BF9: =$D9*BE9 -> 0 | BG9: =$D9*BE9*(1-$E9) -> 0 | BH9: =$D9*BE9*(1-$F9) -> 0 | BI9: =$D9*BE9*(1-$G9) -> 0 | BJ9: =BD9 -> 2194352 | BL9: =$D9*BK9 -> 0 | BM9: =$D9*BK9*(1-$E9) -> 0 | BN9: =$D9*BK9*(1-$F9) -> 0 | BO9: =$D9*BK9*(1-$G9) -> 0 | BP9: =BJ9 -> 2194352 | BR9: =$D9*BQ9 -> 0 | BS9: =$D9*BQ9*(1-$E9) -> 0 | BT9: =$D9*BQ9*(1-$F9) -> 0 | BU9: =$D9*BQ9*(1-$G9) -> 0 | BV9: =BP9 -> 2194352 | BX9: =$D9*BW9 -> 0 | BY9: =$D9*BW9*(1-$E9) -> 0 | BZ9: =$D9*BW9*(1-$F9) -> 0 | CA9: =$D9*BW9*(1-$G9) -> 0 | CB9: =BV9 -> 2194352 | CD9: =$D9*CC9 -> 0 | CE9: =$D9*CC9*(1-$E9) -> 0 | CF9: =$D9*CC9*(1-$F9) -> 0 | CG9: =$D9*CC9*(1-$G9) -> 0 | CH9: =CB9 -> 2194352 | CJ9: =$D9*CI9 -> 0 | CK9: =$D9*CI9*(1-$E9) -> 0 | CL9: =$D9*CI9*(1-$F9) -> 0 | CM9: =$D9*CI9*(1-$G9) -> 0 | CN9: =CH9 -> 2194352 | CP9: =$D9*CO9 -> 0 | CQ9: =$D9*CO9*(1-$E9) -> 0 | CR9: =$D9*CO9*(1-$F9) -> 0 | CS9: =$D9*CO9*(1-$G9) -> 0 | CT9: =CN9 -> 2194352 | CV9: =$D9*CU9 -> 0 | CW9: =$D9*CU9*(1-$E9) -> 0 | CX9: =$D9*CU9*(1-$F9) -> 0 | CY9: =$D9*CU9*(1-$G9) -> 0 | CZ9: =CT9 -> 2194352 | DB9: =$D9*DA9 -> 0 | DC9: =$D9*DA9*(1-$E9) -> 0 | DD9: =$D9*DA9*(1-$F9) -> 0 | DE9: =$D9*DA9*(1-$G9) -> 0 | DF9: =CZ9 -> 2194352 | DH9: =$D9*DG9 -> 0 | DI9: =$D9*DG9*(1-$E9) -> 0 | DJ9: =$D9*DG9*(1-$F9) -> 0 | DK9: =$D9*DG9*(1-$G9) -> 0 | DL9: =DF9 -> 2194352 | DN9: =$D9*DM9 -> 0 | DO9: =$D9*DM9*(1-$E9) -> 0 | DP9: =$D9*DM9*(1-$F9) -> 0 | DQ9: =$D9*DM9*(1-$G9) -> 0 | DR9: =DL9 -> 2194352 | DT9: =$D9*DS9 -> 0 | DU9: =$D9*DS9*(1-$E9) -> 0 | DV9: =$D9*DS9*(1-$F9) -> 0 | DW9: =$D9*DS9*(1-$G9) -> 0 | DX9: =DR9 -> 2194352 | DZ9: =$D9*DY9 -> 0 | EA9: =$D9*DY9*(1-$E9) -> 0 | EB9: =$D9*DY9*(1-$F9) -> 0 | EC9: =$D9*DY9*(1-$G9) -> 0 | ED9: =DX9 -> 2194352 | EF9: =$D9*EE9 -> 0 | EG9: =$D9*EE9*(1-$E9) -> 0 | EH9: =$D9*EE9*(1-$F9) -> 0 | EI9: =$D9*EE9*(1-$G9) -> 0 | EJ9: =ED9 -> 2194352 | EL9: =$D9*EK9 -> 0 | EM9: =$D9*EK9*(1-$E9) -> 0 | EN9: =$D9*EK9*(1-$F9) -> 0 | EO9: =$D9*EK9*(1-$G9) -> 0 | EP9: =EJ9 -> 2194352 | ER9: =$D9*EQ9 -> 0 | ES9: =$D9*EQ9*(1-$E9) -> 0 | ET9: =$D9*EQ9*(1-$F9) -> 0 | EU9: =$D9*EQ9*(1-$G9) -> 0 | EV9: =EP9 -> 2194352 | EX9: =$D9*EW9 -> 0 | EY9: =$D9*EW9*(1-$E9) -> 0 | EZ9: =$D9*EW9*(1-$F9) -> 0 | FA9: =$D9*EW9*(1-$G9) -> 0
A10: X-BT Threaded Stud | B10: X-BT-ER M10/3 SN 4 | C10: 2103094 | D10: 1 | E10: 0.055 | F10: 0.107 | G10: 0.157 | H10: =C10 -> 2103094 | I10: 1.2 | J10: =$D10*I10 -> 1.2 | K10: =$D10*I10*(1-$E10) -> 1.134 | L10: =$D10*I10*(1-$F10) -> 1.0716 | M10: =$D10*I10*(1-$G10) -> 1.0116 | N10: =H10 -> 2103094 | O10: 1.4 | P10: =$D10*O10 -> 1.4 | Q10: =$D10*O10*(1-$E10) -> 1.323 | R10: =$D10*O10*(1-$F10) -> 1.2502 | S10: =$D10*O10*(1-$G10) -> 1.1802 | T10: =N10 -> 2103094 | V10: =$D10*U10 -> 0 | W10: =$D10*U10*(1-$E10) -> 0 | X10: =$D10*U10*(1-$F10) -> 0 | Y10: =$D10*U10*(1-$G10) -> 0 | Z10: =T10 -> 2103094 | AB10: =$D10*AA10 -> 0 | AC10: =$D10*AA10*(1-$E10) -> 0 | AD10: =$D10*AA10*(1-$F10) -> 0 | AE10: =$D10*AA10*(1-$G10) -> 0 | AF10: =Z10 -> 2103094 | AH10: =$D10*AG10 -> 0 | AI10: =$D10*AG10*(1-$E10) -> 0 | AJ10: =$D10*AG10*(1-$F10) -> 0 | AK10: =$D10*AG10*(1-$G10) -> 0 | AL10: =AF10 -> 2103094 | AN10: =$D10*AM10 -> 0 | AO10: =$D10*AM10*(1-$E10) -> 0 | AP10: =$D10*AM10*(1-$F10) -> 0 | AQ10: =$D10*AM10*(1-$G10) -> 0 | AR10: =AL10 -> 2103094 | AT10: =$D10*AS10 -> 0 | AU10: =$D10*AS10*(1-$E10) -> 0 | AV10: =$D10*AS10*(1-$F10) -> 0 | AW10: =$D10*AS10*(1-$G10) -> 0 | AX10: =AR10 -> 2103094 | AZ10: =$D10*AY10 -> 0 | BA10: =$D10*AY10*(1-$E10) -> 0 | BB10: =$D10*AY10*(1-$F10) -> 0 | BC10: =$D10*AY10*(1-$G10) -> 0 | BD10: =AX10 -> 2103094 | BF10: =$D10*BE10 -> 0 | BG10: =$D10*BE10*(1-$E10) -> 0 | BH10: =$D10*BE10*(1-$F10) -> 0 | BI10: =$D10*BE10*(1-$G10) -> 0 | BJ10: =BD10 -> 2103094 | BL10: =$D10*BK10 -> 0 | BM10: =$D10*BK10*(1-$E10) -> 0 | BN10: =$D10*BK10*(1-$F10) -> 0 | BO10: =$D10*BK10*(1-$G10) -> 0 | BP10: =BJ10 -> 2103094 | BR10: =$D10*BQ10 -> 0 | BS10: =$D10*BQ10*(1-$E10) -> 0 | BT10: =$D10*BQ10*(1-$F10) -> 0 | BU10: =$D10*BQ10*(1-$G10) -> 0 | BV10: =BP10 -> 2103094 | BX10: =$D10*BW10 -> 0 | BY10: =$D10*BW10*(1-$E10) -> 0 | BZ10: =$D10*BW10*(1-$F10) -> 0 | CA10: =$D10*BW10*(1-$G10) -> 0 | CB10: =BV10 -> 2103094 | CD10: =$D10*CC10 -> 0 | CE10: =$D10*CC10*(1-$E10) -> 0 | CF10: =$D10*CC10*(1-$F10) -> 0 | CG10: =$D10*CC10*(1-$G10) -> 0 | CH10: =CB10 -> 2103094 | CJ10: =$D10*CI10 -> 0 | CK10: =$D10*CI10*(1-$E10) -> 0 | CL10: =$D10*CI10*(1-$F10) -> 0 | CM10: =$D10*CI10*(1-$G10) -> 0 | CN10: =CH10 -> 2103094 | CP10: =$D10*CO10 -> 0 | CQ10: =$D10*CO10*(1-$E10) -> 0 | CR10: =$D10*CO10*(1-$F10) -> 0 | CS10: =$D10*CO10*(1-$G10) -> 0 | CT10: =CN10 -> 2103094 | CV10: =$D10*CU10 -> 0 | CW10: =$D10*CU10*(1-$E10) -> 0 | CX10: =$D10*CU10*(1-$F10) -> 0 | CY10: =$D10*CU10*(1-$G10) -> 0 | CZ10: =CT10 -> 2103094 | DB10: =$D10*DA10 -> 0 | DC10: =$D10*DA10*(1-$E10) -> 0 | DD10: =$D10*DA10*(1-$F10) -> 0 | DE10: =$D10*DA10*(1-$G10) -> 0 | DF10: =CZ10 -> 2103094 | DH10: =$D10*DG10 -> 0 | DI10: =$D10*DG10*(1-$E10) -> 0 | DJ10: =$D10*DG10*(1-$F10) -> 0 | DK10: =$D10*DG10*(1-$G10) -> 0 | DL10: =DF10 -> 2103094 | DN10: =$D10*DM10 -> 0 | DO10: =$D10*DM10*(1-$E10) -> 0 | DP10: =$D10*DM10*(1-$F10) -> 0 | DQ10: =$D10*DM10*(1-$G10) -> 0 | DR10: =DL10 -> 2103094 | DT10: =$D10*DS10 -> 0 | DU10: =$D10*DS10*(1-$E10) -> 0 | DV10: =$D10*DS10*(1-$F10) -> 0 | DW10: =$D10*DS10*(1-$G10) -> 0 | DX10: =DR10 -> 2103094 | DZ10: =$D10*DY10 -> 0 | EA10: =$D10*DY10*(1-$E10) -> 0 | EB10: =$D10*DY10*(1-$F10) -> 0 | EC10: =$D10*DY10*(1-$G10) -> 0 | ED10: =DX10 -> 2103094 | EF10: =$D10*EE10 -> 0 | EG10: =$D10*EE10*(1-$E10) -> 0 | EH10: =$D10*EE10*(1-$F10) -> 0 | EI10: =$D10*EE10*(1-$G10) -> 0 | EJ10: =ED10 -> 2103094 | EL10: =$D10*EK10 -> 0 | EM10: =$D10*EK10*(1-$E10) -> 0 | EN10: =$D10*EK10*(1-$F10) -> 0 | EO10: =$D10*EK10*(1-$G10) -> 0 | EP10: =EJ10 -> 2103094 | ER10: =$D10*EQ10 -> 0 | ES10: =$D10*EQ10*(1-$E10) -> 0 | ET10: =$D10*EQ10*(1-$F10) -> 0 | EU10: =$D10*EQ10*(1-$G10) -> 0 | EV10: =EP10 -> 2103094 | EX10: =$D10*EW10 -> 0 | EY10: =$D10*EW10*(1-$E10) -> 0 | EZ10: =$D10*EW10*(1-$F10) -> 0 | FA10: =$D10*EW10*(1-$G10) -> 0
A11: S-BT Threaded Stud | B11: S-BT-MR M10/15 SN6 | C11: 2140740 | D11: 1 | E11: 0.055 | F11: 0.107 | G11: 0.157 | H11: =C11 -> 2140740 | I11: 1.2 | J11: =$D11*I11 -> 1.2 | K11: =$D11*I11*(1-$E11) -> 1.134 | L11: =$D11*I11*(1-$F11) -> 1.0716 | M11: =$D11*I11*(1-$G11) -> 1.0116 | N11: =H11 -> 2140740 | O11: 1.4 | P11: =$D11*O11 -> 1.4 | Q11: =$D11*O11*(1-$E11) -> 1.323 | R11: =$D11*O11*(1-$F11) -> 1.2502 | S11: =$D11*O11*(1-$G11) -> 1.1802 | T11: =N11 -> 2140740 | V11: =$D11*U11 -> 0 | W11: =$D11*U11*(1-$E11) -> 0 | X11: =$D11*U11*(1-$F11) -> 0 | Y11: =$D11*U11*(1-$G11) -> 0 | Z11: =T11 -> 2140740 | AB11: =$D11*AA11 -> 0 | AC11: =$D11*AA11*(1-$E11) -> 0 | AD11: =$D11*AA11*(1-$F11) -> 0 | AE11: =$D11*AA11*(1-$G11) -> 0 | AF11: =Z11 -> 2140740 | AH11: =$D11*AG11 -> 0 | AI11: =$D11*AG11*(1-$E11) -> 0 | AJ11: =$D11*AG11*(1-$F11) -> 0 | AK11: =$D11*AG11*(1-$G11) -> 0 | AL11: =AF11 -> 2140740 | AN11: =$D11*AM11 -> 0 | AO11: =$D11*AM11*(1-$E11) -> 0 | AP11: =$D11*AM11*(1-$F11) -> 0 | AQ11: =$D11*AM11*(1-$G11) -> 0 | AR11: =AL11 -> 2140740 | AT11: =$D11*AS11 -> 0 | AU11: =$D11*AS11*(1-$E11) -> 0 | AV11: =$D11*AS11*(1-$F11) -> 0 | AW11: =$D11*AS11*(1-$G11) -> 0 | AX11: =AR11 -> 2140740 | AZ11: =$D11*AY11 -> 0 | BA11: =$D11*AY11*(1-$E11) -> 0 | BB11: =$D11*AY11*(1-$F11) -> 0 | BC11: =$D11*AY11*(1-$G11) -> 0 | BD11: =AX11 -> 2140740 | BF11: =$D11*BE11 -> 0 | BG11: =$D11*BE11*(1-$E11) -> 0 | BH11: =$D11*BE11*(1-$F11) -> 0 | BI11: =$D11*BE11*(1-$G11) -> 0 | BJ11: =BD11 -> 2140740 | BL11: =$D11*BK11 -> 0 | BM11: =$D11*BK11*(1-$E11) -> 0 | BN11: =$D11*BK11*(1-$F11) -> 0 | BO11: =$D11*BK11*(1-$G11) -> 0 | BP11: =BJ11 -> 2140740 | BR11: =$D11*BQ11 -> 0 | BS11: =$D11*BQ11*(1-$E11) -> 0 | BT11: =$D11*BQ11*(1-$F11) -> 0 | BU11: =$D11*BQ11*(1-$G11) -> 0 | BV11: =BP11 -> 2140740 | BX11: =$D11*BW11 -> 0 | BY11: =$D11*BW11*(1-$E11) -> 0 | BZ11: =$D11*BW11*(1-$F11) -> 0 | CA11: =$D11*BW11*(1-$G11) -> 0 | CB11: =BV11 -> 2140740 | CD11: =$D11*CC11 -> 0 | CE11: =$D11*CC11*(1-$E11) -> 0 | CF11: =$D11*CC11*(1-$F11) -> 0 | CG11: =$D11*CC11*(1-$G11) -> 0 | CH11: =CB11 -> 2140740 | CJ11: =$D11*CI11 -> 0 | CK11: =$D11*CI11*(1-$E11) -> 0 | CL11: =$D11*CI11*(1-$F11) -> 0 | CM11: =$D11*CI11*(1-$G11) -> 0 | CN11: =CH11 -> 2140740 | CP11: =$D11*CO11 -> 0 | CQ11: =$D11*CO11*(1-$E11) -> 0 | CR11: =$D11*CO11*(1-$F11) -> 0 | CS11: =$D11*CO11*(1-$G11) -> 0 | CT11: =CN11 -> 2140740 | CV11: =$D11*CU11 -> 0 | CW11: =$D11*CU11*(1-$E11) -> 0 | CX11: =$D11*CU11*(1-$F11) -> 0 | CY11: =$D11*CU11*(1-$G11) -> 0 | CZ11: =CT11 -> 2140740 | DB11: =$D11*DA11 -> 0 | DC11: =$D11*DA11*(1-$E11) -> 0 | DD11: =$D11*DA11*(1-$F11) -> 0 | DE11: =$D11*DA11*(1-$G11) -> 0 | DF11: =CZ11 -> 2140740 | DH11: =$D11*DG11 -> 0 | DI11: =$D11*DG11*(1-$E11) -> 0 | DJ11: =$D11*DG11*(1-$F11) -> 0 | DK11: =$D11*DG11*(1-$G11) -> 0 | DL11: =DF11 -> 2140740 | DN11: =$D11*DM11 -> 0 | DO11: =$D11*DM11*(1-$E11) -> 0 | DP11: =$D11*DM11*(1-$F11) -> 0 | DQ11: =$D11*DM11*(1-$G11) -> 0 | DR11: =DL11 -> 2140740 | DT11: =$D11*DS11 -> 0 | DU11: =$D11*DS11*(1-$E11) -> 0 | DV11: =$D11*DS11*(1-$F11) -> 0 | DW11: =$D11*DS11*(1-$G11) -> 0 | DX11: =DR11 -> 2140740 | DZ11: =$D11*DY11 -> 0 | EA11: =$D11*DY11*(1-$E11) -> 0 | EB11: =$D11*DY11*(1-$F11) -> 0 | EC11: =$D11*DY11*(1-$G11) -> 0 | ED11: =DX11 -> 2140740 | EF11: =$D11*EE11 -> 0 | EG11: =$D11*EE11*(1-$E11) -> 0 | EH11: =$D11*EE11*(1-$F11) -> 0 | EI11: =$D11*EE11*(1-$G11) -> 0 | EJ11: =ED11 -> 2140740 | EL11: =$D11*EK11 -> 0 | EM11: =$D11*EK11*(1-$E11) -> 0 | EN11: =$D11*EK11*(1-$F11) -> 0 | EO11: =$D11*EK11*(1-$G11) -> 0 | EP11: =EJ11 -> 2140740 | ER11: =$D11*EQ11 -> 0 | ES11: =$D11*EQ11*(1-$E11) -> 0 | ET11: =$D11*EQ11*(1-$F11) -> 0 | EU11: =$D11*EQ11*(1-$G11) -> 0 | EV11: =EP11 -> 2140740 | EX11: =$D11*EW11 -> 0 | EY11: =$D11*EW11*(1-$E11) -> 0 | EZ11: =$D11*EW11*(1-$F11) -> 0 | FA11: =$D11*EW11*(1-$G11) -> 0
B12: S-BT-MF M10/15 AN6 | C12: 2140528 | D12: 1 | E12: 0.055 | F12: 0.107 | G12: 0.157 | H12: =C12 -> 2140528 | I12: 1.2 | J12: =$D12*I12 -> 1.2 | K12: =$D12*I12*(1-$E12) -> 1.134 | L12: =$D12*I12*(1-$F12) -> 1.0716 | M12: =$D12*I12*(1-$G12) -> 1.0116 | N12: =H12 -> 2140528 | O12: 1.4 | P12: =$D12*O12 -> 1.4 | Q12: =$D12*O12*(1-$E12) -> 1.323 | R12: =$D12*O12*(1-$F12) -> 1.2502 | S12: =$D12*O12*(1-$G12) -> 1.1802 | T12: =N12 -> 2140528 | V12: =$D12*U12 -> 0 | W12: =$D12*U12*(1-$E12) -> 0 | X12: =$D12*U12*(1-$F12) -> 0 | Y12: =$D12*U12*(1-$G12) -> 0 | Z12: =T12 -> 2140528 | AB12: =$D12*AA12 -> 0 | AC12: =$D12*AA12*(1-$E12) -> 0 | AD12: =$D12*AA12*(1-$F12) -> 0 | AE12: =$D12*AA12*(1-$G12) -> 0 | AF12: =Z12 -> 2140528 | AH12: =$D12*AG12 -> 0 | AI12: =$D12*AG12*(1-$E12) -> 0 | AJ12: =$D12*AG12*(1-$F12) -> 0 | AK12: =$D12*AG12*(1-$G12) -> 0 | AL12: =AF12 -> 2140528 | AN12: =$D12*AM12 -> 0 | AO12: =$D12*AM12*(1-$E12) -> 0 | AP12: =$D12*AM12*(1-$F12) -> 0 | AQ12: =$D12*AM12*(1-$G12) -> 0 | AR12: =AL12 -> 2140528 | AT12: =$D12*AS12 -> 0 | AU12: =$D12*AS12*(1-$E12) -> 0 | AV12: =$D12*AS12*(1-$F12) -> 0 | AW12: =$D12*AS12*(1-$G12) -> 0 | AX12: =AR12 -> 2140528 | AZ12: =$D12*AY12 -> 0 | BA12: =$D12*AY12*(1-$E12) -> 0 | BB12: =$D12*AY12*(1-$F12) -> 0 | BC12: =$D12*AY12*(1-$G12) -> 0 | BD12: =AX12 -> 2140528 | BF12: =$D12*BE12 -> 0 | BG12: =$D12*BE12*(1-$E12) -> 0 | BH12: =$D12*BE12*(1-$F12) -> 0 | BI12: =$D12*BE12*(1-$G12) -> 0 | BJ12: =BD12 -> 2140528 | BL12: =$D12*BK12 -> 0 | BM12: =$D12*BK12*(1-$E12) -> 0 | BN12: =$D12*BK12*(1-$F12) -> 0 | BO12: =$D12*BK12*(1-$G12) -> 0 | BP12: =BJ12 -> 2140528 | BR12: =$D12*BQ12 -> 0 | BS12: =$D12*BQ12*(1-$E12) -> 0 | BT12: =$D12*BQ12*(1-$F12) -> 0 | BU12: =$D12*BQ12*(1-$G12) -> 0 | BV12: =BP12 -> 2140528 | BX12: =$D12*BW12 -> 0 | BY12: =$D12*BW12*(1-$E12) -> 0 | BZ12: =$D12*BW12*(1-$F12) -> 0 | CA12: =$D12*BW12*(1-$G12) -> 0 | CB12: =BV12 -> 2140528 | CD12: =$D12*CC12 -> 0 | CE12: =$D12*CC12*(1-$E12) -> 0 | CF12: =$D12*CC12*(1-$F12) -> 0 | CG12: =$D12*CC12*(1-$G12) -> 0 | CH12: =CB12 -> 2140528 | CJ12: =$D12*CI12 -> 0 | CK12: =$D12*CI12*(1-$E12) -> 0 | CL12: =$D12*CI12*(1-$F12) -> 0 | CM12: =$D12*CI12*(1-$G12) -> 0 | CN12: =CH12 -> 2140528 | CP12: =$D12*CO12 -> 0 | CQ12: =$D12*CO12*(1-$E12) -> 0 | CR12: =$D12*CO12*(1-$F12) -> 0 | CS12: =$D12*CO12*(1-$G12) -> 0 | CT12: =CN12 -> 2140528 | CV12: =$D12*CU12 -> 0 | CW12: =$D12*CU12*(1-$E12) -> 0 | CX12: =$D12*CU12*(1-$F12) -> 0 | CY12: =$D12*CU12*(1-$G12) -> 0 | CZ12: =CT12 -> 2140528 | DB12: =$D12*DA12 -> 0 | DC12: =$D12*DA12*(1-$E12) -> 0 | DD12: =$D12*DA12*(1-$F12) -> 0 | DE12: =$D12*DA12*(1-$G12) -> 0 | DF12: =CZ12 -> 2140528 | DH12: =$D12*DG12 -> 0 | DI12: =$D12*DG12*(1-$E12) -> 0 | DJ12: =$D12*DG12*(1-$F12) -> 0 | DK12: =$D12*DG12*(1-$G12) -> 0 | DL12: =DF12 -> 2140528 | DN12: =$D12*DM12 -> 0 | DO12: =$D12*DM12*(1-$E12) -> 0 | DP12: =$D12*DM12*(1-$F12) -> 0 | DQ12: =$D12*DM12*(1-$G12) -> 0 | DR12: =DL12 -> 2140528 | DT12: =$D12*DS12 -> 0 | DU12: =$D12*DS12*(1-$E12) -> 0 | DV12: =$D12*DS12*(1-$F12) -> 0 | DW12: =$D12*DS12*(1-$G12) -> 0 | DX12: =DR12 -> 2140528 | DZ12: =$D12*DY12 -> 0 | EA12: =$D12*DY12*(1-$E12) -> 0 | EB12: =$D12*DY12*(1-$F12) -> 0 | EC12: =$D12*DY12*(1-$G12) -> 0 | ED12: =DX12 -> 2140528 | EF12: =$D12*EE12 -> 0 | EG12: =$D12*EE12*(1-$E12) -> 0 | EH12: =$D12*EE12*(1-$F12) -> 0 | EI12: =$D12*EE12*(1-$G12) -> 0 | EJ12: =ED12 -> 2140528 | EL12: =$D12*EK12 -> 0 | EM12: =$D12*EK12*(1-$E12) -> 0 | EN12: =$D12*EK12*(1-$F12) -> 0 | EO12: =$D12*EK12*(1-$G12) -> 0 | EP12: =EJ12 -> 2140528 | ER12: =$D12*EQ12 -> 0 | ES12: =$D12*EQ12*(1-$E12) -> 0 | ET12: =$D12*EQ12*(1-$F12) -> 0 | EU12: =$D12*EQ12*(1-$G12) -> 0 | EV12: =EP12 -> 2140528 | EX12: =$D12*EW12 -> 0 | EY12: =$D12*EW12*(1-$E12) -> 0 | EZ12: =$D12*EW12*(1-$F12) -> 0 | FA12: =$D12*EW12*(1-$G12) -> 0
B13: S-BT-GF M8/7 AN 6 | C13: 2140527 | D13: 1 | E13: 0.055 | F13: 0.107 | G13: 0.157 | H13: =C13 -> 2140527 | I13: 1.2 | J13: =$D13*I13 -> 1.2 | K13: =$D13*I13*(1-$E13) -> 1.134 | L13: =$D13*I13*(1-$F13) -> 1.0716 | M13: =$D13*I13*(1-$G13) -> 1.0116 | N13: =H13 -> 2140527 | O13: 1.4 | P13: =$D13*O13 -> 1.4 | Q13: =$D13*O13*(1-$E13) -> 1.323 | R13: =$D13*O13*(1-$F13) -> 1.2502 | S13: =$D13*O13*(1-$G13) -> 1.1802 | T13: =N13 -> 2140527 | V13: =$D13*U13 -> 0 | W13: =$D13*U13*(1-$E13) -> 0 | X13: =$D13*U13*(1-$F13) -> 0 | Y13: =$D13*U13*(1-$G13) -> 0 | Z13: =T13 -> 2140527 | AB13: =$D13*AA13 -> 0 | AC13: =$D13*AA13*(1-$E13) -> 0 | AD13: =$D13*AA13*(1-$F13) -> 0 | AE13: =$D13*AA13*(1-$G13) -> 0 | AF13: =Z13 -> 2140527 | AH13: =$D13*AG13 -> 0 | AI13: =$D13*AG13*(1-$E13) -> 0 | AJ13: =$D13*AG13*(1-$F13) -> 0 | AK13: =$D13*AG13*(1-$G13) -> 0 | AL13: =AF13 -> 2140527 | AN13: =$D13*AM13 -> 0 | AO13: =$D13*AM13*(1-$E13) -> 0 | AP13: =$D13*AM13*(1-$F13) -> 0 | AQ13: =$D13*AM13*(1-$G13) -> 0 | AR13: =AL13 -> 2140527 | AT13: =$D13*AS13 -> 0 | AU13: =$D13*AS13*(1-$E13) -> 0 | AV13: =$D13*AS13*(1-$F13) -> 0 | AW13: =$D13*AS13*(1-$G13) -> 0 | AX13: =AR13 -> 2140527 | AZ13: =$D13*AY13 -> 0 | BA13: =$D13*AY13*(1-$E13) -> 0 | BB13: =$D13*AY13*(1-$F13) -> 0 | BC13: =$D13*AY13*(1-$G13) -> 0 | BD13: =AX13 -> 2140527 | BF13: =$D13*BE13 -> 0 | BG13: =$D13*BE13*(1-$E13) -> 0 | BH13: =$D13*BE13*(1-$F13) -> 0 | BI13: =$D13*BE13*(1-$G13) -> 0 | BJ13: =BD13 -> 2140527 | BL13: =$D13*BK13 -> 0 | BM13: =$D13*BK13*(1-$E13) -> 0 | BN13: =$D13*BK13*(1-$F13) -> 0 | BO13: =$D13*BK13*(1-$G13) -> 0 | BP13: =BJ13 -> 2140527 | BR13: =$D13*BQ13 -> 0 | BS13: =$D13*BQ13*(1-$E13) -> 0 | BT13: =$D13*BQ13*(1-$F13) -> 0 | BU13: =$D13*BQ13*(1-$G13) -> 0 | BV13: =BP13 -> 2140527 | BX13: =$D13*BW13 -> 0 | BY13: =$D13*BW13*(1-$E13) -> 0 | BZ13: =$D13*BW13*(1-$F13) -> 0 | CA13: =$D13*BW13*(1-$G13) -> 0 | CB13: =BV13 -> 2140527 | CD13: =$D13*CC13 -> 0 | CE13: =$D13*CC13*(1-$E13) -> 0 | CF13: =$D13*CC13*(1-$F13) -> 0 | CG13: =$D13*CC13*(1-$G13) -> 0 | CH13: =CB13 -> 2140527 | CJ13: =$D13*CI13 -> 0 | CK13: =$D13*CI13*(1-$E13) -> 0 | CL13: =$D13*CI13*(1-$F13) -> 0 | CM13: =$D13*CI13*(1-$G13) -> 0 | CN13: =CH13 -> 2140527 | CP13: =$D13*CO13 -> 0 | CQ13: =$D13*CO13*(1-$E13) -> 0 | CR13: =$D13*CO13*(1-$F13) -> 0 | CS13: =$D13*CO13*(1-$G13) -> 0 | CT13: =CN13 -> 2140527 | CV13: =$D13*CU13 -> 0 | CW13: =$D13*CU13*(1-$E13) -> 0 | CX13: =$D13*CU13*(1-$F13) -> 0 | CY13: =$D13*CU13*(1-$G13) -> 0 | CZ13: =CT13 -> 2140527 | DB13: =$D13*DA13 -> 0 | DC13: =$D13*DA13*(1-$E13) -> 0 | DD13: =$D13*DA13*(1-$F13) -> 0 | DE13: =$D13*DA13*(1-$G13) -> 0 | DF13: =CZ13 -> 2140527 | DH13: =$D13*DG13 -> 0 | DI13: =$D13*DG13*(1-$E13) -> 0 | DJ13: =$D13*DG13*(1-$F13) -> 0 | DK13: =$D13*DG13*(1-$G13) -> 0 | DL13: =DF13 -> 2140527 | DN13: =$D13*DM13 -> 0 | DO13: =$D13*DM13*(1-$E13) -> 0 | DP13: =$D13*DM13*(1-$F13) -> 0 | DQ13: =$D13*DM13*(1-$G13) -> 0 | DR13: =DL13 -> 2140527 | DT13: =$D13*DS13 -> 0 | DU13: =$D13*DS13*(1-$E13) -> 0 | DV13: =$D13*DS13*(1-$F13) -> 0 | DW13: =$D13*DS13*(1-$G13) -> 0 | DX13: =DR13 -> 2140527 | DZ13: =$D13*DY13 -> 0 | EA13: =$D13*DY13*(1-$E13) -> 0 | EB13: =$D13*DY13*(1-$F13) -> 0 | EC13: =$D13*DY13*(1-$G13) -> 0 | ED13: =DX13 -> 2140527 | EF13: =$D13*EE13 -> 0 | EG13: =$D13*EE13*(1-$E13) -> 0 | EH13: =$D13*EE13*(1-$F13) -> 0 | EI13: =$D13*EE13*(1-$G13) -> 0 | EJ13: =ED13 -> 2140527 | EL13: =$D13*EK13 -> 0 | EM13: =$D13*EK13*(1-$E13) -> 0 | EN13: =$D13*EK13*(1-$F13) -> 0 | EO13: =$D13*EK13*(1-$G13) -> 0 | EP13: =EJ13 -> 2140527 | ER13: =$D13*EQ13 -> 0 | ES13: =$D13*EQ13*(1-$E13) -> 0 | ET13: =$D13*EQ13*(1-$F13) -> 0 | EU13: =$D13*EQ13*(1-$G13) -> 0 | EV13: =EP13 -> 2140527 | EX13: =$D13*EW13 -> 0 | EY13: =$D13*EW13*(1-$E13) -> 0 | EZ13: =$D13*EW13*(1-$F13) -> 0 | FA13: =$D13*EW13*(1-$G13) -> 0
B14: S-BT GR M8/7 | C14: 2140529 | D14: 1 | E14: 0.055 | F14: 0.107 | G14: 0.157 | H14: =C14 -> 2140529 | I14: 1.2 | J14: =$D14*I14 -> 1.2 | K14: =$D14*I14*(1-$E14) -> 1.134 | L14: =$D14*I14*(1-$F14) -> 1.0716 | M14: =$D14*I14*(1-$G14) -> 1.0116 | N14: =H14 -> 2140529 | O14: 1.4 | P14: =$D14*O14 -> 1.4 | Q14: =$D14*O14*(1-$E14) -> 1.323 | R14: =$D14*O14*(1-$F14) -> 1.2502 | S14: =$D14*O14*(1-$G14) -> 1.1802 | T14: =N14 -> 2140529 | V14: =$D14*U14 -> 0 | W14: =$D14*U14*(1-$E14) -> 0 | X14: =$D14*U14*(1-$F14) -> 0 | Y14: =$D14*U14*(1-$G14) -> 0 | Z14: =T14 -> 2140529 | AB14: =$D14*AA14 -> 0 | AC14: =$D14*AA14*(1-$E14) -> 0 | AD14: =$D14*AA14*(1-$F14) -> 0 | AE14: =$D14*AA14*(1-$G14) -> 0 | AF14: =Z14 -> 2140529 | AH14: =$D14*AG14 -> 0 | AI14: =$D14*AG14*(1-$E14) -> 0 | AJ14: =$D14*AG14*(1-$F14) -> 0 | AK14: =$D14*AG14*(1-$G14) -> 0 | AL14: =AF14 -> 2140529 | AN14: =$D14*AM14 -> 0 | AO14: =$D14*AM14*(1-$E14) -> 0 | AP14: =$D14*AM14*(1-$F14) -> 0 | AQ14: =$D14*AM14*(1-$G14) -> 0 | AR14: =AL14 -> 2140529 | AT14: =$D14*AS14 -> 0 | AU14: =$D14*AS14*(1-$E14) -> 0 | AV14: =$D14*AS14*(1-$F14) -> 0 | AW14: =$D14*AS14*(1-$G14) -> 0 | AX14: =AR14 -> 2140529 | AZ14: =$D14*AY14 -> 0 | BA14: =$D14*AY14*(1-$E14) -> 0 | BB14: =$D14*AY14*(1-$F14) -> 0 | BC14: =$D14*AY14*(1-$G14) -> 0 | BD14: =AX14 -> 2140529 | BF14: =$D14*BE14 -> 0 | BG14: =$D14*BE14*(1-$E14) -> 0 | BH14: =$D14*BE14*(1-$F14) -> 0 | BI14: =$D14*BE14*(1-$G14) -> 0 | BJ14: =BD14 -> 2140529 | BL14: =$D14*BK14 -> 0 | BM14: =$D14*BK14*(1-$E14) -> 0 | BN14: =$D14*BK14*(1-$F14) -> 0 | BO14: =$D14*BK14*(1-$G14) -> 0 | BP14: =BJ14 -> 2140529 | BR14: =$D14*BQ14 -> 0 | BS14: =$D14*BQ14*(1-$E14) -> 0 | BT14: =$D14*BQ14*(1-$F14) -> 0 | BU14: =$D14*BQ14*(1-$G14) -> 0 | BV14: =BP14 -> 2140529 | BX14: =$D14*BW14 -> 0 | BY14: =$D14*BW14*(1-$E14) -> 0 | BZ14: =$D14*BW14*(1-$F14) -> 0 | CA14: =$D14*BW14*(1-$G14) -> 0 | CB14: =BV14 -> 2140529 | CD14: =$D14*CC14 -> 0 | CE14: =$D14*CC14*(1-$E14) -> 0 | CF14: =$D14*CC14*(1-$F14) -> 0 | CG14: =$D14*CC14*(1-$G14) -> 0 | CH14: =CB14 -> 2140529 | CJ14: =$D14*CI14 -> 0 | CK14: =$D14*CI14*(1-$E14) -> 0 | CL14: =$D14*CI14*(1-$F14) -> 0 | CM14: =$D14*CI14*(1-$G14) -> 0 | CN14: =CH14 -> 2140529 | CP14: =$D14*CO14 -> 0 | CQ14: =$D14*CO14*(1-$E14) -> 0 | CR14: =$D14*CO14*(1-$F14) -> 0 | CS14: =$D14*CO14*(1-$G14) -> 0 | CT14: =CN14 -> 2140529 | CV14: =$D14*CU14 -> 0 | CW14: =$D14*CU14*(1-$E14) -> 0 | CX14: =$D14*CU14*(1-$F14) -> 0 | CY14: =$D14*CU14*(1-$G14) -> 0 | CZ14: =CT14 -> 2140529 | DB14: =$D14*DA14 -> 0 | DC14: =$D14*DA14*(1-$E14) -> 0 | DD14: =$D14*DA14*(1-$F14) -> 0 | DE14: =$D14*DA14*(1-$G14) -> 0 | DF14: =CZ14 -> 2140529 | DH14: =$D14*DG14 -> 0 | DI14: =$D14*DG14*(1-$E14) -> 0 | DJ14: =$D14*DG14*(1-$F14) -> 0 | DK14: =$D14*DG14*(1-$G14) -> 0 | DL14: =DF14 -> 2140529 | DN14: =$D14*DM14 -> 0 | DO14: =$D14*DM14*(1-$E14) -> 0 | DP14: =$D14*DM14*(1-$F14) -> 0 | DQ14: =$D14*DM14*(1-$G14) -> 0 | DR14: =DL14 -> 2140529 | DT14: =$D14*DS14 -> 0 | DU14: =$D14*DS14*(1-$E14) -> 0 | DV14: =$D14*DS14*(1-$F14) -> 0 | DW14: =$D14*DS14*(1-$G14) -> 0 | DX14: =DR14 -> 2140529 | DZ14: =$D14*DY14 -> 0 | EA14: =$D14*DY14*(1-$E14) -> 0 | EB14: =$D14*DY14*(1-$F14) -> 0 | EC14: =$D14*DY14*(1-$G14) -> 0 | ED14: =DX14 -> 2140529 | EF14: =$D14*EE14 -> 0 | EG14: =$D14*EE14*(1-$E14) -> 0 | EH14: =$D14*EE14*(1-$F14) -> 0 | EI14: =$D14*EE14*(1-$G14) -> 0 | EJ14: =ED14 -> 2140529 | EL14: =$D14*EK14 -> 0 | EM14: =$D14*EK14*(1-$E14) -> 0 | EN14: =$D14*EK14*(1-$F14) -> 0 | EO14: =$D14*EK14*(1-$G14) -> 0 | EP14: =EJ14 -> 2140529 | ER14: =$D14*EQ14 -> 0 | ES14: =$D14*EQ14*(1-$E14) -> 0 | ET14: =$D14*EQ14*(1-$F14) -> 0 | EU14: =$D14*EQ14*(1-$G14) -> 0 | EV14: =EP14 -> 2140529 | EX14: =$D14*EW14 -> 0 | EY14: =$D14*EW14*(1-$E14) -> 0 | EZ14: =$D14*EW14*(1-$F14) -> 0 | FA14: =$D14*EW14*(1-$G14) -> 0
B15: S-BT-MR-M8/7 SN6 | C15: 2139172 | D15: 1 | E15: 0.055 | F15: 0.107 | G15: 0.157 | H15: =C15 -> 2139172 | I15: 1.2 | J15: =$D15*I15 -> 1.2 | K15: =$D15*I15*(1-$E15) -> 1.134 | L15: =$D15*I15*(1-$F15) -> 1.0716 | M15: =$D15*I15*(1-$G15) -> 1.0116 | N15: =H15 -> 2139172 | O15: 1.4 | P15: =$D15*O15 -> 1.4 | Q15: =$D15*O15*(1-$E15) -> 1.323 | R15: =$D15*O15*(1-$F15) -> 1.2502 | S15: =$D15*O15*(1-$G15) -> 1.1802 | T15: =N15 -> 2139172 | V15: =$D15*U15 -> 0 | W15: =$D15*U15*(1-$E15) -> 0 | X15: =$D15*U15*(1-$F15) -> 0 | Y15: =$D15*U15*(1-$G15) -> 0 | Z15: =T15 -> 2139172 | AB15: =$D15*AA15 -> 0 | AC15: =$D15*AA15*(1-$E15) -> 0 | AD15: =$D15*AA15*(1-$F15) -> 0 | AE15: =$D15*AA15*(1-$G15) -> 0 | AF15: =Z15 -> 2139172 | AH15: =$D15*AG15 -> 0 | AI15: =$D15*AG15*(1-$E15) -> 0 | AJ15: =$D15*AG15*(1-$F15) -> 0 | AK15: =$D15*AG15*(1-$G15) -> 0 | AL15: =AF15 -> 2139172 | AN15: =$D15*AM15 -> 0 | AO15: =$D15*AM15*(1-$E15) -> 0 | AP15: =$D15*AM15*(1-$F15) -> 0 | AQ15: =$D15*AM15*(1-$G15) -> 0 | AR15: =AL15 -> 2139172 | AT15: =$D15*AS15 -> 0 | AU15: =$D15*AS15*(1-$E15) -> 0 | AV15: =$D15*AS15*(1-$F15) -> 0 | AW15: =$D15*AS15*(1-$G15) -> 0 | AX15: =AR15 -> 2139172 | AZ15: =$D15*AY15 -> 0 | BA15: =$D15*AY15*(1-$E15) -> 0 | BB15: =$D15*AY15*(1-$F15) -> 0 | BC15: =$D15*AY15*(1-$G15) -> 0 | BD15: =AX15 -> 2139172 | BF15: =$D15*BE15 -> 0 | BG15: =$D15*BE15*(1-$E15) -> 0 | BH15: =$D15*BE15*(1-$F15) -> 0 | BI15: =$D15*BE15*(1-$G15) -> 0 | BJ15: =BD15 -> 2139172 | BL15: =$D15*BK15 -> 0 | BM15: =$D15*BK15*(1-$E15) -> 0 | BN15: =$D15*BK15*(1-$F15) -> 0 | BO15: =$D15*BK15*(1-$G15) -> 0 | BP15: =BJ15 -> 2139172 | BR15: =$D15*BQ15 -> 0 | BS15: =$D15*BQ15*(1-$E15) -> 0 | BT15: =$D15*BQ15*(1-$F15) -> 0 | BU15: =$D15*BQ15*(1-$G15) -> 0 | BV15: =BP15 -> 2139172 | BX15: =$D15*BW15 -> 0 | BY15: =$D15*BW15*(1-$E15) -> 0 | BZ15: =$D15*BW15*(1-$F15) -> 0 | CA15: =$D15*BW15*(1-$G15) -> 0 | CB15: =BV15 -> 2139172 | CD15: =$D15*CC15 -> 0 | CE15: =$D15*CC15*(1-$E15) -> 0 | CF15: =$D15*CC15*(1-$F15) -> 0 | CG15: =$D15*CC15*(1-$G15) -> 0 | CH15: =CB15 -> 2139172 | CJ15: =$D15*CI15 -> 0 | CK15: =$D15*CI15*(1-$E15) -> 0 | CL15: =$D15*CI15*(1-$F15) -> 0 | CM15: =$D15*CI15*(1-$G15) -> 0 | CN15: =CH15 -> 2139172 | CP15: =$D15*CO15 -> 0 | CQ15: =$D15*CO15*(1-$E15) -> 0 | CR15: =$D15*CO15*(1-$F15) -> 0 | CS15: =$D15*CO15*(1-$G15) -> 0 | CT15: =CN15 -> 2139172 | CV15: =$D15*CU15 -> 0 | CW15: =$D15*CU15*(1-$E15) -> 0 | CX15: =$D15*CU15*(1-$F15) -> 0 | CY15: =$D15*CU15*(1-$G15) -> 0 | CZ15: =CT15 -> 2139172 | DB15: =$D15*DA15 -> 0 | DC15: =$D15*DA15*(1-$E15) -> 0 | DD15: =$D15*DA15*(1-$F15) -> 0 | DE15: =$D15*DA15*(1-$G15) -> 0 | DF15: =CZ15 -> 2139172 | DH15: =$D15*DG15 -> 0 | DI15: =$D15*DG15*(1-$E15) -> 0 | DJ15: =$D15*DG15*(1-$F15) -> 0 | DK15: =$D15*DG15*(1-$G15) -> 0 | DL15: =DF15 -> 2139172 | DN15: =$D15*DM15 -> 0 | DO15: =$D15*DM15*(1-$E15) -> 0 | DP15: =$D15*DM15*(1-$F15) -> 0 | DQ15: =$D15*DM15*(1-$G15) -> 0 | DR15: =DL15 -> 2139172 | DT15: =$D15*DS15 -> 0 | DU15: =$D15*DS15*(1-$E15) -> 0 | DV15: =$D15*DS15*(1-$F15) -> 0 | DW15: =$D15*DS15*(1-$G15) -> 0 | DX15: =DR15 -> 2139172 | DZ15: =$D15*DY15 -> 0 | EA15: =$D15*DY15*(1-$E15) -> 0 | EB15: =$D15*DY15*(1-$F15) -> 0 | EC15: =$D15*DY15*(1-$G15) -> 0 | ED15: =DX15 -> 2139172 | EF15: =$D15*EE15 -> 0 | EG15: =$D15*EE15*(1-$E15) -> 0 | EH15: =$D15*EE15*(1-$F15) -> 0 | EI15: =$D15*EE15*(1-$G15) -> 0 | EJ15: =ED15 -> 2139172 | EL15: =$D15*EK15 -> 0 | EM15: =$D15*EK15*(1-$E15) -> 0 | EN15: =$D15*EK15*(1-$F15) -> 0 | EO15: =$D15*EK15*(1-$G15) -> 0 | EP15: =EJ15 -> 2139172 | ER15: =$D15*EQ15 -> 0 | ES15: =$D15*EQ15*(1-$E15) -> 0 | ET15: =$D15*EQ15*(1-$F15) -> 0 | EU15: =$D15*EQ15*(1-$G15) -> 0 | EV15: =EP15 -> 2139172 | EX15: =$D15*EW15 -> 0 | EY15: =$D15*EW15*(1-$E15) -> 0 | EZ15: =$D15*EW15*(1-$F15) -> 0 | FA15: =$D15*EW15*(1-$G15) -> 0
B16: S-BT-MF M8/7 AN 6 | C16: 2139174 | D16: 1 | E16: 0.055 | F16: 0.107 | G16: 0.157 | H16: =C16 -> 2139174 | I16: 1.2 | J16: =$D16*I16 -> 1.2 | K16: =$D16*I16*(1-$E16) -> 1.134 | L16: =$D16*I16*(1-$F16) -> 1.0716 | M16: =$D16*I16*(1-$G16) -> 1.0116 | N16: =H16 -> 2139174 | O16: 1.4 | P16: =$D16*O16 -> 1.4 | Q16: =$D16*O16*(1-$E16) -> 1.323 | R16: =$D16*O16*(1-$F16) -> 1.2502 | S16: =$D16*O16*(1-$G16) -> 1.1802 | T16: =N16 -> 2139174 | V16: =$D16*U16 -> 0 | W16: =$D16*U16*(1-$E16) -> 0 | X16: =$D16*U16*(1-$F16) -> 0 | Y16: =$D16*U16*(1-$G16) -> 0 | Z16: =T16 -> 2139174 | AB16: =$D16*AA16 -> 0 | AC16: =$D16*AA16*(1-$E16) -> 0 | AD16: =$D16*AA16*(1-$F16) -> 0 | AE16: =$D16*AA16*(1-$G16) -> 0 | AF16: =Z16 -> 2139174 | AH16: =$D16*AG16 -> 0 | AI16: =$D16*AG16*(1-$E16) -> 0 | AJ16: =$D16*AG16*(1-$F16) -> 0 | AK16: =$D16*AG16*(1-$G16) -> 0 | AL16: =AF16 -> 2139174 | AN16: =$D16*AM16 -> 0 | AO16: =$D16*AM16*(1-$E16) -> 0 | AP16: =$D16*AM16*(1-$F16) -> 0 | AQ16: =$D16*AM16*(1-$G16) -> 0 | AR16: =AL16 -> 2139174 | AT16: =$D16*AS16 -> 0 | AU16: =$D16*AS16*(1-$E16) -> 0 | AV16: =$D16*AS16*(1-$F16) -> 0 | AW16: =$D16*AS16*(1-$G16) -> 0 | AX16: =AR16 -> 2139174 | AZ16: =$D16*AY16 -> 0 | BA16: =$D16*AY16*(1-$E16) -> 0 | BB16: =$D16*AY16*(1-$F16) -> 0 | BC16: =$D16*AY16*(1-$G16) -> 0 | BD16: =AX16 -> 2139174 | BF16: =$D16*BE16 -> 0 | BG16: =$D16*BE16*(1-$E16) -> 0 | BH16: =$D16*BE16*(1-$F16) -> 0 | BI16: =$D16*BE16*(1-$G16) -> 0 | BJ16: =BD16 -> 2139174 | BL16: =$D16*BK16 -> 0 | BM16: =$D16*BK16*(1-$E16) -> 0 | BN16: =$D16*BK16*(1-$F16) -> 0 | BO16: =$D16*BK16*(1-$G16) -> 0 | BP16: =BJ16 -> 2139174 | BR16: =$D16*BQ16 -> 0 | BS16: =$D16*BQ16*(1-$E16) -> 0 | BT16: =$D16*BQ16*(1-$F16) -> 0 | BU16: =$D16*BQ16*(1-$G16) -> 0 | BV16: =BP16 -> 2139174 | BX16: =$D16*BW16 -> 0 | BY16: =$D16*BW16*(1-$E16) -> 0 | BZ16: =$D16*BW16*(1-$F16) -> 0 | CA16: =$D16*BW16*(1-$G16) -> 0 | CB16: =BV16 -> 2139174 | CD16: =$D16*CC16 -> 0 | CE16: =$D16*CC16*(1-$E16) -> 0 | CF16: =$D16*CC16*(1-$F16) -> 0 | CG16: =$D16*CC16*(1-$G16) -> 0 | CH16: =CB16 -> 2139174 | CJ16: =$D16*CI16 -> 0 | CK16: =$D16*CI16*(1-$E16) -> 0 | CL16: =$D16*CI16*(1-$F16) -> 0 | CM16: =$D16*CI16*(1-$G16) -> 0 | CN16: =CH16 -> 2139174 | CP16: =$D16*CO16 -> 0 | CQ16: =$D16*CO16*(1-$E16) -> 0 | CR16: =$D16*CO16*(1-$F16) -> 0 | CS16: =$D16*CO16*(1-$G16) -> 0 | CT16: =CN16 -> 2139174 | CV16: =$D16*CU16 -> 0 | CW16: =$D16*CU16*(1-$E16) -> 0 | CX16: =$D16*CU16*(1-$F16) -> 0 | CY16: =$D16*CU16*(1-$G16) -> 0 | CZ16: =CT16 -> 2139174 | DB16: =$D16*DA16 -> 0 | DC16: =$D16*DA16*(1-$E16) -> 0 | DD16: =$D16*DA16*(1-$F16) -> 0 | DE16: =$D16*DA16*(1-$G16) -> 0 | DF16: =CZ16 -> 2139174 | DH16: =$D16*DG16 -> 0 | DI16: =$D16*DG16*(1-$E16) -> 0 | DJ16: =$D16*DG16*(1-$F16) -> 0 | DK16: =$D16*DG16*(1-$G16) -> 0 | DL16: =DF16 -> 2139174 | DN16: =$D16*DM16 -> 0 | DO16: =$D16*DM16*(1-$E16) -> 0 | DP16: =$D16*DM16*(1-$F16) -> 0 | DQ16: =$D16*DM16*(1-$G16) -> 0 | DR16: =DL16 -> 2139174 | DT16: =$D16*DS16 -> 0 | DU16: =$D16*DS16*(1-$E16) -> 0 | DV16: =$D16*DS16*(1-$F16) -> 0 | DW16: =$D16*DS16*(1-$G16) -> 0 | DX16: =DR16 -> 2139174 | DZ16: =$D16*DY16 -> 0 | EA16: =$D16*DY16*(1-$E16) -> 0 | EB16: =$D16*DY16*(1-$F16) -> 0 | EC16: =$D16*DY16*(1-$G16) -> 0 | ED16: =DX16 -> 2139174 | EF16: =$D16*EE16 -> 0 | EG16: =$D16*EE16*(1-$E16) -> 0 | EH16: =$D16*EE16*(1-$F16) -> 0 | EI16: =$D16*EE16*(1-$G16) -> 0 | EJ16: =ED16 -> 2139174 | EL16: =$D16*EK16 -> 0 | EM16: =$D16*EK16*(1-$E16) -> 0 | EN16: =$D16*EK16*(1-$F16) -> 0 | EO16: =$D16*EK16*(1-$G16) -> 0 | EP16: =EJ16 -> 2139174 | ER16: =$D16*EQ16 -> 0 | ES16: =$D16*EQ16*(1-$E16) -> 0 | ET16: =$D16*EQ16*(1-$F16) -> 0 | EU16: =$D16*EQ16*(1-$G16) -> 0 | EV16: =EP16 -> 2139174 | EX16: =$D16*EW16 -> 0 | EY16: =$D16*EW16*(1-$E16) -> 0 | EZ16: =$D16*EW16*(1-$F16) -> 0 | FA16: =$D16*EW16*(1-$G16) -> 0
B17: S-BT EF M10/15 AN 6 | C17: 2186204 | D17: 1 | E17: 0.055 | F17: 0.107 | G17: 0.157 | H17: =C17 -> 2186204 | I17: 1.2 | J17: =$D17*I17 -> 1.2 | K17: =$D17*I17*(1-$E17) -> 1.134 | L17: =$D17*I17*(1-$F17) -> 1.0716 | M17: =$D17*I17*(1-$G17) -> 1.0116 | N17: =H17 -> 2186204 | O17: 1.4 | P17: =$D17*O17 -> 1.4 | Q17: =$D17*O17*(1-$E17) -> 1.323 | R17: =$D17*O17*(1-$F17) -> 1.2502 | S17: =$D17*O17*(1-$G17) -> 1.1802 | T17: =N17 -> 2186204 | V17: =$D17*U17 -> 0 | W17: =$D17*U17*(1-$E17) -> 0 | X17: =$D17*U17*(1-$F17) -> 0 | Y17: =$D17*U17*(1-$G17) -> 0 | Z17: =T17 -> 2186204 | AB17: =$D17*AA17 -> 0 | AC17: =$D17*AA17*(1-$E17) -> 0 | AD17: =$D17*AA17*(1-$F17) -> 0 | AE17: =$D17*AA17*(1-$G17) -> 0 | AF17: =Z17 -> 2186204 | AH17: =$D17*AG17 -> 0 | AI17: =$D17*AG17*(1-$E17) -> 0 | AJ17: =$D17*AG17*(1-$F17) -> 0 | AK17: =$D17*AG17*(1-$G17) -> 0 | AL17: =AF17 -> 2186204 | AN17: =$D17*AM17 -> 0 | AO17: =$D17*AM17*(1-$E17) -> 0 | AP17: =$D17*AM17*(1-$F17) -> 0 | AQ17: =$D17*AM17*(1-$G17) -> 0 | AR17: =AL17 -> 2186204 | AT17: =$D17*AS17 -> 0 | AU17: =$D17*AS17*(1-$E17) -> 0 | AV17: =$D17*AS17*(1-$F17) -> 0 | AW17: =$D17*AS17*(1-$G17) -> 0 | AX17: =AR17 -> 2186204 | AZ17: =$D17*AY17 -> 0 | BA17: =$D17*AY17*(1-$E17) -> 0 | BB17: =$D17*AY17*(1-$F17) -> 0 | BC17: =$D17*AY17*(1-$G17) -> 0 | BD17: =AX17 -> 2186204 | BF17: =$D17*BE17 -> 0 | BG17: =$D17*BE17*(1-$E17) -> 0 | BH17: =$D17*BE17*(1-$F17) -> 0 | BI17: =$D17*BE17*(1-$G17) -> 0 | BJ17: =BD17 -> 2186204 | BL17: =$D17*BK17 -> 0 | BM17: =$D17*BK17*(1-$E17) -> 0 | BN17: =$D17*BK17*(1-$F17) -> 0 | BO17: =$D17*BK17*(1-$G17) -> 0 | BP17: =BJ17 -> 2186204 | BR17: =$D17*BQ17 -> 0 | BS17: =$D17*BQ17*(1-$E17) -> 0 | BT17: =$D17*BQ17*(1-$F17) -> 0 | BU17: =$D17*BQ17*(1-$G17) -> 0 | BV17: =BP17 -> 2186204 | BX17: =$D17*BW17 -> 0 | BY17: =$D17*BW17*(1-$E17) -> 0 | BZ17: =$D17*BW17*(1-$F17) -> 0 | CA17: =$D17*BW17*(1-$G17) -> 0 | CB17: =BV17 -> 2186204 | CD17: =$D17*CC17 -> 0 | CE17: =$D17*CC17*(1-$E17) -> 0 | CF17: =$D17*CC17*(1-$F17) -> 0 | CG17: =$D17*CC17*(1-$G17) -> 0 | CH17: =CB17 -> 2186204 | CJ17: =$D17*CI17 -> 0 | CK17: =$D17*CI17*(1-$E17) -> 0 | CL17: =$D17*CI17*(1-$F17) -> 0 | CM17: =$D17*CI17*(1-$G17) -> 0 | CN17: =CH17 -> 2186204 | CP17: =$D17*CO17 -> 0 | CQ17: =$D17*CO17*(1-$E17) -> 0 | CR17: =$D17*CO17*(1-$F17) -> 0 | CS17: =$D17*CO17*(1-$G17) -> 0 | CT17: =CN17 -> 2186204 | CV17: =$D17*CU17 -> 0 | CW17: =$D17*CU17*(1-$E17) -> 0 | CX17: =$D17*CU17*(1-$F17) -> 0 | CY17: =$D17*CU17*(1-$G17) -> 0 | CZ17: =CT17 -> 2186204 | DB17: =$D17*DA17 -> 0 | DC17: =$D17*DA17*(1-$E17) -> 0 | DD17: =$D17*DA17*(1-$F17) -> 0 | DE17: =$D17*DA17*(1-$G17) -> 0 | DF17: =CZ17 -> 2186204 | DH17: =$D17*DG17 -> 0 | DI17: =$D17*DG17*(1-$E17) -> 0 | DJ17: =$D17*DG17*(1-$F17) -> 0 | DK17: =$D17*DG17*(1-$G17) -> 0 | DL17: =DF17 -> 2186204 | DN17: =$D17*DM17 -> 0 | DO17: =$D17*DM17*(1-$E17) -> 0 | DP17: =$D17*DM17*(1-$F17) -> 0 | DQ17: =$D17*DM17*(1-$G17) -> 0 | DR17: =DL17 -> 2186204 | DT17: =$D17*DS17 -> 0 | DU17: =$D17*DS17*(1-$E17) -> 0 | DV17: =$D17*DS17*(1-$F17) -> 0 | DW17: =$D17*DS17*(1-$G17) -> 0 | DX17: =DR17 -> 2186204 | DZ17: =$D17*DY17 -> 0 | EA17: =$D17*DY17*(1-$E17) -> 0 | EB17: =$D17*DY17*(1-$F17) -> 0 | EC17: =$D17*DY17*(1-$G17) -> 0 | ED17: =DX17 -> 2186204 | EF17: =$D17*EE17 -> 0 | EG17: =$D17*EE17*(1-$E17) -> 0 | EH17: =$D17*EE17*(1-$F17) -> 0 | EI17: =$D17*EE17*(1-$G17) -> 0 | EJ17: =ED17 -> 2186204 | EL17: =$D17*EK17 -> 0 | EM17: =$D17*EK17*(1-$E17) -> 0 | EN17: =$D17*EK17*(1-$F17) -> 0 | EO17: =$D17*EK17*(1-$G17) -> 0 | EP17: =EJ17 -> 2186204 | ER17: =$D17*EQ17 -> 0 | ES17: =$D17*EQ17*(1-$E17) -> 0 | ET17: =$D17*EQ17*(1-$F17) -> 0 | EU17: =$D17*EQ17*(1-$G17) -> 0 | EV17: =EP17 -> 2186204 | EX17: =$D17*EW17 -> 0 | EY17: =$D17*EW17*(1-$E17) -> 0 | EZ17: =$D17*EW17*(1-$F17) -> 0 | FA17: =$D17*EW17*(1-$G17) -> 0
