Workbook

Sheet Copié_V3
A1: Contributeur | B1: Ref
A2: 6666 | B2: A1
A3: 6666 | B3: A2
A4: 6666 | B4: A3
A5: 6666 | B5: A4
A6: 6666 | B6: A5
A7: 6666 | B7: A6
A8: 6666 | B8: A7
A9: 6666 | B9: A8
A10: 6666 | B10: A9
A11: 6666 | B11: A10
A12: 6666 | B12: A11
A13: 6666 | B13: A12
... A180: 4444 | B180: A179

Sheet MeF_V3
A1: =Copié_V3!A1 -> Contributeur | B1: =Copié_V3!B1 -> Ref | C1: =Copié_V3!C1 -> 0 | D1: =Copié_V3!D1 -> 0 | E1: =Copié_V3!E1 -> 0 | F1: =Copié_V3!F1 -> 0 | G1: =Copié_V3!G1 -> 0 | H1: =Copié_V3!H1 -> 0 | ... AL1: =Copié_V3!AL1 -> 0
A2: =Copié_V3!A2 -> 6666 | B2: =Copié_V3!B2 -> A1 | C2: =Copié_V3!C2 -> 0 | D2: =Copié_V3!D2 -> 0 | E2: =Copié_V3!E2 -> 0 | F2: =Copié_V3!F2 -> 0 | G2: =Copié_V3!G2 -> 0 | H2: =Copié_V3!H2 -> 0 | ... AL2: =Copié_V3!AL2 -> 0
A3: =Copié_V3!A3 -> 6666 | B3: =Copié_V3!B3 -> A2 | C3: =Copié_V3!C3 -> 0 | D3: =Copié_V3!D3 -> 0 | E3: =Copié_V3!E3 -> 0 | F3: =Copié_V3!F3 -> 0 | G3: =Copié_V3!G3 -> 0 | H3: =Copié_V3!H3 -> 0 | ... AL3: =Copié_V3!AL3 -> 0
A4: =Copié_V3!A4 -> 6666 | B4: =Copié_V3!B4 -> A3 | C4: =Copié_V3!C4 -> 0 | D4: =Copié_V3!D4 -> 0 | E4: =Copié_V3!E4 -> 0 | F4: =Copié_V3!F4 -> 0 | G4: =Copié_V3!G4 -> 0 | H4: =Copié_V3!H4 -> 0 | ... AL4: =Copié_V3!AL4 -> 0
A5: =Copié_V3!A5 -> 6666 | B5: =Copié_V3!B5 -> A4 | C5: =Copié_V3!C5 -> 0 | D5: =Copié_V3!D5 -> 0 | E5: =Copié_V3!E5 -> 0 | F5: =Copié_V3!F5 -> 0 | G5: =Copié_V3!G5 -> 0 | H5: =Copié_V3!H5 -> 0 | ... AL5: =Copié_V3!AL5 -> 0
A6: =Copié_V3!A6 -> 6666 | B6: =Copié_V3!B6 -> A5 | C6: =Copié_V3!C6 -> 0 | D6: =Copié_V3!D6 -> 0 | E6: =Copié_V3!E6 -> 0 | F6: =Copié_V3!F6 -> 0 | G6: =Copié_V3!G6 -> 0 | H6: =Copié_V3!H6 -> 0 | ... AL6: =Copié_V3!AL6 -> 0
A7: =Copié_V3!A7 -> 6666 | B7: =Copié_V3!B7 -> A6 | C7: =Copié_V3!C7 -> 0 | D7: =Copié_V3!D7 -> 0 | E7: =Copié_V3!E7 -> 0 | F7: =Copié_V3!F7 -> 0 | G7: =Copié_V3!G7 -> 0 | H7: =Copié_V3!H7 -> 0 | ... AL7: =Copié_V3!AL7 -> 0
A8: =Copié_V3!A8 -> 6666 | B8: =Copié_V3!B8 -> A7 | C8: =Copié_V3!C8 -> 0 | D8: =Copié_V3!D8 -> 0 | E8: =Copié_V3!E8 -> 0 | F8: =Copié_V3!F8 -> 0 | G8: =Copié_V3!G8 -> 0 | H8: =Copié_V3!H8 -> 0 | ... AL8: =Copié_V3!AL8 -> 0
A9: =Copié_V3!A9 -> 6666 | B9: =Copié_V3!B9 -> A8 | C9: =Copié_V3!C9 -> 0 | D9: =Copié_V3!D9 -> 0 | E9: =Copié_V3!E9 -> 0 | F9: =Copié_V3!F9 -> 0 | G9: =Copié_V3!G9 -> 0 | H9: =Copié_V3!H9 -> 0 | ... AL9: =Copié_V3!AL9 -> 0
A10: =Copié_V3!A10 -> 6666 | B10: =Copié_V3!B10 -> A9 | C10: =Copié_V3!C10 -> 0 | D10: =Copié_V3!D10 -> 0 | E10: =Copié_V3!E10 -> 0 | F10: =Copié_V3!F10 -> 0 | G10: =Copié_V3!G10 -> 0 | H10: =Copié_V3!H10 -> 0 | ... AL10: =Copié_V3!AL10 -> 0
A11: =Copié_V3!A11 -> 6666 | B11: =Copié_V3!B11 -> A10 | C11: =Copié_V3!C11 -> 0 | D11: =Copié_V3!D11 -> 0 | E11: =Copié_V3!E11 -> 0 | F11: =Copié_V3!F11 -> 0 | G11: =Copié_V3!G11 -> 0 | H11: =Copié_V3!H11 -> 0 | ... AL11: =Copié_V3!AL11 -> 0
A12: =Copié_V3!A12 -> 6666 | B12: =Copié_V3!B12 -> A11 | C12: =Copié_V3!C12 -> 0 | D12: =Copié_V3!D12 -> 0 | E12: =Copié_V3!E12 -> 0 | F12: =Copié_V3!F12 -> 0 | G12: =Copié_V3!G12 -> 0 | H12: =Copié_V3!H12 -> 0 | ... AL12: =Copié_V3!AL12 -> 0
... A501: =Copié_V3!A501 -> 0 | B501: =Copié_V3!B501 -> 0 | C501: =Copié_V3!C501 -> 0 | D501: =Copié_V3!D501 -> 0 | E501: =Copié_V3!E501 -> 0 | F501: =Copié_V3!F501 -> 0 | G501: =Copié_V3!G501 -> 0 | H501: =Copié_V3!H501 -> 0 | ... AL501: =Copié_V3!AL501 -> 0

Sheet MeP_V3
G1: SIERREUR(INDEX(MeF_V3!$B$2:$B$800;GRANDE.VALEUR((MeF_V3!$A$2:$A$800=$B$3)*(LIGNE(MeF_V3!$A$2:$A$800)-1);NB.SI(MeF_V3!$A$2:$A$800;$B$3)+1-LIGNE(A1)));"")
B3: Contrib | C3: 1111 | E3: Ref
E4: {=IFERROR(INDEX(MeF_V3!$B$2:$B$800,LARGE((MeF_V3!$A$2:$A$800=$C$3)*(ROW(MeF_V3!$A$2:$A$800)-1),COUNTIF(MeF_V3!$A$2:$A$800,$C$3)+1-ROW(A1))),"")} -> A63
E5: {=IFERROR(INDEX(MeF_V3!$B$2:$B$800,LARGE((MeF_V3!$A$2:$A$800=$C$3)*(ROW(MeF_V3!$A$2:$A$800)-1),COUNTIF(MeF_V3!$A$2:$A$800,$C$3)+1-ROW(A2))),"")} -> A64
E6: {=IFERROR(INDEX(MeF_V3!$B$2:$B$800,LARGE((MeF_V3!$A$2:$A$800=$C$3)*(ROW(MeF_V3!$A$2:$A$800)-1),COUNTIF(MeF_V3!$A$2:$A$800,$C$3)+1-ROW(A3))),"")} -> A65
E7: {=IFERROR(INDEX(MeF_V3!$B$2:$B$800,LARGE((MeF_V3!$A$2:$A$800=$C$3)*(ROW(MeF_V3!$A$2:$A$800)-1),COUNTIF(MeF_V3!$A$2:$A$800,$C$3)+1-ROW(A4))),"")} -> A66
E8: {=IFERROR(INDEX(MeF_V3!$B$2:$B$800,LARGE((MeF_V3!$A$2:$A$800=$C$3)*(ROW(MeF_V3!$A$2:$A$800)-1),COUNTIF(MeF_V3!$A$2:$A$800,$C$3)+1-ROW(A5))),"")} -> A67
E9: {=IFERROR(INDEX(MeF_V3!$B$2:$B$800,LARGE((MeF_V3!$A$2:$A$800=$C$3)*(ROW(MeF_V3!$A$2:$A$800)-1),COUNTIF(MeF_V3!$A$2:$A$800,$C$3)+1-ROW(A6))),"")} -> A144
E10: {=IFERROR(INDEX(MeF_V3!$B$2:$B$800,LARGE((MeF_V3!$A$2:$A$800=$C$3)*(ROW(MeF_V3!$A$2:$A$800)-1),COUNTIF(MeF_V3!$A$2:$A$800,$C$3)+1-ROW(A7))),"")} -> A145
E11: {=IFERROR(INDEX(MeF_V3!$B$2:$B$800,LARGE((MeF_V3!$A$2:$A$800=$C$3)*(ROW(MeF_V3!$A$2:$A$800)-1),COUNTIF(MeF_V3!$A$2:$A$800,$C$3)+1-ROW(A8))),"")} -> A146
E12: {=IFERROR(INDEX(MeF_V3!$B$2:$B$800,LARGE((MeF_V3!$A$2:$A$800=$C$3)*(ROW(MeF_V3!$A$2:$A$800)-1),COUNTIF(MeF_V3!$A$2:$A$800,$C$3)+1-ROW(A9))),"")} -> A147
E13: {=IFERROR(INDEX(MeF_V3!$B$2:$B$800,LARGE((MeF_V3!$A$2:$A$800=$C$3)*(ROW(MeF_V3!$A$2:$A$800)-1),COUNTIF(MeF_V3!$A$2:$A$800,$C$3)+1-ROW(A10))),"")} -> A148
E14: {=IFERROR(INDEX(MeF_V3!$B$2:$B$800,LARGE((MeF_V3!$A$2:$A$800=$C$3)*(ROW(MeF_V3!$A$2:$A$800)-1),COUNTIF(MeF_V3!$A$2:$A$800,$C$3)+1-ROW(A11))),"")} -> A149
E15: {=IFERROR(INDEX(MeF_V3!$B$2:$B$800,LARGE((MeF_V3!$A$2:$A$800=$C$3)*(ROW(MeF_V3!$A$2:$A$800)-1),COUNTIF(MeF_V3!$A$2:$A$800,$C$3)+1-ROW(A12))),"")} -> A150
... E46: {=IFERROR(INDEX(MeF_V3!$B$2:$B$800,LARGE((MeF_V3!$A$2:$A$800=$C$3)*(ROW(MeF_V3!$A$2:$A$800)-1),COUNTIF(MeF_V3!$A$2:$A$800,$C$3)+1-ROW(A43))),"")}

Sheet TCD_V3
