Workbook

Sheet JANVIER
A2: CLIENT | B2: PAYS | C2: GAMME A | L2: GAMME B | Y2: Gamme C | AA2: Gamme D | AE2: Gamme E | AF2: Gamme F | AG2: Gamme G
C3: AA | I3: AB | K3: AC | L3: BA | R3: BB | U3: BC | Y3: CA | Z3: CB | AA3: DA | AB3: DB | AC3: DC
C4: 1 | D4: 2 | E4: 3 | F4: 4 | G4: 5 | H4: 6 | I4: 7 | J4: 8 | K4: 9 | L4: 1 | M4: 2 | N4: 3 | O4: 4 | P4: 5 | Q4: 6 | R4: 7 | S4: 8 | T4: 9 | U4: 10 | V4: 11 | W4: 12 | X4: 13 | Y4: 1 | Z4: 2 | AA4: 1 | AB4: 2 | AC4: 3 | AD4: 4 | AE4: 1 | AF4: 1 | AG4: 1 | AH4: 2 | AI4: 3 | AJ4: 4
A5: K | L5: =200 -> 200
A6: T | C6: 35 | L6: 1300 | R6: 250 | U6: 260 | Y6: 60 | Z6: 180 | AB6: 300 | AD6: 30
A7: T | C7: 34 | L7: 61
A8: T | L8: 145
A9: T | L9: 36
A10: H | C10: 310 | L10: 500 | U10: 160 | Y10: 10 | Z10: 130 | AB10: 90 | AF10: 5000 | AG10: 480 | AI10: 140 | AJ10: 55
A11: H | L11: 160
A12: G | C12: 340 | L12: 420 | U12: 880
A13: G | D13: 30 | M13: 200 | V13: 420
A14: E | C14: 860 | I14: 30 | K14: 30 | L14: 950 | P14: 20 | R14: 60 | T14: 10 | U14: 80 | AA14: 100 | AB14: 250 | AC14: 20
A15: B | AA15: 10 | AB15: 230 | AC15: 160 | AG15: =80+160 -> 240
A16: A | C16: 470 | I16: 50 | L16: 580 | AG16: 4
A17: J | C17: 210 | I17: 10 | L17: 550 | P17: 35 | U17: 270 | AE17: 18 | AJ17: 2
A18: A | C18: 300 | L18: 2850 | U18: 10
A19: T | AA19: 250 | AB19: 190 | AC19: 100
A20: T | L20: 1730 | U20: 200 | Y20: 160 | Z20: 40 | AA20: 90 | AB20: 530 | AD20: 30
A21: T | L21: 440
A22: T | L22: 520
A23: F | C23: 40 | L23: 230 | P23: 10 | U23: 100 | AF23: 350 | AG23: 13 | AI23: 8 | AJ23: 2
A24: E | C24: 520 | I24: 50 | L24: 690 | U24: 50 | Z24: 110 | AB24: 250 | AE24: =21+12 -> 33

Sheet TOTAL
D2: GAMME A | M2: GAMME B | Z2: Gamme C | AB2: Gamme D | AF2: Gamme E | AG2: Gamme F | AH2: Gamme G
A3: MOIS | B3: CLIENT | C3: PAYS | D3: AA | J3: AB | L3: AC | M3: BA | S3: BB | V3: BC | Z3: CA | AA3: CB | AB3: DA | AC3: DB | AD3: DC
D4: 1 | E4: 2 | F4: 3 | G4: 4 | H4: 5 | I4: 6 | J4: 7 | K4: 8 | L4: 9 | M4: 1 | N4: 2 | O4: 3 | P4: 4 | Q4: 5 | R4: 6 | S4: 7 | T4: 8 | U4: 9 | V4: 10 | W4: 11 | X4: 12 | Y4: 13 | Z4: 1 | AA4: 2 | AB4: 1 | AC4: 2 | AD4: 3 | AE4: 4 | AF4: 1 | AG4: 1 | AH4: 1 | AI4: 2 | AJ4: 3 | AK4: 4
A5: JANVIER | B5: A | C5: =JANVIER!A:A -> K | D5: =SUMIF(INDIRECT("'"&$A$5&"'!$A:$A"),TOTAL!B5,INDIRECT("'"&$A$5&"'!$C:$C")) -> 770 | E5: =SUMIF(INDIRECT("'"&$A$5&"'!$A:$A"),B5,INDIRECT("'"&$A$5&"'!$D:$D")) -> 0 | F5: =SUMIF(INDIRECT("'"&$A$5&"'!$A:$A"),B5,INDIRECT("'"&$A$5&"'!$E:$E")) -> 0 | G5: =SUMIF(INDIRECT("'"&$A$5&"'!$A:$A"),B5,INDIRECT("'"&$A$5&"'!$F:$F")) -> 0 | H5: =SUMIF(INDIRECT("'"&$A$5&"'!$A:$A"),B5,INDIRECT("'"&$A$5&"'!$G:$G")) -> 0 | I5: =SUMIF(INDIRECT("'"&$A$5&"'!$A:$A"),B5,INDIRECT("'"&$A$5&"'!$H:$H")) -> 0 | J5: =SUMIF(INDIRECT("'"&$A$5&"'!$A:$A"),B5,INDIRECT("'"&$A$5&"'!$I:$I")) -> 50 | K5: =SUMIF(INDIRECT("'"&$A$5&"'!$A:$A"),B5,INDIRECT("'"&$A$5&"'!$J:$J")) -> 0 | L5: =SUMIF(INDIRECT("'"&$A$5&"'!$A:$A"),B5,INDIRECT("'"&$A$5&"'!$K:$K")) -> 0
B6: B | D6: =SUMIF(INDIRECT("'"&$A$5&"'!$A:$A"),TOTAL!B6,INDIRECT("'"&$A$5&"'!$C:$C")) -> 0 | E6: =SUMIF(INDIRECT("'"&$A$5&"'!$A:$A"),B6,INDIRECT("'"&$A$5&"'!$D:$D")) -> 0 | F6: =SUMIF(INDIRECT("'"&$A$5&"'!$A:$A"),B6,INDIRECT("'"&$A$5&"'!$E:$E")) -> 0 | G6: =SUMIF(INDIRECT("'"&$A$5&"'!$A:$A"),B6,INDIRECT("'"&$A$5&"'!$F:$F")) -> 0 | H6: =SUMIF(INDIRECT("'"&$A$5&"'!$A:$A"),B6,INDIRECT("'"&$A$5&"'!$G:$G")) -> 0 | I6: =SUMIF(INDIRECT("'"&$A$5&"'!$A:$A"),B6,INDIRECT("'"&$A$5&"'!$H:$H")) -> 0 | J6: =SUMIF(INDIRECT("'"&$A$5&"'!$A:$A"),B6,INDIRECT("'"&$A$5&"'!$I:$I")) -> 0 | K6: =SUMIF(INDIRECT("'"&$A$5&"'!$A:$A"),B6,INDIRECT("'"&$A$5&"'!$J:$J")) -> 0 | L6: =SUMIF(INDIRECT("'"&$A$5&"'!$A:$A"),B6,INDIRECT("'"&$A$5&"'!$K:$K")) -> 0
B7: C | D7: =SUMIF(INDIRECT("'"&$A$5&"'!$A:$A"),TOTAL!B7,INDIRECT("'"&$A$5&"'!$C:$C")) -> 0 | E7: =SUMIF(INDIRECT("'"&$A$5&"'!$A:$A"),B7,INDIRECT("'"&$A$5&"'!$D:$D")) -> 0 | F7: =SUMIF(INDIRECT("'"&$A$5&"'!$A:$A"),B7,INDIRECT("'"&$A$5&"'!$E:$E")) -> 0 | G7: =SUMIF(INDIRECT("'"&$A$5&"'!$A:$A"),B7,INDIRECT("'"&$A$5&"'!$F:$F")) -> 0 | H7: =SUMIF(INDIRECT("'"&$A$5&"'!$A:$A"),B7,INDIRECT("'"&$A$5&"'!$G:$G")) -> 0 | I7: =SUMIF(INDIRECT("'"&$A$5&"'!$A:$A"),B7,INDIRECT("'"&$A$5&"'!$H:$H")) -> 0 | J7: =SUMIF(INDIRECT("'"&$A$5&"'!$A:$A"),B7,INDIRECT("'"&$A$5&"'!$I:$I")) -> 0 | K7: =SUMIF(INDIRECT("'"&$A$5&"'!$A:$A"),B7,INDIRECT("'"&$A$5&"'!$J:$J")) -> 0 | L7: =SUMIF(INDIRECT("'"&$A$5&"'!$A:$A"),B7,INDIRECT("'"&$A$5&"'!$K:$K")) -> 0
B8: D | D8: =SUMIF(INDIRECT("'"&$A$5&"'!$A:$A"),TOTAL!B8,INDIRECT("'"&$A$5&"'!$C:$C")) -> 0 | E8: =SUMIF(INDIRECT("'"&$A$5&"'!$A:$A"),B8,INDIRECT("'"&$A$5&"'!$D:$D")) -> 0 | F8: =SUMIF(INDIRECT("'"&$A$5&"'!$A:$A"),B8,INDIRECT("'"&$A$5&"'!$E:$E")) -> 0 | G8: =SUMIF(INDIRECT("'"&$A$5&"'!$A:$A"),B8,INDIRECT("'"&$A$5&"'!$F:$F")) -> 0 | H8: =SUMIF(INDIRECT("'"&$A$5&"'!$A:$A"),B8,INDIRECT("'"&$A$5&"'!$G:$G")) -> 0 | I8: =SUMIF(INDIRECT("'"&$A$5&"'!$A:$A"),B8,INDIRECT("'"&$A$5&"'!$H:$H")) -> 0 | J8: =SUMIF(INDIRECT("'"&$A$5&"'!$A:$A"),B8,INDIRECT("'"&$A$5&"'!$I:$I")) -> 0 | K8: =SUMIF(INDIRECT("'"&$A$5&"'!$A:$A"),B8,INDIRECT("'"&$A$5&"'!$J:$J")) -> 0 | L8: =SUMIF(INDIRECT("'"&$A$5&"'!$A:$A"),B8,INDIRECT("'"&$A$5&"'!$K:$K")) -> 0
B9: E | D9: =SUMIF(INDIRECT("'"&$A$5&"'!$A:$A"),TOTAL!B9,INDIRECT("'"&$A$5&"'!$C:$C")) -> 1380 | E9: =SUMIF(INDIRECT("'"&$A$5&"'!$A:$A"),B9,INDIRECT("'"&$A$5&"'!$D:$D")) -> 0 | F9: =SUMIF(INDIRECT("'"&$A$5&"'!$A:$A"),B9,INDIRECT("'"&$A$5&"'!$E:$E")) -> 0 | G9: =SUMIF(INDIRECT("'"&$A$5&"'!$A:$A"),B9,INDIRECT("'"&$A$5&"'!$F:$F")) -> 0 | H9: =SUMIF(INDIRECT("'"&$A$5&"'!$A:$A"),B9,INDIRECT("'"&$A$5&"'!$G:$G")) -> 0 | I9: =SUMIF(INDIRECT("'"&$A$5&"'!$A:$A"),B9,INDIRECT("'"&$A$5&"'!$H:$H")) -> 0 | J9: =SUMIF(INDIRECT("'"&$A$5&"'!$A:$A"),B9,INDIRECT("'"&$A$5&"'!$I:$I")) -> 80 | K9: =SUMIF(INDIRECT("'"&$A$5&"'!$A:$A"),B9,INDIRECT("'"&$A$5&"'!$J:$J")) -> 0 | L9: =SUMIF(INDIRECT("'"&$A$5&"'!$A:$A"),B9,INDIRECT("'"&$A$5&"'!$K:$K")) -> 30
B10: F | D10: =SUMIF(INDIRECT("'"&$A$5&"'!$A:$A"),TOTAL!B10,INDIRECT("'"&$A$5&"'!$C:$C")) -> 0 | E10: =SUMIF(INDIRECT("'"&$A$5&"'!$A:$A"),B10,INDIRECT("'"&$A$5&"'!$D:$D")) -> 0 | F10: =SUMIF(INDIRECT("'"&$A$5&"'!$A:$A"),B10,INDIRECT("'"&$A$5&"'!$E:$E")) -> 0 | G10: =SUMIF(INDIRECT("'"&$A$5&"'!$A:$A"),B10,INDIRECT("'"&$A$5&"'!$F:$F")) -> 0 | H10: =SUMIF(INDIRECT("'"&$A$5&"'!$A:$A"),B10,INDIRECT("'"&$A$5&"'!$G:$G")) -> 0 | I10: =SUMIF(INDIRECT("'"&$A$5&"'!$A:$A"),B10,INDIRECT("'"&$A$5&"'!$H:$H")) -> 0 | J10: =SUMIF(INDIRECT("'"&$A$5&"'!$A:$A"),B10,INDIRECT("'"&$A$5&"'!$I:$I")) -> 0 | K10: =SUMIF(INDIRECT("'"&$A$5&"'!$A:$A"),B10,INDIRECT("'"&$A$5&"'!$J:$J")) -> 0 | L10: =SUMIF(INDIRECT("'"&$A$5&"'!$A:$A"),B10,INDIRECT("'"&$A$5&"'!$K:$K")) -> 0
B11: G | D11: =SUMIF(INDIRECT("'"&$A$5&"'!$A:$A"),TOTAL!B11,INDIRECT("'"&$A$5&"'!$C:$C")) -> 340 | E11: =SUMIF(INDIRECT("'"&$A$5&"'!$A:$A"),B11,INDIRECT("'"&$A$5&"'!$D:$D")) -> 30 | F11: =SUMIF(INDIRECT("'"&$A$5&"'!$A:$A"),B11,INDIRECT("'"&$A$5&"'!$E:$E")) -> 0 | G11: =SUMIF(INDIRECT("'"&$A$5&"'!$A:$A"),B11,INDIRECT("'"&$A$5&"'!$F:$F")) -> 0 | H11: =SUMIF(INDIRECT("'"&$A$5&"'!$A:$A"),B11,INDIRECT("'"&$A$5&"'!$G:$G")) -> 0 | I11: =SUMIF(INDIRECT("'"&$A$5&"'!$A:$A"),B11,INDIRECT("'"&$A$5&"'!$H:$H")) -> 0 | J11: =SUMIF(INDIRECT("'"&$A$5&"'!$A:$A"),B11,INDIRECT("'"&$A$5&"'!$I:$I")) -> 0 | K11: =SUMIF(INDIRECT("'"&$A$5&"'!$A:$A"),B11,INDIRECT("'"&$A$5&"'!$J:$J")) -> 0 | L11: =SUMIF(INDIRECT("'"&$A$5&"'!$A:$A"),B11,INDIRECT("'"&$A$5&"'!$K:$K")) -> 0
B12: H | D12: =SUMIF(INDIRECT("'"&$A$5&"'!$A:$A"),TOTAL!B12,INDIRECT("'"&$A$5&"'!$C:$C")) -> 310 | E12: =SUMIF(INDIRECT("'"&$A$5&"'!$A:$A"),B12,INDIRECT("'"&$A$5&"'!$D:$D")) -> 0 | F12: =SUMIF(INDIRECT("'"&$A$5&"'!$A:$A"),B12,INDIRECT("'"&$A$5&"'!$E:$E")) -> 0 | G12: =SUMIF(INDIRECT("'"&$A$5&"'!$A:$A"),B12,INDIRECT("'"&$A$5&"'!$F:$F")) -> 0 | H12: =SUMIF(INDIRECT("'"&$A$5&"'!$A:$A"),B12,INDIRECT("'"&$A$5&"'!$G:$G")) -> 0 | I12: =SUMIF(INDIRECT("'"&$A$5&"'!$A:$A"),B12,INDIRECT("'"&$A$5&"'!$H:$H")) -> 0 | J12: =SUMIF(INDIRECT("'"&$A$5&"'!$A:$A"),B12,INDIRECT("'"&$A$5&"'!$I:$I")) -> 0 | K12: =SUMIF(INDIRECT("'"&$A$5&"'!$A:$A"),B12,INDIRECT("'"&$A$5&"'!$J:$J")) -> 0 | L12: =SUMIF(INDIRECT("'"&$A$5&"'!$A:$A"),B12,INDIRECT("'"&$A$5&"'!$K:$K")) -> 0
B13: I | D13: =SUMIF(INDIRECT("'"&$A$5&"'!$A:$A"),TOTAL!B13,INDIRECT("'"&$A$5&"'!$C:$C")) -> 0 | E13: =SUMIF(INDIRECT("'"&$A$5&"'!$A:$A"),B13,INDIRECT("'"&$A$5&"'!$D:$D")) -> 0 | F13: =SUMIF(INDIRECT("'"&$A$5&"'!$A:$A"),B13,INDIRECT("'"&$A$5&"'!$E:$E")) -> 0 | G13: =SUMIF(INDIRECT("'"&$A$5&"'!$A:$A"),B13,INDIRECT("'"&$A$5&"'!$F:$F")) -> 0 | H13: =SUMIF(INDIRECT("'"&$A$5&"'!$A:$A"),B13,INDIRECT("'"&$A$5&"'!$G:$G")) -> 0 | I13: =SUMIF(INDIRECT("'"&$A$5&"'!$A:$A"),B13,INDIRECT("'"&$A$5&"'!$H:$H")) -> 0 | J13: =SUMIF(INDIRECT("'"&$A$5&"'!$A:$A"),B13,INDIRECT("'"&$A$5&"'!$I:$I")) -> 0 | K13: =SUMIF(INDIRECT("'"&$A$5&"'!$A:$A"),B13,INDIRECT("'"&$A$5&"'!$J:$J")) -> 0 | L13: =SUMIF(INDIRECT("'"&$A$5&"'!$A:$A"),B13,INDIRECT("'"&$A$5&"'!$K:$K")) -> 0
B14: J | D14: =SUMIF(INDIRECT("'"&$A$5&"'!$A:$A"),TOTAL!B14,INDIRECT("'"&$A$5&"'!$C:$C")) -> 210 | E14: =SUMIF(INDIRECT("'"&$A$5&"'!$A:$A"),B14,INDIRECT("'"&$A$5&"'!$D:$D")) -> 0 | F14: =SUMIF(INDIRECT("'"&$A$5&"'!$A:$A"),B14,INDIRECT("'"&$A$5&"'!$E:$E")) -> 0 | G14: =SUMIF(INDIRECT("'"&$A$5&"'!$A:$A"),B14,INDIRECT("'"&$A$5&"'!$F:$F")) -> 0 | H14: =SUMIF(INDIRECT("'"&$A$5&"'!$A:$A"),B14,INDIRECT("'"&$A$5&"'!$G:$G")) -> 0 | I14: =SUMIF(INDIRECT("'"&$A$5&"'!$A:$A"),B14,INDIRECT("'"&$A$5&"'!$H:$H")) -> 0 | J14: =SUMIF(INDIRECT("'"&$A$5&"'!$A:$A"),B14,INDIRECT("'"&$A$5&"'!$I:$I")) -> 10 | K14: =SUMIF(INDIRECT("'"&$A$5&"'!$A:$A"),B14,INDIRECT("'"&$A$5&"'!$J:$J")) -> 0 | L14: =SUMIF(INDIRECT("'"&$A$5&"'!$A:$A"),B14,INDIRECT("'"&$A$5&"'!$K:$K")) -> 0
B15: K | D15: =SUMIF(INDIRECT("'"&$A$5&"'!$A:$A"),TOTAL!B15,INDIRECT("'"&$A$5&"'!$C:$C")) -> 0 | E15: =SUMIF(INDIRECT("'"&$A$5&"'!$A:$A"),B15,INDIRECT("'"&$A$5&"'!$D:$D")) -> 0 | F15: =SUMIF(INDIRECT("'"&$A$5&"'!$A:$A"),B15,INDIRECT("'"&$A$5&"'!$E:$E")) -> 0 | G15: =SUMIF(INDIRECT("'"&$A$5&"'!$A:$A"),B15,INDIRECT("'"&$A$5&"'!$F:$F")) -> 0 | H15: =SUMIF(INDIRECT("'"&$A$5&"'!$A:$A"),B15,INDIRECT("'"&$A$5&"'!$G:$G")) -> 0 | I15: =SUMIF(INDIRECT("'"&$A$5&"'!$A:$A"),B15,INDIRECT("'"&$A$5&"'!$H:$H")) -> 0 | J15: =SUMIF(INDIRECT("'"&$A$5&"'!$A:$A"),B15,INDIRECT("'"&$A$5&"'!$I:$I")) -> 0 | K15: =SUMIF(INDIRECT("'"&$A$5&"'!$A:$A"),B15,INDIRECT("'"&$A$5&"'!$J:$J")) -> 0 | L15: =SUMIF(INDIRECT("'"&$A$5&"'!$A:$A"),B15,INDIRECT("'"&$A$5&"'!$K:$K")) -> 0
B16: L | D16: =SUMIF(INDIRECT("'"&$A$5&"'!$A:$A"),TOTAL!B16,INDIRECT("'"&$A$5&"'!$C:$C")) -> 0 | E16: =SUMIF(INDIRECT("'"&$A$5&"'!$A:$A"),B16,INDIRECT("'"&$A$5&"'!$D:$D")) -> 0 | F16: =SUMIF(INDIRECT("'"&$A$5&"'!$A:$A"),B16,INDIRECT("'"&$A$5&"'!$E:$E")) -> 0 | G16: =SUMIF(INDIRECT("'"&$A$5&"'!$A:$A"),B16,INDIRECT("'"&$A$5&"'!$F:$F")) -> 0 | H16: =SUMIF(INDIRECT("'"&$A$5&"'!$A:$A"),B16,INDIRECT("'"&$A$5&"'!$G:$G")) -> 0 | I16: =SUMIF(INDIRECT("'"&$A$5&"'!$A:$A"),B16,INDIRECT("'"&$A$5&"'!$H:$H")) -> 0 | J16: =SUMIF(INDIRECT("'"&$A$5&"'!$A:$A"),B16,INDIRECT("'"&$A$5&"'!$I:$I")) -> 0 | K16: =SUMIF(INDIRECT("'"&$A$5&"'!$A:$A"),B16,INDIRECT("'"&$A$5&"'!$J:$J")) -> 0 | L16: =SUMIF(INDIRECT("'"&$A$5&"'!$A:$A"),B16,INDIRECT("'"&$A$5&"'!$K:$K")) -> 0
B17: M | D17: =SUMIF(INDIRECT("'"&$A$5&"'!$A:$A"),TOTAL!B17,INDIRECT("'"&$A$5&"'!$C:$C")) -> 0 | E17: =SUMIF(INDIRECT("'"&$A$5&"'!$A:$A"),B17,INDIRECT("'"&$A$5&"'!$D:$D")) -> 0 | F17: =SUMIF(INDIRECT("'"&$A$5&"'!$A:$A"),B17,INDIRECT("'"&$A$5&"'!$E:$E")) -> 0 | G17: =SUMIF(INDIRECT("'"&$A$5&"'!$A:$A"),B17,INDIRECT("'"&$A$5&"'!$F:$F")) -> 0 | H17: =SUMIF(INDIRECT("'"&$A$5&"'!$A:$A"),B17,INDIRECT("'"&$A$5&"'!$G:$G")) -> 0 | I17: =SUMIF(INDIRECT("'"&$A$5&"'!$A:$A"),B17,INDIRECT("'"&$A$5&"'!$H:$H")) -> 0 | J17: =SUMIF(INDIRECT("'"&$A$5&"'!$A:$A"),B17,INDIRECT("'"&$A$5&"'!$I:$I")) -> 0 | K17: =SUMIF(INDIRECT("'"&$A$5&"'!$A:$A"),B17,INDIRECT("'"&$A$5&"'!$J:$J")) -> 0 | L17: =SUMIF(INDIRECT("'"&$A$5&"'!$A:$A"),B17,INDIRECT("'"&$A$5&"'!$K:$K")) -> 0
... B24: T | D24: =SUMIF(INDIRECT("'"&$A$5&"'!$A:$A"),TOTAL!B24,INDIRECT("'"&$A$5&"'!$C:$C")) -> 69 | E24: =SUMIF(INDIRECT("'"&$A$5&"'!$A:$A"),B24,INDIRECT("'"&$A$5&"'!$D:$D")) -> 0 | F24: =SUMIF(INDIRECT("'"&$A$5&"'!$A:$A"),B24,INDIRECT("'"&$A$5&"'!$E:$E")) -> 0 | G24: =SUMIF(INDIRECT("'"&$A$5&"'!$A:$A"),B24,INDIRECT("'"&$A$5&"'!$F:$F")) -> 0 | H24: =SUMIF(INDIRECT("'"&$A$5&"'!$A:$A"),B24,INDIRECT("'"&$A$5&"'!$G:$G")) -> 0 | I24: =SUMIF(INDIRECT("'"&$A$5&"'!$A:$A"),B24,INDIRECT("'"&$A$5&"'!$H:$H")) -> 0 | J24: =SUMIF(INDIRECT("'"&$A$5&"'!$A:$A"),B24,INDIRECT("'"&$A$5&"'!$I:$I")) -> 0 | K24: =SUMIF(INDIRECT("'"&$A$5&"'!$A:$A"),B24,INDIRECT("'"&$A$5&"'!$J:$J")) -> 0 | L24: =SUMIF(INDIRECT("'"&$A$5&"'!$A:$A"),B24,INDIRECT("'"&$A$5&"'!$K:$K")) -> 0
A25: FEVRIER | B25: A
B26: B
B27: C
B28: D
B29: E
B30: F
B31: G
B32: H
B33: I
B34: J
B35: K
B36: L
B37: M
... B44: T
