Workbook

Sheet Feuil1
C1: Total
A2: Objet 1 | B2: 0 à 3m | C2: =COUNT(E2:DG2) -> 2 | D2: indice | E2: 312 | F2: 310
D3: Qté pièces associées | E3: 8 | F3: 4
B4: 3 à 6m | C4: =COUNT(E4:DG4) -> 1 | D4: indice | E4: 306
D5: Qté pièces associées | E5: 15
B6: >6m | C6: =COUNT(E6:DG6) -> 1 | D6: indice | E6: 314
D7: Qté pièces associées | E7: 3
A9: Objet 2 | B9: de 0m à 3m | C9: =COUNT(E9:DG9) -> 4 | D9: indice | E9: 602 | F9: 600 | G9: 350 | H9: 214
D10: Qté pièces associées | E10: 1 | H10: 1
B11: de 3m à 6m | C11: =COUNT(E11:DG11) -> 0 | D11: indice
D12: Qté pièces associées
B13: de 6m à 9m | C13: =COUNT(E13:DG13) -> 0 | D13: indice
D14: Qté pièces associées
B15: > 9m | C15: =COUNT(E15:DG15) -> 0 | D15: indice
D16: Qté pièces associées
A18: Objet 3 | B18: de 0m à 3m | C18: =COUNT(E18:DG18) -> 0 | D18: indice
D19: Qté pièces associées
B20: de 3m à 6m | C20: =COUNT(E20:DG20) -> 0 | D20: indice
D21: Qté pièces associées
B22: de 6m à 9m | C22: =COUNT(E22:DG22) -> 0 | D22: indice
D23: Qté pièces associées
B24: > 9m | C24: =COUNT(E24:DG24) -> 0 | D24: indice
D25: Qté pièces associées
A27: Objet 4 | B27: 0à 3m | C27: =COUNTA(E27:DG27) -> 0 | D27: indice
D28: Qté pièces associées
B29: 3m à 6m | C29: =COUNTA(E29:DG29) -> 0 | D29: indice
D30: Qté pièces associées
B31: 6m à 9 | C31: =COUNTA(E31:DG31) -> 0 | D31: indice
D32: Qté pièces associées
B33: > 9m | C33: =COUNTA(E33:DG33) -> 0 | D33: indice
D34: Qté pièces associées

Sheet Feuil2
A1: Qté pièces associées | B1: Objet | C1: Eléments
A2: =IFERROR(SUMIF(Feuil1!$D$2:$N$34,Feuil2!C2,Feuil1!$D$3:$N$35)/COUNTIF(Feuil1!$D$2:$N$33,Feuil2!C2),"") -> 8 | B2: Objet1 | C2: 312
A3: =IFERROR(SUMIF(Feuil1!$D$2:$N$34,Feuil2!C3,Feuil1!$D$3:$N$35)/COUNTIF(Feuil1!$D$2:$N$33,Feuil2!C3),"") -> 4 | B3: Objet1 | C3: 310 | F3: Je souhaite automatiser la colonne A en fonction de se que je vais inscrire manuellement dans la colonne C, pour que la Qté de pièces associées correspondante soit retransmise. Pour la ligne 2A, cela devra être inscris "8".
A4: =IFERROR(SUMIF(Feuil1!$D$2:$N$34,Feuil2!C4,Feuil1!$D$3:$N$35)/COUNTIF(Feuil1!$D$2:$N$33,Feuil2!C4),"") -> 15 | B4: Objet1 | C4: 306
A5: =IFERROR(SUMIF(Feuil1!$D$2:$N$34,Feuil2!C5,Feuil1!$D$3:$N$35)/COUNTIF(Feuil1!$D$2:$N$33,Feuil2!C5),"") -> 3 | B5: Objet1 | C5: 314
A6: =IFERROR(SUMIF(Feuil1!$D$2:$N$34,Feuil2!C6,Feuil1!$D$3:$N$35)/COUNTIF(Feuil1!$D$2:$N$33,Feuil2!C6),"") -> 1 | B6: Objet2 | C6: 214
A7: =IFERROR(SUMIF(Feuil1!$D$2:$N$34,Feuil2!C7,Feuil1!$D$3:$N$35)/COUNTIF(Feuil1!$D$2:$N$33,Feuil2!C7),"")
A8: =IFERROR(SUMIF(Feuil1!$D$2:$N$34,Feuil2!C8,Feuil1!$D$3:$N$35)/COUNTIF(Feuil1!$D$2:$N$33,Feuil2!C8),"")
A9: =IFERROR(SUMIF(Feuil1!$D$2:$N$34,Feuil2!C9,Feuil1!$D$3:$N$35)/COUNTIF(Feuil1!$D$2:$N$33,Feuil2!C9),"")
A10: =IFERROR(SUMIF(Feuil1!$D$2:$N$34,Feuil2!C10,Feuil1!$D$3:$N$35)/COUNTIF(Feuil1!$D$2:$N$33,Feuil2!C10),"")
A11: =IFERROR(SUMIF(Feuil1!$D$2:$N$34,Feuil2!C11,Feuil1!$D$3:$N$35)/COUNTIF(Feuil1!$D$2:$N$33,Feuil2!C11),"")
A12: =IFERROR(SUMIF(Feuil1!$D$2:$N$34,Feuil2!C12,Feuil1!$D$3:$N$35)/COUNTIF(Feuil1!$D$2:$N$33,Feuil2!C12),"")
A13: =IFERROR(SUMIF(Feuil1!$D$2:$N$34,Feuil2!C13,Feuil1!$D$3:$N$35)/COUNTIF(Feuil1!$D$2:$N$33,Feuil2!C13),"")
