Workbook

Sheet Suivi
G2: A remplir
C3: SUIVI TRIMESTRIEL DES BILANS | G3: Remplissage auto | J3: AP= | K3: A programmer
B6: - COORDONNEES - | F6: - INFOS - | G6: - SPORTIF - | K6: - COACHING - | N6: OSTEOPATHE | O6: - OSTEOPATHIE - | Q6: - DIETETIQUE -
A7: Etat | B7: C. M. | C7: N° | D7: NOM | E7: Prénom | F7: Inscription | G7: Bilan actuel | H7: N° Bilan actuel | I7: Report (jours) | J7: Prochain bilan | K7: Ajust. | L7: Séance actuelle | M7: Prochaine séance coaching | N7: Bilan actuel | O7: N° bilan actuel | P7: Prochain bilan | Q7: N° bilan actuel | R7: Fait | S7: Prochain bilan
C8: 6 | D8: MARTIN | E8: Dupont | F8: 42892 | G8: 43522 | H8: =IF(F8="","-",IF(G8+I8-F8<=90,"Bilan n°1",IF(AND(G8+I8-F8>90,G8+I8-F8<=180),"Bilan n°2",IF(AND(G8+I8-F8>180,G8+I8-F8<=270),"Bilan n°3",IF(AND(G8+I8-F8>270,G8+I8-F8<=360),"Bilan n°4",IF(AND(G8+I8-F8>360,G8+I8-F8<=450),"Bilan n°5",IF(AND(G8+I8-F8>450,G8+I8-F8<=540),"Bilan n°6",IF(AND(G8+I8-F8>540,G8+I8-F8<=630),"Bilan n°7",IF(AND(G8+I8-F8>630,G8+I8-F8<=720),"Bilan n°8",IF(AND(G8+I8-F8>720,G8+I8-F8<=810),"Bilan n°9",IF(AND(G8+I8-F8>810,G8+I8-F8<=900),"Bilan n°10",IF(AND(G8+I8-F8>900,G8+I8-F8<=990),"Bilan n°11",IF(AND(G8+I8-F8>990,G8+I8-F8<=1180),"Bilan n°12"))))))))))))) -> Bilan n°7 | J8: =IF(OR(H8="Bilan n°1",H8="Bilan n°2",H8="Bilan n°3",H8="Bilan n°4",H8="Bilan n°5",H8="Bilan n°6",H8="Bilan n°7",H8="Bilan n°8",H8="Bilan n°9",H8="Bilan n°10",H8="Bilan n°11",H8="Bilan n°12"),EDATE(L8,3),"-") -> 43613 | K8: 2 | L8: =IF(K8="AP","",IF(G8="-","",IF(G8="","",EDATE(G8,0)+K8+I8))) -> 43524 | M8: =IF(J8="-","",EDATE(J8,3)+4) -> 43709 | N8: 43542 | P8: =IF(N8="","A programmer",N8+360) -> 43902 | Q8: =IF(A8="Résiliation","-",IF(H8="Bilan n°1","Bilan n°1",IF(H8="Bilan n°2","Bilan n°1",IF(H8="Bilan n°3","Bilan n°1",IF(H8="Bilan n°4","Bilan n°1",IF(H8="Bilan n°5","Bilan n°2",IF(H8="Bilan n°6","Bilan n°2",IF(H8="Bilan n°7","Bilan n°2",IF(H8="Bilan n°8","Bilan n°2",IF(H8="Bilan n°9","Bilan n°2",IF(H8="Bilan n°10","Bilan n°2","-"))))))))))) -> Bilan n°2 | S8: =IF(R8="","A programmer",IF(R8=1,F8+360,IF(R8=2,F8+720,IF(R8=3,"Réabo à prévoir","-")))) -> A programmer
C9: 16 | D9: MALA | E9: Régine | F9: 42895 | G9: 42702 | H9: =IF(F9="","-",IF(G9+I9-F9<=90,"Bilan n°1",IF(AND(G9+I9-F9>90,G9+I9-F9<=180),"Bilan n°2",IF(AND(G9+I9-F9>180,G9+I9-F9<=270),"Bilan n°3",IF(AND(G9+I9-F9>270,G9+I9-F9<=360),"Bilan n°4",IF(AND(G9+I9-F9>360,G9+I9-F9<=450),"Bilan n°5",IF(AND(G9+I9-F9>450,G9+I9-F9<=540),"Bilan n°6",IF(AND(G9+I9-F9>540,G9+I9-F9<=630),"Bilan n°7",IF(AND(G9+I9-F9>630,G9+I9-F9<=720),"Bilan n°8",IF(AND(G9+I9-F9>720,G9+I9-F9<=810),"Bilan n°9",IF(AND(G9+I9-F9>810,G9+I9-F9<=900),"Bilan n°10",IF(AND(G9+I9-F9>900,G9+I9-F9<=990),"Bilan n°11",IF(AND(G9+I9-F9>990,G9+I9-F9<=1180),"Bilan n°12"))))))))))))) -> Bilan n°1 | J9: =IF(OR(H9="Bilan n°1",H9="Bilan n°2",H9="Bilan n°3",H9="Bilan n°4",H9="Bilan n°5",H9="Bilan n°6",H9="Bilan n°7",H9="Bilan n°8",H9="Bilan n°9",H9="Bilan n°10",H9="Bilan n°11",H9="Bilan n°12"),EDATE(L9,3),"-") -> 42796 | K9: 4 | L9: =IF(K9="AP","",IF(G9="-","",IF(G9="","",EDATE(G9,0)+K9+I9))) -> 42706 | M9: =IF(J9="-","",EDATE(J9,3)+4) -> 42892 | O9: =IF(A9="Résiliation","-",IF(H9="Bilan n°1","Bilan n°1",IF(H9="Bilan n°3","Bilan n°2",IF(H9="Bilan n°5","Bilan n°3",IF(H9="Bilan n°7","Bilan n°4",IF(H9="Bilan n°9","Bilan n°5",IF(H9="Bilan n°10","Bilan n°6","-"))))))) -> Bilan n°1 | P9: =IF(N9="","A programmer",N9+360) -> A programmer | Q9: =IF(A9="Résiliation","-",IF(H9="Bilan n°1","Bilan n°1",IF(H9="Bilan n°2","Bilan n°1",IF(H9="Bilan n°3","Bilan n°1",IF(H9="Bilan n°4","Bilan n°1",IF(H9="Bilan n°5","Bilan n°2",IF(H9="Bilan n°6","Bilan n°2",IF(H9="Bilan n°7","Bilan n°2",IF(H9="Bilan n°8","Bilan n°2",IF(H9="Bilan n°9","Bilan n°2",IF(H9="Bilan n°10","Bilan n°2","-"))))))))))) -> Bilan n°1 | R9: 1 | S9: =IF(R9="","A programmer",IF(R9=1,F9+360,IF(R9=2,F9+720,IF(R9=3,"Réabo à prévoir","-")))) -> 43255
C10: 25 | D10: RAJI | E10: Malo | F10: 43004 | G10: 43354 | H10: =IF(F10="","-",IF(G10+I10-F10<=90,"Bilan n°1",IF(AND(G10+I10-F10>90,G10+I10-F10<=180),"Bilan n°2",IF(AND(G10+I10-F10>180,G10+I10-F10<=270),"Bilan n°3",IF(AND(G10+I10-F10>270,G10+I10-F10<=360),"Bilan n°4",IF(AND(G10+I10-F10>360,G10+I10-F10<=450),"Bilan n°5",IF(AND(G10+I10-F10>450,G10+I10-F10<=540),"Bilan n°6",IF(AND(G10+I10-F10>540,G10+I10-F10<=630),"Bilan n°7",IF(AND(G10+I10-F10>630,G10+I10-F10<=720),"Bilan n°8",IF(AND(G10+I10-F10>720,G10+I10-F10<=810),"Bilan n°9",IF(AND(G10+I10-F10>810,G10+I10-F10<=900),"Bilan n°10",IF(AND(G10+I10-F10>900,G10+I10-F10<=990),"Bilan n°11",IF(AND(G10+I10-F10>990,G10+I10-F10<=1180),"Bilan n°12"))))))))))))) -> Bilan n°4 | J10: =IF(OR(H10="Bilan n°1",H10="Bilan n°2",H10="Bilan n°3",H10="Bilan n°4",H10="Bilan n°5",H10="Bilan n°6",H10="Bilan n°7",H10="Bilan n°8",H10="Bilan n°9",H10="Bilan n°10",H10="Bilan n°11",H10="Bilan n°12"),EDATE(L10,3),"-") -> 43449 | K10: 4 | L10: =IF(K10="AP","",IF(G10="-","",IF(G10="","",EDATE(G10,0)+K10+I10))) -> 43358 | M10: =IF(J10="-","",EDATE(J10,3)+4) -> 43543 | O10: =IF(A8="Résiliation","-",IF(H8="Bilan n°1","Bilan n°1",IF(H8="Bilan n°3","Bilan n°2",IF(H8="Bilan n°5","Bilan n°3",IF(H8="Bilan n°7","Bilan n°4",IF(H8="Bilan n°9","Bilan n°5",IF(H8="Bilan n°10","Bilan n°6","-"))))))) -> Bilan n°4 | P10: =IF(N10="","A programmer",N10+360) -> A programmer | Q10: =IF(A10="Résiliation","-",IF(H10="Bilan n°1","Bilan n°1",IF(H10="Bilan n°2","Bilan n°1",IF(H10="Bilan n°3","Bilan n°1",IF(H10="Bilan n°4","Bilan n°1",IF(H10="Bilan n°5","Bilan n°2",IF(H10="Bilan n°6","Bilan n°2",IF(H10="Bilan n°7","Bilan n°2",IF(H10="Bilan n°8","Bilan n°2",IF(H10="Bilan n°9","Bilan n°2",IF(H10="Bilan n°10","Bilan n°2","-"))))))))))) -> Bilan n°1 | R10: 1 | S10: =IF(R10="","A programmer",IF(R10=1,F10+360,IF(R10=2,F10+720,IF(R10=3,"Réabo à prévoir","-")))) -> 43364
C11: 34 | D11: BARIN | E11: Thomas | F11: 42970 | G11: 43404 | H11: =IF(F11="","-",IF(G11+I11-F11<=90,"Bilan n°1",IF(AND(G11+I11-F11>90,G11+I11-F11<=180),"Bilan n°2",IF(AND(G11+I11-F11>180,G11+I11-F11<=270),"Bilan n°3",IF(AND(G11+I11-F11>270,G11+I11-F11<=360),"Bilan n°4",IF(AND(G11+I11-F11>360,G11+I11-F11<=450),"Bilan n°5",IF(AND(G11+I11-F11>450,G11+I11-F11<=540),"Bilan n°6",IF(AND(G11+I11-F11>540,G11+I11-F11<=630),"Bilan n°7",IF(AND(G11+I11-F11>630,G11+I11-F11<=720),"Bilan n°8",IF(AND(G11+I11-F11>720,G11+I11-F11<=810),"Bilan n°9",IF(AND(G11+I11-F11>810,G11+I11-F11<=900),"Bilan n°10",IF(AND(G11+I11-F11>900,G11+I11-F11<=990),"Bilan n°11",IF(AND(G11+I11-F11>990,G11+I11-F11<=1180),"Bilan n°12"))))))))))))) -> Bilan n°5 | J11: =IF(OR(H11="Bilan n°1",H11="Bilan n°2",H11="Bilan n°3",H11="Bilan n°4",H11="Bilan n°5",H11="Bilan n°6",H11="Bilan n°7",H11="Bilan n°8",H11="Bilan n°9",H11="Bilan n°10",H11="Bilan n°11",H11="Bilan n°12"),EDATE(L11,3),"-") -> 43504 | K11: 8 | L11: =IF(K11="AP","",IF(G11="-","",IF(G11="","",EDATE(G11,0)+K11+I11))) -> 43412 | M11: =IF(J11="-","",EDATE(J11,3)+4) -> 43597 | O11: =IF(A11="Résiliation","-",IF(H11="Bilan n°1","Bilan n°1",IF(H11="Bilan n°3","Bilan n°2",IF(H11="Bilan n°5","Bilan n°3",IF(H11="Bilan n°7","Bilan n°4",IF(H11="Bilan n°9","Bilan n°5",IF(H11="Bilan n°10","Bilan n°6","-"))))))) -> Bilan n°3 | P11: =IF(N11="","A programmer",N11+360) -> A programmer | Q11: =IF(A11="Résiliation","-",IF(H11="Bilan n°1","Bilan n°1",IF(H11="Bilan n°2","Bilan n°1",IF(H11="Bilan n°3","Bilan n°1",IF(H11="Bilan n°4","Bilan n°1",IF(H11="Bilan n°5","Bilan n°2",IF(H11="Bilan n°6","Bilan n°2",IF(H11="Bilan n°7","Bilan n°2",IF(H11="Bilan n°8","Bilan n°2",IF(H11="Bilan n°9","Bilan n°2",IF(H11="Bilan n°10","Bilan n°2","-"))))))))))) -> Bilan n°2 | S11: =IF(R11="","A programmer",IF(R11=1,F11+360,IF(R11=2,F11+720,IF(R11=3,"Réabo à prévoir","-")))) -> A programmer
C12: 84 | D12: BARRE | E12: Léon | F12: 42738 | G12: 42769 | H12: =IF(F12="","-",IF(G12+I12-F12<=90,"Bilan n°1",IF(AND(G12+I12-F12>90,G12+I12-F12<=180),"Bilan n°2",IF(AND(G12+I12-F12>180,G12+I12-F12<=270),"Bilan n°3",IF(AND(G12+I12-F12>270,G12+I12-F12<=360),"Bilan n°4",IF(AND(G12+I12-F12>360,G12+I12-F12<=450),"Bilan n°5",IF(AND(G12+I12-F12>450,G12+I12-F12<=540),"Bilan n°6",IF(AND(G12+I12-F12>540,G12+I12-F12<=630),"Bilan n°7",IF(AND(G12+I12-F12>630,G12+I12-F12<=720),"Bilan n°8",IF(AND(G12+I12-F12>720,G12+I12-F12<=810),"Bilan n°9",IF(AND(G12+I12-F12>810,G12+I12-F12<=900),"Bilan n°10",IF(AND(G12+I12-F12>900,G12+I12-F12<=990),"Bilan n°11",IF(AND(G12+I12-F12>990,G12+I12-F12<=1180),"Bilan n°12"))))))))))))) -> Bilan n°1 | J12: =IF(OR(H12="Bilan n°1",H12="Bilan n°2",H12="Bilan n°3",H12="Bilan n°4",H12="Bilan n°5",H12="Bilan n°6",H12="Bilan n°7",H12="Bilan n°8",H12="Bilan n°9",H12="Bilan n°10",H12="Bilan n°11",H12="Bilan n°12"),EDATE(L12,3),"-") -> 42862 | K12: 4 | L12: =IF(K12="AP","",IF(G12="-","",IF(G12="","",EDATE(G12,0)+K12+I12))) -> 42773 | M12: =IF(J12="-","",EDATE(J12,3)+4) -> 42958 | O12: =IF(A12="Résiliation","-",IF(H12="Bilan n°1","Bilan n°1",IF(H12="Bilan n°3","Bilan n°2",IF(H12="Bilan n°5","Bilan n°3",IF(H12="Bilan n°7","Bilan n°4",IF(H12="Bilan n°9","Bilan n°5",IF(H12="Bilan n°10","Bilan n°6","-"))))))) -> Bilan n°1 | P12: =IF(N12="","A programmer",N12+360) -> A programmer | Q12: =IF(A12="Résiliation","-",IF(H12="Bilan n°1","Bilan n°1",IF(H12="Bilan n°2","Bilan n°1",IF(H12="Bilan n°3","Bilan n°1",IF(H12="Bilan n°4","Bilan n°1",IF(H12="Bilan n°5","Bilan n°2",IF(H12="Bilan n°6","Bilan n°2",IF(H12="Bilan n°7","Bilan n°2",IF(H12="Bilan n°8","Bilan n°2",IF(H12="Bilan n°9","Bilan n°2",IF(H12="Bilan n°10","Bilan n°2","-"))))))))))) -> Bilan n°1 | S12: =IF(R12="","A programmer",IF(R12=1,F12+360,IF(R12=2,F12+720,IF(R12=3,"Réabo à prévoir","-")))) -> A programmer
C13: 107 | D13: LORE | E13: Patrick | F13: 43350 | G13: 43270 | H13: =IF(F13="","-",IF(G13+I13-F13<=90,"Bilan n°1",IF(AND(G13+I13-F13>90,G13+I13-F13<=180),"Bilan n°2",IF(AND(G13+I13-F13>180,G13+I13-F13<=270),"Bilan n°3",IF(AND(G13+I13-F13>270,G13+I13-F13<=360),"Bilan n°4",IF(AND(G13+I13-F13>360,G13+I13-F13<=450),"Bilan n°5",IF(AND(G13+I13-F13>450,G13+I13-F13<=540),"Bilan n°6",IF(AND(G13+I13-F13>540,G13+I13-F13<=630),"Bilan n°7",IF(AND(G13+I13-F13>630,G13+I13-F13<=720),"Bilan n°8",IF(AND(G13+I13-F13>720,G13+I13-F13<=810),"Bilan n°9",IF(AND(G13+I13-F13>810,G13+I13-F13<=900),"Bilan n°10",IF(AND(G13+I13-F13>900,G13+I13-F13<=990),"Bilan n°11",IF(AND(G13+I13-F13>990,G13+I13-F13<=1180),"Bilan n°12"))))))))))))) -> Bilan n°1 | J13: =IF(OR(H13="Bilan n°1",H13="Bilan n°2",H13="Bilan n°3",H13="Bilan n°4",H13="Bilan n°5",H13="Bilan n°6",H13="Bilan n°7",H13="Bilan n°8",H13="Bilan n°9",H13="Bilan n°10",H13="Bilan n°11",H13="Bilan n°12"),EDATE(L13,3),"-") -> 43368 | K13: 6 | L13: =IF(K13="AP","",IF(G13="-","",IF(G13="","",EDATE(G13,0)+K13+I13))) -> 43276 | M13: =IF(J13="-","",EDATE(J13,3)+4) -> 43463 | O13: =IF(A13="Résiliation","-",IF(H13="Bilan n°1","Bilan n°1",IF(H13="Bilan n°3","Bilan n°2",IF(H13="Bilan n°5","Bilan n°3",IF(H13="Bilan n°7","Bilan n°4",IF(H13="Bilan n°9","Bilan n°5",IF(H13="Bilan n°10","Bilan n°6","-"))))))) -> Bilan n°1 | P13: =IF(N13="","A programmer",N13+360) -> A programmer | Q13: =IF(A13="Résiliation","-",IF(H13="Bilan n°1","Bilan n°1",IF(H13="Bilan n°2","Bilan n°1",IF(H13="Bilan n°3","Bilan n°1",IF(H13="Bilan n°4","Bilan n°1",IF(H13="Bilan n°5","Bilan n°2",IF(H13="Bilan n°6","Bilan n°2",IF(H13="Bilan n°7","Bilan n°2",IF(H13="Bilan n°8","Bilan n°2",IF(H13="Bilan n°9","Bilan n°2",IF(H13="Bilan n°10","Bilan n°2","-"))))))))))) -> Bilan n°1 | S13: =IF(R13="","A programmer",IF(R13=1,F13+360,IF(R13=2,F13+720,IF(R13=3,"Réabo à prévoir","-")))) -> A programmer
C14: 113 | F14: 42633 | G14: 43061 | H14: =IF(F14="","-",IF(G14+I14-F14<=90,"Bilan n°1",IF(AND(G14+I14-F14>90,G14+I14-F14<=180),"Bilan n°2",IF(AND(G14+I14-F14>180,G14+I14-F14<=270),"Bilan n°3",IF(AND(G14+I14-F14>270,G14+I14-F14<=360),"Bilan n°4",IF(AND(G14+I14-F14>360,G14+I14-F14<=450),"Bilan n°5",IF(AND(G14+I14-F14>450,G14+I14-F14<=540),"Bilan n°6",IF(AND(G14+I14-F14>540,G14+I14-F14<=630),"Bilan n°7",IF(AND(G14+I14-F14>630,G14+I14-F14<=720),"Bilan n°8",IF(AND(G14+I14-F14>720,G14+I14-F14<=810),"Bilan n°9",IF(AND(G14+I14-F14>810,G14+I14-F14<=900),"Bilan n°10",IF(AND(G14+I14-F14>900,G14+I14-F14<=990),"Bilan n°11",IF(AND(G14+I14-F14>990,G14+I14-F14<=1180),"Bilan n°12"))))))))))))) -> Bilan n°5 | J14: =IF(OR(H14="Bilan n°1",H14="Bilan n°2",H14="Bilan n°3",H14="Bilan n°4",H14="Bilan n°5",H14="Bilan n°6",H14="Bilan n°7",H14="Bilan n°8",H14="Bilan n°9",H14="Bilan n°10",H14="Bilan n°11",H14="Bilan n°12"),EDATE(L14,3),"-") -> 43157 | K14: 4 | L14: =IF(K14="AP","",IF(G14="-","",IF(G14="","",EDATE(G14,0)+K14+I14))) -> 43065 | M14: =IF(J14="-","",EDATE(J14,3)+4) -> 43250 | O14: =IF(A14="Résiliation","-",IF(H14="Bilan n°1","Bilan n°1",IF(H14="Bilan n°3","Bilan n°2",IF(H14="Bilan n°5","Bilan n°3",IF(H14="Bilan n°7","Bilan n°4",IF(H14="Bilan n°9","Bilan n°5",IF(H14="Bilan n°10","Bilan n°6","-"))))))) -> Bilan n°3 | P14: =IF(N14="","A programmer",N14+360) -> A programmer | Q14: =IF(A14="Résiliation","-",IF(H14="Bilan n°1","Bilan n°1",IF(H14="Bilan n°2","Bilan n°1",IF(H14="Bilan n°3","Bilan n°1",IF(H14="Bilan n°4","Bilan n°1",IF(H14="Bilan n°5","Bilan n°2",IF(H14="Bilan n°6","Bilan n°2",IF(H14="Bilan n°7","Bilan n°2",IF(H14="Bilan n°8","Bilan n°2",IF(H14="Bilan n°9","Bilan n°2",IF(H14="Bilan n°10","Bilan n°2","-"))))))))))) -> Bilan n°2 | S14: =IF(R14="","A programmer",IF(R14=1,F14+360,IF(R14=2,F14+720,IF(R14=3,"Réabo à prévoir","-")))) -> A programmer
C15: 127 | F15: 43570 | H15: =IF(F15="","-",IF(G15+I15-F15<=90,"Bilan n°1",IF(AND(G15+I15-F15>90,G15+I15-F15<=180),"Bilan n°2",IF(AND(G15+I15-F15>180,G15+I15-F15<=270),"Bilan n°3",IF(AND(G15+I15-F15>270,G15+I15-F15<=360),"Bilan n°4",IF(AND(G15+I15-F15>360,G15+I15-F15<=450),"Bilan n°5",IF(AND(G15+I15-F15>450,G15+I15-F15<=540),"Bilan n°6",IF(AND(G15+I15-F15>540,G15+I15-F15<=630),"Bilan n°7",IF(AND(G15+I15-F15>630,G15+I15-F15<=720),"Bilan n°8",IF(AND(G15+I15-F15>720,G15+I15-F15<=810),"Bilan n°9",IF(AND(G15+I15-F15>810,G15+I15-F15<=900),"Bilan n°10",IF(AND(G15+I15-F15>900,G15+I15-F15<=990),"Bilan n°11",IF(AND(G15+I15-F15>990,G15+I15-F15<=1180),"Bilan n°12"))))))))))))) -> Bilan n°1 | J15: =IF(OR(H15="Bilan n°1",H15="Bilan n°2",H15="Bilan n°3",H15="Bilan n°4",H15="Bilan n°5",H15="Bilan n°6",H15="Bilan n°7",H15="Bilan n°8",H15="Bilan n°9",H15="Bilan n°10",H15="Bilan n°11",H15="Bilan n°12"),EDATE(L15,3),"-") -> 91 | K15: AP | P15: =IF(N15="","A programmer",N15+360) -> A programmer | S15: =IF(R15="","A programmer",IF(R15=1,F15+360,IF(R15=2,F15+720,IF(R15=3,"Réabo à prévoir","-")))) -> A programmer
C16: 144 | F16: 43298 | G16: 43526 | H16: =IF(F16="","-",IF(G16+I16-F16<=90,"Bilan n°1",IF(AND(G16+I16-F16>90,G16+I16-F16<=180),"Bilan n°2",IF(AND(G16+I16-F16>180,G16+I16-F16<=270),"Bilan n°3",IF(AND(G16+I16-F16>270,G16+I16-F16<=360),"Bilan n°4",IF(AND(G16+I16-F16>360,G16+I16-F16<=450),"Bilan n°5",IF(AND(G16+I16-F16>450,G16+I16-F16<=540),"Bilan n°6",IF(AND(G16+I16-F16>540,G16+I16-F16<=630),"Bilan n°7",IF(AND(G16+I16-F16>630,G16+I16-F16<=720),"Bilan n°8",IF(AND(G16+I16-F16>720,G16+I16-F16<=810),"Bilan n°9",IF(AND(G16+I16-F16>810,G16+I16-F16<=900),"Bilan n°10",IF(AND(G16+I16-F16>900,G16+I16-F16<=990),"Bilan n°11",IF(AND(G16+I16-F16>990,G16+I16-F16<=1180),"Bilan n°12"))))))))))))) -> Bilan n°3 | J16: =IF(OR(H16="Bilan n°1",H16="Bilan n°2",H16="Bilan n°3",H16="Bilan n°4",H16="Bilan n°5",H16="Bilan n°6",H16="Bilan n°7",H16="Bilan n°8",H16="Bilan n°9",H16="Bilan n°10",H16="Bilan n°11",H16="Bilan n°12"),EDATE(L16,3),"-") -> 43622 | K16: 4 | L16: =IF(K16="AP","",IF(G16="-","",IF(G16="","",EDATE(G16,0)+K16+I16))) -> 43530 | M16: =IF(J16="-","",EDATE(J16,3)+4) -> 43718 | N16: 43362 | O16: =IF(#REF!="Résiliation","-",IF(H16="Bilan n°1","Bilan n°1",IF(H16="Bilan n°3","Bilan n°2",IF(H16="Bilan n°5","Bilan n°3",IF(H16="Bilan n°7","Bilan n°4",IF(H16="Bilan n°9","Bilan n°5",IF(H16="Bilan n°10","Bilan n°6","-"))))))) -> #REF! | P16: =IF(N16="","A programmer",N16+360) -> 43722 | Q16: =IF(#REF!="Résiliation","-",IF(H16="Bilan n°1","Bilan n°1",IF(H16="Bilan n°2","Bilan n°1",IF(H16="Bilan n°3","Bilan n°1",IF(H16="Bilan n°4","Bilan n°1",IF(H16="Bilan n°5","Bilan n°2",IF(H16="Bilan n°6","Bilan n°2",IF(H16="Bilan n°7","Bilan n°2",IF(H16="Bilan n°8","Bilan n°2",IF(H16="Bilan n°9","Bilan n°2",IF(H16="Bilan n°10","Bilan n°2","-"))))))))))) -> #REF! | S16: =IF(R16="","A programmer",IF(R16=1,F16+360,IF(R16=2,F16+720,IF(R16=3,"Réabo à prévoir","-")))) -> A programmer
C17: 156 | F17: 42726 | G17: 42790 | H17: =IF(F17="","-",IF(G17+I17-F17<=90,"Bilan n°1",IF(AND(G17+I17-F17>90,G17+I17-F17<=180),"Bilan n°2",IF(AND(G17+I17-F17>180,G17+I17-F17<=270),"Bilan n°3",IF(AND(G17+I17-F17>270,G17+I17-F17<=360),"Bilan n°4",IF(AND(G17+I17-F17>360,G17+I17-F17<=450),"Bilan n°5",IF(AND(G17+I17-F17>450,G17+I17-F17<=540),"Bilan n°6",IF(AND(G17+I17-F17>540,G17+I17-F17<=630),"Bilan n°7",IF(AND(G17+I17-F17>630,G17+I17-F17<=720),"Bilan n°8",IF(AND(G17+I17-F17>720,G17+I17-F17<=810),"Bilan n°9",IF(AND(G17+I17-F17>810,G17+I17-F17<=900),"Bilan n°10",IF(AND(G17+I17-F17>900,G17+I17-F17<=990),"Bilan n°11",IF(AND(G17+I17-F17>990,G17+I17-F17<=1180),"Bilan n°12"))))))))))))) -> Bilan n°1 | J17: =IF(OR(H17="Bilan n°1",H17="Bilan n°2",H17="Bilan n°3",H17="Bilan n°4",H17="Bilan n°5",H17="Bilan n°6",H17="Bilan n°7",H17="Bilan n°8",H17="Bilan n°9",H17="Bilan n°10",H17="Bilan n°11",H17="Bilan n°12"),EDATE(L17,3),"-") -> 42883 | K17: 4 | L17: =IF(K17="AP","",IF(G17="-","",IF(G17="","",EDATE(G17,0)+K17+I17))) -> 42794 | M17: =IF(J17="-","",EDATE(J17,3)+4) -> 42979 | O17: =IF(A16="Résiliation","-",IF(H17="Bilan n°1","Bilan n°1",IF(H17="Bilan n°2","Bilan n°1",IF(H17="Bilan n°4","Bilan n°2",IF(H17="Bilan n°3","Bilan n°2",IF(H17="Bilan n°5","Bilan n°3",IF(H17="Bilan n°6","Bilan n°3",IF(H17="Bilan n°7","Bilan n°4",IF(H17="Bilan n°9","Bilan n°5",IF(H17="Bilan n°10","Bilan n°6","-")))))))))) -> Bilan n°1 | P17: =IF(N17="","A programmer",N17+360) -> A programmer | Q17: =IF(A16="Résiliation","-",IF(H17="Bilan n°1","Bilan n°1",IF(H17="Bilan n°2","Bilan n°1",IF(H17="Bilan n°3","Bilan n°1",IF(H17="Bilan n°4","Bilan n°1",IF(H17="Bilan n°5","Bilan n°2",IF(H17="Bilan n°6","Bilan n°2",IF(H17="Bilan n°7","Bilan n°2",IF(H17="Bilan n°8","Bilan n°2",IF(H17="Bilan n°9","Bilan n°2",IF(H17="Bilan n°10","Bilan n°2","-"))))))))))) -> Bilan n°1 | S17: =IF(R17="","A programmer",IF(R17=1,F17+360,IF(R17=2,F17+720,IF(R17=3,"Réabo à prévoir","-")))) -> A programmer
C18: 164 | F18: 43475 | G18: 43542 | H18: =IF(F18="","-",IF(G18+I18-F18<=90,"Bilan n°1",IF(AND(G18+I18-F18>90,G18+I18-F18<=180),"Bilan n°2",IF(AND(G18+I18-F18>180,G18+I18-F18<=270),"Bilan n°3",IF(AND(G18+I18-F18>270,G18+I18-F18<=360),"Bilan n°4",IF(AND(G18+I18-F18>360,G18+I18-F18<=450),"Bilan n°5",IF(AND(G18+I18-F18>450,G18+I18-F18<=540),"Bilan n°6",IF(AND(G18+I18-F18>540,G18+I18-F18<=630),"Bilan n°7",IF(AND(G18+I18-F18>630,G18+I18-F18<=720),"Bilan n°8",IF(AND(G18+I18-F18>720,G18+I18-F18<=810),"Bilan n°9",IF(AND(G18+I18-F18>810,G18+I18-F18<=900),"Bilan n°10",IF(AND(G18+I18-F18>900,G18+I18-F18<=990),"Bilan n°11",IF(AND(G18+I18-F18>990,G18+I18-F18<=1180),"Bilan n°12"))))))))))))) -> Bilan n°1 | J18: =IF(OR(H18="Bilan n°1",H18="Bilan n°2",H18="Bilan n°3",H18="Bilan n°4",H18="Bilan n°5",H18="Bilan n°6",H18="Bilan n°7",H18="Bilan n°8",H18="Bilan n°9",H18="Bilan n°10",H18="Bilan n°11",H18="Bilan n°12"),EDATE(L18,3),"-") -> 43636 | K18: 2 | L18: =IF(K18="AP","",IF(G18="-","",IF(G18="","",EDATE(G18,0)+K18+I18))) -> 43544 | M18: =IF(J18="-","",EDATE(J18,3)+4) -> 43732 | O18: =IF(A18="Résiliation","-",IF(H18="Bilan n°1","Bilan n°1",IF(H18="Bilan n°2","Bilan n°1",IF(H18="Bilan n°4","Bilan n°2",IF(H18="Bilan n°3","Bilan n°2",IF(H18="Bilan n°5","Bilan n°3",IF(H18="Bilan n°6","Bilan n°3",IF(H18="Bilan n°7","Bilan n°4",IF(H18="Bilan n°9","Bilan n°5",IF(H18="Bilan n°10","Bilan n°6","-")))))))))) -> Bilan n°1 | P18: =IF(N18="","A programmer",N18+360) -> A programmer | Q18: =IF(A18="Résiliation","-",IF(H18="Bilan n°1","Bilan n°1",IF(H18="Bilan n°2","Bilan n°1",IF(H18="Bilan n°3","Bilan n°1",IF(H18="Bilan n°4","Bilan n°1",IF(H18="Bilan n°5","Bilan n°2",IF(H18="Bilan n°6","Bilan n°2",IF(H18="Bilan n°7","Bilan n°2",IF(H18="Bilan n°8","Bilan n°2",IF(H18="Bilan n°9","Bilan n°2",IF(H18="Bilan n°10","Bilan n°2","-"))))))))))) -> Bilan n°1 | S18: =IF(R18="","A programmer",IF(R18=1,F18+360,IF(R18=2,F18+720,IF(R18=3,"Réabo à prévoir","-")))) -> A programmer
C19: 174 | F19: 43321 | G19: 43493 | H19: =IF(F19="","-",IF(G19+I19-F19<=90,"Bilan n°1",IF(AND(G19+I19-F19>90,G19+I19-F19<=180),"Bilan n°2",IF(AND(G19+I19-F19>180,G19+I19-F19<=270),"Bilan n°3",IF(AND(G19+I19-F19>270,G19+I19-F19<=360),"Bilan n°4",IF(AND(G19+I19-F19>360,G19+I19-F19<=450),"Bilan n°5",IF(AND(G19+I19-F19>450,G19+I19-F19<=540),"Bilan n°6",IF(AND(G19+I19-F19>540,G19+I19-F19<=630),"Bilan n°7",IF(AND(G19+I19-F19>630,G19+I19-F19<=720),"Bilan n°8",IF(AND(G19+I19-F19>720,G19+I19-F19<=810),"Bilan n°9",IF(AND(G19+I19-F19>810,G19+I19-F19<=900),"Bilan n°10",IF(AND(G19+I19-F19>900,G19+I19-F19<=990),"Bilan n°11",IF(AND(G19+I19-F19>990,G19+I19-F19<=1180),"Bilan n°12"))))))))))))) -> Bilan n°2 | J19: =IF(OR(H19="Bilan n°1",H19="Bilan n°2",H19="Bilan n°3",H19="Bilan n°4",H19="Bilan n°5",H19="Bilan n°6",H19="Bilan n°7",H19="Bilan n°8",H19="Bilan n°9",H19="Bilan n°10",H19="Bilan n°11",H19="Bilan n°12"),EDATE(L19,3),"-") -> 43586 | K19: 4 | L19: =IF(K19="AP","",IF(G19="-","",IF(G19="","",EDATE(G19,0)+K19+I19))) -> 43497 | M19: =IF(J19="-","",EDATE(J19,3)+4) -> 43682 | N19: 43411 | O19: =IF(A19="Résiliation","-",IF(H19="Bilan n°1","Bilan n°1",IF(H19="Bilan n°2","Bilan n°1",IF(H19="Bilan n°4","Bilan n°2",IF(H19="Bilan n°3","Bilan n°2",IF(H19="Bilan n°5","Bilan n°3",IF(H19="Bilan n°6","Bilan n°3",IF(H19="Bilan n°7","Bilan n°4",IF(H19="Bilan n°9","Bilan n°5",IF(H19="Bilan n°10","Bilan n°6","-")))))))))) -> Bilan n°1 | P19: =IF(N19="","A programmer",N19+360) -> 43771 | Q19: =IF(A19="Résiliation","-",IF(H19="Bilan n°1","Bilan n°1",IF(H19="Bilan n°2","Bilan n°1",IF(H19="Bilan n°3","Bilan n°1",IF(H19="Bilan n°4","Bilan n°1",IF(H19="Bilan n°5","Bilan n°2",IF(H19="Bilan n°6","Bilan n°2",IF(H19="Bilan n°7","Bilan n°2",IF(H19="Bilan n°8","Bilan n°2",IF(H19="Bilan n°9","Bilan n°2",IF(H19="Bilan n°10","Bilan n°2","-"))))))))))) -> Bilan n°1 | R19: 4 | S19: =IF(R19="","A programmer",IF(R19=1,F19+360,IF(R19=2,F19+720,IF(R19=3,"Réabo à prévoir","-")))) -> -
C20: 188 | F20: 43395 | G20: 43523 | H20: =IF(F20="","-",IF(G20+I20-F20<=90,"Bilan n°1",IF(AND(G20+I20-F20>90,G20+I20-F20<=180),"Bilan n°2",IF(AND(G20+I20-F20>180,G20+I20-F20<=270),"Bilan n°3",IF(AND(G20+I20-F20>270,G20+I20-F20<=360),"Bilan n°4",IF(AND(G20+I20-F20>360,G20+I20-F20<=450),"Bilan n°5",IF(AND(G20+I20-F20>450,G20+I20-F20<=540),"Bilan n°6",IF(AND(G20+I20-F20>540,G20+I20-F20<=630),"Bilan n°7",IF(AND(G20+I20-F20>630,G20+I20-F20<=720),"Bilan n°8",IF(AND(G20+I20-F20>720,G20+I20-F20<=810),"Bilan n°9",IF(AND(G20+I20-F20>810,G20+I20-F20<=900),"Bilan n°10",IF(AND(G20+I20-F20>900,G20+I20-F20<=990),"Bilan n°11",IF(AND(G20+I20-F20>990,G20+I20-F20<=1180),"Bilan n°12"))))))))))))) -> Bilan n°2 | J20: =IF(OR(H20="Bilan n°1",H20="Bilan n°2",H20="Bilan n°3",H20="Bilan n°4",H20="Bilan n°5",H20="Bilan n°6",H20="Bilan n°7",H20="Bilan n°8",H20="Bilan n°9",H20="Bilan n°10",H20="Bilan n°11",H20="Bilan n°12"),EDATE(L20,3),"-") -> 43613 | K20: 1 | L20: =IF(K20="AP","",IF(G20="-","",IF(G20="","",EDATE(G20,0)+K20+I20))) -> 43524 | M20: =IF(J20="-","",EDATE(J20,3)+4) -> 43709 | O20: =IF(A20="Résiliation","-",IF(H20="Bilan n°1","Bilan n°1",IF(H20="Bilan n°2","Bilan n°1",IF(H20="Bilan n°4","Bilan n°2",IF(H20="Bilan n°3","Bilan n°2",IF(H20="Bilan n°5","Bilan n°3",IF(H20="Bilan n°6","Bilan n°3",IF(H20="Bilan n°7","Bilan n°4",IF(H20="Bilan n°9","Bilan n°5",IF(H20="Bilan n°10","Bilan n°6","-")))))))))) -> Bilan n°1 | P20: =IF(N20="","A programmer",N20+360) -> A programmer | Q20: =IF(A20="Résiliation","-",IF(H20="Bilan n°1","Bilan n°1",IF(H20="Bilan n°2","Bilan n°1",IF(H20="Bilan n°3","Bilan n°1",IF(H20="Bilan n°4","Bilan n°1",IF(H20="Bilan n°5","Bilan n°2",IF(H20="Bilan n°6","Bilan n°2",IF(H20="Bilan n°7","Bilan n°2",IF(H20="Bilan n°8","Bilan n°2",IF(H20="Bilan n°9","Bilan n°2",IF(H20="Bilan n°10","Bilan n°2","-"))))))))))) -> Bilan n°1 | S20: =IF(R20="","A programmer",IF(R20=1,F20+360,IF(R20=2,F20+720,IF(R20=3,"Réabo à prévoir","-")))) -> A programmer
C21: 222 | F21: 43491 | G21: 43523 | H21: =IF(F21="","-",IF(G21+I21-F21<=90,"Bilan n°1",IF(AND(G21+I21-F21>90,G21+I21-F21<=180),"Bilan n°2",IF(AND(G21+I21-F21>180,G21+I21-F21<=270),"Bilan n°3",IF(AND(G21+I21-F21>270,G21+I21-F21<=360),"Bilan n°4",IF(AND(G21+I21-F21>360,G21+I21-F21<=450),"Bilan n°5",IF(AND(G21+I21-F21>450,G21+I21-F21<=540),"Bilan n°6",IF(AND(G21+I21-F21>540,G21+I21-F21<=630),"Bilan n°7",IF(AND(G21+I21-F21>630,G21+I21-F21<=720),"Bilan n°8",IF(AND(G21+I21-F21>720,G21+I21-F21<=810),"Bilan n°9",IF(AND(G21+I21-F21>810,G21+I21-F21<=900),"Bilan n°10",IF(AND(G21+I21-F21>900,G21+I21-F21<=990),"Bilan n°11",IF(AND(G21+I21-F21>990,G21+I21-F21<=1180),"Bilan n°12"))))))))))))) -> Bilan n°1 | J21: =IF(OR(H21="Bilan n°1",H21="Bilan n°2",H21="Bilan n°3",H21="Bilan n°4",H21="Bilan n°5",H21="Bilan n°6",H21="Bilan n°7",H21="Bilan n°8",H21="Bilan n°9",H21="Bilan n°10",H21="Bilan n°11",H21="Bilan n°12"),EDATE(L21,3),"-") -> 43617 | K21: 2 | L21: =IF(K21="AP","",IF(G21="-","",IF(G21="","",EDATE(G21,0)+K21+I21))) -> 43525 | M21: =IF(J21="-","",EDATE(J21,3)+4) -> 43713 | O21: =IF(A21="Résiliation","-",IF(H21="Bilan n°1","Bilan n°1",IF(H21="Bilan n°2","Bilan n°1",IF(H21="Bilan n°4","Bilan n°2",IF(H21="Bilan n°3","Bilan n°2",IF(H21="Bilan n°5","Bilan n°3",IF(H21="Bilan n°6","Bilan n°3",IF(H21="Bilan n°7","Bilan n°4",IF(H21="Bilan n°9","Bilan n°5",IF(H21="Bilan n°10","Bilan n°6","-")))))))))) -> Bilan n°1 | P21: =IF(N21="","A programmer",N21+360) -> A programmer | Q21: =IF(A21="Résiliation","-",IF(H21="Bilan n°1","Bilan n°1",IF(H21="Bilan n°2","Bilan n°1",IF(H21="Bilan n°3","Bilan n°1",IF(H21="Bilan n°4","Bilan n°1",IF(H21="Bilan n°5","Bilan n°2",IF(H21="Bilan n°6","Bilan n°2",IF(H21="Bilan n°7","Bilan n°2",IF(H21="Bilan n°8","Bilan n°2",IF(H21="Bilan n°9","Bilan n°2",IF(H21="Bilan n°10","Bilan n°2","-"))))))))))) -> Bilan n°1 | R21: 2 | S21: =IF(R21="","A programmer",IF(R21=1,F21+360,IF(R21=2,F21+720,IF(R21=3,"Réabo à prévoir","-")))) -> 44211
C22: 234 | F22: 42782 | G22: 43173 | H22: =IF(F22="","-",IF(G22+I22-F22<=90,"Bilan n°1",IF(AND(G22+I22-F22>90,G22+I22-F22<=180),"Bilan n°2",IF(AND(G22+I22-F22>180,G22+I22-F22<=270),"Bilan n°3",IF(AND(G22+I22-F22>270,G22+I22-F22<=360),"Bilan n°4",IF(AND(G22+I22-F22>360,G22+I22-F22<=450),"Bilan n°5",IF(AND(G22+I22-F22>450,G22+I22-F22<=540),"Bilan n°6",IF(AND(G22+I22-F22>540,G22+I22-F22<=630),"Bilan n°7",IF(AND(G22+I22-F22>630,G22+I22-F22<=720),"Bilan n°8",IF(AND(G22+I22-F22>720,G22+I22-F22<=810),"Bilan n°9",IF(AND(G22+I22-F22>810,G22+I22-F22<=900),"Bilan n°10",IF(AND(G22+I22-F22>900,G22+I22-F22<=990),"Bilan n°11",IF(AND(G22+I22-F22>990,G22+I22-F22<=1180),"Bilan n°12"))))))))))))) -> Bilan n°5 | J22: =IF(OR(H22="Bilan n°1",H22="Bilan n°2",H22="Bilan n°3",H22="Bilan n°4",H22="Bilan n°5",H22="Bilan n°6",H22="Bilan n°7",H22="Bilan n°8",H22="Bilan n°9",H22="Bilan n°10",H22="Bilan n°11",H22="Bilan n°12"),EDATE(L22,3),"-") -> 43269 | K22: 4 | L22: =IF(K22="AP","",IF(G22="-","",IF(G22="","",EDATE(G22,0)+K22+I22))) -> 43177 | M22: - | O22: =IF(A22="Résiliation","-",IF(H22="Bilan n°1","Bilan n°1",IF(H22="Bilan n°2","Bilan n°1",IF(H22="Bilan n°4","Bilan n°2",IF(H22="Bilan n°3","Bilan n°2",IF(H22="Bilan n°5","Bilan n°3",IF(H22="Bilan n°6","Bilan n°3",IF(H22="Bilan n°7","Bilan n°4",IF(H22="Bilan n°9","Bilan n°5",IF(H22="Bilan n°10","Bilan n°6","-")))))))))) -> Bilan n°3 | P22: =IF(N22="","A programmer",N22+360) -> A programmer | Q22: =IF(A22="Résiliation","-",IF(H22="Bilan n°1","Bilan n°1",IF(H22="Bilan n°2","Bilan n°1",IF(H22="Bilan n°3","Bilan n°1",IF(H22="Bilan n°4","Bilan n°1",IF(H22="Bilan n°5","Bilan n°2",IF(H22="Bilan n°6","Bilan n°2",IF(H22="Bilan n°7","Bilan n°2",IF(H22="Bilan n°8","Bilan n°2",IF(H22="Bilan n°9","Bilan n°2",IF(H22="Bilan n°10","Bilan n°2","-"))))))))))) -> Bilan n°2 | S22: =IF(R22="","A programmer",IF(R22=1,F22+360,IF(R22=2,F22+720,IF(R22=3,"Réabo à prévoir","-")))) -> A programmer
C23: 245 | F23: 42755 | G23: 43150 | H23: =IF(F23="","-",IF(G23+I23-F23<=90,"Bilan n°1",IF(AND(G23+I23-F23>90,G23+I23-F23<=180),"Bilan n°2",IF(AND(G23+I23-F23>180,G23+I23-F23<=270),"Bilan n°3",IF(AND(G23+I23-F23>270,G23+I23-F23<=360),"Bilan n°4",IF(AND(G23+I23-F23>360,G23+I23-F23<=450),"Bilan n°5",IF(AND(G23+I23-F23>450,G23+I23-F23<=540),"Bilan n°6",IF(AND(G23+I23-F23>540,G23+I23-F23<=630),"Bilan n°7",IF(AND(G23+I23-F23>630,G23+I23-F23<=720),"Bilan n°8",IF(AND(G23+I23-F23>720,G23+I23-F23<=810),"Bilan n°9",IF(AND(G23+I23-F23>810,G23+I23-F23<=900),"Bilan n°10",IF(AND(G23+I23-F23>900,G23+I23-F23<=990),"Bilan n°11",IF(AND(G23+I23-F23>990,G23+I23-F23<=1180),"Bilan n°12"))))))))))))) -> Bilan n°5 | J23: =IF(OR(H23="Bilan n°1",H23="Bilan n°2",H23="Bilan n°3",H23="Bilan n°4",H23="Bilan n°5",H23="Bilan n°6",H23="Bilan n°7",H23="Bilan n°8",H23="Bilan n°9",H23="Bilan n°10",H23="Bilan n°11",H23="Bilan n°12"),EDATE(L23,3),"-") -> 43243 | K23: 4 | L23: =IF(K23="AP","",IF(G23="-","",IF(G23="","",EDATE(G23,0)+K23+I23))) -> 43154 | M23: - | O23: =IF(A23="Résiliation","-",IF(H23="Bilan n°1","Bilan n°1",IF(H23="Bilan n°2","Bilan n°1",IF(H23="Bilan n°4","Bilan n°2",IF(H23="Bilan n°3","Bilan n°2",IF(H23="Bilan n°5","Bilan n°3",IF(H23="Bilan n°6","Bilan n°3",IF(H23="Bilan n°7","Bilan n°4",IF(H23="Bilan n°9","Bilan n°5",IF(H23="Bilan n°10","Bilan n°6","-")))))))))) -> Bilan n°3 | P23: =IF(N23="","A programmer",N23+360) -> A programmer | Q23: =IF(A23="Résiliation","-",IF(H23="Bilan n°1","Bilan n°1",IF(H23="Bilan n°2","Bilan n°1",IF(H23="Bilan n°3","Bilan n°1",IF(H23="Bilan n°4","Bilan n°1",IF(H23="Bilan n°5","Bilan n°2",IF(H23="Bilan n°6","Bilan n°2",IF(H23="Bilan n°7","Bilan n°2",IF(H23="Bilan n°8","Bilan n°2",IF(H23="Bilan n°9","Bilan n°2",IF(H23="Bilan n°10","Bilan n°2","-"))))))))))) -> Bilan n°2 | S23: =IF(R23="","A programmer",IF(R23=1,F23+360,IF(R23=2,F23+720,IF(R23=3,"Réabo à prévoir","-")))) -> A programmer
C24: 254 | F24: 42793 | G24: 43537 | H24: =IF(F24="","-",IF(G24+I24-F24<=90,"Bilan n°1",IF(AND(G24+I24-F24>90,G24+I24-F24<=180),"Bilan n°2",IF(AND(G24+I24-F24>180,G24+I24-F24<=270),"Bilan n°3",IF(AND(G24+I24-F24>270,G24+I24-F24<=360),"Bilan n°4",IF(AND(G24+I24-F24>360,G24+I24-F24<=450),"Bilan n°5",IF(AND(G24+I24-F24>450,G24+I24-F24<=540),"Bilan n°6",IF(AND(G24+I24-F24>540,G24+I24-F24<=630),"Bilan n°7",IF(AND(G24+I24-F24>630,G24+I24-F24<=720),"Bilan n°8",IF(AND(G24+I24-F24>720,G24+I24-F24<=810),"Bilan n°9",IF(AND(G24+I24-F24>810,G24+I24-F24<=900),"Bilan n°10",IF(AND(G24+I24-F24>900,G24+I24-F24<=990),"Bilan n°11",IF(AND(G24+I24-F24>990,G24+I24-F24<=1180),"Bilan n°12"))))))))))))) -> Bilan n°9 | J24: =IF(OR(H24="Bilan n°1",H24="Bilan n°2",H24="Bilan n°3",H24="Bilan n°4",H24="Bilan n°5",H24="Bilan n°6",H24="Bilan n°7",H24="Bilan n°8",H24="Bilan n°9",H24="Bilan n°10",H24="Bilan n°11",H24="Bilan n°12"),EDATE(L24,3),"-") -> 43631 | K24: 2 | L24: =IF(K24="AP","",IF(G24="-","",IF(G24="","",EDATE(G24,0)+K24+I24))) -> 43539 | M24: =IF(J24="-","",EDATE(J24,3)+4) -> 43727 | O24: =IF(A24="Résiliation","-",IF(H24="Bilan n°1","Bilan n°1",IF(H24="Bilan n°2","Bilan n°1",IF(H24="Bilan n°4","Bilan n°2",IF(H24="Bilan n°3","Bilan n°2",IF(H24="Bilan n°5","Bilan n°3",IF(H24="Bilan n°6","Bilan n°3",IF(H24="Bilan n°7","Bilan n°4",IF(H24="Bilan n°9","Bilan n°5",IF(H24="Bilan n°10","Bilan n°6","-")))))))))) -> Bilan n°5 | P24: =IF(N24="","A programmer",N24+360) -> A programmer | Q24: =IF(A24="Résiliation","-",IF(H24="Bilan n°1","Bilan n°1",IF(H24="Bilan n°2","Bilan n°1",IF(H24="Bilan n°3","Bilan n°1",IF(H24="Bilan n°4","Bilan n°1",IF(H24="Bilan n°5","Bilan n°2",IF(H24="Bilan n°6","Bilan n°2",IF(H24="Bilan n°7","Bilan n°2",IF(H24="Bilan n°8","Bilan n°2",IF(H24="Bilan n°9","Bilan n°2",IF(H24="Bilan n°10","Bilan n°2","-"))))))))))) -> Bilan n°2 | S24: =IF(R24="","A programmer",IF(R24=1,F24+360,IF(R24=2,F24+720,IF(R24=3,"Réabo à prévoir","-")))) -> A programmer
C25: 331 | F25: 42825 | G25: 42825 | H25: =IF(F25="","-",IF(G25+I25-F25<=90,"Bilan n°1",IF(AND(G25+I25-F25>90,G25+I25-F25<=180),"Bilan n°2",IF(AND(G25+I25-F25>180,G25+I25-F25<=270),"Bilan n°3",IF(AND(G25+I25-F25>270,G25+I25-F25<=360),"Bilan n°4",IF(AND(G25+I25-F25>360,G25+I25-F25<=450),"Bilan n°5",IF(AND(G25+I25-F25>450,G25+I25-F25<=540),"Bilan n°6",IF(AND(G25+I25-F25>540,G25+I25-F25<=630),"Bilan n°7",IF(AND(G25+I25-F25>630,G25+I25-F25<=720),"Bilan n°8",IF(AND(G25+I25-F25>720,G25+I25-F25<=810),"Bilan n°9",IF(AND(G25+I25-F25>810,G25+I25-F25<=900),"Bilan n°10",IF(AND(G25+I25-F25>900,G25+I25-F25<=990),"Bilan n°11",IF(AND(G25+I25-F25>990,G25+I25-F25<=1180),"Bilan n°12"))))))))))))) -> Bilan n°1 | J25: =IF(OR(H25="Bilan n°1",H25="Bilan n°2",H25="Bilan n°3",H25="Bilan n°4",H25="Bilan n°5",H25="Bilan n°6",H25="Bilan n°7",H25="Bilan n°8",H25="Bilan n°9",H25="Bilan n°10",H25="Bilan n°11",H25="Bilan n°12"),EDATE(L25,3),"-") -> 42922 | K25: 6 | L25: =IF(K25="AP","",IF(G25="-","",IF(G25="","",EDATE(G25,0)+K25+I25))) -> 42831 | M25: =IF(J25="-","",EDATE(J25,3)+4) -> 43018 | O25: =IF(A25="Résiliation","-",IF(H25="Bilan n°1","Bilan n°1",IF(H25="Bilan n°2","Bilan n°1",IF(H25="Bilan n°4","Bilan n°2",IF(H25="Bilan n°3","Bilan n°2",IF(H25="Bilan n°5","Bilan n°3",IF(H25="Bilan n°6","Bilan n°3",IF(H25="Bilan n°7","Bilan n°4",IF(H25="Bilan n°9","Bilan n°5",IF(H25="Bilan n°10","Bilan n°6","-")))))))))) -> Bilan n°1 | P25: =IF(N25="","A programmer",N25+360) -> A programmer | Q25: =IF(A25="Résiliation","-",IF(#REF!="Bilan n°1","Bilan n°1",IF(#REF!="Bilan n°2","Bilan n°1",IF(#REF!="Bilan n°3","Bilan n°1",IF(#REF!="Bilan n°4","Bilan n°1",IF(#REF!="Bilan n°5","Bilan n°2",IF(#REF!="Bilan n°6","Bilan n°2",IF(#REF!="Bilan n°7","Bilan n°2",IF(#REF!="Bilan n°8","Bilan n°2",IF(#REF!="Bilan n°9","Bilan n°2",IF(#REF!="Bilan n°10","Bilan n°2","-"))))))))))) -> #REF! | R25: 1 | S25: =IF(R25="","A programmer",IF(R25=1,F25+360,IF(R25=2,F25+720,IF(R25=3,"Réabo à prévoir","-")))) -> 43185
C26: 265 | F26: 43084 | G26: 43525 | H26: =IF(F26="","-",IF(G26+I26-F26<=90,"Bilan n°1",IF(AND(G26+I26-F26>90,G26+I26-F26<=180),"Bilan n°2",IF(AND(G26+I26-F26>180,G26+I26-F26<=270),"Bilan n°3",IF(AND(G26+I26-F26>270,G26+I26-F26<=360),"Bilan n°4",IF(AND(G26+I26-F26>360,G26+I26-F26<=450),"Bilan n°5",IF(AND(G26+I26-F26>450,G26+I26-F26<=540),"Bilan n°6",IF(AND(G26+I26-F26>540,G26+I26-F26<=630),"Bilan n°7",IF(AND(G26+I26-F26>630,G26+I26-F26<=720),"Bilan n°8",IF(AND(G26+I26-F26>720,G26+I26-F26<=810),"Bilan n°9",IF(AND(G26+I26-F26>810,G26+I26-F26<=900),"Bilan n°10",IF(AND(G26+I26-F26>900,G26+I26-F26<=990),"Bilan n°11",IF(AND(G26+I26-F26>990,G26+I26-F26<=1180),"Bilan n°12"))))))))))))) -> Bilan n°5 | J26: =IF(OR(H26="Bilan n°1",H26="Bilan n°2",H26="Bilan n°3",H26="Bilan n°4",H26="Bilan n°5",H26="Bilan n°6",H26="Bilan n°7",H26="Bilan n°8",H26="Bilan n°9",H26="Bilan n°10",H26="Bilan n°11",H26="Bilan n°12"),EDATE(L26,3),"-") -> 43623 | K26: 6 | L26: =IF(K26="AP","",IF(G26="-","",IF(G26="","",EDATE(G26,0)+K26+I26))) -> 43531 | O26: =IF(A26="Résiliation","-",IF(H26="Bilan n°1","Bilan n°1",IF(H26="Bilan n°2","Bilan n°1",IF(H26="Bilan n°4","Bilan n°2",IF(H26="Bilan n°3","Bilan n°2",IF(H26="Bilan n°5","Bilan n°3",IF(H26="Bilan n°6","Bilan n°3",IF(H26="Bilan n°7","Bilan n°4",IF(H26="Bilan n°9","Bilan n°5",IF(H26="Bilan n°10","Bilan n°6","-")))))))))) -> Bilan n°3 | P26: =IF(N26="","A programmer",N26+360) -> A programmer | R26: 2 | S26: =IF(R26="","A programmer",IF(R26=1,F26+360,IF(R26=2,F26+720,IF(R26=3,"Réabo à prévoir","-")))) -> 43804
C27: 340 | F27: 43311 | G27: 43515 | H27: =IF(F27="","-",IF(G27+I27-F27<=90,"Bilan n°1",IF(AND(G27+I27-F27>90,G27+I27-F27<=180),"Bilan n°2",IF(AND(G27+I27-F27>180,G27+I27-F27<=270),"Bilan n°3",IF(AND(G27+I27-F27>270,G27+I27-F27<=360),"Bilan n°4",IF(AND(G27+I27-F27>360,G27+I27-F27<=450),"Bilan n°5",IF(AND(G27+I27-F27>450,G27+I27-F27<=540),"Bilan n°6",IF(AND(G27+I27-F27>540,G27+I27-F27<=630),"Bilan n°7",IF(AND(G27+I27-F27>630,G27+I27-F27<=720),"Bilan n°8",IF(AND(G27+I27-F27>720,G27+I27-F27<=810),"Bilan n°9",IF(AND(G27+I27-F27>810,G27+I27-F27<=900),"Bilan n°10",IF(AND(G27+I27-F27>900,G27+I27-F27<=990),"Bilan n°11",IF(AND(G27+I27-F27>990,G27+I27-F27<=1180),"Bilan n°12"))))))))))))) -> Bilan n°3 | J27: =IF(OR(H27="Bilan n°1",H27="Bilan n°2",H27="Bilan n°3",H27="Bilan n°4",H27="Bilan n°5",H27="Bilan n°6",H27="Bilan n°7",H27="Bilan n°8",H27="Bilan n°9",H27="Bilan n°10",H27="Bilan n°11",H27="Bilan n°12"),EDATE(L27,3),"-") -> 43606 | K27: 2 | L27: =IF(K27="AP","",IF(G27="-","",IF(G27="","",EDATE(G27,0)+K27+I27))) -> 43517 | M27: =IF(J27="-","",EDATE(J27,3)+4) -> 43702 | O27: =IF(A27="Résiliation","-",IF(H27="Bilan n°1","Bilan n°1",IF(H27="Bilan n°2","Bilan n°1",IF(H27="Bilan n°4","Bilan n°2",IF(H27="Bilan n°3","Bilan n°2",IF(H27="Bilan n°5","Bilan n°3",IF(H27="Bilan n°6","Bilan n°3",IF(H27="Bilan n°7","Bilan n°4",IF(H27="Bilan n°9","Bilan n°5",IF(H27="Bilan n°10","Bilan n°6","-")))))))))) -> Bilan n°2 | P27: =IF(N27="","A programmer",N27+360) -> A programmer | Q27: =IF(A27="Résiliation","-",IF(H27="Bilan n°1","Bilan n°1",IF(H27="Bilan n°2","Bilan n°1",IF(H27="Bilan n°3","Bilan n°1",IF(H27="Bilan n°4","Bilan n°1",IF(H27="Bilan n°5","Bilan n°2",IF(H27="Bilan n°6","Bilan n°2",IF(H27="Bilan n°7","Bilan n°2",IF(H27="Bilan n°8","Bilan n°2",IF(H27="Bilan n°9","Bilan n°2",IF(H27="Bilan n°10","Bilan n°2","-"))))))))))) -> Bilan n°1 | S27: =IF(R27="","A programmer",IF(R27=1,F27+360,IF(R27=2,F27+720,IF(R27=3,"Réabo à prévoir","-")))) -> A programmer
C28: 347 | F28: 43025 | G28: 43511 | H28: =IF(F28="","-",IF(G28+I28-F28<=90,"Bilan n°1",IF(AND(G28+I28-F28>90,G28+I28-F28<=180),"Bilan n°2",IF(AND(G28+I28-F28>180,G28+I28-F28<=270),"Bilan n°3",IF(AND(G28+I28-F28>270,G28+I28-F28<=360),"Bilan n°4",IF(AND(G28+I28-F28>360,G28+I28-F28<=450),"Bilan n°5",IF(AND(G28+I28-F28>450,G28+I28-F28<=540),"Bilan n°6",IF(AND(G28+I28-F28>540,G28+I28-F28<=630),"Bilan n°7",IF(AND(G28+I28-F28>630,G28+I28-F28<=720),"Bilan n°8",IF(AND(G28+I28-F28>720,G28+I28-F28<=810),"Bilan n°9",IF(AND(G28+I28-F28>810,G28+I28-F28<=900),"Bilan n°10",IF(AND(G28+I28-F28>900,G28+I28-F28<=990),"Bilan n°11",IF(AND(G28+I28-F28>990,G28+I28-F28<=1180),"Bilan n°12"))))))))))))) -> Bilan n°6 | J28: =IF(OR(H28="Bilan n°1",H28="Bilan n°2",H28="Bilan n°3",H28="Bilan n°4",H28="Bilan n°5",H28="Bilan n°6",H28="Bilan n°7",H28="Bilan n°8",H28="Bilan n°9",H28="Bilan n°10",H28="Bilan n°11",H28="Bilan n°12"),EDATE(L28,3),"-") -> 43605 | K28: 5 | L28: =IF(K28="AP","",IF(G28="-","",IF(G28="","",EDATE(G28,0)+K28+I28))) -> 43516 | M28: =IF(J28="-","",EDATE(J28,3)+4) -> 43701 | O28: =IF(A28="Résiliation","-",IF(H28="Bilan n°1","Bilan n°1",IF(H28="Bilan n°2","Bilan n°1",IF(H28="Bilan n°4","Bilan n°2",IF(H28="Bilan n°3","Bilan n°2",IF(H28="Bilan n°5","Bilan n°3",IF(H28="Bilan n°6","Bilan n°3",IF(H28="Bilan n°7","Bilan n°4",IF(H28="Bilan n°9","Bilan n°5",IF(H28="Bilan n°10","Bilan n°6","-")))))))))) -> Bilan n°3 | P28: =IF(N28="","A programmer",N28+360) -> A programmer | Q28: =IF(A28="Résiliation","-",IF(H28="Bilan n°1","Bilan n°1",IF(H28="Bilan n°2","Bilan n°1",IF(H28="Bilan n°3","Bilan n°1",IF(H28="Bilan n°4","Bilan n°1",IF(H28="Bilan n°5","Bilan n°2",IF(H28="Bilan n°6","Bilan n°2",IF(H28="Bilan n°7","Bilan n°2",IF(H28="Bilan n°8","Bilan n°2",IF(H28="Bilan n°9","Bilan n°2",IF(H28="Bilan n°10","Bilan n°2","-"))))))))))) -> Bilan n°2 | S28: =IF(R28="","A programmer",IF(R28=1,F28+360,IF(R28=2,F28+720,IF(R28=3,"Réabo à prévoir","-")))) -> A programmer
C29: 354 | F29: 43318 | G29: 43502 | H29: =IF(F29="","-",IF(G29+I29-F29<=90,"Bilan n°1",IF(AND(G29+I29-F29>90,G29+I29-F29<=180),"Bilan n°2",IF(AND(G29+I29-F29>180,G29+I29-F29<=270),"Bilan n°3",IF(AND(G29+I29-F29>270,G29+I29-F29<=360),"Bilan n°4",IF(AND(G29+I29-F29>360,G29+I29-F29<=450),"Bilan n°5",IF(AND(G29+I29-F29>450,G29+I29-F29<=540),"Bilan n°6",IF(AND(G29+I29-F29>540,G29+I29-F29<=630),"Bilan n°7",IF(AND(G29+I29-F29>630,G29+I29-F29<=720),"Bilan n°8",IF(AND(G29+I29-F29>720,G29+I29-F29<=810),"Bilan n°9",IF(AND(G29+I29-F29>810,G29+I29-F29<=900),"Bilan n°10",IF(AND(G29+I29-F29>900,G29+I29-F29<=990),"Bilan n°11",IF(AND(G29+I29-F29>990,G29+I29-F29<=1180),"Bilan n°12"))))))))))))) -> Bilan n°3 | J29: =IF(OR(H29="Bilan n°1",H29="Bilan n°2",H29="Bilan n°3",H29="Bilan n°4",H29="Bilan n°5",H29="Bilan n°6",H29="Bilan n°7",H29="Bilan n°8",H29="Bilan n°9",H29="Bilan n°10",H29="Bilan n°11",H29="Bilan n°12"),EDATE(L29,3),"-") -> 43597 | K29: 6 | L29: =IF(K29="AP","",IF(G29="-","",IF(G29="","",EDATE(G29,0)+K29+I29))) -> 43508 | M29: =IF(J29="-","",EDATE(J29,3)+4) -> 43693 | O29: =IF(A29="Résiliation","-",IF(H29="Bilan n°1","Bilan n°1",IF(H29="Bilan n°2","Bilan n°1",IF(H29="Bilan n°4","Bilan n°2",IF(H29="Bilan n°3","Bilan n°2",IF(H29="Bilan n°5","Bilan n°3",IF(H29="Bilan n°6","Bilan n°3",IF(H29="Bilan n°7","Bilan n°4",IF(H29="Bilan n°9","Bilan n°5",IF(H29="Bilan n°10","Bilan n°6","-")))))))))) -> Bilan n°2 | P29: =IF(N29="","A programmer",N29+360) -> A programmer | Q29: =IF(A29="Résiliation","-",IF(H29="Bilan n°1","Bilan n°1",IF(H29="Bilan n°2","Bilan n°1",IF(H29="Bilan n°3","Bilan n°1",IF(H29="Bilan n°4","Bilan n°1",IF(H29="Bilan n°5","Bilan n°2",IF(H29="Bilan n°6","Bilan n°2",IF(H29="Bilan n°7","Bilan n°2",IF(H29="Bilan n°8","Bilan n°2",IF(H29="Bilan n°9","Bilan n°2",IF(H29="Bilan n°10","Bilan n°2","-"))))))))))) -> Bilan n°1 | S29: =IF(R29="","A programmer",IF(R29=1,F29+360,IF(R29=2,F29+720,IF(R29=3,"Réabo à prévoir","-")))) -> A programmer
C30: 357 | F30: 43452 | G30: 43474 | H30: =IF(F30="","-",IF(G30+I30-F30<=90,"Bilan n°1",IF(AND(G30+I30-F30>90,G30+I30-F30<=180),"Bilan n°2",IF(AND(G30+I30-F30>180,G30+I30-F30<=270),"Bilan n°3",IF(AND(G30+I30-F30>270,G30+I30-F30<=360),"Bilan n°4",IF(AND(G30+I30-F30>360,G30+I30-F30<=450),"Bilan n°5",IF(AND(G30+I30-F30>450,G30+I30-F30<=540),"Bilan n°6",IF(AND(G30+I30-F30>540,G30+I30-F30<=630),"Bilan n°7",IF(AND(G30+I30-F30>630,G30+I30-F30<=720),"Bilan n°8",IF(AND(G30+I30-F30>720,G30+I30-F30<=810),"Bilan n°9",IF(AND(G30+I30-F30>810,G30+I30-F30<=900),"Bilan n°10",IF(AND(G30+I30-F30>900,G30+I30-F30<=990),"Bilan n°11",IF(AND(G30+I30-F30>990,G30+I30-F30<=1180),"Bilan n°12"))))))))))))) -> Bilan n°1 | J30: =IF(OR(H30="Bilan n°1",H30="Bilan n°2",H30="Bilan n°3",H30="Bilan n°4",H30="Bilan n°5",H30="Bilan n°6",H30="Bilan n°7",H30="Bilan n°8",H30="Bilan n°9",H30="Bilan n°10",H30="Bilan n°11",H30="Bilan n°12"),EDATE(L30,3),"-") -> 43566 | K30: 2 | L30: =IF(K30="AP","",IF(G30="-","",IF(G30="","",EDATE(G30,0)+K30+I30))) -> 43476 | N30: 43558 | O30: =IF(A30="Résiliation","-",IF(H30="Bilan n°1","Bilan n°1",IF(H30="Bilan n°2","Bilan n°1",IF(H30="Bilan n°4","Bilan n°2",IF(H30="Bilan n°3","Bilan n°2",IF(H30="Bilan n°5","Bilan n°3",IF(H30="Bilan n°6","Bilan n°3",IF(H30="Bilan n°7","Bilan n°4",IF(H30="Bilan n°9","Bilan n°5",IF(H30="Bilan n°10","Bilan n°6","-")))))))))) -> Bilan n°1 | P30: =IF(N30="","A programmer",N30+360) -> 43918 | R30: 1 | S30: =IF(R30="","A programmer",IF(R30=1,F30+360,IF(R30=2,F30+720,IF(R30=3,"Réabo à prévoir","-")))) -> 43812
C31: 381 | F31: 43501 | G31: 43500 | H31: =IF(F31="","-",IF(G31+I31-F31<=90,"Bilan n°1",IF(AND(G31+I31-F31>90,G31+I31-F31<=180),"Bilan n°2",IF(AND(G31+I31-F31>180,G31+I31-F31<=270),"Bilan n°3",IF(AND(G31+I31-F31>270,G31+I31-F31<=360),"Bilan n°4",IF(AND(G31+I31-F31>360,G31+I31-F31<=450),"Bilan n°5",IF(AND(G31+I31-F31>450,G31+I31-F31<=540),"Bilan n°6",IF(AND(G31+I31-F31>540,G31+I31-F31<=630),"Bilan n°7",IF(AND(G31+I31-F31>630,G31+I31-F31<=720),"Bilan n°8",IF(AND(G31+I31-F31>720,G31+I31-F31<=810),"Bilan n°9",IF(AND(G31+I31-F31>810,G31+I31-F31<=900),"Bilan n°10",IF(AND(G31+I31-F31>900,G31+I31-F31<=990),"Bilan n°11",IF(AND(G31+I31-F31>990,G31+I31-F31<=1180),"Bilan n°12"))))))))))))) -> Bilan n°1 | J31: =IF(OR(H31="Bilan n°1",H31="Bilan n°2",H31="Bilan n°3",H31="Bilan n°4",H31="Bilan n°5",H31="Bilan n°6",H31="Bilan n°7",H31="Bilan n°8",H31="Bilan n°9",H31="Bilan n°10",H31="Bilan n°11",H31="Bilan n°12"),EDATE(L31,3),"-") -> 43592 | K31: 3 | L31: =IF(K31="AP","",IF(G31="-","",IF(G31="","",EDATE(G31,0)+K31+I31))) -> 43503 | O31: =IF(A31="Résiliation","-",IF(H31="Bilan n°1","Bilan n°1",IF(H31="Bilan n°2","Bilan n°1",IF(H31="Bilan n°4","Bilan n°2",IF(H31="Bilan n°3","Bilan n°2",IF(H31="Bilan n°5","Bilan n°3",IF(H31="Bilan n°6","Bilan n°3",IF(H31="Bilan n°7","Bilan n°4",IF(H31="Bilan n°9","Bilan n°5",IF(H31="Bilan n°10","Bilan n°6","-")))))))))) -> Bilan n°1 | P31: =IF(N31="","A programmer",N31+360) -> A programmer | S31: =IF(R31="","A programmer",IF(R31=1,F31+360,IF(R31=2,F31+720,IF(R31=3,"Réabo à prévoir","-")))) -> A programmer
B32: - | C32: 406 | F32: 43294 | G32: 43356 | H32: =IF(F32="","-",IF(G32+I32-F32<=90,"Bilan n°1",IF(AND(G32+I32-F32>90,G32+I32-F32<=180),"Bilan n°2",IF(AND(G32+I32-F32>180,G32+I32-F32<=270),"Bilan n°3",IF(AND(G32+I32-F32>270,G32+I32-F32<=360),"Bilan n°4",IF(AND(G32+I32-F32>360,G32+I32-F32<=450),"Bilan n°5",IF(AND(G32+I32-F32>450,G32+I32-F32<=540),"Bilan n°6",IF(AND(G32+I32-F32>540,G32+I32-F32<=630),"Bilan n°7",IF(AND(G32+I32-F32>630,G32+I32-F32<=720),"Bilan n°8",IF(AND(G32+I32-F32>720,G32+I32-F32<=810),"Bilan n°9",IF(AND(G32+I32-F32>810,G32+I32-F32<=900),"Bilan n°10",IF(AND(G32+I32-F32>900,G32+I32-F32<=990),"Bilan n°11",IF(AND(G32+I32-F32>990,G32+I32-F32<=1180),"Bilan n°12"))))))))))))) -> Bilan n°1 | J32: =IF(OR(H32="Bilan n°1",H32="Bilan n°2",H32="Bilan n°3",H32="Bilan n°4",H32="Bilan n°5",H32="Bilan n°6",H32="Bilan n°7",H32="Bilan n°8",H32="Bilan n°9",H32="Bilan n°10",H32="Bilan n°11",H32="Bilan n°12"),EDATE(L32,3),"-") -> 43451 | K32: 4 | L32: =IF(K32="AP","",IF(G32="-","",IF(G32="","",EDATE(G32,0)+K32+I32))) -> 43360 | M32: =IF(J32="-","",EDATE(J32,3)+4) -> 43545 | N32: 43357 | O32: =IF(A32="Résiliation","-",IF(H32="Bilan n°1","Bilan n°1",IF(H32="Bilan n°2","Bilan n°1",IF(H32="Bilan n°4","Bilan n°2",IF(H32="Bilan n°3","Bilan n°2",IF(H32="Bilan n°5","Bilan n°3",IF(H32="Bilan n°6","Bilan n°3",IF(H32="Bilan n°7","Bilan n°4",IF(H32="Bilan n°9","Bilan n°5",IF(H32="Bilan n°10","Bilan n°6","-")))))))))) -> Bilan n°1 | P32: =IF(N32="","A programmer",N32+360) -> 43717 | Q32: =IF(A32="Résiliation","-",IF(H32="Bilan n°1","Bilan n°1",IF(H32="Bilan n°2","Bilan n°1",IF(H32="Bilan n°3","Bilan n°1",IF(H32="Bilan n°4","Bilan n°1",IF(H32="Bilan n°5","Bilan n°2",IF(H32="Bilan n°6","Bilan n°2",IF(H32="Bilan n°7","Bilan n°2",IF(H32="Bilan n°8","Bilan n°2",IF(H32="Bilan n°9","Bilan n°2",IF(H32="Bilan n°10","Bilan n°2","-"))))))))))) -> Bilan n°1 | R32: 2 | S32: =IF(R32="","A programmer",IF(R32=1,F32+360,IF(R32=2,F32+720,IF(R32=3,"Réabo à prévoir","-")))) -> 44014
C33: 410 | F33: 43335 | G33: 43551 | H33: =IF(F33="","-",IF(G33+I33-F33<=90,"Bilan n°1",IF(AND(G33+I33-F33>90,G33+I33-F33<=180),"Bilan n°2",IF(AND(G33+I33-F33>180,G33+I33-F33<=270),"Bilan n°3",IF(AND(G33+I33-F33>270,G33+I33-F33<=360),"Bilan n°4",IF(AND(G33+I33-F33>360,G33+I33-F33<=450),"Bilan n°5",IF(AND(G33+I33-F33>450,G33+I33-F33<=540),"Bilan n°6",IF(AND(G33+I33-F33>540,G33+I33-F33<=630),"Bilan n°7",IF(AND(G33+I33-F33>630,G33+I33-F33<=720),"Bilan n°8",IF(AND(G33+I33-F33>720,G33+I33-F33<=810),"Bilan n°9",IF(AND(G33+I33-F33>810,G33+I33-F33<=900),"Bilan n°10",IF(AND(G33+I33-F33>900,G33+I33-F33<=990),"Bilan n°11",IF(AND(G33+I33-F33>990,G33+I33-F33<=1180),"Bilan n°12"))))))))))))) -> Bilan n°3 | J33: =IF(OR(H33="Bilan n°1",H33="Bilan n°2",H33="Bilan n°3",H33="Bilan n°4",H33="Bilan n°5",H33="Bilan n°6",H33="Bilan n°7",H33="Bilan n°8",H33="Bilan n°9",H33="Bilan n°10",H33="Bilan n°11",H33="Bilan n°12"),EDATE(L33,3),"-") -> 43645 | K33: 2 | L33: 43553 | M33: =IF(J33="-","",EDATE(J33,3)+4) -> 43741 | O33: =IF(A33="Résiliation","-",IF(H33="Bilan n°1","Bilan n°1",IF(H33="Bilan n°2","Bilan n°1",IF(H33="Bilan n°4","Bilan n°2",IF(H33="Bilan n°3","Bilan n°2",IF(H33="Bilan n°5","Bilan n°3",IF(H33="Bilan n°6","Bilan n°3",IF(H33="Bilan n°7","Bilan n°4",IF(H33="Bilan n°9","Bilan n°5",IF(H33="Bilan n°10","Bilan n°6","-")))))))))) -> Bilan n°2 | P33: =IF(N33="","A programmer",N33+360) -> A programmer | Q33: =IF(A33="Résiliation","-",IF(H33="Bilan n°1","Bilan n°1",IF(H33="Bilan n°2","Bilan n°1",IF(H33="Bilan n°3","Bilan n°1",IF(H33="Bilan n°4","Bilan n°1",IF(H33="Bilan n°5","Bilan n°2",IF(H33="Bilan n°6","Bilan n°2",IF(H33="Bilan n°7","Bilan n°2",IF(H33="Bilan n°8","Bilan n°2",IF(H33="Bilan n°9","Bilan n°2",IF(H33="Bilan n°10","Bilan n°2","-"))))))))))) -> Bilan n°1 | R33: 1 | S33: =IF(R33="","A programmer",IF(R33=1,F33+360,IF(R33=2,F33+720,IF(R33=3,"Réabo à prévoir","-")))) -> 43695
C34: 411 | F34: 42700 | G34: 43490 | H34: =IF(F34="","-",IF(G34+I34-F34<=90,"Bilan n°1",IF(AND(G34+I34-F34>90,G34+I34-F34<=180),"Bilan n°2",IF(AND(G34+I34-F34>180,G34+I34-F34<=270),"Bilan n°3",IF(AND(G34+I34-F34>270,G34+I34-F34<=360),"Bilan n°4",IF(AND(G34+I34-F34>360,G34+I34-F34<=450),"Bilan n°5",IF(AND(G34+I34-F34>450,G34+I34-F34<=540),"Bilan n°6",IF(AND(G34+I34-F34>540,G34+I34-F34<=630),"Bilan n°7",IF(AND(G34+I34-F34>630,G34+I34-F34<=720),"Bilan n°8",IF(AND(G34+I34-F34>720,G34+I34-F34<=810),"Bilan n°9",IF(AND(G34+I34-F34>810,G34+I34-F34<=900),"Bilan n°10",IF(AND(G34+I34-F34>900,G34+I34-F34<=990),"Bilan n°11",IF(AND(G34+I34-F34>990,G34+I34-F34<=1180),"Bilan n°12"))))))))))))) -> Bilan n°9 | J34: =IF(OR(H34="Bilan n°1",H34="Bilan n°2",H34="Bilan n°3",H34="Bilan n°4",H34="Bilan n°5",H34="Bilan n°6",H34="Bilan n°7",H34="Bilan n°8",H34="Bilan n°9",H34="Bilan n°10",H34="Bilan n°11",H34="Bilan n°12"),EDATE(L34,3),"-") -> 43591 | K34: 12 | L34: =IF(K34="AP","",IF(G34="-","",IF(G34="","",EDATE(G34,0)+K34+I34))) -> 43502 | M34: =IF(J34="-","",EDATE(J34,3)+4) -> 43687 | O34: =IF(A34="Résiliation","-",IF(H34="Bilan n°1","Bilan n°1",IF(H34="Bilan n°2","Bilan n°1",IF(H34="Bilan n°4","Bilan n°2",IF(H34="Bilan n°3","Bilan n°2",IF(H34="Bilan n°5","Bilan n°3",IF(H34="Bilan n°6","Bilan n°3",IF(H34="Bilan n°7","Bilan n°4",IF(H34="Bilan n°9","Bilan n°5",IF(H34="Bilan n°10","Bilan n°6","-")))))))))) -> Bilan n°5 | P34: =IF(N34="","A programmer",N34+360) -> A programmer | Q34: =IF(A34="Résiliation","-",IF(H34="Bilan n°1","Bilan n°1",IF(H34="Bilan n°2","Bilan n°1",IF(H34="Bilan n°3","Bilan n°1",IF(H34="Bilan n°4","Bilan n°1",IF(H34="Bilan n°5","Bilan n°2",IF(H34="Bilan n°6","Bilan n°2",IF(H34="Bilan n°7","Bilan n°2",IF(H34="Bilan n°8","Bilan n°2",IF(H34="Bilan n°9","Bilan n°2",IF(H34="Bilan n°10","Bilan n°2","-"))))))))))) -> Bilan n°2 | S34: =IF(R34="","A programmer",IF(R34=1,F34+360,IF(R34=2,F34+720,IF(R34=3,"Réabo à prévoir","-")))) -> A programmer
C35: 416 | F35: 43441 | G35: 43479 | H35: =IF(F35="","-",IF(G35+I35-F35<=90,"Bilan n°1",IF(AND(G35+I35-F35>90,G35+I35-F35<=180),"Bilan n°2",IF(AND(G35+I35-F35>180,G35+I35-F35<=270),"Bilan n°3",IF(AND(G35+I35-F35>270,G35+I35-F35<=360),"Bilan n°4",IF(AND(G35+I35-F35>360,G35+I35-F35<=450),"Bilan n°5",IF(AND(G35+I35-F35>450,G35+I35-F35<=540),"Bilan n°6",IF(AND(G35+I35-F35>540,G35+I35-F35<=630),"Bilan n°7",IF(AND(G35+I35-F35>630,G35+I35-F35<=720),"Bilan n°8",IF(AND(G35+I35-F35>720,G35+I35-F35<=810),"Bilan n°9",IF(AND(G35+I35-F35>810,G35+I35-F35<=900),"Bilan n°10",IF(AND(G35+I35-F35>900,G35+I35-F35<=990),"Bilan n°11",IF(AND(G35+I35-F35>990,G35+I35-F35<=1180),"Bilan n°12"))))))))))))) -> Bilan n°1 | J35: =IF(OR(H35="Bilan n°1",H35="Bilan n°2",H35="Bilan n°3",H35="Bilan n°4",H35="Bilan n°5",H35="Bilan n°6",H35="Bilan n°7",H35="Bilan n°8",H35="Bilan n°9",H35="Bilan n°10",H35="Bilan n°11",H35="Bilan n°12"),EDATE(L35,3),"-") -> 43572 | K35: 3 | L35: =IF(K35="AP","",IF(G35="-","",IF(G35="","",EDATE(G35,0)+K35+I35))) -> 43482 | M35: =IF(J35="-","",EDATE(J35,3)+4) -> 43667 | N35: 43557 | O35: =IF(A35="Résiliation","-",IF(H35="Bilan n°1","Bilan n°1",IF(H35="Bilan n°2","Bilan n°1",IF(H35="Bilan n°4","Bilan n°2",IF(H35="Bilan n°3","Bilan n°2",IF(H35="Bilan n°5","Bilan n°3",IF(H35="Bilan n°6","Bilan n°3",IF(H35="Bilan n°7","Bilan n°4",IF(H35="Bilan n°9","Bilan n°5",IF(H35="Bilan n°10","Bilan n°6","-")))))))))) -> Bilan n°1 | P35: =IF(N35="","A programmer",N35+360) -> 43917 | Q35: =IF(A35="Résiliation","-",IF(H35="Bilan n°1","Bilan n°1",IF(H35="Bilan n°2","Bilan n°1",IF(H35="Bilan n°3","Bilan n°1",IF(H35="Bilan n°4","Bilan n°1",IF(H35="Bilan n°5","Bilan n°2",IF(H35="Bilan n°6","Bilan n°2",IF(H35="Bilan n°7","Bilan n°2",IF(H35="Bilan n°8","Bilan n°2",IF(H35="Bilan n°9","Bilan n°2",IF(H35="Bilan n°10","Bilan n°2","-"))))))))))) -> Bilan n°1 | R35: 1 | S35: =IF(R35="","A programmer",IF(R35=1,F35+360,IF(R35=2,F35+720,IF(R35=3,"Réabo à prévoir","-")))) -> 43801
C36: 423 | F36: 43294 | G36: 43356 | H36: =IF(F36="","-",IF(G36+I36-F36<=90,"Bilan n°1",IF(AND(G36+I36-F36>90,G36+I36-F36<=180),"Bilan n°2",IF(AND(G36+I36-F36>180,G36+I36-F36<=270),"Bilan n°3",IF(AND(G36+I36-F36>270,G36+I36-F36<=360),"Bilan n°4",IF(AND(G36+I36-F36>360,G36+I36-F36<=450),"Bilan n°5",IF(AND(G36+I36-F36>450,G36+I36-F36<=540),"Bilan n°6",IF(AND(G36+I36-F36>540,G36+I36-F36<=630),"Bilan n°7",IF(AND(G36+I36-F36>630,G36+I36-F36<=720),"Bilan n°8",IF(AND(G36+I36-F36>720,G36+I36-F36<=810),"Bilan n°9",IF(AND(G36+I36-F36>810,G36+I36-F36<=900),"Bilan n°10",IF(AND(G36+I36-F36>900,G36+I36-F36<=990),"Bilan n°11",IF(AND(G36+I36-F36>990,G36+I36-F36<=1180),"Bilan n°12"))))))))))))) -> Bilan n°1 | J36: =IF(OR(H36="Bilan n°1",H36="Bilan n°2",H36="Bilan n°3",H36="Bilan n°4",H36="Bilan n°5",H36="Bilan n°6",H36="Bilan n°7",H36="Bilan n°8",H36="Bilan n°9",H36="Bilan n°10",H36="Bilan n°11",H36="Bilan n°12"),EDATE(L36,3),"-") -> 43453 | K36: 6 | L36: =IF(K36="AP","",IF(G36="-","",IF(G36="","",EDATE(G36,0)+K36+I36))) -> 43362 | M36: =IF(J36="-","",EDATE(J36,3)+4) -> 43547 | N36: 43362 | O36: =IF(A36="Résiliation","-",IF(H36="Bilan n°1","Bilan n°1",IF(H36="Bilan n°2","Bilan n°1",IF(H36="Bilan n°4","Bilan n°2",IF(H36="Bilan n°3","Bilan n°2",IF(H36="Bilan n°5","Bilan n°3",IF(H36="Bilan n°6","Bilan n°3",IF(H36="Bilan n°7","Bilan n°4",IF(H36="Bilan n°9","Bilan n°5",IF(H36="Bilan n°10","Bilan n°6","-")))))))))) -> Bilan n°1 | P36: =IF(N36="","A programmer",N36+360) -> 43722 | Q36: =IF(A36="Résiliation","-",IF(H36="Bilan n°1","Bilan n°1",IF(H36="Bilan n°2","Bilan n°1",IF(H36="Bilan n°3","Bilan n°1",IF(H36="Bilan n°4","Bilan n°1",IF(H36="Bilan n°5","Bilan n°2",IF(H36="Bilan n°6","Bilan n°2",IF(H36="Bilan n°7","Bilan n°2",IF(H36="Bilan n°8","Bilan n°2",IF(H36="Bilan n°9","Bilan n°2",IF(H36="Bilan n°10","Bilan n°2","-"))))))))))) -> Bilan n°1 | R36: 2 | S36: =IF(R36="","A programmer",IF(R36=1,F36+360,IF(R36=2,F36+720,IF(R36=3,"Réabo à prévoir","-")))) -> 44014
C37: 427 | F37: 42766 | G37: 43411 | H37: =IF(F37="","-",IF(G37+I37-F37<=90,"Bilan n°1",IF(AND(G37+I37-F37>90,G37+I37-F37<=180),"Bilan n°2",IF(AND(G37+I37-F37>180,G37+I37-F37<=270),"Bilan n°3",IF(AND(G37+I37-F37>270,G37+I37-F37<=360),"Bilan n°4",IF(AND(G37+I37-F37>360,G37+I37-F37<=450),"Bilan n°5",IF(AND(G37+I37-F37>450,G37+I37-F37<=540),"Bilan n°6",IF(AND(G37+I37-F37>540,G37+I37-F37<=630),"Bilan n°7",IF(AND(G37+I37-F37>630,G37+I37-F37<=720),"Bilan n°8",IF(AND(G37+I37-F37>720,G37+I37-F37<=810),"Bilan n°9",IF(AND(G37+I37-F37>810,G37+I37-F37<=900),"Bilan n°10",IF(AND(G37+I37-F37>900,G37+I37-F37<=990),"Bilan n°11",IF(AND(G37+I37-F37>990,G37+I37-F37<=1180),"Bilan n°12"))))))))))))) -> Bilan n°8 | J37: =IF(OR(H37="Bilan n°1",H37="Bilan n°2",H37="Bilan n°3",H37="Bilan n°4",H37="Bilan n°5",H37="Bilan n°6",H37="Bilan n°7",H37="Bilan n°8",H37="Bilan n°9",H37="Bilan n°10",H37="Bilan n°11",H37="Bilan n°12"),EDATE(L37,3),"-") -> 43508 | K37: 5 | L37: =IF(K37="AP","",IF(G37="-","",IF(G37="","",EDATE(G37,0)+K37+I37))) -> 43416 | M37: =IF(J37="-","",EDATE(J37,3)+4) -> 43601 | O37: =IF(A37="Résiliation","-",IF(H37="Bilan n°1","Bilan n°1",IF(H37="Bilan n°2","Bilan n°1",IF(H37="Bilan n°4","Bilan n°2",IF(H37="Bilan n°3","Bilan n°2",IF(H37="Bilan n°5","Bilan n°3",IF(H37="Bilan n°6","Bilan n°3",IF(H37="Bilan n°7","Bilan n°4",IF(H37="Bilan n°9","Bilan n°5",IF(H37="Bilan n°10","Bilan n°6","-")))))))))) -> - | P37: =IF(N37="","A programmer",N37+360) -> A programmer | Q37: =IF(A37="Résiliation","-",IF(H37="Bilan n°1","Bilan n°1",IF(H37="Bilan n°2","Bilan n°1",IF(H37="Bilan n°3","Bilan n°1",IF(H37="Bilan n°4","Bilan n°1",IF(H37="Bilan n°5","Bilan n°2",IF(H37="Bilan n°6","Bilan n°2",IF(H37="Bilan n°7","Bilan n°2",IF(H37="Bilan n°8","Bilan n°2",IF(H37="Bilan n°9","Bilan n°2",IF(H37="Bilan n°10","Bilan n°2","-"))))))))))) -> Bilan n°2 | R37: 1 | S37: =IF(R37="","A programmer",IF(R37=1,F37+360,IF(R37=2,F37+720,IF(R37=3,"Réabo à prévoir","-")))) -> 43126
C38: 438 | F38: 42810 | G38: 43545 | H38: =IF(F38="","-",IF(G38+I38-F38<=90,"Bilan n°1",IF(AND(G38+I38-F38>90,G38+I38-F38<=180),"Bilan n°2",IF(AND(G38+I38-F38>180,G38+I38-F38<=270),"Bilan n°3",IF(AND(G38+I38-F38>270,G38+I38-F38<=360),"Bilan n°4",IF(AND(G38+I38-F38>360,G38+I38-F38<=450),"Bilan n°5",IF(AND(G38+I38-F38>450,G38+I38-F38<=540),"Bilan n°6",IF(AND(G38+I38-F38>540,G38+I38-F38<=630),"Bilan n°7",IF(AND(G38+I38-F38>630,G38+I38-F38<=720),"Bilan n°8",IF(AND(G38+I38-F38>720,G38+I38-F38<=810),"Bilan n°9",IF(AND(G38+I38-F38>810,G38+I38-F38<=900),"Bilan n°10",IF(AND(G38+I38-F38>900,G38+I38-F38<=990),"Bilan n°11",IF(AND(G38+I38-F38>990,G38+I38-F38<=1180),"Bilan n°12"))))))))))))) -> Bilan n°9 | J38: =IF(OR(H38="Bilan n°1",H38="Bilan n°2",H38="Bilan n°3",H38="Bilan n°4",H38="Bilan n°5",H38="Bilan n°6",H38="Bilan n°7",H38="Bilan n°8",H38="Bilan n°9",H38="Bilan n°10",H38="Bilan n°11",H38="Bilan n°12"),EDATE(L38,3),"-") -> 43643 | K38: 6 | L38: =IF(K38="AP","",IF(G38="-","",IF(G38="","",EDATE(G38,0)+K38+I38))) -> 43551 | M38: =IF(J38="-","",EDATE(J38,3)+4) -> 43739 | N38: 43551 | O38: =IF(A38="Résiliation","-",IF(H38="Bilan n°1","Bilan n°1",IF(H38="Bilan n°2","Bilan n°1",IF(H38="Bilan n°4","Bilan n°2",IF(H38="Bilan n°3","Bilan n°2",IF(H38="Bilan n°5","Bilan n°3",IF(H38="Bilan n°6","Bilan n°3",IF(H38="Bilan n°7","Bilan n°4",IF(H38="Bilan n°9","Bilan n°5",IF(H38="Bilan n°10","Bilan n°6","-")))))))))) -> Bilan n°5 | P38: =IF(N38="","A programmer",N38+360) -> 43911 | Q38: =IF(A38="Résiliation","-",IF(H38="Bilan n°1","Bilan n°1",IF(H38="Bilan n°2","Bilan n°1",IF(H38="Bilan n°3","Bilan n°1",IF(H38="Bilan n°4","Bilan n°1",IF(H38="Bilan n°5","Bilan n°2",IF(H38="Bilan n°6","Bilan n°2",IF(H38="Bilan n°7","Bilan n°2",IF(H38="Bilan n°8","Bilan n°2",IF(H38="Bilan n°9","Bilan n°2",IF(H38="Bilan n°10","Bilan n°2","-"))))))))))) -> Bilan n°2 | R38: 1 | S38: =IF(R38="","A programmer",IF(R38=1,F38+360,IF(R38=2,F38+720,IF(R38=3,"Réabo à prévoir","-")))) -> 43170
