Workbook

Sheet Suivi
G2: A remplir
C3: SUIVI TRIMESTRIEL DES BILANS | G3: Remplissage auto | J3: AP= | K3: A programmer
B6: - COORDONNEES - | F6: - INFOS - | G6: - SPORTIF - | K6: - COACHING - | N6: OSTEOPATHE | O6: - OSTEOPATHIE - | Q6: - DIETETIQUE -
A7: Etat | B7: C. M. | C7: N° | D7: NOM | E7: Prénom | F7: Inscription | G7: Bilan actuel | H7: N° Bilan actuel | I7: Report (jours) | J7: Prochain bilan | K7: Ajust. | L7: Séance actuelle | M7: Prochaine séance coaching | N7: Bilan actuel | O7: N° bilan actuel | P7: Prochain bilan | Q7: N° bilan actuel | R7: Fait | S7: Prochain bilan
C8: 6 | D8: MARTIN | E8: Dupont | F8: 42892 | G8: 43522 | H8: =IF(F8="","-",IF(G8+I8-F8<=90,"Bilan n°1",IF(AND(G8+I8-F8>90,G8+I8-F8<=180),"Bilan n°2",IF(AND(G8+I8-F8>180,G8+I8-F8<=270),"Bilan n°3",IF(AND(G8+I8-F8>270,G8+I8-F8<=360),"Bilan n°4",IF(AND(G8+I8-F8>360,G8+I8-F8<=450),"Bilan n°5",IF(AND(G8+I8-F8>450,G8+I8-F8<=540),"Bilan n°6",IF(AND(G8+I8-F8>540,G8+I8-F8<=630),"Bilan n°7",IF(AND(G8+I8-F8>630,G8+I8-F8<=720),"Bilan n°8",IF(AND(G8+I8-F8>720,G8+I8-F8<=810),"Bilan n°9",IF(AND(G8+I8-F8>810,G8+I8-F8<=900),"Bilan n°10",IF(AND(G8+I8-F8>900,G8+I8-F8<=990),"Bilan n°11",IF(AND(G8+I8-F8>990,G8+I8-F8<=1180),"Bilan n°12"))))))))))))) -> Bilan n°7 | J8: =IF(OR(H8="Bilan n°1",H8="Bilan n°2",H8="Bilan n°3",H8="Bilan n°4",H8="Bilan n°5",H8="Bilan n°6",H8="Bilan n°7",H8="Bilan n°8",H8="Bilan n°9",H8="Bilan n°10",H8="Bilan n°11",H8="Bilan n°12"),EDATE(L8,3),"-") -> 43613 | K8: 2 | L8: =IF(K8="AP","",IF(G8="-","",IF(G8="","",EDATE(G8,0)+K8+I8))) -> 43524 | M8: =IF(J8="-","",EDATE(J8,3)+4) -> 43709 | N8: 43542 | P8: =IF(N8="","A programmer",N8+360) -> 43902 | Q8: =IF(A8="Résiliation","-",IF(H8="Bilan n°1","Bilan n°1",IF(H8="Bilan n°2","Bilan n°1",IF(H8="Bilan n°3","Bilan n°1",IF(H8="Bilan n°4","Bilan n°1",IF(H8="Bilan n°5","Bilan n°2",IF(H8="Bilan n°6","Bilan n°2",IF(H8="Bilan n°7","Bilan n°2",IF(H8="Bilan n°8","Bilan n°2",IF(H8="Bilan n°9","Bilan n°2",IF(H8="Bilan n°10","Bilan n°2","-"))))))))))) -> Bilan n°2 | S8: =IF(R8="","A programmer",IF(R8=1,F8+360,IF(R8=2,F8+720,IF(R8=3,"Réabo à prévoir","-")))) -> A programmer
C9: 16 | D9: MALA | E9: Régine | F9: 42895 | G9: 42702 | H9: =IF(F9="","-",IF(G9+I9-F9<=90,"Bilan n°1",IF(AND(G9+I9-F9>90,G9+I9-F9<=180),"Bilan n°2",IF(AND(G9+I9-F9>180,G9+I9-F9<=270),"Bilan n°3",IF(AND(G9+I9-F9>270,G9+I9-F9<=360),"Bilan n°4",IF(AND(G9+I9-F9>360,G9+I9-F9<=450),"Bilan n°5",IF(AND(G9+I9-F9>450,G9+I9-F9<=540),"Bilan n°6",IF(AND(G9+I9-F9>540,G9+I9-F9<=630),"Bilan n°7",IF(AND(G9+I9-F9>630,G9+I9-F9<=720),"Bilan n°8",IF(AND(G9+I9-F9>720,G9+I9-F9<=810),"Bilan n°9",IF(AND(G9+I9-F9>810,G9+I9-F9<=900),"Bilan n°10",IF(AND(G9+I9-F9>900,G9+I9-F9<=990),"Bilan n°11",IF(AND(G9+I9-F9>990,G9+I9-F9<=1180),"Bilan n°12"))))))))))))) -> Bilan n°1 | J9: =IF(OR(H9="Bilan n°1",H9="Bilan n°2",H9="Bilan n°3",H9="Bilan n°4",H9="Bilan n°5",H9="Bilan n°6",H9="Bilan n°7",H9="Bilan n°8",H9="Bilan n°9",H9="Bilan n°10",H9="Bilan n°11",H9="Bilan n°12"),EDATE(L9,3),"-") -> 42796 | K9: 4 | L9: =IF(K9="AP","",IF(G9="-","",IF(G9="","",EDATE(G9,0)+K9+I9))) -> 42706 | M9: =IF(J9="-","",EDATE(J9,3)+4) -> 42892 | O9: =IF(A9="Résiliation","-",IF(H9="Bilan n°1","Bilan n°1",IF(H9="Bilan n°3","Bilan n°2",IF(H9="Bilan n°5","Bilan n°3",IF(H9="Bilan n°7","Bilan n°4",IF(H9="Bilan n°9","Bilan n°5",IF(H9="Bilan n°10","Bilan n°6","-"))))))) -> Bilan n°1 | P9: =IF(N9="","A programmer",N9+360) -> A programmer | Q9: =IF(A9="Résiliation","-",IF(H9="Bilan n°1","Bilan n°1",IF(H9="Bilan n°2","Bilan n°1",IF(H9="Bilan n°3","Bilan n°1",IF(H9="Bilan n°4","Bilan n°1",IF(H9="Bilan n°5","Bilan n°2",IF(H9="Bilan n°6","Bilan n°2",IF(H9="Bilan n°7","Bilan n°2",IF(H9="Bilan n°8","Bilan n°2",IF(H9="Bilan n°9","Bilan n°2",IF(H9="Bilan n°10","Bilan n°2","-"))))))))))) -> Bilan n°1 | R9: 1 | S9: =IF(R9="","A programmer",IF(R9=1,F9+360,IF(R9=2,F9+720,IF(R9=3,"Réabo à prévoir","-")))) -> 43255
C10: 25 | D10: RAJI | E10: Malo | F10: 43004 | G10: 43354 | H10: =IF(F10="","-",IF(G10+I10-F10<=90,"Bilan n°1",IF(AND(G10+I10-F10>90,G10+I10-F10<=180),"Bilan n°2",IF(AND(G10+I10-F10>180,G10+I10-F10<=270),"Bilan n°3",IF(AND(G10+I10-F10>270,G10+I10-F10<=360),"Bilan n°4",IF(AND(G10+I10-F10>360,G10+I10-F10<=450),"Bilan n°5",IF(AND(G10+I10-F10>450,G10+I10-F10<=540),"Bilan n°6",IF(AND(G10+I10-F10>540,G10+I10-F10<=630),"Bilan n°7",IF(AND(G10+I10-F10>630,G10+I10-F10<=720),"Bilan n°8",IF(AND(G10+I10-F10>720,G10+I10-F10<=810),"Bilan n°9",IF(AND(G10+I10-F10>810,G10+I10-F10<=900),"Bilan n°10",IF(AND(G10+I10-F10>900,G10+I10-F10<=990),"Bilan n°11",IF(AND(G10+I10-F10>990,G10+I10-F10<=1180),"Bilan n°12"))))))))))))) -> Bilan n°4 | J10: =IF(OR(H10="Bilan n°1",H10="Bilan n°2",H10="Bilan n°3",H10="Bilan n°4",H10="Bilan n°5",H10="Bilan n°6",H10="Bilan n°7",H10="Bilan n°8",H10="Bilan n°9",H10="Bilan n°10",H10="Bilan n°11",H10="Bilan n°12"),EDATE(L10,3),"-") -> 43449 | K10: 4 | L10: =IF(K10="AP","",IF(G10="-","",IF(G10="","",EDATE(G10,0)+K10+I10))) -> 43358 | M10: =IF(J10="-","",EDATE(J10,3)+4) -> 43543 | O10: =IF(A8="Résiliation","-",IF(H8="Bilan n°1","Bilan n°1",IF(H8="Bilan n°3","Bilan n°2",IF(H8="Bilan n°5","Bilan n°3",IF(H8="Bilan n°7","Bilan n°4",IF(H8="Bilan n°9","Bilan n°5",IF(H8="Bilan n°10","Bilan n°6","-"))))))) -> Bilan n°4 | P10: =IF(N10="","A programmer",N10+360) -> A programmer | Q10: =IF(A10="Résiliation","-",IF(H10="Bilan n°1","Bilan n°1",IF(H10="Bilan n°2","Bilan n°1",IF(H10="Bilan n°3","Bilan n°1",IF(H10="Bilan n°4","Bilan n°1",IF(H10="Bilan n°5","Bilan n°2",IF(H10="Bilan n°6","Bilan n°2",IF(H10="Bilan n°7","Bilan n°2",IF(H10="Bilan n°8","Bilan n°2",IF(H10="Bilan n°9","Bilan n°2",IF(H10="Bilan n°10","Bilan n°2","-"))))))))))) -> Bilan n°1 | R10: 1 | S10: =IF(R10="","A programmer",IF(R10=1,F10+360,IF(R10=2,F10+720,IF(R10=3,"Réabo à prévoir","-")))) -> 43364
C11: 34 | D11: BARIN | E11: Thomas | F11: 42970 | G11: 43404 | H11: =IF(F11="","-",IF(G11+I11-F11<=90,"Bilan n°1",IF(AND(G11+I11-F11>90,G11+I11-F11<=180),"Bilan n°2",IF(AND(G11+I11-F11>180,G11+I11-F11<=270),"Bilan n°3",IF(AND(G11+I11-F11>270,G11+I11-F11<=360),"Bilan n°4",IF(AND(G11+I11-F11>360,G11+I11-F11<=450),"Bilan n°5",IF(AND(G11+I11-F11>450,G11+I11-F11<=540),"Bilan n°6",IF(AND(G11+I11-F11>540,G11+I11-F11<=630),"Bilan n°7",IF(AND(G11+I11-F11>630,G11+I11-F11<=720),"Bilan n°8",IF(AND(G11+I11-F11>720,G11+I11-F11<=810),"Bilan n°9",IF(AND(G11+I11-F11>810,G11+I11-F11<=900),"Bilan n°10",IF(AND(G11+I11-F11>900,G11+I11-F11<=990),"Bilan n°11",IF(AND(G11+I11-F11>990,G11+I11-F11<=1180),"Bilan n°12"))))))))))))) -> Bilan n°5 | J11: =IF(OR(H11="Bilan n°1",H11="Bilan n°2",H11="Bilan n°3",H11="Bilan n°4",H11="Bilan n°5",H11="Bilan n°6",H11="Bilan n°7",H11="Bilan n°8",H11="Bilan n°9",H11="Bilan n°10",H11="Bilan n°11",H11="Bilan n°12"),EDATE(L11,3),"-") -> 43504 | K11: 8 | L11: =IF(K11="AP","",IF(G11="-","",IF(G11="","",EDATE(G11,0)+K11+I11))) -> 43412 | M11: =IF(J11="-","",EDATE(J11,3)+4) -> 43597 | O11: =IF(A11="Résiliation","-",IF(H11="Bilan n°1","Bilan n°1",IF(H11="Bilan n°3","Bilan n°2",IF(H11="Bilan n°5","Bilan n°3",IF(H11="Bilan n°7","Bilan n°4",IF(H11="Bilan n°9","Bilan n°5",IF(H11="Bilan n°10","Bilan n°6","-"))))))) -> Bilan n°3 | P11: =IF(N11="","A programmer",N11+360) -> A programmer | Q11: =IF(A11="Résiliation","-",IF(H11="Bilan n°1","Bilan n°1",IF(H11="Bilan n°2","Bilan n°1",IF(H11="Bilan n°3","Bilan n°1",IF(H11="Bilan n°4","Bilan n°1",IF(H11="Bilan n°5","Bilan n°2",IF(H11="Bilan n°6","Bilan n°2",IF(H11="Bilan n°7","Bilan n°2",IF(H11="Bilan n°8","Bilan n°2",IF(H11="Bilan n°9","Bilan n°2",IF(H11="Bilan n°10","Bilan n°2","-"))))))))))) -> Bilan n°2 | S11: =IF(R11="","A programmer",IF(R11=1,F11+360,IF(R11=2,F11+720,IF(R11=3,"Réabo à prévoir","-")))) -> A programmer
C12: 84 | D12: BARRE | E12: Léon | F12: 42738 | G12: 42769 | H12: =IF(F12="","-",IF(G12+I12-F12<=90,"Bilan n°1",IF(AND(G12+I12-F12>90,G12+I12-F12<=180),"Bilan n°2",IF(AND(G12+I12-F12>180,G12+I12-F12<=270),"Bilan n°3",IF(AND(G12+I12-F12>270,G12+I12-F12<=360),"Bilan n°4",IF(AND(G12+I12-F12>360,G12+I12-F12<=450),"Bilan n°5",IF(AND(G12+I12-F12>450,G12+I12-F12<=540),"Bilan n°6",IF(AND(G12+I12-F12>540,G12+I12-F12<=630),"Bilan n°7",IF(AND(G12+I12-F12>630,G12+I12-F12<=720),"Bilan n°8",IF(AND(G12+I12-F12>720,G12+I12-F12<=810),"Bilan n°9",IF(AND(G12+I12-F12>810,G12+I12-F12<=900),"Bilan n°10",IF(AND(G12+I12-F12>900,G12+I12-F12<=990),"Bilan n°11",IF(AND(G12+I12-F12>990,G12+I12-F12<=1180),"Bilan n°12"))))))))))))) -> Bilan n°1 | J12: =IF(OR(H12="Bilan n°1",H12="Bilan n°2",H12="Bilan n°3",H12="Bilan n°4",H12="Bilan n°5",H12="Bilan n°6",H12="Bilan n°7",H12="Bilan n°8",H12="Bilan n°9",H12="Bilan n°10",H12="Bilan n°11",H12="Bilan n°12"),EDATE(L12,3),"-") -> 42862 | K12: 4 | L12: =IF(K12="AP","",IF(G12="-","",IF(G12="","",EDATE(G12,0)+K12+I12))) -> 42773 | M12: =IF(J12="-","",EDATE(J12,3)+4) -> 42958 | O12: =IF(A12="Résiliation","-",IF(H12="Bilan n°1","Bilan n°1",IF(H12="Bilan n°3","Bilan n°2",IF(H12="Bilan n°5","Bilan n°3",IF(H12="Bilan n°7","Bilan n°4",IF(H12="Bilan n°9","Bilan n°5",IF(H12="Bilan n°10","Bilan n°6","-"))))))) -> Bilan n°1 | P12: =IF(N12="","A programmer",N12+360) -> A programmer | Q12: =IF(A12="Résiliation","-",IF(H12="Bilan n°1","Bilan n°1",IF(H12="Bilan n°2","Bilan n°1",IF(H12="Bilan n°3","Bilan n°1",IF(H12="Bilan n°4","Bilan n°1",IF(H12="Bilan n°5","Bilan n°2",IF(H12="Bilan n°6","Bilan n°2",IF(H12="Bilan n°7","Bilan n°2",IF(H12="Bilan n°8","Bilan n°2",IF(H12="Bilan n°9","Bilan n°2",IF(H12="Bilan n°10","Bilan n°2","-"))))))))))) -> Bilan n°1 | S12: =IF(R12="","A programmer",IF(R12=1,F12+360,IF(R12=2,F12+720,IF(R12=3,"Réabo à prévoir","-")))) -> A programmer
C13: 107 | D13: LORE | E13: Patrick | F13: 43350 | G13: 43270 | H13: =IF(F13="","-",IF(G13+I13-F13<=90,"Bilan n°1",IF(AND(G13+I13-F13>90,G13+I13-F13<=180),"Bilan n°2",IF(AND(G13+I13-F13>180,G13+I13-F13<=270),"Bilan n°3",IF(AND(G13+I13-F13>270,G13+I13-F13<=360),"Bilan n°4",IF(AND(G13+I13-F13>360,G13+I13-F13<=450),"Bilan n°5",IF(AND(G13+I13-F13>450,G13+I13-F13<=540),"Bilan n°6",IF(AND(G13+I13-F13>540,G13+I13-F13<=630),"Bilan n°7",IF(AND(G13+I13-F13>630,G13+I13-F13<=720),"Bilan n°8",IF(AND(G13+I13-F13>720,G13+I13-F13<=810),"Bilan n°9",IF(AND(G13+I13-F13>810,G13+I13-F13<=900),"Bilan n°10",IF(AND(G13+I13-F13>900,G13+I13-F13<=990),"Bilan n°11",IF(AND(G13+I13-F13>990,G13+I13-F13<=1180),"Bilan n°12"))))))))))))) -> Bilan n°1 | J13: =IF(OR(H13="Bilan n°1",H13="Bilan n°2",H13="Bilan n°3",H13="Bilan n°4",H13="Bilan n°5",H13="Bilan n°6",H13="Bilan n°7",H13="Bilan n°8",H13="Bilan n°9",H13="Bilan n°10",H13="Bilan n°11",H13="Bilan n°12"),EDATE(L13,3),"-") -> 43368 | K13: 6 | L13: =IF(K13="AP","",IF(G13="-","",IF(G13="","",EDATE(G13,0)+K13+I13))) -> 43276 | M13: =IF(J13="-","",EDATE(J13,3)+4) -> 43463 | O13: =IF(A13="Résiliation","-",IF(H13="Bilan n°1","Bilan n°1",IF(H13="Bilan n°3","Bilan n°2",IF(H13="Bilan n°5","Bilan n°3",IF(H13="Bilan n°7","Bilan n°4",IF(H13="Bilan n°9","Bilan n°5",IF(H13="Bilan n°10","Bilan n°6","-"))))))) -> Bilan n°1 | P13: =IF(N13="","A programmer",N13+360) -> A programmer | Q13: =IF(A13="Résiliation","-",IF(H13="Bilan n°1","Bilan n°1",IF(H13="Bilan n°2","Bilan n°1",IF(H13="Bilan n°3","Bilan n°1",IF(H13="Bilan n°4","Bilan n°1",IF(H13="Bilan n°5","Bilan n°2",IF(H13="Bilan n°6","Bilan n°2",IF(H13="Bilan n°7","Bilan n°2",IF(H13="Bilan n°8","Bilan n°2",IF(H13="Bilan n°9","Bilan n°2",IF(H13="Bilan n°10","Bilan n°2","-"))))))))))) -> Bilan n°1 | S13: =IF(R13="","A programmer",IF(R13=1,F13+360,IF(R13=2,F13+720,IF(R13=3,"Réabo à prévoir","-")))) -> A programmer
C14: 113 | F14: 42633 | G14: 43061 | H14: =IF(F14="","-",IF(G14+I14-F14<=90,"Bilan n°1",IF(AND(G14+I14-F14>90,G14+I14-F14<=180),"Bilan n°2",IF(AND(G14+I14-F14>180,G14+I14-F14<=270),"Bilan n°3",IF(AND(G14+I14-F14>270,G14+I14-F14<=360),"Bilan n°4",IF(AND(G14+I14-F14>360,G14+I14-F14<=450),"Bilan n°5",IF(AND(G14+I14-F14>450,G14+I14-F14<=540),"Bilan n°6",IF(AND(G14+I14-F14>540,G14+I14-F14<=630),"Bilan n°7",IF(AND(G14+I14-F14>630,G14+I14-F14<=720),"Bilan n°8",IF(AND(G14+I14-F14>720,G14+I14-F14<=810),"Bilan n°9",IF(AND(G14+I14-F14>810,G14+I14-F14<=900),"Bilan n°10",IF(AND(G14+I14-F14>900,G14+I14-F14<=990),"Bilan n°11",IF(AND(G14+I14-F14>990,G14+I14-F14<=1180),"Bilan n°12"))))))))))))) -> Bilan n°5 | J14: =IF(OR(H14="Bilan n°1",H14="Bilan n°2",H14="Bilan n°3",H14="Bilan n°4",H14="Bilan n°5",H14="Bilan n°6",H14="Bilan n°7",H14="Bilan n°8",H14="Bilan n°9",H14="Bilan n°10",H14="Bilan n°11",H14="Bilan n°12"),EDATE(L14,3),"-") -> 43157 | K14: 4 | L14: =IF(K14="AP","",IF(G14="-","",IF(G14="","",EDATE(G14,0)+K14+I14))) -> 43065 | M14: =IF(J14="-","",EDATE(J14,3)+4) -> 43250 | O14: =IF(A14="Résiliation","-",IF(H14="Bilan n°1","Bilan n°1",IF(H14="Bilan n°3","Bilan n°2",IF(H14="Bilan n°5","Bilan n°3",IF(H14="Bilan n°7","Bilan n°4",IF(H14="Bilan n°9","Bilan n°5",IF(H14="Bilan n°10","Bilan n°6","-"))))))) -> Bilan n°3 | P14: =IF(N14="","A programmer",N14+360) -> A programmer | Q14: =IF(A14="Résiliation","-",IF(H14="Bilan n°1","Bilan n°1",IF(H14="Bilan n°2","Bilan n°1",IF(H14="Bilan n°3","Bilan n°1",IF(H14="Bilan n°4","Bilan n°1",IF(H14="Bilan n°5","Bilan n°2",IF(H14="Bilan n°6","Bilan n°2",IF(H14="Bilan n°7","Bilan n°2",IF(H14="Bilan n°8","Bilan n°2",IF(H14="Bilan n°9","Bilan n°2",IF(H14="Bilan n°10","Bilan n°2","-"))))))))))) -> Bilan n°2 | S14: =IF(R14="","A programmer",IF(R14=1,F14+360,IF(R14=2,F14+720,IF(R14=3,"Réabo à prévoir","-")))) -> A programmer
C15: 127 | F15: 43570 | H15: =IF(F15="","-",IF(G15+I15-F15<=90,"Bilan n°1",IF(AND(G15+I15-F15>90,G15+I15-F15<=180),"Bilan n°2",IF(AND(G15+I15-F15>180,G15+I15-F15<=270),"Bilan n°3",IF(AND(G15+I15-F15>270,G15+I15-F15<=360),"Bilan n°4",IF(AND(G15+I15-F15>360,G15+I15-F15<=450),"Bilan n°5",IF(AND(G15+I15-F15>450,G15+I15-F15<=540),"Bilan n°6",IF(AND(G15+I15-F15>540,G15+I15-F15<=630),"Bilan n°7",IF(AND(G15+I15-F15>630,G15+I15-F15<=720),"Bilan n°8",IF(AND(G15+I15-F15>720,G15+I15-F15<=810),"Bilan n°9",IF(AND(G15+I15-F15>810,G15+I15-F15<=900),"Bilan n°10",IF(AND(G15+I15-F15>900,G15+I15-F15<=990),"Bilan n°11",IF(AND(G15+I15-F15>990,G15+I15-F15<=1180),"Bilan n°12"))))))))))))) -> Bilan n°1 | J15: =IF(OR(H15="Bilan n°1",H15="Bilan n°2",H15="Bilan n°3",H15="Bilan n°4",H15="Bilan n°5",H15="Bilan n°6",H15="Bilan n°7",H15="Bilan n°8",H15="Bilan n°9",H15="Bilan n°10",H15="Bilan n°11",H15="Bilan n°12"),EDATE(L15,3),"-") -> 91 | K15: AP | P15: =IF(N15="","A programmer",N15+360) -> A programmer | S15: =IF(R15="","A programmer",IF(R15=1,F15+360,IF(R15=2,F15+720,IF(R15=3,"Réabo à prévoir","-")))) -> A programmer
C16: 144 | F16: 43298 | G16: 43526 | H16: =IF(F16="","-",IF(G16+I16-F16<=90,"Bilan n°1",IF(AND(G16+I16-F16>90,G16+I16-F16<=180),"Bilan n°2",IF(AND(G16+I16-F16>180,G16+I16-F16<=270),"Bilan n°3",IF(AND(G16+I16-F16>270,G16+I16-F16<=360),"Bilan n°4",IF(AND(G16+I16-F16>360,G16+I16-F16<=450),"Bilan n°5",IF(AND(G16+I16-F16>450,G16+I16-F16<=540),"Bilan n°6",IF(AND(G16+I16-F16>540,G16+I16-F16<=630),"Bilan n°7",IF(AND(G16+I16-F16>630,G16+I16-F16<=720),"Bilan n°8",IF(AND(G16+I16-F16>720,G16+I16-F16<=810),"Bilan n°9",IF(AND(G16+I16-F16>810,G16+I16-F16<=900),"Bilan n°10",IF(AND(G16+I16-F16>900,G16+I16-F16<=990),"Bilan n°11",IF(AND(G16+I16-F16>990,G16+I16-F16<=1180),"Bilan n°12"))))))))))))) -> Bilan n°3 | J16: =IF(OR(H16="Bilan n°1",H16="Bilan n°2",H16="Bilan n°3",H16="Bilan n°4",H16="Bilan n°5",H16="Bilan n°6",H16="Bilan n°7",H16="Bilan n°8",H16="Bilan n°9",H16="Bilan n°10",H16="Bilan n°11",H16="Bilan n°12"),EDATE(L16,3),"-") -> 43622 | K16: 4 | L16: =IF(K16="AP","",IF(G16="-","",IF(G16="","",EDATE(G16,0)+K16+I16))) -> 43530 | M16: =IF(J16="-","",EDATE(J16,3)+4) -> 43718 | N16: 43362 | O16: =IF(#REF!="Résiliation","-",IF(H16="Bilan n°1","Bilan n°1",IF(H16="Bilan n°3","Bilan n°2",IF(H16="Bilan n°5","Bilan n°3",IF(H16="Bilan n°7","Bilan n°4",IF(H16="Bilan n°9","Bilan n°5",IF(H16="Bilan n°10","Bilan n°6","-"))))))) -> #REF! | P16: =IF(N16="","A programmer",N16+360) -> 43722 | Q16: =IF(#REF!="Résiliation","-",IF(H16="Bilan n°1","Bilan n°1",IF(H16="Bilan n°2","Bilan n°1",IF(H16="Bilan n°3","Bilan n°1",IF(H16="Bilan n°4","Bilan n°1",IF(H16="Bilan n°5","Bilan n°2",IF(H16="Bilan n°6","Bilan n°2",IF(H16="Bilan n°7","Bilan n°2",IF(H16="Bilan n°8","Bilan n°2",IF(H16="Bilan n°9","Bilan n°2",IF(H16="Bilan n°10","Bilan n°2","-"))))))))))) -> #REF! | S16: =IF(R16="","A programmer",IF(R16=1,F16+360,IF(R16=2,F16+720,IF(R16=3,"Réabo à prévoir","-")))) -> A programmer
C17: 156 | F17: 42726 | G17: 42790 | H17: =IF(F17="","-",IF(G17+I17-F17<=90,"Bilan n°1",IF(AND(G17+I17-F17>90,G17+I17-F17<=180),"Bilan n°2",IF(AND(G17+I17-F17>180,G17+I17-F17<=270),"Bilan n°3",IF(AND(G17+I17-F17>270,G17+I17-F17<=360),"Bilan n°4",IF(AND(G17+I17-F17>360,G17+I17-F17<=450),"Bilan n°5",IF(AND(G17+I17-F17>450,G17+I17-F17<=540),"Bilan n°6",IF(AND(G17+I17-F17>540,G17+I17-F17<=630),"Bilan n°7",IF(AND(G17+I17-F17>630,G17+I17-F17<=720),"Bilan n°8",IF(AND(G17+I17-F17>720,G17+I17-F17<=810),"Bilan n°9",IF(AND(G17+I17-F17>810,G17+I17-F17<=900),"Bilan n°10",IF(AND(G17+I17-F17>900,G17+I17-F17<=990),"Bilan n°11",IF(AND(G17+I17-F17>990,G17+I17-F17<=1180),"Bilan n°12"))))))))))))) -> Bilan n°1 | J17: =IF(OR(H17="Bilan n°1",H17="Bilan n°2",H17="Bilan n°3",H17="Bilan n°4",H17="Bilan n°5",H17="Bilan n°6",H17="Bilan n°7",H17="Bilan n°8",H17="Bilan n°9",H17="Bilan n°10",H17="Bilan n°11",H17="Bilan n°12"),EDATE(L17,3),"-") -> 42883 | K17: 4 | L17: =IF(K17="AP","",IF(G17="-","",IF(G17="","",EDATE(G17,0)+K17+I17))) -> 42794 | M17: =IF(J17="-","",EDATE(J17,3)+4) -> 42979 | O17: =IF(A16="Résiliation","-",IF(H17="Bilan n°1","Bilan n°1",IF(H17="Bilan n°2","Bilan n°1",IF(H17="Bilan n°4","Bilan n°2",IF(H17="Bilan n°3","Bilan n°2",IF(H17="Bilan n°5","Bilan n°3",IF(H17="Bilan n°6","Bilan n°3",IF(H17="Bilan n°7","Bilan n°4",IF(H17="Bilan n°9","Bilan n°5",IF(H17="Bilan n°10","Bilan n°6","-")))))))))) -> Bilan n°1 | P17: =IF(N17="","A programmer",N17+360) -> A programmer | Q17: =IF(A16="Résiliation","-",IF(H17="Bilan n°1","Bilan n°1",IF(H17="Bilan n°2","Bilan n°1",IF(H17="Bilan n°3","Bilan n°1",IF(H17="Bilan n°4","Bilan n°1",IF(H17="Bilan n°5","Bilan n°2",IF(H17="Bilan n°6","Bilan n°2",IF(H17="Bilan n°7","Bilan n°2",IF(H17="Bilan n°8","Bilan n°2",IF(H17="Bilan n°9","Bilan n°2",IF(H17="Bilan n°10","Bilan n°2","-"))))))))))) -> Bilan n°1 | S17: =IF(R17="","A programmer",IF(R17=1,F17+360,IF(R17=2,F17+720,IF(R17=3,"Réabo à prévoir","-")))) -> A programmer
C18: 164 | F18: 43475 | G18: 43542 | H18: =IF(F18="","-",IF(G18+I18-F18<=90,"Bilan n°1",IF(AND(G18+I18-F18>90,G18+I18-F18<=180),"Bilan n°2",IF(AND(G18+I18-F18>180,G18+I18-F18<=270),"Bilan n°3",IF(AND(G18+I18-F18>270,G18+I18-F18<=360),"Bilan n°4",IF(AND(G18+I18-F18>360,G18+I18-F18<=450),"Bilan n°5",IF(AND(G18+I18-F18>450,G18+I18-F18<=540),"Bilan n°6",IF(AND(G18+I18-F18>540,G18+I18-F18<=630),"Bilan n°7",IF(AND(G18+I18-F18>630,G18+I18-F18<=720),"Bilan n°8",IF(AND(G18+I18-F18>720,G18+I18-F18<=810),"Bilan n°9",IF(AND(G18+I18-F18>810,G18+I18-F18<=900),"Bilan n°10",IF(AND(G18+I18-F18>900,G18+I18-F18<=990),"Bilan n°11",IF(AND(G18+I18-F18>990,G18+I18-F18<=1180),"Bilan n°12"))))))))))))) -> Bilan n°1 | J18: =IF(OR(H18="Bilan n°1",H18="Bilan n°2",H18="Bilan n°3",H18="Bilan n°4",H18="Bilan n°5",H18="Bilan n°6",H18="Bilan n°7",H18="Bilan n°8",H18="Bilan n°9",H18="Bilan n°10",H18="Bilan n°11",H18="Bilan n°12"),EDATE(L18,3),"-") -> 43636 | K18: 2 | L18: =IF(K18="AP","",IF(G18="-","",IF(G18="","",EDATE(G18,0)+K18+I18))) -> 43544 | M18: =IF(J18="-","",EDATE(J18,3)+4) -> 43732 | O18: =IF(A18="Résiliation","-",IF(H18="Bilan n°1","Bilan n°1",IF(H18="Bilan n°2","Bilan n°1",IF(H18="Bilan n°4","Bilan n°2",IF(H18="Bilan n°3","Bilan n°2",IF(H18="Bilan n°5","Bilan n°3",IF(H18="Bilan n°6","Bilan n°3",IF(H18="Bilan n°7","Bilan n°4",IF(H18="Bilan n°9","Bilan n°5",IF(H18="Bilan n°10","Bilan n°6","-")))))))))) -> Bilan n°1 | P18: =IF(N18="","A programmer",N18+360) -> A programmer | Q18: =IF(A18="Résiliation","-",IF(H18="Bilan n°1","Bilan n°1",IF(H18="Bilan n°2","Bilan n°1",IF(H18="Bilan n°3","Bilan n°1",IF(H18="Bilan n°4","Bilan n°1",IF(H18="Bilan n°5","Bilan n°2",IF(H18="Bilan n°6","Bilan n°2",IF(H18="Bilan n°7","Bilan n°2",IF(H18="Bilan n°8","Bilan n°2",IF(H18="Bilan n°9","Bilan n°2",IF(H18="Bilan n°10","Bilan n°2","-"))))))))))) -> Bilan n°1 | S18: =IF(R18="","A programmer",IF(R18=1,F18+360,IF(R18=2,F18+720,IF(R18=3,"Réabo à prévoir","-")))) -> A programmer
C19: 174 | F19: 43321 | G19: 43493 | H19: =IF(F19="","-",IF(G19+I19-F19<=90,"Bilan n°1",IF(AND(G19+I19-F19>90,G19+I19-F19<=180),"Bilan n°2",IF(AND(G19+I19-F19>180,G19+I19-F19<=270),"Bilan n°3",IF(AND(G19+I19-F19>270,G19+I19-F19<=360),"Bilan n°4",IF(AND(G19+I19-F19>360,G19+I19-F19<=450),"Bilan n°5",IF(AND(G19+I19-F19>450,G19+I19-F19<=540),"Bilan n°6",IF(AND(G19+I19-F19>540,G19+I19-F19<=630),"Bilan n°7",IF(AND(G19+I19-F19>630,G19+I19-F19<=720),"Bilan n°8",IF(AND(G19+I19-F19>720,G19+I19-F19<=810),"Bilan n°9",IF(AND(G19+I19-F19>810,G19+I19-F19<=900),"Bilan n°10",IF(AND(G19+I19-F19>900,G19+I19-F19<=990),"Bilan n°11",IF(AND(G19+I19-F19>990,G19+I19-F19<=1180),"Bilan n°12"))))))))))))) -> Bilan n°2 | J19: =IF(OR(H19="Bilan n°1",H19="Bilan n°2",H19="Bilan n°3",H19="Bilan n°4",H19="Bilan n°5",H19="Bilan n°6",H19="Bilan n°7",H19="Bilan n°8",H19="Bilan n°9",H19="Bilan n°10",H19="Bilan n°11",H19="Bilan n°12"),EDATE(L19,3),"-") -> 43586 | K19: 4 | L19: =IF(K19="AP","",IF(G19="-","",IF(G19="","",EDATE(G19,0)+K19+I19))) -> 43497 | M19: =IF(J19="-","",EDATE(J19,3)+4) -> 43682 | N19: 43411 | O19: =IF(A19="Résiliation","-",IF(H19="Bilan n°1","Bilan n°1",IF(H19="Bilan n°2","Bilan n°1",IF(H19="Bilan n°4","Bilan n°2",IF(H19="Bilan n°3","Bilan n°2",IF(H19="Bilan n°5","Bilan n°3",IF(H19="Bilan n°6","Bilan n°3",IF(H19="Bilan n°7","Bilan n°4",IF(H19="Bilan n°9","Bilan n°5",IF(H19="Bilan n°10","Bilan n°6","-")))))))))) -> Bilan n°1 | P19: =IF(N19="","A programmer",N19+360) -> 43771 | Q19: =IF(A19="Résiliation","-",IF(H19="Bilan n°1","Bilan n°1",IF(H19="Bilan n°2","Bilan n°1",IF(H19="Bilan n°3","Bilan n°1",IF(H19="Bilan n°4","Bilan n°1",IF(H19="Bilan n°5","Bilan n°2",IF(H19="Bilan n°6","Bilan n°2",IF(H19="Bilan n°7","Bilan n°2",IF(H19="Bilan n°8","Bilan n°2",IF(H19="Bilan n°9","Bilan n°2",IF(H19="Bilan n°10","Bilan n°2","-"))))))))))) -> Bilan n°1 | R19: 4 | S19: =IF(R19="","A programmer",IF(R19=1,F19+360,IF(R19=2,F19+720,IF(R19=3,"Réabo à prévoir","-")))) -> -
C20: 188 | F20: 43395 | G20: 43523 | H20: =IF(F20="","-",IF(G20+I20-F20<=90,"Bilan n°1",IF(AND(G20+I20-F20>90,G20+I20-F20<=180),"Bilan n°2",IF(AND(G20+I20-F20>180,G20+I20-F20<=270),"Bilan n°3",IF(AND(G20+I20-F20>270,G20+I20-F20<=360),"Bilan n°4",IF(AND(G20+I20-F20>360,G20+I20-F20<=450),"Bilan n°5",IF(AND(G20+I20-F20>450,G20+I20-F20<=540),"Bilan n°6",IF(AND(G20+I20-F20>540,G20+I20-F20<=630),"Bilan n°7",IF(AND(G20+I20-F20>630,G20+I20-F20<=720),"Bilan n°8",IF(AND(G20+I20-F20>720,G20+I20-F20<=810),"Bilan n°9",IF(AND(G20+I20-F20>810,G20+I20-F20<=900),"Bilan n°10",IF(AND(G20+I20-F20>900,G20+I20-F20<=990),"Bilan n°11",IF(AND(G20+I20-F20>990,G20+I20-F20<=1180),"Bilan n°12"))))))))))))) -> Bilan n°2 | J20: =IF(OR(H20="Bilan n°1",H20="Bilan n°2",H20="Bilan n°3",H20="Bilan n°4",H20="Bilan n°5",H20="Bilan n°6",H20="Bilan n°7",H20="Bilan n°8",H20="Bilan n°9",H20="Bilan n°10",H20="Bilan n°11",H20="Bilan n°12"),EDATE(L20,3),"-") -> 43613 | K20: 1 | L20: =IF(K20="AP","",IF(G20="-","",IF(G20="","",EDATE(G20,0)+K20+I20))) -> 43524 | M20: =IF(J20="-","",EDATE(J20,3)+4) -> 43709 | O20: =IF(A20="Résiliation","-",IF(H20="Bilan n°1","Bilan n°1",IF(H20="Bilan n°2","Bilan n°1",IF(H20="Bilan n°4","Bilan n°2",IF(H20="Bilan n°3","Bilan n°2",IF(H20="Bilan n°5","Bilan n°3",IF(H20="Bilan n°6","Bilan n°3",IF(H20="Bilan n°7","Bilan n°4",IF(H20="Bilan n°9","Bilan n°5",IF(H20="Bilan n°10","Bilan n°6","-")))))))))) -> Bilan n°1 | P20: =IF(N20="","A programmer",N20+360) -> A programmer | Q20: =IF(A20="Résiliation","-",IF(H20="Bilan n°1","Bilan n°1",IF(H20="Bilan n°2","Bilan n°1",IF(H20="Bilan n°3","Bilan n°1",IF(H20="Bilan n°4","Bilan n°1",IF(H20="Bilan n°5","Bilan n°2",IF(H20="Bilan n°6","Bilan n°2",IF(H20="Bilan n°7","Bilan n°2",IF(H20="Bilan n°8","Bilan n°2",IF(H20="Bilan n°9","Bilan n°2",IF(H20="Bilan n°10","Bilan n°2","-"))))))))))) -> Bilan n°1 | S20: =IF(R20="","A programmer",IF(R20=1,F20+360,IF(R20=2,F20+720,IF(R20=3,"Réabo à prévoir","-")))) -> A programmer
C21: 222 | F21: 43491 | G21: 43523 | H21: =IF(F21="","-",IF(G21+I21-F21<=90,"Bilan n°1",IF(AND(G21+I21-F21>90,G21+I21-F21<=180),"Bilan n°2",IF(AND(G21+I21-F21>180,G21+I21-F21<=270),"Bilan n°3",IF(AND(G21+I21-F21>270,G21+I21-F21<=360),"Bilan n°4",IF(AND(G21+I21-F21>360,G21+I21-F21<=450),"Bilan n°5",IF(AND(G21+I21-F21>450,G21+I21-F21<=540),"Bilan n°6",IF(AND(G21+I21-F21>540,G21+I21-F21<=630),"Bilan n°7",IF(AND(G21+I21-F21>630,G21+I21-F21<=720),"Bilan n°8",IF(AND(G21+I21-F21>720,G21+I21-F21<=810),"Bilan n°9",IF(AND(G21+I21-F21>810,G21+I21-F21<=900),"Bilan n°10",IF(AND(G21+I21-F21>900,G21+I21-F21<=990),"Bilan n°11",IF(AND(G21+I21-F21>990,G21+I21-F21<=1180),"Bilan n°12"))))))))))))) -> Bilan n°1 | J21: =IF(OR(H21="Bilan n°1",H21="Bilan n°2",H21="Bilan n°3",H21="Bilan n°4",H21="Bilan n°5",H21="Bilan n°6",H21="Bilan n°7",H21="Bilan n°8",H21="Bilan n°9",H21="Bilan n°10",H21="Bilan n°11",H21="Bilan n°12"),EDATE(L21,3),"-") -> 43617 | K21: 2 | L21: =IF(K21="AP","",IF(G21="-","",IF(G21="","",EDATE(G21,0)+K21+I21))) -> 43525 | M21: =IF(J21="-","",EDATE(J21,3)+4) -> 43713 | O21: =IF(A21="Résiliation","-",IF(H21="Bilan n°1","Bilan n°1",IF(H21="Bilan n°2","Bilan n°1",IF(H21="Bilan n°4","Bilan n°2",IF(H21="Bilan n°3","Bilan n°2",IF(H21="Bilan n°5","Bilan n°3",IF(H21="Bilan n°6","Bilan n°3",IF(H21="Bilan n°7","Bilan n°4",IF(H21="Bilan n°9","Bilan n°5",IF(H21="Bilan n°10","Bilan n°6","-")))))))))) -> Bilan n°1 | P21: =IF(N21="","A programmer",N21+360) -> A programmer | Q21: =IF(A21="Résiliation","-",IF(H21="Bilan n°1","Bilan n°1",IF(H21="Bilan n°2","Bilan n°1",IF(H21="Bilan n°3","Bilan n°1",IF(H21="Bilan n°4","Bilan n°1",IF(H21="Bilan n°5","Bilan n°2",IF(H21="Bilan n°6","Bilan n°2",IF(H21="Bilan n°7","Bilan n°2",IF(H21="Bilan n°8","Bilan n°2",IF(H21="Bilan n°9","Bilan n°2",IF(H21="Bilan n°10","Bilan n°2","-"))))))))))) -> Bilan n°1 | R21: 2 | S21: =IF(R21="","A programmer",IF(R21=1,F21+360,IF(R21=2,F21+720,IF(R21=3,"Réabo à prévoir","-")))) -> 44211
C22: 234 | F22: 42782 | G22: 43173 | H22: =IF(F22="","-",IF(G22+I22-F22<=90,"Bilan n°1",IF(AND(G22+I22-F22>90,G22+I22-F22<=180),"Bilan n°2",IF(AND(G22+I22-F22>180,G22+I22-F22<=270),"Bilan n°3",IF(AND(G22+I22-F22>270,G22+I22-F22<=360),"Bilan n°4",IF(AND(G22+I22-F22>360,G22+I22-F22<=450),"Bilan n°5",IF(AND(G22+I22-F22>450,G22+I22-F22<=540),"Bilan n°6",IF(AND(G22+I22-F22>540,G22+I22-F22<=630),"Bilan n°7",IF(AND(G22+I22-F22>630,G22+I22-F22<=720),"Bilan n°8",IF(AND(G22+I22-F22>720,G22+I22-F22<=810),"Bilan n°9",IF(AND(G22+I22-F22>810,G22+I22-F22<=900),"Bilan n°10",IF(AND(G22+I22-F22>900,G22+I22-F22<=990),"Bilan n°11",IF(AND(G22+I22-F22>990,G22+I22-F22<=1180),"Bilan n°12"))))))))))))) -> Bilan n°5 | J22: =IF(OR(H22="Bilan n°1",H22="Bilan n°2",H22="Bilan n°3",H22="Bilan n°4",H22="Bilan n°5",H22="Bilan n°6",H22="Bilan n°7",H22="Bilan n°8",H22="Bilan n°9",H22="Bilan n°10",H22="Bilan n°11",H22="Bilan n°12"),EDATE(L22,3),"-") -> 43269 | K22: 4 | L22: =IF(K22="AP","",IF(G22="-","",IF(G22="","",EDATE(G22,0)+K22+I22))) -> 43177 | M22: - | O22: =IF(A22="Résiliation","-",IF(H22="Bilan n°1","Bilan n°1",IF(H22="Bilan n°2","Bilan n°1",IF(H22="Bilan n°4","Bilan n°2",IF(H22="Bilan n°3","Bilan n°2",IF(H22="Bilan n°5","Bilan n°3",IF(H22="Bilan n°6","Bilan n°3",IF(H22="Bilan n°7","Bilan n°4",IF(H22="Bilan n°9","Bilan n°5",IF(H22="Bilan n°10","Bilan n°6","-")))))))))) -> Bilan n°3 | P22: =IF(N22="","A programmer",N22+360) -> A programmer | Q22: =IF(A22="Résiliation","-",IF(H22="Bilan n°1","Bilan n°1",IF(H22="Bilan n°2","Bilan n°1",IF(H22="Bilan n°3","Bilan n°1",IF(H22="Bilan n°4","Bilan n°1",IF(H22="Bilan n°5","Bilan n°2",IF(H22="Bilan n°6","Bilan n°2",IF(H22="Bilan n°7","Bilan n°2",IF(H22="Bilan n°8","Bilan n°2",IF(H22="Bilan n°9","Bilan n°2",IF(H22="Bilan n°10","Bilan n°2","-"))))))))))) -> Bilan n°2 | S22: =IF(R22="","A programmer",IF(R22=1,F22+360,IF(R22=2,F22+720,IF(R22=3,"Réabo à prévoir","-")))) -> A programmer
C23: 245 | F23: 42755 | G23: 43150 | H23: =IF(F23="","-",IF(G23+I23-F23<=90,"Bilan n°1",IF(AND(G23+I23-F23>90,G23+I23-F23<=180),"Bilan n°2",IF(AND(G23+I23-F23>180,G23+I23-F23<=270),"Bilan n°3",IF(AND(G23+I23-F23>270,G23+I23-F23<=360),"Bilan n°4",IF(AND(G23+I23-F23>360,G23+I23-F23<=450),"Bilan n°5",IF(AND(G23+I23-F23>450,G23+I23-F23<=540),"Bilan n°6",IF(AND(G23+I23-F23>540,G23+I23-F23<=630),"Bilan n°7",IF(AND(G23+I23-F23>630,G23+I23-F23<=720),"Bilan n°8",IF(AND(G23+I23-F23>720,G23+I23-F23<=810),"Bilan n°9",IF(AND(G23+I23-F23>810,G23+I23-F23<=900),"Bilan n°10",IF(AND(G23+I23-F23>900,G23+I23-F23<=990),"Bilan n°11",IF(AND(G23+I23-F23>990,G23+I23-F23<=1180),"Bilan n°12"))))))))))))) -> Bilan n°5 | J23: =IF(OR(H23="Bilan n°1",H23="Bilan n°2",H23="Bilan n°3",H23="Bilan n°4",H23="Bilan n°5",H23="Bilan n°6",H23="Bilan n°7",H23="Bilan n°8",H23="Bilan n°9",H23="Bilan n°10",H23="Bilan n°11",H23="Bilan n°12"),EDATE(L23,3),"-") -> 43243 | K23: 4 | L23: =IF(K23="AP","",IF(G23="-","",IF(G23="","",EDATE(G23,0)+K23+I23))) -> 43154 | M23: - | O23: =IF(A23="Résiliation","-",IF(H23="Bilan n°1","Bilan n°1",IF(H23="Bilan n°2","Bilan n°1",IF(H23="Bilan n°4","Bilan n°2",IF(H23="Bilan n°3","Bilan n°2",IF(H23="Bilan n°5","Bilan n°3",IF(H23="Bilan n°6","Bilan n°3",IF(H23="Bilan n°7","Bilan n°4",IF(H23="Bilan n°9","Bilan n°5",IF(H23="Bilan n°10","Bilan n°6","-")))))))))) -> Bilan n°3 | P23: =IF(N23="","A programmer",N23+360) -> A programmer | Q23: =IF(A23="Résiliation","-",IF(H23="Bilan n°1","Bilan n°1",IF(H23="Bilan n°2","Bilan n°1",IF(H23="Bilan n°3","Bilan n°1",IF(H23="Bilan n°4","Bilan n°1",IF(H23="Bilan n°5","Bilan n°2",IF(H23="Bilan n°6","Bilan n°2",IF(H23="Bilan n°7","Bilan n°2",IF(H23="Bilan n°8","Bilan n°2",IF(H23="Bilan n°9","Bilan n°2",IF(H23="Bilan n°10","Bilan n°2","-"))))))))))) -> Bilan n°2 | S23: =IF(R23="","A programmer",IF(R23=1,F23+360,IF(R23=2,F23+720,IF(R23=3,"Réabo à prévoir","-")))) -> A programmer
C24: 254 | F24: 42793 | G24: 43537 | H24: =IF(F24="","-",IF(G24+I24-F24<=90,"Bilan n°1",IF(AND(G24+I24-F24>90,G24+I24-F24<=180),"Bilan n°2",IF(AND(G24+I24-F24>180,G24+I24-F24<=270),"Bilan n°3",IF(AND(G24+I24-F24>270,G24+I24-F24<=360),"Bilan n°4",IF(AND(G24+I24-F24>360,G24+I24-F24<=450),"Bilan n°5",IF(AND(G24+I24-F24>450,G24+I24-F24<=540),"Bilan n°6",IF(AND(G24+I24-F24>540,G24+I24-F24<=630),"Bilan n°7",IF(AND(G24+I24-F24>630,G24+I24-F24<=720),"Bilan n°8",IF(AND(G24+I24-F24>720,G24+I24-F24<=810),"Bilan n°9",IF(AND(G24+I24-F24>810,G24+I24-F24<=900),"Bilan n°10",IF(AND(G24+I24-F24>900,G24+I24-F24<=990),"Bilan n°11",IF(AND(G24+I24-F24>990,G24+I24-F24<=1180),"Bilan n°12"))))))))))))) -> Bilan n°9 | J24: =IF(OR(H24="Bilan n°1",H24="Bilan n°2",H24="Bilan n°3",H24="Bilan n°4",H24="Bilan n°5",H24="Bilan n°6",H24="Bilan n°7",H24="Bilan n°8",H24="Bilan n°9",H24="Bilan n°10",H24="Bilan n°11",H24="Bilan n°12"),EDATE(L24,3),"-") -> 43631 | K24: 2 | L24: =IF(K24="AP","",IF(G24="-","",IF(G24="","",EDATE(G24,0)+K24+I24))) -> 43539 | M24: =IF(J24="-","",EDATE(J24,3)+4) -> 43727 | O24: =IF(A24="Résiliation","-",IF(H24="Bilan n°1","Bilan n°1",IF(H24="Bilan n°2","Bilan n°1",IF(H24="Bilan n°4","Bilan n°2",IF(H24="Bilan n°3","Bilan n°2",IF(H24="Bilan n°5","Bilan n°3",IF(H24="Bilan n°6","Bilan n°3",IF(H24="Bilan n°7","Bilan n°4",IF(H24="Bilan n°9","Bilan n°5",IF(H24="Bilan n°10","Bilan n°6","-")))))))))) -> Bilan n°5 | P24: =IF(N24="","A programmer",N24+360) -> A programmer | Q24: =IF(A24="Résiliation","-",IF(H24="Bilan n°1","Bilan n°1",IF(H24="Bilan n°2","Bilan n°1",IF(H24="Bilan n°3","Bilan n°1",IF(H24="Bilan n°4","Bilan n°1",IF(H24="Bilan n°5","Bilan n°2",IF(H24="Bilan n°6","Bilan n°2",IF(H24="Bilan n°7","Bilan n°2",IF(H24="Bilan n°8","Bilan n°2",IF(H24="Bilan n°9","Bilan n°2",IF(H24="Bilan n°10","Bilan n°2","-"))))))))))) -> Bilan n°2 | S24: =IF(R24="","A programmer",IF(R24=1,F24+360,IF(R24=2,F24+720,IF(R24=3,"Réabo à prévoir","-")))) -> A programmer
C25: 331 | F25: 42825 | G25: 42825 | H25: =IF(F25="","-",IF(G25+I25-F25<=90,"Bilan n°1",IF(AND(G25+I25-F25>90,G25+I25-F25<=180),"Bilan n°2",IF(AND(G25+I25-F25>180,G25+I25-F25<=270),"Bilan n°3",IF(AND(G25+I25-F25>270,G25+I25-F25<=360),"Bilan n°4",IF(AND(G25+I25-F25>360,G25+I25-F25<=450),"Bilan n°5",IF(AND(G25+I25-F25>450,G25+I25-F25<=540),"Bilan n°6",IF(AND(G25+I25-F25>540,G25+I25-F25<=630),"Bilan n°7",IF(AND(G25+I25-F25>630,G25+I25-F25<=720),"Bilan n°8",IF(AND(G25+I25-F25>720,G25+I25-F25<=810),"Bilan n°9",IF(AND(G25+I25-F25>810,G25+I25-F25<=900),"Bilan n°10",IF(AND(G25+I25-F25>900,G25+I25-F25<=990),"Bilan n°11",IF(AND(G25+I25-F25>990,G25+I25-F25<=1180),"Bilan n°12"))))))))))))) -> Bilan n°1 | J25: =IF(OR(H25="Bilan n°1",H25="Bilan n°2",H25="Bilan n°3",H25="Bilan n°4",H25="Bilan n°5",H25="Bilan n°6",H25="Bilan n°7",H25="Bilan n°8",H25="Bilan n°9",H25="Bilan n°10",H25="Bilan n°11",H25="Bilan n°12"),EDATE(L25,3),"-") -> 42922 | K25: 6 | L25: =IF(K25="AP","",IF(G25="-","",IF(G25="","",EDATE(G25,0)+K25+I25))) -> 42831 | M25: =IF(J25="-","",EDATE(J25,3)+4) -> 43018 | O25: =IF(A25="Résiliation","-",IF(H25="Bilan n°1","Bilan n°1",IF(H25="Bilan n°2","Bilan n°1",IF(H25="Bilan n°4","Bilan n°2",IF(H25="Bilan n°3","Bilan n°2",IF(H25="Bilan n°5","Bilan n°3",IF(H25="Bilan n°6","Bilan n°3",IF(H25="Bilan n°7","Bilan n°4",IF(H25="Bilan n°9","Bilan n°5",IF(H25="Bilan n°10","Bilan n°6","-")))))))))) -> Bilan n°1 | P25: =IF(N25="","A programmer",N25+360) -> A programmer | Q25: =IF(A25="Résiliation","-",IF(#REF!="Bilan n°1","Bilan n°1",IF(#REF!="Bilan n°2","Bilan n°1",IF(#REF!="Bilan n°3","Bilan n°1",IF(#REF!="Bilan n°4","Bilan n°1",IF(#REF!="Bilan n°5","Bilan n°2",IF(#REF!="Bilan n°6","Bilan n°2",IF(#REF!="Bilan n°7","Bilan n°2",IF(#REF!="Bilan n°8","Bilan n°2",IF(#REF!="Bilan n°9","Bilan n°2",IF(#REF!="Bilan n°10","Bilan n°2","-"))))))))))) -> #REF! | R25: 1 | S25: =IF(R25="","A programmer",IF(R25=1,F25+360,IF(R25=2,F25+720,IF(R25=3,"Réabo à prévoir","-")))) -> 43185
C26: 265 | F26: 43084 | G26: 43525 | H26: =IF(F26="","-",IF(G26+I26-F26<=90,"Bilan n°1",IF(AND(G26+I26-F26>90,G26+I26-F26<=180),"Bilan n°2",IF(AND(G26+I26-F26>180,G26+I26-F26<=270),"Bilan n°3",IF(AND(G26+I26-F26>270,G26+I26-F26<=360),"Bilan n°4",IF(AND(G26+I26-F26>360,G26+I26-F26<=450),"Bilan n°5",IF(AND(G26+I26-F26>450,G26+I26-F26<=540),"Bilan n°6",IF(AND(G26+I26-F26>540,G26+I26-F26<=630),"Bilan n°7",IF(AND(G26+I26-F26>630,G26+I26-F26<=720),"Bilan n°8",IF(AND(G26+I26-F26>720,G26+I26-F26<=810),"Bilan n°9",IF(AND(G26+I26-F26>810,G26+I26-F26<=900),"Bilan n°10",IF(AND(G26+I26-F26>900,G26+I26-F26<=990),"Bilan n°11",IF(AND(G26+I26-F26>990,G26+I26-F26<=1180),"Bilan n°12"))))))))))))) -> Bilan n°5 | J26: =IF(OR(H26="Bilan n°1",H26="Bilan n°2",H26="Bilan n°3",H26="Bilan n°4",H26="Bilan n°5",H26="Bilan n°6",H26="Bilan n°7",H26="Bilan n°8",H26="Bilan n°9",H26="Bilan n°10",H26="Bilan n°11",H26="Bilan n°12"),EDATE(L26,3),"-") -> 43623 | K26: 6 | L26: =IF(K26="AP","",IF(G26="-","",IF(G26="","",EDATE(G26,0)+K26+I26))) -> 43531 | O26: =IF(A26="Résiliation","-",IF(H26="Bilan n°1","Bilan n°1",IF(H26="Bilan n°2","Bilan n°1",IF(H26="Bilan n°4","Bilan n°2",IF(H26="Bilan n°3","Bilan n°2",IF(H26="Bilan n°5","Bilan n°3",IF(H26="Bilan n°6","Bilan n°3",IF(H26="Bilan n°7","Bilan n°4",IF(H26="Bilan n°9","Bilan n°5",IF(H26="Bilan n°10","Bilan n°6","-")))))))))) -> Bilan n°3 | P26: =IF(N26="","A programmer",N26+360) -> A programmer | R26: 2 | S26: =IF(R26="","A programmer",IF(R26=1,F26+360,IF(R26=2,F26+720,IF(R26=3,"Réabo à prévoir","-")))) -> 43804
C27: 340 | F27: 43311 | G27: 43515 | H27: =IF(F27="","-",IF(G27+I27-F27<=90,"Bilan n°1",IF(AND(G27+I27-F27>90,G27+I27-F27<=180),"Bilan n°2",IF(AND(G27+I27-F27>180,G27+I27-F27<=270),"Bilan n°3",IF(AND(G27+I27-F27>270,G27+I27-F27<=360),"Bilan n°4",IF(AND(G27+I27-F27>360,G27+I27-F27<=450),"Bilan n°5",IF(AND(G27+I27-F27>450,G27+I27-F27<=540),"Bilan n°6",IF(AND(G27+I27-F27>540,G27+I27-F27<=630),"Bilan n°7",IF(AND(G27+I27-F27>630,G27+I27-F27<=720),"Bilan n°8",IF(AND(G27+I27-F27>720,G27+I27-F27<=810),"Bilan n°9",IF(AND(G27+I27-F27>810,G27+I27-F27<=900),"Bilan n°10",IF(AND(G27+I27-F27>900,G27+I27-F27<=990),"Bilan n°11",IF(AND(G27+I27-F27>990,G27+I27-F27<=1180),"Bilan n°12"))))))))))))) -> Bilan n°3 | J27: =IF(OR(H27="Bilan n°1",H27="Bilan n°2",H27="Bilan n°3",H27="Bilan n°4",H27="Bilan n°5",H27="Bilan n°6",H27="Bilan n°7",H27="Bilan n°8",H27="Bilan n°9",H27="Bilan n°10",H27="Bilan n°11",H27="Bilan n°12"),EDATE(L27,3),"-") -> 43606 | K27: 2 | L27: =IF(K27="AP","",IF(G27="-","",IF(G27="","",EDATE(G27,0)+K27+I27))) -> 43517 | M27: =IF(J27="-","",EDATE(J27,3)+4) -> 43702 | O27: =IF(A27="Résiliation","-",IF(H27="Bilan n°1","Bilan n°1",IF(H27="Bilan n°2","Bilan n°1",IF(H27="Bilan n°4","Bilan n°2",IF(H27="Bilan n°3","Bilan n°2",IF(H27="Bilan n°5","Bilan n°3",IF(H27="Bilan n°6","Bilan n°3",IF(H27="Bilan n°7","Bilan n°4",IF(H27="Bilan n°9","Bilan n°5",IF(H27="Bilan n°10","Bilan n°6","-")))))))))) -> Bilan n°2 | P27: =IF(N27="","A programmer",N27+360) -> A programmer | Q27: =IF(A27="Résiliation","-",IF(H27="Bilan n°1","Bilan n°1",IF(H27="Bilan n°2","Bilan n°1",IF(H27="Bilan n°3","Bilan n°1",IF(H27="Bilan n°4","Bilan n°1",IF(H27="Bilan n°5","Bilan n°2",IF(H27="Bilan n°6","Bilan n°2",IF(H27="Bilan n°7","Bilan n°2",IF(H27="Bilan n°8","Bilan n°2",IF(H27="Bilan n°9","Bilan n°2",IF(H27="Bilan n°10","Bilan n°2","-"))))))))))) -> Bilan n°1 | S27: =IF(R27="","A programmer",IF(R27=1,F27+360,IF(R27=2,F27+720,IF(R27=3,"Réabo à prévoir","-")))) -> A programmer
C28: 347 | F28: 43025 | G28: 43511 | H28: =IF(F28="","-",IF(G28+I28-F28<=90,"Bilan n°1",IF(AND(G28+I28-F28>90,G28+I28-F28<=180),"Bilan n°2",IF(AND(G28+I28-F28>180,G28+I28-F28<=270),"Bilan n°3",IF(AND(G28+I28-F28>270,G28+I28-F28<=360),"Bilan n°4",IF(AND(G28+I28-F28>360,G28+I28-F28<=450),"Bilan n°5",IF(AND(G28+I28-F28>450,G28+I28-F28<=540),"Bilan n°6",IF(AND(G28+I28-F28>540,G28+I28-F28<=630),"Bilan n°7",IF(AND(G28+I28-F28>630,G28+I28-F28<=720),"Bilan n°8",IF(AND(G28+I28-F28>720,G28+I28-F28<=810),"Bilan n°9",IF(AND(G28+I28-F28>810,G28+I28-F28<=900),"Bilan n°10",IF(AND(G28+I28-F28>900,G28+I28-F28<=990),"Bilan n°11",IF(AND(G28+I28-F28>990,G28+I28-F28<=1180),"Bilan n°12"))))))))))))) -> Bilan n°6 | J28: =IF(OR(H28="Bilan n°1",H28="Bilan n°2",H28="Bilan n°3",H28="Bilan n°4",H28="Bilan n°5",H28="Bilan n°6",H28="Bilan n°7",H28="Bilan n°8",H28="Bilan n°9",H28="Bilan n°10",H28="Bilan n°11",H28="Bilan n°12"),EDATE(L28,3),"-") -> 43605 | K28: 5 | L28: =IF(K28="AP","",IF(G28="-","",IF(G28="","",EDATE(G28,0)+K28+I28))) -> 43516 | M28: =IF(J28="-","",EDATE(J28,3)+4) -> 43701 | O28: =IF(A28="Résiliation","-",IF(H28="Bilan n°1","Bilan n°1",IF(H28="Bilan n°2","Bilan n°1",IF(H28="Bilan n°4","Bilan n°2",IF(H28="Bilan n°3","Bilan n°2",IF(H28="Bilan n°5","Bilan n°3",IF(H28="Bilan n°6","Bilan n°3",IF(H28="Bilan n°7","Bilan n°4",IF(H28="Bilan n°9","Bilan n°5",IF(H28="Bilan n°10","Bilan n°6","-")))))))))) -> Bilan n°3 | P28: =IF(N28="","A programmer",N28+360) -> A programmer | Q28: =IF(A28="Résiliation","-",IF(H28="Bilan n°1","Bilan n°1",IF(H28="Bilan n°2","Bilan n°1",IF(H28="Bilan n°3","Bilan n°1",IF(H28="Bilan n°4","Bilan n°1",IF(H28="Bilan n°5","Bilan n°2",IF(H28="Bilan n°6","Bilan n°2",IF(H28="Bilan n°7","Bilan n°2",IF(H28="Bilan n°8","Bilan n°2",IF(H28="Bilan n°9","Bilan n°2",IF(H28="Bilan n°10","Bilan n°2","-"))))))))))) -> Bilan n°2 | S28: =IF(R28="","A programmer",IF(R28=1,F28+360,IF(R28=2,F28+720,IF(R28=3,"Réabo à prévoir","-")))) -> A programmer
C29: 354 | F29: 43318 | G29: 43502 | H29: =IF(F29="","-",IF(G29+I29-F29<=90,"Bilan n°1",IF(AND(G29+I29-F29>90,G29+I29-F29<=180),"Bilan n°2",IF(AND(G29+I29-F29>180,G29+I29-F29<=270),"Bilan n°3",IF(AND(G29+I29-F29>270,G29+I29-F29<=360),"Bilan n°4",IF(AND(G29+I29-F29>360,G29+I29-F29<=450),"Bilan n°5",IF(AND(G29+I29-F29>450,G29+I29-F29<=540),"Bilan n°6",IF(AND(G29+I29-F29>540,G29+I29-F29<=630),"Bilan n°7",IF(AND(G29+I29-F29>630,G29+I29-F29<=720),"Bilan n°8",IF(AND(G29+I29-F29>720,G29+I29-F29<=810),"Bilan n°9",IF(AND(G29+I29-F29>810,G29+I29-F29<=900),"Bilan n°10",IF(AND(G29+I29-F29>900,G29+I29-F29<=990),"Bilan n°11",IF(AND(G29+I29-F29>990,G29+I29-F29<=1180),"Bilan n°12"))))))))))))) -> Bilan n°3 | J29: =IF(OR(H29="Bilan n°1",H29="Bilan n°2",H29="Bilan n°3",H29="Bilan n°4",H29="Bilan n°5",H29="Bilan n°6",H29="Bilan n°7",H29="Bilan n°8",H29="Bilan n°9",H29="Bilan n°10",H29="Bilan n°11",H29="Bilan n°12"),EDATE(L29,3),"-") -> 43597 | K29: 6 | L29: =IF(K29="AP","",IF(G29="-","",IF(G29="","",EDATE(G29,0)+K29+I29))) -> 43508 | M29: =IF(J29="-","",EDATE(J29,3)+4) -> 43693 | O29: =IF(A29="Résiliation","-",IF(H29="Bilan n°1","Bilan n°1",IF(H29="Bilan n°2","Bilan n°1",IF(H29="Bilan n°4","Bilan n°2",IF(H29="Bilan n°3","Bilan n°2",IF(H29="Bilan n°5","Bilan n°3",IF(H29="Bilan n°6","Bilan n°3",IF(H29="Bilan n°7","Bilan n°4",IF(H29="Bilan n°9","Bilan n°5",IF(H29="Bilan n°10","Bilan n°6","-")))))))))) -> Bilan n°2 | P29: =IF(N29="","A programmer",N29+360) -> A programmer | Q29: =IF(A29="Résiliation","-",IF(H29="Bilan n°1","Bilan n°1",IF(H29="Bilan n°2","Bilan n°1",IF(H29="Bilan n°3","Bilan n°1",IF(H29="Bilan n°4","Bilan n°1",IF(H29="Bilan n°5","Bilan n°2",IF(H29="Bilan n°6","Bilan n°2",IF(H29="Bilan n°7","Bilan n°2",IF(H29="Bilan n°8","Bilan n°2",IF(H29="Bilan n°9","Bilan n°2",IF(H29="Bilan n°10","Bilan n°2","-"))))))))))) -> Bilan n°1 | S29: =IF(R29="","A programmer",IF(R29=1,F29+360,IF(R29=2,F29+720,IF(R29=3,"Réabo à prévoir","-")))) -> A programmer
C30: 357 | F30: 43452 | G30: 43474 | H30: =IF(F30="","-",IF(G30+I30-F30<=90,"Bilan n°1",IF(AND(G30+I30-F30>90,G30+I30-F30<=180),"Bilan n°2",IF(AND(G30+I30-F30>180,G30+I30-F30<=270),"Bilan n°3",IF(AND(G30+I30-F30>270,G30+I30-F30<=360),"Bilan n°4",IF(AND(G30+I30-F30>360,G30+I30-F30<=450),"Bilan n°5",IF(AND(G30+I30-F30>450,G30+I30-F30<=540),"Bilan n°6",IF(AND(G30+I30-F30>540,G30+I30-F30<=630),"Bilan n°7",IF(AND(G30+I30-F30>630,G30+I30-F30<=720),"Bilan n°8",IF(AND(G30+I30-F30>720,G30+I30-F30<=810),"Bilan n°9",IF(AND(G30+I30-F30>810,G30+I30-F30<=900),"Bilan n°10",IF(AND(G30+I30-F30>900,G30+I30-F30<=990),"Bilan n°11",IF(AND(G30+I30-F30>990,G30+I30-F30<=1180),"Bilan n°12"))))))))))))) -> Bilan n°1 | J30: =IF(OR(H30="Bilan n°1",H30="Bilan n°2",H30="Bilan n°3",H30="Bilan n°4",H30="Bilan n°5",H30="Bilan n°6",H30="Bilan n°7",H30="Bilan n°8",H30="Bilan n°9",H30="Bilan n°10",H30="Bilan n°11",H30="Bilan n°12"),EDATE(L30,3),"-") -> 43566 | K30: 2 | L30: =IF(K30="AP","",IF(G30="-","",IF(G30="","",EDATE(G30,0)+K30+I30))) -> 43476 | N30: 43558 | O30: =IF(A30="Résiliation","-",IF(H30="Bilan n°1","Bilan n°1",IF(H30="Bilan n°2","Bilan n°1",IF(H30="Bilan n°4","Bilan n°2",IF(H30="Bilan n°3","Bilan n°2",IF(H30="Bilan n°5","Bilan n°3",IF(H30="Bilan n°6","Bilan n°3",IF(H30="Bilan n°7","Bilan n°4",IF(H30="Bilan n°9","Bilan n°5",IF(H30="Bilan n°10","Bilan n°6","-")))))))))) -> Bilan n°1 | P30: =IF(N30="","A programmer",N30+360) -> 43918 | R30: 1 | S30: =IF(R30="","A programmer",IF(R30=1,F30+360,IF(R30=2,F30+720,IF(R30=3,"Réabo à prévoir","-")))) -> 43812
C31: 381 | F31: 43501 | G31: 43500 | H31: =IF(F31="","-",IF(G31+I31-F31<=90,"Bilan n°1",IF(AND(G31+I31-F31>90,G31+I31-F31<=180),"Bilan n°2",IF(AND(G31+I31-F31>180,G31+I31-F31<=270),"Bilan n°3",IF(AND(G31+I31-F31>270,G31+I31-F31<=360),"Bilan n°4",IF(AND(G31+I31-F31>360,G31+I31-F31<=450),"Bilan n°5",IF(AND(G31+I31-F31>450,G31+I31-F31<=540),"Bilan n°6",IF(AND(G31+I31-F31>540,G31+I31-F31<=630),"Bilan n°7",IF(AND(G31+I31-F31>630,G31+I31-F31<=720),"Bilan n°8",IF(AND(G31+I31-F31>720,G31+I31-F31<=810),"Bilan n°9",IF(AND(G31+I31-F31>810,G31+I31-F31<=900),"Bilan n°10",IF(AND(G31+I31-F31>900,G31+I31-F31<=990),"Bilan n°11",IF(AND(G31+I31-F31>990,G31+I31-F31<=1180),"Bilan n°12"))))))))))))) -> Bilan n°1 | J31: =IF(OR(H31="Bilan n°1",H31="Bilan n°2",H31="Bilan n°3",H31="Bilan n°4",H31="Bilan n°5",H31="Bilan n°6",H31="Bilan n°7",H31="Bilan n°8",H31="Bilan n°9",H31="Bilan n°10",H31="Bilan n°11",H31="Bilan n°12"),EDATE(L31,3),"-") -> 43592 | K31: 3 | L31: =IF(K31="AP","",IF(G31="-","",IF(G31="","",EDATE(G31,0)+K31+I31))) -> 43503 | O31: =IF(A31="Résiliation","-",IF(H31="Bilan n°1","Bilan n°1",IF(H31="Bilan n°2","Bilan n°1",IF(H31="Bilan n°4","Bilan n°2",IF(H31="Bilan n°3","Bilan n°2",IF(H31="Bilan n°5","Bilan n°3",IF(H31="Bilan n°6","Bilan n°3",IF(H31="Bilan n°7","Bilan n°4",IF(H31="Bilan n°9","Bilan n°5",IF(H31="Bilan n°10","Bilan n°6","-")))))))))) -> Bilan n°1 | P31: =IF(N31="","A programmer",N31+360) -> A programmer | S31: =IF(R31="","A programmer",IF(R31=1,F31+360,IF(R31=2,F31+720,IF(R31=3,"Réabo à prévoir","-")))) -> A programmer
B32: - | C32: 406 | F32: 43294 | G32: 43356 | H32: =IF(F32="","-",IF(G32+I32-F32<=90,"Bilan n°1",IF(AND(G32+I32-F32>90,G32+I32-F32<=180),"Bilan n°2",IF(AND(G32+I32-F32>180,G32+I32-F32<=270),"Bilan n°3",IF(AND(G32+I32-F32>270,G32+I32-F32<=360),"Bilan n°4",IF(AND(G32+I32-F32>360,G32+I32-F32<=450),"Bilan n°5",IF(AND(G32+I32-F32>450,G32+I32-F32<=540),"Bilan n°6",IF(AND(G32+I32-F32>540,G32+I32-F32<=630),"Bilan n°7",IF(AND(G32+I32-F32>630,G32+I32-F32<=720),"Bilan n°8",IF(AND(G32+I32-F32>720,G32+I32-F32<=810),"Bilan n°9",IF(AND(G32+I32-F32>810,G32+I32-F32<=900),"Bilan n°10",IF(AND(G32+I32-F32>900,G32+I32-F32<=990),"Bilan n°11",IF(AND(G32+I32-F32>990,G32+I32-F32<=1180),"Bilan n°12"))))))))))))) -> Bilan n°1 | J32: =IF(OR(H32="Bilan n°1",H32="Bilan n°2",H32="Bilan n°3",H32="Bilan n°4",H32="Bilan n°5",H32="Bilan n°6",H32="Bilan n°7",H32="Bilan n°8",H32="Bilan n°9",H32="Bilan n°10",H32="Bilan n°11",H32="Bilan n°12"),EDATE(L32,3),"-") -> 43451 | K32: 4 | L32: =IF(K32="AP","",IF(G32="-","",IF(G32="","",EDATE(G32,0)+K32+I32))) -> 43360 | M32: =IF(J32="-","",EDATE(J32,3)+4) -> 43545 | N32: 43357 | O32: =IF(A32="Résiliation","-",IF(H32="Bilan n°1","Bilan n°1",IF(H32="Bilan n°2","Bilan n°1",IF(H32="Bilan n°4","Bilan n°2",IF(H32="Bilan n°3","Bilan n°2",IF(H32="Bilan n°5","Bilan n°3",IF(H32="Bilan n°6","Bilan n°3",IF(H32="Bilan n°7","Bilan n°4",IF(H32="Bilan n°9","Bilan n°5",IF(H32="Bilan n°10","Bilan n°6","-")))))))))) -> Bilan n°1 | P32: =IF(N32="","A programmer",N32+360) -> 43717 | Q32: =IF(A32="Résiliation","-",IF(H32="Bilan n°1","Bilan n°1",IF(H32="Bilan n°2","Bilan n°1",IF(H32="Bilan n°3","Bilan n°1",IF(H32="Bilan n°4","Bilan n°1",IF(H32="Bilan n°5","Bilan n°2",IF(H32="Bilan n°6","Bilan n°2",IF(H32="Bilan n°7","Bilan n°2",IF(H32="Bilan n°8","Bilan n°2",IF(H32="Bilan n°9","Bilan n°2",IF(H32="Bilan n°10","Bilan n°2","-"))))))))))) -> Bilan n°1 | R32: 2 | S32: =IF(R32="","A programmer",IF(R32=1,F32+360,IF(R32=2,F32+720,IF(R32=3,"Réabo à prévoir","-")))) -> 44014
C33: 410 | F33: 43335 | G33: 43551 | H33: =IF(F33="","-",IF(G33+I33-F33<=90,"Bilan n°1",IF(AND(G33+I33-F33>90,G33+I33-F33<=180),"Bilan n°2",IF(AND(G33+I33-F33>180,G33+I33-F33<=270),"Bilan n°3",IF(AND(G33+I33-F33>270,G33+I33-F33<=360),"Bilan n°4",IF(AND(G33+I33-F33>360,G33+I33-F33<=450),"Bilan n°5",IF(AND(G33+I33-F33>450,G33+I33-F33<=540),"Bilan n°6",IF(AND(G33+I33-F33>540,G33+I33-F33<=630),"Bilan n°7",IF(AND(G33+I33-F33>630,G33+I33-F33<=720),"Bilan n°8",IF(AND(G33+I33-F33>720,G33+I33-F33<=810),"Bilan n°9",IF(AND(G33+I33-F33>810,G33+I33-F33<=900),"Bilan n°10",IF(AND(G33+I33-F33>900,G33+I33-F33<=990),"Bilan n°11",IF(AND(G33+I33-F33>990,G33+I33-F33<=1180),"Bilan n°12"))))))))))))) -> Bilan n°3 | J33: =IF(OR(H33="Bilan n°1",H33="Bilan n°2",H33="Bilan n°3",H33="Bilan n°4",H33="Bilan n°5",H33="Bilan n°6",H33="Bilan n°7",H33="Bilan n°8",H33="Bilan n°9",H33="Bilan n°10",H33="Bilan n°11",H33="Bilan n°12"),EDATE(L33,3),"-") -> 43645 | K33: 2 | L33: 43553 | M33: =IF(J33="-","",EDATE(J33,3)+4) -> 43741 | O33: =IF(A33="Résiliation","-",IF(H33="Bilan n°1","Bilan n°1",IF(H33="Bilan n°2","Bilan n°1",IF(H33="Bilan n°4","Bilan n°2",IF(H33="Bilan n°3","Bilan n°2",IF(H33="Bilan n°5","Bilan n°3",IF(H33="Bilan n°6","Bilan n°3",IF(H33="Bilan n°7","Bilan n°4",IF(H33="Bilan n°9","Bilan n°5",IF(H33="Bilan n°10","Bilan n°6","-")))))))))) -> Bilan n°2 | P33: =IF(N33="","A programmer",N33+360) -> A programmer | Q33: =IF(A33="Résiliation","-",IF(H33="Bilan n°1","Bilan n°1",IF(H33="Bilan n°2","Bilan n°1",IF(H33="Bilan n°3","Bilan n°1",IF(H33="Bilan n°4","Bilan n°1",IF(H33="Bilan n°5","Bilan n°2",IF(H33="Bilan n°6","Bilan n°2",IF(H33="Bilan n°7","Bilan n°2",IF(H33="Bilan n°8","Bilan n°2",IF(H33="Bilan n°9","Bilan n°2",IF(H33="Bilan n°10","Bilan n°2","-"))))))))))) -> Bilan n°1 | R33: 1 | S33: =IF(R33="","A programmer",IF(R33=1,F33+360,IF(R33=2,F33+720,IF(R33=3,"Réabo à prévoir","-")))) -> 43695
C34: 411 | F34: 42700 | G34: 43490 | H34: =IF(F34="","-",IF(G34+I34-F34<=90,"Bilan n°1",IF(AND(G34+I34-F34>90,G34+I34-F34<=180),"Bilan n°2",IF(AND(G34+I34-F34>180,G34+I34-F34<=270),"Bilan n°3",IF(AND(G34+I34-F34>270,G34+I34-F34<=360),"Bilan n°4",IF(AND(G34+I34-F34>360,G34+I34-F34<=450),"Bilan n°5",IF(AND(G34+I34-F34>450,G34+I34-F34<=540),"Bilan n°6",IF(AND(G34+I34-F34>540,G34+I34-F34<=630),"Bilan n°7",IF(AND(G34+I34-F34>630,G34+I34-F34<=720),"Bilan n°8",IF(AND(G34+I34-F34>720,G34+I34-F34<=810),"Bilan n°9",IF(AND(G34+I34-F34>810,G34+I34-F34<=900),"Bilan n°10",IF(AND(G34+I34-F34>900,G34+I34-F34<=990),"Bilan n°11",IF(AND(G34+I34-F34>990,G34+I34-F34<=1180),"Bilan n°12"))))))))))))) -> Bilan n°9 | J34: =IF(OR(H34="Bilan n°1",H34="Bilan n°2",H34="Bilan n°3",H34="Bilan n°4",H34="Bilan n°5",H34="Bilan n°6",H34="Bilan n°7",H34="Bilan n°8",H34="Bilan n°9",H34="Bilan n°10",H34="Bilan n°11",H34="Bilan n°12"),EDATE(L34,3),"-") -> 43591 | K34: 12 | L34: =IF(K34="AP","",IF(G34="-","",IF(G34="","",EDATE(G34,0)+K34+I34))) -> 43502 | M34: =IF(J34="-","",EDATE(J34,3)+4) -> 43687 | O34: =IF(A34="Résiliation","-",IF(H34="Bilan n°1","Bilan n°1",IF(H34="Bilan n°2","Bilan n°1",IF(H34="Bilan n°4","Bilan n°2",IF(H34="Bilan n°3","Bilan n°2",IF(H34="Bilan n°5","Bilan n°3",IF(H34="Bilan n°6","Bilan n°3",IF(H34="Bilan n°7","Bilan n°4",IF(H34="Bilan n°9","Bilan n°5",IF(H34="Bilan n°10","Bilan n°6","-")))))))))) -> Bilan n°5 | P34: =IF(N34="","A programmer",N34+360) -> A programmer | Q34: =IF(A34="Résiliation","-",IF(H34="Bilan n°1","Bilan n°1",IF(H34="Bilan n°2","Bilan n°1",IF(H34="Bilan n°3","Bilan n°1",IF(H34="Bilan n°4","Bilan n°1",IF(H34="Bilan n°5","Bilan n°2",IF(H34="Bilan n°6","Bilan n°2",IF(H34="Bilan n°7","Bilan n°2",IF(H34="Bilan n°8","Bilan n°2",IF(H34="Bilan n°9","Bilan n°2",IF(H34="Bilan n°10","Bilan n°2","-"))))))))))) -> Bilan n°2 | S34: =IF(R34="","A programmer",IF(R34=1,F34+360,IF(R34=2,F34+720,IF(R34=3,"Réabo à prévoir","-")))) -> A programmer
C35: 416 | F35: 43441 | G35: 43479 | H35: =IF(F35="","-",IF(G35+I35-F35<=90,"Bilan n°1",IF(AND(G35+I35-F35>90,G35+I35-F35<=180),"Bilan n°2",IF(AND(G35+I35-F35>180,G35+I35-F35<=270),"Bilan n°3",IF(AND(G35+I35-F35>270,G35+I35-F35<=360),"Bilan n°4",IF(AND(G35+I35-F35>360,G35+I35-F35<=450),"Bilan n°5",IF(AND(G35+I35-F35>450,G35+I35-F35<=540),"Bilan n°6",IF(AND(G35+I35-F35>540,G35+I35-F35<=630),"Bilan n°7",IF(AND(G35+I35-F35>630,G35+I35-F35<=720),"Bilan n°8",IF(AND(G35+I35-F35>720,G35+I35-F35<=810),"Bilan n°9",IF(AND(G35+I35-F35>810,G35+I35-F35<=900),"Bilan n°10",IF(AND(G35+I35-F35>900,G35+I35-F35<=990),"Bilan n°11",IF(AND(G35+I35-F35>990,G35+I35-F35<=1180),"Bilan n°12"))))))))))))) -> Bilan n°1 | J35: =IF(OR(H35="Bilan n°1",H35="Bilan n°2",H35="Bilan n°3",H35="Bilan n°4",H35="Bilan n°5",H35="Bilan n°6",H35="Bilan n°7",H35="Bilan n°8",H35="Bilan n°9",H35="Bilan n°10",H35="Bilan n°11",H35="Bilan n°12"),EDATE(L35,3),"-") -> 43572 | K35: 3 | L35: =IF(K35="AP","",IF(G35="-","",IF(G35="","",EDATE(G35,0)+K35+I35))) -> 43482 | M35: =IF(J35="-","",EDATE(J35,3)+4) -> 43667 | N35: 43557 | O35: =IF(A35="Résiliation","-",IF(H35="Bilan n°1","Bilan n°1",IF(H35="Bilan n°2","Bilan n°1",IF(H35="Bilan n°4","Bilan n°2",IF(H35="Bilan n°3","Bilan n°2",IF(H35="Bilan n°5","Bilan n°3",IF(H35="Bilan n°6","Bilan n°3",IF(H35="Bilan n°7","Bilan n°4",IF(H35="Bilan n°9","Bilan n°5",IF(H35="Bilan n°10","Bilan n°6","-")))))))))) -> Bilan n°1 | P35: =IF(N35="","A programmer",N35+360) -> 43917 | Q35: =IF(A35="Résiliation","-",IF(H35="Bilan n°1","Bilan n°1",IF(H35="Bilan n°2","Bilan n°1",IF(H35="Bilan n°3","Bilan n°1",IF(H35="Bilan n°4","Bilan n°1",IF(H35="Bilan n°5","Bilan n°2",IF(H35="Bilan n°6","Bilan n°2",IF(H35="Bilan n°7","Bilan n°2",IF(H35="Bilan n°8","Bilan n°2",IF(H35="Bilan n°9","Bilan n°2",IF(H35="Bilan n°10","Bilan n°2","-"))))))))))) -> Bilan n°1 | R35: 1 | S35: =IF(R35="","A programmer",IF(R35=1,F35+360,IF(R35=2,F35+720,IF(R35=3,"Réabo à prévoir","-")))) -> 43801
C36: 423 | F36: 43294 | G36: 43356 | H36: =IF(F36="","-",IF(G36+I36-F36<=90,"Bilan n°1",IF(AND(G36+I36-F36>90,G36+I36-F36<=180),"Bilan n°2",IF(AND(G36+I36-F36>180,G36+I36-F36<=270),"Bilan n°3",IF(AND(G36+I36-F36>270,G36+I36-F36<=360),"Bilan n°4",IF(AND(G36+I36-F36>360,G36+I36-F36<=450),"Bilan n°5",IF(AND(G36+I36-F36>450,G36+I36-F36<=540),"Bilan n°6",IF(AND(G36+I36-F36>540,G36+I36-F36<=630),"Bilan n°7",IF(AND(G36+I36-F36>630,G36+I36-F36<=720),"Bilan n°8",IF(AND(G36+I36-F36>720,G36+I36-F36<=810),"Bilan n°9",IF(AND(G36+I36-F36>810,G36+I36-F36<=900),"Bilan n°10",IF(AND(G36+I36-F36>900,G36+I36-F36<=990),"Bilan n°11",IF(AND(G36+I36-F36>990,G36+I36-F36<=1180),"Bilan n°12"))))))))))))) -> Bilan n°1 | J36: =IF(OR(H36="Bilan n°1",H36="Bilan n°2",H36="Bilan n°3",H36="Bilan n°4",H36="Bilan n°5",H36="Bilan n°6",H36="Bilan n°7",H36="Bilan n°8",H36="Bilan n°9",H36="Bilan n°10",H36="Bilan n°11",H36="Bilan n°12"),EDATE(L36,3),"-") -> 43453 | K36: 6 | L36: =IF(K36="AP","",IF(G36="-","",IF(G36="","",EDATE(G36,0)+K36+I36))) -> 43362 | M36: =IF(J36="-","",EDATE(J36,3)+4) -> 43547 | N36: 43362 | O36: =IF(A36="Résiliation","-",IF(H36="Bilan n°1","Bilan n°1",IF(H36="Bilan n°2","Bilan n°1",IF(H36="Bilan n°4","Bilan n°2",IF(H36="Bilan n°3","Bilan n°2",IF(H36="Bilan n°5","Bilan n°3",IF(H36="Bilan n°6","Bilan n°3",IF(H36="Bilan n°7","Bilan n°4",IF(H36="Bilan n°9","Bilan n°5",IF(H36="Bilan n°10","Bilan n°6","-")))))))))) -> Bilan n°1 | P36: =IF(N36="","A programmer",N36+360) -> 43722 | Q36: =IF(A36="Résiliation","-",IF(H36="Bilan n°1","Bilan n°1",IF(H36="Bilan n°2","Bilan n°1",IF(H36="Bilan n°3","Bilan n°1",IF(H36="Bilan n°4","Bilan n°1",IF(H36="Bilan n°5","Bilan n°2",IF(H36="Bilan n°6","Bilan n°2",IF(H36="Bilan n°7","Bilan n°2",IF(H36="Bilan n°8","Bilan n°2",IF(H36="Bilan n°9","Bilan n°2",IF(H36="Bilan n°10","Bilan n°2","-"))))))))))) -> Bilan n°1 | R36: 2 | S36: =IF(R36="","A programmer",IF(R36=1,F36+360,IF(R36=2,F36+720,IF(R36=3,"Réabo à prévoir","-")))) -> 44014
C37: 427 | F37: 42766 | G37: 43411 | H37: =IF(F37="","-",IF(G37+I37-F37<=90,"Bilan n°1",IF(AND(G37+I37-F37>90,G37+I37-F37<=180),"Bilan n°2",IF(AND(G37+I37-F37>180,G37+I37-F37<=270),"Bilan n°3",IF(AND(G37+I37-F37>270,G37+I37-F37<=360),"Bilan n°4",IF(AND(G37+I37-F37>360,G37+I37-F37<=450),"Bilan n°5",IF(AND(G37+I37-F37>450,G37+I37-F37<=540),"Bilan n°6",IF(AND(G37+I37-F37>540,G37+I37-F37<=630),"Bilan n°7",IF(AND(G37+I37-F37>630,G37+I37-F37<=720),"Bilan n°8",IF(AND(G37+I37-F37>720,G37+I37-F37<=810),"Bilan n°9",IF(AND(G37+I37-F37>810,G37+I37-F37<=900),"Bilan n°10",IF(AND(G37+I37-F37>900,G37+I37-F37<=990),"Bilan n°11",IF(AND(G37+I37-F37>990,G37+I37-F37<=1180),"Bilan n°12"))))))))))))) -> Bilan n°8 | J37: =IF(OR(H37="Bilan n°1",H37="Bilan n°2",H37="Bilan n°3",H37="Bilan n°4",H37="Bilan n°5",H37="Bilan n°6",H37="Bilan n°7",H37="Bilan n°8",H37="Bilan n°9",H37="Bilan n°10",H37="Bilan n°11",H37="Bilan n°12"),EDATE(L37,3),"-") -> 43508 | K37: 5 | L37: =IF(K37="AP","",IF(G37="-","",IF(G37="","",EDATE(G37,0)+K37+I37))) -> 43416 | M37: =IF(J37="-","",EDATE(J37,3)+4) -> 43601 | O37: =IF(A37="Résiliation","-",IF(H37="Bilan n°1","Bilan n°1",IF(H37="Bilan n°2","Bilan n°1",IF(H37="Bilan n°4","Bilan n°2",IF(H37="Bilan n°3","Bilan n°2",IF(H37="Bilan n°5","Bilan n°3",IF(H37="Bilan n°6","Bilan n°3",IF(H37="Bilan n°7","Bilan n°4",IF(H37="Bilan n°9","Bilan n°5",IF(H37="Bilan n°10","Bilan n°6","-")))))))))) -> - | P37: =IF(N37="","A programmer",N37+360) -> A programmer | Q37: =IF(A37="Résiliation","-",IF(H37="Bilan n°1","Bilan n°1",IF(H37="Bilan n°2","Bilan n°1",IF(H37="Bilan n°3","Bilan n°1",IF(H37="Bilan n°4","Bilan n°1",IF(H37="Bilan n°5","Bilan n°2",IF(H37="Bilan n°6","Bilan n°2",IF(H37="Bilan n°7","Bilan n°2",IF(H37="Bilan n°8","Bilan n°2",IF(H37="Bilan n°9","Bilan n°2",IF(H37="Bilan n°10","Bilan n°2","-"))))))))))) -> Bilan n°2 | R37: 1 | S37: =IF(R37="","A programmer",IF(R37=1,F37+360,IF(R37=2,F37+720,IF(R37=3,"Réabo à prévoir","-")))) -> 43126
C38: 438 | F38: 42810 | G38: 43545 | H38: =IF(F38="","-",IF(G38+I38-F38<=90,"Bilan n°1",IF(AND(G38+I38-F38>90,G38+I38-F38<=180),"Bilan n°2",IF(AND(G38+I38-F38>180,G38+I38-F38<=270),"Bilan n°3",IF(AND(G38+I38-F38>270,G38+I38-F38<=360),"Bilan n°4",IF(AND(G38+I38-F38>360,G38+I38-F38<=450),"Bilan n°5",IF(AND(G38+I38-F38>450,G38+I38-F38<=540),"Bilan n°6",IF(AND(G38+I38-F38>540,G38+I38-F38<=630),"Bilan n°7",IF(AND(G38+I38-F38>630,G38+I38-F38<=720),"Bilan n°8",IF(AND(G38+I38-F38>720,G38+I38-F38<=810),"Bilan n°9",IF(AND(G38+I38-F38>810,G38+I38-F38<=900),"Bilan n°10",IF(AND(G38+I38-F38>900,G38+I38-F38<=990),"Bilan n°11",IF(AND(G38+I38-F38>990,G38+I38-F38<=1180),"Bilan n°12"))))))))))))) -> Bilan n°9 | J38: =IF(OR(H38="Bilan n°1",H38="Bilan n°2",H38="Bilan n°3",H38="Bilan n°4",H38="Bilan n°5",H38="Bilan n°6",H38="Bilan n°7",H38="Bilan n°8",H38="Bilan n°9",H38="Bilan n°10",H38="Bilan n°11",H38="Bilan n°12"),EDATE(L38,3),"-") -> 43643 | K38: 6 | L38: =IF(K38="AP","",IF(G38="-","",IF(G38="","",EDATE(G38,0)+K38+I38))) -> 43551 | M38: =IF(J38="-","",EDATE(J38,3)+4) -> 43739 | N38: 43551 | O38: =IF(A38="Résiliation","-",IF(H38="Bilan n°1","Bilan n°1",IF(H38="Bilan n°2","Bilan n°1",IF(H38="Bilan n°4","Bilan n°2",IF(H38="Bilan n°3","Bilan n°2",IF(H38="Bilan n°5","Bilan n°3",IF(H38="Bilan n°6","Bilan n°3",IF(H38="Bilan n°7","Bilan n°4",IF(H38="Bilan n°9","Bilan n°5",IF(H38="Bilan n°10","Bilan n°6","-")))))))))) -> Bilan n°5 | P38: =IF(N38="","A programmer",N38+360) -> 43911 | Q38: =IF(A38="Résiliation","-",IF(H38="Bilan n°1","Bilan n°1",IF(H38="Bilan n°2","Bilan n°1",IF(H38="Bilan n°3","Bilan n°1",IF(H38="Bilan n°4","Bilan n°1",IF(H38="Bilan n°5","Bilan n°2",IF(H38="Bilan n°6","Bilan n°2",IF(H38="Bilan n°7","Bilan n°2",IF(H38="Bilan n°8","Bilan n°2",IF(H38="Bilan n°9","Bilan n°2",IF(H38="Bilan n°10","Bilan n°2","-"))))))))))) -> Bilan n°2 | R38: 1 | S38: =IF(R38="","A programmer",IF(R38=1,F38+360,IF(R38=2,F38+720,IF(R38=3,"Réabo à prévoir","-")))) -> 43170
C39: 459 | F39: 42765 | G39: 43542 | H39: =IF(F39="","-",IF(G39+I39-F39<=90,"Bilan n°1",IF(AND(G39+I39-F39>90,G39+I39-F39<=180),"Bilan n°2",IF(AND(G39+I39-F39>180,G39+I39-F39<=270),"Bilan n°3",IF(AND(G39+I39-F39>270,G39+I39-F39<=360),"Bilan n°4",IF(AND(G39+I39-F39>360,G39+I39-F39<=450),"Bilan n°5",IF(AND(G39+I39-F39>450,G39+I39-F39<=540),"Bilan n°6",IF(AND(G39+I39-F39>540,G39+I39-F39<=630),"Bilan n°7",IF(AND(G39+I39-F39>630,G39+I39-F39<=720),"Bilan n°8",IF(AND(G39+I39-F39>720,G39+I39-F39<=810),"Bilan n°9",IF(AND(G39+I39-F39>810,G39+I39-F39<=900),"Bilan n°10",IF(AND(G39+I39-F39>900,G39+I39-F39<=990),"Bilan n°11",IF(AND(G39+I39-F39>990,G39+I39-F39<=1180),"Bilan n°12"))))))))))))) -> Bilan n°9 | J39: =IF(OR(H39="Bilan n°1",H39="Bilan n°2",H39="Bilan n°3",H39="Bilan n°4",H39="Bilan n°5",H39="Bilan n°6",H39="Bilan n°7",H39="Bilan n°8",H39="Bilan n°9",H39="Bilan n°10",H39="Bilan n°11",H39="Bilan n°12"),EDATE(L39,3),"-") -> #VALUE! | K39: AP | L39: =IF(K39="AP","",IF(G39="-","",IF(G39="","",EDATE(G39,0)+K39+I39))) | M39: =IF(J39="-","",EDATE(J39,3)+4) -> #VALUE! | O39: =IF(A39="Résiliation","-",IF(H39="Bilan n°1","Bilan n°1",IF(H39="Bilan n°2","Bilan n°1",IF(H39="Bilan n°4","Bilan n°2",IF(H39="Bilan n°3","Bilan n°2",IF(H39="Bilan n°5","Bilan n°3",IF(H39="Bilan n°6","Bilan n°3",IF(H39="Bilan n°7","Bilan n°4",IF(H39="Bilan n°9","Bilan n°5",IF(H39="Bilan n°10","Bilan n°6","-")))))))))) -> Bilan n°5 | P39: =IF(N39="","A programmer",N39+360) -> A programmer | Q39: =IF(A39="Résiliation","-",IF(H39="Bilan n°1","Bilan n°1",IF(H39="Bilan n°2","Bilan n°1",IF(H39="Bilan n°3","Bilan n°1",IF(H39="Bilan n°4","Bilan n°1",IF(H39="Bilan n°5","Bilan n°2",IF(H39="Bilan n°6","Bilan n°2",IF(H39="Bilan n°7","Bilan n°2",IF(H39="Bilan n°8","Bilan n°2",IF(H39="Bilan n°9","Bilan n°2",IF(H39="Bilan n°10","Bilan n°2","-"))))))))))) -> Bilan n°2 | S39: =IF(R39="","A programmer",IF(R39=1,F39+360,IF(R39=2,F39+720,IF(R39=3,"Réabo à prévoir","-")))) -> A programmer
C40: 486 | F40: 43068 | G40: 43059 | H40: =IF(F40="","-",IF(G40+I40-F40<=90,"Bilan n°1",IF(AND(G40+I40-F40>90,G40+I40-F40<=180),"Bilan n°2",IF(AND(G40+I40-F40>180,G40+I40-F40<=270),"Bilan n°3",IF(AND(G40+I40-F40>270,G40+I40-F40<=360),"Bilan n°4",IF(AND(G40+I40-F40>360,G40+I40-F40<=450),"Bilan n°5",IF(AND(G40+I40-F40>450,G40+I40-F40<=540),"Bilan n°6",IF(AND(G40+I40-F40>540,G40+I40-F40<=630),"Bilan n°7",IF(AND(G40+I40-F40>630,G40+I40-F40<=720),"Bilan n°8",IF(AND(G40+I40-F40>720,G40+I40-F40<=810),"Bilan n°9",IF(AND(G40+I40-F40>810,G40+I40-F40<=900),"Bilan n°10",IF(AND(G40+I40-F40>900,G40+I40-F40<=990),"Bilan n°11",IF(AND(G40+I40-F40>990,G40+I40-F40<=1180),"Bilan n°12"))))))))))))) -> Bilan n°1 | J40: =IF(OR(H40="Bilan n°1",H40="Bilan n°2",H40="Bilan n°3",H40="Bilan n°4",H40="Bilan n°5",H40="Bilan n°6",H40="Bilan n°7",H40="Bilan n°8",H40="Bilan n°9",H40="Bilan n°10",H40="Bilan n°11",H40="Bilan n°12"),EDATE(L40,3),"-") -> 43158 | K40: 7 | L40: =IF(K40="AP","",IF(G40="-","",IF(G40="","",EDATE(G40,0)+K40+I40))) -> 43066 | M40: =IF(J40="-","",EDATE(J40,3)+4) -> 43251 | O40: =IF(A40="Résiliation","-",IF(H40="Bilan n°1","Bilan n°1",IF(H40="Bilan n°2","Bilan n°1",IF(H40="Bilan n°4","Bilan n°2",IF(H40="Bilan n°3","Bilan n°2",IF(H40="Bilan n°5","Bilan n°3",IF(H40="Bilan n°6","Bilan n°3",IF(H40="Bilan n°7","Bilan n°4",IF(H40="Bilan n°9","Bilan n°5",IF(H40="Bilan n°10","Bilan n°6","-")))))))))) -> Bilan n°1 | P40: =IF(N40="","A programmer",N40+360) -> A programmer | Q40: =IF(A40="Résiliation","-",IF(H40="Bilan n°1","Bilan n°1",IF(H40="Bilan n°2","Bilan n°1",IF(H40="Bilan n°3","Bilan n°1",IF(H40="Bilan n°4","Bilan n°1",IF(H40="Bilan n°5","Bilan n°2",IF(H40="Bilan n°6","Bilan n°2",IF(H40="Bilan n°7","Bilan n°2",IF(H40="Bilan n°8","Bilan n°2",IF(H40="Bilan n°9","Bilan n°2",IF(H40="Bilan n°10","Bilan n°2","-"))))))))))) -> Bilan n°1 | S40: =IF(R40="","A programmer",IF(R40=1,F40+360,IF(R40=2,F40+720,IF(R40=3,"Réabo à prévoir","-")))) -> A programmer
C41: 495 | F41: 42950 | G41: 42950 | H41: =IF(F41="","-",IF(G41+I41-F41<=90,"Bilan n°1",IF(AND(G41+I41-F41>90,G41+I41-F41<=180),"Bilan n°2",IF(AND(G41+I41-F41>180,G41+I41-F41<=270),"Bilan n°3",IF(AND(G41+I41-F41>270,G41+I41-F41<=360),"Bilan n°4",IF(AND(G41+I41-F41>360,G41+I41-F41<=450),"Bilan n°5",IF(AND(G41+I41-F41>450,G41+I41-F41<=540),"Bilan n°6",IF(AND(G41+I41-F41>540,G41+I41-F41<=630),"Bilan n°7",IF(AND(G41+I41-F41>630,G41+I41-F41<=720),"Bilan n°8",IF(AND(G41+I41-F41>720,G41+I41-F41<=810),"Bilan n°9",IF(AND(G41+I41-F41>810,G41+I41-F41<=900),"Bilan n°10",IF(AND(G41+I41-F41>900,G41+I41-F41<=990),"Bilan n°11",IF(AND(G41+I41-F41>990,G41+I41-F41<=1180),"Bilan n°12"))))))))))))) -> Bilan n°1 | J41: =IF(OR(H41="Bilan n°1",H41="Bilan n°2",H41="Bilan n°3",H41="Bilan n°4",H41="Bilan n°5",H41="Bilan n°6",H41="Bilan n°7",H41="Bilan n°8",H41="Bilan n°9",H41="Bilan n°10",H41="Bilan n°11",H41="Bilan n°12"),EDATE(L41,3),"-") -> 43050 | K41: 8 | L41: =IF(K41="AP","",IF(G41="-","",IF(G41="","",EDATE(G41,0)+K41+I41))) -> 42958 | M41: =IF(J41="-","",EDATE(J41,3)+4) -> 43146 | O41: =IF(A41="Résiliation","-",IF(H41="Bilan n°1","Bilan n°1",IF(H41="Bilan n°2","Bilan n°1",IF(H41="Bilan n°4","Bilan n°2",IF(H41="Bilan n°3","Bilan n°2",IF(H41="Bilan n°5","Bilan n°3",IF(H41="Bilan n°6","Bilan n°3",IF(H41="Bilan n°7","Bilan n°4",IF(H41="Bilan n°9","Bilan n°5",IF(H41="Bilan n°10","Bilan n°6","-")))))))))) -> Bilan n°1 | P41: =IF(N41="","A programmer",N41+360) -> A programmer | Q41: =IF(A41="Résiliation","-",IF(H41="Bilan n°1","Bilan n°1",IF(H41="Bilan n°2","Bilan n°1",IF(H41="Bilan n°3","Bilan n°1",IF(H41="Bilan n°4","Bilan n°1",IF(H41="Bilan n°5","Bilan n°2",IF(H41="Bilan n°6","Bilan n°2",IF(H41="Bilan n°7","Bilan n°2",IF(H41="Bilan n°8","Bilan n°2",IF(H41="Bilan n°9","Bilan n°2",IF(H41="Bilan n°10","Bilan n°2","-"))))))))))) -> Bilan n°1 | S41: =IF(R41="","A programmer",IF(R41=1,F41+360,IF(R41=2,F41+720,IF(R41=3,"Réabo à prévoir","-")))) -> A programmer
C42: 520 | F42: 43335 | G42: 43510 | H42: =IF(F42="","-",IF(G42+I42-F42<=90,"Bilan n°1",IF(AND(G42+I42-F42>90,G42+I42-F42<=180),"Bilan n°2",IF(AND(G42+I42-F42>180,G42+I42-F42<=270),"Bilan n°3",IF(AND(G42+I42-F42>270,G42+I42-F42<=360),"Bilan n°4",IF(AND(G42+I42-F42>360,G42+I42-F42<=450),"Bilan n°5",IF(AND(G42+I42-F42>450,G42+I42-F42<=540),"Bilan n°6",IF(AND(G42+I42-F42>540,G42+I42-F42<=630),"Bilan n°7",IF(AND(G42+I42-F42>630,G42+I42-F42<=720),"Bilan n°8",IF(AND(G42+I42-F42>720,G42+I42-F42<=810),"Bilan n°9",IF(AND(G42+I42-F42>810,G42+I42-F42<=900),"Bilan n°10",IF(AND(G42+I42-F42>900,G42+I42-F42<=990),"Bilan n°11",IF(AND(G42+I42-F42>990,G42+I42-F42<=1180),"Bilan n°12"))))))))))))) -> Bilan n°2 | J42: =IF(OR(H42="Bilan n°1",H42="Bilan n°2",H42="Bilan n°3",H42="Bilan n°4",H42="Bilan n°5",H42="Bilan n°6",H42="Bilan n°7",H42="Bilan n°8",H42="Bilan n°9",H42="Bilan n°10",H42="Bilan n°11",H42="Bilan n°12"),EDATE(L42,3),"-") -> 43612 | K42: 13 | L42: =IF(K42="AP","",IF(G42="-","",IF(G42="","",EDATE(G42,0)+K42+I42))) -> 43523 | M42: =IF(J42="-","",EDATE(J42,3)+4) -> 43708 | N42: 42461 | O42: =IF(A42="Résiliation","-",IF(H42="Bilan n°1","Bilan n°1",IF(H42="Bilan n°2","Bilan n°1",IF(H42="Bilan n°4","Bilan n°2",IF(H42="Bilan n°3","Bilan n°2",IF(H42="Bilan n°5","Bilan n°3",IF(H42="Bilan n°6","Bilan n°3",IF(H42="Bilan n°7","Bilan n°4",IF(H42="Bilan n°9","Bilan n°5",IF(H42="Bilan n°10","Bilan n°6","-")))))))))) -> Bilan n°1 | P42: =IF(N42="","A programmer",N42+360) -> 42821 | Q42: =IF(A42="Résiliation","-",IF(H42="Bilan n°1","Bilan n°1",IF(H42="Bilan n°2","Bilan n°1",IF(H42="Bilan n°3","Bilan n°1",IF(H42="Bilan n°4","Bilan n°1",IF(H42="Bilan n°5","Bilan n°2",IF(H42="Bilan n°6","Bilan n°2",IF(H42="Bilan n°7","Bilan n°2",IF(H42="Bilan n°8","Bilan n°2",IF(H42="Bilan n°9","Bilan n°2",IF(H42="Bilan n°10","Bilan n°2","-"))))))))))) -> Bilan n°1 | R42: 1 | S42: =IF(R42="","A programmer",IF(R42=1,F42+360,IF(R42=2,F42+720,IF(R42=3,"Réabo à prévoir","-")))) -> 43695
C43: 521 | F43: 43321 | G43: 43501 | H43: =IF(F43="","-",IF(G43+I43-F43<=90,"Bilan n°1",IF(AND(G43+I43-F43>90,G43+I43-F43<=180),"Bilan n°2",IF(AND(G43+I43-F43>180,G43+I43-F43<=270),"Bilan n°3",IF(AND(G43+I43-F43>270,G43+I43-F43<=360),"Bilan n°4",IF(AND(G43+I43-F43>360,G43+I43-F43<=450),"Bilan n°5",IF(AND(G43+I43-F43>450,G43+I43-F43<=540),"Bilan n°6",IF(AND(G43+I43-F43>540,G43+I43-F43<=630),"Bilan n°7",IF(AND(G43+I43-F43>630,G43+I43-F43<=720),"Bilan n°8",IF(AND(G43+I43-F43>720,G43+I43-F43<=810),"Bilan n°9",IF(AND(G43+I43-F43>810,G43+I43-F43<=900),"Bilan n°10",IF(AND(G43+I43-F43>900,G43+I43-F43<=990),"Bilan n°11",IF(AND(G43+I43-F43>990,G43+I43-F43<=1180),"Bilan n°12"))))))))))))) -> Bilan n°2 | J43: =IF(OR(H43="Bilan n°1",H43="Bilan n°2",H43="Bilan n°3",H43="Bilan n°4",H43="Bilan n°5",H43="Bilan n°6",H43="Bilan n°7",H43="Bilan n°8",H43="Bilan n°9",H43="Bilan n°10",H43="Bilan n°11",H43="Bilan n°12"),EDATE(L43,3),"-") -> 43594 | K43: 4 | L43: =IF(K43="AP","",IF(G43="-","",IF(G43="","",EDATE(G43,0)+K43+I43))) -> 43505 | M43: =IF(J43="-","",EDATE(J43,3)+4) -> 43690 | O43: =IF(A43="Résiliation","-",IF(H43="Bilan n°1","Bilan n°1",IF(H43="Bilan n°2","Bilan n°1",IF(H43="Bilan n°4","Bilan n°2",IF(H43="Bilan n°3","Bilan n°2",IF(H43="Bilan n°5","Bilan n°3",IF(H43="Bilan n°6","Bilan n°3",IF(H43="Bilan n°7","Bilan n°4",IF(H43="Bilan n°9","Bilan n°5",IF(H43="Bilan n°10","Bilan n°6","-")))))))))) -> Bilan n°1 | P43: =IF(N43="","A programmer",N43+360) -> A programmer | Q43: =IF(A43="Résiliation","-",IF(H43="Bilan n°1","Bilan n°1",IF(H43="Bilan n°2","Bilan n°1",IF(H43="Bilan n°3","Bilan n°1",IF(H43="Bilan n°4","Bilan n°1",IF(H43="Bilan n°5","Bilan n°2",IF(H43="Bilan n°6","Bilan n°2",IF(H43="Bilan n°7","Bilan n°2",IF(H43="Bilan n°8","Bilan n°2",IF(H43="Bilan n°9","Bilan n°2",IF(H43="Bilan n°10","Bilan n°2","-"))))))))))) -> Bilan n°1 | R43: 1 | S43: =IF(R43="","A programmer",IF(R43=1,F43+360,IF(R43=2,F43+720,IF(R43=3,"Réabo à prévoir","-")))) -> 43681
C44: 529 | F44: 43298 | G44: 43551 | H44: =IF(F44="","-",IF(G44+I44-F44<=90,"Bilan n°1",IF(AND(G44+I44-F44>90,G44+I44-F44<=180),"Bilan n°2",IF(AND(G44+I44-F44>180,G44+I44-F44<=270),"Bilan n°3",IF(AND(G44+I44-F44>270,G44+I44-F44<=360),"Bilan n°4",IF(AND(G44+I44-F44>360,G44+I44-F44<=450),"Bilan n°5",IF(AND(G44+I44-F44>450,G44+I44-F44<=540),"Bilan n°6",IF(AND(G44+I44-F44>540,G44+I44-F44<=630),"Bilan n°7",IF(AND(G44+I44-F44>630,G44+I44-F44<=720),"Bilan n°8",IF(AND(G44+I44-F44>720,G44+I44-F44<=810),"Bilan n°9",IF(AND(G44+I44-F44>810,G44+I44-F44<=900),"Bilan n°10",IF(AND(G44+I44-F44>900,G44+I44-F44<=990),"Bilan n°11",IF(AND(G44+I44-F44>990,G44+I44-F44<=1180),"Bilan n°12"))))))))))))) -> Bilan n°3 | J44: =IF(OR(H44="Bilan n°1",H44="Bilan n°2",H44="Bilan n°3",H44="Bilan n°4",H44="Bilan n°5",H44="Bilan n°6",H44="Bilan n°7",H44="Bilan n°8",H44="Bilan n°9",H44="Bilan n°10",H44="Bilan n°11",H44="Bilan n°12"),EDATE(L44,3),"-") -> 43644 | K44: 1 | L44: =IF(K44="AP","",IF(G44="-","",IF(G44="","",EDATE(G44,0)+K44+I44))) -> 43552 | M44: =IF(J44="-","",EDATE(J44,3)+4) -> 43740 | N44: 42443 | O44: =IF(A44="Résiliation","-",IF(H44="Bilan n°1","Bilan n°1",IF(H44="Bilan n°2","Bilan n°1",IF(H44="Bilan n°4","Bilan n°2",IF(H44="Bilan n°3","Bilan n°2",IF(H44="Bilan n°5","Bilan n°3",IF(H44="Bilan n°6","Bilan n°3",IF(H44="Bilan n°7","Bilan n°4",IF(H44="Bilan n°9","Bilan n°5",IF(H44="Bilan n°10","Bilan n°6","-")))))))))) -> Bilan n°2 | P44: =IF(N44="","A programmer",N44+360) -> 42803 | Q44: =IF(A44="Résiliation","-",IF(H44="Bilan n°1","Bilan n°1",IF(H44="Bilan n°2","Bilan n°1",IF(H44="Bilan n°3","Bilan n°1",IF(H44="Bilan n°4","Bilan n°1",IF(H44="Bilan n°5","Bilan n°2",IF(H44="Bilan n°6","Bilan n°2",IF(H44="Bilan n°7","Bilan n°2",IF(H44="Bilan n°8","Bilan n°2",IF(H44="Bilan n°9","Bilan n°2",IF(H44="Bilan n°10","Bilan n°2","-"))))))))))) -> Bilan n°1 | S44: =IF(R44="","A programmer",IF(R44=1,F44+360,IF(R44=2,F44+720,IF(R44=3,"Réabo à prévoir","-")))) -> A programmer
C45: 532 | F45: 42987 | G45: 43255 | H45: =IF(F45="","-",IF(G45+I45-F45<=90,"Bilan n°1",IF(AND(G45+I45-F45>90,G45+I45-F45<=180),"Bilan n°2",IF(AND(G45+I45-F45>180,G45+I45-F45<=270),"Bilan n°3",IF(AND(G45+I45-F45>270,G45+I45-F45<=360),"Bilan n°4",IF(AND(G45+I45-F45>360,G45+I45-F45<=450),"Bilan n°5",IF(AND(G45+I45-F45>450,G45+I45-F45<=540),"Bilan n°6",IF(AND(G45+I45-F45>540,G45+I45-F45<=630),"Bilan n°7",IF(AND(G45+I45-F45>630,G45+I45-F45<=720),"Bilan n°8",IF(AND(G45+I45-F45>720,G45+I45-F45<=810),"Bilan n°9",IF(AND(G45+I45-F45>810,G45+I45-F45<=900),"Bilan n°10",IF(AND(G45+I45-F45>900,G45+I45-F45<=990),"Bilan n°11",IF(AND(G45+I45-F45>990,G45+I45-F45<=1180),"Bilan n°12"))))))))))))) -> Bilan n°3 | J45: =IF(OR(H45="Bilan n°1",H45="Bilan n°2",H45="Bilan n°3",H45="Bilan n°4",H45="Bilan n°5",H45="Bilan n°6",H45="Bilan n°7",H45="Bilan n°8",H45="Bilan n°9",H45="Bilan n°10",H45="Bilan n°11",H45="Bilan n°12"),EDATE(L45,3),"-") -> 43354 | K45: 7 | L45: =IF(K45="AP","",IF(G45="-","",IF(G45="","",EDATE(G45,0)+K45+I45))) -> 43262 | M45: =IF(J45="-","",EDATE(J45,3)+4) -> 43449 | O45: =IF(A45="Résiliation","-",IF(H45="Bilan n°1","Bilan n°1",IF(H45="Bilan n°2","Bilan n°1",IF(H45="Bilan n°4","Bilan n°2",IF(H45="Bilan n°3","Bilan n°2",IF(H45="Bilan n°5","Bilan n°3",IF(H45="Bilan n°6","Bilan n°3",IF(H45="Bilan n°7","Bilan n°4",IF(H45="Bilan n°9","Bilan n°5",IF(H45="Bilan n°10","Bilan n°6","-")))))))))) -> Bilan n°2 | P45: =IF(N45="","A programmer",N45+360) -> A programmer | Q45: =IF(A45="Résiliation","-",IF(H45="Bilan n°1","Bilan n°1",IF(H45="Bilan n°2","Bilan n°1",IF(H45="Bilan n°3","Bilan n°1",IF(H45="Bilan n°4","Bilan n°1",IF(H45="Bilan n°5","Bilan n°2",IF(H45="Bilan n°6","Bilan n°2",IF(H45="Bilan n°7","Bilan n°2",IF(H45="Bilan n°8","Bilan n°2",IF(H45="Bilan n°9","Bilan n°2",IF(H45="Bilan n°10","Bilan n°2","-"))))))))))) -> Bilan n°1 | S45: =IF(R45="","A programmer",IF(R45=1,F45+360,IF(R45=2,F45+720,IF(R45=3,"Réabo à prévoir","-")))) -> A programmer
C46: 547 | F46: 43032 | G46: 43216 | H46: =IF(F46="","-",IF(G46+I46-F46<=90,"Bilan n°1",IF(AND(G46+I46-F46>90,G46+I46-F46<=180),"Bilan n°2",IF(AND(G46+I46-F46>180,G46+I46-F46<=270),"Bilan n°3",IF(AND(G46+I46-F46>270,G46+I46-F46<=360),"Bilan n°4",IF(AND(G46+I46-F46>360,G46+I46-F46<=450),"Bilan n°5",IF(AND(G46+I46-F46>450,G46+I46-F46<=540),"Bilan n°6",IF(AND(G46+I46-F46>540,G46+I46-F46<=630),"Bilan n°7",IF(AND(G46+I46-F46>630,G46+I46-F46<=720),"Bilan n°8",IF(AND(G46+I46-F46>720,G46+I46-F46<=810),"Bilan n°9",IF(AND(G46+I46-F46>810,G46+I46-F46<=900),"Bilan n°10",IF(AND(G46+I46-F46>900,G46+I46-F46<=990),"Bilan n°11",IF(AND(G46+I46-F46>990,G46+I46-F46<=1180),"Bilan n°12"))))))))))))) -> Bilan n°3 | J46: =IF(OR(H46="Bilan n°1",H46="Bilan n°2",H46="Bilan n°3",H46="Bilan n°4",H46="Bilan n°5",H46="Bilan n°6",H46="Bilan n°7",H46="Bilan n°8",H46="Bilan n°9",H46="Bilan n°10",H46="Bilan n°11",H46="Bilan n°12"),EDATE(L46,3),"-") -> 43315 | K46: 7 | L46: =IF(K46="AP","",IF(G46="-","",IF(G46="","",EDATE(G46,0)+K46+I46))) -> 43223 | M46: =IF(J46="-","",EDATE(J46,3)+4) -> 43411 | N46: 43550 | O46: =IF(A46="Résiliation","-",IF(H46="Bilan n°1","Bilan n°1",IF(H46="Bilan n°2","Bilan n°1",IF(H46="Bilan n°4","Bilan n°2",IF(H46="Bilan n°3","Bilan n°2",IF(H46="Bilan n°5","Bilan n°3",IF(H46="Bilan n°6","Bilan n°3",IF(H46="Bilan n°7","Bilan n°4",IF(H46="Bilan n°9","Bilan n°5",IF(H46="Bilan n°10","Bilan n°6","-")))))))))) -> Bilan n°2 | P46: =IF(N46="","A programmer",N46+360) -> 43910 | Q46: =IF(A46="Résiliation","-",IF(H46="Bilan n°1","Bilan n°1",IF(H46="Bilan n°2","Bilan n°1",IF(H46="Bilan n°3","Bilan n°1",IF(H46="Bilan n°4","Bilan n°1",IF(H46="Bilan n°5","Bilan n°2",IF(H46="Bilan n°6","Bilan n°2",IF(H46="Bilan n°7","Bilan n°2",IF(H46="Bilan n°8","Bilan n°2",IF(H46="Bilan n°9","Bilan n°2",IF(H46="Bilan n°10","Bilan n°2","-"))))))))))) -> Bilan n°1 | S46: =IF(R46="","A programmer",IF(R46=1,F46+360,IF(R46=2,F46+720,IF(R46=3,"Réabo à prévoir","-")))) -> A programmer
C47: 585 | F47: 43402 | G47: 43495 | H47: =IF(F47="","-",IF(G47+I47-F47<=90,"Bilan n°1",IF(AND(G47+I47-F47>90,G47+I47-F47<=180),"Bilan n°2",IF(AND(G47+I47-F47>180,G47+I47-F47<=270),"Bilan n°3",IF(AND(G47+I47-F47>270,G47+I47-F47<=360),"Bilan n°4",IF(AND(G47+I47-F47>360,G47+I47-F47<=450),"Bilan n°5",IF(AND(G47+I47-F47>450,G47+I47-F47<=540),"Bilan n°6",IF(AND(G47+I47-F47>540,G47+I47-F47<=630),"Bilan n°7",IF(AND(G47+I47-F47>630,G47+I47-F47<=720),"Bilan n°8",IF(AND(G47+I47-F47>720,G47+I47-F47<=810),"Bilan n°9",IF(AND(G47+I47-F47>810,G47+I47-F47<=900),"Bilan n°10",IF(AND(G47+I47-F47>900,G47+I47-F47<=990),"Bilan n°11",IF(AND(G47+I47-F47>990,G47+I47-F47<=1180),"Bilan n°12"))))))))))))) -> Bilan n°2 | J47: =IF(OR(H47="Bilan n°1",H47="Bilan n°2",H47="Bilan n°3",H47="Bilan n°4",H47="Bilan n°5",H47="Bilan n°6",H47="Bilan n°7",H47="Bilan n°8",H47="Bilan n°9",H47="Bilan n°10",H47="Bilan n°11",H47="Bilan n°12"),EDATE(L47,3),"-") -> 43586 | K47: 2 | L47: =IF(K47="AP","",IF(G47="-","",IF(G47="","",EDATE(G47,0)+K47+I47))) -> 43497 | M47: =IF(J47="-","",EDATE(J47,3)+4) -> 43682 | O47: =IF(A47="Résiliation","-",IF(H47="Bilan n°1","Bilan n°1",IF(H47="Bilan n°2","Bilan n°1",IF(H47="Bilan n°4","Bilan n°2",IF(H47="Bilan n°3","Bilan n°2",IF(H47="Bilan n°5","Bilan n°3",IF(H47="Bilan n°6","Bilan n°3",IF(H47="Bilan n°7","Bilan n°4",IF(H47="Bilan n°9","Bilan n°5",IF(H47="Bilan n°10","Bilan n°6","-")))))))))) -> Bilan n°1 | P47: =IF(N47="","A programmer",N47+360) -> A programmer | Q47: =IF(A47="Résiliation","-",IF(H47="Bilan n°1","Bilan n°1",IF(H47="Bilan n°2","Bilan n°1",IF(H47="Bilan n°3","Bilan n°1",IF(H47="Bilan n°4","Bilan n°1",IF(H47="Bilan n°5","Bilan n°2",IF(H47="Bilan n°6","Bilan n°2",IF(H47="Bilan n°7","Bilan n°2",IF(H47="Bilan n°8","Bilan n°2",IF(H47="Bilan n°9","Bilan n°2",IF(H47="Bilan n°10","Bilan n°2","-"))))))))))) -> Bilan n°1 | S47: =IF(R47="","A programmer",IF(R47=1,F47+360,IF(R47=2,F47+720,IF(R47=3,"Réabo à prévoir","-")))) -> A programmer
C48: 590 | F48: 43332 | G48: 43540 | H48: =IF(F48="","-",IF(G48+I48-F48<=90,"Bilan n°1",IF(AND(G48+I48-F48>90,G48+I48-F48<=180),"Bilan n°2",IF(AND(G48+I48-F48>180,G48+I48-F48<=270),"Bilan n°3",IF(AND(G48+I48-F48>270,G48+I48-F48<=360),"Bilan n°4",IF(AND(G48+I48-F48>360,G48+I48-F48<=450),"Bilan n°5",IF(AND(G48+I48-F48>450,G48+I48-F48<=540),"Bilan n°6",IF(AND(G48+I48-F48>540,G48+I48-F48<=630),"Bilan n°7",IF(AND(G48+I48-F48>630,G48+I48-F48<=720),"Bilan n°8",IF(AND(G48+I48-F48>720,G48+I48-F48<=810),"Bilan n°9",IF(AND(G48+I48-F48>810,G48+I48-F48<=900),"Bilan n°10",IF(AND(G48+I48-F48>900,G48+I48-F48<=990),"Bilan n°11",IF(AND(G48+I48-F48>990,G48+I48-F48<=1180),"Bilan n°12"))))))))))))) -> Bilan n°3 | J48: =IF(OR(H48="Bilan n°1",H48="Bilan n°2",H48="Bilan n°3",H48="Bilan n°4",H48="Bilan n°5",H48="Bilan n°6",H48="Bilan n°7",H48="Bilan n°8",H48="Bilan n°9",H48="Bilan n°10",H48="Bilan n°11",H48="Bilan n°12"),EDATE(L48,3),"-") -> 43638 | K48: 6 | L48: =IF(K48="AP","",IF(G48="-","",IF(G48="","",EDATE(G48,0)+K48+I48))) -> 43546 | M48: =IF(J48="-","",EDATE(J48,3)+4) -> 43734 | O48: =IF(A48="Résiliation","-",IF(H48="Bilan n°1","Bilan n°1",IF(H48="Bilan n°2","Bilan n°1",IF(H48="Bilan n°4","Bilan n°2",IF(H48="Bilan n°3","Bilan n°2",IF(H48="Bilan n°5","Bilan n°3",IF(H48="Bilan n°6","Bilan n°3",IF(H48="Bilan n°7","Bilan n°4",IF(H48="Bilan n°9","Bilan n°5",IF(H48="Bilan n°10","Bilan n°6","-")))))))))) -> Bilan n°2 | P48: =IF(N48="","A programmer",N48+360) -> A programmer | Q48: =IF(A48="Résiliation","-",IF(H48="Bilan n°1","Bilan n°1",IF(H48="Bilan n°2","Bilan n°1",IF(H48="Bilan n°3","Bilan n°1",IF(H48="Bilan n°4","Bilan n°1",IF(H48="Bilan n°5","Bilan n°2",IF(H48="Bilan n°6","Bilan n°2",IF(H48="Bilan n°7","Bilan n°2",IF(H48="Bilan n°8","Bilan n°2",IF(H48="Bilan n°9","Bilan n°2",IF(H48="Bilan n°10","Bilan n°2","-"))))))))))) -> Bilan n°1 | S48: =IF(R48="","A programmer",IF(R48=1,F48+360,IF(R48=2,F48+720,IF(R48=3,"Réabo à prévoir","-")))) -> A programmer
C49: 595 | F49: 43189 | G49: 43237 | H49: =IF(F49="","-",IF(G49+I49-F49<=90,"Bilan n°1",IF(AND(G49+I49-F49>90,G49+I49-F49<=180),"Bilan n°2",IF(AND(G49+I49-F49>180,G49+I49-F49<=270),"Bilan n°3",IF(AND(G49+I49-F49>270,G49+I49-F49<=360),"Bilan n°4",IF(AND(G49+I49-F49>360,G49+I49-F49<=450),"Bilan n°5",IF(AND(G49+I49-F49>450,G49+I49-F49<=540),"Bilan n°6",IF(AND(G49+I49-F49>540,G49+I49-F49<=630),"Bilan n°7",IF(AND(G49+I49-F49>630,G49+I49-F49<=720),"Bilan n°8",IF(AND(G49+I49-F49>720,G49+I49-F49<=810),"Bilan n°9",IF(AND(G49+I49-F49>810,G49+I49-F49<=900),"Bilan n°10",IF(AND(G49+I49-F49>900,G49+I49-F49<=990),"Bilan n°11",IF(AND(G49+I49-F49>990,G49+I49-F49<=1180),"Bilan n°12"))))))))))))) -> Bilan n°1 | J49: =IF(OR(H49="Bilan n°1",H49="Bilan n°2",H49="Bilan n°3",H49="Bilan n°4",H49="Bilan n°5",H49="Bilan n°6",H49="Bilan n°7",H49="Bilan n°8",H49="Bilan n°9",H49="Bilan n°10",H49="Bilan n°11",H49="Bilan n°12"),EDATE(L49,3),"-") -> 43333 | K49: 4 | L49: =IF(K49="AP","",IF(G49="-","",IF(G49="","",EDATE(G49,0)+K49+I49))) -> 43241 | M49: =IF(J49="-","",EDATE(J49,3)+4) -> 43429 | N49: 42418 | O49: =IF(A49="Résiliation","-",IF(H49="Bilan n°1","Bilan n°1",IF(H49="Bilan n°2","Bilan n°1",IF(H49="Bilan n°4","Bilan n°2",IF(H49="Bilan n°3","Bilan n°2",IF(H49="Bilan n°5","Bilan n°3",IF(H49="Bilan n°6","Bilan n°3",IF(H49="Bilan n°7","Bilan n°4",IF(H49="Bilan n°9","Bilan n°5",IF(H49="Bilan n°10","Bilan n°6","-")))))))))) -> Bilan n°1 | P49: =IF(N49="","A programmer",N49+360) -> 42778 | Q49: =IF(A49="Résiliation","-",IF(H49="Bilan n°1","Bilan n°1",IF(H49="Bilan n°2","Bilan n°1",IF(H49="Bilan n°3","Bilan n°1",IF(H49="Bilan n°4","Bilan n°1",IF(H49="Bilan n°5","Bilan n°2",IF(H49="Bilan n°6","Bilan n°2",IF(H49="Bilan n°7","Bilan n°2",IF(H49="Bilan n°8","Bilan n°2",IF(H49="Bilan n°9","Bilan n°2",IF(H49="Bilan n°10","Bilan n°2","-"))))))))))) -> Bilan n°1 | R49: 3 | S49: =IF(R49="","A programmer",IF(R49=1,F49+360,IF(R49=2,F49+720,IF(R49=3,"Réabo à prévoir","-")))) -> Réabo à prévoir
C50: 600 | F50: 43370 | G50: 43500 | H50: =IF(F50="","-",IF(G50+I50-F50<=90,"Bilan n°1",IF(AND(G50+I50-F50>90,G50+I50-F50<=180),"Bilan n°2",IF(AND(G50+I50-F50>180,G50+I50-F50<=270),"Bilan n°3",IF(AND(G50+I50-F50>270,G50+I50-F50<=360),"Bilan n°4",IF(AND(G50+I50-F50>360,G50+I50-F50<=450),"Bilan n°5",IF(AND(G50+I50-F50>450,G50+I50-F50<=540),"Bilan n°6",IF(AND(G50+I50-F50>540,G50+I50-F50<=630),"Bilan n°7",IF(AND(G50+I50-F50>630,G50+I50-F50<=720),"Bilan n°8",IF(AND(G50+I50-F50>720,G50+I50-F50<=810),"Bilan n°9",IF(AND(G50+I50-F50>810,G50+I50-F50<=900),"Bilan n°10",IF(AND(G50+I50-F50>900,G50+I50-F50<=990),"Bilan n°11",IF(AND(G50+I50-F50>990,G50+I50-F50<=1180),"Bilan n°12"))))))))))))) -> Bilan n°2 | J50: =IF(OR(H50="Bilan n°1",H50="Bilan n°2",H50="Bilan n°3",H50="Bilan n°4",H50="Bilan n°5",H50="Bilan n°6",H50="Bilan n°7",H50="Bilan n°8",H50="Bilan n°9",H50="Bilan n°10",H50="Bilan n°11",H50="Bilan n°12"),EDATE(L50,3),"-") -> 43591 | K50: 2 | L50: =IF(K50="AP","",IF(G50="-","",IF(G50="","",EDATE(G50,0)+K50+I50))) -> 43502 | M50: =IF(J50="-","",EDATE(J50,3)+4) -> 43687 | N50: 43382 | O50: =IF(A50="Résiliation","-",IF(H50="Bilan n°1","Bilan n°1",IF(H50="Bilan n°2","Bilan n°1",IF(H50="Bilan n°4","Bilan n°2",IF(H50="Bilan n°3","Bilan n°2",IF(H50="Bilan n°5","Bilan n°3",IF(H50="Bilan n°6","Bilan n°3",IF(H50="Bilan n°7","Bilan n°4",IF(H50="Bilan n°9","Bilan n°5",IF(H50="Bilan n°10","Bilan n°6","-")))))))))) -> Bilan n°1 | P50: =IF(N50="","A programmer",N50+360) -> 43742 | Q50: =IF(A50="Résiliation","-",IF(H50="Bilan n°1","Bilan n°1",IF(H50="Bilan n°2","Bilan n°1",IF(H50="Bilan n°3","Bilan n°1",IF(H50="Bilan n°4","Bilan n°1",IF(H50="Bilan n°5","Bilan n°2",IF(H50="Bilan n°6","Bilan n°2",IF(H50="Bilan n°7","Bilan n°2",IF(H50="Bilan n°8","Bilan n°2",IF(H50="Bilan n°9","Bilan n°2",IF(H50="Bilan n°10","Bilan n°2","-"))))))))))) -> Bilan n°1 | R50: 1 | S50: =IF(R50="","A programmer",IF(R50=1,F50+360,IF(R50=2,F50+720,IF(R50=3,"Réabo à prévoir","-")))) -> 43730
C51: 627 | F51: 42755 | G51: 43453 | H51: =IF(F51="","-",IF(G51+I51-F51<=90,"Bilan n°1",IF(AND(G51+I51-F51>90,G51+I51-F51<=180),"Bilan n°2",IF(AND(G51+I51-F51>180,G51+I51-F51<=270),"Bilan n°3",IF(AND(G51+I51-F51>270,G51+I51-F51<=360),"Bilan n°4",IF(AND(G51+I51-F51>360,G51+I51-F51<=450),"Bilan n°5",IF(AND(G51+I51-F51>450,G51+I51-F51<=540),"Bilan n°6",IF(AND(G51+I51-F51>540,G51+I51-F51<=630),"Bilan n°7",IF(AND(G51+I51-F51>630,G51+I51-F51<=720),"Bilan n°8",IF(AND(G51+I51-F51>720,G51+I51-F51<=810),"Bilan n°9",IF(AND(G51+I51-F51>810,G51+I51-F51<=900),"Bilan n°10",IF(AND(G51+I51-F51>900,G51+I51-F51<=990),"Bilan n°11",IF(AND(G51+I51-F51>990,G51+I51-F51<=1180),"Bilan n°12"))))))))))))) -> Bilan n°8 | J51: =IF(OR(H51="Bilan n°1",H51="Bilan n°2",H51="Bilan n°3",H51="Bilan n°4",H51="Bilan n°5",H51="Bilan n°6",H51="Bilan n°7",H51="Bilan n°8",H51="Bilan n°9",H51="Bilan n°10",H51="Bilan n°11",H51="Bilan n°12"),EDATE(L51,3),"-") -> 43571 | K51: 28 | L51: =IF(K51="AP","",IF(G51="-","",IF(G51="","",EDATE(G51,0)+K51+I51))) -> 43481 | M51: =IF(J51="-","",EDATE(J51,3)+4) -> 43666 | N51: 43357 | O51: =IF(A51="Résiliation","-",IF(H51="Bilan n°1","Bilan n°1",IF(H51="Bilan n°2","Bilan n°1",IF(H51="Bilan n°4","Bilan n°2",IF(H51="Bilan n°3","Bilan n°2",IF(H51="Bilan n°5","Bilan n°3",IF(H51="Bilan n°6","Bilan n°3",IF(H51="Bilan n°7","Bilan n°4",IF(H51="Bilan n°9","Bilan n°5",IF(H51="Bilan n°10","Bilan n°6","-")))))))))) -> - | P51: =IF(N51="","A programmer",N51+360) -> 43717 | Q51: =IF(A51="Résiliation","-",IF(H51="Bilan n°1","Bilan n°1",IF(H51="Bilan n°2","Bilan n°1",IF(H51="Bilan n°3","Bilan n°1",IF(H51="Bilan n°4","Bilan n°1",IF(H51="Bilan n°5","Bilan n°2",IF(H51="Bilan n°6","Bilan n°2",IF(H51="Bilan n°7","Bilan n°2",IF(H51="Bilan n°8","Bilan n°2",IF(H51="Bilan n°9","Bilan n°2",IF(H51="Bilan n°10","Bilan n°2","-"))))))))))) -> Bilan n°2 | R51: 1 | S51: =IF(R51="","A programmer",IF(R51=1,F51+360,IF(R51=2,F51+720,IF(R51=3,"Réabo à prévoir","-")))) -> 43115
C52: 633 | F52: 43320 | G52: 42884 | H52: =IF(F52="","-",IF(G52+I52-F52<=90,"Bilan n°1",IF(AND(G52+I52-F52>90,G52+I52-F52<=180),"Bilan n°2",IF(AND(G52+I52-F52>180,G52+I52-F52<=270),"Bilan n°3",IF(AND(G52+I52-F52>270,G52+I52-F52<=360),"Bilan n°4",IF(AND(G52+I52-F52>360,G52+I52-F52<=450),"Bilan n°5",IF(AND(G52+I52-F52>450,G52+I52-F52<=540),"Bilan n°6",IF(AND(G52+I52-F52>540,G52+I52-F52<=630),"Bilan n°7",IF(AND(G52+I52-F52>630,G52+I52-F52<=720),"Bilan n°8",IF(AND(G52+I52-F52>720,G52+I52-F52<=810),"Bilan n°9",IF(AND(G52+I52-F52>810,G52+I52-F52<=900),"Bilan n°10",IF(AND(G52+I52-F52>900,G52+I52-F52<=990),"Bilan n°11",IF(AND(G52+I52-F52>990,G52+I52-F52<=1180),"Bilan n°12"))))))))))))) -> Bilan n°1 | J52: =IF(OR(H52="Bilan n°1",H52="Bilan n°2",H52="Bilan n°3",H52="Bilan n°4",H52="Bilan n°5",H52="Bilan n°6",H52="Bilan n°7",H52="Bilan n°8",H52="Bilan n°9",H52="Bilan n°10",H52="Bilan n°11",H52="Bilan n°12"),EDATE(L52,3),"-") -> 42980 | K52: 4 | L52: =IF(K52="AP","",IF(G52="-","",IF(G52="","",EDATE(G52,0)+K52+I52))) -> 42888 | M52: =IF(J52="-","",EDATE(J52,3)+4) -> 43075 | O52: =IF(A52="Résiliation","-",IF(H52="Bilan n°1","Bilan n°1",IF(H52="Bilan n°2","Bilan n°1",IF(H52="Bilan n°4","Bilan n°2",IF(H52="Bilan n°3","Bilan n°2",IF(H52="Bilan n°5","Bilan n°3",IF(H52="Bilan n°6","Bilan n°3",IF(H52="Bilan n°7","Bilan n°4",IF(H52="Bilan n°9","Bilan n°5",IF(H52="Bilan n°10","Bilan n°6","-")))))))))) -> Bilan n°1 | P52: =IF(N52="","A programmer",N52+360) -> A programmer | Q52: =IF(A52="Résiliation","-",IF(H52="Bilan n°1","Bilan n°1",IF(H52="Bilan n°2","Bilan n°1",IF(H52="Bilan n°3","Bilan n°1",IF(H52="Bilan n°4","Bilan n°1",IF(H52="Bilan n°5","Bilan n°2",IF(H52="Bilan n°6","Bilan n°2",IF(H52="Bilan n°7","Bilan n°2",IF(H52="Bilan n°8","Bilan n°2",IF(H52="Bilan n°9","Bilan n°2",IF(H52="Bilan n°10","Bilan n°2","-"))))))))))) -> Bilan n°1 | S52: =IF(R52="","A programmer",IF(R52=1,F52+360,IF(R52=2,F52+720,IF(R52=3,"Réabo à prévoir","-")))) -> A programmer
C53: 655 | F53: 43416 | G53: 43403 | H53: =IF(F53="","-",IF(G53+I53-F53<=90,"Bilan n°1",IF(AND(G53+I53-F53>90,G53+I53-F53<=180),"Bilan n°2",IF(AND(G53+I53-F53>180,G53+I53-F53<=270),"Bilan n°3",IF(AND(G53+I53-F53>270,G53+I53-F53<=360),"Bilan n°4",IF(AND(G53+I53-F53>360,G53+I53-F53<=450),"Bilan n°5",IF(AND(G53+I53-F53>450,G53+I53-F53<=540),"Bilan n°6",IF(AND(G53+I53-F53>540,G53+I53-F53<=630),"Bilan n°7",IF(AND(G53+I53-F53>630,G53+I53-F53<=720),"Bilan n°8",IF(AND(G53+I53-F53>720,G53+I53-F53<=810),"Bilan n°9",IF(AND(G53+I53-F53>810,G53+I53-F53<=900),"Bilan n°10",IF(AND(G53+I53-F53>900,G53+I53-F53<=990),"Bilan n°11",IF(AND(G53+I53-F53>990,G53+I53-F53<=1180),"Bilan n°12"))))))))))))) -> Bilan n°1 | J53: =IF(OR(H53="Bilan n°1",H53="Bilan n°2",H53="Bilan n°3",H53="Bilan n°4",H53="Bilan n°5",H53="Bilan n°6",H53="Bilan n°7",H53="Bilan n°8",H53="Bilan n°9",H53="Bilan n°10",H53="Bilan n°11",H53="Bilan n°12"),EDATE(L53,3),"-") -> 43502 | K53: 7 | L53: =IF(K53="AP","",IF(G53="-","",IF(G53="","",EDATE(G53,0)+K53+I53))) -> 43410 | M53: =IF(J53="-","",EDATE(J53,3)+4) -> 43595 | O53: =IF(A53="Résiliation","-",IF(H53="Bilan n°1","Bilan n°1",IF(H53="Bilan n°2","Bilan n°1",IF(H53="Bilan n°4","Bilan n°2",IF(H53="Bilan n°3","Bilan n°2",IF(H53="Bilan n°5","Bilan n°3",IF(H53="Bilan n°6","Bilan n°3",IF(H53="Bilan n°7","Bilan n°4",IF(H53="Bilan n°9","Bilan n°5",IF(H53="Bilan n°10","Bilan n°6","-")))))))))) -> Bilan n°1 | P53: =IF(N53="","A programmer",N53+360) -> A programmer | Q53: =IF(A53="Résiliation","-",IF(H53="Bilan n°1","Bilan n°1",IF(H53="Bilan n°2","Bilan n°1",IF(H53="Bilan n°3","Bilan n°1",IF(H53="Bilan n°4","Bilan n°1",IF(H53="Bilan n°5","Bilan n°2",IF(H53="Bilan n°6","Bilan n°2",IF(H53="Bilan n°7","Bilan n°2",IF(H53="Bilan n°8","Bilan n°2",IF(H53="Bilan n°9","Bilan n°2",IF(H53="Bilan n°10","Bilan n°2","-"))))))))))) -> Bilan n°1 | R53: 1 | S53: =IF(R53="","A programmer",IF(R53=1,F53+360,IF(R53=2,F53+720,IF(R53=3,"Réabo à prévoir","-")))) -> 43776
C54: 656 | F54: 42810 | G54: 43178 | H54: =IF(F54="","-",IF(G54+I54-F54<=90,"Bilan n°1",IF(AND(G54+I54-F54>90,G54+I54-F54<=180),"Bilan n°2",IF(AND(G54+I54-F54>180,G54+I54-F54<=270),"Bilan n°3",IF(AND(G54+I54-F54>270,G54+I54-F54<=360),"Bilan n°4",IF(AND(G54+I54-F54>360,G54+I54-F54<=450),"Bilan n°5",IF(AND(G54+I54-F54>450,G54+I54-F54<=540),"Bilan n°6",IF(AND(G54+I54-F54>540,G54+I54-F54<=630),"Bilan n°7",IF(AND(G54+I54-F54>630,G54+I54-F54<=720),"Bilan n°8",IF(AND(G54+I54-F54>720,G54+I54-F54<=810),"Bilan n°9",IF(AND(G54+I54-F54>810,G54+I54-F54<=900),"Bilan n°10",IF(AND(G54+I54-F54>900,G54+I54-F54<=990),"Bilan n°11",IF(AND(G54+I54-F54>990,G54+I54-F54<=1180),"Bilan n°12"))))))))))))) -> Bilan n°5 | J54: =IF(OR(H54="Bilan n°1",H54="Bilan n°2",H54="Bilan n°3",H54="Bilan n°4",H54="Bilan n°5",H54="Bilan n°6",H54="Bilan n°7",H54="Bilan n°8",H54="Bilan n°9",H54="Bilan n°10",H54="Bilan n°11",H54="Bilan n°12"),EDATE(L54,3),"-") -> 43290 | K54: 21 | L54: =IF(K54="AP","",IF(G54="-","",IF(G54="","",EDATE(G54,0)+K54+I54))) -> 43199 | M54: =IF(J54="-","",EDATE(J54,3)+4) -> 43386 | O54: =IF(A54="Résiliation","-",IF(H54="Bilan n°1","Bilan n°1",IF(H54="Bilan n°2","Bilan n°1",IF(H54="Bilan n°4","Bilan n°2",IF(H54="Bilan n°3","Bilan n°2",IF(H54="Bilan n°5","Bilan n°3",IF(H54="Bilan n°6","Bilan n°3",IF(H54="Bilan n°7","Bilan n°4",IF(H54="Bilan n°9","Bilan n°5",IF(H54="Bilan n°10","Bilan n°6","-")))))))))) -> Bilan n°3 | P54: =IF(N54="","A programmer",N54+360) -> A programmer | Q54: =IF(A54="Résiliation","-",IF(H54="Bilan n°1","Bilan n°1",IF(H54="Bilan n°2","Bilan n°1",IF(H54="Bilan n°3","Bilan n°1",IF(H54="Bilan n°4","Bilan n°1",IF(H54="Bilan n°5","Bilan n°2",IF(H54="Bilan n°6","Bilan n°2",IF(H54="Bilan n°7","Bilan n°2",IF(H54="Bilan n°8","Bilan n°2",IF(H54="Bilan n°9","Bilan n°2",IF(H54="Bilan n°10","Bilan n°2","-"))))))))))) -> Bilan n°2 | S54: =IF(R54="","A programmer",IF(R54=1,F54+360,IF(R54=2,F54+720,IF(R54=3,"Réabo à prévoir","-")))) -> A programmer
C55: 659 | F55: 43185 | G55: 43388 | H55: =IF(F55="","-",IF(G55+I55-F55<=90,"Bilan n°1",IF(AND(G55+I55-F55>90,G55+I55-F55<=180),"Bilan n°2",IF(AND(G55+I55-F55>180,G55+I55-F55<=270),"Bilan n°3",IF(AND(G55+I55-F55>270,G55+I55-F55<=360),"Bilan n°4",IF(AND(G55+I55-F55>360,G55+I55-F55<=450),"Bilan n°5",IF(AND(G55+I55-F55>450,G55+I55-F55<=540),"Bilan n°6",IF(AND(G55+I55-F55>540,G55+I55-F55<=630),"Bilan n°7",IF(AND(G55+I55-F55>630,G55+I55-F55<=720),"Bilan n°8",IF(AND(G55+I55-F55>720,G55+I55-F55<=810),"Bilan n°9",IF(AND(G55+I55-F55>810,G55+I55-F55<=900),"Bilan n°10",IF(AND(G55+I55-F55>900,G55+I55-F55<=990),"Bilan n°11",IF(AND(G55+I55-F55>990,G55+I55-F55<=1180),"Bilan n°12"))))))))))))) -> Bilan n°3 | J55: =IF(OR(H55="Bilan n°1",H55="Bilan n°2",H55="Bilan n°3",H55="Bilan n°4",H55="Bilan n°5",H55="Bilan n°6",H55="Bilan n°7",H55="Bilan n°8",H55="Bilan n°9",H55="Bilan n°10",H55="Bilan n°11",H55="Bilan n°12"),EDATE(L55,3),"-") -> 43491 | K55: 4 | L55: 43399 | M55: =IF(J55="-","",EDATE(J55,3)+4) -> 43585 | O55: =IF(A55="Résiliation","-",IF(H55="Bilan n°1","Bilan n°1",IF(H55="Bilan n°2","Bilan n°1",IF(H55="Bilan n°4","Bilan n°2",IF(H55="Bilan n°3","Bilan n°2",IF(H55="Bilan n°5","Bilan n°3",IF(H55="Bilan n°6","Bilan n°3",IF(H55="Bilan n°7","Bilan n°4",IF(H55="Bilan n°9","Bilan n°5",IF(H55="Bilan n°10","Bilan n°6","-")))))))))) -> Bilan n°2 | P55: =IF(N55="","A programmer",N55+360) -> A programmer | Q55: =IF(A55="Résiliation","-",IF(H55="Bilan n°1","Bilan n°1",IF(H55="Bilan n°2","Bilan n°1",IF(H55="Bilan n°3","Bilan n°1",IF(H55="Bilan n°4","Bilan n°1",IF(H55="Bilan n°5","Bilan n°2",IF(H55="Bilan n°6","Bilan n°2",IF(H55="Bilan n°7","Bilan n°2",IF(H55="Bilan n°8","Bilan n°2",IF(H55="Bilan n°9","Bilan n°2",IF(H55="Bilan n°10","Bilan n°2","-"))))))))))) -> Bilan n°1 | R55: 1 | S55: =IF(R55="","A programmer",IF(R55=1,F55+360,IF(R55=2,F55+720,IF(R55=3,"Réabo à prévoir","-")))) -> 43545
C56: 664 | F56: 43024 | G56: 43496 | H56: =IF(F56="","-",IF(G56+I56-F56<=90,"Bilan n°1",IF(AND(G56+I56-F56>90,G56+I56-F56<=180),"Bilan n°2",IF(AND(G56+I56-F56>180,G56+I56-F56<=270),"Bilan n°3",IF(AND(G56+I56-F56>270,G56+I56-F56<=360),"Bilan n°4",IF(AND(G56+I56-F56>360,G56+I56-F56<=450),"Bilan n°5",IF(AND(G56+I56-F56>450,G56+I56-F56<=540),"Bilan n°6",IF(AND(G56+I56-F56>540,G56+I56-F56<=630),"Bilan n°7",IF(AND(G56+I56-F56>630,G56+I56-F56<=720),"Bilan n°8",IF(AND(G56+I56-F56>720,G56+I56-F56<=810),"Bilan n°9",IF(AND(G56+I56-F56>810,G56+I56-F56<=900),"Bilan n°10",IF(AND(G56+I56-F56>900,G56+I56-F56<=990),"Bilan n°11",IF(AND(G56+I56-F56>990,G56+I56-F56<=1180),"Bilan n°12"))))))))))))) -> Bilan n°6 | J56: =IF(OR(H56="Bilan n°1",H56="Bilan n°2",H56="Bilan n°3",H56="Bilan n°4",H56="Bilan n°5",H56="Bilan n°6",H56="Bilan n°7",H56="Bilan n°8",H56="Bilan n°9",H56="Bilan n°10",H56="Bilan n°11",H56="Bilan n°12"),EDATE(L56,3),"-") -> 43589 | K56: 4 | L56: =IF(K56="AP","",IF(G56="-","",IF(G56="","",EDATE(G56,0)+K56+I56))) -> 43500 | M56: =IF(J56="-","",EDATE(J56,3)+4) -> 43685 | N56: 43390 | O56: =IF(A56="Résiliation","-",IF(H56="Bilan n°1","Bilan n°1",IF(H56="Bilan n°2","Bilan n°1",IF(H56="Bilan n°4","Bilan n°2",IF(H56="Bilan n°3","Bilan n°2",IF(H56="Bilan n°5","Bilan n°3",IF(H56="Bilan n°6","Bilan n°3",IF(H56="Bilan n°7","Bilan n°4",IF(H56="Bilan n°9","Bilan n°5",IF(H56="Bilan n°10","Bilan n°6","-")))))))))) -> Bilan n°3 | P56: =IF(N56="","A programmer",N56+360) -> 43750 | Q56: =IF(A56="Résiliation","-",IF(H56="Bilan n°1","Bilan n°1",IF(H56="Bilan n°2","Bilan n°1",IF(H56="Bilan n°3","Bilan n°1",IF(H56="Bilan n°4","Bilan n°1",IF(H56="Bilan n°5","Bilan n°2",IF(H56="Bilan n°6","Bilan n°2",IF(H56="Bilan n°7","Bilan n°2",IF(H56="Bilan n°8","Bilan n°2",IF(H56="Bilan n°9","Bilan n°2",IF(H56="Bilan n°10","Bilan n°2","-"))))))))))) -> Bilan n°2 | R56: 1 | S56: =IF(R56="","A programmer",IF(R56=1,F56+360,IF(R56=2,F56+720,IF(R56=3,"Réabo à prévoir","-")))) -> 43384
C57: 666 | F57: 43167 | G57: 43360 | H57: =IF(F57="","-",IF(G57+I57-F57<=90,"Bilan n°1",IF(AND(G57+I57-F57>90,G57+I57-F57<=180),"Bilan n°2",IF(AND(G57+I57-F57>180,G57+I57-F57<=270),"Bilan n°3",IF(AND(G57+I57-F57>270,G57+I57-F57<=360),"Bilan n°4",IF(AND(G57+I57-F57>360,G57+I57-F57<=450),"Bilan n°5",IF(AND(G57+I57-F57>450,G57+I57-F57<=540),"Bilan n°6",IF(AND(G57+I57-F57>540,G57+I57-F57<=630),"Bilan n°7",IF(AND(G57+I57-F57>630,G57+I57-F57<=720),"Bilan n°8",IF(AND(G57+I57-F57>720,G57+I57-F57<=810),"Bilan n°9",IF(AND(G57+I57-F57>810,G57+I57-F57<=900),"Bilan n°10",IF(AND(G57+I57-F57>900,G57+I57-F57<=990),"Bilan n°11",IF(AND(G57+I57-F57>990,G57+I57-F57<=1180),"Bilan n°12"))))))))))))) -> Bilan n°3 | J57: =IF(OR(H57="Bilan n°1",H57="Bilan n°2",H57="Bilan n°3",H57="Bilan n°4",H57="Bilan n°5",H57="Bilan n°6",H57="Bilan n°7",H57="Bilan n°8",H57="Bilan n°9",H57="Bilan n°10",H57="Bilan n°11",H57="Bilan n°12"),EDATE(L57,3),"-") -> 43453 | K57: 2 | L57: =IF(K57="AP","",IF(G57="-","",IF(G57="","",EDATE(G57,0)+K57+I57))) -> 43362 | M57: =IF(J57="-","",EDATE(J57,3)+4) -> 43547 | N57: 43376 | O57: =IF(A57="Résiliation","-",IF(H57="Bilan n°1","Bilan n°1",IF(H57="Bilan n°2","Bilan n°1",IF(H57="Bilan n°4","Bilan n°2",IF(H57="Bilan n°3","Bilan n°2",IF(H57="Bilan n°5","Bilan n°3",IF(H57="Bilan n°6","Bilan n°3",IF(H57="Bilan n°7","Bilan n°4",IF(H57="Bilan n°9","Bilan n°5",IF(H57="Bilan n°10","Bilan n°6","-")))))))))) -> Bilan n°2 | P57: =IF(N57="","A programmer",N57+360) -> 43736 | Q57: =IF(A57="Résiliation","-",IF(H57="Bilan n°1","Bilan n°1",IF(H57="Bilan n°2","Bilan n°1",IF(H57="Bilan n°3","Bilan n°1",IF(H57="Bilan n°4","Bilan n°1",IF(H57="Bilan n°5","Bilan n°2",IF(H57="Bilan n°6","Bilan n°2",IF(H57="Bilan n°7","Bilan n°2",IF(H57="Bilan n°8","Bilan n°2",IF(H57="Bilan n°9","Bilan n°2",IF(H57="Bilan n°10","Bilan n°2","-"))))))))))) -> Bilan n°1 | R57: 1 | S57: =IF(R57="","A programmer",IF(R57=1,F57+360,IF(R57=2,F57+720,IF(R57=3,"Réabo à prévoir","-")))) -> 43527
C58: 679 | F58: 42939 | G58: 43311 | H58: =IF(F58="","-",IF(G58+I58-F58<=90,"Bilan n°1",IF(AND(G58+I58-F58>90,G58+I58-F58<=180),"Bilan n°2",IF(AND(G58+I58-F58>180,G58+I58-F58<=270),"Bilan n°3",IF(AND(G58+I58-F58>270,G58+I58-F58<=360),"Bilan n°4",IF(AND(G58+I58-F58>360,G58+I58-F58<=450),"Bilan n°5",IF(AND(G58+I58-F58>450,G58+I58-F58<=540),"Bilan n°6",IF(AND(G58+I58-F58>540,G58+I58-F58<=630),"Bilan n°7",IF(AND(G58+I58-F58>630,G58+I58-F58<=720),"Bilan n°8",IF(AND(G58+I58-F58>720,G58+I58-F58<=810),"Bilan n°9",IF(AND(G58+I58-F58>810,G58+I58-F58<=900),"Bilan n°10",IF(AND(G58+I58-F58>900,G58+I58-F58<=990),"Bilan n°11",IF(AND(G58+I58-F58>990,G58+I58-F58<=1180),"Bilan n°12"))))))))))))) -> Bilan n°5 | J58: =IF(OR(H58="Bilan n°1",H58="Bilan n°2",H58="Bilan n°3",H58="Bilan n°4",H58="Bilan n°5",H58="Bilan n°6",H58="Bilan n°7",H58="Bilan n°8",H58="Bilan n°9",H58="Bilan n°10",H58="Bilan n°11",H58="Bilan n°12"),EDATE(L58,3),"-") -> 43406 | K58: 3 | L58: =IF(K58="AP","",IF(G58="-","",IF(G58="","",EDATE(G58,0)+K58+I58))) -> 43314 | M58: =IF(J58="-","",EDATE(J58,3)+4) -> 43502 | O58: =IF(A58="Résiliation","-",IF(H58="Bilan n°1","Bilan n°1",IF(H58="Bilan n°2","Bilan n°1",IF(H58="Bilan n°4","Bilan n°2",IF(H58="Bilan n°3","Bilan n°2",IF(H58="Bilan n°5","Bilan n°3",IF(H58="Bilan n°6","Bilan n°3",IF(H58="Bilan n°7","Bilan n°4",IF(H58="Bilan n°9","Bilan n°5",IF(H58="Bilan n°10","Bilan n°6","-")))))))))) -> Bilan n°3 | P58: =IF(N58="","A programmer",N58+360) -> A programmer | Q58: =IF(A58="Résiliation","-",IF(H58="Bilan n°1","Bilan n°1",IF(H58="Bilan n°2","Bilan n°1",IF(H58="Bilan n°3","Bilan n°1",IF(H58="Bilan n°4","Bilan n°1",IF(H58="Bilan n°5","Bilan n°2",IF(H58="Bilan n°6","Bilan n°2",IF(H58="Bilan n°7","Bilan n°2",IF(H58="Bilan n°8","Bilan n°2",IF(H58="Bilan n°9","Bilan n°2",IF(H58="Bilan n°10","Bilan n°2","-"))))))))))) -> Bilan n°2 | S58: =IF(R58="","A programmer",IF(R58=1,F58+360,IF(R58=2,F58+720,IF(R58=3,"Réabo à prévoir","-")))) -> A programmer
C59: 693 | F59: 42894 | G59: 43544 | H59: =IF(F59="","-",IF(G59+I59-F59<=90,"Bilan n°1",IF(AND(G59+I59-F59>90,G59+I59-F59<=180),"Bilan n°2",IF(AND(G59+I59-F59>180,G59+I59-F59<=270),"Bilan n°3",IF(AND(G59+I59-F59>270,G59+I59-F59<=360),"Bilan n°4",IF(AND(G59+I59-F59>360,G59+I59-F59<=450),"Bilan n°5",IF(AND(G59+I59-F59>450,G59+I59-F59<=540),"Bilan n°6",IF(AND(G59+I59-F59>540,G59+I59-F59<=630),"Bilan n°7",IF(AND(G59+I59-F59>630,G59+I59-F59<=720),"Bilan n°8",IF(AND(G59+I59-F59>720,G59+I59-F59<=810),"Bilan n°9",IF(AND(G59+I59-F59>810,G59+I59-F59<=900),"Bilan n°10",IF(AND(G59+I59-F59>900,G59+I59-F59<=990),"Bilan n°11",IF(AND(G59+I59-F59>990,G59+I59-F59<=1180),"Bilan n°12"))))))))))))) -> Bilan n°8 | J59: =IF(OR(H59="Bilan n°1",H59="Bilan n°2",H59="Bilan n°3",H59="Bilan n°4",H59="Bilan n°5",H59="Bilan n°6",H59="Bilan n°7",H59="Bilan n°8",H59="Bilan n°9",H59="Bilan n°10",H59="Bilan n°11",H59="Bilan n°12"),EDATE(L59,3),"-") -> 43637 | K59: 1 | L59: =IF(K59="AP","",IF(G59="-","",IF(G59="","",EDATE(G59,0)+K59+I59))) -> 43545 | M59: =IF(J59="-","",EDATE(J59,3)+4) -> 43733 | O59: =IF(A59="Résiliation","-",IF(H59="Bilan n°1","Bilan n°1",IF(H59="Bilan n°2","Bilan n°1",IF(H59="Bilan n°4","Bilan n°2",IF(H59="Bilan n°3","Bilan n°2",IF(H59="Bilan n°5","Bilan n°3",IF(H59="Bilan n°6","Bilan n°3",IF(H59="Bilan n°7","Bilan n°4",IF(H59="Bilan n°9","Bilan n°5",IF(H59="Bilan n°10","Bilan n°6","-")))))))))) -> - | P59: =IF(N59="","A programmer",N59+360) -> A programmer | Q59: =IF(A59="Résiliation","-",IF(H59="Bilan n°1","Bilan n°1",IF(H59="Bilan n°2","Bilan n°1",IF(H59="Bilan n°3","Bilan n°1",IF(H59="Bilan n°4","Bilan n°1",IF(H59="Bilan n°5","Bilan n°2",IF(H59="Bilan n°6","Bilan n°2",IF(H59="Bilan n°7","Bilan n°2",IF(H59="Bilan n°8","Bilan n°2",IF(H59="Bilan n°9","Bilan n°2",IF(H59="Bilan n°10","Bilan n°2","-"))))))))))) -> Bilan n°2 | R59: 1 | S59: =IF(R59="","A programmer",IF(R59=1,F59+360,IF(R59=2,F59+720,IF(R59=3,"Réabo à prévoir","-")))) -> 43254
C60: 697 | F60: 43301 | G60: 43482 | H60: =IF(F60="","-",IF(G60+I60-F60<=90,"Bilan n°1",IF(AND(G60+I60-F60>90,G60+I60-F60<=180),"Bilan n°2",IF(AND(G60+I60-F60>180,G60+I60-F60<=270),"Bilan n°3",IF(AND(G60+I60-F60>270,G60+I60-F60<=360),"Bilan n°4",IF(AND(G60+I60-F60>360,G60+I60-F60<=450),"Bilan n°5",IF(AND(G60+I60-F60>450,G60+I60-F60<=540),"Bilan n°6",IF(AND(G60+I60-F60>540,G60+I60-F60<=630),"Bilan n°7",IF(AND(G60+I60-F60>630,G60+I60-F60<=720),"Bilan n°8",IF(AND(G60+I60-F60>720,G60+I60-F60<=810),"Bilan n°9",IF(AND(G60+I60-F60>810,G60+I60-F60<=900),"Bilan n°10",IF(AND(G60+I60-F60>900,G60+I60-F60<=990),"Bilan n°11",IF(AND(G60+I60-F60>990,G60+I60-F60<=1180),"Bilan n°12"))))))))))))) -> Bilan n°3 | J60: =IF(OR(H60="Bilan n°1",H60="Bilan n°2",H60="Bilan n°3",H60="Bilan n°4",H60="Bilan n°5",H60="Bilan n°6",H60="Bilan n°7",H60="Bilan n°8",H60="Bilan n°9",H60="Bilan n°10",H60="Bilan n°11",H60="Bilan n°12"),EDATE(L60,3),"-") -> 43577 | K60: 5 | L60: =IF(K60="AP","",IF(G60="-","",IF(G60="","",EDATE(G60,0)+K60+I60))) -> 43487 | M60: =IF(J60="-","",EDATE(J60,3)+4) -> 43672 | N60: 43362 | O60: =IF(A60="Résiliation","-",IF(H60="Bilan n°1","Bilan n°1",IF(H60="Bilan n°2","Bilan n°1",IF(H60="Bilan n°4","Bilan n°2",IF(H60="Bilan n°3","Bilan n°2",IF(H60="Bilan n°5","Bilan n°3",IF(H60="Bilan n°6","Bilan n°3",IF(H60="Bilan n°7","Bilan n°4",IF(H60="Bilan n°9","Bilan n°5",IF(H60="Bilan n°10","Bilan n°6","-")))))))))) -> Bilan n°2 | P60: =IF(N60="","A programmer",N60+360) -> 43722 | Q60: =IF(A60="Résiliation","-",IF(H60="Bilan n°1","Bilan n°1",IF(H60="Bilan n°2","Bilan n°1",IF(H60="Bilan n°3","Bilan n°1",IF(H60="Bilan n°4","Bilan n°1",IF(H60="Bilan n°5","Bilan n°2",IF(H60="Bilan n°6","Bilan n°2",IF(H60="Bilan n°7","Bilan n°2",IF(H60="Bilan n°8","Bilan n°2",IF(H60="Bilan n°9","Bilan n°2",IF(H60="Bilan n°10","Bilan n°2","-"))))))))))) -> Bilan n°1 | R60: 1 | S60: =IF(R60="","A programmer",IF(R60=1,F60+360,IF(R60=2,F60+720,IF(R60=3,"Réabo à prévoir","-")))) -> 43661
C61: 703 | F61: 43339 | G61: 43480 | H61: =IF(F61="","-",IF(G61+I61-F61<=90,"Bilan n°1",IF(AND(G61+I61-F61>90,G61+I61-F61<=180),"Bilan n°2",IF(AND(G61+I61-F61>180,G61+I61-F61<=270),"Bilan n°3",IF(AND(G61+I61-F61>270,G61+I61-F61<=360),"Bilan n°4",IF(AND(G61+I61-F61>360,G61+I61-F61<=450),"Bilan n°5",IF(AND(G61+I61-F61>450,G61+I61-F61<=540),"Bilan n°6",IF(AND(G61+I61-F61>540,G61+I61-F61<=630),"Bilan n°7",IF(AND(G61+I61-F61>630,G61+I61-F61<=720),"Bilan n°8",IF(AND(G61+I61-F61>720,G61+I61-F61<=810),"Bilan n°9",IF(AND(G61+I61-F61>810,G61+I61-F61<=900),"Bilan n°10",IF(AND(G61+I61-F61>900,G61+I61-F61<=990),"Bilan n°11",IF(AND(G61+I61-F61>990,G61+I61-F61<=1180),"Bilan n°12"))))))))))))) -> Bilan n°2 | J61: =IF(OR(H61="Bilan n°1",H61="Bilan n°2",H61="Bilan n°3",H61="Bilan n°4",H61="Bilan n°5",H61="Bilan n°6",H61="Bilan n°7",H61="Bilan n°8",H61="Bilan n°9",H61="Bilan n°10",H61="Bilan n°11",H61="Bilan n°12"),EDATE(L61,3),"-") -> 43578 | K61: 8 | L61: =IF(K61="AP","",IF(G61="-","",IF(G61="","",EDATE(G61,0)+K61+I61))) -> 43488 | M61: =IF(J61="-","",EDATE(J61,3)+4) -> 43673 | O61: =IF(A61="Résiliation","-",IF(H61="Bilan n°1","Bilan n°1",IF(H61="Bilan n°2","Bilan n°1",IF(H61="Bilan n°4","Bilan n°2",IF(H61="Bilan n°3","Bilan n°2",IF(H61="Bilan n°5","Bilan n°3",IF(H61="Bilan n°6","Bilan n°3",IF(H61="Bilan n°7","Bilan n°4",IF(H61="Bilan n°9","Bilan n°5",IF(H61="Bilan n°10","Bilan n°6","-")))))))))) -> Bilan n°1 | P61: =IF(N61="","A programmer",N61+360) -> A programmer | Q61: =IF(A61="Résiliation","-",IF(H61="Bilan n°1","Bilan n°1",IF(H61="Bilan n°2","Bilan n°1",IF(H61="Bilan n°3","Bilan n°1",IF(H61="Bilan n°4","Bilan n°1",IF(H61="Bilan n°5","Bilan n°2",IF(H61="Bilan n°6","Bilan n°2",IF(H61="Bilan n°7","Bilan n°2",IF(H61="Bilan n°8","Bilan n°2",IF(H61="Bilan n°9","Bilan n°2",IF(H61="Bilan n°10","Bilan n°2","-"))))))))))) -> Bilan n°1 | R61: 1 | S61: =IF(R61="","A programmer",IF(R61=1,F61+360,IF(R61=2,F61+720,IF(R61=3,"Réabo à prévoir","-")))) -> 43699
C62: 704 | F62: 43320 | G62: 43325 | H62: =IF(F62="","-",IF(G62+I62-F62<=90,"Bilan n°1",IF(AND(G62+I62-F62>90,G62+I62-F62<=180),"Bilan n°2",IF(AND(G62+I62-F62>180,G62+I62-F62<=270),"Bilan n°3",IF(AND(G62+I62-F62>270,G62+I62-F62<=360),"Bilan n°4",IF(AND(G62+I62-F62>360,G62+I62-F62<=450),"Bilan n°5",IF(AND(G62+I62-F62>450,G62+I62-F62<=540),"Bilan n°6",IF(AND(G62+I62-F62>540,G62+I62-F62<=630),"Bilan n°7",IF(AND(G62+I62-F62>630,G62+I62-F62<=720),"Bilan n°8",IF(AND(G62+I62-F62>720,G62+I62-F62<=810),"Bilan n°9",IF(AND(G62+I62-F62>810,G62+I62-F62<=900),"Bilan n°10",IF(AND(G62+I62-F62>900,G62+I62-F62<=990),"Bilan n°11",IF(AND(G62+I62-F62>990,G62+I62-F62<=1180),"Bilan n°12"))))))))))))) -> Bilan n°1 | J62: =IF(OR(H62="Bilan n°1",H62="Bilan n°2",H62="Bilan n°3",H62="Bilan n°4",H62="Bilan n°5",H62="Bilan n°6",H62="Bilan n°7",H62="Bilan n°8",H62="Bilan n°9",H62="Bilan n°10",H62="Bilan n°11",H62="Bilan n°12"),EDATE(L62,3),"-") -> 43425 | K62: 8 | L62: =IF(K62="AP","",IF(G62="-","",IF(G62="","",EDATE(G62,0)+K62+I62))) -> 43333 | M62: =IF(J62="-","",EDATE(J62,3)+4) -> 43521 | N62: 43411 | O62: =IF(A62="Résiliation","-",IF(H62="Bilan n°1","Bilan n°1",IF(H62="Bilan n°2","Bilan n°1",IF(H62="Bilan n°4","Bilan n°2",IF(H62="Bilan n°3","Bilan n°2",IF(H62="Bilan n°5","Bilan n°3",IF(H62="Bilan n°6","Bilan n°3",IF(H62="Bilan n°7","Bilan n°4",IF(H62="Bilan n°9","Bilan n°5",IF(H62="Bilan n°10","Bilan n°6","-")))))))))) -> Bilan n°1 | P62: =IF(N62="","A programmer",N62+360) -> 43771 | Q62: =IF(A62="Résiliation","-",IF(H62="Bilan n°1","Bilan n°1",IF(H62="Bilan n°2","Bilan n°1",IF(H62="Bilan n°3","Bilan n°1",IF(H62="Bilan n°4","Bilan n°1",IF(H62="Bilan n°5","Bilan n°2",IF(H62="Bilan n°6","Bilan n°2",IF(H62="Bilan n°7","Bilan n°2",IF(H62="Bilan n°8","Bilan n°2",IF(H62="Bilan n°9","Bilan n°2",IF(H62="Bilan n°10","Bilan n°2","-"))))))))))) -> Bilan n°1 | R62: 2 | S62: =IF(R62="","A programmer",IF(R62=1,F62+360,IF(R62=2,F62+720,IF(R62=3,"Réabo à prévoir","-")))) -> 44040
C63: 715 | F63: 43552 | G63: 43535 | H63: =IF(F63="","-",IF(G63+I63-F63<=90,"Bilan n°1",IF(AND(G63+I63-F63>90,G63+I63-F63<=180),"Bilan n°2",IF(AND(G63+I63-F63>180,G63+I63-F63<=270),"Bilan n°3",IF(AND(G63+I63-F63>270,G63+I63-F63<=360),"Bilan n°4",IF(AND(G63+I63-F63>360,G63+I63-F63<=450),"Bilan n°5",IF(AND(G63+I63-F63>450,G63+I63-F63<=540),"Bilan n°6",IF(AND(G63+I63-F63>540,G63+I63-F63<=630),"Bilan n°7",IF(AND(G63+I63-F63>630,G63+I63-F63<=720),"Bilan n°8",IF(AND(G63+I63-F63>720,G63+I63-F63<=810),"Bilan n°9",IF(AND(G63+I63-F63>810,G63+I63-F63<=900),"Bilan n°10",IF(AND(G63+I63-F63>900,G63+I63-F63<=990),"Bilan n°11",IF(AND(G63+I63-F63>990,G63+I63-F63<=1180),"Bilan n°12"))))))))))))) -> Bilan n°1 | J63: =IF(OR(H63="Bilan n°1",H63="Bilan n°2",H63="Bilan n°3",H63="Bilan n°4",H63="Bilan n°5",H63="Bilan n°6",H63="Bilan n°7",H63="Bilan n°8",H63="Bilan n°9",H63="Bilan n°10",H63="Bilan n°11",H63="Bilan n°12"),EDATE(L63,3),"-") -> 43629 | K63: 2 | L63: =IF(K63="AP","",IF(G63="-","",IF(G63="","",EDATE(G63,0)+K63+I63))) -> 43537 | M63: =IF(J63="-","",EDATE(J63,3)+4) -> 43725 | O63: =IF(A63="Résiliation","-",IF(H63="Bilan n°1","Bilan n°1",IF(H63="Bilan n°2","Bilan n°1",IF(H63="Bilan n°4","Bilan n°2",IF(H63="Bilan n°3","Bilan n°2",IF(H63="Bilan n°5","Bilan n°3",IF(H63="Bilan n°6","Bilan n°3",IF(H63="Bilan n°7","Bilan n°4",IF(H63="Bilan n°9","Bilan n°5",IF(H63="Bilan n°10","Bilan n°6","-")))))))))) -> Bilan n°1 | P63: =IF(N63="","A programmer",N63+360) -> A programmer | Q63: =IF(A63="Résiliation","-",IF(H63="Bilan n°1","Bilan n°1",IF(H63="Bilan n°2","Bilan n°1",IF(H63="Bilan n°3","Bilan n°1",IF(H63="Bilan n°4","Bilan n°1",IF(H63="Bilan n°5","Bilan n°2",IF(H63="Bilan n°6","Bilan n°2",IF(H63="Bilan n°7","Bilan n°2",IF(H63="Bilan n°8","Bilan n°2",IF(H63="Bilan n°9","Bilan n°2",IF(H63="Bilan n°10","Bilan n°2","-"))))))))))) -> Bilan n°1 | R63: 2 | S63: =IF(R63="","A programmer",IF(R63=1,F63+360,IF(R63=2,F63+720,IF(R63=3,"Réabo à prévoir","-")))) -> 44272
C64: 752 | F64: 43578 | G64: 43337 | H64: =IF(F64="","-",IF(G64+I64-F64<=90,"Bilan n°1",IF(AND(G64+I64-F64>90,G64+I64-F64<=180),"Bilan n°2",IF(AND(G64+I64-F64>180,G64+I64-F64<=270),"Bilan n°3",IF(AND(G64+I64-F64>270,G64+I64-F64<=360),"Bilan n°4",IF(AND(G64+I64-F64>360,G64+I64-F64<=450),"Bilan n°5",IF(AND(G64+I64-F64>450,G64+I64-F64<=540),"Bilan n°6",IF(AND(G64+I64-F64>540,G64+I64-F64<=630),"Bilan n°7",IF(AND(G64+I64-F64>630,G64+I64-F64<=720),"Bilan n°8",IF(AND(G64+I64-F64>720,G64+I64-F64<=810),"Bilan n°9",IF(AND(G64+I64-F64>810,G64+I64-F64<=900),"Bilan n°10",IF(AND(G64+I64-F64>900,G64+I64-F64<=990),"Bilan n°11",IF(AND(G64+I64-F64>990,G64+I64-F64<=1180),"Bilan n°12"))))))))))))) -> Bilan n°1 | J64: =IF(OR(H64="Bilan n°1",H64="Bilan n°2",H64="Bilan n°3",H64="Bilan n°4",H64="Bilan n°5",H64="Bilan n°6",H64="Bilan n°7",H64="Bilan n°8",H64="Bilan n°9",H64="Bilan n°10",H64="Bilan n°11",H64="Bilan n°12"),EDATE(L64,3),"-") -> 43434 | K64: 5 | L64: =IF(K64="AP","",IF(G64="-","",IF(G64="","",EDATE(G64,0)+K64+I64))) -> 43342 | M64: =IF(J64="-","",EDATE(J64,3)+4) -> 43528 | O64: =IF(A64="Résiliation","-",IF(H64="Bilan n°1","Bilan n°1",IF(H64="Bilan n°2","Bilan n°1",IF(H64="Bilan n°4","Bilan n°2",IF(H64="Bilan n°3","Bilan n°2",IF(H64="Bilan n°5","Bilan n°3",IF(H64="Bilan n°6","Bilan n°3",IF(H64="Bilan n°7","Bilan n°4",IF(H64="Bilan n°9","Bilan n°5",IF(H64="Bilan n°10","Bilan n°6","-")))))))))) -> Bilan n°1 | P64: =IF(N64="","A programmer",N64+360) -> A programmer | Q64: =IF(A64="Résiliation","-",IF(H64="Bilan n°1","Bilan n°1",IF(H64="Bilan n°2","Bilan n°1",IF(H64="Bilan n°3","Bilan n°1",IF(H64="Bilan n°4","Bilan n°1",IF(H64="Bilan n°5","Bilan n°2",IF(H64="Bilan n°6","Bilan n°2",IF(H64="Bilan n°7","Bilan n°2",IF(H64="Bilan n°8","Bilan n°2",IF(H64="Bilan n°9","Bilan n°2",IF(H64="Bilan n°10","Bilan n°2","-"))))))))))) -> Bilan n°1 | R64: 1 | S64: =IF(R64="","A programmer",IF(R64=1,F64+360,IF(R64=2,F64+720,IF(R64=3,"Réabo à prévoir","-")))) -> 43938
C65: 759 | F65: 43637 | G65: 43354 | H65: =IF(F65="","-",IF(G65+I65-F65<=90,"Bilan n°1",IF(AND(G65+I65-F65>90,G65+I65-F65<=180),"Bilan n°2",IF(AND(G65+I65-F65>180,G65+I65-F65<=270),"Bilan n°3",IF(AND(G65+I65-F65>270,G65+I65-F65<=360),"Bilan n°4",IF(AND(G65+I65-F65>360,G65+I65-F65<=450),"Bilan n°5",IF(AND(G65+I65-F65>450,G65+I65-F65<=540),"Bilan n°6",IF(AND(G65+I65-F65>540,G65+I65-F65<=630),"Bilan n°7",IF(AND(G65+I65-F65>630,G65+I65-F65<=720),"Bilan n°8",IF(AND(G65+I65-F65>720,G65+I65-F65<=810),"Bilan n°9",IF(AND(G65+I65-F65>810,G65+I65-F65<=900),"Bilan n°10",IF(AND(G65+I65-F65>900,G65+I65-F65<=990),"Bilan n°11",IF(AND(G65+I65-F65>990,G65+I65-F65<=1180),"Bilan n°12"))))))))))))) -> Bilan n°1 | J65: =IF(OR(H65="Bilan n°1",H65="Bilan n°2",H65="Bilan n°3",H65="Bilan n°4",H65="Bilan n°5",H65="Bilan n°6",H65="Bilan n°7",H65="Bilan n°8",H65="Bilan n°9",H65="Bilan n°10",H65="Bilan n°11",H65="Bilan n°12"),EDATE(L65,3),"-") -> 43453 | K65: 8 | L65: =IF(K65="AP","",IF(G65="-","",IF(G65="","",EDATE(G65,0)+K65+I65))) -> 43362 | M65: =IF(J65="-","",EDATE(J65,3)+4) -> 43547 | O65: =IF(A65="Résiliation","-",IF(H65="Bilan n°1","Bilan n°1",IF(H65="Bilan n°2","Bilan n°1",IF(H65="Bilan n°4","Bilan n°2",IF(H65="Bilan n°3","Bilan n°2",IF(H65="Bilan n°5","Bilan n°3",IF(H65="Bilan n°6","Bilan n°3",IF(H65="Bilan n°7","Bilan n°4",IF(H65="Bilan n°9","Bilan n°5",IF(H65="Bilan n°10","Bilan n°6","-")))))))))) -> Bilan n°1 | P65: =IF(N65="","A programmer",N65+360) -> A programmer | Q65: =IF(A65="Résiliation","-",IF(H65="Bilan n°1","Bilan n°1",IF(H65="Bilan n°2","Bilan n°1",IF(H65="Bilan n°3","Bilan n°1",IF(H65="Bilan n°4","Bilan n°1",IF(H65="Bilan n°5","Bilan n°2",IF(H65="Bilan n°6","Bilan n°2",IF(H65="Bilan n°7","Bilan n°2",IF(H65="Bilan n°8","Bilan n°2",IF(H65="Bilan n°9","Bilan n°2",IF(H65="Bilan n°10","Bilan n°2","-"))))))))))) -> Bilan n°1 | R65: 3 | S65: =IF(R65="","A programmer",IF(R65=1,F65+360,IF(R65=2,F65+720,IF(R65=3,"Réabo à prévoir","-")))) -> Réabo à prévoir
C66: 773 | F66: 43569 | G66: 43509 | H66: =IF(F66="","-",IF(G66+I66-F66<=90,"Bilan n°1",IF(AND(G66+I66-F66>90,G66+I66-F66<=180),"Bilan n°2",IF(AND(G66+I66-F66>180,G66+I66-F66<=270),"Bilan n°3",IF(AND(G66+I66-F66>270,G66+I66-F66<=360),"Bilan n°4",IF(AND(G66+I66-F66>360,G66+I66-F66<=450),"Bilan n°5",IF(AND(G66+I66-F66>450,G66+I66-F66<=540),"Bilan n°6",IF(AND(G66+I66-F66>540,G66+I66-F66<=630),"Bilan n°7",IF(AND(G66+I66-F66>630,G66+I66-F66<=720),"Bilan n°8",IF(AND(G66+I66-F66>720,G66+I66-F66<=810),"Bilan n°9",IF(AND(G66+I66-F66>810,G66+I66-F66<=900),"Bilan n°10",IF(AND(G66+I66-F66>900,G66+I66-F66<=990),"Bilan n°11",IF(AND(G66+I66-F66>990,G66+I66-F66<=1180),"Bilan n°12"))))))))))))) -> Bilan n°1 | J66: =IF(OR(H66="Bilan n°1",H66="Bilan n°2",H66="Bilan n°3",H66="Bilan n°4",H66="Bilan n°5",H66="Bilan n°6",H66="Bilan n°7",H66="Bilan n°8",H66="Bilan n°9",H66="Bilan n°10",H66="Bilan n°11",H66="Bilan n°12"),EDATE(L66,3),"-") -> 43600 | K66: 2 | L66: =IF(K66="AP","",IF(G66="-","",IF(G66="","",EDATE(G66,0)+K66+I66))) -> 43511 | M66: =IF(J66="-","",EDATE(J66,3)+4) -> 43696 | O66: =IF(A66="Résiliation","-",IF(H66="Bilan n°1","Bilan n°1",IF(H66="Bilan n°2","Bilan n°1",IF(H66="Bilan n°4","Bilan n°2",IF(H66="Bilan n°3","Bilan n°2",IF(H66="Bilan n°5","Bilan n°3",IF(H66="Bilan n°6","Bilan n°3",IF(H66="Bilan n°7","Bilan n°4",IF(H66="Bilan n°9","Bilan n°5",IF(H66="Bilan n°10","Bilan n°6","-")))))))))) -> Bilan n°1 | P66: =IF(N66="","A programmer",N66+360) -> A programmer | Q66: =IF(A66="Résiliation","-",IF(H66="Bilan n°1","Bilan n°1",IF(H66="Bilan n°2","Bilan n°1",IF(H66="Bilan n°3","Bilan n°1",IF(H66="Bilan n°4","Bilan n°1",IF(H66="Bilan n°5","Bilan n°2",IF(H66="Bilan n°6","Bilan n°2",IF(H66="Bilan n°7","Bilan n°2",IF(H66="Bilan n°8","Bilan n°2",IF(H66="Bilan n°9","Bilan n°2",IF(H66="Bilan n°10","Bilan n°2","-"))))))))))) -> Bilan n°1 | R66: 1 | S66: =IF(R66="","A programmer",IF(R66=1,F66+360,IF(R66=2,F66+720,IF(R66=3,"Réabo à prévoir","-")))) -> 43929
C67: 776 | F67: 43004 | G67: 43488 | H67: =IF(F67="","-",IF(G67+I67-F67<=90,"Bilan n°1",IF(AND(G67+I67-F67>90,G67+I67-F67<=180),"Bilan n°2",IF(AND(G67+I67-F67>180,G67+I67-F67<=270),"Bilan n°3",IF(AND(G67+I67-F67>270,G67+I67-F67<=360),"Bilan n°4",IF(AND(G67+I67-F67>360,G67+I67-F67<=450),"Bilan n°5",IF(AND(G67+I67-F67>450,G67+I67-F67<=540),"Bilan n°6",IF(AND(G67+I67-F67>540,G67+I67-F67<=630),"Bilan n°7",IF(AND(G67+I67-F67>630,G67+I67-F67<=720),"Bilan n°8",IF(AND(G67+I67-F67>720,G67+I67-F67<=810),"Bilan n°9",IF(AND(G67+I67-F67>810,G67+I67-F67<=900),"Bilan n°10",IF(AND(G67+I67-F67>900,G67+I67-F67<=990),"Bilan n°11",IF(AND(G67+I67-F67>990,G67+I67-F67<=1180),"Bilan n°12"))))))))))))) -> Bilan n°6 | J67: =IF(OR(H67="Bilan n°1",H67="Bilan n°2",H67="Bilan n°3",H67="Bilan n°4",H67="Bilan n°5",H67="Bilan n°6",H67="Bilan n°7",H67="Bilan n°8",H67="Bilan n°9",H67="Bilan n°10",H67="Bilan n°11",H67="Bilan n°12"),EDATE(L67,3),"-") -> 43589 | K67: 12 | L67: =IF(K67="AP","",IF(G67="-","",IF(G67="","",EDATE(G67,0)+K67+I67))) -> 43500 | M67: =IF(J67="-","",EDATE(J67,3)+4) -> 43685 | O67: =IF(A67="Résiliation","-",IF(H67="Bilan n°1","Bilan n°1",IF(H67="Bilan n°2","Bilan n°1",IF(H67="Bilan n°4","Bilan n°2",IF(H67="Bilan n°3","Bilan n°2",IF(H67="Bilan n°5","Bilan n°3",IF(H67="Bilan n°6","Bilan n°3",IF(H67="Bilan n°7","Bilan n°4",IF(H67="Bilan n°9","Bilan n°5",IF(H67="Bilan n°10","Bilan n°6","-")))))))))) -> Bilan n°3 | P67: =IF(N67="","A programmer",N67+360) -> A programmer | Q67: =IF(A67="Résiliation","-",IF(H67="Bilan n°1","Bilan n°1",IF(H67="Bilan n°2","Bilan n°1",IF(H67="Bilan n°3","Bilan n°1",IF(H67="Bilan n°4","Bilan n°1",IF(H67="Bilan n°5","Bilan n°2",IF(H67="Bilan n°6","Bilan n°2",IF(H67="Bilan n°7","Bilan n°2",IF(H67="Bilan n°8","Bilan n°2",IF(H67="Bilan n°9","Bilan n°2",IF(H67="Bilan n°10","Bilan n°2","-"))))))))))) -> Bilan n°2 | S67: =IF(R67="","A programmer",IF(R67=1,F67+360,IF(R67=2,F67+720,IF(R67=3,"Réabo à prévoir","-")))) -> A programmer
C68: 777 | F68: 43570 | G68: 42804 | H68: =IF(F68="","-",IF(G68+I68-F68<=90,"Bilan n°1",IF(AND(G68+I68-F68>90,G68+I68-F68<=180),"Bilan n°2",IF(AND(G68+I68-F68>180,G68+I68-F68<=270),"Bilan n°3",IF(AND(G68+I68-F68>270,G68+I68-F68<=360),"Bilan n°4",IF(AND(G68+I68-F68>360,G68+I68-F68<=450),"Bilan n°5",IF(AND(G68+I68-F68>450,G68+I68-F68<=540),"Bilan n°6",IF(AND(G68+I68-F68>540,G68+I68-F68<=630),"Bilan n°7",IF(AND(G68+I68-F68>630,G68+I68-F68<=720),"Bilan n°8",IF(AND(G68+I68-F68>720,G68+I68-F68<=810),"Bilan n°9",IF(AND(G68+I68-F68>810,G68+I68-F68<=900),"Bilan n°10",IF(AND(G68+I68-F68>900,G68+I68-F68<=990),"Bilan n°11",IF(AND(G68+I68-F68>990,G68+I68-F68<=1180),"Bilan n°12"))))))))))))) -> Bilan n°1 | J68: =IF(OR(H68="Bilan n°1",H68="Bilan n°2",H68="Bilan n°3",H68="Bilan n°4",H68="Bilan n°5",H68="Bilan n°6",H68="Bilan n°7",H68="Bilan n°8",H68="Bilan n°9",H68="Bilan n°10",H68="Bilan n°11",H68="Bilan n°12"),EDATE(L68,3),"-") -> 42900 | K68: 4 | L68: =IF(K68="AP","",IF(G68="-","",IF(G68="","",EDATE(G68,0)+K68+I68))) -> 42808 | M68: =IF(J68="-","",EDATE(J68,3)+4) -> 42996 | O68: =IF(A68="Résiliation","-",IF(H68="Bilan n°1","Bilan n°1",IF(H68="Bilan n°2","Bilan n°1",IF(H68="Bilan n°4","Bilan n°2",IF(H68="Bilan n°3","Bilan n°2",IF(H68="Bilan n°5","Bilan n°3",IF(H68="Bilan n°6","Bilan n°3",IF(H68="Bilan n°7","Bilan n°4",IF(H68="Bilan n°9","Bilan n°5",IF(H68="Bilan n°10","Bilan n°6","-")))))))))) -> Bilan n°1 | P68: =IF(N68="","A programmer",N68+360) -> A programmer | Q68: =IF(A68="Résiliation","-",IF(H68="Bilan n°1","Bilan n°1",IF(H68="Bilan n°2","Bilan n°1",IF(H68="Bilan n°3","Bilan n°1",IF(H68="Bilan n°4","Bilan n°1",IF(H68="Bilan n°5","Bilan n°2",IF(H68="Bilan n°6","Bilan n°2",IF(H68="Bilan n°7","Bilan n°2",IF(H68="Bilan n°8","Bilan n°2",IF(H68="Bilan n°9","Bilan n°2",IF(H68="Bilan n°10","Bilan n°2","-"))))))))))) -> Bilan n°1 | S68: =IF(R68="","A programmer",IF(R68=1,F68+360,IF(R68=2,F68+720,IF(R68=3,"Réabo à prévoir","-")))) -> A programmer
C69: 778 | F69: 43371 | G69: 43546 | H69: =IF(F69="","-",IF(G69+I69-F69<=90,"Bilan n°1",IF(AND(G69+I69-F69>90,G69+I69-F69<=180),"Bilan n°2",IF(AND(G69+I69-F69>180,G69+I69-F69<=270),"Bilan n°3",IF(AND(G69+I69-F69>270,G69+I69-F69<=360),"Bilan n°4",IF(AND(G69+I69-F69>360,G69+I69-F69<=450),"Bilan n°5",IF(AND(G69+I69-F69>450,G69+I69-F69<=540),"Bilan n°6",IF(AND(G69+I69-F69>540,G69+I69-F69<=630),"Bilan n°7",IF(AND(G69+I69-F69>630,G69+I69-F69<=720),"Bilan n°8",IF(AND(G69+I69-F69>720,G69+I69-F69<=810),"Bilan n°9",IF(AND(G69+I69-F69>810,G69+I69-F69<=900),"Bilan n°10",IF(AND(G69+I69-F69>900,G69+I69-F69<=990),"Bilan n°11",IF(AND(G69+I69-F69>990,G69+I69-F69<=1180),"Bilan n°12"))))))))))))) -> Bilan n°2 | J69: =IF(OR(H69="Bilan n°1",H69="Bilan n°2",H69="Bilan n°3",H69="Bilan n°4",H69="Bilan n°5",H69="Bilan n°6",H69="Bilan n°7",H69="Bilan n°8",H69="Bilan n°9",H69="Bilan n°10",H69="Bilan n°11",H69="Bilan n°12"),EDATE(L69,3),"-") -> 43641 | K69: 3 | L69: =IF(K69="AP","",IF(G69="-","",IF(G69="","",EDATE(G69,0)+K69+I69))) -> 43549 | M69: =IF(J69="-","",EDATE(J69,3)+4) -> 43737 | O69: =IF(A69="Résiliation","-",IF(H69="Bilan n°1","Bilan n°1",IF(H69="Bilan n°2","Bilan n°1",IF(H69="Bilan n°4","Bilan n°2",IF(H69="Bilan n°3","Bilan n°2",IF(H69="Bilan n°5","Bilan n°3",IF(H69="Bilan n°6","Bilan n°3",IF(H69="Bilan n°7","Bilan n°4",IF(H69="Bilan n°9","Bilan n°5",IF(H69="Bilan n°10","Bilan n°6","-")))))))))) -> Bilan n°1 | P69: =IF(N69="","A programmer",N69+360) -> A programmer | Q69: =IF(A69="Résiliation","-",IF(H69="Bilan n°1","Bilan n°1",IF(H69="Bilan n°2","Bilan n°1",IF(H69="Bilan n°3","Bilan n°1",IF(H69="Bilan n°4","Bilan n°1",IF(H69="Bilan n°5","Bilan n°2",IF(H69="Bilan n°6","Bilan n°2",IF(H69="Bilan n°7","Bilan n°2",IF(H69="Bilan n°8","Bilan n°2",IF(H69="Bilan n°9","Bilan n°2",IF(H69="Bilan n°10","Bilan n°2","-"))))))))))) -> Bilan n°1 | R69: 1 | S69: =IF(R69="","A programmer",IF(R69=1,F69+360,IF(R69=2,F69+720,IF(R69=3,"Réabo à prévoir","-")))) -> 43731
C70: 782 | F70: 43304 | G70: 43508 | H70: =IF(F70="","-",IF(G70+I70-F70<=90,"Bilan n°1",IF(AND(G70+I70-F70>90,G70+I70-F70<=180),"Bilan n°2",IF(AND(G70+I70-F70>180,G70+I70-F70<=270),"Bilan n°3",IF(AND(G70+I70-F70>270,G70+I70-F70<=360),"Bilan n°4",IF(AND(G70+I70-F70>360,G70+I70-F70<=450),"Bilan n°5",IF(AND(G70+I70-F70>450,G70+I70-F70<=540),"Bilan n°6",IF(AND(G70+I70-F70>540,G70+I70-F70<=630),"Bilan n°7",IF(AND(G70+I70-F70>630,G70+I70-F70<=720),"Bilan n°8",IF(AND(G70+I70-F70>720,G70+I70-F70<=810),"Bilan n°9",IF(AND(G70+I70-F70>810,G70+I70-F70<=900),"Bilan n°10",IF(AND(G70+I70-F70>900,G70+I70-F70<=990),"Bilan n°11",IF(AND(G70+I70-F70>990,G70+I70-F70<=1180),"Bilan n°12"))))))))))))) -> Bilan n°3 | J70: =IF(OR(H70="Bilan n°1",H70="Bilan n°2",H70="Bilan n°3",H70="Bilan n°4",H70="Bilan n°5",H70="Bilan n°6",H70="Bilan n°7",H70="Bilan n°8",H70="Bilan n°9",H70="Bilan n°10",H70="Bilan n°11",H70="Bilan n°12"),EDATE(L70,3),"-") -> 43599 | K70: 2 | L70: =IF(K70="AP","",IF(G70="-","",IF(G70="","",EDATE(G70,0)+K70+I70))) -> 43510 | M70: =IF(J70="-","",EDATE(J70,3)+4) -> 43695 | O70: =IF(A70="Résiliation","-",IF(H70="Bilan n°1","Bilan n°1",IF(H70="Bilan n°2","Bilan n°1",IF(H70="Bilan n°4","Bilan n°2",IF(H70="Bilan n°3","Bilan n°2",IF(H70="Bilan n°5","Bilan n°3",IF(H70="Bilan n°6","Bilan n°3",IF(H70="Bilan n°7","Bilan n°4",IF(H70="Bilan n°9","Bilan n°5",IF(H70="Bilan n°10","Bilan n°6","-")))))))))) -> Bilan n°2 | P70: =IF(N70="","A programmer",N70+360) -> A programmer | Q70: =IF(A70="Résiliation","-",IF(H70="Bilan n°1","Bilan n°1",IF(H70="Bilan n°2","Bilan n°1",IF(H70="Bilan n°3","Bilan n°1",IF(H70="Bilan n°4","Bilan n°1",IF(H70="Bilan n°5","Bilan n°2",IF(H70="Bilan n°6","Bilan n°2",IF(H70="Bilan n°7","Bilan n°2",IF(H70="Bilan n°8","Bilan n°2",IF(H70="Bilan n°9","Bilan n°2",IF(H70="Bilan n°10","Bilan n°2","-"))))))))))) -> Bilan n°1 | S70: =IF(R70="","A programmer",IF(R70=1,F70+360,IF(R70=2,F70+720,IF(R70=3,"Réabo à prévoir","-")))) -> A programmer
C71: 790 | F71: 43027 | G71: 43559 | H71: =IF(F71="","-",IF(G71+I71-F71<=90,"Bilan n°1",IF(AND(G71+I71-F71>90,G71+I71-F71<=180),"Bilan n°2",IF(AND(G71+I71-F71>180,G71+I71-F71<=270),"Bilan n°3",IF(AND(G71+I71-F71>270,G71+I71-F71<=360),"Bilan n°4",IF(AND(G71+I71-F71>360,G71+I71-F71<=450),"Bilan n°5",IF(AND(G71+I71-F71>450,G71+I71-F71<=540),"Bilan n°6",IF(AND(G71+I71-F71>540,G71+I71-F71<=630),"Bilan n°7",IF(AND(G71+I71-F71>630,G71+I71-F71<=720),"Bilan n°8",IF(AND(G71+I71-F71>720,G71+I71-F71<=810),"Bilan n°9",IF(AND(G71+I71-F71>810,G71+I71-F71<=900),"Bilan n°10",IF(AND(G71+I71-F71>900,G71+I71-F71<=990),"Bilan n°11",IF(AND(G71+I71-F71>990,G71+I71-F71<=1180),"Bilan n°12"))))))))))))) -> Bilan n°6 | J71: =IF(OR(H71="Bilan n°1",H71="Bilan n°2",H71="Bilan n°3",H71="Bilan n°4",H71="Bilan n°5",H71="Bilan n°6",H71="Bilan n°7",H71="Bilan n°8",H71="Bilan n°9",H71="Bilan n°10",H71="Bilan n°11",H71="Bilan n°12"),EDATE(L71,3),"-") -> 43651 | K71: 1 | L71: =IF(K71="AP","",IF(G71="-","",IF(G71="","",EDATE(G71,0)+K71+I71))) -> 43560 | M71: =IF(J71="-","",EDATE(J71,3)+4) -> 43747 | N71: 43558 | O71: =IF(A71="Résiliation","-",IF(H71="Bilan n°1","Bilan n°1",IF(H71="Bilan n°2","Bilan n°1",IF(H71="Bilan n°4","Bilan n°2",IF(H71="Bilan n°3","Bilan n°2",IF(H71="Bilan n°5","Bilan n°3",IF(H71="Bilan n°6","Bilan n°3",IF(H71="Bilan n°7","Bilan n°4",IF(H71="Bilan n°9","Bilan n°5",IF(H71="Bilan n°10","Bilan n°6","-")))))))))) -> Bilan n°3 | P71: =IF(N71="","A programmer",N71+360) -> 43918 | Q71: =IF(A71="Résiliation","-",IF(H71="Bilan n°1","Bilan n°1",IF(H71="Bilan n°2","Bilan n°1",IF(H71="Bilan n°3","Bilan n°1",IF(H71="Bilan n°4","Bilan n°1",IF(H71="Bilan n°5","Bilan n°2",IF(H71="Bilan n°6","Bilan n°2",IF(H71="Bilan n°7","Bilan n°2",IF(H71="Bilan n°8","Bilan n°2",IF(H71="Bilan n°9","Bilan n°2",IF(H71="Bilan n°10","Bilan n°2","-"))))))))))) -> Bilan n°2 | R71: 2 | S71: =IF(R71="","A programmer",IF(R71=1,F71+360,IF(R71=2,F71+720,IF(R71=3,"Réabo à prévoir","-")))) -> 43747
C72: 800 | F72: 43441 | G72: 43495 | H72: =IF(F72="","-",IF(G72+I72-F72<=90,"Bilan n°1",IF(AND(G72+I72-F72>90,G72+I72-F72<=180),"Bilan n°2",IF(AND(G72+I72-F72>180,G72+I72-F72<=270),"Bilan n°3",IF(AND(G72+I72-F72>270,G72+I72-F72<=360),"Bilan n°4",IF(AND(G72+I72-F72>360,G72+I72-F72<=450),"Bilan n°5",IF(AND(G72+I72-F72>450,G72+I72-F72<=540),"Bilan n°6",IF(AND(G72+I72-F72>540,G72+I72-F72<=630),"Bilan n°7",IF(AND(G72+I72-F72>630,G72+I72-F72<=720),"Bilan n°8",IF(AND(G72+I72-F72>720,G72+I72-F72<=810),"Bilan n°9",IF(AND(G72+I72-F72>810,G72+I72-F72<=900),"Bilan n°10",IF(AND(G72+I72-F72>900,G72+I72-F72<=990),"Bilan n°11",IF(AND(G72+I72-F72>990,G72+I72-F72<=1180),"Bilan n°12"))))))))))))) -> Bilan n°1 | J72: =IF(OR(H72="Bilan n°1",H72="Bilan n°2",H72="Bilan n°3",H72="Bilan n°4",H72="Bilan n°5",H72="Bilan n°6",H72="Bilan n°7",H72="Bilan n°8",H72="Bilan n°9",H72="Bilan n°10",H72="Bilan n°11",H72="Bilan n°12"),EDATE(L72,3),"-") -> 43592 | K72: 8 | L72: =IF(K72="AP","",IF(G72="-","",IF(G72="","",EDATE(G72,0)+K72+I72))) -> 43503 | M72: =IF(J72="-","",EDATE(J72,3)+4) -> 43688 | N72: 43544 | O72: =IF(A72="Résiliation","-",IF(H72="Bilan n°1","Bilan n°1",IF(H72="Bilan n°2","Bilan n°1",IF(H72="Bilan n°4","Bilan n°2",IF(H72="Bilan n°3","Bilan n°2",IF(H72="Bilan n°5","Bilan n°3",IF(H72="Bilan n°6","Bilan n°3",IF(H72="Bilan n°7","Bilan n°4",IF(H72="Bilan n°9","Bilan n°5",IF(H72="Bilan n°10","Bilan n°6","-")))))))))) -> Bilan n°1 | P72: =IF(N72="","A programmer",N72+360) -> 43904 | Q72: =IF(A72="Résiliation","-",IF(H72="Bilan n°1","Bilan n°1",IF(H72="Bilan n°2","Bilan n°1",IF(H72="Bilan n°3","Bilan n°1",IF(H72="Bilan n°4","Bilan n°1",IF(H72="Bilan n°5","Bilan n°2",IF(H72="Bilan n°6","Bilan n°2",IF(H72="Bilan n°7","Bilan n°2",IF(H72="Bilan n°8","Bilan n°2",IF(H72="Bilan n°9","Bilan n°2",IF(H72="Bilan n°10","Bilan n°2","-"))))))))))) -> Bilan n°1 | R72: 1 | S72: =IF(R72="","A programmer",IF(R72=1,F72+360,IF(R72=2,F72+720,IF(R72=3,"Réabo à prévoir","-")))) -> 43801
C73: 807 | F73: 43561 | G73: 42753 | H73: =IF(F73="","-",IF(G73+I73-F73<=90,"Bilan n°1",IF(AND(G73+I73-F73>90,G73+I73-F73<=180),"Bilan n°2",IF(AND(G73+I73-F73>180,G73+I73-F73<=270),"Bilan n°3",IF(AND(G73+I73-F73>270,G73+I73-F73<=360),"Bilan n°4",IF(AND(G73+I73-F73>360,G73+I73-F73<=450),"Bilan n°5",IF(AND(G73+I73-F73>450,G73+I73-F73<=540),"Bilan n°6",IF(AND(G73+I73-F73>540,G73+I73-F73<=630),"Bilan n°7",IF(AND(G73+I73-F73>630,G73+I73-F73<=720),"Bilan n°8",IF(AND(G73+I73-F73>720,G73+I73-F73<=810),"Bilan n°9",IF(AND(G73+I73-F73>810,G73+I73-F73<=900),"Bilan n°10",IF(AND(G73+I73-F73>900,G73+I73-F73<=990),"Bilan n°11",IF(AND(G73+I73-F73>990,G73+I73-F73<=1180),"Bilan n°12"))))))))))))) -> Bilan n°1 | J73: =IF(OR(H73="Bilan n°1",H73="Bilan n°2",H73="Bilan n°3",H73="Bilan n°4",H73="Bilan n°5",H73="Bilan n°6",H73="Bilan n°7",H73="Bilan n°8",H73="Bilan n°9",H73="Bilan n°10",H73="Bilan n°11",H73="Bilan n°12"),EDATE(L73,3),"-") -> 43013 | K73: 4 | L73: 42921 | M73: =IF(J73="-","",EDATE(J73,3)+4) -> 43109 | O73: =IF(A73="Résiliation","-",IF(H73="Bilan n°1","Bilan n°1",IF(H73="Bilan n°2","Bilan n°1",IF(H73="Bilan n°4","Bilan n°2",IF(H73="Bilan n°3","Bilan n°2",IF(H73="Bilan n°5","Bilan n°3",IF(H73="Bilan n°6","Bilan n°3",IF(H73="Bilan n°7","Bilan n°4",IF(H73="Bilan n°9","Bilan n°5",IF(H73="Bilan n°10","Bilan n°6","-")))))))))) -> Bilan n°1 | P73: =IF(N73="","A programmer",N73+360) -> A programmer | Q73: =IF(A73="Résiliation","-",IF(H73="Bilan n°1","Bilan n°1",IF(H73="Bilan n°2","Bilan n°1",IF(H73="Bilan n°3","Bilan n°1",IF(H73="Bilan n°4","Bilan n°1",IF(H73="Bilan n°5","Bilan n°2",IF(H73="Bilan n°6","Bilan n°2",IF(H73="Bilan n°7","Bilan n°2",IF(H73="Bilan n°8","Bilan n°2",IF(H73="Bilan n°9","Bilan n°2",IF(H73="Bilan n°10","Bilan n°2","-"))))))))))) -> Bilan n°1 | R73: 2 | S73: =IF(R73="","A programmer",IF(R73=1,F73+360,IF(R73=2,F73+720,IF(R73=3,"Réabo à prévoir","-")))) -> 44281
C74: 808 | F74: 43543 | G74: 43431 | H74: =IF(F74="","-",IF(G74+I74-F74<=90,"Bilan n°1",IF(AND(G74+I74-F74>90,G74+I74-F74<=180),"Bilan n°2",IF(AND(G74+I74-F74>180,G74+I74-F74<=270),"Bilan n°3",IF(AND(G74+I74-F74>270,G74+I74-F74<=360),"Bilan n°4",IF(AND(G74+I74-F74>360,G74+I74-F74<=450),"Bilan n°5",IF(AND(G74+I74-F74>450,G74+I74-F74<=540),"Bilan n°6",IF(AND(G74+I74-F74>540,G74+I74-F74<=630),"Bilan n°7",IF(AND(G74+I74-F74>630,G74+I74-F74<=720),"Bilan n°8",IF(AND(G74+I74-F74>720,G74+I74-F74<=810),"Bilan n°9",IF(AND(G74+I74-F74>810,G74+I74-F74<=900),"Bilan n°10",IF(AND(G74+I74-F74>900,G74+I74-F74<=990),"Bilan n°11",IF(AND(G74+I74-F74>990,G74+I74-F74<=1180),"Bilan n°12"))))))))))))) -> Bilan n°1 | J74: =IF(OR(H74="Bilan n°1",H74="Bilan n°2",H74="Bilan n°3",H74="Bilan n°4",H74="Bilan n°5",H74="Bilan n°6",H74="Bilan n°7",H74="Bilan n°8",H74="Bilan n°9",H74="Bilan n°10",H74="Bilan n°11",H74="Bilan n°12"),EDATE(L74,3),"-") -> 43524 | K74: 3 | L74: =IF(K74="AP","",IF(G74="-","",IF(G74="","",EDATE(G74,0)+K74+I74))) -> 43434 | M74: =IF(J74="-","",EDATE(J74,3)+4) -> 43617 | N74: 42655 | O74: =IF(A74="Résiliation","-",IF(H74="Bilan n°1","Bilan n°1",IF(H74="Bilan n°2","Bilan n°1",IF(H74="Bilan n°4","Bilan n°2",IF(H74="Bilan n°3","Bilan n°2",IF(H74="Bilan n°5","Bilan n°3",IF(H74="Bilan n°6","Bilan n°3",IF(H74="Bilan n°7","Bilan n°4",IF(H74="Bilan n°9","Bilan n°5",IF(H74="Bilan n°10","Bilan n°6","-")))))))))) -> Bilan n°1 | P74: =IF(N74="","A programmer",N74+360) -> 43015 | Q74: =IF(A74="Résiliation","-",IF(H74="Bilan n°1","Bilan n°1",IF(H74="Bilan n°2","Bilan n°1",IF(H74="Bilan n°3","Bilan n°1",IF(H74="Bilan n°4","Bilan n°1",IF(H74="Bilan n°5","Bilan n°2",IF(H74="Bilan n°6","Bilan n°2",IF(H74="Bilan n°7","Bilan n°2",IF(H74="Bilan n°8","Bilan n°2",IF(H74="Bilan n°9","Bilan n°2",IF(H74="Bilan n°10","Bilan n°2","-"))))))))))) -> Bilan n°1 | R74: 2 | S74: =IF(R74="","A programmer",IF(R74=1,F74+360,IF(R74=2,F74+720,IF(R74=3,"Réabo à prévoir","-")))) -> 44263
C75: 810 | F75: 43574 | G75: 42804 | H75: =IF(F75="","-",IF(G75+I75-F75<=90,"Bilan n°1",IF(AND(G75+I75-F75>90,G75+I75-F75<=180),"Bilan n°2",IF(AND(G75+I75-F75>180,G75+I75-F75<=270),"Bilan n°3",IF(AND(G75+I75-F75>270,G75+I75-F75<=360),"Bilan n°4",IF(AND(G75+I75-F75>360,G75+I75-F75<=450),"Bilan n°5",IF(AND(G75+I75-F75>450,G75+I75-F75<=540),"Bilan n°6",IF(AND(G75+I75-F75>540,G75+I75-F75<=630),"Bilan n°7",IF(AND(G75+I75-F75>630,G75+I75-F75<=720),"Bilan n°8",IF(AND(G75+I75-F75>720,G75+I75-F75<=810),"Bilan n°9",IF(AND(G75+I75-F75>810,G75+I75-F75<=900),"Bilan n°10",IF(AND(G75+I75-F75>900,G75+I75-F75<=990),"Bilan n°11",IF(AND(G75+I75-F75>990,G75+I75-F75<=1180),"Bilan n°12"))))))))))))) -> Bilan n°1 | J75: =IF(OR(H75="Bilan n°1",H75="Bilan n°2",H75="Bilan n°3",H75="Bilan n°4",H75="Bilan n°5",H75="Bilan n°6",H75="Bilan n°7",H75="Bilan n°8",H75="Bilan n°9",H75="Bilan n°10",H75="Bilan n°11",H75="Bilan n°12"),EDATE(L75,3),"-") -> 42900 | K75: 4 | L75: =IF(K75="AP","",IF(G75="-","",IF(G75="","",EDATE(G75,0)+K75+I75))) -> 42808 | M75: =IF(J75="-","",EDATE(J75,3)+4) -> 42996 | N75: 42662 | O75: =IF(A75="Résiliation","-",IF(H75="Bilan n°1","Bilan n°1",IF(H75="Bilan n°2","Bilan n°1",IF(H75="Bilan n°4","Bilan n°2",IF(H75="Bilan n°3","Bilan n°2",IF(H75="Bilan n°5","Bilan n°3",IF(H75="Bilan n°6","Bilan n°3",IF(H75="Bilan n°7","Bilan n°4",IF(H75="Bilan n°9","Bilan n°5",IF(H75="Bilan n°10","Bilan n°6","-")))))))))) -> Bilan n°1 | P75: =IF(N75="","A programmer",N75+360) -> 43022 | Q75: =IF(A75="Résiliation","-",IF(H75="Bilan n°1","Bilan n°1",IF(H75="Bilan n°2","Bilan n°1",IF(H75="Bilan n°3","Bilan n°1",IF(H75="Bilan n°4","Bilan n°1",IF(H75="Bilan n°5","Bilan n°2",IF(H75="Bilan n°6","Bilan n°2",IF(H75="Bilan n°7","Bilan n°2",IF(H75="Bilan n°8","Bilan n°2",IF(H75="Bilan n°9","Bilan n°2",IF(H75="Bilan n°10","Bilan n°2","-"))))))))))) -> Bilan n°1 | R75: 1 | S75: =IF(R75="","A programmer",IF(R75=1,F75+360,IF(R75=2,F75+720,IF(R75=3,"Réabo à prévoir","-")))) -> 43934
C76: 815 | F76: 42660 | G76: 42906 | H76: =IF(F76="","-",IF(G76+I76-F76<=90,"Bilan n°1",IF(AND(G76+I76-F76>90,G76+I76-F76<=180),"Bilan n°2",IF(AND(G76+I76-F76>180,G76+I76-F76<=270),"Bilan n°3",IF(AND(G76+I76-F76>270,G76+I76-F76<=360),"Bilan n°4",IF(AND(G76+I76-F76>360,G76+I76-F76<=450),"Bilan n°5",IF(AND(G76+I76-F76>450,G76+I76-F76<=540),"Bilan n°6",IF(AND(G76+I76-F76>540,G76+I76-F76<=630),"Bilan n°7",IF(AND(G76+I76-F76>630,G76+I76-F76<=720),"Bilan n°8",IF(AND(G76+I76-F76>720,G76+I76-F76<=810),"Bilan n°9",IF(AND(G76+I76-F76>810,G76+I76-F76<=900),"Bilan n°10",IF(AND(G76+I76-F76>900,G76+I76-F76<=990),"Bilan n°11",IF(AND(G76+I76-F76>990,G76+I76-F76<=1180),"Bilan n°12"))))))))))))) -> Bilan n°3 | J76: =IF(OR(H76="Bilan n°1",H76="Bilan n°2",H76="Bilan n°3",H76="Bilan n°4",H76="Bilan n°5",H76="Bilan n°6",H76="Bilan n°7",H76="Bilan n°8",H76="Bilan n°9",H76="Bilan n°10",H76="Bilan n°11",H76="Bilan n°12"),EDATE(L76,3),"-") -> 43002 | K76: 4 | L76: =IF(K76="AP","",IF(G76="-","",IF(G76="","",EDATE(G76,0)+K76+I76))) -> 42910 | M76: =IF(J76="-","",EDATE(J76,3)+4) -> 43097 | N76: 42669 | O76: =IF(A76="Résiliation","-",IF(H76="Bilan n°1","Bilan n°1",IF(H76="Bilan n°2","Bilan n°1",IF(H76="Bilan n°4","Bilan n°2",IF(H76="Bilan n°3","Bilan n°2",IF(H76="Bilan n°5","Bilan n°3",IF(H76="Bilan n°6","Bilan n°3",IF(H76="Bilan n°7","Bilan n°4",IF(H76="Bilan n°9","Bilan n°5",IF(H76="Bilan n°10","Bilan n°6","-")))))))))) -> Bilan n°2 | P76: =IF(N76="","A programmer",N76+360) -> 43029 | Q76: =IF(A76="Résiliation","-",IF(H76="Bilan n°1","Bilan n°1",IF(H76="Bilan n°2","Bilan n°1",IF(H76="Bilan n°3","Bilan n°1",IF(H76="Bilan n°4","Bilan n°1",IF(H76="Bilan n°5","Bilan n°2",IF(H76="Bilan n°6","Bilan n°2",IF(H76="Bilan n°7","Bilan n°2",IF(H76="Bilan n°8","Bilan n°2",IF(H76="Bilan n°9","Bilan n°2",IF(H76="Bilan n°10","Bilan n°2","-"))))))))))) -> Bilan n°1 | R76: 1 | S76: =IF(R76="","A programmer",IF(R76=1,F76+360,IF(R76=2,F76+720,IF(R76=3,"Réabo à prévoir","-")))) -> 43020
C77: 818 | F77: 42966 | G77: 43076 | H77: =IF(F77="","-",IF(G77+I77-F77<=90,"Bilan n°1",IF(AND(G77+I77-F77>90,G77+I77-F77<=180),"Bilan n°2",IF(AND(G77+I77-F77>180,G77+I77-F77<=270),"Bilan n°3",IF(AND(G77+I77-F77>270,G77+I77-F77<=360),"Bilan n°4",IF(AND(G77+I77-F77>360,G77+I77-F77<=450),"Bilan n°5",IF(AND(G77+I77-F77>450,G77+I77-F77<=540),"Bilan n°6",IF(AND(G77+I77-F77>540,G77+I77-F77<=630),"Bilan n°7",IF(AND(G77+I77-F77>630,G77+I77-F77<=720),"Bilan n°8",IF(AND(G77+I77-F77>720,G77+I77-F77<=810),"Bilan n°9",IF(AND(G77+I77-F77>810,G77+I77-F77<=900),"Bilan n°10",IF(AND(G77+I77-F77>900,G77+I77-F77<=990),"Bilan n°11",IF(AND(G77+I77-F77>990,G77+I77-F77<=1180),"Bilan n°12"))))))))))))) -> Bilan n°2 | J77: =IF(OR(H77="Bilan n°1",H77="Bilan n°2",H77="Bilan n°3",H77="Bilan n°4",H77="Bilan n°5",H77="Bilan n°6",H77="Bilan n°7",H77="Bilan n°8",H77="Bilan n°9",H77="Bilan n°10",H77="Bilan n°11",H77="Bilan n°12"),EDATE(L77,3),"-") -> 43170 | K77: 4 | L77: =IF(K77="AP","",IF(G77="-","",IF(G77="","",EDATE(G77,0)+K77+I77))) -> 43080 | M77: =IF(J77="-","",EDATE(J77,3)+4) -> 43266 | O77: =IF(A77="Résiliation","-",IF(H77="Bilan n°1","Bilan n°1",IF(H77="Bilan n°2","Bilan n°1",IF(H77="Bilan n°4","Bilan n°2",IF(H77="Bilan n°3","Bilan n°2",IF(H77="Bilan n°5","Bilan n°3",IF(H77="Bilan n°6","Bilan n°3",IF(H77="Bilan n°7","Bilan n°4",IF(H77="Bilan n°9","Bilan n°5",IF(H77="Bilan n°10","Bilan n°6","-")))))))))) -> Bilan n°1 | P77: =IF(N77="","A programmer",N77+360) -> A programmer | Q77: =IF(A77="Résiliation","-",IF(H77="Bilan n°1","Bilan n°1",IF(H77="Bilan n°2","Bilan n°1",IF(H77="Bilan n°3","Bilan n°1",IF(H77="Bilan n°4","Bilan n°1",IF(H77="Bilan n°5","Bilan n°2",IF(H77="Bilan n°6","Bilan n°2",IF(H77="Bilan n°7","Bilan n°2",IF(H77="Bilan n°8","Bilan n°2",IF(H77="Bilan n°9","Bilan n°2",IF(H77="Bilan n°10","Bilan n°2","-"))))))))))) -> Bilan n°1 | R77: 1 | S77: =IF(R77="","A programmer",IF(R77=1,F77+360,IF(R77=2,F77+720,IF(R77=3,"Réabo à prévoir","-")))) -> 43326
C78: 826 | F78: 43255 | G78: 43509 | H78: =IF(F78="","-",IF(G78+I78-F78<=90,"Bilan n°1",IF(AND(G78+I78-F78>90,G78+I78-F78<=180),"Bilan n°2",IF(AND(G78+I78-F78>180,G78+I78-F78<=270),"Bilan n°3",IF(AND(G78+I78-F78>270,G78+I78-F78<=360),"Bilan n°4",IF(AND(G78+I78-F78>360,G78+I78-F78<=450),"Bilan n°5",IF(AND(G78+I78-F78>450,G78+I78-F78<=540),"Bilan n°6",IF(AND(G78+I78-F78>540,G78+I78-F78<=630),"Bilan n°7",IF(AND(G78+I78-F78>630,G78+I78-F78<=720),"Bilan n°8",IF(AND(G78+I78-F78>720,G78+I78-F78<=810),"Bilan n°9",IF(AND(G78+I78-F78>810,G78+I78-F78<=900),"Bilan n°10",IF(AND(G78+I78-F78>900,G78+I78-F78<=990),"Bilan n°11",IF(AND(G78+I78-F78>990,G78+I78-F78<=1180),"Bilan n°12"))))))))))))) -> Bilan n°3 | J78: =IF(OR(H78="Bilan n°1",H78="Bilan n°2",H78="Bilan n°3",H78="Bilan n°4",H78="Bilan n°5",H78="Bilan n°6",H78="Bilan n°7",H78="Bilan n°8",H78="Bilan n°9",H78="Bilan n°10",H78="Bilan n°11",H78="Bilan n°12"),EDATE(L78,3),"-") -> 43600 | K78: 2 | L78: =IF(K78="AP","",IF(G78="-","",IF(G78="","",EDATE(G78,0)+K78+I78))) -> 43511 | M78: =IF(J78="-","",EDATE(J78,3)+4) -> 43696 | N78: 43403 | O78: =IF(A78="Résiliation","-",IF(H78="Bilan n°1","Bilan n°1",IF(H78="Bilan n°2","Bilan n°1",IF(H78="Bilan n°4","Bilan n°2",IF(H78="Bilan n°3","Bilan n°2",IF(H78="Bilan n°5","Bilan n°3",IF(H78="Bilan n°6","Bilan n°3",IF(H78="Bilan n°7","Bilan n°4",IF(H78="Bilan n°9","Bilan n°5",IF(H78="Bilan n°10","Bilan n°6","-")))))))))) -> Bilan n°2 | P78: =IF(N78="","A programmer",N78+360) -> 43763 | Q78: =IF(A78="Résiliation","-",IF(H78="Bilan n°1","Bilan n°1",IF(H78="Bilan n°2","Bilan n°1",IF(H78="Bilan n°3","Bilan n°1",IF(H78="Bilan n°4","Bilan n°1",IF(H78="Bilan n°5","Bilan n°2",IF(H78="Bilan n°6","Bilan n°2",IF(H78="Bilan n°7","Bilan n°2",IF(H78="Bilan n°8","Bilan n°2",IF(H78="Bilan n°9","Bilan n°2",IF(H78="Bilan n°10","Bilan n°2","-"))))))))))) -> Bilan n°1 | S78: =IF(R78="","A programmer",IF(R78=1,F78+360,IF(R78=2,F78+720,IF(R78=3,"Réabo à prévoir","-")))) -> A programmer
C79: 828 | F79: 43574 | G79: 43038 | H79: =IF(F79="","-",IF(G79+I79-F79<=90,"Bilan n°1",IF(AND(G79+I79-F79>90,G79+I79-F79<=180),"Bilan n°2",IF(AND(G79+I79-F79>180,G79+I79-F79<=270),"Bilan n°3",IF(AND(G79+I79-F79>270,G79+I79-F79<=360),"Bilan n°4",IF(AND(G79+I79-F79>360,G79+I79-F79<=450),"Bilan n°5",IF(AND(G79+I79-F79>450,G79+I79-F79<=540),"Bilan n°6",IF(AND(G79+I79-F79>540,G79+I79-F79<=630),"Bilan n°7",IF(AND(G79+I79-F79>630,G79+I79-F79<=720),"Bilan n°8",IF(AND(G79+I79-F79>720,G79+I79-F79<=810),"Bilan n°9",IF(AND(G79+I79-F79>810,G79+I79-F79<=900),"Bilan n°10",IF(AND(G79+I79-F79>900,G79+I79-F79<=990),"Bilan n°11",IF(AND(G79+I79-F79>990,G79+I79-F79<=1180),"Bilan n°12"))))))))))))) -> Bilan n°1 | J79: =IF(OR(H79="Bilan n°1",H79="Bilan n°2",H79="Bilan n°3",H79="Bilan n°4",H79="Bilan n°5",H79="Bilan n°6",H79="Bilan n°7",H79="Bilan n°8",H79="Bilan n°9",H79="Bilan n°10",H79="Bilan n°11",H79="Bilan n°12"),EDATE(L79,3),"-") -> 43134 | K79: 4 | L79: =IF(K79="AP","",IF(G79="-","",IF(G79="","",EDATE(G79,0)+K79+I79))) -> 43042 | M79: =IF(J79="-","",EDATE(J79,3)+4) -> 43227 | N79: 42691 | O79: =IF(A79="Résiliation","-",IF(H79="Bilan n°1","Bilan n°1",IF(H79="Bilan n°2","Bilan n°1",IF(H79="Bilan n°4","Bilan n°2",IF(H79="Bilan n°3","Bilan n°2",IF(H79="Bilan n°5","Bilan n°3",IF(H79="Bilan n°6","Bilan n°3",IF(H79="Bilan n°7","Bilan n°4",IF(H79="Bilan n°9","Bilan n°5",IF(H79="Bilan n°10","Bilan n°6","-")))))))))) -> Bilan n°1 | P79: =IF(N79="","A programmer",N79+360) -> 43051 | Q79: =IF(A79="Résiliation","-",IF(H79="Bilan n°1","Bilan n°1",IF(H79="Bilan n°2","Bilan n°1",IF(H79="Bilan n°3","Bilan n°1",IF(H79="Bilan n°4","Bilan n°1",IF(H79="Bilan n°5","Bilan n°2",IF(H79="Bilan n°6","Bilan n°2",IF(H79="Bilan n°7","Bilan n°2",IF(H79="Bilan n°8","Bilan n°2",IF(H79="Bilan n°9","Bilan n°2",IF(H79="Bilan n°10","Bilan n°2","-"))))))))))) -> Bilan n°1 | R79: 1 | S79: =IF(R79="","A programmer",IF(R79=1,F79+360,IF(R79=2,F79+720,IF(R79=3,"Réabo à prévoir","-")))) -> 43934
C80: 829 | F80: 43517 | G80: 43518 | H80: =IF(F80="","-",IF(G80+I80-F80<=90,"Bilan n°1",IF(AND(G80+I80-F80>90,G80+I80-F80<=180),"Bilan n°2",IF(AND(G80+I80-F80>180,G80+I80-F80<=270),"Bilan n°3",IF(AND(G80+I80-F80>270,G80+I80-F80<=360),"Bilan n°4",IF(AND(G80+I80-F80>360,G80+I80-F80<=450),"Bilan n°5",IF(AND(G80+I80-F80>450,G80+I80-F80<=540),"Bilan n°6",IF(AND(G80+I80-F80>540,G80+I80-F80<=630),"Bilan n°7",IF(AND(G80+I80-F80>630,G80+I80-F80<=720),"Bilan n°8",IF(AND(G80+I80-F80>720,G80+I80-F80<=810),"Bilan n°9",IF(AND(G80+I80-F80>810,G80+I80-F80<=900),"Bilan n°10",IF(AND(G80+I80-F80>900,G80+I80-F80<=990),"Bilan n°11",IF(AND(G80+I80-F80>990,G80+I80-F80<=1180),"Bilan n°12"))))))))))))) -> Bilan n°1 | J80: =IF(OR(H80="Bilan n°1",H80="Bilan n°2",H80="Bilan n°3",H80="Bilan n°4",H80="Bilan n°5",H80="Bilan n°6",H80="Bilan n°7",H80="Bilan n°8",H80="Bilan n°9",H80="Bilan n°10",H80="Bilan n°11",H80="Bilan n°12"),EDATE(L80,3),"-") -> 43611 | K80: 4 | L80: =IF(K80="AP","",IF(G80="-","",IF(G80="","",EDATE(G80,0)+K80+I80))) -> 43522 | M80: =IF(J80="-","",EDATE(J80,3)+4) -> 43707 | N80: 42697 | O80: =IF(A80="Résiliation","-",IF(H80="Bilan n°1","Bilan n°1",IF(H80="Bilan n°2","Bilan n°1",IF(H80="Bilan n°4","Bilan n°2",IF(H80="Bilan n°3","Bilan n°2",IF(H80="Bilan n°5","Bilan n°3",IF(H80="Bilan n°6","Bilan n°3",IF(H80="Bilan n°7","Bilan n°4",IF(H80="Bilan n°9","Bilan n°5",IF(H80="Bilan n°10","Bilan n°6","-")))))))))) -> Bilan n°1 | P80: =IF(N80="","A programmer",N80+360) -> 43057 | Q80: =IF(A80="Résiliation","-",IF(H80="Bilan n°1","Bilan n°1",IF(H80="Bilan n°2","Bilan n°1",IF(H80="Bilan n°3","Bilan n°1",IF(H80="Bilan n°4","Bilan n°1",IF(H80="Bilan n°5","Bilan n°2",IF(H80="Bilan n°6","Bilan n°2",IF(H80="Bilan n°7","Bilan n°2",IF(H80="Bilan n°8","Bilan n°2",IF(H80="Bilan n°9","Bilan n°2",IF(H80="Bilan n°10","Bilan n°2","-"))))))))))) -> Bilan n°1 | R80: 1 | S80: =IF(R80="","A programmer",IF(R80=1,F80+360,IF(R80=2,F80+720,IF(R80=3,"Réabo à prévoir","-")))) -> 43877
C81: 839 | F81: 43417 | G81: 43418 | H81: =IF(F81="","-",IF(G81+I81-F81<=90,"Bilan n°1",IF(AND(G81+I81-F81>90,G81+I81-F81<=180),"Bilan n°2",IF(AND(G81+I81-F81>180,G81+I81-F81<=270),"Bilan n°3",IF(AND(G81+I81-F81>270,G81+I81-F81<=360),"Bilan n°4",IF(AND(G81+I81-F81>360,G81+I81-F81<=450),"Bilan n°5",IF(AND(G81+I81-F81>450,G81+I81-F81<=540),"Bilan n°6",IF(AND(G81+I81-F81>540,G81+I81-F81<=630),"Bilan n°7",IF(AND(G81+I81-F81>630,G81+I81-F81<=720),"Bilan n°8",IF(AND(G81+I81-F81>720,G81+I81-F81<=810),"Bilan n°9",IF(AND(G81+I81-F81>810,G81+I81-F81<=900),"Bilan n°10",IF(AND(G81+I81-F81>900,G81+I81-F81<=990),"Bilan n°11",IF(AND(G81+I81-F81>990,G81+I81-F81<=1180),"Bilan n°12"))))))))))))) -> Bilan n°1 | J81: =IF(OR(H81="Bilan n°1",H81="Bilan n°2",H81="Bilan n°3",H81="Bilan n°4",H81="Bilan n°5",H81="Bilan n°6",H81="Bilan n°7",H81="Bilan n°8",H81="Bilan n°9",H81="Bilan n°10",H81="Bilan n°11",H81="Bilan n°12"),EDATE(L81,3),"-") -> 43512 | K81: 2 | L81: =IF(K81="AP","",IF(G81="-","",IF(G81="","",EDATE(G81,0)+K81+I81))) -> 43420 | M81: =IF(J81="-","",EDATE(J81,3)+4) -> 43605 | N81: 43418 | O81: =IF(A81="Résiliation","-",IF(H81="Bilan n°1","Bilan n°1",IF(H81="Bilan n°2","Bilan n°1",IF(H81="Bilan n°4","Bilan n°2",IF(H81="Bilan n°3","Bilan n°2",IF(H81="Bilan n°5","Bilan n°3",IF(H81="Bilan n°6","Bilan n°3",IF(H81="Bilan n°7","Bilan n°4",IF(H81="Bilan n°9","Bilan n°5",IF(H81="Bilan n°10","Bilan n°6","-")))))))))) -> Bilan n°1 | P81: =IF(N81="","A programmer",N81+360) -> 43778 | Q81: =IF(A81="Résiliation","-",IF(H81="Bilan n°1","Bilan n°1",IF(H81="Bilan n°2","Bilan n°1",IF(H81="Bilan n°3","Bilan n°1",IF(H81="Bilan n°4","Bilan n°1",IF(H81="Bilan n°5","Bilan n°2",IF(H81="Bilan n°6","Bilan n°2",IF(H81="Bilan n°7","Bilan n°2",IF(H81="Bilan n°8","Bilan n°2",IF(H81="Bilan n°9","Bilan n°2",IF(H81="Bilan n°10","Bilan n°2","-"))))))))))) -> Bilan n°1 | R81: 3 | S81: =IF(R81="","A programmer",IF(R81=1,F81+360,IF(R81=2,F81+720,IF(R81=3,"Réabo à prévoir","-")))) -> Réabo à prévoir
C82: 843 | F82: 43164 | G82: 43416 | H82: =IF(F82="","-",IF(G82+I82-F82<=90,"Bilan n°1",IF(AND(G82+I82-F82>90,G82+I82-F82<=180),"Bilan n°2",IF(AND(G82+I82-F82>180,G82+I82-F82<=270),"Bilan n°3",IF(AND(G82+I82-F82>270,G82+I82-F82<=360),"Bilan n°4",IF(AND(G82+I82-F82>360,G82+I82-F82<=450),"Bilan n°5",IF(AND(G82+I82-F82>450,G82+I82-F82<=540),"Bilan n°6",IF(AND(G82+I82-F82>540,G82+I82-F82<=630),"Bilan n°7",IF(AND(G82+I82-F82>630,G82+I82-F82<=720),"Bilan n°8",IF(AND(G82+I82-F82>720,G82+I82-F82<=810),"Bilan n°9",IF(AND(G82+I82-F82>810,G82+I82-F82<=900),"Bilan n°10",IF(AND(G82+I82-F82>900,G82+I82-F82<=990),"Bilan n°11",IF(AND(G82+I82-F82>990,G82+I82-F82<=1180),"Bilan n°12"))))))))))))) -> Bilan n°3 | J82: =IF(OR(H82="Bilan n°1",H82="Bilan n°2",H82="Bilan n°3",H82="Bilan n°4",H82="Bilan n°5",H82="Bilan n°6",H82="Bilan n°7",H82="Bilan n°8",H82="Bilan n°9",H82="Bilan n°10",H82="Bilan n°11",H82="Bilan n°12"),EDATE(L82,3),"-") -> 43512 | K82: 4 | L82: =IF(K82="AP","",IF(G82="-","",IF(G82="","",EDATE(G82,0)+K82+I82))) -> 43420 | M82: =IF(J82="-","",EDATE(J82,3)+4) -> 43605 | N82: 43418 | O82: =IF(A82="Résiliation","-",IF(H82="Bilan n°1","Bilan n°1",IF(H82="Bilan n°2","Bilan n°1",IF(H82="Bilan n°4","Bilan n°2",IF(H82="Bilan n°3","Bilan n°2",IF(H82="Bilan n°5","Bilan n°3",IF(H82="Bilan n°6","Bilan n°3",IF(H82="Bilan n°7","Bilan n°4",IF(H82="Bilan n°9","Bilan n°5",IF(H82="Bilan n°10","Bilan n°6","-")))))))))) -> Bilan n°2 | P82: =IF(N82="","A programmer",N82+360) -> 43778 | Q82: =IF(A82="Résiliation","-",IF(H82="Bilan n°1","Bilan n°1",IF(H82="Bilan n°2","Bilan n°1",IF(H82="Bilan n°3","Bilan n°1",IF(H82="Bilan n°4","Bilan n°1",IF(H82="Bilan n°5","Bilan n°2",IF(H82="Bilan n°6","Bilan n°2",IF(H82="Bilan n°7","Bilan n°2",IF(H82="Bilan n°8","Bilan n°2",IF(H82="Bilan n°9","Bilan n°2",IF(H82="Bilan n°10","Bilan n°2","-"))))))))))) -> Bilan n°1 | R82: 1 | S82: =IF(R82="","A programmer",IF(R82=1,F82+360,IF(R82=2,F82+720,IF(R82=3,"Réabo à prévoir","-")))) -> 43524
C83: 850 | F83: 43564 | G83: 42879 | H83: =IF(F83="","-",IF(G83+I83-F83<=90,"Bilan n°1",IF(AND(G83+I83-F83>90,G83+I83-F83<=180),"Bilan n°2",IF(AND(G83+I83-F83>180,G83+I83-F83<=270),"Bilan n°3",IF(AND(G83+I83-F83>270,G83+I83-F83<=360),"Bilan n°4",IF(AND(G83+I83-F83>360,G83+I83-F83<=450),"Bilan n°5",IF(AND(G83+I83-F83>450,G83+I83-F83<=540),"Bilan n°6",IF(AND(G83+I83-F83>540,G83+I83-F83<=630),"Bilan n°7",IF(AND(G83+I83-F83>630,G83+I83-F83<=720),"Bilan n°8",IF(AND(G83+I83-F83>720,G83+I83-F83<=810),"Bilan n°9",IF(AND(G83+I83-F83>810,G83+I83-F83<=900),"Bilan n°10",IF(AND(G83+I83-F83>900,G83+I83-F83<=990),"Bilan n°11",IF(AND(G83+I83-F83>990,G83+I83-F83<=1180),"Bilan n°12"))))))))))))) -> Bilan n°1 | J83: =IF(OR(H83="Bilan n°1",H83="Bilan n°2",H83="Bilan n°3",H83="Bilan n°4",H83="Bilan n°5",H83="Bilan n°6",H83="Bilan n°7",H83="Bilan n°8",H83="Bilan n°9",H83="Bilan n°10",H83="Bilan n°11",H83="Bilan n°12"),EDATE(L83,3),"-") -> 42975 | K83: 4 | L83: =IF(K83="AP","",IF(G83="-","",IF(G83="","",EDATE(G83,0)+K83+I83))) -> 42883 | M83: =IF(J83="-","",EDATE(J83,3)+4) -> 43071 | N83: 42747 | O83: =IF(A83="Résiliation","-",IF(H83="Bilan n°1","Bilan n°1",IF(H83="Bilan n°2","Bilan n°1",IF(H83="Bilan n°4","Bilan n°2",IF(H83="Bilan n°3","Bilan n°2",IF(H83="Bilan n°5","Bilan n°3",IF(H83="Bilan n°6","Bilan n°3",IF(H83="Bilan n°7","Bilan n°4",IF(H83="Bilan n°9","Bilan n°5",IF(H83="Bilan n°10","Bilan n°6","-")))))))))) -> Bilan n°1 | P83: =IF(N83="","A programmer",N83+360) -> 43107 | Q83: =IF(A83="Résiliation","-",IF(H83="Bilan n°1","Bilan n°1",IF(H83="Bilan n°2","Bilan n°1",IF(H83="Bilan n°3","Bilan n°1",IF(H83="Bilan n°4","Bilan n°1",IF(H83="Bilan n°5","Bilan n°2",IF(H83="Bilan n°6","Bilan n°2",IF(H83="Bilan n°7","Bilan n°2",IF(H83="Bilan n°8","Bilan n°2",IF(H83="Bilan n°9","Bilan n°2",IF(H83="Bilan n°10","Bilan n°2","-"))))))))))) -> Bilan n°1 | R83: 1 | S83: =IF(R83="","A programmer",IF(R83=1,F83+360,IF(R83=2,F83+720,IF(R83=3,"Réabo à prévoir","-")))) -> 43924
C84: 853 | F84: 43580 | G84: 42822 | H84: =IF(F84="","-",IF(G84+I84-F84<=90,"Bilan n°1",IF(AND(G84+I84-F84>90,G84+I84-F84<=180),"Bilan n°2",IF(AND(G84+I84-F84>180,G84+I84-F84<=270),"Bilan n°3",IF(AND(G84+I84-F84>270,G84+I84-F84<=360),"Bilan n°4",IF(AND(G84+I84-F84>360,G84+I84-F84<=450),"Bilan n°5",IF(AND(G84+I84-F84>450,G84+I84-F84<=540),"Bilan n°6",IF(AND(G84+I84-F84>540,G84+I84-F84<=630),"Bilan n°7",IF(AND(G84+I84-F84>630,G84+I84-F84<=720),"Bilan n°8",IF(AND(G84+I84-F84>720,G84+I84-F84<=810),"Bilan n°9",IF(AND(G84+I84-F84>810,G84+I84-F84<=900),"Bilan n°10",IF(AND(G84+I84-F84>900,G84+I84-F84<=990),"Bilan n°11",IF(AND(G84+I84-F84>990,G84+I84-F84<=1180),"Bilan n°12"))))))))))))) -> Bilan n°1 | J84: =IF(OR(H84="Bilan n°1",H84="Bilan n°2",H84="Bilan n°3",H84="Bilan n°4",H84="Bilan n°5",H84="Bilan n°6",H84="Bilan n°7",H84="Bilan n°8",H84="Bilan n°9",H84="Bilan n°10",H84="Bilan n°11",H84="Bilan n°12"),EDATE(L84,3),"-") -> 42917 | K84: 4 | L84: =IF(K84="AP","",IF(G84="-","",IF(G84="","",EDATE(G84,0)+K84+I84))) -> 42826 | M84: =IF(J84="-","",EDATE(J84,3)+4) -> 43013 | N84: 42762 | O84: =IF(A84="Résiliation","-",IF(H84="Bilan n°1","Bilan n°1",IF(H84="Bilan n°2","Bilan n°1",IF(H84="Bilan n°4","Bilan n°2",IF(H84="Bilan n°3","Bilan n°2",IF(H84="Bilan n°5","Bilan n°3",IF(H84="Bilan n°6","Bilan n°3",IF(H84="Bilan n°7","Bilan n°4",IF(H84="Bilan n°9","Bilan n°5",IF(H84="Bilan n°10","Bilan n°6","-")))))))))) -> Bilan n°1 | P84: =IF(N84="","A programmer",N84+360) -> 43122 | Q84: =IF(A84="Résiliation","-",IF(H84="Bilan n°1","Bilan n°1",IF(H84="Bilan n°2","Bilan n°1",IF(H84="Bilan n°3","Bilan n°1",IF(H84="Bilan n°4","Bilan n°1",IF(H84="Bilan n°5","Bilan n°2",IF(H84="Bilan n°6","Bilan n°2",IF(H84="Bilan n°7","Bilan n°2",IF(H84="Bilan n°8","Bilan n°2",IF(H84="Bilan n°9","Bilan n°2",IF(H84="Bilan n°10","Bilan n°2","-"))))))))))) -> Bilan n°1 | R84: 1 | S84: =IF(R84="","A programmer",IF(R84=1,F84+360,IF(R84=2,F84+720,IF(R84=3,"Réabo à prévoir","-")))) -> 43940
C85: 858 | F85: 42766 | G85: 43553 | H85: =IF(F85="","-",IF(G85+I85-F85<=90,"Bilan n°1",IF(AND(G85+I85-F85>90,G85+I85-F85<=180),"Bilan n°2",IF(AND(G85+I85-F85>180,G85+I85-F85<=270),"Bilan n°3",IF(AND(G85+I85-F85>270,G85+I85-F85<=360),"Bilan n°4",IF(AND(G85+I85-F85>360,G85+I85-F85<=450),"Bilan n°5",IF(AND(G85+I85-F85>450,G85+I85-F85<=540),"Bilan n°6",IF(AND(G85+I85-F85>540,G85+I85-F85<=630),"Bilan n°7",IF(AND(G85+I85-F85>630,G85+I85-F85<=720),"Bilan n°8",IF(AND(G85+I85-F85>720,G85+I85-F85<=810),"Bilan n°9",IF(AND(G85+I85-F85>810,G85+I85-F85<=900),"Bilan n°10",IF(AND(G85+I85-F85>900,G85+I85-F85<=990),"Bilan n°11",IF(AND(G85+I85-F85>990,G85+I85-F85<=1180),"Bilan n°12"))))))))))))) -> Bilan n°9 | J85: =IF(OR(H85="Bilan n°1",H85="Bilan n°2",H85="Bilan n°3",H85="Bilan n°4",H85="Bilan n°5",H85="Bilan n°6",H85="Bilan n°7",H85="Bilan n°8",H85="Bilan n°9",H85="Bilan n°10",H85="Bilan n°11",H85="Bilan n°12"),EDATE(L85,3),"-") -> 43651 | K85: 7 | L85: =IF(K85="AP","",IF(G85="-","",IF(G85="","",EDATE(G85,0)+K85+I85))) -> 43560 | M85: =IF(J85="-","",EDATE(J85,3)+4) -> 43747 | N85: 43117 | O85: =IF(A85="Résiliation","-",IF(H85="Bilan n°1","Bilan n°1",IF(H85="Bilan n°2","Bilan n°1",IF(H85="Bilan n°4","Bilan n°2",IF(H85="Bilan n°3","Bilan n°2",IF(H85="Bilan n°5","Bilan n°3",IF(H85="Bilan n°6","Bilan n°3",IF(H85="Bilan n°7","Bilan n°4",IF(H85="Bilan n°9","Bilan n°5",IF(H85="Bilan n°10","Bilan n°6","-")))))))))) -> Bilan n°5 | P85: =IF(N85="","A programmer",N85+360) -> 43477 | Q85: =IF(A85="Résiliation","-",IF(H85="Bilan n°1","Bilan n°1",IF(H85="Bilan n°2","Bilan n°1",IF(H85="Bilan n°3","Bilan n°1",IF(H85="Bilan n°4","Bilan n°1",IF(H85="Bilan n°5","Bilan n°2",IF(H85="Bilan n°6","Bilan n°2",IF(H85="Bilan n°7","Bilan n°2",IF(H85="Bilan n°8","Bilan n°2",IF(H85="Bilan n°9","Bilan n°2",IF(H85="Bilan n°10","Bilan n°2","-"))))))))))) -> Bilan n°2 | R85: 2 | S85: =IF(R85="","A programmer",IF(R85=1,F85+360,IF(R85=2,F85+720,IF(R85=3,"Réabo à prévoir","-")))) -> 43486
C86: 859 | F86: 42766 | G86: 43514 | H86: =IF(F86="","-",IF(G86+I86-F86<=90,"Bilan n°1",IF(AND(G86+I86-F86>90,G86+I86-F86<=180),"Bilan n°2",IF(AND(G86+I86-F86>180,G86+I86-F86<=270),"Bilan n°3",IF(AND(G86+I86-F86>270,G86+I86-F86<=360),"Bilan n°4",IF(AND(G86+I86-F86>360,G86+I86-F86<=450),"Bilan n°5",IF(AND(G86+I86-F86>450,G86+I86-F86<=540),"Bilan n°6",IF(AND(G86+I86-F86>540,G86+I86-F86<=630),"Bilan n°7",IF(AND(G86+I86-F86>630,G86+I86-F86<=720),"Bilan n°8",IF(AND(G86+I86-F86>720,G86+I86-F86<=810),"Bilan n°9",IF(AND(G86+I86-F86>810,G86+I86-F86<=900),"Bilan n°10",IF(AND(G86+I86-F86>900,G86+I86-F86<=990),"Bilan n°11",IF(AND(G86+I86-F86>990,G86+I86-F86<=1180),"Bilan n°12"))))))))))))) -> Bilan n°9 | J86: =IF(OR(H86="Bilan n°1",H86="Bilan n°2",H86="Bilan n°3",H86="Bilan n°4",H86="Bilan n°5",H86="Bilan n°6",H86="Bilan n°7",H86="Bilan n°8",H86="Bilan n°9",H86="Bilan n°10",H86="Bilan n°11",H86="Bilan n°12"),EDATE(L86,3),"-") -> 43604 | K86: 1 | L86: =IF(K86="AP","",IF(G86="-","",IF(G86="","",EDATE(G86,0)+K86+I86))) -> 43515 | M86: =IF(J86="-","",EDATE(J86,3)+4) -> 43700 | N86: 43172 | O86: =IF(A86="Résiliation","-",IF(H86="Bilan n°1","Bilan n°1",IF(H86="Bilan n°2","Bilan n°1",IF(H86="Bilan n°4","Bilan n°2",IF(H86="Bilan n°3","Bilan n°2",IF(H86="Bilan n°5","Bilan n°3",IF(H86="Bilan n°6","Bilan n°3",IF(H86="Bilan n°7","Bilan n°4",IF(H86="Bilan n°9","Bilan n°5",IF(H86="Bilan n°10","Bilan n°6","-")))))))))) -> Bilan n°5 | P86: =IF(N86="","A programmer",N86+360) -> 43532 | Q86: =IF(A86="Résiliation","-",IF(H86="Bilan n°1","Bilan n°1",IF(H86="Bilan n°2","Bilan n°1",IF(H86="Bilan n°3","Bilan n°1",IF(H86="Bilan n°4","Bilan n°1",IF(H86="Bilan n°5","Bilan n°2",IF(H86="Bilan n°6","Bilan n°2",IF(H86="Bilan n°7","Bilan n°2",IF(H86="Bilan n°8","Bilan n°2",IF(H86="Bilan n°9","Bilan n°2",IF(H86="Bilan n°10","Bilan n°2","-"))))))))))) -> Bilan n°2 | R86: 2 | S86: =IF(R86="","A programmer",IF(R86=1,F86+360,IF(R86=2,F86+720,IF(R86=3,"Réabo à prévoir","-")))) -> 43486
C87: 860 | F87: 42773 | G87: 43486 | H87: =IF(F87="","-",IF(G87+I87-F87<=90,"Bilan n°1",IF(AND(G87+I87-F87>90,G87+I87-F87<=180),"Bilan n°2",IF(AND(G87+I87-F87>180,G87+I87-F87<=270),"Bilan n°3",IF(AND(G87+I87-F87>270,G87+I87-F87<=360),"Bilan n°4",IF(AND(G87+I87-F87>360,G87+I87-F87<=450),"Bilan n°5",IF(AND(G87+I87-F87>450,G87+I87-F87<=540),"Bilan n°6",IF(AND(G87+I87-F87>540,G87+I87-F87<=630),"Bilan n°7",IF(AND(G87+I87-F87>630,G87+I87-F87<=720),"Bilan n°8",IF(AND(G87+I87-F87>720,G87+I87-F87<=810),"Bilan n°9",IF(AND(G87+I87-F87>810,G87+I87-F87<=900),"Bilan n°10",IF(AND(G87+I87-F87>900,G87+I87-F87<=990),"Bilan n°11",IF(AND(G87+I87-F87>990,G87+I87-F87<=1180),"Bilan n°12"))))))))))))) -> Bilan n°8 | J87: =IF(OR(H87="Bilan n°1",H87="Bilan n°2",H87="Bilan n°3",H87="Bilan n°4",H87="Bilan n°5",H87="Bilan n°6",H87="Bilan n°7",H87="Bilan n°8",H87="Bilan n°9",H87="Bilan n°10",H87="Bilan n°11",H87="Bilan n°12"),EDATE(L87,3),"-") -> 43579 | K87: 3 | L87: =IF(K87="AP","",IF(G87="-","",IF(G87="","",EDATE(G87,0)+K87+I87))) -> 43489 | M87: =IF(J87="-","",EDATE(J87,3)+4) -> 43674 | N87: 43361 | O87: =IF(A87="Résiliation","-",IF(H87="Bilan n°1","Bilan n°1",IF(H87="Bilan n°2","Bilan n°1",IF(H87="Bilan n°4","Bilan n°2",IF(H87="Bilan n°3","Bilan n°2",IF(H87="Bilan n°5","Bilan n°3",IF(H87="Bilan n°6","Bilan n°3",IF(H87="Bilan n°7","Bilan n°4",IF(H87="Bilan n°9","Bilan n°5",IF(H87="Bilan n°10","Bilan n°6","-")))))))))) -> - | P87: =IF(N87="","A programmer",N87+360) -> 43721 | Q87: =IF(A87="Résiliation","-",IF(H87="Bilan n°1","Bilan n°1",IF(H87="Bilan n°2","Bilan n°1",IF(H87="Bilan n°3","Bilan n°1",IF(H87="Bilan n°4","Bilan n°1",IF(H87="Bilan n°5","Bilan n°2",IF(H87="Bilan n°6","Bilan n°2",IF(H87="Bilan n°7","Bilan n°2",IF(H87="Bilan n°8","Bilan n°2",IF(H87="Bilan n°9","Bilan n°2",IF(H87="Bilan n°10","Bilan n°2","-"))))))))))) -> Bilan n°2 | R87: 3 | S87: =IF(R87="","A programmer",IF(R87=1,F87+360,IF(R87=2,F87+720,IF(R87=3,"Réabo à prévoir","-")))) -> Réabo à prévoir
C88: 862 | F88: 43262 | G88: 43487 | H88: =IF(F88="","-",IF(G88+I88-F88<=90,"Bilan n°1",IF(AND(G88+I88-F88>90,G88+I88-F88<=180),"Bilan n°2",IF(AND(G88+I88-F88>180,G88+I88-F88<=270),"Bilan n°3",IF(AND(G88+I88-F88>270,G88+I88-F88<=360),"Bilan n°4",IF(AND(G88+I88-F88>360,G88+I88-F88<=450),"Bilan n°5",IF(AND(G88+I88-F88>450,G88+I88-F88<=540),"Bilan n°6",IF(AND(G88+I88-F88>540,G88+I88-F88<=630),"Bilan n°7",IF(AND(G88+I88-F88>630,G88+I88-F88<=720),"Bilan n°8",IF(AND(G88+I88-F88>720,G88+I88-F88<=810),"Bilan n°9",IF(AND(G88+I88-F88>810,G88+I88-F88<=900),"Bilan n°10",IF(AND(G88+I88-F88>900,G88+I88-F88<=990),"Bilan n°11",IF(AND(G88+I88-F88>990,G88+I88-F88<=1180),"Bilan n°12"))))))))))))) -> Bilan n°3 | J88: =IF(OR(H88="Bilan n°1",H88="Bilan n°2",H88="Bilan n°3",H88="Bilan n°4",H88="Bilan n°5",H88="Bilan n°6",H88="Bilan n°7",H88="Bilan n°8",H88="Bilan n°9",H88="Bilan n°10",H88="Bilan n°11",H88="Bilan n°12"),EDATE(L88,3),"-") -> 43592 | K88: 16 | L88: =IF(K88="AP","",IF(G88="-","",IF(G88="","",EDATE(G88,0)+K88+I88))) -> 43503 | M88: =IF(J88="-","",EDATE(J88,3)+4) -> 43688 | N88: 42781 | O88: =IF(A88="Résiliation","-",IF(H88="Bilan n°1","Bilan n°1",IF(H88="Bilan n°2","Bilan n°1",IF(H88="Bilan n°4","Bilan n°2",IF(H88="Bilan n°3","Bilan n°2",IF(H88="Bilan n°5","Bilan n°3",IF(H88="Bilan n°6","Bilan n°3",IF(H88="Bilan n°7","Bilan n°4",IF(H88="Bilan n°9","Bilan n°5",IF(H88="Bilan n°10","Bilan n°6","-")))))))))) -> Bilan n°2 | P88: =IF(N88="","A programmer",N88+360) -> 43141 | Q88: =IF(A88="Résiliation","-",IF(H88="Bilan n°1","Bilan n°1",IF(H88="Bilan n°2","Bilan n°1",IF(H88="Bilan n°3","Bilan n°1",IF(H88="Bilan n°4","Bilan n°1",IF(H88="Bilan n°5","Bilan n°2",IF(H88="Bilan n°6","Bilan n°2",IF(H88="Bilan n°7","Bilan n°2",IF(H88="Bilan n°8","Bilan n°2",IF(H88="Bilan n°9","Bilan n°2",IF(H88="Bilan n°10","Bilan n°2","-"))))))))))) -> Bilan n°1 | R88: 1 | S88: =IF(R88="","A programmer",IF(R88=1,F88+360,IF(R88=2,F88+720,IF(R88=3,"Réabo à prévoir","-")))) -> 43622
C89: 864 | F89: 42782 | G89: 43398 | H89: =IF(F89="","-",IF(G89+I89-F89<=90,"Bilan n°1",IF(AND(G89+I89-F89>90,G89+I89-F89<=180),"Bilan n°2",IF(AND(G89+I89-F89>180,G89+I89-F89<=270),"Bilan n°3",IF(AND(G89+I89-F89>270,G89+I89-F89<=360),"Bilan n°4",IF(AND(G89+I89-F89>360,G89+I89-F89<=450),"Bilan n°5",IF(AND(G89+I89-F89>450,G89+I89-F89<=540),"Bilan n°6",IF(AND(G89+I89-F89>540,G89+I89-F89<=630),"Bilan n°7",IF(AND(G89+I89-F89>630,G89+I89-F89<=720),"Bilan n°8",IF(AND(G89+I89-F89>720,G89+I89-F89<=810),"Bilan n°9",IF(AND(G89+I89-F89>810,G89+I89-F89<=900),"Bilan n°10",IF(AND(G89+I89-F89>900,G89+I89-F89<=990),"Bilan n°11",IF(AND(G89+I89-F89>990,G89+I89-F89<=1180),"Bilan n°12"))))))))))))) -> Bilan n°7 | J89: =IF(OR(H89="Bilan n°1",H89="Bilan n°2",H89="Bilan n°3",H89="Bilan n°4",H89="Bilan n°5",H89="Bilan n°6",H89="Bilan n°7",H89="Bilan n°8",H89="Bilan n°9",H89="Bilan n°10",H89="Bilan n°11",H89="Bilan n°12"),EDATE(L89,3),"-") -> 43491 | K89: 1 | L89: =IF(K89="AP","",IF(G89="-","",IF(G89="","",EDATE(G89,0)+K89+I89))) -> 43399 | M89: =IF(J89="-","",EDATE(J89,3)+4) -> 43585 | N89: 43404 | O89: =IF(A89="Résiliation","-",IF(H89="Bilan n°1","Bilan n°1",IF(H89="Bilan n°2","Bilan n°1",IF(H89="Bilan n°4","Bilan n°2",IF(H89="Bilan n°3","Bilan n°2",IF(H89="Bilan n°5","Bilan n°3",IF(H89="Bilan n°6","Bilan n°3",IF(H89="Bilan n°7","Bilan n°4",IF(H89="Bilan n°9","Bilan n°5",IF(H89="Bilan n°10","Bilan n°6","-")))))))))) -> Bilan n°4 | P89: =IF(N89="","A programmer",N89+360) -> 43764 | Q89: =IF(A89="Résiliation","-",IF(H89="Bilan n°1","Bilan n°1",IF(H89="Bilan n°2","Bilan n°1",IF(H89="Bilan n°3","Bilan n°1",IF(H89="Bilan n°4","Bilan n°1",IF(H89="Bilan n°5","Bilan n°2",IF(H89="Bilan n°6","Bilan n°2",IF(H89="Bilan n°7","Bilan n°2",IF(H89="Bilan n°8","Bilan n°2",IF(H89="Bilan n°9","Bilan n°2",IF(H89="Bilan n°10","Bilan n°2","-"))))))))))) -> Bilan n°2 | R89: 1 | S89: =IF(R89="","A programmer",IF(R89=1,F89+360,IF(R89=2,F89+720,IF(R89=3,"Réabo à prévoir","-")))) -> 43142
C90: 865 | F90: 42782 | G90: 20032019 | H90: =IF(F90="","-",IF(G90+I90-F90<=90,"Bilan n°1",IF(AND(G90+I90-F90>90,G90+I90-F90<=180),"Bilan n°2",IF(AND(G90+I90-F90>180,G90+I90-F90<=270),"Bilan n°3",IF(AND(G90+I90-F90>270,G90+I90-F90<=360),"Bilan n°4",IF(AND(G90+I90-F90>360,G90+I90-F90<=450),"Bilan n°5",IF(AND(G90+I90-F90>450,G90+I90-F90<=540),"Bilan n°6",IF(AND(G90+I90-F90>540,G90+I90-F90<=630),"Bilan n°7",IF(AND(G90+I90-F90>630,G90+I90-F90<=720),"Bilan n°8",IF(AND(G90+I90-F90>720,G90+I90-F90<=810),"Bilan n°9",IF(AND(G90+I90-F90>810,G90+I90-F90<=900),"Bilan n°10",IF(AND(G90+I90-F90>900,G90+I90-F90<=990),"Bilan n°11",IF(AND(G90+I90-F90>990,G90+I90-F90<=1180),"Bilan n°12"))))))))))))) -> FALSE | J90: =IF(OR(H90="Bilan n°1",H90="Bilan n°2",H90="Bilan n°3",H90="Bilan n°4",H90="Bilan n°5",H90="Bilan n°6",H90="Bilan n°7",H90="Bilan n°8",H90="Bilan n°9",H90="Bilan n°10",H90="Bilan n°11",H90="Bilan n°12"),EDATE(L90,3),"-") -> - | K90: 19 | L90: =IF(K90="AP","",IF(G90="-","",IF(G90="","",EDATE(G90,0)+K90+I90))) -> #NUM! | M90: =IF(J90="-","",EDATE(J90,3)+4) | N90: 42794 | O90: =IF(A90="Résiliation","-",IF(H90="Bilan n°1","Bilan n°1",IF(H90="Bilan n°2","Bilan n°1",IF(H90="Bilan n°4","Bilan n°2",IF(H90="Bilan n°3","Bilan n°2",IF(H90="Bilan n°5","Bilan n°3",IF(H90="Bilan n°6","Bilan n°3",IF(H90="Bilan n°7","Bilan n°4",IF(H90="Bilan n°9","Bilan n°5",IF(H90="Bilan n°10","Bilan n°6","-")))))))))) -> - | P90: =IF(N90="","A programmer",N90+360) -> 43154 | Q90: =IF(A90="Résiliation","-",IF(H90="Bilan n°1","Bilan n°1",IF(H90="Bilan n°2","Bilan n°1",IF(H90="Bilan n°3","Bilan n°1",IF(H90="Bilan n°4","Bilan n°1",IF(H90="Bilan n°5","Bilan n°2",IF(H90="Bilan n°6","Bilan n°2",IF(H90="Bilan n°7","Bilan n°2",IF(H90="Bilan n°8","Bilan n°2",IF(H90="Bilan n°9","Bilan n°2",IF(H90="Bilan n°10","Bilan n°2","-"))))))))))) -> - | R90: 2 | S90: =IF(R90="","A programmer",IF(R90=1,F90+360,IF(R90=2,F90+720,IF(R90=3,"Réabo à prévoir","-")))) -> 43502
... C92: 874 | F92: 42803 | G92: 43392 | H92: =IF(F92="","-",IF(G92+I92-F92<=90,"Bilan n°1",IF(AND(G92+I92-F92>90,G92+I92-F92<=180),"Bilan n°2",IF(AND(G92+I92-F92>180,G92+I92-F92<=270),"Bilan n°3",IF(AND(G92+I92-F92>270,G92+I92-F92<=360),"Bilan n°4",IF(AND(G92+I92-F92>360,G92+I92-F92<=450),"Bilan n°5",IF(AND(G92+I92-F92>450,G92+I92-F92<=540),"Bilan n°6",IF(AND(G92+I92-F92>540,G92+I92-F92<=630),"Bilan n°7",IF(AND(G92+I92-F92>630,G92+I92-F92<=720),"Bilan n°8",IF(AND(G92+I92-F92>720,G92+I92-F92<=810),"Bilan n°9",IF(AND(G92+I92-F92>810,G92+I92-F92<=900),"Bilan n°10",IF(AND(G92+I92-F92>900,G92+I92-F92<=990),"Bilan n°11",IF(AND(G92+I92-F92>990,G92+I92-F92<=1180),"Bilan n°12"))))))))))))) -> Bilan n°7 | J92: =IF(OR(H92="Bilan n°1",H92="Bilan n°2",H92="Bilan n°3",H92="Bilan n°4",H92="Bilan n°5",H92="Bilan n°6",H92="Bilan n°7",H92="Bilan n°8",H92="Bilan n°9",H92="Bilan n°10",H92="Bilan n°11",H92="Bilan n°12"),EDATE(L92,3),"-") -> 43488 | K92: 4 | L92: =IF(K92="AP","",IF(G92="-","",IF(G92="","",EDATE(G92,0)+K92+I92))) -> 43396 | M92: =IF(J92="-","",EDATE(J92,3)+4) -> 43582 | N92: 42809 | O92: =IF(A92="Résiliation","-",IF(H92="Bilan n°1","Bilan n°1",IF(H92="Bilan n°2","Bilan n°1",IF(H92="Bilan n°4","Bilan n°2",IF(H92="Bilan n°3","Bilan n°2",IF(H92="Bilan n°5","Bilan n°3",IF(H92="Bilan n°6","Bilan n°3",IF(H92="Bilan n°7","Bilan n°4",IF(H92="Bilan n°9","Bilan n°5",IF(H92="Bilan n°10","Bilan n°6","-")))))))))) -> Bilan n°4 | P92: =IF(N92="","A programmer",N92+360) -> 43169 | Q92: =IF(A92="Résiliation","-",IF(H92="Bilan n°1","Bilan n°1",IF(H92="Bilan n°2","Bilan n°1",IF(H92="Bilan n°3","Bilan n°1",IF(H92="Bilan n°4","Bilan n°1",IF(H92="Bilan n°5","Bilan n°2",IF(H92="Bilan n°6","Bilan n°2",IF(H92="Bilan n°7","Bilan n°2",IF(H92="Bilan n°8","Bilan n°2",IF(H92="Bilan n°9","Bilan n°2",IF(H92="Bilan n°10","Bilan n°2","-"))))))))))) -> Bilan n°2 | R92: 1 | S92: =IF(R92="","A programmer",IF(R92=1,F92+360,IF(R92=2,F92+720,IF(R92=3,"Réabo à prévoir","-")))) -> 43163
C93: 883 | F93: 42824 | G93: 43551 | H93: =IF(F93="","-",IF(G93+I93-F93<=90,"Bilan n°1",IF(AND(G93+I93-F93>90,G93+I93-F93<=180),"Bilan n°2",IF(AND(G93+I93-F93>180,G93+I93-F93<=270),"Bilan n°3",IF(AND(G93+I93-F93>270,G93+I93-F93<=360),"Bilan n°4",IF(AND(G93+I93-F93>360,G93+I93-F93<=450),"Bilan n°5",IF(AND(G93+I93-F93>450,G93+I93-F93<=540),"Bilan n°6",IF(AND(G93+I93-F93>540,G93+I93-F93<=630),"Bilan n°7",IF(AND(G93+I93-F93>630,G93+I93-F93<=720),"Bilan n°8",IF(AND(G93+I93-F93>720,G93+I93-F93<=810),"Bilan n°9",IF(AND(G93+I93-F93>810,G93+I93-F93<=900),"Bilan n°10",IF(AND(G93+I93-F93>900,G93+I93-F93<=990),"Bilan n°11",IF(AND(G93+I93-F93>990,G93+I93-F93<=1180),"Bilan n°12"))))))))))))) -> Bilan n°9 | J93: =IF(OR(H93="Bilan n°1",H93="Bilan n°2",H93="Bilan n°3",H93="Bilan n°4",H93="Bilan n°5",H93="Bilan n°6",H93="Bilan n°7",H93="Bilan n°8",H93="Bilan n°9",H93="Bilan n°10",H93="Bilan n°11",H93="Bilan n°12"),EDATE(L93,3),"-") -> 43647 | K93: 5 | L93: =IF(K93="AP","",IF(G93="-","",IF(G93="","",EDATE(G93,0)+K93+I93))) -> 43556 | M93: =IF(J93="-","",EDATE(J93,3)+4) -> 43743 | N93: 43551 | O93: =IF(A93="Résiliation","-",IF(H93="Bilan n°1","Bilan n°1",IF(H93="Bilan n°2","Bilan n°1",IF(H93="Bilan n°4","Bilan n°2",IF(H93="Bilan n°3","Bilan n°2",IF(H93="Bilan n°5","Bilan n°3",IF(H93="Bilan n°6","Bilan n°3",IF(H93="Bilan n°7","Bilan n°4",IF(H93="Bilan n°9","Bilan n°5",IF(H93="Bilan n°10","Bilan n°6","-")))))))))) -> Bilan n°5 | P93: =IF(N93="","A programmer",N93+360) -> 43911 | Q93: =IF(A93="Résiliation","-",IF(H93="Bilan n°1","Bilan n°1",IF(H93="Bilan n°2","Bilan n°1",IF(H93="Bilan n°3","Bilan n°1",IF(H93="Bilan n°4","Bilan n°1",IF(H93="Bilan n°5","Bilan n°2",IF(H93="Bilan n°6","Bilan n°2",IF(H93="Bilan n°7","Bilan n°2",IF(H93="Bilan n°8","Bilan n°2",IF(H93="Bilan n°9","Bilan n°2",IF(H93="Bilan n°10","Bilan n°2","-"))))))))))) -> Bilan n°2 | S93: =IF(R93="","A programmer",IF(R93=1,F93+360,IF(R93=2,F93+720,IF(R93=3,"Réabo à prévoir","-")))) -> A programmer
C94: 890 | F94: 42837 | G94: 43546 | H94: =IF(F94="","-",IF(G94+I94-F94<=90,"Bilan n°1",IF(AND(G94+I94-F94>90,G94+I94-F94<=180),"Bilan n°2",IF(AND(G94+I94-F94>180,G94+I94-F94<=270),"Bilan n°3",IF(AND(G94+I94-F94>270,G94+I94-F94<=360),"Bilan n°4",IF(AND(G94+I94-F94>360,G94+I94-F94<=450),"Bilan n°5",IF(AND(G94+I94-F94>450,G94+I94-F94<=540),"Bilan n°6",IF(AND(G94+I94-F94>540,G94+I94-F94<=630),"Bilan n°7",IF(AND(G94+I94-F94>630,G94+I94-F94<=720),"Bilan n°8",IF(AND(G94+I94-F94>720,G94+I94-F94<=810),"Bilan n°9",IF(AND(G94+I94-F94>810,G94+I94-F94<=900),"Bilan n°10",IF(AND(G94+I94-F94>900,G94+I94-F94<=990),"Bilan n°11",IF(AND(G94+I94-F94>990,G94+I94-F94<=1180),"Bilan n°12"))))))))))))) -> Bilan n°8 | J94: =IF(OR(H94="Bilan n°1",H94="Bilan n°2",H94="Bilan n°3",H94="Bilan n°4",H94="Bilan n°5",H94="Bilan n°6",H94="Bilan n°7",H94="Bilan n°8",H94="Bilan n°9",H94="Bilan n°10",H94="Bilan n°11",H94="Bilan n°12"),EDATE(L94,3),"-") -> 43643 | K94: 5 | L94: =IF(K94="AP","",IF(G94="-","",IF(G94="","",EDATE(G94,0)+K94+I94))) -> 43551 | M94: =IF(J94="-","",EDATE(J94,3)+4) -> 43739 | O94: =IF(A94="Résiliation","-",IF(H94="Bilan n°1","Bilan n°1",IF(H94="Bilan n°2","Bilan n°1",IF(H94="Bilan n°4","Bilan n°2",IF(H94="Bilan n°3","Bilan n°2",IF(H94="Bilan n°5","Bilan n°3",IF(H94="Bilan n°6","Bilan n°3",IF(H94="Bilan n°7","Bilan n°4",IF(H94="Bilan n°9","Bilan n°5",IF(H94="Bilan n°10","Bilan n°6","-")))))))))) -> - | P94: =IF(N94="","A programmer",N94+360) -> A programmer | Q94: =IF(A94="Résiliation","-",IF(H94="Bilan n°1","Bilan n°1",IF(H94="Bilan n°2","Bilan n°1",IF(H94="Bilan n°3","Bilan n°1",IF(H94="Bilan n°4","Bilan n°1",IF(H94="Bilan n°5","Bilan n°2",IF(H94="Bilan n°6","Bilan n°2",IF(H94="Bilan n°7","Bilan n°2",IF(H94="Bilan n°8","Bilan n°2",IF(H94="Bilan n°9","Bilan n°2",IF(H94="Bilan n°10","Bilan n°2","-"))))))))))) -> Bilan n°2 | R94: 1 | S94: =IF(R94="","A programmer",IF(R94=1,F94+360,IF(R94=2,F94+720,IF(R94=3,"Réabo à prévoir","-")))) -> 43197
C95: 891 | F95: 43403 | G95: 43543 | H95: =IF(F95="","-",IF(G95+I95-F95<=90,"Bilan n°1",IF(AND(G95+I95-F95>90,G95+I95-F95<=180),"Bilan n°2",IF(AND(G95+I95-F95>180,G95+I95-F95<=270),"Bilan n°3",IF(AND(G95+I95-F95>270,G95+I95-F95<=360),"Bilan n°4",IF(AND(G95+I95-F95>360,G95+I95-F95<=450),"Bilan n°5",IF(AND(G95+I95-F95>450,G95+I95-F95<=540),"Bilan n°6",IF(AND(G95+I95-F95>540,G95+I95-F95<=630),"Bilan n°7",IF(AND(G95+I95-F95>630,G95+I95-F95<=720),"Bilan n°8",IF(AND(G95+I95-F95>720,G95+I95-F95<=810),"Bilan n°9",IF(AND(G95+I95-F95>810,G95+I95-F95<=900),"Bilan n°10",IF(AND(G95+I95-F95>900,G95+I95-F95<=990),"Bilan n°11",IF(AND(G95+I95-F95>990,G95+I95-F95<=1180),"Bilan n°12"))))))))))))) -> Bilan n°2 | J95: =IF(OR(H95="Bilan n°1",H95="Bilan n°2",H95="Bilan n°3",H95="Bilan n°4",H95="Bilan n°5",H95="Bilan n°6",H95="Bilan n°7",H95="Bilan n°8",H95="Bilan n°9",H95="Bilan n°10",H95="Bilan n°11",H95="Bilan n°12"),EDATE(L95,3),"-") -> 43637 | K95: 2 | L95: =IF(K95="AP","",IF(G95="-","",IF(G95="","",EDATE(G95,0)+K95+I95))) -> 43545 | M95: =IF(J95="-","",EDATE(J95,3)+4) -> 43733 | N95: 42846 | O95: =IF(A95="Résiliation","-",IF(H95="Bilan n°1","Bilan n°1",IF(H95="Bilan n°2","Bilan n°1",IF(H95="Bilan n°4","Bilan n°2",IF(H95="Bilan n°3","Bilan n°2",IF(H95="Bilan n°5","Bilan n°3",IF(H95="Bilan n°6","Bilan n°3",IF(H95="Bilan n°7","Bilan n°4",IF(H95="Bilan n°9","Bilan n°5",IF(H95="Bilan n°10","Bilan n°6","-")))))))))) -> Bilan n°1 | P95: =IF(N95="","A programmer",N95+360) -> 43206 | Q95: =IF(A95="Résiliation","-",IF(H95="Bilan n°1","Bilan n°1",IF(H95="Bilan n°2","Bilan n°1",IF(H95="Bilan n°3","Bilan n°1",IF(H95="Bilan n°4","Bilan n°1",IF(H95="Bilan n°5","Bilan n°2",IF(H95="Bilan n°6","Bilan n°2",IF(H95="Bilan n°7","Bilan n°2",IF(H95="Bilan n°8","Bilan n°2",IF(H95="Bilan n°9","Bilan n°2",IF(H95="Bilan n°10","Bilan n°2","-"))))))))))) -> Bilan n°1 | R95: 1 | S95: =IF(R95="","A programmer",IF(R95=1,F95+360,IF(R95=2,F95+720,IF(R95=3,"Réabo à prévoir","-")))) -> 43763
C96: 893 | F96: 42846 | G96: 42854 | H96: =IF(F96="","-",IF(G96+I96-F96<=90,"Bilan n°1",IF(AND(G96+I96-F96>90,G96+I96-F96<=180),"Bilan n°2",IF(AND(G96+I96-F96>180,G96+I96-F96<=270),"Bilan n°3",IF(AND(G96+I96-F96>270,G96+I96-F96<=360),"Bilan n°4",IF(AND(G96+I96-F96>360,G96+I96-F96<=450),"Bilan n°5",IF(AND(G96+I96-F96>450,G96+I96-F96<=540),"Bilan n°6",IF(AND(G96+I96-F96>540,G96+I96-F96<=630),"Bilan n°7",IF(AND(G96+I96-F96>630,G96+I96-F96<=720),"Bilan n°8",IF(AND(G96+I96-F96>720,G96+I96-F96<=810),"Bilan n°9",IF(AND(G96+I96-F96>810,G96+I96-F96<=900),"Bilan n°10",IF(AND(G96+I96-F96>900,G96+I96-F96<=990),"Bilan n°11",IF(AND(G96+I96-F96>990,G96+I96-F96<=1180),"Bilan n°12"))))))))))))) -> Bilan n°1 | J96: =IF(OR(H96="Bilan n°1",H96="Bilan n°2",H96="Bilan n°3",H96="Bilan n°4",H96="Bilan n°5",H96="Bilan n°6",H96="Bilan n°7",H96="Bilan n°8",H96="Bilan n°9",H96="Bilan n°10",H96="Bilan n°11",H96="Bilan n°12"),EDATE(L96,3),"-") -> 42950 | K96: 4 | L96: =IF(K96="AP","",IF(G96="-","",IF(G96="","",EDATE(G96,0)+K96+I96))) -> 42858 | M96: =IF(J96="-","",EDATE(J96,3)+4) -> 43046 | N96: 42859 | O96: =IF(A96="Résiliation","-",IF(H96="Bilan n°1","Bilan n°1",IF(H96="Bilan n°2","Bilan n°1",IF(H96="Bilan n°4","Bilan n°2",IF(H96="Bilan n°3","Bilan n°2",IF(H96="Bilan n°5","Bilan n°3",IF(H96="Bilan n°6","Bilan n°3",IF(H96="Bilan n°7","Bilan n°4",IF(H96="Bilan n°9","Bilan n°5",IF(H96="Bilan n°10","Bilan n°6","-")))))))))) -> Bilan n°1 | P96: =IF(N96="","A programmer",N96+360) -> 43219 | Q96: =IF(A96="Résiliation","-",IF(H96="Bilan n°1","Bilan n°1",IF(H96="Bilan n°2","Bilan n°1",IF(H96="Bilan n°3","Bilan n°1",IF(H96="Bilan n°4","Bilan n°1",IF(H96="Bilan n°5","Bilan n°2",IF(H96="Bilan n°6","Bilan n°2",IF(H96="Bilan n°7","Bilan n°2",IF(H96="Bilan n°8","Bilan n°2",IF(H96="Bilan n°9","Bilan n°2",IF(H96="Bilan n°10","Bilan n°2","-"))))))))))) -> Bilan n°1 | R96: 1 | S96: =IF(R96="","A programmer",IF(R96=1,F96+360,IF(R96=2,F96+720,IF(R96=3,"Réabo à prévoir","-")))) -> 43206
C97: 896 | F97: 43262 | G97: 43509 | H97: =IF(F97="","-",IF(G97+I97-F97<=90,"Bilan n°1",IF(AND(G97+I97-F97>90,G97+I97-F97<=180),"Bilan n°2",IF(AND(G97+I97-F97>180,G97+I97-F97<=270),"Bilan n°3",IF(AND(G97+I97-F97>270,G97+I97-F97<=360),"Bilan n°4",IF(AND(G97+I97-F97>360,G97+I97-F97<=450),"Bilan n°5",IF(AND(G97+I97-F97>450,G97+I97-F97<=540),"Bilan n°6",IF(AND(G97+I97-F97>540,G97+I97-F97<=630),"Bilan n°7",IF(AND(G97+I97-F97>630,G97+I97-F97<=720),"Bilan n°8",IF(AND(G97+I97-F97>720,G97+I97-F97<=810),"Bilan n°9",IF(AND(G97+I97-F97>810,G97+I97-F97<=900),"Bilan n°10",IF(AND(G97+I97-F97>900,G97+I97-F97<=990),"Bilan n°11",IF(AND(G97+I97-F97>990,G97+I97-F97<=1180),"Bilan n°12"))))))))))))) -> Bilan n°3 | J97: =IF(OR(H97="Bilan n°1",H97="Bilan n°2",H97="Bilan n°3",H97="Bilan n°4",H97="Bilan n°5",H97="Bilan n°6",H97="Bilan n°7",H97="Bilan n°8",H97="Bilan n°9",H97="Bilan n°10",H97="Bilan n°11",H97="Bilan n°12"),EDATE(L97,3),"-") -> 43601 | K97: 3 | L97: =IF(K97="AP","",IF(G97="-","",IF(G97="","",EDATE(G97,0)+K97+I97))) -> 43512 | M97: =IF(J97="-","",EDATE(J97,3)+4) -> 43697 | N97: 42864 | O97: =IF(A97="Résiliation","-",IF(H97="Bilan n°1","Bilan n°1",IF(H97="Bilan n°2","Bilan n°1",IF(H97="Bilan n°4","Bilan n°2",IF(H97="Bilan n°3","Bilan n°2",IF(H97="Bilan n°5","Bilan n°3",IF(H97="Bilan n°6","Bilan n°3",IF(H97="Bilan n°7","Bilan n°4",IF(H97="Bilan n°9","Bilan n°5",IF(H97="Bilan n°10","Bilan n°6","-")))))))))) -> Bilan n°2 | P97: =IF(N97="","A programmer",N97+360) -> 43224 | Q97: =IF(A97="Résiliation","-",IF(H97="Bilan n°1","Bilan n°1",IF(H97="Bilan n°2","Bilan n°1",IF(H97="Bilan n°3","Bilan n°1",IF(H97="Bilan n°4","Bilan n°1",IF(H97="Bilan n°5","Bilan n°2",IF(H97="Bilan n°6","Bilan n°2",IF(H97="Bilan n°7","Bilan n°2",IF(H97="Bilan n°8","Bilan n°2",IF(H97="Bilan n°9","Bilan n°2",IF(H97="Bilan n°10","Bilan n°2","-"))))))))))) -> Bilan n°1 | R97: 2 | S97: =IF(R97="","A programmer",IF(R97=1,F97+360,IF(R97=2,F97+720,IF(R97=3,"Réabo à prévoir","-")))) -> 43982
C98: 897 | F98: 42864 | G98: 43237 | H98: =IF(F98="","-",IF(G98+I98-F98<=90,"Bilan n°1",IF(AND(G98+I98-F98>90,G98+I98-F98<=180),"Bilan n°2",IF(AND(G98+I98-F98>180,G98+I98-F98<=270),"Bilan n°3",IF(AND(G98+I98-F98>270,G98+I98-F98<=360),"Bilan n°4",IF(AND(G98+I98-F98>360,G98+I98-F98<=450),"Bilan n°5",IF(AND(G98+I98-F98>450,G98+I98-F98<=540),"Bilan n°6",IF(AND(G98+I98-F98>540,G98+I98-F98<=630),"Bilan n°7",IF(AND(G98+I98-F98>630,G98+I98-F98<=720),"Bilan n°8",IF(AND(G98+I98-F98>720,G98+I98-F98<=810),"Bilan n°9",IF(AND(G98+I98-F98>810,G98+I98-F98<=900),"Bilan n°10",IF(AND(G98+I98-F98>900,G98+I98-F98<=990),"Bilan n°11",IF(AND(G98+I98-F98>990,G98+I98-F98<=1180),"Bilan n°12"))))))))))))) -> Bilan n°5 | J98: =IF(OR(H98="Bilan n°1",H98="Bilan n°2",H98="Bilan n°3",H98="Bilan n°4",H98="Bilan n°5",H98="Bilan n°6",H98="Bilan n°7",H98="Bilan n°8",H98="Bilan n°9",H98="Bilan n°10",H98="Bilan n°11",H98="Bilan n°12"),EDATE(L98,3),"-") -> 43333 | K98: 4 | L98: =IF(K98="AP","",IF(G98="-","",IF(G98="","",EDATE(G98,0)+K98+I98))) -> 43241 | M98: =IF(J98="-","",EDATE(J98,3)+4) -> 43429 | N98: 42874 | O98: =IF(A98="Résiliation","-",IF(H98="Bilan n°1","Bilan n°1",IF(H98="Bilan n°2","Bilan n°1",IF(H98="Bilan n°4","Bilan n°2",IF(H98="Bilan n°3","Bilan n°2",IF(H98="Bilan n°5","Bilan n°3",IF(H98="Bilan n°6","Bilan n°3",IF(H98="Bilan n°7","Bilan n°4",IF(H98="Bilan n°9","Bilan n°5",IF(H98="Bilan n°10","Bilan n°6","-")))))))))) -> Bilan n°3 | P98: =IF(N98="","A programmer",N98+360) -> 43234 | Q98: =IF(A98="Résiliation","-",IF(H98="Bilan n°1","Bilan n°1",IF(H98="Bilan n°2","Bilan n°1",IF(H98="Bilan n°3","Bilan n°1",IF(H98="Bilan n°4","Bilan n°1",IF(H98="Bilan n°5","Bilan n°2",IF(H98="Bilan n°6","Bilan n°2",IF(H98="Bilan n°7","Bilan n°2",IF(H98="Bilan n°8","Bilan n°2",IF(H98="Bilan n°9","Bilan n°2",IF(H98="Bilan n°10","Bilan n°2","-"))))))))))) -> Bilan n°2 | R98: 1 | S98: =IF(R98="","A programmer",IF(R98=1,F98+360,IF(R98=2,F98+720,IF(R98=3,"Réabo à prévoir","-")))) -> 43224
C99: 902 | F99: 43298 | G99: 43376 | H99: =IF(F99="","-",IF(G99+I99-F99<=90,"Bilan n°1",IF(AND(G99+I99-F99>90,G99+I99-F99<=180),"Bilan n°2",IF(AND(G99+I99-F99>180,G99+I99-F99<=270),"Bilan n°3",IF(AND(G99+I99-F99>270,G99+I99-F99<=360),"Bilan n°4",IF(AND(G99+I99-F99>360,G99+I99-F99<=450),"Bilan n°5",IF(AND(G99+I99-F99>450,G99+I99-F99<=540),"Bilan n°6",IF(AND(G99+I99-F99>540,G99+I99-F99<=630),"Bilan n°7",IF(AND(G99+I99-F99>630,G99+I99-F99<=720),"Bilan n°8",IF(AND(G99+I99-F99>720,G99+I99-F99<=810),"Bilan n°9",IF(AND(G99+I99-F99>810,G99+I99-F99<=900),"Bilan n°10",IF(AND(G99+I99-F99>900,G99+I99-F99<=990),"Bilan n°11",IF(AND(G99+I99-F99>990,G99+I99-F99<=1180),"Bilan n°12"))))))))))))) -> Bilan n°1 | J99: =IF(OR(H99="Bilan n°1",H99="Bilan n°2",H99="Bilan n°3",H99="Bilan n°4",H99="Bilan n°5",H99="Bilan n°6",H99="Bilan n°7",H99="Bilan n°8",H99="Bilan n°9",H99="Bilan n°10",H99="Bilan n°11",H99="Bilan n°12"),EDATE(L99,3),"-") -> 43471 | K99: 3 | L99: =IF(K99="AP","",IF(G99="-","",IF(G99="","",EDATE(G99,0)+K99+I99))) -> 43379 | M99: =IF(J99="-","",EDATE(J99,3)+4) -> 43565 | N99: 43389 | O99: =IF(A99="Résiliation","-",IF(H99="Bilan n°1","Bilan n°1",IF(H99="Bilan n°2","Bilan n°1",IF(H99="Bilan n°4","Bilan n°2",IF(H99="Bilan n°3","Bilan n°2",IF(H99="Bilan n°5","Bilan n°3",IF(H99="Bilan n°6","Bilan n°3",IF(H99="Bilan n°7","Bilan n°4",IF(H99="Bilan n°9","Bilan n°5",IF(H99="Bilan n°10","Bilan n°6","-")))))))))) -> Bilan n°1 | P99: =IF(N99="","A programmer",N99+360) -> 43749 | Q99: =IF(A99="Résiliation","-",IF(H99="Bilan n°1","Bilan n°1",IF(H99="Bilan n°2","Bilan n°1",IF(H99="Bilan n°3","Bilan n°1",IF(H99="Bilan n°4","Bilan n°1",IF(H99="Bilan n°5","Bilan n°2",IF(H99="Bilan n°6","Bilan n°2",IF(H99="Bilan n°7","Bilan n°2",IF(H99="Bilan n°8","Bilan n°2",IF(H99="Bilan n°9","Bilan n°2",IF(H99="Bilan n°10","Bilan n°2","-"))))))))))) -> Bilan n°1 | S99: =IF(R99="","A programmer",IF(R99=1,F99+360,IF(R99=2,F99+720,IF(R99=3,"Réabo à prévoir","-")))) -> A programmer
C100: 903 | F100: 42900 | G100: 43514 | H100: =IF(F100="","-",IF(G100+I100-F100<=90,"Bilan n°1",IF(AND(G100+I100-F100>90,G100+I100-F100<=180),"Bilan n°2",IF(AND(G100+I100-F100>180,G100+I100-F100<=270),"Bilan n°3",IF(AND(G100+I100-F100>270,G100+I100-F100<=360),"Bilan n°4",IF(AND(G100+I100-F100>360,G100+I100-F100<=450),"Bilan n°5",IF(AND(G100+I100-F100>450,G100+I100-F100<=540),"Bilan n°6",IF(AND(G100+I100-F100>540,G100+I100-F100<=630),"Bilan n°7",IF(AND(G100+I100-F100>630,G100+I100-F100<=720),"Bilan n°8",IF(AND(G100+I100-F100>720,G100+I100-F100<=810),"Bilan n°9",IF(AND(G100+I100-F100>810,G100+I100-F100<=900),"Bilan n°10",IF(AND(G100+I100-F100>900,G100+I100-F100<=990),"Bilan n°11",IF(AND(G100+I100-F100>990,G100+I100-F100<=1180),"Bilan n°12"))))))))))))) -> Bilan n°7 | J100: =IF(OR(H100="Bilan n°1",H100="Bilan n°2",H100="Bilan n°3",H100="Bilan n°4",H100="Bilan n°5",H100="Bilan n°6",H100="Bilan n°7",H100="Bilan n°8",H100="Bilan n°9",H100="Bilan n°10",H100="Bilan n°11",H100="Bilan n°12"),EDATE(L100,3),"-") -> 43605 | K100: 2 | L100: =IF(K100="AP","",IF(G100="-","",IF(G100="","",EDATE(G100,0)+K100+I100))) -> 43516 | M100: =IF(J100="-","",EDATE(J100,3)+4) -> 43701 | N100: 43390 | O100: =IF(A100="Résiliation","-",IF(H100="Bilan n°1","Bilan n°1",IF(H100="Bilan n°2","Bilan n°1",IF(H100="Bilan n°4","Bilan n°2",IF(H100="Bilan n°3","Bilan n°2",IF(H100="Bilan n°5","Bilan n°3",IF(H100="Bilan n°6","Bilan n°3",IF(H100="Bilan n°7","Bilan n°4",IF(H100="Bilan n°9","Bilan n°5",IF(H100="Bilan n°10","Bilan n°6","-")))))))))) -> Bilan n°4 | P100: =IF(N100="","A programmer",N100+360) -> 43750 | Q100: =IF(A100="Résiliation","-",IF(H100="Bilan n°1","Bilan n°1",IF(H100="Bilan n°2","Bilan n°1",IF(H100="Bilan n°3","Bilan n°1",IF(H100="Bilan n°4","Bilan n°1",IF(H100="Bilan n°5","Bilan n°2",IF(H100="Bilan n°6","Bilan n°2",IF(H100="Bilan n°7","Bilan n°2",IF(H100="Bilan n°8","Bilan n°2",IF(H100="Bilan n°9","Bilan n°2",IF(H100="Bilan n°10","Bilan n°2","-"))))))))))) -> Bilan n°2 | S100: =IF(R100="","A programmer",IF(R100=1,F100+360,IF(R100=2,F100+720,IF(R100=3,"Réabo à prévoir","-")))) -> A programmer
C101: 904 | F101: 43446 | G101: 43543 | H101: =IF(F101="","-",IF(G101+I101-F101<=90,"Bilan n°1",IF(AND(G101+I101-F101>90,G101+I101-F101<=180),"Bilan n°2",IF(AND(G101+I101-F101>180,G101+I101-F101<=270),"Bilan n°3",IF(AND(G101+I101-F101>270,G101+I101-F101<=360),"Bilan n°4",IF(AND(G101+I101-F101>360,G101+I101-F101<=450),"Bilan n°5",IF(AND(G101+I101-F101>450,G101+I101-F101<=540),"Bilan n°6",IF(AND(G101+I101-F101>540,G101+I101-F101<=630),"Bilan n°7",IF(AND(G101+I101-F101>630,G101+I101-F101<=720),"Bilan n°8",IF(AND(G101+I101-F101>720,G101+I101-F101<=810),"Bilan n°9",IF(AND(G101+I101-F101>810,G101+I101-F101<=900),"Bilan n°10",IF(AND(G101+I101-F101>900,G101+I101-F101<=990),"Bilan n°11",IF(AND(G101+I101-F101>990,G101+I101-F101<=1180),"Bilan n°12"))))))))))))) -> Bilan n°2 | J101: =IF(OR(H101="Bilan n°1",H101="Bilan n°2",H101="Bilan n°3",H101="Bilan n°4",H101="Bilan n°5",H101="Bilan n°6",H101="Bilan n°7",H101="Bilan n°8",H101="Bilan n°9",H101="Bilan n°10",H101="Bilan n°11",H101="Bilan n°12"),EDATE(L101,3),"-") -> 43637 | K101: 2 | L101: =IF(K101="AP","",IF(G101="-","",IF(G101="","",EDATE(G101,0)+K101+I101))) -> 43545 | M101: =IF(J101="-","",EDATE(J101,3)+4) -> 43733 | N101: 43546 | O101: =IF(A101="Résiliation","-",IF(H101="Bilan n°1","Bilan n°1",IF(H101="Bilan n°2","Bilan n°1",IF(H101="Bilan n°4","Bilan n°2",IF(H101="Bilan n°3","Bilan n°2",IF(H101="Bilan n°5","Bilan n°3",IF(H101="Bilan n°6","Bilan n°3",IF(H101="Bilan n°7","Bilan n°4",IF(H101="Bilan n°9","Bilan n°5",IF(H101="Bilan n°10","Bilan n°6","-")))))))))) -> Bilan n°1 | P101: =IF(N101="","A programmer",N101+360) -> 43906 | Q101: =IF(A101="Résiliation","-",IF(H101="Bilan n°1","Bilan n°1",IF(H101="Bilan n°2","Bilan n°1",IF(H101="Bilan n°3","Bilan n°1",IF(H101="Bilan n°4","Bilan n°1",IF(H101="Bilan n°5","Bilan n°2",IF(H101="Bilan n°6","Bilan n°2",IF(H101="Bilan n°7","Bilan n°2",IF(H101="Bilan n°8","Bilan n°2",IF(H101="Bilan n°9","Bilan n°2",IF(H101="Bilan n°10","Bilan n°2","-"))))))))))) -> Bilan n°1 | R101: 1 | S101: =IF(R101="","A programmer",IF(R101=1,F101+360,IF(R101=2,F101+720,IF(R101=3,"Réabo à prévoir","-")))) -> 43806
C102: 907 | F102: 42914 | G102: 42919 | H102: =IF(F102="","-",IF(G102+I102-F102<=90,"Bilan n°1",IF(AND(G102+I102-F102>90,G102+I102-F102<=180),"Bilan n°2",IF(AND(G102+I102-F102>180,G102+I102-F102<=270),"Bilan n°3",IF(AND(G102+I102-F102>270,G102+I102-F102<=360),"Bilan n°4",IF(AND(G102+I102-F102>360,G102+I102-F102<=450),"Bilan n°5",IF(AND(G102+I102-F102>450,G102+I102-F102<=540),"Bilan n°6",IF(AND(G102+I102-F102>540,G102+I102-F102<=630),"Bilan n°7",IF(AND(G102+I102-F102>630,G102+I102-F102<=720),"Bilan n°8",IF(AND(G102+I102-F102>720,G102+I102-F102<=810),"Bilan n°9",IF(AND(G102+I102-F102>810,G102+I102-F102<=900),"Bilan n°10",IF(AND(G102+I102-F102>900,G102+I102-F102<=990),"Bilan n°11",IF(AND(G102+I102-F102>990,G102+I102-F102<=1180),"Bilan n°12"))))))))))))) -> Bilan n°1 | J102: =IF(OR(H102="Bilan n°1",H102="Bilan n°2",H102="Bilan n°3",H102="Bilan n°4",H102="Bilan n°5",H102="Bilan n°6",H102="Bilan n°7",H102="Bilan n°8",H102="Bilan n°9",H102="Bilan n°10",H102="Bilan n°11",H102="Bilan n°12"),EDATE(L102,3),"-") -> 43018 | K102: 7 | L102: =IF(K102="AP","",IF(G102="-","",IF(G102="","",EDATE(G102,0)+K102+I102))) -> 42926 | M102: =IF(J102="-","",EDATE(J102,3)+4) -> 43114 | N102: 42920 | O102: =IF(A102="Résiliation","-",IF(H102="Bilan n°1","Bilan n°1",IF(H102="Bilan n°2","Bilan n°1",IF(H102="Bilan n°4","Bilan n°2",IF(H102="Bilan n°3","Bilan n°2",IF(H102="Bilan n°5","Bilan n°3",IF(H102="Bilan n°6","Bilan n°3",IF(H102="Bilan n°7","Bilan n°4",IF(H102="Bilan n°9","Bilan n°5",IF(H102="Bilan n°10","Bilan n°6","-")))))))))) -> Bilan n°1 | P102: =IF(N102="","A programmer",N102+360) -> 43280 | Q102: =IF(A102="Résiliation","-",IF(H102="Bilan n°1","Bilan n°1",IF(H102="Bilan n°2","Bilan n°1",IF(H102="Bilan n°3","Bilan n°1",IF(H102="Bilan n°4","Bilan n°1",IF(H102="Bilan n°5","Bilan n°2",IF(H102="Bilan n°6","Bilan n°2",IF(H102="Bilan n°7","Bilan n°2",IF(H102="Bilan n°8","Bilan n°2",IF(H102="Bilan n°9","Bilan n°2",IF(H102="Bilan n°10","Bilan n°2","-"))))))))))) -> Bilan n°1 | S102: =IF(R102="","A programmer",IF(R102=1,F102+360,IF(R102=2,F102+720,IF(R102=3,"Réabo à prévoir","-")))) -> A programmer
C103: 908 | F103: 42915 | G103: 43117 | H103: =IF(F103="","-",IF(G103+I103-F103<=90,"Bilan n°1",IF(AND(G103+I103-F103>90,G103+I103-F103<=180),"Bilan n°2",IF(AND(G103+I103-F103>180,G103+I103-F103<=270),"Bilan n°3",IF(AND(G103+I103-F103>270,G103+I103-F103<=360),"Bilan n°4",IF(AND(G103+I103-F103>360,G103+I103-F103<=450),"Bilan n°5",IF(AND(G103+I103-F103>450,G103+I103-F103<=540),"Bilan n°6",IF(AND(G103+I103-F103>540,G103+I103-F103<=630),"Bilan n°7",IF(AND(G103+I103-F103>630,G103+I103-F103<=720),"Bilan n°8",IF(AND(G103+I103-F103>720,G103+I103-F103<=810),"Bilan n°9",IF(AND(G103+I103-F103>810,G103+I103-F103<=900),"Bilan n°10",IF(AND(G103+I103-F103>900,G103+I103-F103<=990),"Bilan n°11",IF(AND(G103+I103-F103>990,G103+I103-F103<=1180),"Bilan n°12"))))))))))))) -> Bilan n°3 | J103: =IF(OR(H103="Bilan n°1",H103="Bilan n°2",H103="Bilan n°3",H103="Bilan n°4",H103="Bilan n°5",H103="Bilan n°6",H103="Bilan n°7",H103="Bilan n°8",H103="Bilan n°9",H103="Bilan n°10",H103="Bilan n°11",H103="Bilan n°12"),EDATE(L103,3),"-") -> 43212 | K103: 5 | L103: =IF(K103="AP","",IF(G103="-","",IF(G103="","",EDATE(G103,0)+K103+I103))) -> 43122 | M103: =IF(J103="-","",EDATE(J103,3)+4) -> 43307 | N103: 42927 | O103: =IF(A103="Résiliation","-",IF(H103="Bilan n°1","Bilan n°1",IF(H103="Bilan n°2","Bilan n°1",IF(H103="Bilan n°4","Bilan n°2",IF(H103="Bilan n°3","Bilan n°2",IF(H103="Bilan n°5","Bilan n°3",IF(H103="Bilan n°6","Bilan n°3",IF(H103="Bilan n°7","Bilan n°4",IF(H103="Bilan n°9","Bilan n°5",IF(H103="Bilan n°10","Bilan n°6","-")))))))))) -> Bilan n°2 | P103: =IF(N103="","A programmer",N103+360) -> 43287 | Q103: =IF(A103="Résiliation","-",IF(H103="Bilan n°1","Bilan n°1",IF(H103="Bilan n°2","Bilan n°1",IF(H103="Bilan n°3","Bilan n°1",IF(H103="Bilan n°4","Bilan n°1",IF(H103="Bilan n°5","Bilan n°2",IF(H103="Bilan n°6","Bilan n°2",IF(H103="Bilan n°7","Bilan n°2",IF(H103="Bilan n°8","Bilan n°2",IF(H103="Bilan n°9","Bilan n°2",IF(H103="Bilan n°10","Bilan n°2","-"))))))))))) -> Bilan n°1 | R103: 1 | S103: =IF(R103="","A programmer",IF(R103=1,F103+360,IF(R103=2,F103+720,IF(R103=3,"Réabo à prévoir","-")))) -> 43275
C104: 909 | F104: 42916 | G104: 43081 | H104: =IF(F104="","-",IF(G104+I104-F104<=90,"Bilan n°1",IF(AND(G104+I104-F104>90,G104+I104-F104<=180),"Bilan n°2",IF(AND(G104+I104-F104>180,G104+I104-F104<=270),"Bilan n°3",IF(AND(G104+I104-F104>270,G104+I104-F104<=360),"Bilan n°4",IF(AND(G104+I104-F104>360,G104+I104-F104<=450),"Bilan n°5",IF(AND(G104+I104-F104>450,G104+I104-F104<=540),"Bilan n°6",IF(AND(G104+I104-F104>540,G104+I104-F104<=630),"Bilan n°7",IF(AND(G104+I104-F104>630,G104+I104-F104<=720),"Bilan n°8",IF(AND(G104+I104-F104>720,G104+I104-F104<=810),"Bilan n°9",IF(AND(G104+I104-F104>810,G104+I104-F104<=900),"Bilan n°10",IF(AND(G104+I104-F104>900,G104+I104-F104<=990),"Bilan n°11",IF(AND(G104+I104-F104>990,G104+I104-F104<=1180),"Bilan n°12"))))))))))))) -> Bilan n°2 | J104: =IF(OR(H104="Bilan n°1",H104="Bilan n°2",H104="Bilan n°3",H104="Bilan n°4",H104="Bilan n°5",H104="Bilan n°6",H104="Bilan n°7",H104="Bilan n°8",H104="Bilan n°9",H104="Bilan n°10",H104="Bilan n°11",H104="Bilan n°12"),EDATE(L104,3),"-") -> 43279 | K104: 106 | L104: =IF(K104="AP","",IF(G104="-","",IF(G104="","",EDATE(G104,0)+K104+I104))) -> 43187 | M104: =IF(J104="-","",EDATE(J104,3)+4) -> 43375 | N104: 42921 | O104: =IF(A104="Résiliation","-",IF(H104="Bilan n°1","Bilan n°1",IF(H104="Bilan n°2","Bilan n°1",IF(H104="Bilan n°4","Bilan n°2",IF(H104="Bilan n°3","Bilan n°2",IF(H104="Bilan n°5","Bilan n°3",IF(H104="Bilan n°6","Bilan n°3",IF(H104="Bilan n°7","Bilan n°4",IF(H104="Bilan n°9","Bilan n°5",IF(H104="Bilan n°10","Bilan n°6","-")))))))))) -> Bilan n°1 | P104: =IF(N104="","A programmer",N104+360) -> 43281 | Q104: =IF(A104="Résiliation","-",IF(H104="Bilan n°1","Bilan n°1",IF(H104="Bilan n°2","Bilan n°1",IF(H104="Bilan n°3","Bilan n°1",IF(H104="Bilan n°4","Bilan n°1",IF(H104="Bilan n°5","Bilan n°2",IF(H104="Bilan n°6","Bilan n°2",IF(H104="Bilan n°7","Bilan n°2",IF(H104="Bilan n°8","Bilan n°2",IF(H104="Bilan n°9","Bilan n°2",IF(H104="Bilan n°10","Bilan n°2","-"))))))))))) -> Bilan n°1 | R104: 1 | S104: =IF(R104="","A programmer",IF(R104=1,F104+360,IF(R104=2,F104+720,IF(R104=3,"Réabo à prévoir","-")))) -> 43276
...

Sheet Synthèse suivi
G1: Synthèse du suivi adhérent
G4: =D13&" "&C13
H7: ="A"&""&$C$10 -> A357
I8: Prochains bilans
B9: Saisir le n° d'adhérent ici : | I9: Sportif | J9: Ostéopathie | K9: Diététique
C10: 357 | I10: =VLOOKUP(C10,Suivi!C8:N436,8,FALSE) -> 43566 | J10: =VLOOKUP(C10,Suivi!C8:S436,14,FALSE) -> 43918 | K10: =VLOOKUP(C10,Suivi!C8:T436,14,FALSE) -> 43918
I11: =IF(I10=TODAY(),"A modifier","A jour") -> A jour | J11: =IF(J10=TODAY(),"A modifier","A jour") -> A jour | K11: =IF(K10=TODAY(),"A modifier","A jour") -> A jour
C13: =VLOOKUP(C10,Suivi!C8:E117,3,FALSE)&" "&VLOOKUP(C10,Suivi!C8:E117,2,FALSE)
I14: 1er bilan | J14: Dernier coaching | K14: Suivi ostéopathique
A15: > | B15: =HYPERLINK("https://docs.google.com/spreadsheets/d/14rCsf97RoLu4mhCMOx6ZP1XyOG5qdf403L32alGrM08/edit#rangeid=167878040","Modifier date bilan sportif") -> Modifier date bilan sportif | F15: < | I15: =VLOOKUP(C10,Suivi!C8:F436,4,FALSE) -> 43452 | J15: =VLOOKUP(C10,Suivi!C8:L436,10,FALSE) -> 43476 | K15: =VLOOKUP(C10,Suivi!C8:P436,14,FALSE) -> 43918
A16: > | B16: =HYPERLINK("https://docs.google.com/spreadsheets/d/14rCsf97RoLu4mhCMOx6ZP1XyOG5qdf403L32alGrM08/edit#rangeid=342671740","Modifier date séance coaching") -> Modifier date séance coaching | F16: <
A17: > | B17: =HYPERLINK("https://docs.google.com/spreadsheets/d/14rCsf97RoLu4mhCMOx6ZP1XyOG5qdf403L32alGrM08/edit#rangeid=247250017","Insérer un report") -> Insérer un report | F17: <

Sheet Bilans sportifs
D1: =TODAY() -> 43553
B2: N° | C2: NOM | D2: Prénom | E2: Sportif
B3: 16 | C3: =IFERROR(VLOOKUP(B3,Suivi!$C$8:$S$738,2,0),"") -> MALA | D3: =IFERROR(VLOOKUP(B3,Suivi!$C$8:$S$738,3,0),"") -> Régine | E3: =IFERROR(IF(VLOOKUP(B3,Suivi!$C$8:$S$738,8,0)<D1,"A modifier",VLOOKUP(B3,Suivi!$C$8:$S$738,8,0)),"") -> A modifier | F3: Idéalement serait de pouvoir afficher les bilans sportifs à modifier mais pas ceux qui sont à jour
B4: 25 | C4: =IFERROR(VLOOKUP(B4,Suivi!$C$8:$S$738,2,0),"") -> RAJI | D4: =IFERROR(VLOOKUP(B4,Suivi!$C$8:$S$738,3,0),"") -> Malo | E4: =IFERROR(IF(VLOOKUP(B4,Suivi!$C$8:$S$738,8,0)<D2,"A modifier",VLOOKUP(B4,Suivi!$C$8:$S$738,8,0)),"") -> A modifier
B5: 34 | C5: =IFERROR(VLOOKUP(B5,Suivi!$C$8:$S$738,2,0),"") -> BARIN | D5: =IFERROR(VLOOKUP(B5,Suivi!$C$8:$S$738,3,0),"") -> Thomas | E5: =IFERROR(IF(VLOOKUP(B5,Suivi!$C$8:$S$738,8,0)<D3,"A modifier",VLOOKUP(B5,Suivi!$C$8:$S$738,8,0)),"") -> A modifier
C6: =IFERROR(VLOOKUP(B6,Suivi!$C$8:$S$738,2,0),"") | D6: =IFERROR(VLOOKUP(B6,Suivi!$C$8:$S$738,3,0),"") | E6: =IFERROR(IF(VLOOKUP(B6,Suivi!$C$8:$S$738,8,0)<D4,"A modifier",VLOOKUP(B6,Suivi!$C$8:$S$738,8,0)),"")
C7: =IFERROR(VLOOKUP(B7,Suivi!$C$8:$S$738,2,0),"") | D7: =IFERROR(VLOOKUP(B7,Suivi!$C$8:$S$738,3,0),"") | E7: =IFERROR(IF(VLOOKUP(B7,Suivi!$C$8:$S$738,8,0)<D5,"A modifier",VLOOKUP(B7,Suivi!$C$8:$S$738,8,0)),"")
C8: =IFERROR(VLOOKUP(B8,Suivi!$C$8:$S$738,2,0),"") | D8: =IFERROR(VLOOKUP(B8,Suivi!$C$8:$S$738,3,0),"") | E8: =IFERROR(IF(VLOOKUP(B8,Suivi!$C$8:$S$738,8,0)<D6,"A modifier",VLOOKUP(B8,Suivi!$C$8:$S$738,8,0)),"")
C9: =IFERROR(VLOOKUP(B9,Suivi!$C$8:$S$738,2,0),"") | D9: =IFERROR(VLOOKUP(B9,Suivi!$C$8:$S$738,3,0),"") | E9: =IFERROR(IF(VLOOKUP(B9,Suivi!$C$8:$S$738,8,0)<D7,"A modifier",VLOOKUP(B9,Suivi!$C$8:$S$738,8,0)),"")
C10: =IFERROR(VLOOKUP(B10,Suivi!$C$8:$S$738,2,0),"") | D10: =IFERROR(VLOOKUP(B10,Suivi!$C$8:$S$738,3,0),"") | E10: =IFERROR(IF(VLOOKUP(B10,Suivi!$C$8:$S$738,8,0)<D8,"A modifier",VLOOKUP(B10,Suivi!$C$8:$S$738,8,0)),"")
C11: =IFERROR(VLOOKUP(B11,Suivi!$C$8:$S$738,2,0),"") | D11: =IFERROR(VLOOKUP(B11,Suivi!$C$8:$S$738,3,0),"") | E11: =IFERROR(IF(VLOOKUP(B11,Suivi!$C$8:$S$738,8,0)<D9,"A modifier",VLOOKUP(B11,Suivi!$C$8:$S$738,8,0)),"")
C12: =IFERROR(VLOOKUP(B12,Suivi!$C$8:$S$738,2,0),"") | D12: =IFERROR(VLOOKUP(B12,Suivi!$C$8:$S$738,3,0),"") | E12: =IFERROR(IF(VLOOKUP(B12,Suivi!$C$8:$S$738,8,0)<D10,"A modifier",VLOOKUP(B12,Suivi!$C$8:$S$738,8,0)),"")
C13: =IFERROR(VLOOKUP(B13,Suivi!$C$8:$S$738,2,0),"") | D13: =IFERROR(VLOOKUP(B13,Suivi!$C$8:$S$738,3,0),"") | E13: =IFERROR(IF(VLOOKUP(B13,Suivi!$C$8:$S$738,8,0)<D11,"A modifier",VLOOKUP(B13,Suivi!$C$8:$S$738,8,0)),"")
C14: =IFERROR(VLOOKUP(B14,Suivi!$C$8:$S$738,2,0),"") | D14: =IFERROR(VLOOKUP(B14,Suivi!$C$8:$S$738,3,0),"") | E14: =IFERROR(IF(VLOOKUP(B14,Suivi!$C$8:$S$738,8,0)<D12,"A modifier",VLOOKUP(B14,Suivi!$C$8:$S$738,8,0)),"")
C15: =IFERROR(VLOOKUP(B15,Suivi!$C$8:$S$738,2,0),"") | D15: =IFERROR(VLOOKUP(B15,Suivi!$C$8:$S$738,3,0),"") | E15: =IFERROR(IF(VLOOKUP(B15,Suivi!$C$8:$S$738,8,0)<D13,"A modifier",VLOOKUP(B15,Suivi!$C$8:$S$738,8,0)),"")
C16: =IFERROR(VLOOKUP(B16,Suivi!$C$8:$S$738,2,0),"") | D16: =IFERROR(VLOOKUP(B16,Suivi!$C$8:$S$738,3,0),"") | E16: =IFERROR(IF(VLOOKUP(B16,Suivi!$C$8:$S$738,8,0)<D14,"A modifier",VLOOKUP(B16,Suivi!$C$8:$S$738,8,0)),"")
C17: =IFERROR(VLOOKUP(B17,Suivi!$C$8:$S$738,2,0),"") | D17: =IFERROR(VLOOKUP(B17,Suivi!$C$8:$S$738,3,0),"") | E17: =IFERROR(IF(VLOOKUP(B17,Suivi!$C$8:$S$738,8,0)<D15,"A modifier",VLOOKUP(B17,Suivi!$C$8:$S$738,8,0)),"")
... C19: =IFERROR(VLOOKUP(B19,Suivi!$C$8:$S$738,2,0),"") | D19: =IFERROR(VLOOKUP(B19,Suivi!$C$8:$S$738,3,0),"") | E19: =IFERROR(IF(VLOOKUP(B19,Suivi!$C$8:$S$738,8,0)<D17,"A modifier",VLOOKUP(B19,Suivi!$C$8:$S$738,8,0)),"")

Sheet Bilans ostéo
D1: =TODAY() -> 43553
B2: N° | C2: NOM | D2: Prénom | E2: Ostéo
B3: 16 | C3: MALA | D3: Régine | E3: A modifier | F3: Idéalement serait de pouvoir afficher les bilans sportifs à modifier mais pas ceux qui sont à jour
B4: 25 | C4: RAJI | D4: Malo | E4: A modifier
B5: 34 | C5: BARIN | D5: Thomas | E5: A modifier

Sheet Bilans diet
D1: =TODAY() -> 43553
B2: N° | C2: NOM | D2: Prénom | E2: Diet
B3: 16 | C3: MALA | D3: Régine | E3: A modifier | F3: Idéalement serait de pouvoir afficher les bilans diet à modifier mais pas ceux qui sont à jour
B4: 25 | C4: RAJI | D4: Malo | E4: A modifier
B5: 34 | C5: BARIN | D5: Thomas | E5: A modifier
