Workbook

Sheet VENTES
A1: TABLEAU DES VENTES
A4: DATE | B4: N° DE CDE | C4: FACTURE N° | D4: PRODUITS | E4: STOCK INITIAL | F4: MOUVEMENT | G4: QTE | H4: REEL | I4: STOCK MINI | J4: A COMMANDER
A5: 43732 | B5: 2019-0001 | D5: CLIP | E5: =IFERROR(VLOOKUP(D5,STOCK!$A$1:$C$4,2,0),"") -> 50 | F5: SORTIE | G5: 1 | H5: =IFERROR(IF(F5="Sortie",E5-G5,E5+G5),"") -> 49 | I5: =IFERROR(VLOOKUP(D5,STOCK!$A$1:$C$4,3,0),"") -> 20 | J5: =IF(H5<I5,"Commander","")
D6: CLIP | E6: =IFERROR(VLOOKUP(D6,STOCK!$A$1:$C$4,2,0),"") -> 50 | F6: SORTIE | G6: 1 | H6: =IFERROR(IF(F6="Sortie",E6-SUMIFS($G$5:G5,$D$5:D5,D6,$F$5:F5,F6)-G6,E6+SUMIFS($G$5:G5,$D$5:D5,D6,$F$5:F5,F6)+G6),"") -> 48 | I6: =IFERROR(VLOOKUP(D6,STOCK!$A$1:$C$4,3,0),"") -> 20 | J6: =IF(H6<I6,"Commander","")
D7: BARRETTE | E7: =IFERROR(VLOOKUP(D7,STOCK!$A$1:$C$4,2,0),"") -> 30 | F7: ENTREE | G7: 2 | H7: =IFERROR(IF(F7="Sortie",E7-SUMIFS($G$5:G6,$D$5:D6,D7,$F$5:F6,F7)-G7,E7+SUMIFS($G$5:G6,$D$5:D6,D7,$F$5:F6,F7)+G7),"") -> 32 | I7: =IFERROR(VLOOKUP(D7,STOCK!$A$1:$C$4,3,0),"") -> 10 | J7: =IF(H7<I7,"Commander","")
D8: BARRETTE | E8: =IFERROR(VLOOKUP(D8,STOCK!$A$1:$C$4,2,0),"") -> 30 | F8: ENTREE | G8: 2 | H8: =IFERROR(IF(F8="Sortie",E8-SUMIFS($G$5:G7,$D$5:D7,D8,$F$5:F7,F8)-G8,E8+SUMIFS($G$5:G7,$D$5:D7,D8,$F$5:F7,F8)+G8),"") -> 34 | I8: =IFERROR(VLOOKUP(D8,STOCK!$A$1:$C$4,3,0),"") -> 10 | J8: =IF(H8<I8,"Commander","")
E9: =IFERROR(VLOOKUP(D9,STOCK!$A$1:$C$4,2,0),"") | H9: =IFERROR(IF(F9="Sortie",E9-SUMIFS($G$5:G8,$D$5:D8,D9,$F$5:F8,F9)-G9,E9+SUMIFS($G$5:G8,$D$5:D8,D9,$F$5:F8,F9)+G9),"") | I9: =IFERROR(VLOOKUP(D9,STOCK!$A$1:$C$4,3,0),"") | J9: =IF(H9<I9,"Commander","")
E10: =IFERROR(VLOOKUP(D10,STOCK!$A$1:$C$4,2,0),"") | H10: =IFERROR(IF(F10="Sortie",E10-SUMIFS($G$5:G9,$D$5:D9,D10,$F$5:F9,F10)-G10,E10+SUMIFS($G$5:G9,$D$5:D9,D10,$F$5:F9,F10)+G10),"") | I10: =IFERROR(VLOOKUP(D10,STOCK!$A$1:$C$4,3,0),"") | J10: =IF(H10<I10,"Commander","")
E11: =IFERROR(VLOOKUP(D11,STOCK!$A$1:$C$4,2,0),"") | H11: =IFERROR(IF(F11="Sortie",E11-SUMIFS($G$5:G10,$D$5:D10,D11,$F$5:F10,F11)-G11,E11+SUMIFS($G$5:G10,$D$5:D10,D11,$F$5:F10,F11)+G11),"") | I11: =IFERROR(VLOOKUP(D11,STOCK!$A$1:$C$4,3,0),"") | J11: =IF(H11<I11,"Commander","")

Sheet STOCK
A1: PRODUITS | B1: STOCK INITIAL | C1: STOCK MINIMUM | E1: MOUVEMENT
A2: CLIP | B2: 50 | C2: 20 | E2: ENTREE
A3: BARRETTE | B3: 30 | C3: 10 | E3: SORTIE
A4: PINCE | B4: 40 | C4: 10
