Workbook

Sheet Old
A1: Nom
A2: test1
A3: test2
A4: test3
A5: test4
A6: test5
A7: test6
A8: test7
A9: test8
A10: test9
A11: test10
A12: test11
... A21: test20

Sheet New
A1: Nom
A2: test1
A3: test2
A4: test3
A5: test4
A6: test5
A7: test6
A9: test8
A10: test9
A11: test10
A12: test11
A13: test12
... A21: test20

Sheet Compare
A1: Résultat
A2: {=IF(INDEX(Old!$A:$A,SMALL(IF(ISNA(MATCH(Old!$A$2:$A$100,New!$A$2:$A$100,0)),ROW(Old!$A$2:$A$100)),ROW(A1)))=0,"",INDEX(Old!$A:$A,SMALL(IF(ISNA(MATCH(Old!$A$2:$A$100,New!$A$2:$A$100,0)),ROW(Old!$A$2:$A$100)),ROW(A1))))} -> test7
A3: {=IF(INDEX(Old!$A:$A,SMALL(IF(ISNA(MATCH(Old!$A$2:$A$100,New!$A$2:$A$100,0)),ROW(Old!$A$2:$A$100)),ROW(A2)))=0,"",INDEX(Old!$A:$A,SMALL(IF(ISNA(MATCH(Old!$A$2:$A$100,New!$A$2:$A$100,0)),ROW(Old!$A$2:$A$100)),ROW(A2))))} -> test13
A4: {=IF(INDEX(Old!$A:$A,SMALL(IF(ISNA(MATCH(Old!$A$2:$A$100,New!$A$2:$A$100,0)),ROW(Old!$A$2:$A$100)),ROW(A3)))=0,"",INDEX(Old!$A:$A,SMALL(IF(ISNA(MATCH(Old!$A$2:$A$100,New!$A$2:$A$100,0)),ROW(Old!$A$2:$A$100)),ROW(A3))))} -> test17
A5: {=IF(INDEX(Old!$A:$A,SMALL(IF(ISNA(MATCH(Old!$A$2:$A$100,New!$A$2:$A$100,0)),ROW(Old!$A$2:$A$100)),ROW(A4)))=0,"",INDEX(Old!$A:$A,SMALL(IF(ISNA(MATCH(Old!$A$2:$A$100,New!$A$2:$A$100,0)),ROW(Old!$A$2:$A$100)),ROW(A4))))}
A6: {=IF(INDEX(Old!$A:$A,SMALL(IF(ISNA(MATCH(Old!$A$2:$A$100,New!$A$2:$A$100,0)),ROW(Old!$A$2:$A$100)),ROW(A5)))=0,"",INDEX(Old!$A:$A,SMALL(IF(ISNA(MATCH(Old!$A$2:$A$100,New!$A$2:$A$100,0)),ROW(Old!$A$2:$A$100)),ROW(A5))))}
A7: {=IF(INDEX(Old!$A:$A,SMALL(IF(ISNA(MATCH(Old!$A$2:$A$100,New!$A$2:$A$100,0)),ROW(Old!$A$2:$A$100)),ROW(A6)))=0,"",INDEX(Old!$A:$A,SMALL(IF(ISNA(MATCH(Old!$A$2:$A$100,New!$A$2:$A$100,0)),ROW(Old!$A$2:$A$100)),ROW(A6))))}
A8: {=IF(INDEX(Old!$A:$A,SMALL(IF(ISNA(MATCH(Old!$A$2:$A$100,New!$A$2:$A$100,0)),ROW(Old!$A$2:$A$100)),ROW(A7)))=0,"",INDEX(Old!$A:$A,SMALL(IF(ISNA(MATCH(Old!$A$2:$A$100,New!$A$2:$A$100,0)),ROW(Old!$A$2:$A$100)),ROW(A7))))}
A9: {=IF(INDEX(Old!$A:$A,SMALL(IF(ISNA(MATCH(Old!$A$2:$A$100,New!$A$2:$A$100,0)),ROW(Old!$A$2:$A$100)),ROW(A8)))=0,"",INDEX(Old!$A:$A,SMALL(IF(ISNA(MATCH(Old!$A$2:$A$100,New!$A$2:$A$100,0)),ROW(Old!$A$2:$A$100)),ROW(A8))))}
A10: {=IF(INDEX(Old!$A:$A,SMALL(IF(ISNA(MATCH(Old!$A$2:$A$100,New!$A$2:$A$100,0)),ROW(Old!$A$2:$A$100)),ROW(A9)))=0,"",INDEX(Old!$A:$A,SMALL(IF(ISNA(MATCH(Old!$A$2:$A$100,New!$A$2:$A$100,0)),ROW(Old!$A$2:$A$100)),ROW(A9))))}
A11: {=IF(INDEX(Old!$A:$A,SMALL(IF(ISNA(MATCH(Old!$A$2:$A$100,New!$A$2:$A$100,0)),ROW(Old!$A$2:$A$100)),ROW(A10)))=0,"",INDEX(Old!$A:$A,SMALL(IF(ISNA(MATCH(Old!$A$2:$A$100,New!$A$2:$A$100,0)),ROW(Old!$A$2:$A$100)),ROW(A10))))}
A12: {=IF(INDEX(Old!$A:$A,SMALL(IF(ISNA(MATCH(Old!$A$2:$A$100,New!$A$2:$A$100,0)),ROW(Old!$A$2:$A$100)),ROW(A11)))=0,"",INDEX(Old!$A:$A,SMALL(IF(ISNA(MATCH(Old!$A$2:$A$100,New!$A$2:$A$100,0)),ROW(Old!$A$2:$A$100)),ROW(A11))))}
A13: {=IF(INDEX(Old!$A:$A,SMALL(IF(ISNA(MATCH(Old!$A$2:$A$100,New!$A$2:$A$100,0)),ROW(Old!$A$2:$A$100)),ROW(A12)))=0,"",INDEX(Old!$A:$A,SMALL(IF(ISNA(MATCH(Old!$A$2:$A$100,New!$A$2:$A$100,0)),ROW(Old!$A$2:$A$100)),ROW(A12))))}
... A29: {=IF(INDEX(Old!$A:$A,SMALL(IF(ISNA(MATCH(Old!$A$2:$A$100,New!$A$2:$A$100,0)),ROW(Old!$A$2:$A$100)),ROW(A28)))=0,"",INDEX(Old!$A:$A,SMALL(IF(ISNA(MATCH(Old!$A$2:$A$100,New!$A$2:$A$100,0)),ROW(Old!$A$2:$A$100)),ROW(A28))))}
