Workbook
Name Countries: #REF!

Sheet Base
C1: Australia | D1: Australia | E1: Australia | F1: Australia | G1: Azerbaïjan | H1: Azerbaïjan | I1: Azerbaïjan | J1: Azerbaïjan
A2: Product List | C2: Australia | G2: Azerbaïjan
A3: Description | B3: Item Number | C3: Price for Small Size Project | D3: Price for Medium Size Project | E3: Price for Big Size Project | F3: Price for Mega Size Project | G3: Price for Small Size Project | H3: Price for Medium Size Project | I3: Price for Big Size Project | J3: Price for Mega Size Project
A4: aaa | B4: 11111 | C4: 1.2 | D4: 1.134 | E4: 1.0716 | F4: 1.0116 | G4: 1.4 | H4: 1.323 | I4: 1.2502 | J4: 1.1802
A5: bbb | B5: 22222 | C5: 1.2 | D5: 1.134 | E5: 1.0716 | F5: 1.0116 | G5: 1.4 | H5: 1.323 | I5: 1.2502 | J5: 1.1802
A6: cc | B6: 33333 | C6: 1.2 | D6: 1.134 | E6: 1.0716 | F6: 1.0116 | G6: 1.4 | H6: 1.323 | I6: 1.2502 | J6: 1.1802
A7: ddd | B7: 44444 | C7: 1.2 | D7: 1.134 | E7: 1.0716 | F7: 1.0116 | G7: 1.4 | H7: 1.323 | I7: 1.2502 | J7: 1.1802
A8: eee | B8: 55555 | C8: 1.2 | D8: 1.134 | E8: 1.0716 | F8: 1.0116 | G8: 1.4 | H8: 1.323 | I8: 1.2502 | J8: 1.1802
A9: fff | B9: 66666 | C9: 1.2 | D9: 1.134 | E9: 1.0716 | F9: 1.0116 | G9: 1.4 | H9: 1.323 | I9: 1.2502 | J9: 1.1802
A10: ggg | B10: 77777 | C10: 1.2 | D10: 1.134 | E10: 1.0716 | F10: 1.0116 | G10: 1.4 | H10: 1.323 | I10: 1.2502 | J10: 1.1802
A11: hhh | B11: 88888 | C11: 1.2 | D11: 1.134 | E11: 1.0716 | F11: 1.0116 | G11: 1.4 | H11: 1.323 | I11: 1.2502 | J11: 1.1802
A15: Countries | C15: Project Size
A16: Australia | C16: Small Size Project
A17: Azerbaïjan | C17: Medium Size Project
A18: Bahrain | C18: Big Size project
A19: Belgium | C19: Mega Size Project
A20: Brazil
A21: Canada
A22: China
A23: Egypt
A24: Finland
A25: France
A26: India
A27: Indonesia
A28: Italy
A29: Malaysia
A30: Mexico
A31: Philippines
... A41: USA

Sheet Pricing
A1: Select Country | B1: Australia
A2: Select Project Size | B2: Medium Size Project
C5: Description | D5: Item Number | E5: Project Price
C6: =Base!A4 -> aaa | D6: =Base!B4 -> 11111 | E6: =SUMPRODUCT((Base!$C$1:$J$1=$B$1)*(Base!$C$3:$J$3="Price for "&$B$2)*(Base!$A$4:$A$11=C6)*(Base!$B$4:$B$11=D6)*Base!$C$4:$J$11) -> 1.134
C7: =Base!A5 -> bbb | D7: =Base!B5 -> 22222 | E7: =SUMPRODUCT((Base!$C$1:$J$1=$B$1)*(Base!$C$3:$J$3="Price for "&$B$2)*(Base!$A$4:$A$11=C7)*(Base!$B$4:$B$11=D7)*Base!$C$4:$J$11) -> 1.134
C8: =Base!A6 -> cc | D8: =Base!B6 -> 33333 | E8: =SUMPRODUCT((Base!$C$1:$J$1=$B$1)*(Base!$C$3:$J$3="Price for "&$B$2)*(Base!$A$4:$A$11=C8)*(Base!$B$4:$B$11=D8)*Base!$C$4:$J$11) -> 1.134
C9: =Base!A7 -> ddd | D9: =Base!B7 -> 44444 | E9: =SUMPRODUCT((Base!$C$1:$J$1=$B$1)*(Base!$C$3:$J$3="Price for "&$B$2)*(Base!$A$4:$A$11=C9)*(Base!$B$4:$B$11=D9)*Base!$C$4:$J$11) -> 1.134
C10: =Base!A8 -> eee | D10: =Base!B8 -> 55555 | E10: =SUMPRODUCT((Base!$C$1:$J$1=$B$1)*(Base!$C$3:$J$3="Price for "&$B$2)*(Base!$A$4:$A$11=C10)*(Base!$B$4:$B$11=D10)*Base!$C$4:$J$11) -> 1.134
C11: =Base!A9 -> fff | D11: =Base!B9 -> 66666 | E11: =SUMPRODUCT((Base!$C$1:$J$1=$B$1)*(Base!$C$3:$J$3="Price for "&$B$2)*(Base!$A$4:$A$11=C11)*(Base!$B$4:$B$11=D11)*Base!$C$4:$J$11) -> 1.134
C12: =Base!A10 -> ggg | D12: =Base!B10 -> 77777 | E12: =SUMPRODUCT((Base!$C$1:$J$1=$B$1)*(Base!$C$3:$J$3="Price for "&$B$2)*(Base!$A$4:$A$11=C12)*(Base!$B$4:$B$11=D12)*Base!$C$4:$J$11) -> 1.134
C13: =Base!A11 -> hhh | D13: =Base!B11 -> 88888 | E13: =SUMPRODUCT((Base!$C$1:$J$1=$B$1)*(Base!$C$3:$J$3="Price for "&$B$2)*(Base!$A$4:$A$11=C13)*(Base!$B$4:$B$11=D13)*Base!$C$4:$J$11) -> 1.134
