Workbook

Sheet Feuil1
C5: Num | D5: Nom et Prenom | E5: Genre | F5: Date naissance | G5: Profil | H5: Cat | I5: Region
C6: 43 | D6: XAVIER | E6: M | F6: 20090 | G6: TSSI | H6: A | I6: CENTRAL
C7: 7866745 | D7: JDNFO | E7: F | F7: 31413 | G7: TSSO | H7: A | I7: M-CHARI
C8: 67 | D8: CJDKSO | E8: M | F8: 31099 | G8: TSSO | H8: A2 | I8: M-CHARI
C9: 65 | D9: OMIL BION | E9: F | F9: 29539 | G9: TSSR | H9: A | I9: MK
C10: 74 | D10: HUINE NUR | E10: F | F10: 26503 | G10: FS | H10: III | I10: LOGONE
C11: 7346 | D11: JFLD | E11: M | F11: 28756 | G11: ATS | H11: C | I11: M-CHARI
C12: 86884 | D12: IUNED BERI | E12: F | F12: 26503 | G12: FS | H12: III | I12: M-CHARI
C13: 71418 | D13: YERII LOUM | E13: M | F13: 29279 | G13: ATS | H13: C | I13: M-CHARI
C14: 676 | D14: NDURINE KLOI | E14: M | F14: 23012 | G14: IDE | H14: B | I14: MK
C15: 56486 | D15: SOERML | E15: M | F15: 25721 | G15: ATS | H15: A | I15: M-CHARI
C16: 879 | D16: NFNDE | E16: F | F16: 23695 | G16: FS | H16: II | I16: M-CHARI
C17: 678 | D17: DJFEND KF | E17: F | F17: 29470 | G17: ATS | H17: C | I17: LOGONE
... C20: 78 | D20: UIRHT NJT | E20: M | F20: 30025 | G20: TSSO | H20: A2 | I20: M-CHARI

Sheet Feuil2
E4: Profil | F4: TSSO | I4: Region | J4: M-CHARI
A6: Num | B6: Nom et Prenom | C6: Date naissance | D6: genre | E6: cat
A7: {=IFERROR(INDEX(Feuil1!$C$6:$I$20,_xlfn.AGGREGATE(15,6,ROW(Feuil1!$C$6:$I$20)/((Feuil1!$G$6:$G$20=$F$4)*(Feuil1!$I$6:$I$20=$J$4)),ROW()-6)-5,1),"")} -> 7866745 | B7: =IF(A7="","",VLOOKUP(A7,Feuil1!$C$6:$I$20,2,0)) -> JDNFO | C7: =IF(A7="","",VLOOKUP(A7,Feuil1!$C$6:$I$20,3,0)) -> F | D7: =IF(A7="","",VLOOKUP(A7,Feuil1!$C$6:$I$20,4,0)) -> 31413 | E7: =IF(A7="","",VLOOKUP(A7,Feuil1!$C$6:$I$20,6,0)) -> A
A8: {=IFERROR(INDEX(Feuil1!$C$6:$I$20,_xlfn.AGGREGATE(15,6,ROW(Feuil1!$C$6:$I$20)/((Feuil1!$G$6:$G$20=$F$4)*(Feuil1!$I$6:$I$20=$J$4)),ROW()-6)-5,1),"")} -> 67 | B8: =IF(A8="","",VLOOKUP(A8,Feuil1!$C$6:$I$20,2,0)) -> CJDKSO | C8: =IF(A8="","",VLOOKUP(A8,Feuil1!$C$6:$I$20,3,0)) -> M | D8: =IF(A8="","",VLOOKUP(A8,Feuil1!$C$6:$I$20,4,0)) -> 31099 | E8: =IF(A8="","",VLOOKUP(A8,Feuil1!$C$6:$I$20,6,0)) -> A2
A9: {=IFERROR(INDEX(Feuil1!$C$6:$I$20,_xlfn.AGGREGATE(15,6,ROW(Feuil1!$C$6:$I$20)/((Feuil1!$G$6:$G$20=$F$4)*(Feuil1!$I$6:$I$20=$J$4)),ROW()-6)-5,1),"")} -> 78 | B9: =IF(A9="","",VLOOKUP(A9,Feuil1!$C$6:$I$20,2,0)) -> UIRHT NJT | C9: =IF(A9="","",VLOOKUP(A9,Feuil1!$C$6:$I$20,3,0)) -> M | D9: =IF(A9="","",VLOOKUP(A9,Feuil1!$C$6:$I$20,4,0)) -> 30025 | E9: =IF(A9="","",VLOOKUP(A9,Feuil1!$C$6:$I$20,6,0)) -> A2
A10: {=IFERROR(INDEX(Feuil1!$C$6:$I$20,_xlfn.AGGREGATE(15,6,ROW(Feuil1!$C$6:$I$20)/((Feuil1!$G$6:$G$20=$F$4)*(Feuil1!$I$6:$I$20=$J$4)),ROW()-6)-5,1),"")} | B10: =IF(A10="","",VLOOKUP(A10,Feuil1!$C$6:$I$20,2,0)) | C10: =IF(A10="","",VLOOKUP(A10,Feuil1!$C$6:$I$20,3,0)) | D10: =IF(A10="","",VLOOKUP(A10,Feuil1!$C$6:$I$20,4,0)) | E10: =IF(A10="","",VLOOKUP(A10,Feuil1!$C$6:$I$20,6,0))
A11: {=IFERROR(INDEX(Feuil1!$C$6:$I$20,_xlfn.AGGREGATE(15,6,ROW(Feuil1!$C$6:$I$20)/((Feuil1!$G$6:$G$20=$F$4)*(Feuil1!$I$6:$I$20=$J$4)),ROW()-6)-5,1),"")} | B11: =IF(A11="","",VLOOKUP(A11,Feuil1!$C$6:$I$20,2,0)) | C11: =IF(A11="","",VLOOKUP(A11,Feuil1!$C$6:$I$20,3,0)) | D11: =IF(A11="","",VLOOKUP(A11,Feuil1!$C$6:$I$20,4,0)) | E11: =IF(A11="","",VLOOKUP(A11,Feuil1!$C$6:$I$20,6,0))
A12: {=IFERROR(INDEX(Feuil1!$C$6:$I$20,_xlfn.AGGREGATE(15,6,ROW(Feuil1!$C$6:$I$20)/((Feuil1!$G$6:$G$20=$F$4)*(Feuil1!$I$6:$I$20=$J$4)),ROW()-6)-5,1),"")} | B12: =IF(A12="","",VLOOKUP(A12,Feuil1!$C$6:$I$20,2,0)) | C12: =IF(A12="","",VLOOKUP(A12,Feuil1!$C$6:$I$20,3,0)) | D12: =IF(A12="","",VLOOKUP(A12,Feuil1!$C$6:$I$20,4,0)) | E12: =IF(A12="","",VLOOKUP(A12,Feuil1!$C$6:$I$20,6,0))
A13: {=IFERROR(INDEX(Feuil1!$C$6:$I$20,_xlfn.AGGREGATE(15,6,ROW(Feuil1!$C$6:$I$20)/((Feuil1!$G$6:$G$20=$F$4)*(Feuil1!$I$6:$I$20=$J$4)),ROW()-6)-5,1),"")} | B13: =IF(A13="","",VLOOKUP(A13,Feuil1!$C$6:$I$20,2,0)) | C13: =IF(A13="","",VLOOKUP(A13,Feuil1!$C$6:$I$20,3,0)) | D13: =IF(A13="","",VLOOKUP(A13,Feuil1!$C$6:$I$20,4,0)) | E13: =IF(A13="","",VLOOKUP(A13,Feuil1!$C$6:$I$20,6,0))
A14: {=IFERROR(INDEX(Feuil1!$C$6:$I$20,_xlfn.AGGREGATE(15,6,ROW(Feuil1!$C$6:$I$20)/((Feuil1!$G$6:$G$20=$F$4)*(Feuil1!$I$6:$I$20=$J$4)),ROW()-6)-5,1),"")} | B14: =IF(A14="","",VLOOKUP(A14,Feuil1!$C$6:$I$20,2,0)) | C14: =IF(A14="","",VLOOKUP(A14,Feuil1!$C$6:$I$20,3,0)) | D14: =IF(A14="","",VLOOKUP(A14,Feuil1!$C$6:$I$20,4,0)) | E14: =IF(A14="","",VLOOKUP(A14,Feuil1!$C$6:$I$20,6,0))
A15: {=IFERROR(INDEX(Feuil1!$C$6:$I$20,_xlfn.AGGREGATE(15,6,ROW(Feuil1!$C$6:$I$20)/((Feuil1!$G$6:$G$20=$F$4)*(Feuil1!$I$6:$I$20=$J$4)),ROW()-6)-5,1),"")} | B15: =IF(A15="","",VLOOKUP(A15,Feuil1!$C$6:$I$20,2,0)) | C15: =IF(A15="","",VLOOKUP(A15,Feuil1!$C$6:$I$20,3,0)) | D15: =IF(A15="","",VLOOKUP(A15,Feuil1!$C$6:$I$20,4,0)) | E15: =IF(A15="","",VLOOKUP(A15,Feuil1!$C$6:$I$20,6,0))
A16: {=IFERROR(INDEX(Feuil1!$C$6:$I$20,_xlfn.AGGREGATE(15,6,ROW(Feuil1!$C$6:$I$20)/((Feuil1!$G$6:$G$20=$F$4)*(Feuil1!$I$6:$I$20=$J$4)),ROW()-6)-5,1),"")} | B16: =IF(A16="","",VLOOKUP(A16,Feuil1!$C$6:$I$20,2,0)) | C16: =IF(A16="","",VLOOKUP(A16,Feuil1!$C$6:$I$20,3,0)) | D16: =IF(A16="","",VLOOKUP(A16,Feuil1!$C$6:$I$20,4,0)) | E16: =IF(A16="","",VLOOKUP(A16,Feuil1!$C$6:$I$20,6,0))
A17: {=IFERROR(INDEX(Feuil1!$C$6:$I$20,_xlfn.AGGREGATE(15,6,ROW(Feuil1!$C$6:$I$20)/((Feuil1!$G$6:$G$20=$F$4)*(Feuil1!$I$6:$I$20=$J$4)),ROW()-6)-5,1),"")} | B17: =IF(A17="","",VLOOKUP(A17,Feuil1!$C$6:$I$20,2,0)) | C17: =IF(A17="","",VLOOKUP(A17,Feuil1!$C$6:$I$20,3,0)) | D17: =IF(A17="","",VLOOKUP(A17,Feuil1!$C$6:$I$20,4,0)) | E17: =IF(A17="","",VLOOKUP(A17,Feuil1!$C$6:$I$20,6,0))
A18: {=IFERROR(INDEX(Feuil1!$C$6:$I$20,_xlfn.AGGREGATE(15,6,ROW(Feuil1!$C$6:$I$20)/((Feuil1!$G$6:$G$20=$F$4)*(Feuil1!$I$6:$I$20=$J$4)),ROW()-6)-5,1),"")} | B18: =IF(A18="","",VLOOKUP(A18,Feuil1!$C$6:$I$20,2,0)) | C18: =IF(A18="","",VLOOKUP(A18,Feuil1!$C$6:$I$20,3,0)) | D18: =IF(A18="","",VLOOKUP(A18,Feuil1!$C$6:$I$20,4,0)) | E18: =IF(A18="","",VLOOKUP(A18,Feuil1!$C$6:$I$20,6,0))
... A20: {=IFERROR(INDEX(Feuil1!$C$6:$I$20,_xlfn.AGGREGATE(15,6,ROW(Feuil1!$C$6:$I$20)/((Feuil1!$G$6:$G$20=$F$4)*(Feuil1!$I$6:$I$20=$J$4)),ROW()-6)-5,1),"")} | B20: =IF(A20="","",VLOOKUP(A20,Feuil1!$C$6:$I$20,2,0)) | C20: =IF(A20="","",VLOOKUP(A20,Feuil1!$C$6:$I$20,3,0)) | D20: =IF(A20="","",VLOOKUP(A20,Feuil1!$C$6:$I$20,4,0)) | E20: =IF(A20="","",VLOOKUP(A20,Feuil1!$C$6:$I$20,6,0))
