Workbook

Sheet LISTES
A1: LISTE DES ACTIONNAIRES | H1: LISTE DES TERRITOIRES
A2: ACTIONNAIRES | B2: Invités | C2: 1/2 ACTIONNAIRES | D2: Invités | E2: 1/4 ACTIONNAIRES | F2: Invités | H2: Dates | I2: Territoires | V2: GLANDEE
A3: AUB Bertrand | C3: ARM Emile | E3: AUD Dimitri | H3: 44130 | I3: ENCLOS | V3: 3 PIGNONS
A4: BAL Marcel | C4: BLA Gérald | E4: AUD Jean-Luc | H4: 44137 | I4: 3 PIGNONS | V4: ENCLOS
A5: BIA Robert | C5: BOU Bruno | E5: BEC Jacques | H5: 44144 | I5: GLANDEE | V5: MIXTE 3P
A6: BIG Nicolas | C6: CHA Dominique | E6: HUR Sébastien | H6: 44151 | I6: MIXTE 3P | V6: MIXTE GLANDEE
A7: BOU Hugues | C7: COL Gérard | E7: KEE Fabien | H7: 44158 | I7: GLANDEE | V7: MIXTE ENCLOS
A8: BUS Michel | C8: CRO Patrice | E8: REN Cyril | H8: 44165 | I8: ENCLOS
A9: CAR Lucien | C9: DAG Marcel | E9: ROS Jean | H9: 44172 | I9: GLANDEE
A10: COQ Patrick | C10: DAL Bernard | E10: SPI Patrick | H10: 44179 | I10: 3 PIGNONS
A11: DAD Alain | C11: FOU Marc | E11: ZER Tim | H11: 44186 | I11: ENCLOS
A12: GAU Michel | C12: GAU Laurent | E12: HUT Roger | H12: 44193 | I12: GLANDEE
A13: GOD Romain | C13: GER Guy | H13: 44200 | I13: MIXTE 3P
A14: HER Patrick | C14: GIR Sébastien | H14: 44207
A15: HIN Christophe | C15: GRE Alain | H15: 44214 | I15: GLANDEE
A16: HOR Michel | C16: GUT Patrice | H16: 44221 | I16: 3 PIGNONS
A17: JAH Alain | C17: LEB Frédéric | H17: 44228 | I17: MIXTE GLANDEE
A18: JUI Daniel | C18: LEF Quentin | H18: 44235 | I18: GLANDEE
A19: LEG Philippe | C19: MAN Marc | H19: 44242 | I19: MIXTE ENCLOS
A20: MAI Jacques | C20: MAR Hervé | H20: 44249 | I20: GLANDEE
A21: MAT Armel | C21: POU Daniel
A22: MUL Angelo | C22: ROG Patrick
A23: MUL David | C23: ROU Erwan
A24: RIG Jean-Paul | C24: RUZ Alain
A25: SOS Aurélien | C25: SED Jean
A26: TOU François | C26: SIM Philippe
A27: TOU Philippe | C27: THI Philippe
C28: THI Pierre
C29: VID Pierre
C30: WIL Noël
C31: VAU Christian
C32: EDF Tom

Sheet PLANNING
A1: DATES | B1: =LISTES!$H$3 -> 44130 | E1: =LISTES!$H$4 -> 44137 | H1: =LISTES!$H$5 -> 44144 | K1: =LISTES!$H$6 -> 44151 | N1: =LISTES!$H$7 -> 44158 | Q1: =LISTES!$H$8 -> 44165 | T1: =LISTES!$H$9 -> 44172 | W1: =LISTES!$H$10 -> 44179 | Z1: =LISTES!$H$11 -> 44186 | AC1: =LISTES!$H$12 -> 44193 | AF1: =LISTES!$H$13 -> 44200 | AI1: =LISTES!$H$14 -> 44207 | AL1: =LISTES!$H$15 -> 44214 | AO1: =LISTES!$H$16 -> 44221 | AR1: =LISTES!$H$17 -> 44228 | AU1: =LISTES!$H$18 -> 44235 | AX1: =LISTES!$H$19 -> 44242 | BA1: =LISTES!$H$20 -> 44249
A2: TERRITOIRES | B2: =IFERROR(LISTES!I3,"") -> ENCLOS | E2: =IFERROR(LISTES!I4,"") -> 3 PIGNONS | H2: =IFERROR(LISTES!I5,"") -> GLANDEE | K2: =IFERROR(LISTES!I6,"") -> MIXTE 3P | N2: =IFERROR(LISTES!$I$7,"") -> GLANDEE | Q2: =IFERROR(LISTES!$I$8,"") -> ENCLOS | T2: =IFERROR(LISTES!$I$9,"") -> GLANDEE | W2: =IFERROR(LISTES!$I$10,"") -> 3 PIGNONS | Z2: =IFERROR(LISTES!$I$11,"") -> ENCLOS | AC2: =IFERROR(LISTES!$I$12,"") -> GLANDEE | AF2: =IFERROR(LISTES!$I$13,"") -> MIXTE 3P | AI2: =IFERROR(LISTES!$I$14,"") -> 0 | AL2: =IFERROR(LISTES!$I$15,"") -> GLANDEE | AO2: =IFERROR(LISTES!$I$16,"") -> 3 PIGNONS | AR2: =IFERROR(LISTES!$I$17,"") -> MIXTE GLANDEE | AU2: =IFERROR(LISTES!$I$18,"") -> GLANDEE | AX2: =IFERROR(LISTES!$I$19,"") -> MIXTE ENCLOS | BA2: =IFERROR(LISTES!$I$20,"") -> GLANDEE
A3: NOMS | B3: P | C3: R | D3: I | E3: P | F3: R | G3: I | H3: P | I3: R | J3: I | K3: P | L3: R | M3: I | N3: P | O3: R | P3: I | Q3: P | R3: R | S3: I | T3: P | U3: R | V3: I | W3: P | X3: R | Y3: I | Z3: P | AA3: R | AB3: I | AC3: P | AD3: R | AE3: I | AF3: P | AG3: R | AH3: I | AI3: P | AJ3: R | AK3: I | AL3: P | AM3: R | AN3: I | AO3: P | AP3: R | AQ3: I | AR3: P | AS3: R | AT3: I | AU3: P | AV3: R | AW3: I | AX3: P | AY3: R | AZ3: I | BA3: P | BB3: R | BC3: I
A4: =LISTES!A3 -> AUB Bertrand | B4: 1 | C4: 1 | E4: 1 | F4: 1 | H4: 1 | I4: 1 | K4: 1 | L4: 1 | N4: 1 | O4: 1 | Q4: 1 | R4: 1 | T4: 1 | U4: 1 | W4: 1 | X4: 1 | Z4: 1 | AA4: 1 | AC4: 1 | AD4: 1 | AF4: 1 | AG4: 1 | AL4: 1 | AM4: 1 | AO4: 1 | AP4: 1 | AR4: 1 | AS4: 1 | AU4: 1 | AV4: 1 | AX4: 1 | AY4: 1 | BA4: 1 | BB4: 1
A5: =LISTES!A4 -> BAL Marcel | B5: 1 | C5: 1 | E5: 1 | F5: 1 | H5: 1 | I5: 1 | K5: 1 | L5: 1 | N5: 1 | O5: 1 | Q5: 1 | R5: 1 | T5: 1 | U5: 1 | W5: 1 | X5: 1 | Z5: 1 | AA5: 1 | AC5: 1 | AD5: 1 | AF5: 1 | AG5: 1 | AL5: 1 | AM5: 1 | AO5: 1 | AP5: 1 | AR5: 1 | AS5: 1 | AU5: 1 | AV5: 1 | AX5: 1 | AY5: 1 | BA5: 1 | BB5: 1
A6: =LISTES!A5 -> BIA Robert | B6: 1 | C6: 1 | E6: 1 | F6: 1 | H6: 1 | I6: 1 | K6: 1 | L6: 1 | N6: 1 | O6: 1 | Q6: 1 | R6: 1 | T6: 1 | U6: 1 | W6: 1 | X6: 1 | Z6: 1 | AA6: 1 | AC6: 1 | AD6: 1 | AF6: 1 | AG6: 1 | AL6: 1 | AM6: 1 | AO6: 1 | AP6: 1 | AR6: 1 | AS6: 1 | AU6: 1 | AV6: 1 | AX6: 1 | AY6: 1 | BA6: 1 | BB6: 1
A7: =LISTES!A6 -> BIG Nicolas | B7: 1 | C7: 1 | E7: 1 | F7: 1 | H7: 1 | I7: 1 | K7: 1 | L7: 1 | N7: 1 | O7: 1 | Q7: 1 | R7: 1 | T7: 1 | U7: 1 | W7: 1 | X7: 1 | Z7: 1 | AA7: 1 | AC7: 1 | AD7: 1 | AF7: 1 | AG7: 1 | AL7: 1 | AM7: 1 | AO7: 1 | AP7: 1 | AR7: 1 | AS7: 1 | AU7: 1 | AV7: 1 | AX7: 1 | AY7: 1 | BA7: 1 | BB7: 1
A8: =LISTES!A7 -> BOU Hugues | B8: 1 | C8: 1 | E8: 1 | F8: 1 | H8: 1 | I8: 1 | K8: 1 | L8: 1 | N8: 1 | O8: 1 | Q8: 1 | R8: 1 | T8: 1 | U8: 1 | W8: 1 | X8: 1 | Z8: 1 | AA8: 1 | AC8: 1 | AD8: 1 | AF8: 1 | AG8: 1 | AL8: 1 | AM8: 1 | AO8: 1 | AP8: 1 | AR8: 1 | AS8: 1 | AU8: 1 | AV8: 1 | AX8: 1 | AY8: 1 | BA8: 1 | BB8: 1
A9: =LISTES!A8 -> BUS Michel | B9: 1 | C9: 1 | E9: 1 | F9: 1 | H9: 1 | I9: 1 | K9: 1 | L9: 1 | N9: 1 | O9: 1 | Q9: 1 | R9: 1 | T9: 1 | U9: 1 | W9: 1 | X9: 1 | Z9: 1 | AA9: 1 | AC9: 1 | AD9: 1 | AF9: 1 | AG9: 1 | AL9: 1 | AM9: 1 | AO9: 1 | AP9: 1 | AR9: 1 | AS9: 1 | AU9: 1 | AV9: 1 | AX9: 1 | AY9: 1 | BA9: 1 | BB9: 1
A10: =LISTES!A9 -> CAR Lucien | E10: 1 | F10: 1 | H10: 1 | I10: 1 | K10: 1 | L10: 1 | N10: 1 | O10: 1 | Q10: 1 | R10: 1 | T10: 1 | U10: 1 | W10: 1 | X10: 1 | Z10: 1 | AA10: 1 | AC10: 1 | AD10: 1 | AF10: 1 | AG10: 1 | AL10: 1 | AM10: 1 | AO10: 1 | AP10: 1 | AR10: 1 | AS10: 1 | AU10: 1 | AV10: 1 | AX10: 1 | AY10: 1 | BA10: 1 | BB10: 1
A11: =LISTES!A10 -> COQ Patrick | B11: 1 | C11: 1 | E11: 1 | F11: 1 | H11: 1 | I11: 1 | K11: 1 | L11: 1 | N11: 1 | O11: 1 | Q11: 1 | R11: 1 | T11: 1 | U11: 1 | W11: 1 | X11: 1 | Z11: 1 | AA11: 1 | AC11: 1 | AD11: 1 | AF11: 1 | AG11: 1 | AL11: 1 | AM11: 1 | AO11: 1 | AP11: 1 | AR11: 1 | AS11: 1 | AU11: 1 | AV11: 1 | AX11: 1 | AY11: 1 | BA11: 1 | BB11: 1
A12: =LISTES!A11 -> DAD Alain | B12: 1 | C12: 1 | E12: 1 | F12: 1 | H12: 1 | I12: 1 | K12: 1 | L12: 1 | N12: 1 | O12: 1 | Q12: 1 | R12: 1 | T12: 1 | U12: 1 | W12: 1 | X12: 1 | Z12: 1 | AA12: 1 | AC12: 1 | AD12: 1 | AF12: 1 | AG12: 1 | AL12: 1 | AM12: 1 | AO12: 1 | AP12: 1 | AR12: 1 | AS12: 1 | AU12: 1 | AV12: 1 | AX12: 1 | AY12: 1 | BA12: 1 | BB12: 1
A13: =LISTES!A12 -> GAU Michel | B13: 1 | C13: 1 | E13: 1 | F13: 1 | H13: 1 | I13: 1 | K13: 1 | L13: 1 | N13: 1 | O13: 1 | Q13: 1 | R13: 1 | T13: 1 | U13: 1 | W13: 1 | X13: 1 | Z13: 1 | AA13: 1 | AC13: 1 | AD13: 1 | AF13: 1 | AG13: 1 | AL13: 1 | AM13: 1 | AO13: 1 | AP13: 1 | AR13: 1 | AS13: 1 | AU13: 1 | AV13: 1 | AX13: 1 | AY13: 1 | BA13: 1 | BB13: 1
A14: =LISTES!A13 -> GOD Romain | B14: 1 | C14: 1 | E14: 1 | F14: 1 | H14: 1 | I14: 1 | K14: 1 | L14: 1 | N14: 1 | O14: 1 | Q14: 1 | R14: 1 | T14: 1 | U14: 1 | W14: 1 | X14: 1 | Z14: 1 | AA14: 1 | AC14: 1 | AD14: 1 | AF14: 1 | AG14: 1 | AL14: 1 | AM14: 1 | AO14: 1 | AP14: 1 | AR14: 1 | AS14: 1 | AU14: 1 | AV14: 1 | AX14: 1 | AY14: 1 | BA14: 1 | BB14: 1
A15: =LISTES!A14 -> HER Patrick | B15: 1 | C15: 1 | E15: 1 | F15: 1 | H15: 1 | I15: 1 | K15: 1 | L15: 1 | N15: 1 | O15: 1 | Q15: 1 | R15: 1 | T15: 1 | U15: 1 | W15: 1 | X15: 1 | Z15: 1 | AA15: 1 | AC15: 1 | AD15: 1 | AF15: 1 | AG15: 1 | AL15: 1 | AM15: 1 | AO15: 1 | AP15: 1 | AR15: 1 | AS15: 1 | AU15: 1 | AV15: 1 | AX15: 1 | AY15: 1 | BA15: 1 | BB15: 1
A16: =LISTES!A15 -> HIN Christophe | B16: 1 | C16: 1 | E16: 1 | F16: 1 | H16: 1 | I16: 1 | K16: 1 | L16: 1 | N16: 1 | O16: 1 | Q16: 1 | R16: 1 | T16: 1 | U16: 1 | W16: 1 | X16: 1 | Z16: 1 | AA16: 1 | AC16: 1 | AD16: 1 | AF16: 1 | AG16: 1 | AL16: 1 | AM16: 1 | AO16: 1 | AP16: 1 | AR16: 1 | AS16: 1 | AU16: 1 | AV16: 1 | AX16: 1 | AY16: 1 | BA16: 1 | BB16: 1
A17: =LISTES!A16 -> HOR Michel | B17: 1 | C17: 1 | E17: 1 | F17: 1 | H17: 1 | I17: 1 | K17: 1 | L17: 1 | N17: 1 | O17: 1 | Q17: 1 | R17: 1 | T17: 1 | U17: 1 | W17: 1 | X17: 1 | Z17: 1 | AA17: 1 | AC17: 1 | AD17: 1 | AF17: 1 | AG17: 1 | AL17: 1 | AM17: 1 | AO17: 1 | AP17: 1 | AR17: 1 | AS17: 1 | AU17: 1 | AV17: 1 | AX17: 1 | AY17: 1 | BA17: 1 | BB17: 1
A18: =LISTES!A17 -> JAH Alain | B18: 1 | C18: 1 | E18: 1 | F18: 1 | H18: 1 | I18: 1 | K18: 1 | L18: 1 | N18: 1 | O18: 1 | Q18: 1 | R18: 1 | T18: 1 | U18: 1 | W18: 1 | X18: 1 | Z18: 1 | AA18: 1 | AC18: 1 | AD18: 1 | AF18: 1 | AG18: 1 | AL18: 1 | AM18: 1 | AO18: 1 | AP18: 1 | AR18: 1 | AS18: 1 | AU18: 1 | AV18: 1 | AX18: 1 | AY18: 1 | BA18: 1 | BB18: 1
A19: =LISTES!A18 -> JUI Daniel | B19: 1 | C19: 1 | E19: 1 | F19: 1 | H19: 1 | I19: 1 | K19: 1 | L19: 1 | N19: 1 | O19: 1 | Q19: 1 | R19: 1 | T19: 1 | U19: 1 | W19: 1 | X19: 1 | Z19: 1 | AA19: 1 | AC19: 1 | AD19: 1 | AF19: 1 | AG19: 1 | AL19: 1 | AM19: 1 | AO19: 1 | AP19: 1 | AR19: 1 | AS19: 1 | AU19: 1 | AV19: 1 | AX19: 1 | AY19: 1 | BA19: 1 | BB19: 1
A20: =LISTES!A19 -> LEG Philippe | B20: 1 | C20: 1 | E20: 1 | F20: 1 | H20: 1 | I20: 1 | K20: 1 | L20: 1 | N20: 1 | O20: 1 | Q20: 1 | R20: 1 | T20: 1 | U20: 1 | W20: 1 | X20: 1 | Z20: 1 | AA20: 1 | AC20: 1 | AD20: 1 | AF20: 1 | AG20: 1 | AL20: 1 | AM20: 1 | AO20: 1 | AP20: 1 | AR20: 1 | AS20: 1 | AU20: 1 | AV20: 1 | AX20: 1 | AY20: 1 | BA20: 1 | BB20: 1
A21: =LISTES!A20 -> MAI Jacques | B21: 1 | E21: 1 | F21: 1 | H21: 1 | I21: 1 | K21: 1 | L21: 1 | N21: 1 | O21: 1 | Q21: 1 | R21: 1 | T21: 1 | U21: 1 | W21: 1 | X21: 1 | Z21: 1 | AA21: 1 | AC21: 1 | AD21: 1 | AF21: 1 | AG21: 1 | AL21: 1 | AM21: 1 | AO21: 1 | AP21: 1 | AR21: 1 | AS21: 1 | AU21: 1 | AV21: 1 | AX21: 1 | AY21: 1 | BA21: 1 | BB21: 1
A22: =LISTES!A21 -> MAT Armel | B22: 1 | C22: 1 | E22: 1 | F22: 1 | H22: 1 | I22: 1 | K22: 1 | L22: 1 | N22: 1 | O22: 1 | Q22: 1 | R22: 1 | T22: 1 | U22: 1 | W22: 1 | X22: 1 | Z22: 1 | AA22: 1 | AC22: 1 | AD22: 1 | AF22: 1 | AG22: 1 | AL22: 1 | AM22: 1 | AO22: 1 | AP22: 1 | AR22: 1 | AS22: 1 | AU22: 1 | AV22: 1 | AX22: 1 | AY22: 1 | BA22: 1 | BB22: 1
A23: =LISTES!A22 -> MUL Angelo | B23: 1 | C23: 1 | E23: 1 | F23: 1 | H23: 1 | I23: 1 | K23: 1 | L23: 1 | N23: 1 | O23: 1 | Q23: 1 | R23: 1 | T23: 1 | U23: 1 | W23: 1 | X23: 1 | Z23: 1 | AA23: 1 | AC23: 1 | AD23: 1 | AF23: 1 | AG23: 1 | AL23: 1 | AM23: 1 | AO23: 1 | AP23: 1 | AR23: 1 | AS23: 1 | AU23: 1 | AV23: 1 | AX23: 1 | AY23: 1 | BA23: 1 | BB23: 1
A24: =LISTES!A23 -> MUL David | B24: 1 | C24: 2 | D24: 1 | E24: 1 | F24: 1 | H24: 1 | I24: 1 | K24: 1 | L24: 1 | N24: 1 | O24: 1 | Q24: 1 | R24: 1 | T24: 1 | U24: 1 | W24: 1 | X24: 1 | Z24: 1 | AA24: 1 | AC24: 1 | AD24: 1 | AF24: 1 | AG24: 1 | AL24: 1 | AM24: 1 | AO24: 1 | AP24: 1 | AR24: 1 | AS24: 1 | AU24: 1 | AV24: 1 | AX24: 1 | AY24: 1 | BA24: 1 | BB24: 1
A25: =LISTES!A24 -> RIG Jean-Paul | B25: 1 | C25: 1 | E25: 1 | F25: 1 | H25: 1 | I25: 1 | K25: 1 | L25: 1 | N25: 1 | O25: 1 | Q25: 1 | R25: 1 | T25: 1 | U25: 1 | W25: 1 | X25: 1 | Z25: 1 | AA25: 1 | AC25: 1 | AD25: 1 | AF25: 1 | AG25: 1 | AL25: 1 | AM25: 1 | AO25: 1 | AP25: 1 | AR25: 1 | AS25: 1 | AU25: 1 | AV25: 1 | AX25: 1 | AY25: 1 | BA25: 1 | BB25: 1
A26: =LISTES!A25 -> SOS Aurélien | B26: 1 | C26: 1 | E26: 1 | F26: 1 | H26: 1 | I26: 1 | K26: 1 | L26: 1 | N26: 1 | O26: 1 | Q26: 1 | R26: 1 | T26: 1 | U26: 1 | W26: 1 | X26: 1 | Z26: 1 | AA26: 1 | AC26: 1 | AD26: 1 | AF26: 1 | AG26: 1 | AL26: 1 | AM26: 1 | AO26: 1 | AP26: 1 | AR26: 1 | AS26: 1 | AU26: 1 | AV26: 1 | AX26: 1 | AY26: 1 | BA26: 1 | BB26: 1
A27: =LISTES!A26 -> TOU François | B27: 1 | E27: 1 | F27: 1 | H27: 1 | I27: 1 | K27: 1 | N27: 1 | O27: 1 | Q27: 1 | R27: 1 | T27: 1 | U27: 1 | W27: 1 | X27: 1 | Z27: 1 | AA27: 1 | AC27: 1 | AD27: 1 | AF27: 1 | AG27: 1 | AL27: 1 | AM27: 1 | AO27: 1 | AP27: 1 | AR27: 1 | AS27: 1 | AU27: 1 | AV27: 1 | AX27: 1 | AY27: 1 | BA27: 1 | BB27: 1
A28: =LISTES!A27 -> TOU Philippe | B28: 1 | C28: 1 | E28: 1 | F28: 1 | H28: 1 | I28: 1 | K28: 1 | L28: 1 | N28: 1 | O28: 1 | Q28: 1 | R28: 1 | T28: 1 | U28: 1 | W28: 1 | X28: 1 | Z28: 1 | AA28: 1 | AC28: 1 | AD28: 1 | AF28: 1 | AG28: 1 | AL28: 1 | AM28: 1 | AO28: 1 | AP28: 1 | AR28: 1 | AS28: 1 | AU28: 1 | AV28: 1 | AX28: 1 | AY28: 1 | BA28: 1 | BB28: 1
A29: =LISTES!C3 -> ARM Emile | B29: 1 | C29: 1 | E29: 1 | F29: 1 | H29: 1 | I29: 1 | K29: 1 | L29: 1 | N29: 1 | O29: 1 | Q29: 1 | R29: 1 | T29: 1 | U29: 1 | W29: 1 | X29: 1 | Z29: 1 | AA29: 1 | AC29: 1 | AD29: 1 | AF29: 1 | AG29: 1 | AL29: 1 | AM29: 1 | AO29: 1 | AP29: 1 | AR29: 1 | AS29: 1 | AU29: 1 | AV29: 1 | AX29: 1 | AY29: 1 | BA29: 1 | BB29: 1
A30: =LISTES!C4 -> BLA Gérald | B30: 1 | C30: 1 | H30: 1 | I30: 1 | K30: 1 | L30: 1 | T30: 1 | U30: 1 | W30: 1 | X30: 1 | AL30: 1 | AM30: 1 | AO30: 1 | AP30: 1 | AX30: 1 | AY30: 1
A31: =LISTES!C5 -> BOU Bruno | B31: 1 | C31: 1 | E31: 1 | F31: 2 | G31: 1 | H31: 1 | I31: 1 | K31: 1 | L31: 1 | N31: 1 | O31: 1 | Q31: 1 | R31: 1 | T31: 1 | U31: 1 | W31: 1 | X31: 1 | Z31: 1 | AA31: 1 | AC31: 1 | AD31: 1 | AF31: 1 | AG31: 1 | AL31: 1 | AM31: 1 | AO31: 1 | AP31: 1 | AR31: 1 | AS31: 1 | AU31: 1 | AV31: 1 | AX31: 1 | AY31: 1 | BA31: 1 | BB31: 1
A32: =LISTES!C6 -> CHA Dominique | B32: 1 | C32: 1 | E32: 1 | F32: 1 | H32: 1 | I32: 1 | K32: 1 | L32: 1 | N32: 1 | O32: 1 | Q32: 1 | R32: 1 | T32: 1 | U32: 1 | W32: 1 | X32: 1 | Z32: 1 | AA32: 1 | AC32: 1 | AD32: 1 | AF32: 1 | AG32: 1 | AL32: 1 | AM32: 1 | AO32: 1 | AP32: 1 | AR32: 1 | AS32: 1 | AU32: 1 | AV32: 1 | AX32: 1 | AY32: 1 | BA32: 1 | BB32: 1
A33: =LISTES!C7 -> COL Gérard | B33: 1 | C33: 1 | E33: 1 | F33: 1 | H33: 1 | I33: 1 | K33: 1 | L33: 1 | N33: 1 | O33: 1 | Q33: 1 | R33: 1 | T33: 1 | U33: 1 | W33: 1 | X33: 1 | Z33: 1 | AA33: 1 | AC33: 1 | AD33: 1 | AF33: 1 | AG33: 1 | AL33: 1 | AM33: 1 | AO33: 1 | AP33: 1 | AR33: 1 | AS33: 1 | AU33: 1 | AV33: 1 | AX33: 1 | AY33: 1 | BA33: 1 | BB33: 1
A34: =LISTES!C8 -> CRO Patrice | B34: 1 | C34: 1 | E34: 1 | F34: 1 | H34: 1 | I34: 1 | K34: 1 | L34: 1 | N34: 1 | O34: 1 | Q34: 1 | R34: 1 | T34: 1 | U34: 1 | W34: 1 | X34: 1 | Z34: 1 | AA34: 1 | AC34: 1 | AD34: 1 | AF34: 1 | AG34: 1 | AL34: 1 | AM34: 1 | AO34: 1 | AP34: 1 | AR34: 1 | AS34: 1 | AU34: 1 | AV34: 1 | AX34: 1 | AY34: 1 | BA34: 1 | BB34: 1
A35: =LISTES!C9 -> DAG Marcel | E35: 1 | F35: 1 | H35: 1 | I35: 1 | K35: 1 | L35: 1 | Q35: 1 | R35: 1 | T35: 1 | U35: 1 | AO35: 1 | AP35: 1 | AR35: 1 | AS35: 1 | AU35: 1 | AV35: 1
A36: =LISTES!C10 -> DAL Bernard | B36: 1 | C36: 1 | E36: 1 | F36: 1 | H36: 1 | I36: 1 | K36: 1 | L36: 1 | N36: 1 | O36: 1 | Q36: 1 | R36: 1 | T36: 1 | U36: 1 | W36: 1 | X36: 1 | Z36: 1 | AA36: 1 | AC36: 1 | AD36: 1 | AF36: 1 | AG36: 1 | AL36: 1 | AM36: 1 | AO36: 1 | AP36: 1 | AR36: 1 | AS36: 1 | AU36: 1 | AV36: 1 | AX36: 1 | AY36: 1 | BA36: 1 | BB36: 1
A37: =LISTES!C11 -> FOU Marc | B37: 1 | C37: 2 | D37: 1 | E37: 1 | F37: 1 | H37: 1 | I37: 1 | K37: 1 | L37: 1 | N37: 1 | O37: 1 | Q37: 1 | R37: 1 | T37: 1 | U37: 1 | W37: 1 | X37: 1 | Z37: 1 | AA37: 1 | AC37: 1 | AD37: 1 | AF37: 1 | AG37: 1 | AL37: 1 | AM37: 1 | AO37: 1 | AP37: 1 | AR37: 1 | AS37: 1 | AU37: 1 | AV37: 1 | AX37: 1 | AY37: 1 | BA37: 1 | BB37: 1
A38: =LISTES!C12 -> GAU Laurent | B38: 1 | C38: 1 | E38: 1 | F38: 1 | H38: 1 | I38: 1 | K38: 1 | L38: 1 | N38: 1 | O38: 1 | Q38: 1 | R38: 1 | T38: 1 | U38: 1 | W38: 1 | X38: 1 | Z38: 1 | AA38: 1 | AC38: 1 | AD38: 1 | AF38: 1 | AG38: 1 | AL38: 1 | AM38: 1 | AO38: 1 | AP38: 1 | AR38: 1 | AS38: 1 | AU38: 1 | AV38: 1 | AX38: 1 | AY38: 1 | BA38: 1 | BB38: 1
A39: =LISTES!C13 -> GER Guy | B39: 1 | E39: 1 | F39: 1 | H39: 1 | I39: 1 | K39: 1 | L39: 1 | N39: 1 | O39: 1 | Q39: 1 | R39: 1 | T39: 1 | U39: 1 | W39: 1 | X39: 1 | Z39: 1 | AA39: 1 | AC39: 1 | AD39: 1 | AF39: 1 | AG39: 1 | AL39: 1 | AM39: 1 | AO39: 1 | AP39: 1 | AR39: 1 | AS39: 1 | AU39: 1 | AV39: 1 | AX39: 1 | AY39: 1 | BA39: 1 | BB39: 1
A40: =LISTES!C14 -> GIR Sébastien | B40: 1 | C40: 1 | E40: 1 | F40: 1 | H40: 1 | I40: 1 | K40: 1 | L40: 1 | N40: 1 | O40: 1 | Q40: 1 | R40: 1 | T40: 1 | U40: 1 | W40: 1 | X40: 1 | Z40: 1 | AA40: 1 | AC40: 1 | AD40: 1 | AF40: 1 | AG40: 1 | AL40: 1 | AM40: 1 | AO40: 1 | AP40: 1 | AR40: 1 | AS40: 1 | AU40: 1 | AV40: 1 | AX40: 1 | AY40: 1 | BA40: 1 | BB40: 1
...

Sheet 26 10 20
A1: CHASSE DU | B1: =LISTES!H3 -> 44130
A2: =IFERROR(LISTES!I3,"") -> ENCLOS
A3: Noms | B3: Repas | C3: Invités
A4: {=IFERROR(INDEX(PLANNING!$A$4:$A$70,LARGE((PLANNING!$B$4:$B$70=1)*(ROW(PLANNING!$B$4:$B$70)-3),COUNTIF(PLANNING!$B$4:$B$70,1)+1-ROW(A1))),"")} -> AUB Bertrand | B4: {=IFERROR(INDEX(PLANNING!$C$4:$C$70,LARGE((PLANNING!$B$4:$B$70=1)*(ROW(PLANNING!$B$4:$B$70)-3),COUNTIF(PLANNING!$B$4:$B$70,1)+1-ROW(A1))),"")} -> 1 | C4: {=IFERROR(INDEX(PLANNING!$D$4:$D$70,LARGE((PLANNING!$B$4:$B$70=1)*(ROW(PLANNING!$B$4:$B$70)-3),COUNTIF(PLANNING!$B$4:$B$70,1)+1-ROW(A1))),"")} -> 0 | E4: JE SOUHAITE QUE S'AFFICHENT AUTOMATIQUEMENT ICI LES NOMS POUR LESQUELS LA COLONNE B DANS L'ONGLET "DATES" AFFICHE "1". J'AI BESOIN QUE L'ORDRE DES NOMS SOIT RESPECTE TEL QUE DANS LA LISTE DE L'ONGLET "DATES". SI POSSIBLE, J'AIMERAIS QU'IL N'Y AIT PAS DE LIGNE VIDE DANS LA LISTE (QUI CORRESPONDRAIT AUX MANQUANTS). | F4: JE SOUHAITE QUE S'AFFICHE ICI LE NOMBRE INDIQUE DANS LA COLONNE C, ONGLET "DATES". | G4: JE SOUHAITE QUE S'AFFICHE ICI LE NOMBRE INDIQUE DANS LA COLONNE D, ONGLET "DATES".
A5: {=IFERROR(INDEX(PLANNING!$A$4:$A$70,LARGE((PLANNING!$B$4:$B$70=1)*(ROW(PLANNING!$B$4:$B$70)-3),COUNTIF(PLANNING!$B$4:$B$70,1)+1-ROW(A2))),"")} -> BAL Marcel | B5: {=IFERROR(INDEX(PLANNING!$C$4:$C$70,LARGE((PLANNING!$B$4:$B$70=1)*(ROW(PLANNING!$B$4:$B$70)-3),COUNTIF(PLANNING!$B$4:$B$70,1)+1-ROW(A2))),"")} -> 1 | C5: {=IFERROR(INDEX(PLANNING!$D$4:$D$70,LARGE((PLANNING!$B$4:$B$70=1)*(ROW(PLANNING!$B$4:$B$70)-3),COUNTIF(PLANNING!$B$4:$B$70,1)+1-ROW(A2))),"")} -> 0
A6: {=IFERROR(INDEX(PLANNING!$A$4:$A$70,LARGE((PLANNING!$B$4:$B$70=1)*(ROW(PLANNING!$B$4:$B$70)-3),COUNTIF(PLANNING!$B$4:$B$70,1)+1-ROW(A3))),"")} -> BIA Robert | B6: {=IFERROR(INDEX(PLANNING!$C$4:$C$70,LARGE((PLANNING!$B$4:$B$70=1)*(ROW(PLANNING!$B$4:$B$70)-3),COUNTIF(PLANNING!$B$4:$B$70,1)+1-ROW(A3))),"")} -> 1 | C6: {=IFERROR(INDEX(PLANNING!$D$4:$D$70,LARGE((PLANNING!$B$4:$B$70=1)*(ROW(PLANNING!$B$4:$B$70)-3),COUNTIF(PLANNING!$B$4:$B$70,1)+1-ROW(A3))),"")} -> 0
A7: {=IFERROR(INDEX(PLANNING!$A$4:$A$70,LARGE((PLANNING!$B$4:$B$70=1)*(ROW(PLANNING!$B$4:$B$70)-3),COUNTIF(PLANNING!$B$4:$B$70,1)+1-ROW(A4))),"")} -> BIG Nicolas | B7: {=IFERROR(INDEX(PLANNING!$C$4:$C$70,LARGE((PLANNING!$B$4:$B$70=1)*(ROW(PLANNING!$B$4:$B$70)-3),COUNTIF(PLANNING!$B$4:$B$70,1)+1-ROW(A4))),"")} -> 1 | C7: {=IFERROR(INDEX(PLANNING!$D$4:$D$70,LARGE((PLANNING!$B$4:$B$70=1)*(ROW(PLANNING!$B$4:$B$70)-3),COUNTIF(PLANNING!$B$4:$B$70,1)+1-ROW(A4))),"")} -> 0
A8: {=IFERROR(INDEX(PLANNING!$A$4:$A$70,LARGE((PLANNING!$B$4:$B$70=1)*(ROW(PLANNING!$B$4:$B$70)-3),COUNTIF(PLANNING!$B$4:$B$70,1)+1-ROW(A5))),"")} -> BOU Hugues | B8: {=IFERROR(INDEX(PLANNING!$C$4:$C$70,LARGE((PLANNING!$B$4:$B$70=1)*(ROW(PLANNING!$B$4:$B$70)-3),COUNTIF(PLANNING!$B$4:$B$70,1)+1-ROW(A5))),"")} -> 1 | C8: {=IFERROR(INDEX(PLANNING!$D$4:$D$70,LARGE((PLANNING!$B$4:$B$70=1)*(ROW(PLANNING!$B$4:$B$70)-3),COUNTIF(PLANNING!$B$4:$B$70,1)+1-ROW(A5))),"")} -> 0
A9: {=IFERROR(INDEX(PLANNING!$A$4:$A$70,LARGE((PLANNING!$B$4:$B$70=1)*(ROW(PLANNING!$B$4:$B$70)-3),COUNTIF(PLANNING!$B$4:$B$70,1)+1-ROW(A6))),"")} -> BUS Michel | B9: {=IFERROR(INDEX(PLANNING!$C$4:$C$70,LARGE((PLANNING!$B$4:$B$70=1)*(ROW(PLANNING!$B$4:$B$70)-3),COUNTIF(PLANNING!$B$4:$B$70,1)+1-ROW(A6))),"")} -> 1 | C9: {=IFERROR(INDEX(PLANNING!$D$4:$D$70,LARGE((PLANNING!$B$4:$B$70=1)*(ROW(PLANNING!$B$4:$B$70)-3),COUNTIF(PLANNING!$B$4:$B$70,1)+1-ROW(A6))),"")} -> 0
A10: {=IFERROR(INDEX(PLANNING!$A$4:$A$70,LARGE((PLANNING!$B$4:$B$70=1)*(ROW(PLANNING!$B$4:$B$70)-3),COUNTIF(PLANNING!$B$4:$B$70,1)+1-ROW(A7))),"")} -> COQ Patrick | B10: {=IFERROR(INDEX(PLANNING!$C$4:$C$70,LARGE((PLANNING!$B$4:$B$70=1)*(ROW(PLANNING!$B$4:$B$70)-3),COUNTIF(PLANNING!$B$4:$B$70,1)+1-ROW(A7))),"")} -> 1 | C10: {=IFERROR(INDEX(PLANNING!$D$4:$D$70,LARGE((PLANNING!$B$4:$B$70=1)*(ROW(PLANNING!$B$4:$B$70)-3),COUNTIF(PLANNING!$B$4:$B$70,1)+1-ROW(A7))),"")} -> 0
A11: {=IFERROR(INDEX(PLANNING!$A$4:$A$70,LARGE((PLANNING!$B$4:$B$70=1)*(ROW(PLANNING!$B$4:$B$70)-3),COUNTIF(PLANNING!$B$4:$B$70,1)+1-ROW(A8))),"")} -> DAD Alain | B11: {=IFERROR(INDEX(PLANNING!$C$4:$C$70,LARGE((PLANNING!$B$4:$B$70=1)*(ROW(PLANNING!$B$4:$B$70)-3),COUNTIF(PLANNING!$B$4:$B$70,1)+1-ROW(A8))),"")} -> 1 | C11: {=IFERROR(INDEX(PLANNING!$D$4:$D$70,LARGE((PLANNING!$B$4:$B$70=1)*(ROW(PLANNING!$B$4:$B$70)-3),COUNTIF(PLANNING!$B$4:$B$70,1)+1-ROW(A8))),"")} -> 0
A12: {=IFERROR(INDEX(PLANNING!$A$4:$A$70,LARGE((PLANNING!$B$4:$B$70=1)*(ROW(PLANNING!$B$4:$B$70)-3),COUNTIF(PLANNING!$B$4:$B$70,1)+1-ROW(A9))),"")} -> GAU Michel | B12: {=IFERROR(INDEX(PLANNING!$C$4:$C$70,LARGE((PLANNING!$B$4:$B$70=1)*(ROW(PLANNING!$B$4:$B$70)-3),COUNTIF(PLANNING!$B$4:$B$70,1)+1-ROW(A9))),"")} -> 1 | C12: {=IFERROR(INDEX(PLANNING!$D$4:$D$70,LARGE((PLANNING!$B$4:$B$70=1)*(ROW(PLANNING!$B$4:$B$70)-3),COUNTIF(PLANNING!$B$4:$B$70,1)+1-ROW(A9))),"")} -> 0
A13: {=IFERROR(INDEX(PLANNING!$A$4:$A$70,LARGE((PLANNING!$B$4:$B$70=1)*(ROW(PLANNING!$B$4:$B$70)-3),COUNTIF(PLANNING!$B$4:$B$70,1)+1-ROW(A10))),"")} -> GOD Romain | B13: {=IFERROR(INDEX(PLANNING!$C$4:$C$70,LARGE((PLANNING!$B$4:$B$70=1)*(ROW(PLANNING!$B$4:$B$70)-3),COUNTIF(PLANNING!$B$4:$B$70,1)+1-ROW(A10))),"")} -> 1 | C13: {=IFERROR(INDEX(PLANNING!$D$4:$D$70,LARGE((PLANNING!$B$4:$B$70=1)*(ROW(PLANNING!$B$4:$B$70)-3),COUNTIF(PLANNING!$B$4:$B$70,1)+1-ROW(A10))),"")} -> 0
A14: {=IFERROR(INDEX(PLANNING!$A$4:$A$70,LARGE((PLANNING!$B$4:$B$70=1)*(ROW(PLANNING!$B$4:$B$70)-3),COUNTIF(PLANNING!$B$4:$B$70,1)+1-ROW(A11))),"")} -> HER Patrick | B14: {=IFERROR(INDEX(PLANNING!$C$4:$C$70,LARGE((PLANNING!$B$4:$B$70=1)*(ROW(PLANNING!$B$4:$B$70)-3),COUNTIF(PLANNING!$B$4:$B$70,1)+1-ROW(A11))),"")} -> 1 | C14: {=IFERROR(INDEX(PLANNING!$D$4:$D$70,LARGE((PLANNING!$B$4:$B$70=1)*(ROW(PLANNING!$B$4:$B$70)-3),COUNTIF(PLANNING!$B$4:$B$70,1)+1-ROW(A11))),"")} -> 0
A15: {=IFERROR(INDEX(PLANNING!$A$4:$A$70,LARGE((PLANNING!$B$4:$B$70=1)*(ROW(PLANNING!$B$4:$B$70)-3),COUNTIF(PLANNING!$B$4:$B$70,1)+1-ROW(A12))),"")} -> HIN Christophe | B15: {=IFERROR(INDEX(PLANNING!$C$4:$C$70,LARGE((PLANNING!$B$4:$B$70=1)*(ROW(PLANNING!$B$4:$B$70)-3),COUNTIF(PLANNING!$B$4:$B$70,1)+1-ROW(A12))),"")} -> 1 | C15: {=IFERROR(INDEX(PLANNING!$D$4:$D$70,LARGE((PLANNING!$B$4:$B$70=1)*(ROW(PLANNING!$B$4:$B$70)-3),COUNTIF(PLANNING!$B$4:$B$70,1)+1-ROW(A12))),"")} -> 0
A16: {=IFERROR(INDEX(PLANNING!$A$4:$A$70,LARGE((PLANNING!$B$4:$B$70=1)*(ROW(PLANNING!$B$4:$B$70)-3),COUNTIF(PLANNING!$B$4:$B$70,1)+1-ROW(A13))),"")} -> HOR Michel | B16: {=IFERROR(INDEX(PLANNING!$C$4:$C$70,LARGE((PLANNING!$B$4:$B$70=1)*(ROW(PLANNING!$B$4:$B$70)-3),COUNTIF(PLANNING!$B$4:$B$70,1)+1-ROW(A13))),"")} -> 1 | C16: {=IFERROR(INDEX(PLANNING!$D$4:$D$70,LARGE((PLANNING!$B$4:$B$70=1)*(ROW(PLANNING!$B$4:$B$70)-3),COUNTIF(PLANNING!$B$4:$B$70,1)+1-ROW(A13))),"")} -> 0
... A70: {=IFERROR(INDEX(PLANNING!$A$4:$A$70,LARGE((PLANNING!$B$4:$B$70=1)*(ROW(PLANNING!$B$4:$B$70)-3),COUNTIF(PLANNING!$B$4:$B$70,1)+1-ROW(A67))),"")} | B70: {=IFERROR(INDEX(PLANNING!$C$4:$C$70,LARGE((PLANNING!$B$4:$B$70=1)*(ROW(PLANNING!$B$4:$B$70)-3),COUNTIF(PLANNING!$B$4:$B$70,1)+1-ROW(A67))),"")} | C70: {=IFERROR(INDEX(PLANNING!$D$4:$D$70,LARGE((PLANNING!$B$4:$B$70=1)*(ROW(PLANNING!$B$4:$B$70)-3),COUNTIF(PLANNING!$B$4:$B$70,1)+1-ROW(A67))),"")}
A71: {=IFERROR(INDEX(PLANNING!$A$4:$A$70,LARGE((PLANNING!$B$4:$B$70=1)*(ROW(PLANNING!$B$4:$B$70)-3),COUNTIF(PLANNING!$B$4:$B$70,1)+1-ROW(A68))),"")} | B71: {=IFERROR(INDEX(PLANNING!$B$4:$B$70,LARGE((PLANNING!$B$4:$B$70=1)*(ROW(PLANNING!$B$4:$B$70)-3),COUNTIF(PLANNING!$B$4:$B$70,1)+1-ROW(A68))),"")} | C71: {=IFERROR(INDEX(PLANNING!$C$4:$C$70,LARGE((PLANNING!$B$4:$B$70=1)*(ROW(PLANNING!$B$4:$B$70)-3),COUNTIF(PLANNING!$B$4:$B$70,1)+1-ROW(A68))),"")}
A72: {=IFERROR(INDEX(PLANNING!$A$4:$A$70,LARGE((PLANNING!$B$4:$B$70=1)*(ROW(PLANNING!$B$4:$B$70)-3),COUNTIF(PLANNING!$B$4:$B$70,1)+1-ROW(A69))),"")} | B72: {=IFERROR(INDEX(PLANNING!$B$4:$B$70,LARGE((PLANNING!$B$4:$B$70=1)*(ROW(PLANNING!$B$4:$B$70)-3),COUNTIF(PLANNING!$B$4:$B$70,1)+1-ROW(A69))),"")} | C72: {=IFERROR(INDEX(PLANNING!$C$4:$C$70,LARGE((PLANNING!$B$4:$B$70=1)*(ROW(PLANNING!$B$4:$B$70)-3),COUNTIF(PLANNING!$B$4:$B$70,1)+1-ROW(A69))),"")}
A73: {=IFERROR(INDEX(PLANNING!$A$4:$A$70,LARGE((PLANNING!$B$4:$B$70=1)*(ROW(PLANNING!$B$4:$B$70)-3),COUNTIF(PLANNING!$B$4:$B$70,1)+1-ROW(A70))),"")} | B73: {=IFERROR(INDEX(PLANNING!$B$4:$B$70,LARGE((PLANNING!$B$4:$B$70=1)*(ROW(PLANNING!$B$4:$B$70)-3),COUNTIF(PLANNING!$B$4:$B$70,1)+1-ROW(A70))),"")} | C73: {=IFERROR(INDEX(PLANNING!$C$4:$C$70,LARGE((PLANNING!$B$4:$B$70=1)*(ROW(PLANNING!$B$4:$B$70)-3),COUNTIF(PLANNING!$B$4:$B$70,1)+1-ROW(A70))),"")}
A74: {=IFERROR(INDEX(PLANNING!$A$4:$A$70,LARGE((PLANNING!$B$4:$B$70=1)*(ROW(PLANNING!$B$4:$B$70)-3),COUNTIF(PLANNING!$B$4:$B$70,1)+1-ROW(A71))),"")} | B74: {=IFERROR(INDEX(PLANNING!$B$4:$B$70,LARGE((PLANNING!$B$4:$B$70=1)*(ROW(PLANNING!$B$4:$B$70)-3),COUNTIF(PLANNING!$B$4:$B$70,1)+1-ROW(A71))),"")} | C74: {=IFERROR(INDEX(PLANNING!$C$4:$C$70,LARGE((PLANNING!$B$4:$B$70=1)*(ROW(PLANNING!$B$4:$B$70)-3),COUNTIF(PLANNING!$B$4:$B$70,1)+1-ROW(A71))),"")}
A75: {=IFERROR(INDEX(PLANNING!$A$4:$A$70,LARGE((PLANNING!$B$4:$B$70=1)*(ROW(PLANNING!$B$4:$B$70)-3),COUNTIF(PLANNING!$B$4:$B$70,1)+1-ROW(A72))),"")} | B75: {=IFERROR(INDEX(PLANNING!$B$4:$B$70,LARGE((PLANNING!$B$4:$B$70=1)*(ROW(PLANNING!$B$4:$B$70)-3),COUNTIF(PLANNING!$B$4:$B$70,1)+1-ROW(A72))),"")} | C75: {=IFERROR(INDEX(PLANNING!$C$4:$C$70,LARGE((PLANNING!$B$4:$B$70=1)*(ROW(PLANNING!$B$4:$B$70)-3),COUNTIF(PLANNING!$B$4:$B$70,1)+1-ROW(A72))),"")}
A76: {=IFERROR(INDEX(PLANNING!$A$4:$A$70,LARGE((PLANNING!$B$4:$B$70=1)*(ROW(PLANNING!$B$4:$B$70)-3),COUNTIF(PLANNING!$B$4:$B$70,1)+1-ROW(A73))),"")} | B76: {=IFERROR(INDEX(PLANNING!$B$4:$B$70,LARGE((PLANNING!$B$4:$B$70=1)*(ROW(PLANNING!$B$4:$B$70)-3),COUNTIF(PLANNING!$B$4:$B$70,1)+1-ROW(A73))),"")} | C76: {=IFERROR(INDEX(PLANNING!$C$4:$C$70,LARGE((PLANNING!$B$4:$B$70=1)*(ROW(PLANNING!$B$4:$B$70)-3),COUNTIF(PLANNING!$B$4:$B$70,1)+1-ROW(A73))),"")}
A77: {=IFERROR(INDEX(PLANNING!$A$4:$A$70,LARGE((PLANNING!$B$4:$B$70=1)*(ROW(PLANNING!$B$4:$B$70)-3),COUNTIF(PLANNING!$B$4:$B$70,1)+1-ROW(A74))),"")} | B77: {=IFERROR(INDEX(PLANNING!$B$4:$B$70,LARGE((PLANNING!$B$4:$B$70=1)*(ROW(PLANNING!$B$4:$B$70)-3),COUNTIF(PLANNING!$B$4:$B$70,1)+1-ROW(A74))),"")} | C77: {=IFERROR(INDEX(PLANNING!$C$4:$C$70,LARGE((PLANNING!$B$4:$B$70=1)*(ROW(PLANNING!$B$4:$B$70)-3),COUNTIF(PLANNING!$B$4:$B$70,1)+1-ROW(A74))),"")}
A78: {=IFERROR(INDEX(PLANNING!$A$4:$A$70,LARGE((PLANNING!$B$4:$B$70=1)*(ROW(PLANNING!$B$4:$B$70)-3),COUNTIF(PLANNING!$B$4:$B$70,1)+1-ROW(A75))),"")} | B78: {=IFERROR(INDEX(PLANNING!$B$4:$B$70,LARGE((PLANNING!$B$4:$B$70=1)*(ROW(PLANNING!$B$4:$B$70)-3),COUNTIF(PLANNING!$B$4:$B$70,1)+1-ROW(A75))),"")} | C78: {=IFERROR(INDEX(PLANNING!$C$4:$C$70,LARGE((PLANNING!$B$4:$B$70=1)*(ROW(PLANNING!$B$4:$B$70)-3),COUNTIF(PLANNING!$B$4:$B$70,1)+1-ROW(A75))),"")}
A79: {=IFERROR(INDEX(PLANNING!$A$4:$A$70,LARGE((PLANNING!$B$4:$B$70=1)*(ROW(PLANNING!$B$4:$B$70)-3),COUNTIF(PLANNING!$B$4:$B$70,1)+1-ROW(A76))),"")} | B79: {=IFERROR(INDEX(PLANNING!$B$4:$B$70,LARGE((PLANNING!$B$4:$B$70=1)*(ROW(PLANNING!$B$4:$B$70)-3),COUNTIF(PLANNING!$B$4:$B$70,1)+1-ROW(A76))),"")} | C79: {=IFERROR(INDEX(PLANNING!$C$4:$C$70,LARGE((PLANNING!$B$4:$B$70=1)*(ROW(PLANNING!$B$4:$B$70)-3),COUNTIF(PLANNING!$B$4:$B$70,1)+1-ROW(A76))),"")}
A80: {=IFERROR(INDEX(PLANNING!$A$4:$A$70,LARGE((PLANNING!$B$4:$B$70=1)*(ROW(PLANNING!$B$4:$B$70)-3),COUNTIF(PLANNING!$B$4:$B$70,1)+1-ROW(A77))),"")} | B80: {=IFERROR(INDEX(PLANNING!$B$4:$B$70,LARGE((PLANNING!$B$4:$B$70=1)*(ROW(PLANNING!$B$4:$B$70)-3),COUNTIF(PLANNING!$B$4:$B$70,1)+1-ROW(A77))),"")} | C80: {=IFERROR(INDEX(PLANNING!$C$4:$C$70,LARGE((PLANNING!$B$4:$B$70=1)*(ROW(PLANNING!$B$4:$B$70)-3),COUNTIF(PLANNING!$B$4:$B$70,1)+1-ROW(A77))),"")}
A81: {=IFERROR(INDEX(PLANNING!$A$4:$A$70,LARGE((PLANNING!$B$4:$B$70=1)*(ROW(PLANNING!$B$4:$B$70)-3),COUNTIF(PLANNING!$B$4:$B$70,1)+1-ROW(A78))),"")} | B81: {=IFERROR(INDEX(PLANNING!$B$4:$B$70,LARGE((PLANNING!$B$4:$B$70=1)*(ROW(PLANNING!$B$4:$B$70)-3),COUNTIF(PLANNING!$B$4:$B$70,1)+1-ROW(A78))),"")} | C81: {=IFERROR(INDEX(PLANNING!$C$4:$C$70,LARGE((PLANNING!$B$4:$B$70=1)*(ROW(PLANNING!$B$4:$B$70)-3),COUNTIF(PLANNING!$B$4:$B$70,1)+1-ROW(A78))),"")}
A82: {=IFERROR(INDEX(PLANNING!$A$4:$A$70,LARGE((PLANNING!$B$4:$B$70=1)*(ROW(PLANNING!$B$4:$B$70)-3),COUNTIF(PLANNING!$B$4:$B$70,1)+1-ROW(A79))),"")} | B82: {=IFERROR(INDEX(PLANNING!$B$4:$B$70,LARGE((PLANNING!$B$4:$B$70=1)*(ROW(PLANNING!$B$4:$B$70)-3),COUNTIF(PLANNING!$B$4:$B$70,1)+1-ROW(A79))),"")} | C82: {=IFERROR(INDEX(PLANNING!$C$4:$C$70,LARGE((PLANNING!$B$4:$B$70=1)*(ROW(PLANNING!$B$4:$B$70)-3),COUNTIF(PLANNING!$B$4:$B$70,1)+1-ROW(A79))),"")}
... A87: {=IFERROR(INDEX(PLANNING!$A$4:$A$70,LARGE((PLANNING!$B$4:$B$70=1)*(ROW(PLANNING!$B$4:$B$70)-3),COUNTIF(PLANNING!$B$4:$B$70,1)+1-ROW(A84))),"")} | B87: {=IFERROR(INDEX(PLANNING!$B$4:$B$70,LARGE((PLANNING!$B$4:$B$70=1)*(ROW(PLANNING!$B$4:$B$70)-3),COUNTIF(PLANNING!$B$4:$B$70,1)+1-ROW(A84))),"")} | C87: {=IFERROR(INDEX(PLANNING!$C$4:$C$70,LARGE((PLANNING!$B$4:$B$70=1)*(ROW(PLANNING!$B$4:$B$70)-3),COUNTIF(PLANNING!$B$4:$B$70,1)+1-ROW(A84))),"")}

Sheet 02 11 20
A1: CHASSE DU | B1: =LISTES!H4 -> 44137
A2: =IFERROR(LISTES!I4,"") -> 3 PIGNONS
A3: Noms | B3: Repas | C3: Invités
A4: {=IFERROR(INDEX(PLANNING!$A$4:$A$70,LARGE((PLANNING!$E$4:$E$70=1)*(ROW(PLANNING!$E$4:$E$70)-3),COUNTIF(PLANNING!$E$4:$E$70,1)+1-ROW(A1))),"")} -> AUB Bertrand | B4: {=IFERROR(INDEX(PLANNING!$F$4:$F$70,LARGE((PLANNING!$E$4:$E$70=1)*(ROW(PLANNING!$E$4:$E$70)-3),COUNTIF(PLANNING!$E$4:$E$70,1)+1-ROW(A1))),"")} -> 1 | C4: {=IFERROR(INDEX(PLANNING!$G$4:$G$70,LARGE((PLANNING!$E$4:$E$70=1)*(ROW(PLANNING!$E$4:$E$70)-3),COUNTIF(PLANNING!$E$4:$E$70,1)+1-ROW(A1))),"")} -> 0 | F4: JE SOUHAITE QUE S'AFFICHENT AUTOMATIQUEMENT ICI LES NOMS POUR LESQUELS LA COLONNE E DANS L'ONGLET "DATES" AFFICHE "1". SI CELLULE VIDE ALORS LE NOM NE DOIT PAS APPARAITRE DANS LA LISTE. J'AI BESOIN QUE L'ORDRE DES NOMS SOIT RESPECTE TEL QUE DANS LA LISTE DE L'ONGLET "DATES". SI POSSIBLE, J'AIMERAIS QU'IL N'Y AIT PAS DE LIGNE VIDE DANS LA LISTE (QUI CORRESPONDRAIT AUX MANQUANTS). | G4: JE SOUHAITE QUE S'AFFICHE ICI LE NOMBRE INDIQUE DANS LA COLONNE F, ONGLET "DATES". | H4: JE SOUHAITE QUE S'AFFICHE ICI LE NOMBRE INDIQUE DANS LA COLONNE G, ONGLET "DATES".
A5: {=IFERROR(INDEX(PLANNING!$A$4:$A$70,LARGE((PLANNING!$E$4:$E$70=1)*(ROW(PLANNING!$E$4:$E$70)-3),COUNTIF(PLANNING!$E$4:$E$70,1)+1-ROW(A2))),"")} -> BAL Marcel | B5: {=IFERROR(INDEX(PLANNING!$F$4:$F$70,LARGE((PLANNING!$E$4:$E$70=1)*(ROW(PLANNING!$E$4:$E$70)-3),COUNTIF(PLANNING!$E$4:$E$70,1)+1-ROW(A2))),"")} -> 1 | C5: {=IFERROR(INDEX(PLANNING!$G$4:$G$70,LARGE((PLANNING!$E$4:$E$70=1)*(ROW(PLANNING!$E$4:$E$70)-3),COUNTIF(PLANNING!$E$4:$E$70,1)+1-ROW(A2))),"")} -> 0
A6: {=IFERROR(INDEX(PLANNING!$A$4:$A$70,LARGE((PLANNING!$E$4:$E$70=1)*(ROW(PLANNING!$E$4:$E$70)-3),COUNTIF(PLANNING!$E$4:$E$70,1)+1-ROW(A3))),"")} -> BIA Robert | B6: {=IFERROR(INDEX(PLANNING!$F$4:$F$70,LARGE((PLANNING!$E$4:$E$70=1)*(ROW(PLANNING!$E$4:$E$70)-3),COUNTIF(PLANNING!$E$4:$E$70,1)+1-ROW(A3))),"")} -> 1 | C6: {=IFERROR(INDEX(PLANNING!$G$4:$G$70,LARGE((PLANNING!$E$4:$E$70=1)*(ROW(PLANNING!$E$4:$E$70)-3),COUNTIF(PLANNING!$E$4:$E$70,1)+1-ROW(A3))),"")} -> 0
A7: {=IFERROR(INDEX(PLANNING!$A$4:$A$70,LARGE((PLANNING!$E$4:$E$70=1)*(ROW(PLANNING!$E$4:$E$70)-3),COUNTIF(PLANNING!$E$4:$E$70,1)+1-ROW(A4))),"")} -> BIG Nicolas | B7: {=IFERROR(INDEX(PLANNING!$F$4:$F$70,LARGE((PLANNING!$E$4:$E$70=1)*(ROW(PLANNING!$E$4:$E$70)-3),COUNTIF(PLANNING!$E$4:$E$70,1)+1-ROW(A4))),"")} -> 1 | C7: {=IFERROR(INDEX(PLANNING!$G$4:$G$70,LARGE((PLANNING!$E$4:$E$70=1)*(ROW(PLANNING!$E$4:$E$70)-3),COUNTIF(PLANNING!$E$4:$E$70,1)+1-ROW(A4))),"")} -> 0
A8: {=IFERROR(INDEX(PLANNING!$A$4:$A$70,LARGE((PLANNING!$E$4:$E$70=1)*(ROW(PLANNING!$E$4:$E$70)-3),COUNTIF(PLANNING!$E$4:$E$70,1)+1-ROW(A5))),"")} -> BOU Hugues | B8: {=IFERROR(INDEX(PLANNING!$F$4:$F$70,LARGE((PLANNING!$E$4:$E$70=1)*(ROW(PLANNING!$E$4:$E$70)-3),COUNTIF(PLANNING!$E$4:$E$70,1)+1-ROW(A5))),"")} -> 1 | C8: {=IFERROR(INDEX(PLANNING!$G$4:$G$70,LARGE((PLANNING!$E$4:$E$70=1)*(ROW(PLANNING!$E$4:$E$70)-3),COUNTIF(PLANNING!$E$4:$E$70,1)+1-ROW(A5))),"")} -> 0
A9: {=IFERROR(INDEX(PLANNING!$A$4:$A$70,LARGE((PLANNING!$E$4:$E$70=1)*(ROW(PLANNING!$E$4:$E$70)-3),COUNTIF(PLANNING!$E$4:$E$70,1)+1-ROW(A6))),"")} -> BUS Michel | B9: {=IFERROR(INDEX(PLANNING!$F$4:$F$70,LARGE((PLANNING!$E$4:$E$70=1)*(ROW(PLANNING!$E$4:$E$70)-3),COUNTIF(PLANNING!$E$4:$E$70,1)+1-ROW(A6))),"")} -> 1 | C9: {=IFERROR(INDEX(PLANNING!$G$4:$G$70,LARGE((PLANNING!$E$4:$E$70=1)*(ROW(PLANNING!$E$4:$E$70)-3),COUNTIF(PLANNING!$E$4:$E$70,1)+1-ROW(A6))),"")} -> 0
A10: {=IFERROR(INDEX(PLANNING!$A$4:$A$70,LARGE((PLANNING!$E$4:$E$70=1)*(ROW(PLANNING!$E$4:$E$70)-3),COUNTIF(PLANNING!$E$4:$E$70,1)+1-ROW(A7))),"")} -> CAR Lucien | B10: {=IFERROR(INDEX(PLANNING!$F$4:$F$70,LARGE((PLANNING!$E$4:$E$70=1)*(ROW(PLANNING!$E$4:$E$70)-3),COUNTIF(PLANNING!$E$4:$E$70,1)+1-ROW(A7))),"")} -> 1 | C10: {=IFERROR(INDEX(PLANNING!$G$4:$G$70,LARGE((PLANNING!$E$4:$E$70=1)*(ROW(PLANNING!$E$4:$E$70)-3),COUNTIF(PLANNING!$E$4:$E$70,1)+1-ROW(A7))),"")} -> 0
A11: {=IFERROR(INDEX(PLANNING!$A$4:$A$70,LARGE((PLANNING!$E$4:$E$70=1)*(ROW(PLANNING!$E$4:$E$70)-3),COUNTIF(PLANNING!$E$4:$E$70,1)+1-ROW(A8))),"")} -> COQ Patrick | B11: {=IFERROR(INDEX(PLANNING!$F$4:$F$70,LARGE((PLANNING!$E$4:$E$70=1)*(ROW(PLANNING!$E$4:$E$70)-3),COUNTIF(PLANNING!$E$4:$E$70,1)+1-ROW(A8))),"")} -> 1 | C11: {=IFERROR(INDEX(PLANNING!$G$4:$G$70,LARGE((PLANNING!$E$4:$E$70=1)*(ROW(PLANNING!$E$4:$E$70)-3),COUNTIF(PLANNING!$E$4:$E$70,1)+1-ROW(A8))),"")} -> 0
A12: {=IFERROR(INDEX(PLANNING!$A$4:$A$70,LARGE((PLANNING!$E$4:$E$70=1)*(ROW(PLANNING!$E$4:$E$70)-3),COUNTIF(PLANNING!$E$4:$E$70,1)+1-ROW(A9))),"")} -> DAD Alain | B12: {=IFERROR(INDEX(PLANNING!$F$4:$F$70,LARGE((PLANNING!$E$4:$E$70=1)*(ROW(PLANNING!$E$4:$E$70)-3),COUNTIF(PLANNING!$E$4:$E$70,1)+1-ROW(A9))),"")} -> 1 | C12: {=IFERROR(INDEX(PLANNING!$G$4:$G$70,LARGE((PLANNING!$E$4:$E$70=1)*(ROW(PLANNING!$E$4:$E$70)-3),COUNTIF(PLANNING!$E$4:$E$70,1)+1-ROW(A9))),"")} -> 0
A13: {=IFERROR(INDEX(PLANNING!$A$4:$A$70,LARGE((PLANNING!$E$4:$E$70=1)*(ROW(PLANNING!$E$4:$E$70)-3),COUNTIF(PLANNING!$E$4:$E$70,1)+1-ROW(A10))),"")} -> GAU Michel | B13: {=IFERROR(INDEX(PLANNING!$F$4:$F$70,LARGE((PLANNING!$E$4:$E$70=1)*(ROW(PLANNING!$E$4:$E$70)-3),COUNTIF(PLANNING!$E$4:$E$70,1)+1-ROW(A10))),"")} -> 1 | C13: {=IFERROR(INDEX(PLANNING!$G$4:$G$70,LARGE((PLANNING!$E$4:$E$70=1)*(ROW(PLANNING!$E$4:$E$70)-3),COUNTIF(PLANNING!$E$4:$E$70,1)+1-ROW(A10))),"")} -> 0
A14: {=IFERROR(INDEX(PLANNING!$A$4:$A$70,LARGE((PLANNING!$E$4:$E$70=1)*(ROW(PLANNING!$E$4:$E$70)-3),COUNTIF(PLANNING!$E$4:$E$70,1)+1-ROW(A11))),"")} -> GOD Romain | B14: {=IFERROR(INDEX(PLANNING!$F$4:$F$70,LARGE((PLANNING!$E$4:$E$70=1)*(ROW(PLANNING!$E$4:$E$70)-3),COUNTIF(PLANNING!$E$4:$E$70,1)+1-ROW(A11))),"")} -> 1 | C14: {=IFERROR(INDEX(PLANNING!$G$4:$G$70,LARGE((PLANNING!$E$4:$E$70=1)*(ROW(PLANNING!$E$4:$E$70)-3),COUNTIF(PLANNING!$E$4:$E$70,1)+1-ROW(A11))),"")} -> 0
A15: {=IFERROR(INDEX(PLANNING!$A$4:$A$70,LARGE((PLANNING!$E$4:$E$70=1)*(ROW(PLANNING!$E$4:$E$70)-3),COUNTIF(PLANNING!$E$4:$E$70,1)+1-ROW(A12))),"")} -> HER Patrick | B15: {=IFERROR(INDEX(PLANNING!$F$4:$F$70,LARGE((PLANNING!$E$4:$E$70=1)*(ROW(PLANNING!$E$4:$E$70)-3),COUNTIF(PLANNING!$E$4:$E$70,1)+1-ROW(A12))),"")} -> 1 | C15: {=IFERROR(INDEX(PLANNING!$G$4:$G$70,LARGE((PLANNING!$E$4:$E$70=1)*(ROW(PLANNING!$E$4:$E$70)-3),COUNTIF(PLANNING!$E$4:$E$70,1)+1-ROW(A12))),"")} -> 0
A16: {=IFERROR(INDEX(PLANNING!$A$4:$A$70,LARGE((PLANNING!$E$4:$E$70=1)*(ROW(PLANNING!$E$4:$E$70)-3),COUNTIF(PLANNING!$E$4:$E$70,1)+1-ROW(A13))),"")} -> HIN Christophe | B16: {=IFERROR(INDEX(PLANNING!$F$4:$F$70,LARGE((PLANNING!$E$4:$E$70=1)*(ROW(PLANNING!$E$4:$E$70)-3),COUNTIF(PLANNING!$E$4:$E$70,1)+1-ROW(A13))),"")} -> 1 | C16: {=IFERROR(INDEX(PLANNING!$G$4:$G$70,LARGE((PLANNING!$E$4:$E$70=1)*(ROW(PLANNING!$E$4:$E$70)-3),COUNTIF(PLANNING!$E$4:$E$70,1)+1-ROW(A13))),"")} -> 0
... A88: {=IFERROR(INDEX(PLANNING!$A$4:$A$70,LARGE((PLANNING!$E$4:$E$70=1)*(ROW(PLANNING!$E$4:$E$70)-3),COUNTIF(PLANNING!$E$4:$E$70,1)+1-ROW(A85))),"")} | B88: {=IFERROR(INDEX(PLANNING!$F$4:$F$70,LARGE((PLANNING!$E$4:$E$70=1)*(ROW(PLANNING!$E$4:$E$70)-3),COUNTIF(PLANNING!$E$4:$E$70,1)+1-ROW(A85))),"")} | C88: {=IFERROR(INDEX(PLANNING!$G$4:$G$70,LARGE((PLANNING!$E$4:$E$70=1)*(ROW(PLANNING!$E$4:$E$70)-3),COUNTIF(PLANNING!$E$4:$E$70,1)+1-ROW(A85))),"")}

Sheet 09 11 20
A1: CHASSE DU | B1: =LISTES!H5 -> 44144
A2: =IFERROR(LISTES!I5,"") -> GLANDEE
A3: Noms | B3: Repas | C3: Invités
A4: {=IFERROR(INDEX(PLANNING!$A$4:$A$70,LARGE((PLANNING!$H$4:$H$70=1)*(ROW(PLANNING!$H$4:$H$70)-3),COUNTIF(PLANNING!$H$4:$H$70,1)+1-ROW(A1))),"")} -> AUB Bertrand | B4: {=IFERROR(INDEX(PLANNING!$I$4:$I$70,LARGE((PLANNING!$H$4:$H$70=1)*(ROW(PLANNING!$H$4:$H$70)-3),COUNTIF(PLANNING!$H$4:$H$70,1)+1-ROW(A1))),"")} -> 1 | C4: {=IFERROR(INDEX(PLANNING!$J$4:$J$70,LARGE((PLANNING!$H$4:$H$70=1)*(ROW(PLANNING!$H$4:$H$70)-3),COUNTIF(PLANNING!$H$4:$H$70,1)+1-ROW(A1))),"")} -> 0
A5: {=IFERROR(INDEX(PLANNING!$A$4:$A$70,LARGE((PLANNING!$H$4:$H$70=1)*(ROW(PLANNING!$H$4:$H$70)-3),COUNTIF(PLANNING!$H$4:$H$70,1)+1-ROW(A2))),"")} -> BAL Marcel | B5: {=IFERROR(INDEX(PLANNING!$I$4:$I$70,LARGE((PLANNING!$H$4:$H$70=1)*(ROW(PLANNING!$H$4:$H$70)-3),COUNTIF(PLANNING!$H$4:$H$70,1)+1-ROW(A2))),"")} -> 1 | C5: {=IFERROR(INDEX(PLANNING!$J$4:$J$70,LARGE((PLANNING!$H$4:$H$70=1)*(ROW(PLANNING!$H$4:$H$70)-3),COUNTIF(PLANNING!$H$4:$H$70,1)+1-ROW(A2))),"")} -> 0
A6: {=IFERROR(INDEX(PLANNING!$A$4:$A$70,LARGE((PLANNING!$H$4:$H$70=1)*(ROW(PLANNING!$H$4:$H$70)-3),COUNTIF(PLANNING!$H$4:$H$70,1)+1-ROW(A3))),"")} -> BIA Robert | B6: {=IFERROR(INDEX(PLANNING!$I$4:$I$70,LARGE((PLANNING!$H$4:$H$70=1)*(ROW(PLANNING!$H$4:$H$70)-3),COUNTIF(PLANNING!$H$4:$H$70,1)+1-ROW(A3))),"")} -> 1 | C6: {=IFERROR(INDEX(PLANNING!$J$4:$J$70,LARGE((PLANNING!$H$4:$H$70=1)*(ROW(PLANNING!$H$4:$H$70)-3),COUNTIF(PLANNING!$H$4:$H$70,1)+1-ROW(A3))),"")} -> 0
A7: {=IFERROR(INDEX(PLANNING!$A$4:$A$70,LARGE((PLANNING!$H$4:$H$70=1)*(ROW(PLANNING!$H$4:$H$70)-3),COUNTIF(PLANNING!$H$4:$H$70,1)+1-ROW(A4))),"")} -> BIG Nicolas | B7: {=IFERROR(INDEX(PLANNING!$I$4:$I$70,LARGE((PLANNING!$H$4:$H$70=1)*(ROW(PLANNING!$H$4:$H$70)-3),COUNTIF(PLANNING!$H$4:$H$70,1)+1-ROW(A4))),"")} -> 1 | C7: {=IFERROR(INDEX(PLANNING!$J$4:$J$70,LARGE((PLANNING!$H$4:$H$70=1)*(ROW(PLANNING!$H$4:$H$70)-3),COUNTIF(PLANNING!$H$4:$H$70,1)+1-ROW(A4))),"")} -> 0
A8: {=IFERROR(INDEX(PLANNING!$A$4:$A$70,LARGE((PLANNING!$H$4:$H$70=1)*(ROW(PLANNING!$H$4:$H$70)-3),COUNTIF(PLANNING!$H$4:$H$70,1)+1-ROW(A5))),"")} -> BOU Hugues | B8: {=IFERROR(INDEX(PLANNING!$I$4:$I$70,LARGE((PLANNING!$H$4:$H$70=1)*(ROW(PLANNING!$H$4:$H$70)-3),COUNTIF(PLANNING!$H$4:$H$70,1)+1-ROW(A5))),"")} -> 1 | C8: {=IFERROR(INDEX(PLANNING!$J$4:$J$70,LARGE((PLANNING!$H$4:$H$70=1)*(ROW(PLANNING!$H$4:$H$70)-3),COUNTIF(PLANNING!$H$4:$H$70,1)+1-ROW(A5))),"")} -> 0
A9: {=IFERROR(INDEX(PLANNING!$A$4:$A$70,LARGE((PLANNING!$H$4:$H$70=1)*(ROW(PLANNING!$H$4:$H$70)-3),COUNTIF(PLANNING!$H$4:$H$70,1)+1-ROW(A6))),"")} -> BUS Michel | B9: {=IFERROR(INDEX(PLANNING!$I$4:$I$70,LARGE((PLANNING!$H$4:$H$70=1)*(ROW(PLANNING!$H$4:$H$70)-3),COUNTIF(PLANNING!$H$4:$H$70,1)+1-ROW(A6))),"")} -> 1 | C9: {=IFERROR(INDEX(PLANNING!$J$4:$J$70,LARGE((PLANNING!$H$4:$H$70=1)*(ROW(PLANNING!$H$4:$H$70)-3),COUNTIF(PLANNING!$H$4:$H$70,1)+1-ROW(A6))),"")} -> 0
A10: {=IFERROR(INDEX(PLANNING!$A$4:$A$70,LARGE((PLANNING!$H$4:$H$70=1)*(ROW(PLANNING!$H$4:$H$70)-3),COUNTIF(PLANNING!$H$4:$H$70,1)+1-ROW(A7))),"")} -> CAR Lucien | B10: {=IFERROR(INDEX(PLANNING!$I$4:$I$70,LARGE((PLANNING!$H$4:$H$70=1)*(ROW(PLANNING!$H$4:$H$70)-3),COUNTIF(PLANNING!$H$4:$H$70,1)+1-ROW(A7))),"")} -> 1 | C10: {=IFERROR(INDEX(PLANNING!$J$4:$J$70,LARGE((PLANNING!$H$4:$H$70=1)*(ROW(PLANNING!$H$4:$H$70)-3),COUNTIF(PLANNING!$H$4:$H$70,1)+1-ROW(A7))),"")} -> 0
A11: {=IFERROR(INDEX(PLANNING!$A$4:$A$70,LARGE((PLANNING!$H$4:$H$70=1)*(ROW(PLANNING!$H$4:$H$70)-3),COUNTIF(PLANNING!$H$4:$H$70,1)+1-ROW(A8))),"")} -> COQ Patrick | B11: {=IFERROR(INDEX(PLANNING!$I$4:$I$70,LARGE((PLANNING!$H$4:$H$70=1)*(ROW(PLANNING!$H$4:$H$70)-3),COUNTIF(PLANNING!$H$4:$H$70,1)+1-ROW(A8))),"")} -> 1 | C11: {=IFERROR(INDEX(PLANNING!$J$4:$J$70,LARGE((PLANNING!$H$4:$H$70=1)*(ROW(PLANNING!$H$4:$H$70)-3),COUNTIF(PLANNING!$H$4:$H$70,1)+1-ROW(A8))),"")} -> 0
A12: {=IFERROR(INDEX(PLANNING!$A$4:$A$70,LARGE((PLANNING!$H$4:$H$70=1)*(ROW(PLANNING!$H$4:$H$70)-3),COUNTIF(PLANNING!$H$4:$H$70,1)+1-ROW(A9))),"")} -> DAD Alain | B12: {=IFERROR(INDEX(PLANNING!$I$4:$I$70,LARGE((PLANNING!$H$4:$H$70=1)*(ROW(PLANNING!$H$4:$H$70)-3),COUNTIF(PLANNING!$H$4:$H$70,1)+1-ROW(A9))),"")} -> 1 | C12: {=IFERROR(INDEX(PLANNING!$J$4:$J$70,LARGE((PLANNING!$H$4:$H$70=1)*(ROW(PLANNING!$H$4:$H$70)-3),COUNTIF(PLANNING!$H$4:$H$70,1)+1-ROW(A9))),"")} -> 0
A13: {=IFERROR(INDEX(PLANNING!$A$4:$A$70,LARGE((PLANNING!$H$4:$H$70=1)*(ROW(PLANNING!$H$4:$H$70)-3),COUNTIF(PLANNING!$H$4:$H$70,1)+1-ROW(A10))),"")} -> GAU Michel | B13: {=IFERROR(INDEX(PLANNING!$I$4:$I$70,LARGE((PLANNING!$H$4:$H$70=1)*(ROW(PLANNING!$H$4:$H$70)-3),COUNTIF(PLANNING!$H$4:$H$70,1)+1-ROW(A10))),"")} -> 1 | C13: {=IFERROR(INDEX(PLANNING!$J$4:$J$70,LARGE((PLANNING!$H$4:$H$70=1)*(ROW(PLANNING!$H$4:$H$70)-3),COUNTIF(PLANNING!$H$4:$H$70,1)+1-ROW(A10))),"")} -> 0
A14: {=IFERROR(INDEX(PLANNING!$A$4:$A$70,LARGE((PLANNING!$H$4:$H$70=1)*(ROW(PLANNING!$H$4:$H$70)-3),COUNTIF(PLANNING!$H$4:$H$70,1)+1-ROW(A11))),"")} -> GOD Romain | B14: {=IFERROR(INDEX(PLANNING!$I$4:$I$70,LARGE((PLANNING!$H$4:$H$70=1)*(ROW(PLANNING!$H$4:$H$70)-3),COUNTIF(PLANNING!$H$4:$H$70,1)+1-ROW(A11))),"")} -> 1 | C14: {=IFERROR(INDEX(PLANNING!$J$4:$J$70,LARGE((PLANNING!$H$4:$H$70=1)*(ROW(PLANNING!$H$4:$H$70)-3),COUNTIF(PLANNING!$H$4:$H$70,1)+1-ROW(A11))),"")} -> 0
A15: {=IFERROR(INDEX(PLANNING!$A$4:$A$70,LARGE((PLANNING!$H$4:$H$70=1)*(ROW(PLANNING!$H$4:$H$70)-3),COUNTIF(PLANNING!$H$4:$H$70,1)+1-ROW(A12))),"")} -> HER Patrick | B15: {=IFERROR(INDEX(PLANNING!$I$4:$I$70,LARGE((PLANNING!$H$4:$H$70=1)*(ROW(PLANNING!$H$4:$H$70)-3),COUNTIF(PLANNING!$H$4:$H$70,1)+1-ROW(A12))),"")} -> 1 | C15: {=IFERROR(INDEX(PLANNING!$J$4:$J$70,LARGE((PLANNING!$H$4:$H$70=1)*(ROW(PLANNING!$H$4:$H$70)-3),COUNTIF(PLANNING!$H$4:$H$70,1)+1-ROW(A12))),"")} -> 0
... A100: {=IFERROR(INDEX(PLANNING!$A$4:$A$70,LARGE((PLANNING!$H$4:$H$70=1)*(ROW(PLANNING!$H$4:$H$70)-3),COUNTIF(PLANNING!$H$4:$H$70,1)+1-ROW(A97))),"")} | B100: {=IFERROR(INDEX(PLANNING!$I$4:$I$70,LARGE((PLANNING!$H$4:$H$70=1)*(ROW(PLANNING!$H$4:$H$70)-3),COUNTIF(PLANNING!$H$4:$H$70,1)+1-ROW(A97))),"")} | C100: {=IFERROR(INDEX(PLANNING!$J$4:$J$70,LARGE((PLANNING!$H$4:$H$70=1)*(ROW(PLANNING!$H$4:$H$70)-3),COUNTIF(PLANNING!$H$4:$H$70,1)+1-ROW(A97))),"")}

Sheet 16 11 20
A1: CHASSE DU | B1: =LISTES!H6 -> 44151
A2: =IFERROR(LISTES!I6,"") -> MIXTE 3P
A3: Noms | B3: Invités | C3: Repas
A46: CASSITI Pierre-Henri
A47: TRAQUEURS

Sheet 23 11 20
A1: CHASSE DU | B1: =LISTES!H7 -> 44158
A2: =IFERROR(LISTES!I7,"") -> GLANDEE
A3: Noms | B3: Invités | C3: Repas
A46: CASSITI Pierre-Henri
A47: TRAQUEURS

Sheet 30 11 20
A1: CHASSE DU | B1: =LISTES!H8 -> 44165
A2: =IFERROR(LISTES!I8,"") -> ENCLOS
A3: Noms | B3: Invités | C3: Repas
A46: CASSITI Pierre-Henri
A47: TRAQUEURS

Sheet 07 12 20

Sheet 14 12 20

Sheet 21 12 20

Sheet 28 12 20

Sheet 04 01 21

Sheet 11 01 21

Sheet 18 01 21

Sheet 25 01 21

Sheet 01 02 21

Sheet 08 02 21

Sheet 15 02 21

Sheet 22 02 21
