Workbook

Sheet Résultat
A1: Contributeur | B1: Ref | C1: Num | D1: Prop | E1: Libellé | F1: N° rue | G1: Quantité | H1: O/N | I1: Prix | J1: Estim | K1: Min | L1: Acheteur
A2: A | B2: A1 | C2: 250199 | D2: PV | E2: inventé 1 | F2: 1 | G2: 58.15 | H2: O | I2: 2674.9 | J2: 2273.665 | K2: 1818.932 | L2: Client 1
A3: C | B3: A1 | C3: =C2+1 -> 250200 | D3: PV | E3: inventé 2 | F3: 2 | G3: 28.33 | H3: O | I3: 1784.79 | J3: 1517.0715 | K3: 1213.6572 | L3: Client 2
A4: C | B4: A1 | C4: =C3+1 -> 250201 | D4: PU | E4: inventé 3 | F4: 3 | G4: 23.8 | H4: N | I4: 1761.2 | J4: 1497.02 | K4: 1197.616 | L4: Client 3
A5: B | B5: A1 | C5: =C4+1 -> 250202 | D5: PU | E5: inventé 4 | F5: 4 | G5: 67.17 | H5: O | I5: 2753.97 | J5: 2340.8745 | K5: 1872.6996 | L5: Client 4
A6: D | B6: A1 | C6: =C5+1 -> 250203 | D6: PU | E6: inventé 5 | F6: 5 | G6: 93.05 | H6: O | I6: 7909.25 | J6: 6722.8625 | K6: 5378.29 | L6: Client 5
A7: A | B7: A1 | C7: =C6+1 -> 250204 | D7: PV | E7: inventé 6 | F7: 6 | G7: 28.1 | H7: N | I7: 2529 | J7: 2149.65 | K7: 1719.72 | L7: Client 6
A8: D | B8: A1 | C8: =C7+1 -> 250205 | D8: PV | E8: inventé 7 | F8: 7 | G8: 115.27 | H8: N | I8: 12679.7 | J8: 10777.745 | K8: 8622.196 | L8: Client 7
A9: E | B9: A1 | C9: =C8+1 -> 250206 | D9: PU | E9: inventé 8 | F9: 8 | G9: 110.68 | H9: N | I9: 13724.32 | J9: 11665.672 | K9: 9332.5376 | L9: Client 8
A10: C | B10: A1 | C10: =C9+1 -> 250207 | D10: PU | E10: inventé 9 | F10: 9 | G10: 33.77 | H10: O | I10: 1519.65 | J10: 1291.7025 | K10: 1033.362 | L10: Client 9
A11: B | B11: A1 | C11: =C10+1 -> 250208 | D11: PV | E11: inventé 10 | F11: 10 | G11: 32.93 | H11: O | I11: 1284.27 | J11: 1091.6295 | K11: 873.3036 | L11: Client 10
A12: A | B12: A1 | C12: =C11+1 -> 250209 | D12: PU | E12: inventé 11 | F12: 11 | G12: 38.27 | H12: O | I12: 1836.96 | J12: 1561.416 | K12: 1249.1328 | L12: Client 11
A13: C | B13: A1 | C13: =C12+1 -> 250210 | D13: PU | E13: inventé 12 | F13: 12 | G13: 21.78 | H13: O | I13: 1023.66 | J13: 870.111 | K13: 696.0888 | L13: Client 12
A14: D | B14: A1 | C14: =C13+1 -> 250211 | D14: PV | E14: inventé 13 | F14: 13 | G14: 63.29 | H14: O | I14: 4683.46 | J14: 3980.941 | K14: 3184.7528 | L14: Client 13
... A27: D | B27: A1 | C27: =C26+1 -> 250224 | D27: PV | E27: inventé 26 | F27: 26 | G27: 11.05 | H27: O | I27: 972.4 | J27: 826.54 | K27: 661.232 | L27: Client 26

Sheet MeP
A3: Contributeur | B3: A
C6: Num | D6: Prop | E6: Libellé | F6: N° rue | G6: Quantité | H6: Vendu | J6: Client | K6: Prix | M6: Min | R6: Estimation
C7: 250199 | D7: PV | E7: inventé 1 | F7: 1 | G7: 58.15 | H7: O | J7: Client 1 | K7: 2674.9 | M7: 1818.932 | R7: 2273.665
C8: 250204 | D8: PV | E8: inventé 6 | F8: 6 | G8: 28.1 | H8: N | J8: Client 6 | K8: 2529 | M8: 1719.72 | R8: 2149.65
C9: 250209 | D9: PU | E9: inventé 11 | F9: 11 | G9: 38.27 | H9: O | J9: Client 11 | K9: 1836.96 | M9: 1249.1328 | R9: 1561.416
C10: 250215 | D10: PU | E10: inventé 17 | F10: 17 | G10: 15.78 | H10: O | J10: Client 17 | K10: 1499.1 | M10: 1019.388 | R10: 1274.235
C11: 250220 | D11: PV | E11: inventé 22 | F11: 22 | G11: 21.84 | H11: O | J11: Client 22 | K11: 1659.84 | M11: 1128.6912 | R11: 1410.864

Sheet Test
B1: Changer le contributeur
A3: Contributeur | B3: A
C6: Num | D6: Prop | E6: Libellé | F6: N° rue | G6: Quantité | H6: Vendu | J6: Client | K6: Prix | M6: Min | R6: Estimation
C7: {=IFERROR(INDEX(Résultat!$C$2:$C$100,LARGE((Résultat!$A$2:$A$100=$B$3)*(ROW(Résultat!$A$2:$A$100)-1),COUNTIF(Résultat!$A$2:$A$100,$B$3)+1-ROW(A1))),"")} -> 250199 | D7: =IF(C7="","",VLOOKUP(C7,Résultat!$C$2:$L$100,2,0)) -> PV | E7: =IF(C7="","",VLOOKUP(C7,Résultat!$C$2:$L$100,3,0)) -> inventé 1 | F7: =IF(C7="","",VLOOKUP(C7,Résultat!$C$2:$L$100,4,0)) -> 1 | G7: =IF(C7="","",VLOOKUP(C7,Résultat!$C$2:$L$100,5,0)) -> 58.15 | H7: =IF(C7="","",VLOOKUP(C7,Résultat!$C$2:$L$100,6,0)) -> O | J7: =IF(C7="","",VLOOKUP(C7,Résultat!$C$2:$L$100,10,0)) -> Client 1 | K7: =IF(C7="","",VLOOKUP(C7,Résultat!$C$2:$L$100,7,0)) -> 2674.9 | M7: =IF(C7="","",VLOOKUP(C7,Résultat!$C$2:$L$100,9,0)) -> 1818.932 | R7: =IF(C7="","",VLOOKUP(C7,Résultat!$C$2:$L$100,8,0)) -> 2273.665
C8: {=IFERROR(INDEX(Résultat!$C$2:$C$100,LARGE((Résultat!$A$2:$A$100=$B$3)*(ROW(Résultat!$A$2:$A$100)-1),COUNTIF(Résultat!$A$2:$A$100,$B$3)+1-ROW(A2))),"")} -> 250204 | D8: =IF(C8="","",VLOOKUP(C8,Résultat!$C$2:$L$100,2,0)) -> PV | E8: =IF(C8="","",VLOOKUP(C8,Résultat!$C$2:$L$100,3,0)) -> inventé 6 | F8: =IF(C8="","",VLOOKUP(C8,Résultat!$C$2:$L$100,4,0)) -> 6 | G8: =IF(C8="","",VLOOKUP(C8,Résultat!$C$2:$L$100,5,0)) -> 28.1 | H8: =IF(C8="","",VLOOKUP(C8,Résultat!$C$2:$L$100,6,0)) -> N | J8: =IF(C8="","",VLOOKUP(C8,Résultat!$C$2:$L$100,10,0)) -> Client 6 | K8: =IF(C8="","",VLOOKUP(C8,Résultat!$C$2:$L$100,7,0)) -> 2529 | M8: =IF(C8="","",VLOOKUP(C8,Résultat!$C$2:$L$100,9,0)) -> 1719.72 | R8: =IF(C8="","",VLOOKUP(C8,Résultat!$C$2:$L$100,8,0)) -> 2149.65
C9: {=IFERROR(INDEX(Résultat!$C$2:$C$100,LARGE((Résultat!$A$2:$A$100=$B$3)*(ROW(Résultat!$A$2:$A$100)-1),COUNTIF(Résultat!$A$2:$A$100,$B$3)+1-ROW(A3))),"")} -> 250209 | D9: =IF(C9="","",VLOOKUP(C9,Résultat!$C$2:$L$100,2,0)) -> PU | E9: =IF(C9="","",VLOOKUP(C9,Résultat!$C$2:$L$100,3,0)) -> inventé 11 | F9: =IF(C9="","",VLOOKUP(C9,Résultat!$C$2:$L$100,4,0)) -> 11 | G9: =IF(C9="","",VLOOKUP(C9,Résultat!$C$2:$L$100,5,0)) -> 38.27 | H9: =IF(C9="","",VLOOKUP(C9,Résultat!$C$2:$L$100,6,0)) -> O | J9: =IF(C9="","",VLOOKUP(C9,Résultat!$C$2:$L$100,10,0)) -> Client 11 | K9: =IF(C9="","",VLOOKUP(C9,Résultat!$C$2:$L$100,7,0)) -> 1836.96 | M9: =IF(C9="","",VLOOKUP(C9,Résultat!$C$2:$L$100,9,0)) -> 1249.1328 | R9: =IF(C9="","",VLOOKUP(C9,Résultat!$C$2:$L$100,8,0)) -> 1561.416
C10: {=IFERROR(INDEX(Résultat!$C$2:$C$100,LARGE((Résultat!$A$2:$A$100=$B$3)*(ROW(Résultat!$A$2:$A$100)-1),COUNTIF(Résultat!$A$2:$A$100,$B$3)+1-ROW(A4))),"")} -> 250215 | D10: =IF(C10="","",VLOOKUP(C10,Résultat!$C$2:$L$100,2,0)) -> PU | E10: =IF(C10="","",VLOOKUP(C10,Résultat!$C$2:$L$100,3,0)) -> inventé 17 | F10: =IF(C10="","",VLOOKUP(C10,Résultat!$C$2:$L$100,4,0)) -> 17 | G10: =IF(C10="","",VLOOKUP(C10,Résultat!$C$2:$L$100,5,0)) -> 15.78 | H10: =IF(C10="","",VLOOKUP(C10,Résultat!$C$2:$L$100,6,0)) -> O | J10: =IF(C10="","",VLOOKUP(C10,Résultat!$C$2:$L$100,10,0)) -> Client 17 | K10: =IF(C10="","",VLOOKUP(C10,Résultat!$C$2:$L$100,7,0)) -> 1499.1 | M10: =IF(C10="","",VLOOKUP(C10,Résultat!$C$2:$L$100,9,0)) -> 1019.388 | R10: =IF(C10="","",VLOOKUP(C10,Résultat!$C$2:$L$100,8,0)) -> 1274.235
C11: {=IFERROR(INDEX(Résultat!$C$2:$C$100,LARGE((Résultat!$A$2:$A$100=$B$3)*(ROW(Résultat!$A$2:$A$100)-1),COUNTIF(Résultat!$A$2:$A$100,$B$3)+1-ROW(A5))),"")} -> 250220 | D11: =IF(C11="","",VLOOKUP(C11,Résultat!$C$2:$L$100,2,0)) -> PV | E11: =IF(C11="","",VLOOKUP(C11,Résultat!$C$2:$L$100,3,0)) -> inventé 22 | F11: =IF(C11="","",VLOOKUP(C11,Résultat!$C$2:$L$100,4,0)) -> 22 | G11: =IF(C11="","",VLOOKUP(C11,Résultat!$C$2:$L$100,5,0)) -> 21.84 | H11: =IF(C11="","",VLOOKUP(C11,Résultat!$C$2:$L$100,6,0)) -> O | J11: =IF(C11="","",VLOOKUP(C11,Résultat!$C$2:$L$100,10,0)) -> Client 22 | K11: =IF(C11="","",VLOOKUP(C11,Résultat!$C$2:$L$100,7,0)) -> 1659.84 | M11: =IF(C11="","",VLOOKUP(C11,Résultat!$C$2:$L$100,9,0)) -> 1128.6912 | R11: =IF(C11="","",VLOOKUP(C11,Résultat!$C$2:$L$100,8,0)) -> 1410.864
C12: {=IFERROR(INDEX(Résultat!$C$2:$C$100,LARGE((Résultat!$A$2:$A$100=$B$3)*(ROW(Résultat!$A$2:$A$100)-1),COUNTIF(Résultat!$A$2:$A$100,$B$3)+1-ROW(A6))),"")} | D12: =IF(C12="","",VLOOKUP(C12,Résultat!$C$2:$L$100,2,0)) | E12: =IF(C12="","",VLOOKUP(C12,Résultat!$C$2:$L$100,3,0)) | F12: =IF(C12="","",VLOOKUP(C12,Résultat!$C$2:$L$100,4,0)) | G12: =IF(C12="","",VLOOKUP(C12,Résultat!$C$2:$L$100,5,0)) | H12: =IF(C12="","",VLOOKUP(C12,Résultat!$C$2:$L$100,6,0)) | J12: =IF(C12="","",VLOOKUP(C12,Résultat!$C$2:$L$100,10,0)) | K12: =IF(C12="","",VLOOKUP(C12,Résultat!$C$2:$L$100,7,0)) | M12: =IF(C12="","",VLOOKUP(C12,Résultat!$C$2:$L$100,9,0)) | R12: =IF(C12="","",VLOOKUP(C12,Résultat!$C$2:$L$100,8,0))
C13: {=IFERROR(INDEX(Résultat!$C$2:$C$100,LARGE((Résultat!$A$2:$A$100=$B$3)*(ROW(Résultat!$A$2:$A$100)-1),COUNTIF(Résultat!$A$2:$A$100,$B$3)+1-ROW(A7))),"")} | D13: =IF(C13="","",VLOOKUP(C13,Résultat!$C$2:$L$100,2,0)) | E13: =IF(C13="","",VLOOKUP(C13,Résultat!$C$2:$L$100,3,0)) | F13: =IF(C13="","",VLOOKUP(C13,Résultat!$C$2:$L$100,4,0)) | G13: =IF(C13="","",VLOOKUP(C13,Résultat!$C$2:$L$100,5,0)) | H13: =IF(C13="","",VLOOKUP(C13,Résultat!$C$2:$L$100,6,0)) | J13: =IF(C13="","",VLOOKUP(C13,Résultat!$C$2:$L$100,10,0)) | K13: =IF(C13="","",VLOOKUP(C13,Résultat!$C$2:$L$100,7,0)) | M13: =IF(C13="","",VLOOKUP(C13,Résultat!$C$2:$L$100,9,0)) | R13: =IF(C13="","",VLOOKUP(C13,Résultat!$C$2:$L$100,8,0))
C14: {=IFERROR(INDEX(Résultat!$C$2:$C$100,LARGE((Résultat!$A$2:$A$100=$B$3)*(ROW(Résultat!$A$2:$A$100)-1),COUNTIF(Résultat!$A$2:$A$100,$B$3)+1-ROW(A8))),"")} | D14: =IF(C14="","",VLOOKUP(C14,Résultat!$C$2:$L$100,2,0)) | E14: =IF(C14="","",VLOOKUP(C14,Résultat!$C$2:$L$100,3,0)) | F14: =IF(C14="","",VLOOKUP(C14,Résultat!$C$2:$L$100,4,0)) | G14: =IF(C14="","",VLOOKUP(C14,Résultat!$C$2:$L$100,5,0)) | H14: =IF(C14="","",VLOOKUP(C14,Résultat!$C$2:$L$100,6,0)) | J14: =IF(C14="","",VLOOKUP(C14,Résultat!$C$2:$L$100,10,0)) | K14: =IF(C14="","",VLOOKUP(C14,Résultat!$C$2:$L$100,7,0)) | M14: =IF(C14="","",VLOOKUP(C14,Résultat!$C$2:$L$100,9,0)) | R14: =IF(C14="","",VLOOKUP(C14,Résultat!$C$2:$L$100,8,0))
C15: {=IFERROR(INDEX(Résultat!$C$2:$C$100,LARGE((Résultat!$A$2:$A$100=$B$3)*(ROW(Résultat!$A$2:$A$100)-1),COUNTIF(Résultat!$A$2:$A$100,$B$3)+1-ROW(A9))),"")} | D15: =IF(C15="","",VLOOKUP(C15,Résultat!$C$2:$L$100,2,0)) | E15: =IF(C15="","",VLOOKUP(C15,Résultat!$C$2:$L$100,3,0)) | F15: =IF(C15="","",VLOOKUP(C15,Résultat!$C$2:$L$100,4,0)) | G15: =IF(C15="","",VLOOKUP(C15,Résultat!$C$2:$L$100,5,0)) | H15: =IF(C15="","",VLOOKUP(C15,Résultat!$C$2:$L$100,6,0)) | J15: =IF(C15="","",VLOOKUP(C15,Résultat!$C$2:$L$100,10,0)) | K15: =IF(C15="","",VLOOKUP(C15,Résultat!$C$2:$L$100,7,0)) | M15: =IF(C15="","",VLOOKUP(C15,Résultat!$C$2:$L$100,9,0)) | R15: =IF(C15="","",VLOOKUP(C15,Résultat!$C$2:$L$100,8,0))
C16: {=IFERROR(INDEX(Résultat!$C$2:$C$100,LARGE((Résultat!$A$2:$A$100=$B$3)*(ROW(Résultat!$A$2:$A$100)-1),COUNTIF(Résultat!$A$2:$A$100,$B$3)+1-ROW(A10))),"")} | D16: =IF(C16="","",VLOOKUP(C16,Résultat!$C$2:$L$100,2,0)) | E16: =IF(C16="","",VLOOKUP(C16,Résultat!$C$2:$L$100,3,0)) | F16: =IF(C16="","",VLOOKUP(C16,Résultat!$C$2:$L$100,4,0)) | G16: =IF(C16="","",VLOOKUP(C16,Résultat!$C$2:$L$100,5,0)) | H16: =IF(C16="","",VLOOKUP(C16,Résultat!$C$2:$L$100,6,0)) | J16: =IF(C16="","",VLOOKUP(C16,Résultat!$C$2:$L$100,10,0)) | K16: =IF(C16="","",VLOOKUP(C16,Résultat!$C$2:$L$100,7,0)) | M16: =IF(C16="","",VLOOKUP(C16,Résultat!$C$2:$L$100,9,0)) | R16: =IF(C16="","",VLOOKUP(C16,Résultat!$C$2:$L$100,8,0))
