Workbook

Sheet Feuil2

Sheet 01.2020
A1: Date | B1: E | C1: S | D1: E | E1: S | F1: Total Jour | G1: + jour | H1: Pause | J1: EN + | K1: EN -
F2: Total H/J | G2: 0.325 | H2: 0.03125
A3: 43832 | B3: 0.34861111 | C3: 0.50625 | D3: 0.53541667 | E3: 0.76041667 | F3: =(C3-B3)+(E3-D3) -> 0.38263889 | G3: =F3-$G$2 -> 0.057638889 | H3: =D3-C3 -> 0.029166667 | I3: =$H$2-H3 -> 0.0020833333 | J3: =G3-I3 -> 0.055555556 | K3: =$H$2-H3 -> 0.0020833333
A4: 43833 | B4: 0.35277778 | C4: 0.50486111 | D4: 0.53333333 | E4: 0.78125 | F4: =(C4-B4)+(E4-D4) -> 0.4 | G4: =F4-$G$2 -> 0.075 | H4: =D4-C4 -> 0.028472222 | I4: =$H$2-H4 -> 0.0027777778 | J4: =G4-I4 -> 0.072222222 | K4: =$H$2-H4 -> 0.0027777778
A5: 43836 | B5: 0.375 | C5: 0.53125 | D5: 0.5625 | E5: 0.72916667 | F5: =(C5-B5)+(E5-D5) -> 0.32291667 | G5: =F5-$G$2 -> -0.0020833333 | H5: =D5-C5 -> 0.03125 | I5: =$H$2-H5 -> 0 | J5: =G5-I5 -> -0.0020833333 | K5: 0.0020833333
A6: 43837 | B6: 0.36597222 | C6: 0.50486111 | D6: 0.52916667 | E6: 0.75 | F6: =(C6-B6)+(E6-D6) -> 0.35972222 | G6: =F6-$G$2 -> 0.034722222 | H6: =D6-C6 -> 0.024305556 | I6: =$H$2-H6 -> 0.0069444444 | J6: =G6-I6 -> 0.027777778 | K6: =$H$2-H6 -> 0.0069444444
A7: 43838 | B7: 0.35208333 | C7: 0.51527778 | D7: 0.56388889 | E7: 0.72916667 | F7: =(C7-B7)+(E7-D7) -> 0.32847222 | G7: =F7-$G$2 -> 0.0034722222 | H7: =D7-C7 -> 0.048611111 | I7: 0 | J7: =G7-I7 -> 0.0034722222 | K7: =$H$2-H7 -> -0.017361111
A8: 43839 | B8: 0.36041667 | C8: 0.50555556 | D8: 0.53263889 | E8: 0.77083333 | F8: =(C8-B8)+(E8-D8) -> 0.38333333 | G8: =F8-$G$2 -> 0.058333333 | H8: =D8-C8 -> 0.027083333 | I8: =$H$2-H8 -> 0.0041666667 | J8: =G8-I8 -> 0.054166667 | K8: =$H$2-H8 -> 0.0041666667
A9: 43840 | B9: 0.35208333 | C9: 0.50347222 | D9: 0.55208333 | E9: 0.76736111 | F9: =(C9-B9)+(E9-D9) -> 0.36666667 | G9: =F9-$G$2 -> 0.041666667 | H9: =D9-C9 -> 0.048611111 | I9: =$H$2-H9 -> -0.017361111 | J9: =G9-I9 -> 0.059027778 | K9: =$H$2-H9 -> -0.017361111
A10: 43843 | B10: 0.36180556 | C10: 0.50972222 | D10: 0.55208333 | E10: 0.74652778 | F10: =(C10-B10)+(E10-D10) -> 0.34236111 | G10: =F10-$G$2 -> 0.017361111 | H10: =D10-C10 -> 0.042361111 | I10: =$H$2-H10 -> -0.011111111 | J10: =G10-I10 -> 0.028472222 | K10: =$H$2-H10 -> -0.011111111
A11: 43844 | B11: 0.36041667 | C11: 0.50555556 | D11: 0.55208333 | E11: 0.74652778 | F11: =(C11-B11)+(E11-D11) -> 0.33958333 | G11: =F11-$G$2 -> 0.014583333 | H11: =D11-C11 -> 0.046527778 | I11: =$H$2-H11 -> -0.015277778 | J11: =G11-I11 -> 0.029861111 | K11: =$H$2-H11 -> -0.015277778
A12: 43845 | B12: 0.36111111 | C12: 0.50555556 | D12: 0.53611111 | E12: 0.76041667 | F12: =(C12-B12)+(E12-D12) -> 0.36875 | G12: =F12-$G$2 -> 0.04375 | H12: =D12-C12 -> 0.030555556 | I12: =$H$2-H12 -> 0.00069444444 | J12: =G12-I12 -> 0.043055556 | K12: =$H$2-H12 -> 0.00069444444
A13: 43846 | B13: 0.36111111 | C13: 0.50833333 | D13: 0.53402778 | E13: 0.75694444 | F13: =(C13-B13)+(E13-D13) -> 0.37013889 | G13: =F13-$G$2 -> 0.045138889 | H13: =D13-C13 -> 0.025694444 | I13: =$H$2-H13 -> 0.0055555556 | J13: =G13-I13 -> 0.039583333 | K13: =$H$2-H13 -> 0.0055555556
A14: 43847 | B14: 0.36111111 | C14: 0.50694444 | D14: 0.5375 | E14: 0.73958333 | F14: =(C14-B14)+(E14-D14) -> 0.34791667 | G14: =F14-$G$2 -> 0.022916667 | H14: =D14-C14 -> 0.030555556 | I14: =$H$2-H14 -> 0.00069444444 | J14: =G14-I14 -> 0.022222222 | K14: =$H$2-H14 -> 0.00069444444
A15: 43850 | B15: Absent | F15: =(C15-B15)+(E15-D15) -> #VALUE! | G15: =F15-$G$2 -> #VALUE! | H15: =D15-C15 -> 0 | I15: =$H$2-H15 -> 0.03125
A16: 43851 | B16: 0.35972222 | C16: 0.51458333 | D16: 0.54722222 | E16: 0.76388889 | F16: =(C16-B16)+(E16-D16) -> 0.37152778 | G16: =F16-$G$2 -> 0.046527778 | H16: =D16-C16 -> 0.032638889 | I16: =$H$2-H16 -> -0.0013888889 | J16: =G16-I16 -> 0.047916667 | K16: =$H$2-H16 -> -0.0013888889
A17: 43852 | B17: 0.35277778 | C17: 0.50416667 | D17: 0.53402778 | E17: 0.76180556 | F17: =(C17-B17)+(E17-D17) -> 0.37916667 | G17: =F17-$G$2 -> 0.054166667 | H17: =D17-C17 -> 0.029861111 | I17: =$H$2-H17 -> 0.0013888889 | J17: =G17-I17 -> 0.052777778 | K17: =$H$2-H17 -> 0.0013888889
A18: 43853 | B18: 0.34444444 | C18: 0.51597222 | D18: 0.55208333 | E18: 0.73958333 | F18: =(C18-B18)+(E18-D18) -> 0.35902778 | G18: =F18-$G$2 -> 0.034027778 | H18: =D18-C18 -> 0.036111111 | I18: =$H$2-H18 -> -0.0048611111 | J18: =G18-I18 -> 0.038888889 | K18: =$H$2-H18 -> -0.0048611111
A19: 43854 | B19: 0.35763889 | C19: 0.51388889 | D19: 0.54375 | E19: 0.69791667 | F19: =(C19-B19)+(E19-D19) -> 0.31041667 | G19: =F19-$G$2 -> -0.014583333 | H19: =D19-C19 -> 0.029861111 | I19: =$H$2-H19 -> 0.0013888889 | J19: =G19-I19 -> -0.015972222 | K19: 0.015972222
A20: 43857 | B20: 0.36944444 | C20: 0.52083333 | D20: 0.55902778 | E20: 0.77430556 | F20: =(C20-B20)+(E20-D20) -> 0.36666667 | G20: =F20-$G$2 -> 0.041666667 | H20: =D20-C20 -> 0.038194444 | I20: =$H$2-H20 -> -0.0069444444 | K20: 0.0034722222
A21: 43858 | B21: 0.37847222 | F21: =(C21-B21)+(E21-D21) -> -0.37847222 | G21: =F21-$G$2 -> -0.70347222 | H21: =D21-C21 -> 0 | I21: =$H$2-H21 -> 0.03125 | J21: =G21-I21 -> -0.73472222 | K21: =$H$2-H21 -> 0.03125
A22: 43859 | F22: =(C22-B22)+(E22-D22) -> 0 | G22: =F22-$G$2 -> -0.325 | H22: =D22-C22 -> 0 | I22: =$H$2-H22 -> 0.03125 | J22: =G22-I22 -> -0.35625 | K22: =$H$2-H22 -> 0.03125
A23: 43860 | F23: =(C23-B23)+(E23-D23) -> 0 | G23: =F23-$G$2 -> -0.325 | H23: =D23-C23 -> 0 | I23: =$H$2-H23 -> 0.03125 | J23: =G23-I23 -> -0.35625 | K23: =$H$2-H23 -> 0.03125
A24: 43861 | F24: =(C24-B24)+(E24-D24) -> 0 | G24: =F24-$G$2 -> -0.325 | H24: =D24-C24 -> 0 | I24: =$H$2-H24 -> 0.03125 | J24: =G24-I24 -> -0.35625 | K24: =$H$2-H24 -> 0.03125
I26: Total | J26: =J3+J4-J5+J6+J7+J8+J9+J10+J11+J12+J13+J14+J16+J17+J18 -> 0.57708333 | K26: =K3+K4+K5+K6+K8+K12+K13+K14+K15+K17+K19 -> 0.042361111
G28: Heures en + sur le mois en cours | K28: =J26-K26 -> 0.53472222

Sheet Feuil3
A1: Date | B1: E | C1: S | D1: E | E1: S | F1: Tps pause | G1: Tps journée (heures) | H1: heures sup | J1: tps pause imposé | K1: 0.03125
A2: 43832 | B2: 0.34861111 | C2: 0.50625 | D2: 0.53541667 | E2: 0.76041667 | F2: =IF(D2-C2<'01.2020'!N30,K$1,D2-C2) -> 0.029166667 | G2: =IFERROR((E2-B2-F2)*24,0) -> 9.1833333 | H2: =IF(G2>K$2*24,G2-K$2*24,"-") -> 1.3833333 | J2: tps journée | K2: 0.325
A3: 43833 | B3: 0.35277778 | C3: 0.50486111 | D3: 0.53333333 | E3: 0.78125 | F3: =IF(D3-C3<'01.2020'!N31,K$1,D3-C3) -> 0.028472222 | G3: =IFERROR((E3-B3-F3)*24,0) -> 9.6 | H3: =IF(G3>K$2*24,G3-K$2*24,"-") -> 1.8
A4: 43836 | B4: 0.375 | C4: 0.53125 | D4: 0.5625 | E4: 0.72916667 | F4: =IF(D4-C4<'01.2020'!N32,K$1,D4-C4) -> 0.03125 | G4: =IFERROR((E4-B4-F4)*24,0) -> 7.75 | H4: =IF(G4>K$2*24,G4-K$2*24,"-") -> - | J4: Synthèse
A5: 43837 | B5: 0.36597222 | C5: 0.50486111 | D5: 0.52916667 | E5: 0.75 | F5: =IF(D5-C5<'01.2020'!N33,K$1,D5-C5) -> 0.024305556 | G5: =IFERROR((E5-B5-F5)*24,0) -> 8.6333333 | H5: =IF(G5>K$2*24,G5-K$2*24,"-") -> 0.83333333 | J5: Choix année | K5: 2020 | M5: TT heures | N5: =SUMIFS(G:G,A:A,">="&K8,A:A,"<"&M8) -> 137.3
A6: 43838 | B6: 0.35208333 | C6: 0.51527778 | D6: 0.56388889 | E6: 0.72916667 | F6: =IF(D6-C6<'01.2020'!N34,K$1,D6-C6) -> 0.048611111 | G6: =IFERROR((E6-B6-F6)*24,0) -> 7.8833333 | H6: =IF(G6>K$2*24,G6-K$2*24,"-") -> 0.083333333 | J6: Choix mois | K6: 43831 | M6: dont h sup | N6: =SUMIFS(H:H,A:A,">="&K8,A:A,"<"&M8) -> 14.183333
A7: 43839 | B7: 0.36041667 | C7: 0.50555556 | D7: 0.53263889 | E7: 0.77083333 | F7: =IF(D7-C7<'01.2020'!N35,K$1,D7-C7) -> 0.027083333 | G7: =IFERROR((E7-B7-F7)*24,0) -> 9.2 | H7: =IF(G7>K$2*24,G7-K$2*24,"-") -> 1.4
A8: 43840 | B8: 0.35208333 | C8: 0.50347222 | D8: 0.55208333 | E8: 0.76736111 | F8: =IF(D8-C8<'01.2020'!N36,K$1,D8-C8) -> 0.048611111 | G8: =IFERROR((E8-B8-F8)*24,0) -> 8.8 | H8: =IF(G8>K$2*24,G8-K$2*24,"-") -> 1 | J8: Interval du | K8: =DATE(K5,MONTH(K6),1) -> 43831 | L8: au | M8: =EDATE(K8,1)-1 -> 43861
A9: 43843 | B9: 0.36180556 | C9: 0.50972222 | D9: 0.55208333 | E9: 0.74652778 | F9: =IF(D9-C9<'01.2020'!N37,K$1,D9-C9) -> 0.042361111 | G9: =IFERROR((E9-B9-F9)*24,0) -> 8.2166667 | H9: =IF(G9>K$2*24,G9-K$2*24,"-") -> 0.41666667
A10: 43844 | B10: 0.36041667 | C10: 0.50555556 | D10: 0.55208333 | E10: 0.74652778 | F10: =IF(D10-C10<'01.2020'!N38,K$1,D10-C10) -> 0.046527778 | G10: =IFERROR((E10-B10-F10)*24,0) -> 8.15 | H10: =IF(G10>K$2*24,G10-K$2*24,"-") -> 0.35
A11: 43845 | B11: 0.36111111 | C11: 0.50555556 | D11: 0.53611111 | E11: 0.76041667 | F11: =IF(D11-C11<'01.2020'!N39,K$1,D11-C11) -> 0.030555556 | G11: =IFERROR((E11-B11-F11)*24,0) -> 8.85 | H11: =IF(G11>K$2*24,G11-K$2*24,"-") -> 1.05
A12: 43846 | B12: 0.36111111 | C12: 0.50833333 | D12: 0.53402778 | E12: 0.75694444 | F12: =IF(D12-C12<'01.2020'!N40,K$1,D12-C12) -> 0.025694444 | G12: =IFERROR((E12-B12-F12)*24,0) -> 8.8833333 | H12: =IF(G12>K$2*24,G12-K$2*24,"-") -> 1.0833333
A13: 43847 | B13: 0.36111111 | C13: 0.50694444 | D13: 0.5375 | E13: 0.73958333 | F13: =IF(D13-C13<'01.2020'!N41,K$1,D13-C13) -> 0.030555556 | G13: =IFERROR((E13-B13-F13)*24,0) -> 8.35 | H13: =IF(G13>K$2*24,G13-K$2*24,"-") -> 0.55
A14: 43850 | B14: Absent | F14: =IF(D14-C14<'01.2020'!N42,K$1,D14-C14) -> 0 | G14: =IFERROR((E14-B14-F14)*24,0) -> 0 | H14: =IF(G14>K$2*24,G14-K$2*24,"-") -> - | J14: 1 | K14: =DATE(K$5,J14,1) -> 43831
A15: 43851 | B15: 0.35972222 | C15: 0.51458333 | D15: 0.54722222 | E15: 0.76388889 | F15: =IF(D15-C15<'01.2020'!N43,K$1,D15-C15) -> 0.032638889 | G15: =IFERROR((E15-B15-F15)*24,0) -> 8.9166667 | H15: =IF(G15>K$2*24,G15-K$2*24,"-") -> 1.1166667 | J15: 2 | K15: =DATE(K$5,J15,1) -> 43862
A16: 43852 | B16: 0.35277778 | C16: 0.50416667 | D16: 0.53402778 | E16: 0.76180556 | F16: =IF(D16-C16<'01.2020'!N44,K$1,D16-C16) -> 0.029861111 | G16: =IFERROR((E16-B16-F16)*24,0) -> 9.1 | H16: =IF(G16>K$2*24,G16-K$2*24,"-") -> 1.3 | J16: 3 | K16: =DATE(K$5,J16,1) -> 43891
A17: 43853 | B17: 0.34444444 | C17: 0.51597222 | D17: 0.55208333 | E17: 0.73958333 | F17: =IF(D17-C17<'01.2020'!N45,K$1,D17-C17) -> 0.036111111 | G17: =IFERROR((E17-B17-F17)*24,0) -> 8.6166667 | H17: =IF(G17>K$2*24,G17-K$2*24,"-") -> 0.81666667 | J17: 4 | K17: =DATE(K$5,J17,1) -> 43922
A18: 43854 | B18: 0.35763889 | C18: 0.51388889 | D18: 0.54375 | E18: 0.69791667 | F18: =IF(D18-C18<'01.2020'!N46,K$1,D18-C18) -> 0.029861111 | G18: =IFERROR((E18-B18-F18)*24,0) -> 7.45 | H18: =IF(G18>K$2*24,G18-K$2*24,"-") -> - | J18: 5 | K18: =DATE(K$5,J18,1) -> 43952
A19: 43857 | B19: 0.36944444 | C19: 0.52083333 | D19: 0.55902778 | E19: 0.77430556 | F19: =IF(D19-C19<'01.2020'!N47,K$1,D19-C19) -> 0.038194444 | G19: =IFERROR((E19-B19-F19)*24,0) -> 8.8 | H19: =IF(G19>K$2*24,G19-K$2*24,"-") -> 1 | J19: 6 | K19: =DATE(K$5,J19,1) -> 43983
A20: 43858 | B20: 0.37847222 | F20: =IF(D20-C20<'01.2020'!N48,K$1,D20-C20) -> 0 | G20: =IFERROR((E20-B20-F20)*24,0) -> -9.0833333 | H20: =IF(G20>K$2*24,G20-K$2*24,"-") -> - | J20: 7 | K20: =DATE(K$5,J20,1) -> 44013
A21: 43859 | F21: =IF(D21-C21<'01.2020'!N49,K$1,D21-C21) -> 0 | G21: =IFERROR((E21-B21-F21)*24,0) -> 0 | H21: =IF(G21>K$2*24,G21-K$2*24,"-") -> - | J21: 8 | K21: =DATE(K$5,J21,1) -> 44044
A22: 43860 | F22: =IF(D22-C22<'01.2020'!N50,K$1,D22-C22) -> 0 | G22: =IFERROR((E22-B22-F22)*24,0) -> 0 | H22: =IF(G22>K$2*24,G22-K$2*24,"-") -> - | J22: 9 | K22: =DATE(K$5,J22,1) -> 44075
A23: 43861 | F23: =IF(D23-C23<'01.2020'!N51,K$1,D23-C23) -> 0 | G23: =IFERROR((E23-B23-F23)*24,0) -> 0 | H23: =IF(G23>K$2*24,G23-K$2*24,"-") -> - | J23: 10 | K23: =DATE(K$5,J23,1) -> 44105
J24: 11 | K24: =DATE(K$5,J24,1) -> 44136
J25: 12 | K25: =DATE(K$5,J25,1) -> 44166
