Workbook

Sheet Effectifs S+1
A1: Année | B1: Semaine
A2: 2020 | B2: 24
C5: =IF(AND(A2<>"",B2<>""),B2*7+DATE(A2,1,1)-WEEKDAY(DATE(A2,1,1))-5,"") -> 43990 | D5: =IF(C5<>"",C5+1,"") -> 43991 | E5: =IF(D5<>"",D5+1,"") -> 43992 | F5: =IF(E5<>"",E5+1,"") -> 43993 | G5: =IF(F5<>"",F5+1,"") -> 43994 | H5: =IF(G5<>"",G5+1,"") -> 43995 | I5: =IF(H5<>"",H5+1,"") -> 43996
A6: M | B6: Statutaires | C6: 1 | D6: 1 | E6: 1 | F6: 1 | G6: 1 | H6: 1 | I6: 1
B7: Int Opé
B8: Restrictions
B9: Aides UP
B10: Techniciens
A11: AM | B11: Statutaires
B12: Int Opé
B13: Restrictions
B14: Aides UP
B15: Techniciens
A16: N | B16: Statutaires
B17: Int Opé
B18: Restrictions
B19: Aides UP
B20: Techniciens

Sheet Sources
B3: Année | D3: Semaine
B4: 2020 | D4: 1
B5: 2021 | D5: 2
B6: 2022 | D6: 3
B7: 2023 | D7: 4
B8: 2024 | D8: 5
B9: 2025 | D9: 6
B10: 2026 | D10: 7
B11: 2027 | D11: 8
B12: 2028 | D12: 9
B13: 2029 | D13: 10
B14: 2030 | D14: 11
D15: 12
D16: 13
D17: 14
D18: 15
D19: 16
D20: 17
D21: 18
D22: 19
D23: 20
D24: 21
D25: 22
D26: 23
... D55: 52

Sheet Calendrier
AI1: 2020 | AJ1: 28 | AL1: =AJ1*7+DATE(AI1,1,1)-WEEKDAY(DATE(AI1,1,1))-5 -> 44018
D4: =DATE(YEAR(AL1),MONTH(AL1),1) -> 44013 | E4: =IF(MONTH(D4+1)=MONTH(D4),D4+1,"") -> 44014 | F4: =IF(MONTH(E4+1)=MONTH(E4),E4+1,"") -> 44015 | G4: =IF(MONTH(F4+1)=MONTH(F4),F4+1,"") -> 44016 | H4: =IF(MONTH(G4+1)=MONTH(G4),G4+1,"") -> 44017 | I4: =IF(MONTH(H4+1)=MONTH(H4),H4+1,"") -> 44018 | J4: =IF(MONTH(I4+1)=MONTH(I4),I4+1,"") -> 44019 | K4: =IF(MONTH(J4+1)=MONTH(J4),J4+1,"") -> 44020 | L4: =IF(MONTH(K4+1)=MONTH(K4),K4+1,"") -> 44021 | ... AH4: =IF(MONTH(AG4+1)=MONTH(AG4),AG4+1,"") -> 44043
A5: M | B5: M | C5: Statutaires | D5: =IFERROR(VLOOKUP(CONCATENATE(D$4,$B5,$C5),Base!$A:$E,5,FALSE),"") -> 1 | E5: =IFERROR(VLOOKUP(CONCATENATE(E$4,$B5,$C5),Base!$A:$E,5,FALSE),"") -> 3 | F5: =IFERROR(VLOOKUP(CONCATENATE(F$4,$B5,$C5),Base!$A:$E,5,FALSE),"") | G5: =IFERROR(VLOOKUP(CONCATENATE(G$4,$B5,$C5),Base!$A:$E,5,FALSE),"") | H5: =IFERROR(VLOOKUP(CONCATENATE(H$4,$B5,$C5),Base!$A:$E,5,FALSE),"") | I5: =IFERROR(VLOOKUP(CONCATENATE(I$4,$B5,$C5),Base!$A:$E,5,FALSE),"") | J5: =IFERROR(VLOOKUP(CONCATENATE(J$4,$B5,$C5),Base!$A:$E,5,FALSE),"") | K5: =IFERROR(VLOOKUP(CONCATENATE(K$4,$B5,$C5),Base!$A:$E,5,FALSE),"") | ... AH5: =IFERROR(VLOOKUP(CONCATENATE(AH$4,$B5,$C5),Base!$A:$E,5,FALSE),"")
B6: M | C6: Int Opé | D6: =IFERROR(VLOOKUP(CONCATENATE(D$4,$B6,$C6),Base!$A:$E,5,FALSE),"") -> 1 | E6: =IFERROR(VLOOKUP(CONCATENATE(E$4,$B6,$C6),Base!$A:$E,5,FALSE),"") -> 3 | F6: =IFERROR(VLOOKUP(CONCATENATE(F$4,$B6,$C6),Base!$A:$E,5,FALSE),"") | G6: =IFERROR(VLOOKUP(CONCATENATE(G$4,$B6,$C6),Base!$A:$E,5,FALSE),"") | H6: =IFERROR(VLOOKUP(CONCATENATE(H$4,$B6,$C6),Base!$A:$E,5,FALSE),"") | I6: =IFERROR(VLOOKUP(CONCATENATE(I$4,$B6,$C6),Base!$A:$E,5,FALSE),"") | J6: =IFERROR(VLOOKUP(CONCATENATE(J$4,$B6,$C6),Base!$A:$E,5,FALSE),"") | K6: =IFERROR(VLOOKUP(CONCATENATE(K$4,$B6,$C6),Base!$A:$E,5,FALSE),"") | ... AH6: =IFERROR(VLOOKUP(CONCATENATE(AH$4,$B6,$C6),Base!$A:$E,5,FALSE),"")
B7: M | C7: Restrictions | D7: =IFERROR(VLOOKUP(CONCATENATE(D$4,$B7,$C7),Base!$A:$E,5,FALSE),"") -> 0 | E7: =IFERROR(VLOOKUP(CONCATENATE(E$4,$B7,$C7),Base!$A:$E,5,FALSE),"") -> 2 | F7: =IFERROR(VLOOKUP(CONCATENATE(F$4,$B7,$C7),Base!$A:$E,5,FALSE),"") | G7: =IFERROR(VLOOKUP(CONCATENATE(G$4,$B7,$C7),Base!$A:$E,5,FALSE),"") | H7: =IFERROR(VLOOKUP(CONCATENATE(H$4,$B7,$C7),Base!$A:$E,5,FALSE),"") | I7: =IFERROR(VLOOKUP(CONCATENATE(I$4,$B7,$C7),Base!$A:$E,5,FALSE),"") | J7: =IFERROR(VLOOKUP(CONCATENATE(J$4,$B7,$C7),Base!$A:$E,5,FALSE),"") | K7: =IFERROR(VLOOKUP(CONCATENATE(K$4,$B7,$C7),Base!$A:$E,5,FALSE),"") | ... AH7: =IFERROR(VLOOKUP(CONCATENATE(AH$4,$B7,$C7),Base!$A:$E,5,FALSE),"")
B8: M | C8: Aides UP | D8: =IFERROR(VLOOKUP(CONCATENATE(D$4,$B8,$C8),Base!$A:$E,5,FALSE),"") -> 2 | E8: =IFERROR(VLOOKUP(CONCATENATE(E$4,$B8,$C8),Base!$A:$E,5,FALSE),"") -> 1 | F8: =IFERROR(VLOOKUP(CONCATENATE(F$4,$B8,$C8),Base!$A:$E,5,FALSE),"") | G8: =IFERROR(VLOOKUP(CONCATENATE(G$4,$B8,$C8),Base!$A:$E,5,FALSE),"") | H8: =IFERROR(VLOOKUP(CONCATENATE(H$4,$B8,$C8),Base!$A:$E,5,FALSE),"") | I8: =IFERROR(VLOOKUP(CONCATENATE(I$4,$B8,$C8),Base!$A:$E,5,FALSE),"") | J8: =IFERROR(VLOOKUP(CONCATENATE(J$4,$B8,$C8),Base!$A:$E,5,FALSE),"") | K8: =IFERROR(VLOOKUP(CONCATENATE(K$4,$B8,$C8),Base!$A:$E,5,FALSE),"") | ... AH8: =IFERROR(VLOOKUP(CONCATENATE(AH$4,$B8,$C8),Base!$A:$E,5,FALSE),"")
B9: M | C9: Techniciens | D9: =IFERROR(VLOOKUP(CONCATENATE(D$4,$B9,$C9),Base!$A:$E,5,FALSE),"") -> 1 | E9: =IFERROR(VLOOKUP(CONCATENATE(E$4,$B9,$C9),Base!$A:$E,5,FALSE),"") -> 0 | F9: =IFERROR(VLOOKUP(CONCATENATE(F$4,$B9,$C9),Base!$A:$E,5,FALSE),"") | G9: =IFERROR(VLOOKUP(CONCATENATE(G$4,$B9,$C9),Base!$A:$E,5,FALSE),"") | H9: =IFERROR(VLOOKUP(CONCATENATE(H$4,$B9,$C9),Base!$A:$E,5,FALSE),"") | I9: =IFERROR(VLOOKUP(CONCATENATE(I$4,$B9,$C9),Base!$A:$E,5,FALSE),"") | J9: =IFERROR(VLOOKUP(CONCATENATE(J$4,$B9,$C9),Base!$A:$E,5,FALSE),"") | K9: =IFERROR(VLOOKUP(CONCATENATE(K$4,$B9,$C9),Base!$A:$E,5,FALSE),"") | ... AH9: =IFERROR(VLOOKUP(CONCATENATE(AH$4,$B9,$C9),Base!$A:$E,5,FALSE),"")
A10: AM | B10: AM | C10: Statutaires | D10: =IFERROR(VLOOKUP(CONCATENATE(D$4,$B10,$C10),Base!$A:$E,5,FALSE),"") -> 2 | E10: =IFERROR(VLOOKUP(CONCATENATE(E$4,$B10,$C10),Base!$A:$E,5,FALSE),"") -> 0 | F10: =IFERROR(VLOOKUP(CONCATENATE(F$4,$B10,$C10),Base!$A:$E,5,FALSE),"") | G10: =IFERROR(VLOOKUP(CONCATENATE(G$4,$B10,$C10),Base!$A:$E,5,FALSE),"") | H10: =IFERROR(VLOOKUP(CONCATENATE(H$4,$B10,$C10),Base!$A:$E,5,FALSE),"") | I10: =IFERROR(VLOOKUP(CONCATENATE(I$4,$B10,$C10),Base!$A:$E,5,FALSE),"") | J10: =IFERROR(VLOOKUP(CONCATENATE(J$4,$B10,$C10),Base!$A:$E,5,FALSE),"") | K10: =IFERROR(VLOOKUP(CONCATENATE(K$4,$B10,$C10),Base!$A:$E,5,FALSE),"") | ... AH10: =IFERROR(VLOOKUP(CONCATENATE(AH$4,$B10,$C10),Base!$A:$E,5,FALSE),"")
B11: AM | C11: Int Opé | D11: =IFERROR(VLOOKUP(CONCATENATE(D$4,$B11,$C11),Base!$A:$E,5,FALSE),"") -> 3 | E11: =IFERROR(VLOOKUP(CONCATENATE(E$4,$B11,$C11),Base!$A:$E,5,FALSE),"") -> 2 | F11: =IFERROR(VLOOKUP(CONCATENATE(F$4,$B11,$C11),Base!$A:$E,5,FALSE),"") | G11: =IFERROR(VLOOKUP(CONCATENATE(G$4,$B11,$C11),Base!$A:$E,5,FALSE),"") | H11: =IFERROR(VLOOKUP(CONCATENATE(H$4,$B11,$C11),Base!$A:$E,5,FALSE),"") | I11: =IFERROR(VLOOKUP(CONCATENATE(I$4,$B11,$C11),Base!$A:$E,5,FALSE),"") | J11: =IFERROR(VLOOKUP(CONCATENATE(J$4,$B11,$C11),Base!$A:$E,5,FALSE),"") | K11: =IFERROR(VLOOKUP(CONCATENATE(K$4,$B11,$C11),Base!$A:$E,5,FALSE),"") | ... AH11: =IFERROR(VLOOKUP(CONCATENATE(AH$4,$B11,$C11),Base!$A:$E,5,FALSE),"")
B12: AM | C12: Restrictions | D12: =IFERROR(VLOOKUP(CONCATENATE(D$4,$B12,$C12),Base!$A:$E,5,FALSE),"") -> 1 | E12: =IFERROR(VLOOKUP(CONCATENATE(E$4,$B12,$C12),Base!$A:$E,5,FALSE),"") -> 2 | F12: =IFERROR(VLOOKUP(CONCATENATE(F$4,$B12,$C12),Base!$A:$E,5,FALSE),"") | G12: =IFERROR(VLOOKUP(CONCATENATE(G$4,$B12,$C12),Base!$A:$E,5,FALSE),"") | H12: =IFERROR(VLOOKUP(CONCATENATE(H$4,$B12,$C12),Base!$A:$E,5,FALSE),"") | I12: =IFERROR(VLOOKUP(CONCATENATE(I$4,$B12,$C12),Base!$A:$E,5,FALSE),"") | J12: =IFERROR(VLOOKUP(CONCATENATE(J$4,$B12,$C12),Base!$A:$E,5,FALSE),"") | K12: =IFERROR(VLOOKUP(CONCATENATE(K$4,$B12,$C12),Base!$A:$E,5,FALSE),"") | ... AH12: =IFERROR(VLOOKUP(CONCATENATE(AH$4,$B12,$C12),Base!$A:$E,5,FALSE),"")
B13: AM | C13: Aides UP | D13: =IFERROR(VLOOKUP(CONCATENATE(D$4,$B13,$C13),Base!$A:$E,5,FALSE),"") -> 0 | E13: =IFERROR(VLOOKUP(CONCATENATE(E$4,$B13,$C13),Base!$A:$E,5,FALSE),"") -> 2 | F13: =IFERROR(VLOOKUP(CONCATENATE(F$4,$B13,$C13),Base!$A:$E,5,FALSE),"") | G13: =IFERROR(VLOOKUP(CONCATENATE(G$4,$B13,$C13),Base!$A:$E,5,FALSE),"") | H13: =IFERROR(VLOOKUP(CONCATENATE(H$4,$B13,$C13),Base!$A:$E,5,FALSE),"") | I13: =IFERROR(VLOOKUP(CONCATENATE(I$4,$B13,$C13),Base!$A:$E,5,FALSE),"") | J13: =IFERROR(VLOOKUP(CONCATENATE(J$4,$B13,$C13),Base!$A:$E,5,FALSE),"") | K13: =IFERROR(VLOOKUP(CONCATENATE(K$4,$B13,$C13),Base!$A:$E,5,FALSE),"") | ... AH13: =IFERROR(VLOOKUP(CONCATENATE(AH$4,$B13,$C13),Base!$A:$E,5,FALSE),"")
B14: AM | C14: Techniciens | D14: =IFERROR(VLOOKUP(CONCATENATE(D$4,$B14,$C14),Base!$A:$E,5,FALSE),"") -> 0 | E14: =IFERROR(VLOOKUP(CONCATENATE(E$4,$B14,$C14),Base!$A:$E,5,FALSE),"") -> 0 | F14: =IFERROR(VLOOKUP(CONCATENATE(F$4,$B14,$C14),Base!$A:$E,5,FALSE),"") | G14: =IFERROR(VLOOKUP(CONCATENATE(G$4,$B14,$C14),Base!$A:$E,5,FALSE),"") | H14: =IFERROR(VLOOKUP(CONCATENATE(H$4,$B14,$C14),Base!$A:$E,5,FALSE),"") | I14: =IFERROR(VLOOKUP(CONCATENATE(I$4,$B14,$C14),Base!$A:$E,5,FALSE),"") | J14: =IFERROR(VLOOKUP(CONCATENATE(J$4,$B14,$C14),Base!$A:$E,5,FALSE),"") | K14: =IFERROR(VLOOKUP(CONCATENATE(K$4,$B14,$C14),Base!$A:$E,5,FALSE),"") | ... AH14: =IFERROR(VLOOKUP(CONCATENATE(AH$4,$B14,$C14),Base!$A:$E,5,FALSE),"")
A15: N | B15: N | C15: Statutaires | D15: =IFERROR(VLOOKUP(CONCATENATE(D$4,$B15,$C15),Base!$A:$E,5,FALSE),"") -> 0 | E15: =IFERROR(VLOOKUP(CONCATENATE(E$4,$B15,$C15),Base!$A:$E,5,FALSE),"") -> 0 | F15: =IFERROR(VLOOKUP(CONCATENATE(F$4,$B15,$C15),Base!$A:$E,5,FALSE),"") | G15: =IFERROR(VLOOKUP(CONCATENATE(G$4,$B15,$C15),Base!$A:$E,5,FALSE),"") | H15: =IFERROR(VLOOKUP(CONCATENATE(H$4,$B15,$C15),Base!$A:$E,5,FALSE),"") | I15: =IFERROR(VLOOKUP(CONCATENATE(I$4,$B15,$C15),Base!$A:$E,5,FALSE),"") | J15: =IFERROR(VLOOKUP(CONCATENATE(J$4,$B15,$C15),Base!$A:$E,5,FALSE),"") | K15: =IFERROR(VLOOKUP(CONCATENATE(K$4,$B15,$C15),Base!$A:$E,5,FALSE),"") | ... AH15: =IFERROR(VLOOKUP(CONCATENATE(AH$4,$B15,$C15),Base!$A:$E,5,FALSE),"")
B16: N | C16: Int Opé | D16: =IFERROR(VLOOKUP(CONCATENATE(D$4,$B16,$C16),Base!$A:$E,5,FALSE),"") -> 0 | E16: =IFERROR(VLOOKUP(CONCATENATE(E$4,$B16,$C16),Base!$A:$E,5,FALSE),"") -> 0 | F16: =IFERROR(VLOOKUP(CONCATENATE(F$4,$B16,$C16),Base!$A:$E,5,FALSE),"") | G16: =IFERROR(VLOOKUP(CONCATENATE(G$4,$B16,$C16),Base!$A:$E,5,FALSE),"") | H16: =IFERROR(VLOOKUP(CONCATENATE(H$4,$B16,$C16),Base!$A:$E,5,FALSE),"") | I16: =IFERROR(VLOOKUP(CONCATENATE(I$4,$B16,$C16),Base!$A:$E,5,FALSE),"") | J16: =IFERROR(VLOOKUP(CONCATENATE(J$4,$B16,$C16),Base!$A:$E,5,FALSE),"") | K16: =IFERROR(VLOOKUP(CONCATENATE(K$4,$B16,$C16),Base!$A:$E,5,FALSE),"") | ... AH16: =IFERROR(VLOOKUP(CONCATENATE(AH$4,$B16,$C16),Base!$A:$E,5,FALSE),"")
B17: N | C17: Restrictions | D17: =IFERROR(VLOOKUP(CONCATENATE(D$4,$B17,$C17),Base!$A:$E,5,FALSE),"") -> 1 | E17: =IFERROR(VLOOKUP(CONCATENATE(E$4,$B17,$C17),Base!$A:$E,5,FALSE),"") -> 4 | F17: =IFERROR(VLOOKUP(CONCATENATE(F$4,$B17,$C17),Base!$A:$E,5,FALSE),"") | G17: =IFERROR(VLOOKUP(CONCATENATE(G$4,$B17,$C17),Base!$A:$E,5,FALSE),"") | H17: =IFERROR(VLOOKUP(CONCATENATE(H$4,$B17,$C17),Base!$A:$E,5,FALSE),"") | I17: =IFERROR(VLOOKUP(CONCATENATE(I$4,$B17,$C17),Base!$A:$E,5,FALSE),"") | J17: =IFERROR(VLOOKUP(CONCATENATE(J$4,$B17,$C17),Base!$A:$E,5,FALSE),"") | K17: =IFERROR(VLOOKUP(CONCATENATE(K$4,$B17,$C17),Base!$A:$E,5,FALSE),"") | ... AH17: =IFERROR(VLOOKUP(CONCATENATE(AH$4,$B17,$C17),Base!$A:$E,5,FALSE),"")
B18: N | C18: Aides UP | D18: =IFERROR(VLOOKUP(CONCATENATE(D$4,$B18,$C18),Base!$A:$E,5,FALSE),"") -> 1 | E18: =IFERROR(VLOOKUP(CONCATENATE(E$4,$B18,$C18),Base!$A:$E,5,FALSE),"") -> 4 | F18: =IFERROR(VLOOKUP(CONCATENATE(F$4,$B18,$C18),Base!$A:$E,5,FALSE),"") | G18: =IFERROR(VLOOKUP(CONCATENATE(G$4,$B18,$C18),Base!$A:$E,5,FALSE),"") | H18: =IFERROR(VLOOKUP(CONCATENATE(H$4,$B18,$C18),Base!$A:$E,5,FALSE),"") | I18: =IFERROR(VLOOKUP(CONCATENATE(I$4,$B18,$C18),Base!$A:$E,5,FALSE),"") | J18: =IFERROR(VLOOKUP(CONCATENATE(J$4,$B18,$C18),Base!$A:$E,5,FALSE),"") | K18: =IFERROR(VLOOKUP(CONCATENATE(K$4,$B18,$C18),Base!$A:$E,5,FALSE),"") | ... AH18: =IFERROR(VLOOKUP(CONCATENATE(AH$4,$B18,$C18),Base!$A:$E,5,FALSE),"")
B19: N | C19: Techniciens | D19: =IFERROR(VLOOKUP(CONCATENATE(D$4,$B19,$C19),Base!$A:$E,5,FALSE),"") -> 1 | E19: =IFERROR(VLOOKUP(CONCATENATE(E$4,$B19,$C19),Base!$A:$E,5,FALSE),"") -> 5 | F19: =IFERROR(VLOOKUP(CONCATENATE(F$4,$B19,$C19),Base!$A:$E,5,FALSE),"") | G19: =IFERROR(VLOOKUP(CONCATENATE(G$4,$B19,$C19),Base!$A:$E,5,FALSE),"") | H19: =IFERROR(VLOOKUP(CONCATENATE(H$4,$B19,$C19),Base!$A:$E,5,FALSE),"") | I19: =IFERROR(VLOOKUP(CONCATENATE(I$4,$B19,$C19),Base!$A:$E,5,FALSE),"") | J19: =IFERROR(VLOOKUP(CONCATENATE(J$4,$B19,$C19),Base!$A:$E,5,FALSE),"") | K19: =IFERROR(VLOOKUP(CONCATENATE(K$4,$B19,$C19),Base!$A:$E,5,FALSE),"") | ... AH19: =IFERROR(VLOOKUP(CONCATENATE(AH$4,$B19,$C19),Base!$A:$E,5,FALSE),"")

Sheet Base
A1: =CONCATENATE(B1,C1,D1) -> 44013MStatutaires | B1: 44013 | C1: M | D1: Statutaires | E1: 1
A2: =CONCATENATE(B2,C2,D2) -> 44013MInt Opé | B2: 44013 | C2: M | D2: Int Opé | E2: 1
A3: =CONCATENATE(B3,C3,D3) -> 44013MRestrictions | B3: 44013 | C3: M | D3: Restrictions | E3: 0
A4: =CONCATENATE(B4,C4,D4) -> 44013MAides UP | B4: 44013 | C4: M | D4: Aides UP | E4: 2
A5: =CONCATENATE(B5,C5,D5) -> 44013MTechniciens | B5: 44013 | C5: M | D5: Techniciens | E5: 1
A6: =CONCATENATE(B6,C6,D6) -> 44013AMStatutaires | B6: 44013 | C6: AM | D6: Statutaires | E6: 2
A7: =CONCATENATE(B7,C7,D7) -> 44013AMInt Opé | B7: 44013 | C7: AM | D7: Int Opé | E7: 3
A8: =CONCATENATE(B8,C8,D8) -> 44013AmRestrictions | B8: 44013 | C8: Am | D8: Restrictions | E8: 1
A9: =CONCATENATE(B9,C9,D9) -> 44013AMAides UP | B9: 44013 | C9: AM | D9: Aides UP | E9: 0
A10: =CONCATENATE(B10,C10,D10) -> 44013AMTechniciens | B10: 44013 | C10: AM | D10: Techniciens | E10: 0
A11: =CONCATENATE(B11,C11,D11) -> 44013NStatutaires | B11: 44013 | C11: N | D11: Statutaires | E11: 0
A12: =CONCATENATE(B12,C12,D12) -> 44013NInt Opé | B12: 44013 | C12: N | D12: Int Opé | E12: 0
... A30: =CONCATENATE(B30,C30,D30) -> 44014NTechniciens | B30: 44014 | C30: N | D30: Techniciens | E30: 5
