Workbook

Sheet Feuil3
A1: Nom | B1: Modif par | C1: Modif le | D1: Meuble
A2: Magasin 1 | B2: Jean | C2: 43676 | D2: Meuble 1 | F2: =IF(A2=Feuil1!A$2,1,0) -> 0 | G2: =IF(AND(F2=1,J2<>"N/A"),1,0) -> 0 | H2: =IF(G2=1,MAX(H1:H$2)+G2,0) -> 0 | I2: =IF(F2=1,C2,"N/A") -> N/A | J2: =IF(I2=Feuil1!A$5,Feuil3!D2,"N/A") -> N/A
A3: Magasin 1 | B3: Jean | C3: 43671 | D3: Meuble 3 | F3: =IF(A3=Feuil1!A$2,1,0) -> 0 | G3: =IF(AND(F3=1,J3<>"N/A"),1,0) -> 0 | H3: =IF(G3=1,MAX(H$2:H2)+G3,0) -> 0 | I3: =IF(F3=1,C3,"N/A") -> N/A | J3: =IF(I3=Feuil1!A$5,Feuil3!D3,"N/A") -> N/A
A4: Magasin 1 | B4: Jacques | C4: 43676 | D4: Meuble 3 | F4: =IF(A4=Feuil1!A$2,1,0) -> 0 | G4: =IF(AND(F4=1,J4<>"N/A"),1,0) -> 0 | H4: =IF(G4=1,MAX(H$2:H3)+G4,0) -> 0 | I4: =IF(F4=1,C4,"N/A") -> N/A | J4: =IF(I4=Feuil1!A$5,Feuil3!D4,"N/A") -> N/A
A5: Magasin 1 | B5: Pierre | C5: 43672 | D5: Meuble 3 | F5: =IF(A5=Feuil1!A$2,1,0) -> 0 | G5: =IF(AND(F5=1,J5<>"N/A"),1,0) -> 0 | H5: =IF(G5=1,MAX(H$2:H4)+G5,0) -> 0 | I5: =IF(F5=1,C5,"N/A") -> N/A | J5: =IF(I5=Feuil1!A$5,Feuil3!D5,"N/A") -> N/A
A6: Magasin 1 | B6: Pierre | C6: 43676 | D6: Meuble2 | F6: =IF(A6=Feuil1!A$2,1,0) -> 0 | G6: =IF(AND(F6=1,J6<>"N/A"),1,0) -> 0 | H6: =IF(G6=1,MAX(H$2:H5)+G6,0) -> 0 | I6: =IF(F6=1,C6,"N/A") -> N/A | J6: =IF(I6=Feuil1!A$5,Feuil3!D6,"N/A") -> N/A
A7: Magasin 1 | B7: Paul | C7: 43672 | D7: Meuble2 | F7: =IF(A7=Feuil1!A$2,1,0) -> 0 | G7: =IF(AND(F7=1,J7<>"N/A"),1,0) -> 0 | H7: =IF(G7=1,MAX(H$2:H6)+G7,0) -> 0 | I7: =IF(F7=1,C7,"N/A") -> N/A | J7: =IF(I7=Feuil1!A$5,Feuil3!D7,"N/A") -> N/A
A8: Magasin 1 | B8: Jean | C8: 43682 | D8: Meuble2 | F8: =IF(A8=Feuil1!A$2,1,0) -> 0 | G8: =IF(AND(F8=1,J8<>"N/A"),1,0) -> 0 | H8: =IF(G8=1,MAX(H$2:H7)+G8,0) -> 0 | I8: =IF(F8=1,C8,"N/A") -> N/A | J8: =IF(I8=Feuil1!A$5,Feuil3!D8,"N/A") -> N/A
A9: Magasin 1 | B9: Jacques | C9: 43682 | D9: Meuble2 | F9: =IF(A9=Feuil1!A$2,1,0) -> 0 | G9: =IF(AND(F9=1,J9<>"N/A"),1,0) -> 0 | H9: =IF(G9=1,MAX(H$2:H8)+G9,0) -> 0 | I9: =IF(F9=1,C9,"N/A") -> N/A | J9: =IF(I9=Feuil1!A$5,Feuil3!D9,"N/A") -> N/A
A10: Magasin 1 | B10: Jacques | C10: 43682 | D10: Meuble 1 | F10: =IF(A10=Feuil1!A$2,1,0) -> 0 | G10: =IF(AND(F10=1,J10<>"N/A"),1,0) -> 0 | H10: =IF(G10=1,MAX(H$2:H9)+G10,0) -> 0 | I10: =IF(F10=1,C10,"N/A") -> N/A | J10: =IF(I10=Feuil1!A$5,Feuil3!D10,"N/A") -> N/A
A11: Magasin 1 | B11: Pierre | C11: 43682 | D11: Meuble 1 | F11: =IF(A11=Feuil1!A$2,1,0) -> 0 | G11: =IF(AND(F11=1,J11<>"N/A"),1,0) -> 0 | H11: =IF(G11=1,MAX(H$2:H10)+G11,0) -> 0 | I11: =IF(F11=1,C11,"N/A") -> N/A | J11: =IF(I11=Feuil1!A$5,Feuil3!D11,"N/A") -> N/A
A12: Magasin 1 | B12: Paul | C12: 43671 | D12: Meuble 1 | F12: =IF(A12=Feuil1!A$2,1,0) -> 0 | G12: =IF(AND(F12=1,J12<>"N/A"),1,0) -> 0 | H12: =IF(G12=1,MAX(H$2:H11)+G12,0) -> 0 | I12: =IF(F12=1,C12,"N/A") -> N/A | J12: =IF(I12=Feuil1!A$5,Feuil3!D12,"N/A") -> N/A
A13: Magasin 1 | B13: Jean | C13: 43676 | D13: Meuble 1 | F13: =IF(A13=Feuil1!A$2,1,0) -> 0 | G13: =IF(AND(F13=1,J13<>"N/A"),1,0) -> 0 | H13: =IF(G13=1,MAX(H$2:H12)+G13,0) -> 0 | I13: =IF(F13=1,C13,"N/A") -> N/A | J13: =IF(I13=Feuil1!A$5,Feuil3!D13,"N/A") -> N/A
A14: Magasin 1 | B14: Jean | C14: 43671 | D14: Meuble 3 | F14: =IF(A14=Feuil1!A$2,1,0) -> 0 | G14: =IF(AND(F14=1,J14<>"N/A"),1,0) -> 0 | H14: =IF(G14=1,MAX(H$2:H13)+G14,0) -> 0 | I14: =IF(F14=1,C14,"N/A") -> N/A | J14: =IF(I14=Feuil1!A$5,Feuil3!D14,"N/A") -> N/A
... A324: Magasin 9 | B324: Jean | C324: 43682 | D324: Meuble2 | F324: =IF(A324=Feuil1!A$2,1,0) -> 0 | G324: =IF(AND(F324=1,J324<>"N/A"),1,0) -> 0 | H324: =IF(G324=1,MAX(H$2:H323)+G324,0) -> 0 | I324: =IF(F324=1,C324,"N/A") -> N/A | J324: =IF(I324=Feuil1!A$5,Feuil3!D324,"N/A") -> N/A

Sheet Feuil1
A1: Choix magasin
A2: Magasin 8
A4: Date Max | B4: Nb résultats
A5: =MAX(Feuil3!I2:I324) -> 43682 | B5: =COUNTIF(Feuil3!I2:I324,Feuil1!A5) -> 8
A7: N° | B7: Résultats
A8: 1 | B8: =IFERROR(VLOOKUP(Feuil1!A8,Feuil3!H:J,3,FALSE),"") -> Meuble2
A9: 2 | B9: =IFERROR(VLOOKUP(Feuil1!A9,Feuil3!H:J,3,FALSE),"") -> Meuble2
A10: 3 | B10: =IFERROR(VLOOKUP(Feuil1!A10,Feuil3!H:J,3,FALSE),"") -> Meuble 1
A11: 4 | B11: =IFERROR(VLOOKUP(Feuil1!A11,Feuil3!H:J,3,FALSE),"") -> Meuble 1
A12: 5 | B12: =IFERROR(VLOOKUP(Feuil1!A12,Feuil3!H:J,3,FALSE),"") -> Meuble2
A13: 6 | B13: =IFERROR(VLOOKUP(Feuil1!A13,Feuil3!H:J,3,FALSE),"") -> Meuble2
A14: 7 | B14: =IFERROR(VLOOKUP(Feuil1!A14,Feuil3!H:J,3,FALSE),"") -> Meuble 1
A15: 8 | B15: =IFERROR(VLOOKUP(Feuil1!A15,Feuil3!H:J,3,FALSE),"") -> Meuble 1
A16: 9 | B16: =IFERROR(VLOOKUP(Feuil1!A16,Feuil3!H:J,3,FALSE),"")
A17: 10 | B17: =IFERROR(VLOOKUP(Feuil1!A17,Feuil3!H:J,3,FALSE),"")
A18: 11 | B18: =IFERROR(VLOOKUP(Feuil1!A18,Feuil3!H:J,3,FALSE),"")
A19: 12 | B19: =IFERROR(VLOOKUP(Feuil1!A19,Feuil3!H:J,3,FALSE),"")
... A57: 50 | B57: =IFERROR(VLOOKUP(Feuil1!A57,Feuil3!H:J,3,FALSE),"")
