Workbook

Sheet base de données
A1: NAV ATHIS 2
A2: NAV CHAULNES
A3: NAV CLERMONT | G3: tournéee | K3: periode | Q3: tournée
A4: NAV DIJON | C4: chauffeurs | G4: tournéee | H4: nombre d heures sur la tournée | I4: fin de poste | L4: debut de | M4: fin de | Q4: NAV ATHIS 2
A5: NAV LANGRES | C5: c1 | F5: NAV ATHIS 2 | G5: A | H5: 0.20833333 | I5: 0.125 | K5: p1 | L5: 43466 | M5: 43492 | Q5: NAV CHATEAUBOUR
A6: NAV LILLE | C6: c2 | F6: NAV CHAULNES | G6: B | H6: 0 | I6: 0 | K6: p2 | L6: 43493 | M6: 43520 | Q6: NAV CHAULNES
A7: NAV NIORT | C7: c3 | F7: NAV CLERMONT | G7: C | H7: 0 | I7: 0 | K7: p3 | L7: 43521 | M7: 43548 | Q7: NAV CLERMONT
A8: NAV ST SEVER | C8: c4 | F8: NAV DIJON | G8: D | H8: 0 | I8: 0 | K8: p4 | L8: 43549 | M8: 43576 | Q8: NAV DIJON
A9: NAV VELAINES | C9: c5 | F9: NAV LANGRES | G9: E | H9: 0 | I9: 0 | K9: p5 | L9: 43577 | M9: 43604 | Q9: NAV LANGRES
A10: RAM + NANTES 21H | C10: c6 | F10: NAV LILLE | G10: F | H10: 0 | I10: 0 | K10: p6 | L10: 43605 | M10: 43632 | Q10: NAV LILLE
A11: VENDEE | C11: c7 | F11: NAV NIORT | G11: G | H11: 0 | I11: 0 | K11: p7 | L11: 43633 | M11: 43660 | Q11: NAV NIORT
A12: RAM + 21h30 TOURS | C12: c8 | F12: NAV ST SEVER | G12: H | H12: 0 | I12: 0 | K12: p8 | L12: 43661 | M12: 43688 | Q12: NAV ST SEVER
A13: RAM + ANGERS 21H30 | C13: c9 | F13: NAV VELAINES | G13: I | H13: 0 | I13: 0 | K13: p9 | L13: 43689 | M13: 8/09/2019 | Q13: NAV VELAINES
A14: RAM + ATHIS 1 | C14: c10 | F14: RAM + NANTES 21H | G14: J | H14: 0 | I14: 0 | K14: p10 | L14: 43717 | M14: 43744 | Q14: RAM + NANTES 21H
A15: RAM + CAEN 21H15 | C15: c11 | F15: VENDEE | G15: K | H15: 0 | I15: 0 | K15: p11 | L15: 43745 | M15: 43772 | Q15: RAM + 20H TOURS
A16: RAM + NANTES 1 | C16: c12 | F16: RAM + 21h30 TOURS | G16: L | H16: 0 | I16: 0 | K16: p12 | L16: 43773 | M16: 43799 | Q16: RAM + 21h30 TOURS
A17: RAM + ORLEANS 21H | C17: c13 | F17: RAM + ANGERS 21H30 | G17: M | H17: 0 | I17: 0 | K17: p13 | L17: 43800 | M17: 43828 | Q17: RAM + ANGERS 21H30
A18: NAV CHATEAUBOUR | C18: c14 | F18: RAM + ATHIS 1 | G18: N | H18: 0 | I18: 0 | Q18: RAM + ATHIS 1
A19: RAM 14H00 | C19: c15 | F19: RAM + CAEN 21H15 | G19: O | H19: 0 | I19: 0 | Q19: RAM + CAEN 21H15
A20: RAM MALO + LAVAL | C20: c16 | F20: RAM + NANTES 1 | G20: P | H20: 0 | I20: 0 | Q20: RAM + NANTES 1
A21: RAM + 20H TOURS | C21: c17 | F21: RAM + ORLEANS 21H | G21: Q | H21: 0 | I21: 0 | Q21: RAM + ORLEANS 21H
C22: c18 | F22: NAV CHATEAUBOUR | G22: R | H22: 0 | I22: 0 | Q22: RAM 14H00
A23: ROUEN + BASES | C23: c19 | F23: RAM 14H00 | G23: S | H23: 0 | I23: 0 | Q23: AGEN
A24: SU IFS + BASES | C24: c20 | F24: RAM MALO + LAVAL | G24: T | H24: 0 | I24: 0 | Q24: AGEN DIM
A25: NAV NIORT 21H15 | C25: c21 | F25: RAM + 20H TOURS | G25: U | H25: 0 | I25: 0 | Q25: AMILLY / SENS
C26: c22 | G26: V | H26: 0 | I26: 0 | Q26: JACQUET SA
C27: c23 | F27: ROUEN + BASES | G27: W | H27: 0 | I27: 0 | Q27: PARIS 13H30
C28: c24 | F28: SU IFS + BASES | G28: X | H28: 0 | I28: 0 | Q28: RETOUR AGEN
C29: c25 | F29: NAV NIORT 21H15 | G29: Y | H29: 0 | I29: 0 | Q29: RETOUR ORLEANS
Q30: RETOUR ORLEANS LU
Q31: RETOUR ORLEANS SA
Q32: SUP A/A PARIS
Q33: VENDEE
Q34: RAM MALO + LAVAL
Q35: NAV LANGRE DIM
Q36: SU FONTENAY 12H
Q37: PLAINTEL DIM
Q38: ROUEN + BASES
Q39: LE MANS A/A
Q40: NAV TOURS
...

Sheet total periode
A1: TOTAL HEURE TOUTE PERIODE | D1: 2080 | E1: 2080
C3: PERIODE 1 | D3: PERIODE 2 | E3: PERIODE 3 | F3: PERIODE 4 | G3: PERIODE 5 | H3: PERIODE 6 | I3: PERIODE 7 | J3: PERIODE 8 | K3: PERIODE 9 | L3: PERIODE 10 | M3: PERIODE 11 | N3: PERIODE 12 | O3: PERIODE 13 | P3: TOTAL HEURES
B4: c1 | D4: 0 | E4: PERIODE 4 | F4: PERIODE 5 | H4: 0 | J4: 0 | L4: 0 | N4: 0 | P4: 0
B5: c2 | D5: 0 | F5: 0 | H5: 0 | J5: 0 | L5: 0 | N5: 0 | P5: 0
B6: c3 | D6: 0
B7: c4
B8: c5
B9: c6
B10: c7
B11: c8
B12: c9
B13: c10
B14: c11
B15: c12
B16: c13
B17: c14
B18: c15
... B28: c25

Sheet planning
B2: PLANNING
G6: Année | I6: 2019
G7: PERIODE
G8: TOTAL HEURES SEMAINE | I8: 1.6666667
G9: TOTAL HEURES PERIODE | I9: 0
C14: LUNDI | D14: HEURES | E14: MARDI | F14: HEURES | G14: MERCREDI | H14: HEURES | I14: JEUDI | J14: HEURES | K14: VENDREDI | L14: HEURES | M14: SAMEDI | N14: HEURES | O14: DIMANCHE | P14: HEURES | Q14: TOTAL HEURES
B15: c1 | D15: 0 | F15: 0 | H15: 0 | J15: 0 | L15: 0 | N15: 0 | P15: 0 | Q15: 0
B16: c2 | D16: 0 | F16: 0 | H16: 0 | J16: 0 | L16: 0 | N16: 0 | P16: 0 | Q16: 0
B17: c3 | D17: 0
B18: c4
B19: c5
B20: c6
B21: c7
B22: c8
B23: c9
B24: c10
B25: c11
B26: c12
B27: c13
B28: c14
B29: c15
... B39: c25

Sheet p1
B2: PLANNING
G6: Année | I6: 2019
G7: PERIODE
G8: TOTAL HEURES SEMAINE | I8: 1.6666667
G9: TOTAL HEURES PERIODE | I9: 0
D12: SEMAINE 1
C14: LUNDI | D14: HEURES | E14: MARDI | F14: HEURES | G14: MERCREDI | H14: HEURES | I14: JEUDI | J14: HEURES | K14: VENDREDI | L14: HEURES | M14: SAMEDI | N14: HEURES | O14: DIMANCHE | P14: HEURES | Q14: TOTAL HEURES
B15: c1 | C15: A | D15: 0 | E15: B | F15: 0 | H15: 0 | J15: 0 | L15: 0 | N15: 0 | P15: 0 | Q15: 0
B16: c2 | C16: B | D16: 0 | E16: C | F16: 0 | H16: 0 | J16: 0 | L16: 0 | N16: 0 | P16: 0 | Q16: 0
B17: c3 | C17: C | D17: 0 | E17: D
B18: c4 | C18: D | E18: E
B19: c5 | C19: E | E19: F
B20: c6 | C20: F | E20: G
B21: c7 | C21: G | E21: H
B22: c8 | C22: H | E22: I
B23: c9 | C23: I | E23: J
B24: c10 | C24: J | E24: K
B25: c11 | C25: K | E25: L
B26: c12 | C26: L | E26: M
B27: c13 | C27: M | E27: N
B28: c14 | C28: N | E28: O
B29: c15 | C29: O | E29: P
... B39: c25 | C39: Y | E39: A

Sheet p2
B2: PLANNING
G6: Année | I6: 2019
G7: PERIODE
G8: TOTAL HEURES SEMAINE | I8: 1.6666667
G9: TOTAL HEURES PERIODE | I9: 0
C14: LUNDI | D14: HEURES | E14: MARDI | F14: HEURES | G14: MERCREDI | H14: HEURES | I14: JEUDI | J14: HEURES | K14: VENDREDI | L14: HEURES | M14: SAMEDI | N14: HEURES | O14: DIMANCHE | P14: HEURES | Q14: TOTAL HEURES
B15: c1 | D15: 0 | F15: 0 | H15: 0 | J15: 0 | L15: 0 | N15: 0 | P15: 0 | Q15: 0
B16: c2 | D16: 0 | F16: 0 | H16: 0 | J16: 0 | L16: 0 | N16: 0 | P16: 0 | Q16: 0
B17: c3 | D17: 0
B18: c4
B19: c5
B20: c6
B21: c7
B22: c8
B23: c9
B24: c10
B25: c11
B26: c12
B27: c13
B28: c14
B29: c15
... B39: c25

Sheet p3
B2: PLANNING
G6: Année | I6: 2019
G7: PERIODE
G8: TOTAL HEURES SEMAINE | I8: 1.6666667
G9: TOTAL HEURES PERIODE | I9: 0
C14: LUNDI | D14: HEURES | E14: MARDI | F14: HEURES | G14: MERCREDI | H14: HEURES | I14: JEUDI | J14: HEURES | K14: VENDREDI | L14: HEURES | M14: SAMEDI | N14: HEURES | O14: DIMANCHE | P14: HEURES | Q14: TOTAL HEURES
B15: c1 | D15: 0 | F15: 0 | H15: 0 | J15: 0 | L15: 0 | N15: 0 | P15: 0 | Q15: 0
B16: c2 | D16: 0 | F16: 0 | H16: 0 | J16: 0 | L16: 0 | N16: 0 | P16: 0 | Q16: 0
B17: c3 | D17: 0
B18: c4
B19: c5
B20: c6
B21: c7
B22: c8
B23: c9
B24: c10
B25: c11
B26: c12
B27: c13
B28: c14
B29: c15
... B39: c25

Sheet p4
B2: PLANNING
G6: Année | I6: 2019
G7: PERIODE
G8: TOTAL HEURES SEMAINE | I8: 1.6666667
G9: TOTAL HEURES PERIODE | I9: 0
C14: LUNDI | D14: HEURES | E14: MARDI | F14: HEURES | G14: MERCREDI | H14: HEURES | I14: JEUDI | J14: HEURES | K14: VENDREDI | L14: HEURES | M14: SAMEDI | N14: HEURES | O14: DIMANCHE | P14: HEURES | Q14: TOTAL HEURES
B15: c1 | D15: 0 | F15: 0 | H15: 0 | J15: 0 | L15: 0 | N15: 0 | P15: 0 | Q15: 0
B16: c2 | D16: 0 | F16: 0 | H16: 0 | J16: 0 | L16: 0 | N16: 0 | P16: 0 | Q16: 0
B17: c3 | D17: 0
B18: c4
B19: c5
B20: c6
B21: c7
B22: c8
B23: c9
B24: c10
B25: c11
B26: c12
B27: c13
B28: c14
B29: c15
... B39: c25

Sheet p5
B2: PLANNING
G6: Année | I6: 2019
G7: PERIODE
G8: TOTAL HEURES SEMAINE | I8: 1.6666667
G9: TOTAL HEURES PERIODE | I9: 0
C14: LUNDI | D14: HEURES | E14: MARDI | F14: HEURES | G14: MERCREDI | H14: HEURES | I14: JEUDI | J14: HEURES | K14: VENDREDI | L14: HEURES | M14: SAMEDI | N14: HEURES | O14: DIMANCHE | P14: HEURES | Q14: TOTAL HEURES
B15: c1 | D15: 0 | F15: 0 | H15: 0 | J15: 0 | L15: 0 | N15: 0 | P15: 0 | Q15: 0
B16: c2 | D16: 0 | F16: 0 | H16: 0 | J16: 0 | L16: 0 | N16: 0 | P16: 0 | Q16: 0
B17: c3 | D17: 0
B18: c4
B19: c5
B20: c6
B21: c7
B22: c8
B23: c9
B24: c10
B25: c11
B26: c12
B27: c13
B28: c14
B29: c15
... B39: c25

Sheet p6
B2: PLANNING
G6: Année | I6: 2019
G7: PERIODE
G8: TOTAL HEURES SEMAINE | I8: 1.6666667
G9: TOTAL HEURES PERIODE | I9: 0
C14: LUNDI | D14: HEURES | E14: MARDI | F14: HEURES | G14: MERCREDI | H14: HEURES | I14: JEUDI | J14: HEURES | K14: VENDREDI | L14: HEURES | M14: SAMEDI | N14: HEURES | O14: DIMANCHE | P14: HEURES | Q14: TOTAL HEURES
B15: c1 | D15: 0 | F15: 0 | H15: 0 | J15: 0 | L15: 0 | N15: 0 | P15: 0 | Q15: 0
B16: c2 | D16: 0 | F16: 0 | H16: 0 | J16: 0 | L16: 0 | N16: 0 | P16: 0 | Q16: 0
B17: c3 | D17: 0
B18: c4
B19: c5
B20: c6
B21: c7
B22: c8
B23: c9
B24: c10
B25: c11
B26: c12
B27: c13
B28: c14
B29: c15
... B39: c25

Sheet p7
B2: PLANNING
G6: Année | I6: 2019
G7: PERIODE
G8: TOTAL HEURES SEMAINE | I8: 1.6666667
G9: TOTAL HEURES PERIODE | I9: 0
C14: LUNDI | D14: HEURES | E14: MARDI | F14: HEURES | G14: MERCREDI | H14: HEURES | I14: JEUDI | J14: HEURES | K14: VENDREDI | L14: HEURES | M14: SAMEDI | N14: HEURES | O14: DIMANCHE | P14: HEURES | Q14: TOTAL HEURES
B15: c1 | D15: 0 | F15: 0 | H15: 0 | J15: 0 | L15: 0 | N15: 0 | P15: 0 | Q15: 0
B16: c2 | D16: 0 | F16: 0 | H16: 0 | J16: 0 | L16: 0 | N16: 0 | P16: 0 | Q16: 0
B17: c3 | D17: 0
B18: c4
B19: c5
B20: c6
B21: c7
B22: c8
B23: c9
B24: c10
B25: c11
B26: c12
B27: c13
B28: c14
B29: c15
... B39: c25

Sheet p8
B2: PLANNING
G6: Année | I6: 2019
G7: PERIODE
G8: TOTAL HEURES SEMAINE | I8: 1.6666667
G9: TOTAL HEURES PERIODE | I9: 0
C14: LUNDI | D14: HEURES | E14: MARDI | F14: HEURES | G14: MERCREDI | H14: HEURES | I14: JEUDI | J14: HEURES | K14: VENDREDI | L14: HEURES | M14: SAMEDI | N14: HEURES | O14: DIMANCHE | P14: HEURES | Q14: TOTAL HEURES
B15: c1 | D15: 0 | F15: 0 | H15: 0 | J15: 0 | L15: 0 | N15: 0 | P15: 0 | Q15: 0
B16: c2 | D16: 0 | F16: 0 | H16: 0 | J16: 0 | L16: 0 | N16: 0 | P16: 0 | Q16: 0
B17: c3 | D17: 0
B18: c4
B19: c5
B20: c6
B21: c7
B22: c8
B23: c9
B24: c10
B25: c11
B26: c12
B27: c13
B28: c14
B29: c15
... B39: c25

Sheet p9
B2: PLANNING
G6: Année | I6: 2019
G7: PERIODE
G8: TOTAL HEURES SEMAINE | I8: 1.6666667
G9: TOTAL HEURES PERIODE | I9: 0
C14: LUNDI | D14: HEURES | E14: MARDI | F14: HEURES | G14: MERCREDI | H14: HEURES | I14: JEUDI | J14: HEURES | K14: VENDREDI | L14: HEURES | M14: SAMEDI | N14: HEURES | O14: DIMANCHE | P14: HEURES | Q14: TOTAL HEURES
B15: c1 | D15: 0 | F15: 0 | H15: 0 | J15: 0 | L15: 0 | N15: 0 | P15: 0 | Q15: 0
B16: c2 | D16: 0 | F16: 0 | H16: 0 | J16: 0 | L16: 0 | N16: 0 | P16: 0 | Q16: 0
B17: c3 | D17: 0
B18: c4
B19: c5
B20: c6
B21: c7
B22: c8
B23: c9
B24: c10
B25: c11
B26: c12
B27: c13
B28: c14
B29: c15
... B39: c25

Sheet p10
B2: PLANNING
G6: Année | I6: 2019
G7: PERIODE
G8: TOTAL HEURES SEMAINE | I8: 1.6666667
G9: TOTAL HEURES PERIODE | I9: 0
C14: LUNDI | D14: HEURES | E14: MARDI | F14: HEURES | G14: MERCREDI | H14: HEURES | I14: JEUDI | J14: HEURES | K14: VENDREDI | L14: HEURES | M14: SAMEDI | N14: HEURES | O14: DIMANCHE | P14: HEURES | Q14: TOTAL HEURES
B15: c1 | D15: 0 | F15: 0 | H15: 0 | J15: 0 | L15: 0 | N15: 0 | P15: 0 | Q15: 0
B16: c2 | D16: 0 | F16: 0 | H16: 0 | J16: 0 | L16: 0 | N16: 0 | P16: 0 | Q16: 0
B17: c3 | D17: 0
B18: c4
B19: c5
B20: c6
B21: c7
B22: c8
B23: c9
B24: c10
B25: c11
B26: c12
B27: c13
B28: c14
B29: c15
... B39: c25

Sheet p11
B2: PLANNING
G6: Année | I6: 2019
G7: PERIODE
G8: TOTAL HEURES SEMAINE | I8: 1.6666667
G9: TOTAL HEURES PERIODE | I9: 0
C14: LUNDI | D14: HEURES | E14: MARDI | F14: HEURES | G14: MERCREDI | H14: HEURES | I14: JEUDI | J14: HEURES | K14: VENDREDI | L14: HEURES | M14: SAMEDI | N14: HEURES | O14: DIMANCHE | P14: HEURES | Q14: TOTAL HEURES
B15: c1 | D15: 0 | F15: 0 | H15: 0 | J15: 0 | L15: 0 | N15: 0 | P15: 0 | Q15: 0
B16: c2 | D16: 0 | F16: 0 | H16: 0 | J16: 0 | L16: 0 | N16: 0 | P16: 0 | Q16: 0
B17: c3 | D17: 0
B18: c4
B19: c5
B20: c6
B21: c7
B22: c8
B23: c9
B24: c10
B25: c11
B26: c12
B27: c13
B28: c14
B29: c15
... B39: c25

Sheet p12
B2: PLANNING
G6: Année | I6: 2019
G7: PERIODE
G8: TOTAL HEURES SEMAINE | I8: 1.6666667
G9: TOTAL HEURES PERIODE | I9: 0
C14: LUNDI | D14: HEURES | E14: MARDI | F14: HEURES | G14: MERCREDI | H14: HEURES | I14: JEUDI | J14: HEURES | K14: VENDREDI | L14: HEURES | M14: SAMEDI | N14: HEURES | O14: DIMANCHE | P14: HEURES | Q14: TOTAL HEURES
B15: c1 | D15: 0 | F15: 0 | H15: 0 | J15: 0 | L15: 0 | N15: 0 | P15: 0 | Q15: 0
B16: c2 | D16: 0 | F16: 0 | H16: 0 | J16: 0 | L16: 0 | N16: 0 | P16: 0 | Q16: 0
B17: c3 | D17: 0
B18: c4
B19: c5
B20: c6
B21: c7
B22: c8
B23: c9
B24: c10
B25: c11
B26: c12
B27: c13
B28: c14
B29: c15
... B39: c25

Sheet p13
B2: PLANNING
G6: Année | I6: 2019
G7: PERIODE
G8: TOTAL HEURES SEMAINE | I8: 1.6666667
G9: TOTAL HEURES PERIODE | I9: 0
C14: LUNDI | D14: HEURES | E14: MARDI | F14: HEURES | G14: MERCREDI | H14: HEURES | I14: JEUDI | J14: HEURES | K14: VENDREDI | L14: HEURES | M14: SAMEDI | N14: HEURES | O14: DIMANCHE | P14: HEURES | Q14: TOTAL HEURES
B15: c1 | D15: 0 | F15: 0 | H15: 0 | J15: 0 | L15: 0 | N15: 0 | P15: 0 | Q15: 0
B16: c2 | D16: 0 | F16: 0 | H16: 0 | J16: 0 | L16: 0 | N16: 0 | P16: 0 | Q16: 0
B17: c3 | D17: 0
B18: c4
B19: c5
B20: c6
B21: c7
B22: c8
B23: c9
B24: c10
B25: c11
B26: c12
B27: c13
B28: c14
B29: c15
... B39: c25

Sheet Feuil1
A1: PLANNING | B1: 2019
B4: SEMAINE 1 | H4: SEMAINE 2 | N4: SEMAINE 3 | T4: SEMAINE 4 | Z4: SEMAINE 5 | AF4: SEMAINE 1 | AL4: SEMAINE 2 | AR4: SEMAINE 3 | AX4: SEMAINE 4 | BD4: SEMAINE 5 | BJ4: SEMAINE 1 | BP4: SEMAINE 2 | BV4: SEMAINE 3 | CB4: SEMAINE 4 | CH4: SEMAINE 5 | CN4: SEMAINE 1 | CT4: SEMAINE 2 | CZ4: SEMAINE 3 | DF4: SEMAINE 4 | DL4: SEMAINE 5 | DR4: SEMAINE 1 | DX4: SEMAINE 2 | ED4: SEMAINE 3 | EJ4: SEMAINE 4 | EP4: SEMAINE 5 | EV4: SEMAINE 1 | FB4: SEMAINE 2 | FH4: SEMAINE 3 | FN4: SEMAINE 4 | FT4: SEMAINE 5 | FZ4: SEMAINE 1 | GF4: SEMAINE 2 | GL4: SEMAINE 3 | GR4: SEMAINE 4 | GX4: SEMAINE 5 | HD4: SEMAINE 1 | HJ4: SEMAINE 2 | HP4: SEMAINE 3 | HV4: SEMAINE 4 | IB4: SEMAINE 5 | IH4: SEMAINE 1 | IN4: SEMAINE 2 | IT4: SEMAINE 3 | IZ4: SEMAINE 4 | JF4: SEMAINE 5
B6: J1 | C6: J2 | D6: J3 | E6: J4 | F6: J5 | H6: J1 | I6: J2 | J6: J3 | K6: J4 | L6: J5 | N6: J1 | O6: J2 | P6: J3 | Q6: J4 | R6: J5 | T6: J1 | U6: J2 | V6: J3 | W6: J4 | X6: J5 | Z6: J1 | AA6: J2 | AB6: J3 | AC6: J4 | AD6: J5 | AF6: J1 | AG6: J2 | AH6: J3 | AI6: J4 | AJ6: J5 | AL6: J1 | AM6: J2 | AN6: J3 | AO6: J4 | AP6: J5 | AR6: J1 | AS6: J2 | AT6: J3 | AU6: J4 | AV6: J5 | AX6: J1 | AY6: J2 | AZ6: J3 | BA6: J4 | BB6: J5 | BD6: J1 | BE6: J2 | BF6: J3 | BG6: J4 | BH6: J5 | BJ6: J1 | BK6: J2 | BL6: J3 | BM6: J4 | BN6: J5 | BP6: J1 | BQ6: J2 | BR6: J3 | BS6: J4 | BT6: J5 | BV6: J1 | BW6: J2 | BX6: J3 | BY6: J4 | BZ6: J5 | CB6: J1 | CC6: J2 | CD6: J3 | CE6: J4 | CF6: J5 | CH6: J1 | CI6: J2 | CJ6: J3 | CK6: J4 | CL6: J5 | CN6: J1 | CO6: J2 | CP6: J3 | CQ6: J4 | CR6: J5 | CT6: J1 | CU6: J2 | CV6: J3 | CW6: J4 | CX6: J5 | CZ6: J1 | DA6: J2 | DB6: J3 | DC6: J4 | DD6: J5 | DF6: J1 | DG6: J2 | DH6: J3 | DI6: J4 | DJ6: J5 | DL6: J1 | DM6: J2 | DN6: J3 | DO6: J4 | DP6: J5 | DR6: J1 | DS6: J2 | DT6: J3 | DU6: J4 | DV6: J5 | DX6: J1 | DY6: J2 | DZ6: J3 | EA6: J4 | EB6: J5 | ED6: J1 | EE6: J2 | EF6: J3 | EG6: J4 | EH6: J5 | EJ6: J1 | EK6: J2 | EL6: J3 | EM6: J4 | EN6: J5 | EP6: J1 | EQ6: J2 | ER6: J3 | ES6: J4 | ET6: J5 | EV6: J1 | EW6: J2 | EX6: J3 | EY6: J4 | EZ6: J5 | FB6: J1 | FC6: J2 | FD6: J3 | FE6: J4 | FF6: J5 | FH6: J1 | FI6: J2 | FJ6: J3 | FK6: J4 | FL6: J5 | FN6: J1 | FO6: J2 | FP6: J3 | FQ6: J4 | FR6: J5 | FT6: J1 | FU6: J2 | FV6: J3 | FW6: J4 | FX6: J5 | FZ6: J1 | GA6: J2 | GB6: J3 | GC6: J4 | GD6: J5 | GF6: J1 | GG6: J2 | GH6: J3 | GI6: J4 | GJ6: J5 | GL6: J1 | GM6: J2 | GN6: J3 | GO6: J4 | GP6: J5 | GR6: J1 | GS6: J2 | GT6: J3 | GU6: J4 | GV6: J5 | GX6: J1 | GY6: J2 | GZ6: J3 | HA6: J4 | HB6: J5 | HD6: J1 | HE6: J2 | HF6: J3 | HG6: J4 | HH6: J5 | HJ6: J1 | HK6: J2 | HL6: J3 | HM6: J4 | HN6: J5 | HP6: J1 | HQ6: J2 | HR6: J3 | HS6: J4 | HT6: J5 | HV6: J1 | HW6: J2 | HX6: J3 | HY6: J4 | HZ6: J5 | IB6: J1 | IC6: J2 | ID6: J3 | IE6: J4 | IF6: J5 | IH6: J1 | II6: J2 | IJ6: J3 | IK6: J4 | IL6: J5 | IN6: J1 | IO6: J2 | IP6: J3 | IQ6: J4 | IR6: J5 | IT6: J1 | IU6: J2 | IV6: J3 | IW6: J4 | IX6: J5 | IZ6: J1 | JA6: J2 | JB6: J3 | JC6: J4 | JD6: J5 | JF6: J1 | JG6: J2 | JH6: J3 | JI6: J4 | JJ6: J5
A7: CHAUFFEUR 1 | B7: A | C7: B | D7: C | E7: D | F7: E | H7: F | I7: G | J7: H | K7: I | L7: J | N7: K | O7: L | P7: M | Q7: N | R7: O | T7: P | U7: Q | V7: R | W7: S | X7: T | Z7: U | AA7: V | AB7: W | AC7: X | AD7: Y | AF7: A | AG7: B | AH7: C | AI7: D | AJ7: E | AL7: F | AM7: G | AN7: H | AO7: I | AP7: J | AR7: K | AS7: L | AT7: M | AU7: N | AV7: O | AX7: P | AY7: Q | AZ7: R | BA7: S | BB7: T | BD7: U | BE7: V | BF7: W | BG7: X | BH7: Y | BJ7: A | BK7: B | BL7: C | BM7: D | BN7: E | BP7: F | BQ7: G | BR7: H | BS7: I | BT7: J | BV7: K | BW7: L | BX7: M | BY7: N | BZ7: O | CB7: P | CC7: Q | CD7: R | CE7: S | CF7: T | CH7: U | CI7: V | CJ7: W | CK7: X | CL7: Y | CN7: A | CO7: B | CP7: C | CQ7: D | CR7: E | CT7: F | CU7: G | CV7: H | CW7: I | CX7: J | CZ7: K | DA7: L | DB7: M | DC7: N | DD7: O | DF7: P | DG7: Q | DH7: R | DI7: S | DJ7: T | DL7: U | DM7: V | DN7: W | DO7: X | DP7: Y | DR7: A | DS7: B | DT7: C | DU7: D | DV7: E | DX7: F | DY7: G | DZ7: H | EA7: I | EB7: J | ED7: K | EE7: L | EF7: M | EG7: N | EH7: O | EJ7: P | EK7: Q | EL7: R | EM7: S | EN7: T | EP7: U | EQ7: V | ER7: W | ES7: X | ET7: Y | EV7: A | EW7: B | EX7: C | EY7: D | EZ7: E | FB7: F | FC7: G | FD7: H | FE7: I | FF7: J | FH7: K | FI7: L | FJ7: M | FK7: N | FL7: O | FN7: P | FO7: Q | FP7: R | FQ7: S | FR7: T | FT7: U | FU7: V | FV7: W | FW7: X | FX7: Y | FZ7: A | GA7: B | GB7: C | GC7: D | GD7: E | GF7: F | GG7: G | GH7: H | GI7: I | GJ7: J | GL7: K | GM7: L | GN7: M | GO7: N | GP7: O | GR7: P | GS7: Q | GT7: R | GU7: S | GV7: T | GX7: U | GY7: V | GZ7: W | HA7: X | HB7: Y | HD7: A | HE7: B | HF7: C | HG7: D | HH7: E | HJ7: F | HK7: G | HL7: H | HM7: I | HN7: J | HP7: K | HQ7: L | HR7: M | HS7: N | HT7: O | HV7: P | HW7: Q | HX7: R | HY7: S | HZ7: T | IB7: U | IC7: V | ID7: W | IE7: X | IF7: Y | IH7: A | II7: B | IJ7: C | IK7: D | IL7: E | IN7: F | IO7: G | IP7: H | IQ7: I | IR7: J | IT7: K | IU7: L | IV7: M | IW7: N | IX7: O | IZ7: P | JA7: Q | JB7: R | JC7: S | JD7: T | JF7: U | JG7: V | JH7: W | JI7: X | JJ7: Y
A8: CHAUFFEUR 2 | B8: B | C8: C | D8: D | E8: E | F8: F | H8: G | I8: H | J8: I | K8: J | L8: K | N8: L | O8: M | P8: N | Q8: O | R8: P | T8: Q | U8: R | V8: S | W8: T | X8: U | Z8: V | AA8: W | AB8: X | AC8: Y | AD8: A | AF8: B | AG8: C | AH8: D | AI8: E | AJ8: F | AL8: G | AM8: H | AN8: I | AO8: J | AP8: K | AR8: L | AS8: M | AT8: N | AU8: O | AV8: P | AX8: Q | AY8: R | AZ8: S | BA8: T | BB8: U | BD8: V | BE8: W | BF8: X | BG8: Y | BH8: A | BJ8: B | BK8: C | BL8: D | BM8: E | BN8: F | BP8: G | BQ8: H | BR8: I | BS8: J | BT8: K | BV8: L | BW8: M | BX8: N | BY8: O | BZ8: P | CB8: Q | CC8: R | CD8: S | CE8: T | CF8: U | CH8: V | CI8: W | CJ8: X | CK8: Y | CL8: A | CN8: B | CO8: C | CP8: D | CQ8: E | CR8: F | CT8: G | CU8: H | CV8: I | CW8: J | CX8: K | CZ8: L | DA8: M | DB8: N | DC8: O | DD8: P | DF8: Q | DG8: R | DH8: S | DI8: T | DJ8: U | DL8: V | DM8: W | DN8: X | DO8: Y | DP8: A | DR8: B | DS8: C | DT8: D | DU8: E | DV8: F | DX8: G | DY8: H | DZ8: I | EA8: J | EB8: K | ED8: L | EE8: M | EF8: N | EG8: O | EH8: P | EJ8: Q | EK8: R | EL8: S | EM8: T | EN8: U | EP8: V | EQ8: W | ER8: X | ES8: Y | ET8: A | EV8: B | EW8: C | EX8: D | EY8: E | EZ8: F | FB8: G | FC8: H | FD8: I | FE8: J | FF8: K | FH8: L | FI8: M | FJ8: N | FK8: O | FL8: P | FN8: Q | FO8: R | FP8: S | FQ8: T | FR8: U | FT8: V | FU8: W | FV8: X | FW8: Y | FX8: A | FZ8: B | GA8: C | GB8: D | GC8: E | GD8: F | GF8: G | GG8: H | GH8: I | GI8: J | GJ8: K | GL8: L | GM8: M | GN8: N | GO8: O | GP8: P | GR8: Q | GS8: R | GT8: S | GU8: T | GV8: U | GX8: V | GY8: W | GZ8: X | HA8: Y | HB8: A | HD8: B | HE8: C | HF8: D | HG8: E | HH8: F | HJ8: G | HK8: H | HL8: I | HM8: J | HN8: K | HP8: L | HQ8: M | HR8: N | HS8: O | HT8: P | HV8: Q | HW8: R | HX8: S | HY8: T | HZ8: U | IB8: V | IC8: W | ID8: X | IE8: Y | IF8: A | IH8: B | II8: C | IJ8: D | IK8: E | IL8: F | IN8: G | IO8: H | IP8: I | IQ8: J | IR8: K | IT8: L | IU8: M | IV8: N | IW8: O | IX8: P | IZ8: Q | JA8: R | JB8: S | JC8: T | JD8: U | JF8: V | JG8: W | JH8: X | JI8: Y | JJ8: A
A9: CHAUFFEUR 3 | B9: C | C9: D | D9: E | E9: F | F9: G | H9: H | I9: I | J9: J | K9: K | L9: L | N9: M | O9: N | P9: O | Q9: P | R9: Q | T9: R | U9: S | V9: T | W9: U | X9: V | Z9: W | AA9: X | AB9: Y | AC9: A | AD9: B | AF9: C | AG9: D | AH9: E | AI9: F | AJ9: G | AL9: H | AM9: I | AN9: J | AO9: K | AP9: L | AR9: M | AS9: N | AT9: O | AU9: P | AV9: Q | AX9: R | AY9: S | AZ9: T | BA9: U | BB9: V | BD9: W | BE9: X | BF9: Y | BG9: A | BH9: B | BJ9: C | BK9: D | BL9: E | BM9: F | BN9: G | BP9: H | BQ9: I | BR9: J | BS9: K | BT9: L | BV9: M | BW9: N | BX9: O | BY9: P | BZ9: Q | CB9: R | CC9: S | CD9: T | CE9: U | CF9: V | CH9: W | CI9: X | CJ9: Y | CK9: A | CL9: B | CN9: C | CO9: D | CP9: E | CQ9: F | CR9: G | CT9: H | CU9: I | CV9: J | CW9: K | CX9: L | CZ9: M | DA9: N | DB9: O | DC9: P | DD9: Q | DF9: R | DG9: S | DH9: T | DI9: U | DJ9: V | DL9: W | DM9: X | DN9: Y | DO9: A | DP9: B | DR9: C | DS9: D | DT9: E | DU9: F | DV9: G | DX9: H | DY9: I | DZ9: J | EA9: K | EB9: L | ED9: M | EE9: N | EF9: O | EG9: P | EH9: Q | EJ9: R | EK9: S | EL9: T | EM9: U | EN9: V | EP9: W | EQ9: X | ER9: Y | ES9: A | ET9: B | EV9: C | EW9: D | EX9: E | EY9: F | EZ9: G | FB9: H | FC9: I | FD9: J | FE9: K | FF9: L | FH9: M | FI9: N | FJ9: O | FK9: P | FL9: Q | FN9: R | FO9: S | FP9: T | FQ9: U | FR9: V | FT9: W | FU9: X | FV9: Y | FW9: A | FX9: B | FZ9: C | GA9: D | GB9: E | GC9: F | GD9: G | GF9: H | GG9: I | GH9: J | GI9: K | GJ9: L | GL9: M | GM9: N | GN9: O | GO9: P | GP9: Q | GR9: R | GS9: S | GT9: T | GU9: U | GV9: V | GX9: W | GY9: X | GZ9: Y | HA9: A | HB9: B | HD9: C | HE9: D | HF9: E | HG9: F | HH9: G | HJ9: H | HK9: I | HL9: J | HM9: K | HN9: L | HP9: M | HQ9: N | HR9: O | HS9: P | HT9: Q | HV9: R | HW9: S | HX9: T | HY9: U | HZ9: V | IB9: W | IC9: X | ID9: Y | IE9: A | IF9: B | IH9: C | II9: D | IJ9: E | IK9: F | IL9: G | IN9: H | IO9: I | IP9: J | IQ9: K | IR9: L | IT9: M | IU9: N | IV9: O | IW9: P | IX9: Q | IZ9: R | JA9: S | JB9: T | JC9: U | JD9: V | JF9: W | JG9: X | JH9: Y | JI9: A | JJ9: B
A10: CHAUFFEUR 4 | B10: D | C10: E | D10: F | E10: G | F10: H | H10: I | I10: J | J10: K | K10: L | L10: M | N10: N | O10: O | P10: P | Q10: Q | R10: R | T10: S | U10: T | V10: U | W10: V | X10: W | Z10: X | AA10: Y | AB10: A | AC10: B | AD10: C | AF10: D | AG10: E | AH10: F | AI10: G | AJ10: H | AL10: I | AM10: J | AN10: K | AO10: L | AP10: M | AR10: N | AS10: O | AT10: P | AU10: Q | AV10: R | AX10: S | AY10: T | AZ10: U | BA10: V | BB10: W | BD10: X | BE10: Y | BF10: A | BG10: B | BH10: C | BJ10: D | BK10: E | BL10: F | BM10: G | BN10: H | BP10: I | BQ10: J | BR10: K | BS10: L | BT10: M | BV10: N | BW10: O | BX10: P | BY10: Q | BZ10: R | CB10: S | CC10: T | CD10: U | CE10: V | CF10: W | CH10: X | CI10: Y | CJ10: A | CK10: B | CL10: C | CN10: D | CO10: E | CP10: F | CQ10: G | CR10: H | CT10: I | CU10: J | CV10: K | CW10: L | CX10: M | CZ10: N | DA10: O | DB10: P | DC10: Q | DD10: R | DF10: S | DG10: T | DH10: U | DI10: V | DJ10: W | DL10: X | DM10: Y | DN10: A | DO10: B | DP10: C | DR10: D | DS10: E | DT10: F | DU10: G | DV10: H | DX10: I | DY10: J | DZ10: K | EA10: L | EB10: M | ED10: N | EE10: O | EF10: P | EG10: Q | EH10: R | EJ10: S | EK10: T | EL10: U | EM10: V | EN10: W | EP10: X | EQ10: Y | ER10: A | ES10: B | ET10: C | EV10: D | EW10: E | EX10: F | EY10: G | EZ10: H | FB10: I | FC10: J | FD10: K | FE10: L | FF10: M | FH10: N | FI10: O | FJ10: P | FK10: Q | FL10: R | FN10: S | FO10: T | FP10: U | FQ10: V | FR10: W | FT10: X | FU10: Y | FV10: A | FW10: B | FX10: C | FZ10: D | GA10: E | GB10: F | GC10: G | GD10: H | GF10: I | GG10: J | GH10: K | GI10: L | GJ10: M | GL10: N | GM10: O | GN10: P | GO10: Q | GP10: R | GR10: S | GS10: T | GT10: U | GU10: V | GV10: W | GX10: X | GY10: Y | GZ10: A | HA10: B | HB10: C | HD10: D | HE10: E | HF10: F | HG10: G | HH10: H | HJ10: I | HK10: J | HL10: K | HM10: L | HN10: M | HP10: N | HQ10: O | HR10: P | HS10: Q | HT10: R | HV10: S | HW10: T | HX10: U | HY10: V | HZ10: W | IB10: X | IC10: Y | ID10: A | IE10: B | IF10: C | IH10: D | II10: E | IJ10: F | IK10: G | IL10: H | IN10: I | IO10: J | IP10: K | IQ10: L | IR10: M | IT10: N | IU10: O | IV10: P | IW10: Q | IX10: R | IZ10: S | JA10: T | JB10: U | JC10: V | JD10: W | JF10: X | JG10: Y | JH10: A | JI10: B | JJ10: C
A11: CHAUFFEUR 5 | B11: E | C11: F | D11: G | E11: H | F11: I | H11: J | I11: K | J11: L | K11: M | L11: N | N11: O | O11: P | P11: Q | Q11: R | R11: S | T11: T | U11: U | V11: V | W11: W | X11: X | Z11: Y | AA11: A | AB11: B | AC11: C | AD11: D | AF11: E | AG11: F | AH11: G | AI11: H | AJ11: I | AL11: J | AM11: K | AN11: L | AO11: M | AP11: N | AR11: O | AS11: P | AT11: Q | AU11: R | AV11: S | AX11: T | AY11: U | AZ11: V | BA11: W | BB11: X | BD11: Y | BE11: A | BF11: B | BG11: C | BH11: D | BJ11: E | BK11: F | BL11: G | BM11: H | BN11: I | BP11: J | BQ11: K | BR11: L | BS11: M | BT11: N | BV11: O | BW11: P | BX11: Q | BY11: R | BZ11: S | CB11: T | CC11: U | CD11: V | CE11: W | CF11: X | CH11: Y | CI11: A | CJ11: B | CK11: C | CL11: D | CN11: E | CO11: F | CP11: G | CQ11: H | CR11: I | CT11: J | CU11: K | CV11: L | CW11: M | CX11: N | CZ11: O | DA11: P | DB11: Q | DC11: R | DD11: S | DF11: T | DG11: U | DH11: V | DI11: W | DJ11: X | DL11: Y | DM11: A | DN11: B | DO11: C | DP11: D | DR11: E | DS11: F | DT11: G | DU11: H | DV11: I | DX11: J | DY11: K | DZ11: L | EA11: M | EB11: N | ED11: O | EE11: P | EF11: Q | EG11: R | EH11: S | EJ11: T | EK11: U | EL11: V | EM11: W | EN11: X | EP11: Y | EQ11: A | ER11: B | ES11: C | ET11: D | EV11: E | EW11: F | EX11: G | EY11: H | EZ11: I | FB11: J | FC11: K | FD11: L | FE11: M | FF11: N | FH11: O | FI11: P | FJ11: Q | FK11: R | FL11: S | FN11: T | FO11: U | FP11: V | FQ11: W | FR11: X | FT11: Y | FU11: A | FV11: B | FW11: C | FX11: D | FZ11: E | GA11: F | GB11: G | GC11: H | GD11: I | GF11: J | GG11: K | GH11: L | GI11: M | GJ11: N | GL11: O | GM11: P | GN11: Q | GO11: R | GP11: S | GR11: T | GS11: U | GT11: V | GU11: W | GV11: X | GX11: Y | GY11: A | GZ11: B | HA11: C | HB11: D | HD11: E | HE11: F | HF11: G | HG11: H | HH11: I | HJ11: J | HK11: K | HL11: L | HM11: M | HN11: N | HP11: O | HQ11: P | HR11: Q | HS11: R | HT11: S | HV11: T | HW11: U | HX11: V | HY11: W | HZ11: X | IB11: Y | IC11: A | ID11: B | IE11: C | IF11: D | IH11: E | II11: F | IJ11: G | IK11: H | IL11: I | IN11: J | IO11: K | IP11: L | IQ11: M | IR11: N | IT11: O | IU11: P | IV11: Q | IW11: R | IX11: S | IZ11: T | JA11: U | JB11: V | JC11: W | JD11: X | JF11: Y | JG11: A | JH11: B | JI11: C | JJ11: D
A12: CHAUFFEUR 6 | B12: F | C12: G | D12: H | E12: I | F12: J | H12: K | I12: L | J12: M | K12: N | L12: O | N12: P | O12: Q | P12: R | Q12: S | R12: T | T12: U | U12: V | V12: W | W12: X | X12: Y | Z12: A | AA12: B | AB12: C | AC12: D | AD12: E | AF12: F | AG12: G | AH12: H | AI12: I | AJ12: J | AL12: K | AM12: L | AN12: M | AO12: N | AP12: O | AR12: P | AS12: Q | AT12: R | AU12: S | AV12: T | AX12: U | AY12: V | AZ12: W | BA12: X | BB12: Y | BD12: A | BE12: B | BF12: C | BG12: D | BH12: E | BJ12: F | BK12: G | BL12: H | BM12: I | BN12: J | BP12: K | BQ12: L | BR12: M | BS12: N | BT12: O | BV12: P | BW12: Q | BX12: R | BY12: S | BZ12: T | CB12: U | CC12: V | CD12: W | CE12: X | CF12: Y | CH12: A | CI12: B | CJ12: C | CK12: D | CL12: E | CN12: F | CO12: G | CP12: H | CQ12: I | CR12: J | CT12: K | CU12: L | CV12: M | CW12: N | CX12: O | CZ12: P | DA12: Q | DB12: R | DC12: S | DD12: T | DF12: U | DG12: V | DH12: W | DI12: X | DJ12: Y | DL12: A | DM12: B | DN12: C | DO12: D | DP12: E | DR12: F | DS12: G | DT12: H | DU12: I | DV12: J | DX12: K | DY12: L | DZ12: M | EA12: N | EB12: O | ED12: P | EE12: Q | EF12: R | EG12: S | EH12: T | EJ12: U | EK12: V | EL12: W | EM12: X | EN12: Y | EP12: A | EQ12: B | ER12: C | ES12: D | ET12: E | EV12: F | EW12: G | EX12: H | EY12: I | EZ12: J | FB12: K | FC12: L | FD12: M | FE12: N | FF12: O | FH12: P | FI12: Q | FJ12: R | FK12: S | FL12: T | FN12: U | FO12: V | FP12: W | FQ12: X | FR12: Y | FT12: A | FU12: B | FV12: C | FW12: D | FX12: E | FZ12: F | GA12: G | GB12: H | GC12: I | GD12: J | GF12: K | GG12: L | GH12: M | GI12: N | GJ12: O | GL12: P | GM12: Q | GN12: R | GO12: S | GP12: T | GR12: U | GS12: V | GT12: W | GU12: X | GV12: Y | GX12: A | GY12: B | GZ12: C | HA12: D | HB12: E | HD12: F | HE12: G | HF12: H | HG12: I | HH12: J | HJ12: K | HK12: L | HL12: M | HM12: N | HN12: O | HP12: P | HQ12: Q | HR12: R | HS12: S | HT12: T | HV12: U | HW12: V | HX12: W | HY12: X | HZ12: Y | IB12: A | IC12: B | ID12: C | IE12: D | IF12: E | IH12: F | II12: G | IJ12: H | IK12: I | IL12: J | IN12: K | IO12: L | IP12: M | IQ12: N | IR12: O | IT12: P | IU12: Q | IV12: R | IW12: S | IX12: T | IZ12: U | JA12: V | JB12: W | JC12: X | JD12: Y | JF12: A | JG12: B | JH12: C | JI12: D | JJ12: E
A13: CHAUFFEUR 7 | B13: G | C13: H | D13: I | E13: J | F13: K | H13: L | I13: M | J13: N | K13: O | L13: P | N13: Q | O13: R | P13: S | Q13: T | R13: U | T13: V | U13: W | V13: X | W13: Y | X13: A | Z13: B | AA13: C | AB13: D | AC13: E | AD13: F | AF13: G | AG13: H | AH13: I | AI13: J | AJ13: K | AL13: L | AM13: M | AN13: N | AO13: O | AP13: P | AR13: Q | AS13: R | AT13: S | AU13: T | AV13: U | AX13: V | AY13: W | AZ13: X | BA13: Y | BB13: A | BD13: B | BE13: C | BF13: D | BG13: E | BH13: F | BJ13: G | BK13: H | BL13: I | BM13: J | BN13: K | BP13: L | BQ13: M | BR13: N | BS13: O | BT13: P | BV13: Q | BW13: R | BX13: S | BY13: T | BZ13: U | CB13: V | CC13: W | CD13: X | CE13: Y | CF13: A | CH13: B | CI13: C | CJ13: D | CK13: E | CL13: F | CN13: G | CO13: H | CP13: I | CQ13: J | CR13: K | CT13: L | CU13: M | CV13: N | CW13: O | CX13: P | CZ13: Q | DA13: R | DB13: S | DC13: T | DD13: U | DF13: V | DG13: W | DH13: X | DI13: Y | DJ13: A | DL13: B | DM13: C | DN13: D | DO13: E | DP13: F | DR13: G | DS13: H | DT13: I | DU13: J | DV13: K | DX13: L | DY13: M | DZ13: N | EA13: O | EB13: P | ED13: Q | EE13: R | EF13: S | EG13: T | EH13: U | EJ13: V | EK13: W | EL13: X | EM13: Y | EN13: A | EP13: B | EQ13: C | ER13: D | ES13: E | ET13: F | EV13: G | EW13: H | EX13: I | EY13: J | EZ13: K | FB13: L | FC13: M | FD13: N | FE13: O | FF13: P | FH13: Q | FI13: R | FJ13: S | FK13: T | FL13: U | FN13: V | FO13: W | FP13: X | FQ13: Y | FR13: A | FT13: B | FU13: C | FV13: D | FW13: E | FX13: F | FZ13: G | GA13: H | GB13: I | GC13: J | GD13: K | GF13: L | GG13: M | GH13: N | GI13: O | GJ13: P | GL13: Q | GM13: R | GN13: S | GO13: T | GP13: U | GR13: V | GS13: W | GT13: X | GU13: Y | GV13: A | GX13: B | GY13: C | GZ13: D | HA13: E | HB13: F | HD13: G | HE13: H | HF13: I | HG13: J | HH13: K | HJ13: L | HK13: M | HL13: N | HM13: O | HN13: P | HP13: Q | HQ13: R | HR13: S | HS13: T | HT13: U | HV13: V | HW13: W | HX13: X | HY13: Y | HZ13: A | IB13: B | IC13: C | ID13: D | IE13: E | IF13: F | IH13: G | II13: H | IJ13: I | IK13: J | IL13: K | IN13: L | IO13: M | IP13: N | IQ13: O | IR13: P | IT13: Q | IU13: R | IV13: S | IW13: T | IX13: U | IZ13: V | JA13: W | JB13: X | JC13: Y | JD13: A | JF13: B | JG13: C | JH13: D | JI13: E | JJ13: F
A14: CHAUFFEUR 8 | B14: H | C14: I | D14: J | E14: K | F14: L | H14: M | I14: N | J14: O | K14: P | L14: Q | N14: R | O14: S | P14: T | Q14: U | R14: V | T14: W | U14: X | V14: Y | W14: A | X14: B | Z14: C | AA14: D | AB14: E | AC14: F | AD14: G | AF14: H | AG14: I | AH14: J | AI14: K | AJ14: L | AL14: M | AM14: N | AN14: O | AO14: P | AP14: Q | AR14: R | AS14: S | AT14: T | AU14: U | AV14: V | AX14: W | AY14: X | AZ14: Y | BA14: A | BB14: B | BD14: C | BE14: D | BF14: E | BG14: F | BH14: G | BJ14: H | BK14: I | BL14: J | BM14: K | BN14: L | BP14: M | BQ14: N | BR14: O | BS14: P | BT14: Q | BV14: R | BW14: S | BX14: T | BY14: U | BZ14: V | CB14: W | CC14: X | CD14: Y | CE14: A | CF14: B | CH14: C | CI14: D | CJ14: E | CK14: F | CL14: G | CN14: H | CO14: I | CP14: J | CQ14: K | CR14: L | CT14: M | CU14: N | CV14: O | CW14: P | CX14: Q | CZ14: R | DA14: S | DB14: T | DC14: U | DD14: V | DF14: W | DG14: X | DH14: Y | DI14: A | DJ14: B | DL14: C | DM14: D | DN14: E | DO14: F | DP14: G | DR14: H | DS14: I | DT14: J | DU14: K | DV14: L | DX14: M | DY14: N | DZ14: O | EA14: P | EB14: Q | ED14: R | EE14: S | EF14: T | EG14: U | EH14: V | EJ14: W | EK14: X | EL14: Y | EM14: A | EN14: B | EP14: C | EQ14: D | ER14: E | ES14: F | ET14: G | EV14: H | EW14: I | EX14: J | EY14: K | EZ14: L | FB14: M | FC14: N | FD14: O | FE14: P | FF14: Q | FH14: R | FI14: S | FJ14: T | FK14: U | FL14: V | FN14: W | FO14: X | FP14: Y | FQ14: A | FR14: B | FT14: C | FU14: D | FV14: E | FW14: F | FX14: G | FZ14: H | GA14: I | GB14: J | GC14: K | GD14: L | GF14: M | GG14: N | GH14: O | GI14: P | GJ14: Q | GL14: R | GM14: S | GN14: T | GO14: U | GP14: V | GR14: W | GS14: X | GT14: Y | GU14: A | GV14: B | GX14: C | GY14: D | GZ14: E | HA14: F | HB14: G | HD14: H | HE14: I | HF14: J | HG14: K | HH14: L | HJ14: M | HK14: N | HL14: O | HM14: P | HN14: Q | HP14: R | HQ14: S | HR14: T | HS14: U | HT14: V | HV14: W | HW14: X | HX14: Y | HY14: A | HZ14: B | IB14: C | IC14: D | ID14: E | IE14: F | IF14: G | IH14: H | II14: I | IJ14: J | IK14: K | IL14: L | IN14: M | IO14: N | IP14: O | IQ14: P | IR14: Q | IT14: R | IU14: S | IV14: T | IW14: U | IX14: V | IZ14: W | JA14: X | JB14: Y | JC14: A | JD14: B | JF14: C | JG14: D | JH14: E | JI14: F | JJ14: G
A15: CHAUFFEUR 9 | B15: I | C15: J | D15: K | E15: L | F15: M | H15: N | I15: O | J15: P | K15: Q | L15: R | N15: S | O15: T | P15: U | Q15: V | R15: W | T15: X | U15: Y | V15: A | W15: B | X15: C | Z15: D | AA15: E | AB15: F | AC15: G | AD15: H | AF15: I | AG15: J | AH15: K | AI15: L | AJ15: M | AL15: N | AM15: O | AN15: P | AO15: Q | AP15: R | AR15: S | AS15: T | AT15: U | AU15: V | AV15: W | AX15: X | AY15: Y | AZ15: A | BA15: B | BB15: C | BD15: D | BE15: E | BF15: F | BG15: G | BH15: H | BJ15: I | BK15: J | BL15: K | BM15: L | BN15: M | BP15: N | BQ15: O | BR15: P | BS15: Q | BT15: R | BV15: S | BW15: T | BX15: U | BY15: V | BZ15: W | CB15: X | CC15: Y | CD15: A | CE15: B | CF15: C | CH15: D | CI15: E | CJ15: F | CK15: G | CL15: H | CN15: I | CO15: J | CP15: K | CQ15: L | CR15: M | CT15: N | CU15: O | CV15: P | CW15: Q | CX15: R | CZ15: S | DA15: T | DB15: U | DC15: V | DD15: W | DF15: X | DG15: Y | DH15: A | DI15: B | DJ15: C | DL15: D | DM15: E | DN15: F | DO15: G | DP15: H | DR15: I | DS15: J | DT15: K | DU15: L | DV15: M | DX15: N | DY15: O | DZ15: P | EA15: Q | EB15: R | ED15: S | EE15: T | EF15: U | EG15: V | EH15: W | EJ15: X | EK15: Y | EL15: A | EM15: B | EN15: C | EP15: D | EQ15: E | ER15: F | ES15: G | ET15: H | EV15: I | EW15: J | EX15: K | EY15: L | EZ15: M | FB15: N | FC15: O | FD15: P | FE15: Q | FF15: R | FH15: S | FI15: T | FJ15: U | FK15: V | FL15: W | FN15: X | FO15: Y | FP15: A | FQ15: B | FR15: C | FT15: D | FU15: E | FV15: F | FW15: G | FX15: H | FZ15: I | GA15: J | GB15: K | GC15: L | GD15: M | GF15: N | GG15: O | GH15: P | GI15: Q | GJ15: R | GL15: S | GM15: T | GN15: U | GO15: V | GP15: W | GR15: X | GS15: Y | GT15: A | GU15: B | GV15: C | GX15: D | GY15: E | GZ15: F | HA15: G | HB15: H | HD15: I | HE15: J | HF15: K | HG15: L | HH15: M | HJ15: N | HK15: O | HL15: P | HM15: Q | HN15: R | HP15: S | HQ15: T | HR15: U | HS15: V | HT15: W | HV15: X | HW15: Y | HX15: A | HY15: B | HZ15: C | IB15: D | IC15: E | ID15: F | IE15: G | IF15: H | IH15: I | II15: J | IJ15: K | IK15: L | IL15: M | IN15: N | IO15: O | IP15: P | IQ15: Q | IR15: R | IT15: S | IU15: T | IV15: U | IW15: V | IX15: W | IZ15: X | JA15: Y | JB15: A | JC15: B | JD15: C | JF15: D | JG15: E | JH15: F | JI15: G | JJ15: H
A16: CHAUFFEUR 10 | B16: J | C16: K | D16: L | E16: M | F16: N | H16: O | I16: P | J16: Q | K16: R | L16: S | N16: T | O16: U | P16: V | Q16: W | R16: X | T16: Y | U16: A | V16: B | W16: C | X16: D | Z16: E | AA16: F | AB16: G | AC16: H | AD16: I | AF16: J | AG16: K | AH16: L | AI16: M | AJ16: N | AL16: O | AM16: P | AN16: Q | AO16: R | AP16: S | AR16: T | AS16: U | AT16: V | AU16: W | AV16: X | AX16: Y | AY16: A | AZ16: B | BA16: C | BB16: D | BD16: E | BE16: F | BF16: G | BG16: H | BH16: I | BJ16: J | BK16: K | BL16: L | BM16: M | BN16: N | BP16: O | BQ16: P | BR16: Q | BS16: R | BT16: S | BV16: T | BW16: U | BX16: V | BY16: W | BZ16: X | CB16: Y | CC16: A | CD16: B | CE16: C | CF16: D | CH16: E | CI16: F | CJ16: G | CK16: H | CL16: I | CN16: J | CO16: K | CP16: L | CQ16: M | CR16: N | CT16: O | CU16: P | CV16: Q | CW16: R | CX16: S | CZ16: T | DA16: U | DB16: V | DC16: W | DD16: X | DF16: Y | DG16: A | DH16: B | DI16: C | DJ16: D | DL16: E | DM16: F | DN16: G | DO16: H | DP16: I | DR16: J | DS16: K | DT16: L | DU16: M | DV16: N | DX16: O | DY16: P | DZ16: Q | EA16: R | EB16: S | ED16: T | EE16: U | EF16: V | EG16: W | EH16: X | EJ16: Y | EK16: A | EL16: B | EM16: C | EN16: D | EP16: E | EQ16: F | ER16: G | ES16: H | ET16: I | EV16: J | EW16: K | EX16: L | EY16: M | EZ16: N | FB16: O | FC16: P | FD16: Q | FE16: R | FF16: S | FH16: T | FI16: U | FJ16: V | FK16: W | FL16: X | FN16: Y | FO16: A | FP16: B | FQ16: C | FR16: D | FT16: E | FU16: F | FV16: G | FW16: H | FX16: I | FZ16: J | GA16: K | GB16: L | GC16: M | GD16: N | GF16: O | GG16: P | GH16: Q | GI16: R | GJ16: S | GL16: T | GM16: U | GN16: V | GO16: W | GP16: X | GR16: Y | GS16: A | GT16: B | GU16: C | GV16: D | GX16: E | GY16: F | GZ16: G | HA16: H | HB16: I | HD16: J | HE16: K | HF16: L | HG16: M | HH16: N | HJ16: O | HK16: P | HL16: Q | HM16: R | HN16: S | HP16: T | HQ16: U | HR16: V | HS16: W | HT16: X | HV16: Y | HW16: A | HX16: B | HY16: C | HZ16: D | IB16: E | IC16: F | ID16: G | IE16: H | IF16: I | IH16: J | II16: K | IJ16: L | IK16: M | IL16: N | IN16: O | IO16: P | IP16: Q | IQ16: R | IR16: S | IT16: T | IU16: U | IV16: V | IW16: W | IX16: X | IZ16: Y | JA16: A | JB16: B | JC16: C | JD16: D | JF16: E | JG16: F | JH16: G | JI16: H | JJ16: I
A17: CHAUFFEUR 11 | B17: K | C17: L | D17: M | E17: N | F17: O | H17: P | I17: Q | J17: R | K17: S | L17: T | N17: U | O17: V | P17: W | Q17: X | R17: Y | T17: A | U17: B | V17: C | W17: D | X17: E | Z17: F | AA17: G | AB17: H | AC17: I | AD17: J | AF17: K | AG17: L | AH17: M | AI17: N | AJ17: O | AL17: P | AM17: Q | AN17: R | AO17: S | AP17: T | AR17: U | AS17: V | AT17: W | AU17: X | AV17: Y | AX17: A | AY17: B | AZ17: C | BA17: D | BB17: E | BD17: F | BE17: G | BF17: H | BG17: I | BH17: J | BJ17: K | BK17: L | BL17: M | BM17: N | BN17: O | BP17: P | BQ17: Q | BR17: R | BS17: S | BT17: T | BV17: U | BW17: V | BX17: W | BY17: X | BZ17: Y | CB17: A | CC17: B | CD17: C | CE17: D | CF17: E | CH17: F | CI17: G | CJ17: H | CK17: I | CL17: J | CN17: K | CO17: L | CP17: M | CQ17: N | CR17: O | CT17: P | CU17: Q | CV17: R | CW17: S | CX17: T | CZ17: U | DA17: V | DB17: W | DC17: X | DD17: Y | DF17: A | DG17: B | DH17: C | DI17: D | DJ17: E | DL17: F | DM17: G | DN17: H | DO17: I | DP17: J | DR17: K | DS17: L | DT17: M | DU17: N | DV17: O | DX17: P | DY17: Q | DZ17: R | EA17: S | EB17: T | ED17: U | EE17: V | EF17: W | EG17: X | EH17: Y | EJ17: A | EK17: B | EL17: C | EM17: D | EN17: E | EP17: F | EQ17: G | ER17: H | ES17: I | ET17: J | EV17: K | EW17: L | EX17: M | EY17: N | EZ17: O | FB17: P | FC17: Q | FD17: R | FE17: S | FF17: T | FH17: U | FI17: V | FJ17: W | FK17: X | FL17: Y | FN17: A | FO17: B | FP17: C | FQ17: D | FR17: E | FT17: F | FU17: G | FV17: H | FW17: I | FX17: J | FZ17: K | GA17: L | GB17: M | GC17: N | GD17: O | GF17: P | GG17: Q | GH17: R | GI17: S | GJ17: T | GL17: U | GM17: V | GN17: W | GO17: X | GP17: Y | GR17: A | GS17: B | GT17: C | GU17: D | GV17: E | GX17: F | GY17: G | GZ17: H | HA17: I | HB17: J | HD17: K | HE17: L | HF17: M | HG17: N | HH17: O | HJ17: P | HK17: Q | HL17: R | HM17: S | HN17: T | HP17: U | HQ17: V | HR17: W | HS17: X | HT17: Y | HV17: A | HW17: B | HX17: C | HY17: D | HZ17: E | IB17: F | IC17: G | ID17: H | IE17: I | IF17: J | IH17: K | II17: L | IJ17: M | IK17: N | IL17: O | IN17: P | IO17: Q | IP17: R | IQ17: S | IR17: T | IT17: U | IU17: V | IV17: W | IW17: X | IX17: Y | IZ17: A | JA17: B | JB17: C | JC17: D | JD17: E | JF17: F | JG17: G | JH17: H | JI17: I | JJ17: J
A18: CHAUFFEUR 12 | B18: L | C18: M | D18: N | E18: O | F18: P | H18: Q | I18: R | J18: S | K18: T | L18: U | N18: V | O18: W | P18: X | Q18: Y | R18: A | T18: B | U18: C | V18: D | W18: E | X18: F | Z18: G | AA18: H | AB18: I | AC18: J | AD18: K | AF18: L | AG18: M | AH18: N | AI18: O | AJ18: P | AL18: Q | AM18: R | AN18: S | AO18: T | AP18: U | AR18: V | AS18: W | AT18: X | AU18: Y | AV18: A | AX18: B | AY18: C | AZ18: D | BA18: E | BB18: F | BD18: G | BE18: H | BF18: I | BG18: J | BH18: K | BJ18: L | BK18: M | BL18: N | BM18: O | BN18: P | BP18: Q | BQ18: R | BR18: S | BS18: T | BT18: U | BV18: V | BW18: W | BX18: X | BY18: Y | BZ18: A | CB18: B | CC18: C | CD18: D | CE18: E | CF18: F | CH18: G | CI18: H | CJ18: I | CK18: J | CL18: K | CN18: L | CO18: M | CP18: N | CQ18: O | CR18: P | CT18: Q | CU18: R | CV18: S | CW18: T | CX18: U | CZ18: V | DA18: W | DB18: X | DC18: Y | DD18: A | DF18: B | DG18: C | DH18: D | DI18: E | DJ18: F | DL18: G | DM18: H | DN18: I | DO18: J | DP18: K | DR18: L | DS18: M | DT18: N | DU18: O | DV18: P | DX18: Q | DY18: R | DZ18: S | EA18: T | EB18: U | ED18: V | EE18: W | EF18: X | EG18: Y | EH18: A | EJ18: B | EK18: C | EL18: D | EM18: E | EN18: F | EP18: G | EQ18: H | ER18: I | ES18: J | ET18: K | EV18: L | EW18: M | EX18: N | EY18: O | EZ18: P | FB18: Q | FC18: R | FD18: S | FE18: T | FF18: U | FH18: V | FI18: W | FJ18: X | FK18: Y | FL18: A | FN18: B | FO18: C | FP18: D | FQ18: E | FR18: F | FT18: G | FU18: H | FV18: I | FW18: J | FX18: K | FZ18: L | GA18: M | GB18: N | GC18: O | GD18: P | GF18: Q | GG18: R | GH18: S | GI18: T | GJ18: U | GL18: V | GM18: W | GN18: X | GO18: Y | GP18: A | GR18: B | GS18: C | GT18: D | GU18: E | GV18: F | GX18: G | GY18: H | GZ18: I | HA18: J | HB18: K | HD18: L | HE18: M | HF18: N | HG18: O | HH18: P | HJ18: Q | HK18: R | HL18: S | HM18: T | HN18: U | HP18: V | HQ18: W | HR18: X | HS18: Y | HT18: A | HV18: B | HW18: C | HX18: D | HY18: E | HZ18: F | IB18: G | IC18: H | ID18: I | IE18: J | IF18: K | IH18: L | II18: M | IJ18: N | IK18: O | IL18: P | IN18: Q | IO18: R | IP18: S | IQ18: T | IR18: U | IT18: V | IU18: W | IV18: X | IW18: Y | IX18: A | IZ18: B | JA18: C | JB18: D | JC18: E | JD18: F | JF18: G | JG18: H | JH18: I | JI18: J | JJ18: K
... A31: CHAUFFEUR 25 | B31: Y | C31: A | D31: B | E31: C | F31: D | H31: E | I31: F | J31: G | K31: H | L31: I | N31: J | O31: K | P31: L | Q31: M | R31: N | T31: O | U31: P | V31: Q | W31: R | X31: S | Z31: U | AA31: V | AB31: W | AC31: X | AD31: Y | AF31: Y | AG31: A | AH31: B | AI31: C | AJ31: D | AL31: E | AM31: F | AN31: G | AO31: H | AP31: I | AR31: J | AS31: K | AT31: L | AU31: M | AV31: N | AX31: O | AY31: P | AZ31: Q | BA31: R | BB31: S | BD31: U | BE31: V | BF31: W | BG31: X | BH31: Y | BJ31: Y | BK31: A | BL31: B | BM31: C | BN31: D | BP31: E | BQ31: F | BR31: G | BS31: H | BT31: I | BV31: J | BW31: K | BX31: L | BY31: M | BZ31: N | CB31: O | CC31: P | CD31: Q | CE31: R | CF31: S | CH31: U | CI31: V | CJ31: W | CK31: X | CL31: Y | CN31: Y | CO31: A | CP31: B | CQ31: C | CR31: D | CT31: E | CU31: F | CV31: G | CW31: H | CX31: I | CZ31: J | DA31: K | DB31: L | DC31: M | DD31: N | DF31: O | DG31: P | DH31: Q | DI31: R | DJ31: S | DL31: U | DM31: V | DN31: W | DO31: X | DP31: Y | DR31: Y | DS31: A | DT31: B | DU31: C | DV31: D | DX31: E | DY31: F | DZ31: G | EA31: H | EB31: I | ED31: J | EE31: K | EF31: L | EG31: M | EH31: N | EJ31: O | EK31: P | EL31: Q | EM31: R | EN31: S | EP31: U | EQ31: V | ER31: W | ES31: X | ET31: Y | EV31: Y | EW31: A | EX31: B | EY31: C | EZ31: D | FB31: E | FC31: F | FD31: G | FE31: H | FF31: I | FH31: J | FI31: K | FJ31: L | FK31: M | FL31: N | FN31: O | FO31: P | FP31: Q | FQ31: R | FR31: S | FT31: U | FU31: V | FV31: W | FW31: X | FX31: Y | FZ31: Y | GA31: A | GB31: B | GC31: C | GD31: D | GF31: E | GG31: F | GH31: G | GI31: H | GJ31: I | GL31: J | GM31: K | GN31: L | GO31: M | GP31: N | GR31: O | GS31: P | GT31: Q | GU31: R | GV31: S | GX31: U | GY31: V | GZ31: W | HA31: X | HB31: Y | HD31: Y | HE31: A | HF31: B | HG31: C | HH31: D | HJ31: E | HK31: F | HL31: G | HM31: H | HN31: I | HP31: J | HQ31: K | HR31: L | HS31: M | HT31: N | HV31: O | HW31: P | HX31: Q | HY31: R | HZ31: S | IB31: U | IC31: V | ID31: W | IE31: X | IF31: Y | IH31: Y | II31: A | IJ31: B | IK31: C | IL31: D | IN31: E | IO31: F | IP31: G | IQ31: H | IR31: I | IT31: J | IU31: K | IV31: L | IW31: M | IX31: N | IZ31: O | JA31: P | JB31: Q | JC31: R | JD31: S | JF31: U | JG31: V | JH31: W | JI31: X | JJ31: Y

Sheet Feuil2
A1: heure journée | B1: 0.33333333
E4: tournéee
E5: tournéee | F5: heure d embauche | G5: coupure | H5: fin de poste | I5: nombre d heures sur la tournée
C6: ok | D6: NAV ATHIS 2 | E6: A | F6: 0.86458333 | G6: 0.03125 | H6: 0.125 | I6: =MOD(H6-F6,1)-G6 -> 0.22916667 | L6: NAV DIJON | M6: D | O6: NAV LANGRES | P6: E
A7: RAM + CAEN 21H15 | B7: O | C7: ok | D7: NAV CHAULNES | E7: B | F7: 0.77083333 | G7: 0.03125 | H7: 0.072916667 | I7: =MOD(H7-F7,1)-G7 -> 0.27083333 | L7: NAV CHAULNES | M7: B | O7: NAV LILLE | P7: F
A8: RAM + ANGERS 21H30 | B8: M | C8: ok | D8: NAV CLERMONT | E8: C | F8: 0.75 | G8: 0.03125 | H8: 0.15625 | I8: =MOD(H8-F8,1)-G8 -> 0.375 | L8: RAM + 20H TOURS | M8: U | O8: RAM + 21h30 TOURS | P8: L
A9: RAM + NANTES 1 | B9: P | C9: ok | D9: NAV DIJON | E9: D | F9: 0.61458333 | G9: 0.03125 | H9: 0.038194444 | I9: =MOD(H9-F9,1)-G9 -> 0.39236111 | L9: RAM + NANTES 21H | M9: J | O9: RAM + 20H TOURS | P9: U
A10: NAV CHATEAUBOUR | B10: R | C10: ok | D10: NAV LANGRES | E10: E | F10: 0.70833333 | G10: 0.03125 | H10: 0.09375 | I10: =MOD(H10-F10,1)-G10 -> 0.35416667 | L10: RAM MALO + LAVAL | M10: T
C11: ok | D11: NAV LILLE | E11: F | F11: 0.75 | G11: 0.03125 | H11: 0.079861111 | I11: =MOD(H11-F11,1)-G11 -> 0.29861111
A12: ATHIS VENDREDI | B12: V | C12: ok | D12: NAV NIORT | E12: G | F12: 0.72916667 | G12: 0.03125 | H12: 0.10416667 | I12: =MOD(H12-F12,1)-G12 -> 0.34375
A13: ROUEN + BASES | B13: W | C13: ok | D13: NAV ST SEVER | E13: H | F13: 0.72916667 | G13: 0 | H13: 0 | I13: =MOD(H13-F13,1)-G13 -> 0.27083333
A14: SU IFS + BASES | B14: X | C14: ok | D14: NAV VELAINES | E14: I | F14: 0.75 | G14: 0.03125 | H14: 0.13888889 | I14: =MOD(H14-F14,1)-G14 -> 0.35763889
A15: NAV NIORT 21H15 | B15: Y | C15: ok | D15: RAM + NANTES 21H | E15: J | F15: 0.625 | G15: 0.041666667 | H15: 0.0625 | I15: =MOD(H15-F15,1)-G15 -> 0.39583333
C16: ok | D16: VENDEE | E16: K | F16: 0.67708333 | G16: 0.03125 | H16: 0 | I16: =MOD(H16-F16,1)-G16 -> 0.29166667
A17: NAV ATHIS 2 | B17: A | C17: ok | D17: RAM + 21h30 TOURS | E17: L | F17: 0.71875 | G17: 0.03125 | H17: 0.10416667 | I17: =MOD(H17-F17,1)-G17 -> 0.35416667 | L17: NAV VELAINES | M17: I | O17: NAV CLERMONT | P17: C
A18: NAV CHAULNES | B18: B | C18: ok | D18: RAM + ANGERS 21H30 | E18: M | F18: 0.625 | G18: 0.041666667 | H18: 0 | I18: =MOD(H18-F18,1)-G18 -> 0.33333333 | L18: RAM + ORLEANS 21H | M18: Q | O18: NAV ATHIS 2 | P18: A
A19: NAV CLERMONT | B19: C | C19: ok | D19: RAM + ATHIS 1 | E19: N | F19: 0.66666667 | G19: 0.03125 | H19: 0.052083333 | I19: =MOD(H19-F19,1)-G19 -> 0.35416667 | O19: NAV NIORT | P19: G
A20: NAV DIJON | B20: D | D20: RAM + CAEN 21H15 | E20: O | F20: 0.625 | G20: 0.03125 | H20: 0.041666667 | I20: =MOD(H20-F20,1)-G20 -> 0.38541667 | O20: RAM + ORLEANS 21H | P20: Q
A21: NAV LANGRES | B21: E | C21: ok | D21: RAM + NANTES 1 | E21: P | F21: 0.625 | G21: 0.03125 | H21: 0 | I21: =MOD(H21-F21,1)-G21 -> 0.34375 | O21: NAV VELAINES | P21: I
A22: NAV LILLE | B22: F | C22: ok | D22: RAM + ORLEANS 21H | E22: Q | F22: 0.70833333 | G22: 0.041666667 | H22: 0.13541667 | I22: =MOD(H22-F22,1)-G22 -> 0.38541667
A23: NAV NIORT | B23: G | C23: ok | D23: NAV CHATEAUBOUR | E23: R | F23: 0.64583333 | G23: 0.020833333 | H23: 0.95833333 | I23: =MOD(H23-F23,1)-G23 -> 0.29166667
A24: NAV ST SEVER | B24: H | C24: ok | D24: RAM 14H00 | E24: S | F24: 0.58333333 | G24: 0.020833333 | H24: 0.95833333 | I24: =MOD(H24-F24,1)-G24 -> 0.35416667
A25: NAV VELAINES | B25: I | C25: ok | D25: RAM MALO + LAVAL | E25: T | F25: 0.70833333 | G25: 0.03125 | H25: 0.041666667 | I25: =MOD(H25-F25,1)-G25 -> 0.30208333
A26: RAM + NANTES 21H | B26: J | C26: ok | D26: RAM + 20H TOURS | E26: U | F26: 0.72916667 | G26: 0.03125 | H26: 0.041666667 | I26: =MOD(H26-F26,1)-G26 -> 0.28125 | L26: NAV NIORT | M26: G
A27: VENDEE | B27: K | C27: ok | D27: ATHIS VENDREDI | E27: V | F27: 0.79166667 | G27: 0.03125 | H27: 0.041666667 | I27: =MOD(H27-F27,1)-G27 -> 0.21875
A28: RAM + 21h30 TOURS | B28: L | C28: ok | D28: ROUEN + BASES | E28: W | F28: 0 | G28: 0 | H28: 0 | I28: =MOD(H28-F28,1)-G28 -> 0
A29: RAM + ATHIS 1 | B29: N | C29: ok | D29: SU IFS + BASES | E29: X | F29: 0 | G29: 0 | H29: 0 | I29: =MOD(H29-F29,1)-G29 -> 0
A30: RAM + ORLEANS 21H | B30: Q | C30: ok | D30: NAV NIORT 21H15 | E30: Y | F30: 0 | G30: 0 | H30: 0 | I30: =MOD(H30-F30,1)-G30 -> 0
A31: RAM 14H00 | B31: S
A32: RAM MALO + LAVAL | B32: T
A33: RAM + 20H TOURS | B33: U

Sheet  grp 1 RAMASSE NAVETTE
C2: SEMAINE 1 | R2: TOTAL HEURES SEMAINE | U2: si superieur a 40h ou 160h | W2: 1.6666667
C3: jour 1 | F3: jour 2 | I3: jour 3 | L3: jour 4 | O3: jour5 | U3: si inferieur ou =a 40h ou 160h | W3: 6.6666667
B5: CHOTARD | C5: RAM + CAEN 21H15 | D5: =VLOOKUP(C5,Feuil2!D6:I30,6,FALSE) -> 0.38541667 | E5: O | F5: RAM + ANGERS 21H30 | G5: =VLOOKUP(F5,Feuil2!D6:I30,6,FALSE) -> 0.33333333 | H5: M | I5: RAM + NANTES 1 | J5: =VLOOKUP(I5,Feuil2!D6:I30,6,FALSE) -> 0.34375 | K5: P | L5: NAV CHATEAUBOUR | M5: =VLOOKUP(L5,Feuil2!D6:I30,6,FALSE) -> 0.29166667 | N5: R | O5: RAM + CAEN 21H15 | P5: =VLOOKUP(O5,Feuil2!D6:I30,6,FALSE) -> 0.38541667 | Q5: O | R5: =SUM(D5+G5+J5+M5+P5) -> 1.7395833
B6: HORVAIS | C6: RAM + ANGERS 21H30 | D6: =VLOOKUP(C6,Feuil2!D7:I31,6,FALSE) -> 0.33333333 | E6: M | F6: RAM + NANTES 1 | G6: =VLOOKUP(F6,Feuil2!D7:I31,6,FALSE) -> 0.34375 | H6: P | I6: NAV CHATEAUBOUR | J6: =VLOOKUP(I6,Feuil2!D7:I31,6,FALSE) -> 0.29166667 | K6: R | L6: RAM + CAEN 21H15 | M6: =VLOOKUP(L6,Feuil2!D7:I31,6,FALSE) -> 0.38541667 | N6: O | O6: RAM + ANGERS 21H30 | P6: =VLOOKUP(O6,Feuil2!D7:I31,6,FALSE) -> 0.33333333 | Q6: M | R6: =SUM(D6+G6+J6+M6+P6) -> 1.6875
B7: NICOL | C7: RAM + NANTES 1 | D7: =VLOOKUP(C7,Feuil2!D8:I32,6,FALSE) -> 0.34375 | E7: P | F7: NAV CHATEAUBOUR | G7: =VLOOKUP(F7,Feuil2!D8:I32,6,FALSE) -> 0.29166667 | H7: R | I7: RAM + CAEN 21H15 | J7: =VLOOKUP(I7,Feuil2!D8:I32,6,FALSE) -> 0.38541667 | K7: O | L7: RAM + ANGERS 21H30 | M7: =VLOOKUP(L7,Feuil2!D8:I32,6,FALSE) -> 0.33333333 | N7: M | O7: RAM + NANTES 1 | P7: =VLOOKUP(O7,Feuil2!D8:I32,6,FALSE) -> 0.34375 | Q7: P | R7: =SUM(D7+G7+J7+M7+P7) -> 1.6979167
B8: ROUAUD | C8: NAV CHATEAUBOUR | D8: =VLOOKUP(C8,Feuil2!D9:I33,6,FALSE) -> 0.29166667 | E8: R | F8: RAM + CAEN 21H15 | G8: =VLOOKUP(F8,Feuil2!D9:I33,6,FALSE) -> 0.38541667 | H8: O | I8: RAM + ANGERS 21H30 | J8: =VLOOKUP(I8,Feuil2!D9:I33,6,FALSE) -> 0.33333333 | K8: M | L8: RAM + NANTES 1 | M8: =VLOOKUP(L8,Feuil2!D9:I33,6,FALSE) -> 0.34375 | N8: P | O8: NAV CHATEAUBOUR | P8: =VLOOKUP(O8,Feuil2!D9:I33,6,FALSE) -> 0.29166667 | Q8: R | R8: =SUM(D8+G8+J8+M8+P8) -> 1.6458333
C10: SEMAINE 2 | R10: TOTAL HEURES SEMAINE | U10: TOTAL HEURES PERIODE
C11: jour 1 | F11: jour 2 | I11: jour 3 | L11: jour 4 | O11: jour5
B13: CHOTARD | C13: RAM + ANGERS 21H30 | D13: =VLOOKUP(C13,Feuil2!D6:I29,6,FALSE) -> 0.33333333 | E13: M | F13: RAM + NANTES 1 | G13: =VLOOKUP(F13,Feuil2!D6:I30,6,FALSE) -> 0.34375 | H13: P | I13: NAV CHATEAUBOUR | J13: =VLOOKUP(I13,Feuil2!D6:I30,6,FALSE) -> 0.29166667 | K13: R | L13: NAV CHATEAUBOUR | M13: =VLOOKUP(L13,Feuil2!D6:I30,6,FALSE) -> 0.29166667 | N13: R | O13: RAM + CAEN 21H15 | P13: =VLOOKUP(O13,Feuil2!D6:I30,6,FALSE) -> 0.38541667 | Q13: O | R13: =SUM(D13+G13+J13+M13+P13) -> 1.6458333 | U13: CHOTARD | V13: =SUM(R5,R13,R21,R29) -> 6.78125
B14: HORVAIS | C14: RAM + NANTES 1 | D14: =VLOOKUP(C14,Feuil2!D7:I30,6,FALSE) -> 0.34375 | E14: P | F14: NAV CHATEAUBOUR | G14: =VLOOKUP(F14,Feuil2!D7:I31,6,FALSE) -> 0.29166667 | H14: R | I14: RAM + CAEN 21H15 | J14: =VLOOKUP(I14,Feuil2!D7:I31,6,FALSE) -> 0.38541667 | K14: O | L14: RAM + CAEN 21H15 | M14: =VLOOKUP(L14,Feuil2!D7:I31,6,FALSE) -> 0.38541667 | N14: O | O14: RAM + ANGERS 21H30 | P14: =VLOOKUP(O14,Feuil2!D7:I31,6,FALSE) -> 0.33333333 | Q14: M | R14: =SUM(D14+G14+J14+M14+P14) -> 1.7395833 | U14: HORVAIS | V14: =SUM(R6,R14,R22,R30) -> 6.71875
B15: NICOL | C15: NAV CHATEAUBOUR | D15: =VLOOKUP(C15,Feuil2!D8:I31,6,FALSE) -> 0.29166667 | E15: R | F15: RAM + CAEN 21H15 | G15: =VLOOKUP(F15,Feuil2!D8:I32,6,FALSE) -> 0.38541667 | H15: O | I15: RAM + ANGERS 21H30 | J15: =VLOOKUP(I15,Feuil2!D8:I32,6,FALSE) -> 0.33333333 | K15: M | L15: RAM + ANGERS 21H30 | M15: =VLOOKUP(L15,Feuil2!D8:I32,6,FALSE) -> 0.33333333 | N15: M | O15: RAM + NANTES 1 | P15: =VLOOKUP(O15,Feuil2!D8:I32,6,FALSE) -> 0.34375 | Q15: P | R15: =SUM(D15+G15+J15+M15+P15) -> 1.6875 | U15: NICOL | V15: =SUM(R7,R15,R23,R31) -> 6.5208333
B16: ROUAUD | C16: RAM + CAEN 21H15 | D16: =VLOOKUP(C16,Feuil2!D9:I32,6,FALSE) -> 0.38541667 | E16: O | F16: RAM + ANGERS 21H30 | G16: =VLOOKUP(F16,Feuil2!D9:I33,6,FALSE) -> 0.33333333 | H16: M | I16: RAM + NANTES 1 | J16: =VLOOKUP(I16,Feuil2!D9:I33,6,FALSE) -> 0.34375 | K16: P | L16: RAM + NANTES 1 | M16: =VLOOKUP(L16,Feuil2!D9:I33,6,FALSE) -> 0.34375 | N16: P | O16: NAV CHATEAUBOUR | P16: =VLOOKUP(O16,Feuil2!D9:I33,6,FALSE) -> 0.29166667 | Q16: R | R16: =SUM(D16+G16+J16+M16+P16) -> 1.6979167 | U16: ROUAUD | V16: =SUM(R8,R16,R24,R32) -> 6.4270833
C18: SEMAINE 3 | R18: TOTAL HEURES SEMAINE
C19: jour 1 | F19: jour 2 | I19: jour 3 | L19: jour 4 | O19: jour5
B21: CHOTARD | C21: RAM + NANTES 1 | D21: =VLOOKUP(C21,Feuil2!D6:I29,6,FALSE) -> 0.34375 | E21: P | F21: RAM + ANGERS 21H30 | G21: =VLOOKUP(F21,Feuil2!D6:I30,6,FALSE) -> 0.33333333 | H21: M | I21: RAM + NANTES 1 | J21: =VLOOKUP(I21,Feuil2!D6:I30,6,FALSE) -> 0.34375 | K21: P | L21: RAM + CAEN 21H15 | M21: =VLOOKUP(L21,Feuil2!D6:I30,6,FALSE) -> 0.38541667 | N21: O | O21: NAV CHATEAUBOUR | P21: =VLOOKUP(O21,Feuil2!D6:I30,6,FALSE) -> 0.29166667 | Q21: R | R21: =SUM(D21+G21+J21+M21+P21) -> 1.6979167 | U21: NAV CHATEAUBOUR
B22: HORVAIS | C22: NAV CHATEAUBOUR | D22: =VLOOKUP(C22,Feuil2!D7:I30,6,FALSE) -> 0.29166667 | E22: R | F22: RAM + NANTES 1 | G22: =VLOOKUP(F22,Feuil2!D7:I31,6,FALSE) -> 0.34375 | H22: P | I22: NAV CHATEAUBOUR | J22: =VLOOKUP(I22,Feuil2!D7:I31,6,FALSE) -> 0.29166667 | K22: R | L22: RAM + ANGERS 21H30 | M22: =VLOOKUP(L22,Feuil2!D7:I31,6,FALSE) -> 0.33333333 | N22: M | O22: RAM + CAEN 21H15 | P22: =VLOOKUP(O22,Feuil2!D7:I31,6,FALSE) -> 0.38541667 | Q22: O | R22: =SUM(D22+G22+J22+M22+P22) -> 1.6458333 | U22: RAM + CAEN 21H15
B23: NICOL | C23: RAM + CAEN 21H15 | D23: =VLOOKUP(C23,Feuil2!D8:I31,6,FALSE) -> 0.38541667 | E23: O | F23: NAV CHATEAUBOUR | G23: =VLOOKUP(F23,Feuil2!D8:I32,6,FALSE) -> 0.29166667 | H23: R | I23: RAM + CAEN 21H15 | J23: =VLOOKUP(I23,Feuil2!D8:I32,6,FALSE) -> 0.38541667 | K23: O | L23: RAM + NANTES 1 | M23: =VLOOKUP(L23,Feuil2!D8:I32,6,FALSE) -> 0.34375 | N23: P | O23: RAM + ANGERS 21H30 | P23: =VLOOKUP(O23,Feuil2!D8:I32,6,FALSE) -> 0.33333333 | Q23: M | R23: =SUM(D23+G23+J23+M23+P23) -> 1.7395833 | U23: RAM + ANGERS 21H30
B24: ROUAUD | C24: RAM + ANGERS 21H30 | D24: =VLOOKUP(C24,Feuil2!D9:I32,6,FALSE) -> 0.33333333 | E24: M | F24: RAM + CAEN 21H15 | G24: =VLOOKUP(F24,Feuil2!D9:I33,6,FALSE) -> 0.38541667 | H24: O | I24: RAM + ANGERS 21H30 | J24: =VLOOKUP(I24,Feuil2!D9:I33,6,FALSE) -> 0.33333333 | K24: M | L24: NAV CHATEAUBOUR | M24: =VLOOKUP(L24,Feuil2!D9:I33,6,FALSE) -> 0.29166667 | N24: R | O24: RAM + NANTES 1 | P24: =VLOOKUP(O24,Feuil2!D9:I33,6,FALSE) -> 0.34375 | Q24: P | R24: =SUM(D24+G24+J24+M24+P24) -> 1.6875 | U24: RAM + NANTES 1
C26: SEMAINE 14 | R26: TOTAL HEURES SEMAINE
C27: jour 1 | F27: jour 2 | I27: jour 3 | L27: jour 4 | O27: jour5
B29: CHOTARD | C29: RAM + NANTES 1 | D29: =VLOOKUP(C29,Feuil2!D6:I30,6,FALSE) -> 0.34375 | E29: P | F29: RAM + ANGERS 21H30 | G29: =VLOOKUP(F29,Feuil2!D6:I30,6,FALSE) -> 0.33333333 | H29: M | I29: RAM + NANTES 1 | J29: =VLOOKUP(I29,Feuil2!D6:I30,6,FALSE) -> 0.34375 | K29: P | L29: RAM + CAEN 21H15 | M29: =VLOOKUP(L29,Feuil2!D6:I30,6,FALSE) -> 0.38541667 | N29: O | O29: NAV CHATEAUBOUR | P29: =VLOOKUP(O29,Feuil2!D6:I30,6,FALSE) -> 0.29166667 | Q29: R | R29: =SUM(D29+G29+J29+M29+P29) -> 1.6979167
B30: HORVAIS | C30: NAV CHATEAUBOUR | D30: =VLOOKUP(C30,Feuil2!D7:I31,6,FALSE) -> 0.29166667 | E30: R | F30: RAM + NANTES 1 | G30: =VLOOKUP(F30,Feuil2!D7:I31,6,FALSE) -> 0.34375 | H30: P | I30: NAV CHATEAUBOUR | J30: =VLOOKUP(I30,Feuil2!D7:I31,6,FALSE) -> 0.29166667 | K30: R | L30: RAM + ANGERS 21H30 | M30: =VLOOKUP(L30,Feuil2!D7:I31,6,FALSE) -> 0.33333333 | N30: M | O30: RAM + CAEN 21H15 | P30: =VLOOKUP(O30,Feuil2!D7:I31,6,FALSE) -> 0.38541667 | Q30: O | R30: =SUM(D30+G30+J30+M30+P30) -> 1.6458333
B31: NICOL | C31: RAM + CAEN 21H15 | D31: =VLOOKUP(C31,Feuil2!D8:I32,6,FALSE) -> 0.38541667 | E31: O | F31: NAV CHATEAUBOUR | G31: =VLOOKUP(F31,Feuil2!D8:I32,6,FALSE) -> 0.29166667 | H31: R | I31: RAM + CAEN 21H15 | J31: =VLOOKUP(I31,Feuil2!D8:I32,6,FALSE) -> 0.38541667 | K31: O | L31: NAV CHATEAUBOUR | N31: P | O31: RAM + ANGERS 21H30 | P31: =VLOOKUP(O31,Feuil2!D8:I32,6,FALSE) -> 0.33333333 | Q31: M | R31: =SUM(D31+G31+J31+M31+P31) -> 1.3958333
B32: ROUAUD | C32: RAM + ANGERS 21H30 | D32: =VLOOKUP(C32,Feuil2!D9:I33,6,FALSE) -> 0.33333333 | E32: M | F32: RAM + CAEN 21H15 | G32: =VLOOKUP(F32,Feuil2!D9:I33,6,FALSE) -> 0.38541667 | H32: O | I32: RAM + ANGERS 21H30 | J32: =VLOOKUP(I32,Feuil2!D9:I33,6,FALSE) -> 0.33333333 | K32: M | L32: RAM + NANTES 1 | N32: R | O32: RAM + NANTES 1 | P32: =VLOOKUP(O32,Feuil2!D9:I33,6,FALSE) -> 0.34375 | Q32: P | R32: =SUM(D32+G32+J32+M32+P32) -> 1.3958333

Sheet NAVETTE+BASES
C2: SEMAINE 1 | R2: TOTAL HEURES SEMAINE | U2: si superieur a 40h ou 160h | W2: 1.6666667
C3: jour 1 | F3: jour 2 | I3: jour 3 | L3: jour 4 | O3: jour5 | U3: si inferieur ou =a 40h ou 160h | W3: 6.6666667
B5: MACE | C5: ROUEN + BASES | D5: =VLOOKUP(C5,Feuil2!D6:I30,6,FALSE) -> 0 | E5: O | F5: SU IFS + BASES | G5: =VLOOKUP(F5,Feuil2!D6:I30,6,FALSE) -> 0 | H5: M | I5: ROUEN + BASES | J5: =VLOOKUP(I5,Feuil2!D6:I30,6,FALSE) -> 0 | K5: P | L5: NAV NIORT 21H15 | M5: =VLOOKUP(L5,Feuil2!D6:I30,6,FALSE) -> 0 | N5: R | O5: ATHIS VENDREDI | P5: =VLOOKUP(O5,Feuil2!D6:I30,6,FALSE) -> 0.21875 | Q5: O | R5: =SUM(D5+G5+J5+M5+P5) -> 0.21875
B6: INTERIM | C6: SU IFS + BASES | D6: =VLOOKUP(C6,Feuil2!D7:I31,6,FALSE) -> 0 | E6: M | F6: NAV NIORT 21H15 | G6: =VLOOKUP(F6,Feuil2!D7:I31,6,FALSE) -> 0 | H6: P | I6: NAV NIORT 21H15 | J6: =VLOOKUP(I6,Feuil2!D7:I31,6,FALSE) -> 0 | K6: R | L6: SU IFS + BASES | M6: =VLOOKUP(L6,Feuil2!D7:I31,6,FALSE) -> 0 | N6: O | O6: NAV NIORT 21H15 | P6: =VLOOKUP(O6,Feuil2!D7:I31,6,FALSE) -> 0 | Q6: M | R6: =SUM(D6+G6+J6+M6+P6) -> 0
B7: INTERIM | C7: NAV NIORT 21H15 | D7: =VLOOKUP(C7,Feuil2!D8:I32,6,FALSE) -> 0 | E7: P | F7: ROUEN + BASES | G7: =VLOOKUP(F7,Feuil2!D8:I32,6,FALSE) -> 0 | H7: R | I7: SU IFS + BASES | J7: =VLOOKUP(I7,Feuil2!D8:I32,6,FALSE) -> 0 | K7: O | L7: ROUEN + BASES | M7: =VLOOKUP(L7,Feuil2!D8:I32,6,FALSE) -> 0 | N7: M | O7: SU IFS + BASES | P7: =VLOOKUP(O7,Feuil2!D8:I32,6,FALSE) -> 0 | Q7: P | R7: =SUM(D7+G7+J7+M7+P7) -> 0
B8: INTERIM | D8: =VLOOKUP(C8,Feuil2!D9:I33,6,FALSE) -> #N/A | E8: R | G8: =VLOOKUP(F8,Feuil2!D9:I33,6,FALSE) -> #N/A | H8: O | J8: =VLOOKUP(I8,Feuil2!D9:I33,6,FALSE) -> #N/A | K8: M | M8: =VLOOKUP(L8,Feuil2!D9:I33,6,FALSE) -> #N/A | N8: P | O8: ROUEN + BASES | P8: =VLOOKUP(O8,Feuil2!D9:I33,6,FALSE) -> 0 | Q8: R | R8: =SUM(D8+G8+J8+M8+P8) -> #N/A
C10: SEMAINE 2 | R10: TOTAL HEURES SEMAINE | U10: TOTAL HEURES PERIODE
C11: jour 1 | F11: jour 2 | I11: jour 3 | L11: jour 4 | O11: jour5
