Workbook

Sheet base de données
A1: NAV ATHIS 2
A2: NAV CHAULNES
A3: NAV CLERMONT | G3: tournéee | K3: periode | Q3: tournée
A4: NAV DIJON | C4: chauffeurs | G4: tournéee | H4: nombre d heures sur la tournée | I4: fin de poste | L4: debut de | M4: fin de | Q4: NAV ATHIS 2
A5: NAV LANGRES | C5: c1 | F5: NAV ATHIS 2 | G5: A | H5: 0.20833333 | I5: 0.125 | K5: p1 | L5: 43466 | M5: 43492 | Q5: NAV CHATEAUBOUR
A6: NAV LILLE | C6: c2 | F6: NAV CHAULNES | G6: B | H6: 0 | I6: 0 | K6: p2 | L6: 43493 | M6: 43520 | Q6: NAV CHAULNES
A7: NAV NIORT | C7: c3 | F7: NAV CLERMONT | G7: C | H7: 0 | I7: 0 | K7: p3 | L7: 43521 | M7: 43548 | Q7: NAV CLERMONT
A8: NAV ST SEVER | C8: c4 | F8: NAV DIJON | G8: D | H8: 0 | I8: 0 | K8: p4 | L8: 43549 | M8: 43576 | Q8: NAV DIJON
A9: NAV VELAINES | C9: c5 | F9: NAV LANGRES | G9: E | H9: 0 | I9: 0 | K9: p5 | L9: 43577 | M9: 43604 | Q9: NAV LANGRES
A10: RAM + NANTES 21H | C10: c6 | F10: NAV LILLE | G10: F | H10: 0 | I10: 0 | K10: p6 | L10: 43605 | M10: 43632 | Q10: NAV LILLE
A11: VENDEE | C11: c7 | F11: NAV NIORT | G11: G | H11: 0 | I11: 0 | K11: p7 | L11: 43633 | M11: 43660 | Q11: NAV NIORT
A12: RAM + 21h30 TOURS | C12: c8 | F12: NAV ST SEVER | G12: H | H12: 0 | I12: 0 | K12: p8 | L12: 43661 | M12: 43688 | Q12: NAV ST SEVER
A13: RAM + ANGERS 21H30 | C13: c9 | F13: NAV VELAINES | G13: I | H13: 0 | I13: 0 | K13: p9 | L13: 43689 | M13: 8/09/2019 | Q13: NAV VELAINES
A14: RAM + ATHIS 1 | C14: c10 | F14: RAM + NANTES 21H | G14: J | H14: 0 | I14: 0 | K14: p10 | L14: 43717 | M14: 43744 | Q14: RAM + NANTES 21H
A15: RAM + CAEN 21H15 | C15: c11 | F15: VENDEE | G15: K | H15: 0 | I15: 0 | K15: p11 | L15: 43745 | M15: 43772 | Q15: RAM + 20H TOURS
A16: RAM + NANTES 1 | C16: c12 | F16: RAM + 21h30 TOURS | G16: L | H16: 0 | I16: 0 | K16: p12 | L16: 43773 | M16: 43799 | Q16: RAM + 21h30 TOURS
A17: RAM + ORLEANS 21H | C17: c13 | F17: RAM + ANGERS 21H30 | G17: M | H17: 0 | I17: 0 | K17: p13 | L17: 43800 | M17: 43828 | Q17: RAM + ANGERS 21H30
A18: NAV CHATEAUBOUR | C18: c14 | F18: RAM + ATHIS 1 | G18: N | H18: 0 | I18: 0 | Q18: RAM + ATHIS 1
A19: RAM 14H00 | C19: c15 | F19: RAM + CAEN 21H15 | G19: O | H19: 0 | I19: 0 | Q19: RAM + CAEN 21H15
A20: RAM MALO + LAVAL | C20: c16 | F20: RAM + NANTES 1 | G20: P | H20: 0 | I20: 0 | Q20: RAM + NANTES 1
A21: RAM + 20H TOURS | C21: c17 | F21: RAM + ORLEANS 21H | G21: Q | H21: 0 | I21: 0 | Q21: RAM + ORLEANS 21H
C22: c18 | F22: NAV CHATEAUBOUR | G22: R | H22: 0 | I22: 0 | Q22: RAM 14H00
A23: ROUEN + BASES | C23: c19 | F23: RAM 14H00 | G23: S | H23: 0 | I23: 0 | Q23: AGEN
A24: SU IFS + BASES | C24: c20 | F24: RAM MALO + LAVAL | G24: T | H24: 0 | I24: 0 | Q24: AGEN DIM
A25: NAV NIORT 21H15 | C25: c21 | F25: RAM + 20H TOURS | G25: U | H25: 0 | I25: 0 | Q25: AMILLY / SENS
C26: c22 | G26: V | H26: 0 | I26: 0 | Q26: JACQUET SA
C27: c23 | F27: ROUEN + BASES | G27: W | H27: 0 | I27: 0 | Q27: PARIS 13H30
C28: c24 | F28: SU IFS + BASES | G28: X | H28: 0 | I28: 0 | Q28: RETOUR AGEN
C29: c25 | F29: NAV NIORT 21H15 | G29: Y | H29: 0 | I29: 0 | Q29: RETOUR ORLEANS
Q30: RETOUR ORLEANS LU
Q31: RETOUR ORLEANS SA
Q32: SUP A/A PARIS
Q33: VENDEE
Q34: RAM MALO + LAVAL
Q35: NAV LANGRE DIM
Q36: SU FONTENAY 12H
Q37: PLAINTEL DIM
Q38: ROUEN + BASES
Q39: LE MANS A/A
Q40: NAV TOURS
Q41: SU IFS + BASES
... Q60: RAM SAM 10H30

Sheet total periode
A1: TOTAL HEURE TOUTE PERIODE | D1: 2080 | E1: 2080
C3: PERIODE 1 | D3: PERIODE 2 | E3: PERIODE 3 | F3: PERIODE 4 | G3: PERIODE 5 | H3: PERIODE 6 | I3: PERIODE 7 | J3: PERIODE 8 | K3: PERIODE 9 | L3: PERIODE 10 | M3: PERIODE 11 | N3: PERIODE 12 | O3: PERIODE 13 | P3: TOTAL HEURES
B4: c1 | D4: 0 | E4: PERIODE 4 | F4: PERIODE 5 | H4: 0 | J4: 0 | L4: 0 | N4: 0 | P4: 0
B5: c2 | D5: 0 | F5: 0 | H5: 0 | J5: 0 | L5: 0 | N5: 0 | P5: 0
B6: c3 | D6: 0
B7: c4
B8: c5
B9: c6
B10: c7
B11: c8
B12: c9
B13: c10
B14: c11
B15: c12
B16: c13
B17: c14
B18: c15
... B28: c25

Sheet planning
B2: PLANNING
G6: Année | I6: 2019
G7: PERIODE
G8: TOTAL HEURES SEMAINE | I8: 1.6666667
G9: TOTAL HEURES PERIODE | I9: 0
C14: LUNDI | D14: HEURES | E14: MARDI | F14: HEURES | G14: MERCREDI | H14: HEURES | I14: JEUDI | J14: HEURES | K14: VENDREDI | L14: HEURES | M14: SAMEDI | N14: HEURES | O14: DIMANCHE | P14: HEURES | Q14: TOTAL HEURES
B15: c1 | D15: 0 | F15: 0 | H15: 0 | J15: 0 | L15: 0 | N15: 0 | P15: 0 | Q15: 0
B16: c2 | D16: 0 | F16: 0 | H16: 0 | J16: 0 | L16: 0 | N16: 0 | P16: 0 | Q16: 0
B17: c3 | D17: 0
B18: c4
B19: c5
B20: c6
B21: c7
B22: c8
B23: c9
B24: c10
B25: c11
B26: c12
B27: c13
B28: c14
B29: c15
... B39: c25

Sheet p1
B2: PLANNING
G6: Année | I6: 2019
G7: PERIODE
G8: TOTAL HEURES SEMAINE | I8: 1.6666667
G9: TOTAL HEURES PERIODE | I9: 0
D12: SEMAINE 1
C14: LUNDI | D14: HEURES | E14: MARDI | F14: HEURES | G14: MERCREDI | H14: HEURES | I14: JEUDI | J14: HEURES | K14: VENDREDI | L14: HEURES | M14: SAMEDI | N14: HEURES | O14: DIMANCHE | P14: HEURES | Q14: TOTAL HEURES
B15: c1 | C15: A | D15: 0 | E15: B | F15: 0 | H15: 0 | J15: 0 | L15: 0 | N15: 0 | P15: 0 | Q15: 0
B16: c2 | C16: B | D16: 0 | E16: C | F16: 0 | H16: 0 | J16: 0 | L16: 0 | N16: 0 | P16: 0 | Q16: 0
B17: c3 | C17: C | D17: 0 | E17: D
B18: c4 | C18: D | E18: E
B19: c5 | C19: E | E19: F
B20: c6 | C20: F | E20: G
B21: c7 | C21: G | E21: H
B22: c8 | C22: H | E22: I
B23: c9 | C23: I | E23: J
B24: c10 | C24: J | E24: K
B25: c11 | C25: K | E25: L
B26: c12 | C26: L | E26: M
B27: c13 | C27: M | E27: N
B28: c14 | C28: N | E28: O
B29: c15 | C29: O | E29: P
... B39: c25 | C39: Y | E39: A

Sheet p2
B2: PLANNING
G6: Année | I6: 2019
G7: PERIODE
G8: TOTAL HEURES SEMAINE | I8: 1.6666667
G9: TOTAL HEURES PERIODE | I9: 0
C14: LUNDI | D14: HEURES | E14: MARDI | F14: HEURES | G14: MERCREDI | H14: HEURES | I14: JEUDI | J14: HEURES | K14: VENDREDI | L14: HEURES | M14: SAMEDI | N14: HEURES | O14: DIMANCHE | P14: HEURES | Q14: TOTAL HEURES
B15: c1 | D15: 0 | F15: 0 | H15: 0 | J15: 0 | L15: 0 | N15: 0 | P15: 0 | Q15: 0
B16: c2 | D16: 0 | F16: 0 | H16: 0 | J16: 0 | L16: 0 | N16: 0 | P16: 0 | Q16: 0
B17: c3 | D17: 0
B18: c4
B19: c5
B20: c6
B21: c7
B22: c8
B23: c9
B24: c10
B25: c11
B26: c12
B27: c13
B28: c14
B29: c15
... B39: c25

Sheet p3
B2: PLANNING
G6: Année | I6: 2019
G7: PERIODE
G8: TOTAL HEURES SEMAINE | I8: 1.6666667
G9: TOTAL HEURES PERIODE | I9: 0
C14: LUNDI | D14: HEURES | E14: MARDI | F14: HEURES | G14: MERCREDI | H14: HEURES | I14: JEUDI | J14: HEURES | K14: VENDREDI | L14: HEURES | M14: SAMEDI | N14: HEURES | O14: DIMANCHE | P14: HEURES | Q14: TOTAL HEURES
B15: c1 | D15: 0 | F15: 0 | H15: 0 | J15: 0 | L15: 0 | N15: 0 | P15: 0 | Q15: 0
B16: c2 | D16: 0 | F16: 0 | H16: 0 | J16: 0 | L16: 0 | N16: 0 | P16: 0 | Q16: 0
B17: c3 | D17: 0
B18: c4
B19: c5
B20: c6
B21: c7
B22: c8
B23: c9
B24: c10
B25: c11
B26: c12
B27: c13
B28: c14
B29: c15
... B39: c25

Sheet p4
B2: PLANNING
G6: Année | I6: 2019
G7: PERIODE
G8: TOTAL HEURES SEMAINE | I8: 1.6666667
G9: TOTAL HEURES PERIODE | I9: 0
C14: LUNDI | D14: HEURES | E14: MARDI | F14: HEURES | G14: MERCREDI | H14: HEURES | I14: JEUDI | J14: HEURES | K14: VENDREDI | L14: HEURES | M14: SAMEDI | N14: HEURES | O14: DIMANCHE | P14: HEURES | Q14: TOTAL HEURES
B15: c1 | D15: 0 | F15: 0 | H15: 0 | J15: 0 | L15: 0 | N15: 0 | P15: 0 | Q15: 0
B16: c2 | D16: 0 | F16: 0 | H16: 0 | J16: 0 | L16: 0 | N16: 0 | P16: 0 | Q16: 0
B17: c3 | D17: 0
B18: c4
B19: c5
B20: c6
B21: c7
B22: c8
B23: c9
B24: c10
B25: c11
B26: c12
B27: c13
B28: c14
B29: c15
... B39: c25

Sheet p5
B2: PLANNING
G6: Année | I6: 2019
G7: PERIODE
G8: TOTAL HEURES SEMAINE | I8: 1.6666667
G9: TOTAL HEURES PERIODE | I9: 0
C14: LUNDI | D14: HEURES | E14: MARDI | F14: HEURES | G14: MERCREDI | H14: HEURES | I14: JEUDI | J14: HEURES | K14: VENDREDI | L14: HEURES | M14: SAMEDI | N14: HEURES | O14: DIMANCHE | P14: HEURES | Q14: TOTAL HEURES
B15: c1 | D15: 0 | F15: 0 | H15: 0 | J15: 0 | L15: 0 | N15: 0 | P15: 0 | Q15: 0
B16: c2 | D16: 0 | F16: 0 | H16: 0 | J16: 0 | L16: 0 | N16: 0 | P16: 0 | Q16: 0
B17: c3 | D17: 0
B18: c4
B19: c5
B20: c6
B21: c7
B22: c8
B23: c9
B24: c10
B25: c11
B26: c12
B27: c13
B28: c14
B29: c15
... B39: c25

Sheet p6
B2: PLANNING
G6: Année | I6: 2019
G7: PERIODE
G8: TOTAL HEURES SEMAINE | I8: 1.6666667
G9: TOTAL HEURES PERIODE | I9: 0
C14: LUNDI | D14: HEURES | E14: MARDI | F14: HEURES | G14: MERCREDI | H14: HEURES | I14: JEUDI | J14: HEURES | K14: VENDREDI | L14: HEURES | M14: SAMEDI | N14: HEURES | O14: DIMANCHE | P14: HEURES | Q14: TOTAL HEURES
B15: c1 | D15: 0 | F15: 0 | H15: 0 | J15: 0 | L15: 0 | N15: 0 | P15: 0 | Q15: 0
B16: c2 | D16: 0 | F16: 0 | H16: 0 | J16: 0 | L16: 0 | N16: 0 | P16: 0 | Q16: 0
B17: c3 | D17: 0
B18: c4
B19: c5
B20: c6
B21: c7
B22: c8
B23: c9
B24: c10
B25: c11
B26: c12
B27: c13
B28: c14
B29: c15
... B39: c25

Sheet p7
B2: PLANNING
G6: Année | I6: 2019
G7: PERIODE
G8: TOTAL HEURES SEMAINE | I8: 1.6666667
G9: TOTAL HEURES PERIODE | I9: 0
C14: LUNDI | D14: HEURES | E14: MARDI | F14: HEURES | G14: MERCREDI | H14: HEURES | I14: JEUDI | J14: HEURES | K14: VENDREDI | L14: HEURES | M14: SAMEDI | N14: HEURES | O14: DIMANCHE | P14: HEURES | Q14: TOTAL HEURES
B15: c1 | D15: 0 | F15: 0 | H15: 0 | J15: 0 | L15: 0 | N15: 0 | P15: 0 | Q15: 0
B16: c2 | D16: 0 | F16: 0 | H16: 0 | J16: 0 | L16: 0 | N16: 0 | P16: 0 | Q16: 0
B17: c3 | D17: 0
B18: c4
B19: c5
B20: c6
B21: c7
B22: c8
B23: c9
B24: c10
B25: c11
B26: c12
B27: c13
B28: c14
B29: c15
... B39: c25

Sheet p8
B2: PLANNING
G6: Année | I6: 2019
G7: PERIODE
G8: TOTAL HEURES SEMAINE | I8: 1.6666667
G9: TOTAL HEURES PERIODE | I9: 0
C14: LUNDI | D14: HEURES | E14: MARDI | F14: HEURES | G14: MERCREDI | H14: HEURES | I14: JEUDI | J14: HEURES | K14: VENDREDI | L14: HEURES | M14: SAMEDI | N14: HEURES | O14: DIMANCHE | P14: HEURES | Q14: TOTAL HEURES
B15: c1 | D15: 0 | F15: 0 | H15: 0 | J15: 0 | L15: 0 | N15: 0 | P15: 0 | Q15: 0
B16: c2 | D16: 0 | F16: 0 | H16: 0 | J16: 0 | L16: 0 | N16: 0 | P16: 0 | Q16: 0
B17: c3 | D17: 0
B18: c4
B19: c5
B20: c6
B21: c7
B22: c8
B23: c9
B24: c10
B25: c11
B26: c12
B27: c13
B28: c14
B29: c15
... B39: c25

Sheet p9
B2: PLANNING
G6: Année | I6: 2019
G7: PERIODE
G8: TOTAL HEURES SEMAINE | I8: 1.6666667
G9: TOTAL HEURES PERIODE | I9: 0
C14: LUNDI | D14: HEURES | E14: MARDI | F14: HEURES | G14: MERCREDI | H14: HEURES | I14: JEUDI | J14: HEURES | K14: VENDREDI | L14: HEURES | M14: SAMEDI | N14: HEURES | O14: DIMANCHE | P14: HEURES | Q14: TOTAL HEURES
B15: c1 | D15: 0 | F15: 0 | H15: 0 | J15: 0 | L15: 0 | N15: 0 | P15: 0 | Q15: 0
B16: c2 | D16: 0 | F16: 0 | H16: 0 | J16: 0 | L16: 0 | N16: 0 | P16: 0 | Q16: 0
B17: c3 | D17: 0
B18: c4
B19: c5
B20: c6
B21: c7
B22: c8
B23: c9
B24: c10
B25: c11
B26: c12
B27: c13
B28: c14
B29: c15
... B39: c25

Sheet p10
B2: PLANNING
G6: Année | I6: 2019
G7: PERIODE
G8: TOTAL HEURES SEMAINE | I8: 1.6666667
G9: TOTAL HEURES PERIODE | I9: 0
C14: LUNDI | D14: HEURES | E14: MARDI | F14: HEURES | G14: MERCREDI | H14: HEURES | I14: JEUDI | J14: HEURES | K14: VENDREDI | L14: HEURES | M14: SAMEDI | N14: HEURES | O14: DIMANCHE | P14: HEURES | Q14: TOTAL HEURES
B15: c1 | D15: 0 | F15: 0 | H15: 0 | J15: 0 | L15: 0 | N15: 0 | P15: 0 | Q15: 0
B16: c2 | D16: 0 | F16: 0 | H16: 0 | J16: 0 | L16: 0 | N16: 0 | P16: 0 | Q16: 0
B17: c3 | D17: 0
B18: c4
B19: c5
B20: c6
B21: c7
B22: c8
B23: c9
B24: c10
B25: c11
B26: c12
B27: c13
B28: c14
B29: c15
... B39: c25

Sheet p11
B2: PLANNING
G6: Année | I6: 2019
G7: PERIODE
G8: TOTAL HEURES SEMAINE | I8: 1.6666667
G9: TOTAL HEURES PERIODE | I9: 0
C14: LUNDI | D14: HEURES | E14: MARDI | F14: HEURES | G14: MERCREDI | H14: HEURES | I14: JEUDI | J14: HEURES | K14: VENDREDI | L14: HEURES | M14: SAMEDI | N14: HEURES | O14: DIMANCHE | P14: HEURES | Q14: TOTAL HEURES
B15: c1 | D15: 0 | F15: 0 | H15: 0 | J15: 0 | L15: 0 | N15: 0 | P15: 0 | Q15: 0
B16: c2 | D16: 0 | F16: 0 | H16: 0 | J16: 0 | L16: 0 | N16: 0 | P16: 0 | Q16: 0
B17: c3 | D17: 0
B18: c4
B19: c5
B20: c6
B21: c7
B22: c8
B23: c9
B24: c10
B25: c11
B26: c12
B27: c13
B28: c14
B29: c15
... B39: c25

Sheet p12
B2: PLANNING
G6: Année | I6: 2019
G7: PERIODE
G8: TOTAL HEURES SEMAINE | I8: 1.6666667
G9: TOTAL HEURES PERIODE | I9: 0
C14: LUNDI | D14: HEURES | E14: MARDI | F14: HEURES | G14: MERCREDI | H14: HEURES | I14: JEUDI | J14: HEURES | K14: VENDREDI | L14: HEURES | M14: SAMEDI | N14: HEURES | O14: DIMANCHE | P14: HEURES | Q14: TOTAL HEURES
B15: c1 | D15: 0 | F15: 0 | H15: 0 | J15: 0 | L15: 0 | N15: 0 | P15: 0 | Q15: 0
B16: c2 | D16: 0 | F16: 0 | H16: 0 | J16: 0 | L16: 0 | N16: 0 | P16: 0 | Q16: 0
B17: c3 | D17: 0
B18: c4
B19: c5
B20: c6
B21: c7
B22: c8
B23: c9
B24: c10
B25: c11
B26: c12
B27: c13
B28: c14
B29: c15
... B39: c25

Sheet p13
B2: PLANNING
G6: Année | I6: 2019
G7: PERIODE
G8: TOTAL HEURES SEMAINE | I8: 1.6666667
G9: TOTAL HEURES PERIODE | I9: 0
C14: LUNDI | D14: HEURES | E14: MARDI | F14: HEURES | G14: MERCREDI | H14: HEURES | I14: JEUDI | J14: HEURES | K14: VENDREDI | L14: HEURES | M14: SAMEDI | N14: HEURES | O14: DIMANCHE | P14: HEURES | Q14: TOTAL HEURES
B15: c1 | D15: 0 | F15: 0 | H15: 0 | J15: 0 | L15: 0 | N15: 0 | P15: 0 | Q15: 0
B16: c2 | D16: 0 | F16: 0 | H16: 0 | J16: 0 | L16: 0 | N16: 0 | P16: 0 | Q16: 0
B17: c3 | D17: 0
B18: c4
B19: c5
B20: c6
B21: c7
B22: c8
B23: c9
B24: c10
B25: c11
B26: c12
B27: c13
B28: c14
B29: c15
... B39: c25

Sheet Feuil1
A1: PLANNING | B1: 2019
B4: SEMAINE 1 | H4: SEMAINE 2 | N4: SEMAINE 3 | T4: SEMAINE 4 | Z4: SEMAINE 5 | AF4: SEMAINE 1 | AL4: SEMAINE 2 | AR4: SEMAINE 3 | AX4: SEMAINE 4 | BD4: SEMAINE 5 | BJ4: SEMAINE 1 | BP4: SEMAINE 2 | BV4: SEMAINE 3 | CB4: SEMAINE 4 | CH4: SEMAINE 5 | CN4: SEMAINE 1 | CT4: SEMAINE 2 | CZ4: SEMAINE 3 | DF4: SEMAINE 4 | DL4: SEMAINE 5 | DR4: SEMAINE 1 | DX4: SEMAINE 2 | ED4: SEMAINE 3 | EJ4: SEMAINE 4 | EP4: SEMAINE 5 | EV4: SEMAINE 1 | FB4: SEMAINE 2 | FH4: SEMAINE 3 | FN4: SEMAINE 4 | FT4: SEMAINE 5 | FZ4: SEMAINE 1 | GF4: SEMAINE 2 | GL4: SEMAINE 3 | GR4: SEMAINE 4 | GX4: SEMAINE 5 | HD4: SEMAINE 1 | HJ4: SEMAINE 2 | HP4: SEMAINE 3 | HV4: SEMAINE 4 | IB4: SEMAINE 5 | IH4: SEMAINE 1 | IN4: SEMAINE 2 | IT4: SEMAINE 3 | IZ4: SEMAINE 4 | JF4: SEMAINE 5
B6: J1 | C6: J2 | D6: J3 | E6: J4 | F6: J5 | H6: J1 | I6: J2 | J6: J3 | K6: J4 | L6: J5 | N6: J1 | O6: J2 | P6: J3 | Q6: J4 | R6: J5 | T6: J1 | U6: J2 | V6: J3 | W6: J4 | X6: J5 | Z6: J1 | AA6: J2 | AB6: J3 | AC6: J4 | AD6: J5 | AF6: J1 | AG6: J2 | AH6: J3 | AI6: J4 | AJ6: J5 | AL6: J1 | AM6: J2 | AN6: J3 | AO6: J4 | AP6: J5 | AR6: J1 | AS6: J2 | AT6: J3 | AU6: J4 | AV6: J5 | AX6: J1 | AY6: J2 | AZ6: J3 | BA6: J4 | BB6: J5 | BD6: J1 | BE6: J2 | BF6: J3 | BG6: J4 | BH6: J5 | BJ6: J1 | BK6: J2 | BL6: J3 | BM6: J4 | BN6: J5 | BP6: J1 | BQ6: J2 | BR6: J3 | BS6: J4 | BT6: J5 | BV6: J1 | BW6: J2 | BX6: J3 | BY6: J4 | BZ6: J5 | CB6: J1 | CC6: J2 | CD6: J3 | CE6: J4 | CF6: J5 | CH6: J1 | CI6: J2 | CJ6: J3 | CK6: J4 | CL6: J5 | CN6: J1 | CO6: J2 | CP6: J3 | CQ6: J4 | CR6: J5 | CT6: J1 | CU6: J2 | CV6: J3 | CW6: J4 | CX6: J5 | CZ6: J1 | DA6: J2 | DB6: J3 | DC6: J4 | DD6: J5 | DF6: J1 | DG6: J2 | DH6: J3 | DI6: J4 | DJ6: J5 | DL6: J1 | DM6: J2 | DN6: J3 | DO6: J4 | DP6: J5 | DR6: J1 | DS6: J2 | DT6: J3 | DU6: J4 | DV6: J5 | DX6: J1 | DY6: J2 | DZ6: J3 | EA6: J4 | EB6: J5 | ED6: J1 | EE6: J2 | EF6: J3 | EG6: J4 | EH6: J5 | EJ6: J1 | EK6: J2 | EL6: J3 | EM6: J4 | EN6: J5 | EP6: J1 | EQ6: J2 | ER6: J3 | ES6: J4 | ET6: J5 | EV6: J1 | EW6: J2 | EX6: J3 | EY6: J4 | EZ6: J5 | FB6: J1 | FC6: J2 | FD6: J3 | FE6: J4 | FF6: J5 | FH6: J1 | FI6: J2 | FJ6: J3 | FK6: J4 | FL6: J5 | FN6: J1 | FO6: J2 | FP6: J3 | FQ6: J4 | FR6: J5 | FT6: J1 | FU6: J2 | FV6: J3 | FW6: J4 | FX6: J5 | FZ6: J1 | GA6: J2 | GB6: J3 | GC6: J4 | GD6: J5 | GF6: J1 | GG6: J2 | GH6: J3 | GI6: J4 | GJ6: J5 | GL6: J1 | GM6: J2 | GN6: J3 | GO6: J4 | GP6: J5 | GR6: J1 | GS6: J2 | GT6: J3 | GU6: J4 | GV6: J5 | GX6: J1 | GY6: J2 | GZ6: J3 | HA6: J4 | HB6: J5 | HD6: J1 | HE6: J2 | HF6: J3 | HG6: J4 | HH6: J5 | HJ6: J1 | HK6: J2 | HL6: J3 | HM6: J4 | HN6: J5 | HP6: J1 | HQ6: J2 | HR6: J3 | HS6: J4 | HT6: J5 | HV6: J1 | HW6: J2 | HX6: J3 | HY6: J4 | HZ6: J5 | IB6: J1 | IC6: J2 | ID6: J3 | IE6: J4 | IF6: J5 | IH6: J1 | II6: J2 | IJ6: J3 | IK6: J4 | IL6: J5 | IN6: J1 | IO6: J2 | IP6: J3 | IQ6: J4 | IR6: J5 | IT6: J1 | IU6: J2 | IV6: J3 | IW6: J4 | IX6: J5 | IZ6: J1 | JA6: J2 | JB6: J3 | JC6: J4 | JD6: J5 | JF6: J1 | JG6: J2 | JH6: J3 | JI6: J4 | JJ6: J5
A7: CHAUFFEUR 1 | B7: A | C7: B | D7: C | E7: D | F7: E | H7: F | I7: G | J7: H | K7: I | L7: J | N7: K | O7: L | P7: M | Q7: N | R7: O | T7: P | U7: Q | V7: R | W7: S | X7: T | Z7: U | AA7: V | AB7: W | AC7: X | AD7: Y | AF7: A | AG7: B | AH7: C | AI7: D | AJ7: E | AL7: F | AM7: G | AN7: H | AO7: I | AP7: J | AR7: K | AS7: L | AT7: M | AU7: N | AV7: O | AX7: P | AY7: Q | AZ7: R | BA7: S | BB7: T | BD7: U | BE7: V | BF7: W | BG7: X | BH7: Y | BJ7: A | BK7: B | BL7: C | BM7: D | BN7: E | BP7: F | BQ7: G | BR7: H | BS7: I | BT7: J | BV7: K | BW7: L | BX7: M | BY7: N | BZ7: O | CB7: P | CC7: Q | CD7: R | CE7: S | CF7: T | CH7: U | CI7: V | CJ7: W | CK7: X | CL7: Y | CN7: A | CO7: B | CP7: C | CQ7: D | CR7: E | CT7: F | CU7: G | CV7: H | CW7: I | CX7: J | CZ7: K | DA7: L | DB7: M | DC7: N | DD7: O | DF7: P | DG7: Q | DH7: R | DI7: S | DJ7: T | DL7: U | DM7: V | DN7: W | DO7: X | DP7: Y | DR7: A | DS7: B | DT7: C | DU7: D | DV7: E | DX7: F | DY7: G | DZ7: H | EA7: I | EB7: J | ED7: K | EE7: L | EF7: M | EG7: N | EH7: O | EJ7: P | EK7: Q | EL7: R | EM7: S | EN7: T | EP7: U | EQ7: V | ER7: W | ES7: X | ET7: Y | EV7: A | EW7: B | EX7: C | EY7: D | EZ7: E | FB7: F | FC7: G | FD7: H | FE7: I | FF7: J | FH7: K | FI7: L | FJ7: M | FK7: N | FL7: O | FN7: P | FO7: Q | FP7: R | FQ7: S | FR7: T | FT7: U | FU7: V | FV7: W | FW7: X | FX7: Y | FZ7: A | GA7: B | GB7: C | GC7: D | GD7: E | GF7: F | GG7: G | GH7: H | GI7: I | GJ7: J | GL7: K | GM7: L | GN7: M | GO7: N | GP7: O | GR7: P | GS7: Q | GT7: R | GU7: S | GV7: T | GX7: U | GY7: V | GZ7: W | HA7: X | HB7: Y | HD7: A | HE7: B | HF7: C | HG7: D | HH7: E | HJ7: F | HK7: G | HL7: H | HM7: I | HN7: J | HP7: K | HQ7: L | HR7: M | HS7: N | HT7: O | HV7: P | HW7: Q | HX7: R | HY7: S | HZ7: T | IB7: U | IC7: V | ID7: W | IE7: X | IF7: Y | IH7: A | II7: B | IJ7: C | IK7: D | IL7: E | IN7: F | IO7: G | IP7: H | IQ7: I | IR7: J | IT7: K | IU7: L | IV7: M | IW7: N | IX7: O | IZ7: P | JA7: Q | JB7: R | JC7: S | JD7: T | JF7: U | JG7: V | JH7: W | JI7: X | JJ7: Y
A8: CHAUFFEUR 2 | B8: B | C8: C | D8: D | E8: E | F8: F | H8: G | I8: H | J8: I | K8: J | L8: K | N8: L | O8: M | P8: N | Q8: O | R8: P | T8: Q | U8: R | V8: S | W8: T | X8: U | Z8: V | AA8: W | AB8: X | AC8: Y | AD8: A | AF8: B | AG8: C | AH8: D | AI8: E | AJ8: F | AL8: G | AM8: H | AN8: I | AO8: J | AP8: K | AR8: L | AS8: M | AT8: N | AU8: O | AV8: P | AX8: Q | AY8: R | AZ8: S | BA8: T | BB8: U | BD8: V | BE8: W | BF8: X | BG8: Y | BH8: A | BJ8: B | BK8: C | BL8: D | BM8: E | BN8: F | BP8: G | BQ8: H | BR8: I | BS8: J | BT8: K | BV8: L | BW8: M | BX8: N | BY8: O | BZ8: P | CB8: Q | CC8: R | CD8: S | CE8: T | CF8: U | CH8: V | CI8: W | CJ8: X | CK8: Y | CL8: A | CN8: B | CO8: C | CP8: D | CQ8: E | CR8: F | CT8: G | CU8: H | CV8: I | CW8: J | CX8: K | CZ8: L | DA8: M | DB8: N | DC8: O | DD8: P | DF8: Q | DG8: R | DH8: S | DI8: T | DJ8: U | DL8: V | DM8: W | DN8: X | DO8: Y | DP8: A | DR8: B | DS8: C | DT8: D | DU8: E | DV8: F | DX8: G | DY8: H | DZ8: I | EA8: J | EB8: K | ED8: L | EE8: M | EF8: N | EG8: O | EH8: P | EJ8: Q | EK8: R | EL8: S | EM8: T | EN8: U | EP8: V | EQ8: W | ER8: X | ES8: Y | ET8: A | EV8: B | EW8: C | EX8: D | EY8: E | EZ8: F | FB8: G | FC8: H | FD8: I | FE8: J | FF8: K | FH8: L | FI8: M | FJ8: N | FK8: O | FL8: P | FN8: Q | FO8: R | FP8: S | FQ8: T | FR8: U | FT8: V | FU8: W | FV8: X | FW8: Y | FX8: A | FZ8: B | GA8: C | GB8: D | GC8: E | GD8: F | GF8: G | GG8: H | GH8: I | GI8: J | GJ8: K | GL8: L | GM8: M | GN8: N | GO8: O | GP8: P | GR8: Q | GS8: R | GT8: S | GU8: T | GV8: U | GX8: V | GY8: W | GZ8: X | HA8: Y | HB8: A | HD8: B | HE8: C | HF8: D | HG8: E | HH8: F | HJ8: G | HK8: H | HL8: I | HM8: J | HN8: K | HP8: L | HQ8: M | HR8: N | HS8: O | HT8: P | HV8: Q | HW8: R | HX8: S | HY8: T | HZ8: U | IB8: V | IC8: W | ID8: X | IE8: Y | IF8: A | IH8: B | II8: C | IJ8: D | IK8: E | IL8: F | IN8: G | IO8: H | IP8: I | IQ8: J | IR8: K | IT8: L | IU8: M | IV8: N | IW8: O | IX8: P | IZ8: Q | JA8: R | JB8: S | JC8: T | JD8: U | JF8: V | JG8: W | JH8: X | JI8: Y | JJ8: A
A9: CHAUFFEUR 3 | B9: C | C9: D | D9: E | E9: F | F9: G | H9: H | I9: I | J9: J | K9: K | L9: L | N9: M | O9: N | P9: O | Q9: P | R9: Q | T9: R | U9: S | V9: T | W9: U | X9: V | Z9: W | AA9: X | AB9: Y | AC9: A | AD9: B | AF9: C | AG9: D | AH9: E | AI9: F | AJ9: G | AL9: H | AM9: I | AN9: J | AO9: K | AP9: L | AR9: M | AS9: N | AT9: O | AU9: P | AV9: Q | AX9: R | AY9: S | AZ9: T | BA9: U | BB9: V | BD9: W | BE9: X | BF9: Y | BG9: A | BH9: B | BJ9: C | BK9: D | BL9: E | BM9: F | BN9: G | BP9: H | BQ9: I | BR9: J | BS9: K | BT9: L | BV9: M | BW9: N | BX9: O | BY9: P | BZ9: Q | CB9: R | CC9: S | CD9: T | CE9: U | CF9: V | CH9: W | CI9: X | CJ9: Y | CK9: A | CL9: B | CN9: C | CO9: D | CP9: E | CQ9: F | CR9: G | CT9: H | CU9: I | CV9: J | CW9: K | CX9: L | CZ9: M | DA9: N | DB9: O | DC9: P | DD9: Q | DF9: R | DG9: S | DH9: T | DI9: U | DJ9: V | DL9: W | DM9: X | DN9: Y | DO9: A | DP9: B | DR9: C | DS9: D | DT9: E | DU9: F | DV9: G | DX9: H | DY9: I | DZ9: J | EA9: K | EB9: L | ED9: M | EE9: N | EF9: O | EG9: P | EH9: Q | EJ9: R | EK9: S | EL9: T | EM9: U | EN9: V | EP9: W | EQ9: X | ER9: Y | ES9: A | ET9: B | EV9: C | EW9: D | EX9: E | EY9: F | EZ9: G | FB9: H | FC9: I | FD9: J | FE9: K | FF9: L | FH9: M | FI9: N | FJ9: O | FK9: P | FL9: Q | FN9: R | FO9: S | FP9: T | FQ9: U | FR9: V | FT9: W | FU9: X | FV9: Y | FW9: A | FX9: B | FZ9: C | GA9: D | GB9: E | GC9: F | GD9: G | GF9: H | GG9: I | GH9: J | GI9: K | GJ9: L | GL9: M | GM9: N | GN9: O | GO9: P | GP9: Q | GR9: R | GS9: S | GT9: T | GU9: U | GV9: V | GX9: W | GY9: X | GZ9: Y | HA9: A | HB9: B | HD9: C | HE9: D | HF9: E | HG9: F | HH9: G | HJ9: H | HK9: I | HL9: J | HM9: K | HN9: L | HP9: M | HQ9: N | HR9: O | HS9: P | HT9: Q | HV9: R | HW9: S | HX9: T | HY9: U | HZ9: V | IB9: W | IC9: X | ID9: Y | IE9: A | IF9: B | IH9: C | II9: D | IJ9: E | IK9: F | IL9: G | IN9: H | IO9: I | IP9: J | IQ9: K | IR9: L | IT9: M | IU9: N | IV9: O | IW9: P | IX9: Q | IZ9: R | JA9: S | JB9: T | JC9: U | JD9: V | JF9: W | JG9: X | JH9: Y | JI9: A | JJ9: B
A10: CHAUFFEUR 4 | B10: D | C10: E | D10: F | E10: G | F10: H | H10: I | I10: J | J10: K | K10: L | L10: M | N10: N | O10: O | P10: P | Q10: Q | R10: R | T10: S | U10: T | V10: U | W10: V | X10: W | Z10: X | AA10: Y | AB10: A | AC10: B | AD10: C | AF10: D | AG10: E | AH10: F | AI10: G | AJ10: H | AL10: I | AM10: J | AN10: K | AO10: L | AP10: M | AR10: N | AS10: O | AT10: P | AU10: Q | AV10: R | AX10: S | AY10: T | AZ10: U | BA10: V | BB10: W | BD10: X | BE10: Y | BF10: A | BG10: B | BH10: C | BJ10: D | BK10: E | BL10: F | BM10: G | BN10: H | BP10: I | BQ10: J | BR10: K | BS10: L | BT10: M | BV10: N | BW10: O | BX10: P | BY10: Q | BZ10: R | CB10: S | CC10: T | CD10: U | CE10: V | CF10: W | CH10: X | CI10: Y | CJ10: A | CK10: B | CL10: C | CN10: D | CO10: E | CP10: F | CQ10: G | CR10: H | CT10: I | CU10: J | CV10: K | CW10: L | CX10: M | CZ10: N | DA10: O | DB10: P | DC10: Q | DD10: R | DF10: S | DG10: T | DH10: U | DI10: V | DJ10: W | DL10: X | DM10: Y | DN10: A | DO10: B | DP10: C | DR10: D | DS10: E | DT10: F | DU10: G | DV10: H | DX10: I | DY10: J | DZ10: K | EA10: L | EB10: M | ED10: N | EE10: O | EF10: P | EG10: Q | EH10: R | EJ10: S | EK10: T | EL10: U | EM10: V | EN10: W | EP10: X | EQ10: Y | ER10: A | ES10: B | ET10: C | EV10: D | EW10: E | EX10: F | EY10: G | EZ10: H | FB10: I | FC10: J | FD10: K | FE10: L | FF10: M | FH10: N | FI10: O | FJ10: P | FK10: Q | FL10: R | FN10: S | FO10: T | FP10: U | FQ10: V | FR10: W | FT10: X | FU10: Y | FV10: A | FW10: B | FX10: C | FZ10: D | GA10: E | GB10: F | GC10: G | GD10: H | GF10: I | GG10: J | GH10: K | GI10: L | GJ10: M | GL10: N | GM10: O | GN10: P | GO10: Q | GP10: R | GR10: S | GS10: T | GT10: U | GU10: V | GV10: W | GX10: X | GY10: Y | GZ10: A | HA10: B | HB10: C | HD10: D | HE10: E | HF10: F | HG10: G | HH10: H | HJ10: I | HK10: J | HL10: K | HM10: L | HN10: M | HP10: N | HQ10: O | HR10: P | HS10: Q | HT10: R | HV10: S | HW10: T | HX10: U | HY10: V | HZ10: W | IB10: X | IC10: Y | ID10: A | IE10: B | IF10: C | IH10: D | II10: E | IJ10: F | IK10: G | IL10: H | IN10: I | IO10: J | IP10: K | IQ10: L | IR10: M | IT10: N | IU10: O | IV10: P | IW10: Q | IX10: R | IZ10: S | JA10: T | JB10: U | JC10: V | JD10: W | JF10: X | JG10: Y | JH10: A | JI10: B | JJ10: C
A11: CHAUFFEUR 5 | B11: E | C11: F | D11: G | E11: H | F11: I | H11: J | I11: K | J11: L | K11: M | L11: N | N11: O | O11: P | P11: Q | Q11: R | R11: S | T11: T | U11: U | V11: V | W11: W | X11: X | Z11: Y | AA11: A | AB11: B | AC11: C | AD11: D | AF11: E | AG11: F | AH11: G | AI11: H | AJ11: I | AL11: J | AM11: K | AN11: L | AO11: M | AP11: N | AR11: O | AS11: P | AT11: Q | AU11: R | AV11: S | AX11: T | AY11: U | AZ11: V | BA11: W | BB11: X | BD11: Y | BE11: A | BF11: B | BG11: C | BH11: D | BJ11: E | BK11: F | BL11: G | BM11: H | BN11: I | BP11: J | BQ11: K | BR11: L | BS11: M | BT11: N | BV11: O | BW11: P | BX11: Q | BY11: R | BZ11: S | CB11: T | CC11: U | CD11: V | CE11: W | CF11: X | CH11: Y | CI11: A | CJ11: B | CK11: C | CL11: D | CN11: E | CO11: F | CP11: G | CQ11: H | CR11: I | CT11: J | CU11: K | CV11: L | CW11: M | CX11: N | CZ11: O | DA11: P | DB11: Q | DC11: R | DD11: S | DF11: T | DG11: U | DH11: V | DI11: W | DJ11: X | DL11: Y | DM11: A | DN11: B | DO11: C | DP11: D | DR11: E | DS11: F | DT11: G | DU11: H | DV11: I | DX11: J | DY11: K | DZ11: L | EA11: M | EB11: N | ED11: O | EE11: P | EF11: Q | EG11: R | EH11: S | EJ11: T | EK11: U | EL11: V | EM11: W | EN11: X | EP11: Y | EQ11: A | ER11: B | ES11: C | ET11: D | EV11: E | EW11: F | EX11: G | EY11: H | EZ11: I | FB11: J | FC11: K | FD11: L | FE11: M | FF11: N | FH11: O | FI11: P | FJ11: Q | FK11: R | FL11: S | FN11: T | FO11: U | FP11: V | FQ11: W | FR11: X | FT11: Y | FU11: A | FV11: B | FW11: C | FX11: D | FZ11: E | GA11: F | GB11: G | GC11: H | GD11: I | GF11: J | GG11: K | GH11: L | GI11: M | GJ11: N | GL11: O | GM11: P | GN11: Q | GO11: R | GP11: S | GR11: T | GS11: U | GT11: V | GU11: W | GV11: X | GX11: Y | GY11: A | GZ11: B | HA11: C | HB11: D | HD11: E | HE11: F | HF11: G | HG11: H | HH11: I | HJ11: J | HK11: K | HL11: L | HM11: M | HN11: N | HP11: O | HQ11: P | HR11: Q | HS11: R | HT11: S | HV11: T | HW11: U | HX11: V | HY11: W | HZ11: X | IB11: Y | IC11: A | ID11: B | IE11: C | IF11: D | IH11: E | II11: F | IJ11: G | IK11: H | IL11: I | IN11: J | IO11: K | IP11: L | IQ11: M | IR11: N | IT11: O | IU11: P | IV11: Q | IW11: R | IX11: S | IZ11: T | JA11: U | JB11: V | JC11: W | JD11: X | JF11: Y | JG11: A | JH11: B | JI11: C | JJ11: D
A12: CHAUFFEUR 6 | B12: F | C12: G | D12: H | E12: I | F12: J | H12: K | I12: L | J12: M | K12: N | L12: O | N12: P | O12: Q | P12: R | Q12: S | R12: T | T12: U | U12: V | V12: W | W12: X | X12: Y | Z12: A | AA12: B | AB12: C | AC12: D | AD12: E | AF12: F | AG12: G | AH12: H | AI12: I | AJ12: J | AL12: K | AM12: L | AN12: M | AO12: N | AP12: O | AR12: P | AS12: Q | AT12: R | AU12: S | AV12: T | AX12: U | AY12: V | AZ12: W | BA12: X | BB12: Y | BD12: A | BE12: B | BF12: C | BG12: D | BH12: E | BJ12: F | BK12: G | BL12: H | BM12: I | BN12: J | BP12: K | BQ12: L | BR12: M | BS12: N | BT12: O | BV12: P | BW12: Q | BX12: R | BY12: S | BZ12: T | CB12: U | CC12: V | CD12: W | CE12: X | CF12: Y | CH12: A | CI12: B | CJ12: C | CK12: D | CL12: E | CN12: F | CO12: G | CP12: H | CQ12: I | CR12: J | CT12: K | CU12: L | CV12: M | CW12: N | CX12: O | CZ12: P | DA12: Q | DB12: R | DC12: S | DD12: T | DF12: U | DG12: V | DH12: W | DI12: X | DJ12: Y | DL12: A | DM12: B | DN12: C | DO12: D | DP12: E | DR12: F | DS12: G | DT12: H | DU12: I | DV12: J | DX12: K | DY12: L | DZ12: M | EA12: N | EB12: O | ED12: P | EE12: Q | EF12: R | EG12: S | EH12: T | EJ12: U | EK12: V | EL12: W | EM12: X | EN12: Y | EP12: A | EQ12: B | ER12: C | ES12: D | ET12: E | EV12: F | EW12: G | EX12: H | EY12: I | EZ12: J | FB12: K | FC12: L | FD12: M | FE12: N | FF12: O | FH12: P | FI12: Q | FJ12: R | FK12: S | FL12: T | FN12: U | FO12: V | FP12: W | FQ12: X | FR12: Y | FT12: A | FU12: B | FV12: C | FW12: D | FX12: E | FZ12: F | GA12: G | GB12: H | GC12: I | GD12: J | GF12: K | GG12: L | GH12: M | GI12: N | GJ12: O | GL12: P | GM12: Q | GN12: R | GO12: S | GP12: T | GR12: U | GS12: V | GT12: W | GU12: X | GV12: Y | GX12: A | GY12: B | GZ12: C | HA12: D | HB12: E | HD12: F | HE12: G | HF12: H | HG12: I | HH12: J | HJ12: K | HK12: L | HL12: M | HM12: N | HN12: O | HP12: P | HQ12: Q | HR12: R | HS12: S | HT12: T | HV12: U | HW12: V | HX12: W | HY12: X | HZ12: Y | IB12: A | IC12: B | ID12: C | IE12: D | IF12: E | IH12: F | II12: G | IJ12: H | IK12: I | IL12: J | IN12: K | IO12: L | IP12: M | IQ12: N | IR12: O | IT12: P | IU12: Q | IV12: R | IW12: S | IX12: T | IZ12: U | JA12: V | JB12: W | JC12: X | JD12: Y | JF12: A | JG12: B | JH12: C | JI12: D | JJ12: E
A13: CHAUFFEUR 7 | B13: G | C13: H | D13: I | E13: J | F13: K | H13: L | I13: M | J13: N | K13: O | L13: P | N13: Q | O13: R | P13: S | Q13: T | R13: U | T13: V | U13: W | V13: X | W13: Y | X13: A | Z13: B | AA13: C | AB13: D | AC13: E | AD13: F | AF13: G | AG13: H | AH13: I | AI13: J | AJ13: K | AL13: L | AM13: M | AN13: N | AO13: O | AP13: P | AR13: Q | AS13: R | AT13: S | AU13: T | AV13: U | AX13: V | AY13: W | AZ13: X | BA13: Y | BB13: A | BD13: B | BE13: C | BF13: D | BG13: E | BH13: F | BJ13: G | BK13: H | BL13: I | BM13: J | BN13: K | BP13: L | BQ13: M | BR13: N | BS13: O | BT13: P | BV13: Q | BW13: R | BX13: S | BY13: T | BZ13: U | CB13: V | CC13: W | CD13: X | CE13: Y | CF13: A | CH13: B | CI13: C | CJ13: D | CK13: E | CL13: F | CN13: G | CO13: H | CP13: I | CQ13: J | CR13: K | CT13: L | CU13: M | CV13: N | CW13: O | CX13: P | CZ13: Q | DA13: R | DB13: S | DC13: T | DD13: U | DF13: V | DG13: W | DH13: X | DI13: Y | DJ13: A | DL13: B | DM13: C | DN13: D | DO13: E | DP13: F | DR13: G | DS13: H | DT13: I | DU13: J | DV13: K | DX13: L | DY13: M | DZ13: N | EA13: O | EB13: P | ED13: Q | EE13: R | EF13: S | EG13: T | EH13: U | EJ13: V | EK13: W | EL13: X | EM13: Y | EN13: A | EP13: B | EQ13: C | ER13: D | ES13: E | ET13: F | EV13: G | EW13: H | EX13: I | EY13: J | EZ13: K | FB13: L | FC13: M | FD13: N | FE13: O | FF13: P | FH13: Q | FI13: R | FJ13: S | FK13: T | FL13: U | FN13: V | FO13: W | FP13: X | FQ13: Y | FR13: A | FT13: B | FU13: C | FV13: D | FW13: E | FX13: F | FZ13: G | GA13: H | GB13: I | GC13: J | GD13: K | GF13: L | GG13: M | GH13: N | GI13: O | GJ13: P | GL13: Q | GM13: R | GN13: S | GO13: T | GP13: U | GR13: V | GS13: W | GT13: X | GU13: Y | GV13: A | GX13: B | GY13: C | GZ13: D | HA13: E | HB13: F | HD13: G | HE13: H | HF13: I | HG13: J | HH13: K | HJ13: L | HK13: M | HL13: N | HM13: O | HN13: P | HP13: Q | HQ13: R | HR13: S | HS13: T | HT13: U | HV13: V | HW13: W | HX13: X | HY13: Y | HZ13: A | IB13: B | IC13: C | ID13: D | IE13: E | IF13: F | IH13: G | II13: H | IJ13: I | IK13: J | IL13: K | IN13: L | IO13: M | IP13: N | IQ13: O | IR13: P | IT13: Q | IU13: R | IV13: S | IW13: T | IX13: U | IZ13: V | JA13: W | JB13: X | JC13: Y | JD13: A | JF13: B | JG13: C | JH13: D | JI13: E | JJ13: F
A14: CHAUFFEUR 8 | B14: H | C14: I | D14: J | E14: K | F14: L | H14: M | I14: N | J14: O | K14: P | L14: Q | N14: R | O14: S | P14: T | Q14: U | R14: V | T14: W | U14: X | V14: Y | W14: A | X14: B | Z14: C | AA14: D | AB14: E | AC14: F | AD14: G | AF14: H | AG14: I | AH14: J | AI14: K | AJ14: L | AL14: M | AM14: N | AN14: O | AO14: P | AP14: Q | AR14: R | AS14: S | AT14: T | AU14: U | AV14: V | AX14: W | AY14: X | AZ14: Y | BA14: A | BB14: B | BD14: C | BE14: D | BF14: E | BG14: F | BH14: G | BJ14: H | BK14: I | BL14: J | BM14: K | BN14: L | BP14: M | BQ14: N | BR14: O | BS14: P | BT14: Q | BV14: R | BW14: S | BX14: T | BY14: U | BZ14: V | CB14: W | CC14: X | CD14: Y | CE14: A | CF14: B | CH14: C | CI14: D | CJ14: E | CK14: F | CL14: G | CN14: H | CO14: I | CP14: J | CQ14: K | CR14: L | CT14: M | CU14: N | CV14: O | CW14: P | CX14: Q | CZ14: R | DA14: S | DB14: T | DC14: U | DD14: V | DF14: W | DG14: X | DH14: Y | DI14: A | DJ14: B | DL14: C | DM14: D | DN14: E | DO14: F | DP14: G | DR14: H | DS14: I | DT14: J | DU14: K | DV14: L | DX14: M | DY14: N | DZ14: O | EA14: P | EB14: Q | ED14: R | EE14: S | EF14: T | EG14: U | EH14: V | EJ14: W | EK14: X | EL14: Y | EM14: A | EN14: B | EP14: C | EQ14: D | ER14: E | ES14: F | ET14: G | EV14: H | EW14: I | EX14: J | EY14: K | EZ14: L | FB14: M | FC14: N | FD14: O | FE14: P | FF14: Q | FH14: R | FI14: S | FJ14: T | FK14: U | FL14: V | FN14: W | FO14: X | FP14: Y | FQ14: A | FR14: B | FT14: C | FU14: D | FV14: E | FW14: F | FX14: G | FZ14: H | GA14: I | GB14: J | GC14: K | GD14: L | GF14: M | GG14: N | GH14: O | GI14: P | GJ14: Q | GL14: R | GM14: S | GN14: T | GO14: U | GP14: V | GR14: W | GS14: X | GT14: Y | GU14: A | GV14: B | GX14: C | GY14: D | GZ14: E | HA14: F | HB14: G | HD14: H | HE14: I | HF14: J | HG14: K | HH14: L | HJ14: M | HK14: N | HL14: O | HM14: P | HN14: Q | HP14: R | HQ14: S | HR14: T | HS14: U | HT14: V | HV14: W | HW14: X | HX14: Y | HY14: A | HZ14: B | IB14: C | IC14: D | ID14: E | IE14: F | IF14: G | IH14: H | II14: I | IJ14: J | IK14: K | IL14: L | IN14: M | IO14: N | IP14: O | IQ14: P | IR14: Q | IT14: R | IU14: S | IV14: T | IW14: U | IX14: V | IZ14: W | JA14: X | JB14: Y | JC14: A | JD14: B | JF14: C | JG14: D | JH14: E | JI14: F | JJ14: G
A15: CHAUFFEUR 9 | B15: I | C15: J | D15: K | E15: L | F15: M | H15: N | I15: O | J15: P | K15: Q | L15: R | N15: S | O15: T | P15: U | Q15: V | R15: W | T15: X | U15: Y | V15: A | W15: B | X15: C | Z15: D | AA15: E | AB15: F | AC15: G | AD15: H | AF15: I | AG15: J | AH15: K | AI15: L | AJ15: M | AL15: N | AM15: O | AN15: P | AO15: Q | AP15: R | AR15: S | AS15: T | AT15: U | AU15: V | AV15: W | AX15: X | AY15: Y | AZ15: A | BA15: B | BB15: C | BD15: D | BE15: E | BF15: F | BG15: G | BH15: H | BJ15: I | BK15: J | BL15: K | BM15: L | BN15: M | BP15: N | BQ15: O | BR15: P | BS15: Q | BT15: R | BV15: S | BW15: T | BX15: U | BY15: V | BZ15: W | CB15: X | CC15: Y | CD15: A | CE15: B | CF15: C | CH15: D | CI15: E | CJ15: F | CK15: G | CL15: H | CN15: I | CO15: J | CP15: K | CQ15: L | CR15: M | CT15: N | CU15: O | CV15: P | CW15: Q | CX15: R | CZ15: S | DA15: T | DB15: U | DC15: V | DD15: W | DF15: X | DG15: Y | DH15: A | DI15: B | DJ15: C | DL15: D | DM15: E | DN15: F | DO15: G | DP15: H | DR15: I | DS15: J | DT15: K | DU15: L | DV15: M | DX15: N | DY15: O | DZ15: P | EA15: Q | EB15: R | ED15: S | EE15: T | EF15: U | EG15: V | EH15: W | EJ15: X | EK15: Y | EL15: A | EM15: B | EN15: C | EP15: D | EQ15: E | ER15: F | ES15: G | ET15: H | EV15: I | EW15: J | EX15: K | EY15: L | EZ15: M | FB15: N | FC15: O | FD15: P | FE15: Q | FF15: R | FH15: S | FI15: T | FJ15: U | FK15: V | FL15: W | FN15: X | FO15: Y | FP15: A | FQ15: B | FR15: C | FT15: D | FU15: E | FV15: F | FW15: G | FX15: H | FZ15: I | GA15: J | GB15: K | GC15: L | GD15: M | GF15: N | GG15: O | GH15: P | GI15: Q | GJ15: R | GL15: S | GM15: T | GN15: U | GO15: V | GP15: W | GR15: X | GS15: Y | GT15: A | GU15: B | GV15: C | GX15: D | GY15: E | GZ15: F | HA15: G | HB15: H | HD15: I | HE15: J | HF15: K | HG15: L | HH15: M | HJ15: N | HK15: O | HL15: P | HM15: Q | HN15: R | HP15: S | HQ15: T | HR15: U | HS15: V | HT15: W | HV15: X | HW15: Y | HX15: A | HY15: B | HZ15: C | IB15: D | IC15: E | ID15: F | IE15: G | IF15: H | IH15: I | II15: J | IJ15: K | IK15: L | IL15: M | IN15: N | IO15: O | IP15: P | IQ15: Q | IR15: R | IT15: S | IU15: T | IV15: U | IW15: V | IX15: W | IZ15: X | JA15: Y | JB15: A | JC15: B | JD15: C | JF15: D | JG15: E | JH15: F | JI15: G | JJ15: H
A16: CHAUFFEUR 10 | B16: J | C16: K | D16: L | E16: M | F16: N | H16: O | I16: P | J16: Q | K16: R | L16: S | N16: T | O16: U | P16: V | Q16: W | R16: X | T16: Y | U16: A | V16: B | W16: C | X16: D | Z16: E | AA16: F | AB16: G | AC16: H | AD16: I | AF16: J | AG16: K | AH16: L | AI16: M | AJ16: N | AL16: O | AM16: P | AN16: Q | AO16: R | AP16: S | AR16: T | AS16: U | AT16: V | AU16: W | AV16: X | AX16: Y | AY16: A | AZ16: B | BA16: C | BB16: D | BD16: E | BE16: F | BF16: G | BG16: H | BH16: I | BJ16: J | BK16: K | BL16: L | BM16: M | BN16: N | BP16: O | BQ16: P | BR16: Q | BS16: R | BT16: S | BV16: T | BW16: U | BX16: V | BY16: W | BZ16: X | CB16: Y | CC16: A | CD16: B | CE16: C | CF16: D | CH16: E | CI16: F | CJ16: G | CK16: H | CL16: I | CN16: J | CO16: K | CP16: L | CQ16: M | CR16: N | CT16: O | CU16: P | CV16: Q | CW16: R | CX16: S | CZ16: T | DA16: U | DB16: V | DC16: W | DD16: X | DF16: Y | DG16: A | DH16: B | DI16: C | DJ16: D | DL16: E | DM16: F | DN16: G | DO16: H | DP16: I | DR16: J | DS16: K | DT16: L | DU16: M | DV16: N | DX16: O | DY16: P | DZ16: Q | EA16: R | EB16: S | ED16: T | EE16: U | EF16: V | EG16: W | EH16: X | EJ16: Y | EK16: A | EL16: B | EM16: C | EN16: D | EP16: E | EQ16: F | ER16: G | ES16: H | ET16: I | EV16: J | EW16: K | EX16: L | EY16: M | EZ16: N | FB16: O | FC16: P | FD16: Q | FE16: R | FF16: S | FH16: T | FI16: U | FJ16: V | FK16: W | FL16: X | FN16: Y | FO16: A | FP16: B | FQ16: C | FR16: D | FT16: E | FU16: F | FV16: G | FW16: H | FX16: I | FZ16: J | GA16: K | GB16: L | GC16: M | GD16: N | GF16: O | GG16: P | GH16: Q | GI16: R | GJ16: S | GL16: T | GM16: U | GN16: V | GO16: W | GP16: X | GR16: Y | GS16: A | GT16: B | GU16: C | GV16: D | GX16: E | GY16: F | GZ16: G | HA16: H | HB16: I | HD16: J | HE16: K | HF16: L | HG16: M | HH16: N | HJ16: O | HK16: P | HL16: Q | HM16: R | HN16: S | HP16: T | HQ16: U | HR16: V | HS16: W | HT16: X | HV16: Y | HW16: A | HX16: B | HY16: C | HZ16: D | IB16: E | IC16: F | ID16: G | IE16: H | IF16: I | IH16: J | II16: K | IJ16: L | IK16: M | IL16: N | IN16: O | IO16: P | IP16: Q | IQ16: R | IR16: S | IT16: T | IU16: U | IV16: V | IW16: W | IX16: X | IZ16: Y | JA16: A | JB16: B | JC16: C | JD16: D | JF16: E | JG16: F | JH16: G | JI16: H | JJ16: I
A17: CHAUFFEUR 11 | B17: K | C17: L | D17: M | E17: N | F17: O | H17: P | I17: Q | J17: R | K17: S | L17: T | N17: U | O17: V | P17: W | Q17: X | R17: Y | T17: A | U17: B | V17: C | W17: D | X17: E | Z17: F | AA17: G | AB17: H | AC17: I | AD17: J | AF17: K | AG17: L | AH17: M | AI17: N | AJ17: O | AL17: P | AM17: Q | AN17: R | AO17: S | AP17: T | AR17: U | AS17: V | AT17: W | AU17: X | AV17: Y | AX17: A | AY17: B | AZ17: C | BA17: D | BB17: E | BD17: F | BE17: G | BF17: H | BG17: I | BH17: J | BJ17: K | BK17: L | BL17: M | BM17: N | BN17: O | BP17: P | BQ17: Q | BR17: R | BS17: S | BT17: T | BV17: U | BW17: V | BX17: W | BY17: X | BZ17: Y | CB17: A | CC17: B | CD17: C | CE17: D | CF17: E | CH17: F | CI17: G | CJ17: H | CK17: I | CL17: J | CN17: K | CO17: L | CP17: M | CQ17: N | CR17: O | CT17: P | CU17: Q | CV17: R | CW17: S | CX17: T | CZ17: U | DA17: V | DB17: W | DC17: X | DD17: Y | DF17: A | DG17: B | DH17: C | DI17: D | DJ17: E | DL17: F | DM17: G | DN17: H | DO17: I | DP17: J | DR17: K | DS17: L | DT17: M | DU17: N | DV17: O | DX17: P | DY17: Q | DZ17: R | EA17: S | EB17: T | ED17: U | EE17: V | EF17: W | EG17: X | EH17: Y | EJ17: A | EK17: B | EL17: C | EM17: D | EN17: E | EP17: F | EQ17: G | ER17: H | ES17: I | ET17: J | EV17: K | EW17: L | EX17: M | EY17: N | EZ17: O | FB17: P | FC17: Q | FD17: R | FE17: S | FF17: T | FH17: U | FI17: V | FJ17: W | FK17: X | FL17: Y | FN17: A | FO17: B | FP17: C | FQ17: D | FR17: E | FT17: F | FU17: G | FV17: H | FW17: I | FX17: J | FZ17: K | GA17: L | GB17: M | GC17: N | GD17: O | GF17: P | GG17: Q | GH17: R | GI17: S | GJ17: T | GL17: U | GM17: V | GN17: W | GO17: X | GP17: Y | GR17: A | GS17: B | GT17: C | GU17: D | GV17: E | GX17: F | GY17: G | GZ17: H | HA17: I | HB17: J | HD17: K | HE17: L | HF17: M | HG17: N | HH17: O | HJ17: P | HK17: Q | HL17: R | HM17: S | HN17: T | HP17: U | HQ17: V | HR17: W | HS17: X | HT17: Y | HV17: A | HW17: B | HX17: C | HY17: D | HZ17: E | IB17: F | IC17: G | ID17: H | IE17: I | IF17: J | IH17: K | II17: L | IJ17: M | IK17: N | IL17: O | IN17: P | IO17: Q | IP17: R | IQ17: S | IR17: T | IT17: U | IU17: V | IV17: W | IW17: X | IX17: Y | IZ17: A | JA17: B | JB17: C | JC17: D | JD17: E | JF17: F | JG17: G | JH17: H | JI17: I | JJ17: J
A18: CHAUFFEUR 12 | B18: L | C18: M | D18: N | E18: O | F18: P | H18: Q | I18: R | J18: S | K18: T | L18: U | N18: V | O18: W | P18: X | Q18: Y | R18: A | T18: B | U18: C | V18: D | W18: E | X18: F | Z18: G | AA18: H | AB18: I | AC18: J | AD18: K | AF18: L | AG18: M | AH18: N | AI18: O | AJ18: P | AL18: Q | AM18: R | AN18: S | AO18: T | AP18: U | AR18: V | AS18: W | AT18: X | AU18: Y | AV18: A | AX18: B | AY18: C | AZ18: D | BA18: E | BB18: F | BD18: G | BE18: H | BF18: I | BG18: J | BH18: K | BJ18: L | BK18: M | BL18: N | BM18: O | BN18: P | BP18: Q | BQ18: R | BR18: S | BS18: T | BT18: U | BV18: V | BW18: W | BX18: X | BY18: Y | BZ18: A | CB18: B | CC18: C | CD18: D | CE18: E | CF18: F | CH18: G | CI18: H | CJ18: I | CK18: J | CL18: K | CN18: L | CO18: M | CP18: N | CQ18: O | CR18: P | CT18: Q | CU18: R | CV18: S | CW18: T | CX18: U | CZ18: V | DA18: W | DB18: X | DC18: Y | DD18: A | DF18: B | DG18: C | DH18: D | DI18: E | DJ18: F | DL18: G | DM18: H | DN18: I | DO18: J | DP18: K | DR18: L | DS18: M | DT18: N | DU18: O | DV18: P | DX18: Q | DY18: R | DZ18: S | EA18: T | EB18: U | ED18: V | EE18: W | EF18: X | EG18: Y | EH18: A | EJ18: B | EK18: C | EL18: D | EM18: E | EN18: F | EP18: G | EQ18: H | ER18: I | ES18: J | ET18: K | EV18: L | EW18: M | EX18: N | EY18: O | EZ18: P | FB18: Q | FC18: R | FD18: S | FE18: T | FF18: U | FH18: V | FI18: W | FJ18: X | FK18: Y | FL18: A | FN18: B | FO18: C | FP18: D | FQ18: E | FR18: F | FT18: G | FU18: H | FV18: I | FW18: J | FX18: K | FZ18: L | GA18: M | GB18: N | GC18: O | GD18: P | GF18: Q | GG18: R | GH18: S | GI18: T | GJ18: U | GL18: V | GM18: W | GN18: X | GO18: Y | GP18: A | GR18: B | GS18: C | GT18: D | GU18: E | GV18: F | GX18: G | GY18: H | GZ18: I | HA18: J | HB18: K | HD18: L | HE18: M | HF18: N | HG18: O | HH18: P | HJ18: Q | HK18: R | HL18: S | HM18: T | HN18: U | HP18: V | HQ18: W | HR18: X | HS18: Y | HT18: A | HV18: B | HW18: C | HX18: D | HY18: E | HZ18: F | IB18: G | IC18: H | ID18: I | IE18: J | IF18: K | IH18: L | II18: M | IJ18: N | IK18: O | IL18: P | IN18: Q | IO18: R | IP18: S | IQ18: T | IR18: U | IT18: V | IU18: W | IV18: X | IW18: Y | IX18: A | IZ18: B | JA18: C | JB18: D | JC18: E | JD18: F | JF18: G | JG18: H | JH18: I | JI18: J | JJ18: K
... A31: CHAUFFEUR 25 | B31: Y | C31: A | D31: B | E31: C | F31: D | H31: E | I31: F | J31: G | K31: H | L31: I | N31: J | O31: K | P31: L | Q31: M | R31: N | T31: O | U31: P | V31: Q | W31: R | X31: S | Z31: U | AA31: V | AB31: W | AC31: X | AD31: Y | AF31: Y | AG31: A | AH31: B | AI31: C | AJ31: D | AL31: E | AM31: F | AN31: G | AO31: H | AP31: I | AR31: J | AS31: K | AT31: L | AU31: M | AV31: N | AX31: O | AY31: P | AZ31: Q | BA31: R | BB31: S | BD31: U | BE31: V | BF31: W | BG31: X | BH31: Y | BJ31: Y | BK31: A | BL31: B | BM31: C | BN31: D | BP31: E | BQ31: F | BR31: G | BS31: H | BT31: I | BV31: J | BW31: K | BX31: L | BY31: M | BZ31: N | CB31: O | CC31: P | CD31: Q | CE31: R | CF31: S | CH31: U | CI31: V | CJ31: W | CK31: X | CL31: Y | CN31: Y | CO31: A | CP31: B | CQ31: C | CR31: D | CT31: E | CU31: F | CV31: G | CW31: H | CX31: I | CZ31: J | DA31: K | DB31: L | DC31: M | DD31: N | DF31: O | DG31: P | DH31: Q | DI31: R | DJ31: S | DL31: U | DM31: V | DN31: W | DO31: X | DP31: Y | DR31: Y | DS31: A | DT31: B | DU31: C | DV31: D | DX31: E | DY31: F | DZ31: G | EA31: H | EB31: I | ED31: J | EE31: K | EF31: L | EG31: M | EH31: N | EJ31: O | EK31: P | EL31: Q | EM31: R | EN31: S | EP31: U | EQ31: V | ER31: W | ES31: X | ET31: Y | EV31: Y | EW31: A | EX31: B | EY31: C | EZ31: D | FB31: E | FC31: F | FD31: G | FE31: H | FF31: I | FH31: J | FI31: K | FJ31: L | FK31: M | FL31: N | FN31: O | FO31: P | FP31: Q | FQ31: R | FR31: S | FT31: U | FU31: V | FV31: W | FW31: X | FX31: Y | FZ31: Y | GA31: A | GB31: B | GC31: C | GD31: D | GF31: E | GG31: F | GH31: G | GI31: H | GJ31: I | GL31: J | GM31: K | GN31: L | GO31: M | GP31: N | GR31: O | GS31: P | GT31: Q | GU31: R | GV31: S | GX31: U | GY31: V | GZ31: W | HA31: X | HB31: Y | HD31: Y | HE31: A | HF31: B | HG31: C | HH31: D | HJ31: E | HK31: F | HL31: G | HM31: H | HN31: I | HP31: J | HQ31: K | HR31: L | HS31: M | HT31: N | HV31: O | HW31: P | HX31: Q | HY31: R | HZ31: S | IB31: U | IC31: V | ID31: W | IE31: X | IF31: Y | IH31: Y | II31: A | IJ31: B | IK31: C | IL31: D | IN31: E | IO31: F | IP31: G | IQ31: H | IR31: I | IT31: J | IU31: K | IV31: L | IW31: M | IX31: N | IZ31: O | JA31: P | JB31: Q | JC31: R | JD31: S | JF31: U | JG31: V | JH31: W | JI31: X | JJ31: Y

Sheet Feuil2
A1: heure journée | B1: 0.33333333
E4: tournéee
E5: tournéee | F5: heure d embauche | G5: coupure | H5: fin de poste | I5: nombre d heures sur la tournée
C6: ok | D6: NAV ATHIS 2 | E6: A | F6: 0.86458333 | G6: 0.03125 | H6: 0.125 | I6: =MOD(H6-F6,1)-G6 -> 0.22916667 | L6: NAV DIJON | M6: D | O6: NAV LANGRES | P6: E
A7: RAM + CAEN 21H15 | B7: O | C7: ok | D7: NAV CHAULNES | E7: B | F7: 0.77083333 | G7: 0.03125 | H7: 0.072916667 | I7: =MOD(H7-F7,1)-G7 -> 0.27083333 | L7: NAV CHAULNES | M7: B | O7: NAV LILLE | P7: F
A8: RAM + ANGERS 21H30 | B8: M | C8: ok | D8: NAV CLERMONT | E8: C | F8: 0.75 | G8: 0.03125 | H8: 0.15625 | I8: =MOD(H8-F8,1)-G8 -> 0.375 | L8: RAM + 20H TOURS | M8: U | O8: RAM + 21h30 TOURS | P8: L
A9: RAM + NANTES 1 | B9: P | C9: ok | D9: NAV DIJON | E9: D | F9: 0.61458333 | G9: 0.03125 | H9: 0.038194444 | I9: =MOD(H9-F9,1)-G9 -> 0.39236111 | L9: RAM + NANTES 21H | M9: J | O9: RAM + 20H TOURS | P9: U
A10: NAV CHATEAUBOUR | B10: R | C10: ok | D10: NAV LANGRES | E10: E | F10: 0.70833333 | G10: 0.03125 | H10: 0.09375 | I10: =MOD(H10-F10,1)-G10 -> 0.35416667 | L10: RAM MALO + LAVAL | M10: T
C11: ok | D11: NAV LILLE | E11: F | F11: 0.75 | G11: 0.03125 | H11: 0.079861111 | I11: =MOD(H11-F11,1)-G11 -> 0.29861111
A12: ATHIS VENDREDI | B12: V | C12: ok | D12: NAV NIORT | E12: G | F12: 0.72916667 | G12: 0.03125 | H12: 0.10416667 | I12: =MOD(H12-F12,1)-G12 -> 0.34375
A13: ROUEN + BASES | B13: W | C13: ok | D13: NAV ST SEVER | E13: H | F13: 0.72916667 | G13: 0 | H13: 0 | I13: =MOD(H13-F13,1)-G13 -> 0.27083333
A14: SU IFS + BASES | B14: X | C14: ok | D14: NAV VELAINES | E14: I | F14: 0.75 | G14: 0.03125 | H14: 0.13888889 | I14: =MOD(H14-F14,1)-G14 -> 0.35763889
A15: NAV NIORT 21H15 | B15: Y | C15: ok | D15: RAM + NANTES 21H | E15: J | F15: 0.625 | G15: 0.041666667 | H15: 0.0625 | I15: =MOD(H15-F15,1)-G15 -> 0.39583333
C16: ok | D16: VENDEE | E16: K | F16: 0.67708333 | G16: 0.03125 | H16: 0 | I16: =MOD(H16-F16,1)-G16 -> 0.29166667
A17: NAV ATHIS 2 | B17: A | C17: ok | D17: RAM + 21h30 TOURS | E17: L | F17: 0.71875 | G17: 0.03125 | H17: 0.10416667 | I17: =MOD(H17-F17,1)-G17 -> 0.35416667 | L17: NAV VELAINES | M17: I | O17: NAV CLERMONT | P17: C
A18: NAV CHAULNES | B18: B | C18: ok | D18: RAM + ANGERS 21H30 | E18: M | F18: 0.625 | G18: 0.041666667 | H18: 0 | I18: =MOD(H18-F18,1)-G18 -> 0.33333333 | L18: RAM + ORLEANS 21H | M18: Q | O18: NAV ATHIS 2 | P18: A
A19: NAV CLERMONT | B19: C | C19: ok | D19: RAM + ATHIS 1 | E19: N | F19: 0.66666667 | G19: 0.03125 | H19: 0.052083333 | I19: =MOD(H19-F19,1)-G19 -> 0.35416667 | O19: NAV NIORT | P19: G
A20: NAV DIJON | B20: D | D20: RAM + CAEN 21H15 | E20: O | F20: 0.625 | G20: 0.03125 | H20: 0.041666667 | I20: =MOD(H20-F20,1)-G20 -> 0.38541667 | O20: RAM + ORLEANS 21H | P20: Q
A21: NAV LANGRES | B21: E | C21: ok | D21: RAM + NANTES 1 | E21: P | F21: 0.625 | G21: 0.03125 | H21: 0 | I21: =MOD(H21-F21,1)-G21 -> 0.34375 | O21: NAV VELAINES | P21: I
A22: NAV LILLE | B22: F | C22: ok | D22: RAM + ORLEANS 21H | E22: Q | F22: 0.70833333 | G22: 0.041666667 | H22: 0.13541667 | I22: =MOD(H22-F22,1)-G22 -> 0.38541667
A23: NAV NIORT | B23: G | C23: ok | D23: NAV CHATEAUBOUR | E23: R | F23: 0.64583333 | G23: 0.020833333 | H23: 0.95833333 | I23: =MOD(H23-F23,1)-G23 -> 0.29166667
A24: NAV ST SEVER | B24: H | C24: ok | D24: RAM 14H00 | E24: S | F24: 0.58333333 | G24: 0.020833333 | H24: 0.95833333 | I24: =MOD(H24-F24,1)-G24 -> 0.35416667
A25: NAV VELAINES | B25: I | C25: ok | D25: RAM MALO + LAVAL | E25: T | F25: 0.70833333 | G25: 0.03125 | H25: 0.041666667 | I25: =MOD(H25-F25,1)-G25 -> 0.30208333
A26: RAM + NANTES 21H | B26: J | C26: ok | D26: RAM + 20H TOURS | E26: U | F26: 0.72916667 | G26: 0.03125 | H26: 0.041666667 | I26: =MOD(H26-F26,1)-G26 -> 0.28125 | L26: NAV NIORT | M26: G
A27: VENDEE | B27: K | C27: ok | D27: ATHIS VENDREDI | E27: V | F27: 0.79166667 | G27: 0.03125 | H27: 0.041666667 | I27: =MOD(H27-F27,1)-G27 -> 0.21875
A28: RAM + 21h30 TOURS | B28: L | C28: ok | D28: ROUEN + BASES | E28: W | F28: 0 | G28: 0 | H28: 0 | I28: =MOD(H28-F28,1)-G28 -> 0
A29: RAM + ATHIS 1 | B29: N | C29: ok | D29: SU IFS + BASES | E29: X | F29: 0 | G29: 0 | H29: 0 | I29: =MOD(H29-F29,1)-G29 -> 0
A30: RAM + ORLEANS 21H | B30: Q | C30: ok | D30: NAV NIORT 21H15 | E30: Y | F30: 0 | G30: 0 | H30: 0 | I30: =MOD(H30-F30,1)-G30 -> 0
A31: RAM 14H00 | B31: S
A32: RAM MALO + LAVAL | B32: T
A33: RAM + 20H TOURS | B33: U

Sheet  grp 1 RAMASSE NAVETTE
C2: SEMAINE 1 | R2: TOTAL HEURES SEMAINE | U2: si superieur a 40h ou 160h | W2: 1.6666667
C3: jour 1 | F3: jour 2 | I3: jour 3 | L3: jour 4 | O3: jour5 | U3: si inferieur ou =a 40h ou 160h | W3: 6.6666667
B5: CHOTARD | C5: RAM + CAEN 21H15 | D5: =VLOOKUP(C5,Feuil2!D6:I30,6,FALSE) -> 0.38541667 | E5: O | F5: RAM + ANGERS 21H30 | G5: =VLOOKUP(F5,Feuil2!D6:I30,6,FALSE) -> 0.33333333 | H5: M | I5: RAM + NANTES 1 | J5: =VLOOKUP(I5,Feuil2!D6:I30,6,FALSE) -> 0.34375 | K5: P | L5: NAV CHATEAUBOUR | M5: =VLOOKUP(L5,Feuil2!D6:I30,6,FALSE) -> 0.29166667 | N5: R | O5: RAM + CAEN 21H15 | P5: =VLOOKUP(O5,Feuil2!D6:I30,6,FALSE) -> 0.38541667 | Q5: O | R5: =SUM(D5+G5+J5+M5+P5) -> 1.7395833
B6: HORVAIS | C6: RAM + ANGERS 21H30 | D6: =VLOOKUP(C6,Feuil2!D7:I31,6,FALSE) -> 0.33333333 | E6: M | F6: RAM + NANTES 1 | G6: =VLOOKUP(F6,Feuil2!D7:I31,6,FALSE) -> 0.34375 | H6: P | I6: NAV CHATEAUBOUR | J6: =VLOOKUP(I6,Feuil2!D7:I31,6,FALSE) -> 0.29166667 | K6: R | L6: RAM + CAEN 21H15 | M6: =VLOOKUP(L6,Feuil2!D7:I31,6,FALSE) -> 0.38541667 | N6: O | O6: RAM + ANGERS 21H30 | P6: =VLOOKUP(O6,Feuil2!D7:I31,6,FALSE) -> 0.33333333 | Q6: M | R6: =SUM(D6+G6+J6+M6+P6) -> 1.6875
B7: NICOL | C7: RAM + NANTES 1 | D7: =VLOOKUP(C7,Feuil2!D8:I32,6,FALSE) -> 0.34375 | E7: P | F7: NAV CHATEAUBOUR | G7: =VLOOKUP(F7,Feuil2!D8:I32,6,FALSE) -> 0.29166667 | H7: R | I7: RAM + CAEN 21H15 | J7: =VLOOKUP(I7,Feuil2!D8:I32,6,FALSE) -> 0.38541667 | K7: O | L7: RAM + ANGERS 21H30 | M7: =VLOOKUP(L7,Feuil2!D8:I32,6,FALSE) -> 0.33333333 | N7: M | O7: RAM + NANTES 1 | P7: =VLOOKUP(O7,Feuil2!D8:I32,6,FALSE) -> 0.34375 | Q7: P | R7: =SUM(D7+G7+J7+M7+P7) -> 1.6979167
B8: ROUAUD | C8: NAV CHATEAUBOUR | D8: =VLOOKUP(C8,Feuil2!D9:I33,6,FALSE) -> 0.29166667 | E8: R | F8: RAM + CAEN 21H15 | G8: =VLOOKUP(F8,Feuil2!D9:I33,6,FALSE) -> 0.38541667 | H8: O | I8: RAM + ANGERS 21H30 | J8: =VLOOKUP(I8,Feuil2!D9:I33,6,FALSE) -> 0.33333333 | K8: M | L8: RAM + NANTES 1 | M8: =VLOOKUP(L8,Feuil2!D9:I33,6,FALSE) -> 0.34375 | N8: P | O8: NAV CHATEAUBOUR | P8: =VLOOKUP(O8,Feuil2!D9:I33,6,FALSE) -> 0.29166667 | Q8: R | R8: =SUM(D8+G8+J8+M8+P8) -> 1.6458333
C10: SEMAINE 2 | R10: TOTAL HEURES SEMAINE | U10: TOTAL HEURES PERIODE
C11: jour 1 | F11: jour 2 | I11: jour 3 | L11: jour 4 | O11: jour5
B13: CHOTARD | C13: RAM + ANGERS 21H30 | D13: =VLOOKUP(C13,Feuil2!D6:I29,6,FALSE) -> 0.33333333 | E13: M | F13: RAM + NANTES 1 | G13: =VLOOKUP(F13,Feuil2!D6:I30,6,FALSE) -> 0.34375 | H13: P | I13: NAV CHATEAUBOUR | J13: =VLOOKUP(I13,Feuil2!D6:I30,6,FALSE) -> 0.29166667 | K13: R | L13: NAV CHATEAUBOUR | M13: =VLOOKUP(L13,Feuil2!D6:I30,6,FALSE) -> 0.29166667 | N13: R | O13: RAM + CAEN 21H15 | P13: =VLOOKUP(O13,Feuil2!D6:I30,6,FALSE) -> 0.38541667 | Q13: O | R13: =SUM(D13+G13+J13+M13+P13) -> 1.6458333 | U13: CHOTARD | V13: =SUM(R5,R13,R21,R29) -> 6.78125
B14: HORVAIS | C14: RAM + NANTES 1 | D14: =VLOOKUP(C14,Feuil2!D7:I30,6,FALSE) -> 0.34375 | E14: P | F14: NAV CHATEAUBOUR | G14: =VLOOKUP(F14,Feuil2!D7:I31,6,FALSE) -> 0.29166667 | H14: R | I14: RAM + CAEN 21H15 | J14: =VLOOKUP(I14,Feuil2!D7:I31,6,FALSE) -> 0.38541667 | K14: O | L14: RAM + CAEN 21H15 | M14: =VLOOKUP(L14,Feuil2!D7:I31,6,FALSE) -> 0.38541667 | N14: O | O14: RAM + ANGERS 21H30 | P14: =VLOOKUP(O14,Feuil2!D7:I31,6,FALSE) -> 0.33333333 | Q14: M | R14: =SUM(D14+G14+J14+M14+P14) -> 1.7395833 | U14: HORVAIS | V14: =SUM(R6,R14,R22,R30) -> 6.71875
B15: NICOL | C15: NAV CHATEAUBOUR | D15: =VLOOKUP(C15,Feuil2!D8:I31,6,FALSE) -> 0.29166667 | E15: R | F15: RAM + CAEN 21H15 | G15: =VLOOKUP(F15,Feuil2!D8:I32,6,FALSE) -> 0.38541667 | H15: O | I15: RAM + ANGERS 21H30 | J15: =VLOOKUP(I15,Feuil2!D8:I32,6,FALSE) -> 0.33333333 | K15: M | L15: RAM + ANGERS 21H30 | M15: =VLOOKUP(L15,Feuil2!D8:I32,6,FALSE) -> 0.33333333 | N15: M | O15: RAM + NANTES 1 | P15: =VLOOKUP(O15,Feuil2!D8:I32,6,FALSE) -> 0.34375 | Q15: P | R15: =SUM(D15+G15+J15+M15+P15) -> 1.6875 | U15: NICOL | V15: =SUM(R7,R15,R23,R31) -> 6.5208333
B16: ROUAUD | C16: RAM + CAEN 21H15 | D16: =VLOOKUP(C16,Feuil2!D9:I32,6,FALSE) -> 0.38541667 | E16: O | F16: RAM + ANGERS 21H30 | G16: =VLOOKUP(F16,Feuil2!D9:I33,6,FALSE) -> 0.33333333 | H16: M | I16: RAM + NANTES 1 | J16: =VLOOKUP(I16,Feuil2!D9:I33,6,FALSE) -> 0.34375 | K16: P | L16: RAM + NANTES 1 | M16: =VLOOKUP(L16,Feuil2!D9:I33,6,FALSE) -> 0.34375 | N16: P | O16: NAV CHATEAUBOUR | P16: =VLOOKUP(O16,Feuil2!D9:I33,6,FALSE) -> 0.29166667 | Q16: R | R16: =SUM(D16+G16+J16+M16+P16) -> 1.6979167 | U16: ROUAUD | V16: =SUM(R8,R16,R24,R32) -> 6.4270833
C18: SEMAINE 3 | R18: TOTAL HEURES SEMAINE
C19: jour 1 | F19: jour 2 | I19: jour 3 | L19: jour 4 | O19: jour5
B21: CHOTARD | C21: RAM + NANTES 1 | D21: =VLOOKUP(C21,Feuil2!D6:I29,6,FALSE) -> 0.34375 | E21: P | F21: RAM + ANGERS 21H30 | G21: =VLOOKUP(F21,Feuil2!D6:I30,6,FALSE) -> 0.33333333 | H21: M | I21: RAM + NANTES 1 | J21: =VLOOKUP(I21,Feuil2!D6:I30,6,FALSE) -> 0.34375 | K21: P | L21: RAM + CAEN 21H15 | M21: =VLOOKUP(L21,Feuil2!D6:I30,6,FALSE) -> 0.38541667 | N21: O | O21: NAV CHATEAUBOUR | P21: =VLOOKUP(O21,Feuil2!D6:I30,6,FALSE) -> 0.29166667 | Q21: R | R21: =SUM(D21+G21+J21+M21+P21) -> 1.6979167 | U21: NAV CHATEAUBOUR
B22: HORVAIS | C22: NAV CHATEAUBOUR | D22: =VLOOKUP(C22,Feuil2!D7:I30,6,FALSE) -> 0.29166667 | E22: R | F22: RAM + NANTES 1 | G22: =VLOOKUP(F22,Feuil2!D7:I31,6,FALSE) -> 0.34375 | H22: P | I22: NAV CHATEAUBOUR | J22: =VLOOKUP(I22,Feuil2!D7:I31,6,FALSE) -> 0.29166667 | K22: R | L22: RAM + ANGERS 21H30 | M22: =VLOOKUP(L22,Feuil2!D7:I31,6,FALSE) -> 0.33333333 | N22: M | O22: RAM + CAEN 21H15 | P22: =VLOOKUP(O22,Feuil2!D7:I31,6,FALSE) -> 0.38541667 | Q22: O | R22: =SUM(D22+G22+J22+M22+P22) -> 1.6458333 | U22: RAM + CAEN 21H15
B23: NICOL | C23: RAM + CAEN 21H15 | D23: =VLOOKUP(C23,Feuil2!D8:I31,6,FALSE) -> 0.38541667 | E23: O | F23: NAV CHATEAUBOUR | G23: =VLOOKUP(F23,Feuil2!D8:I32,6,FALSE) -> 0.29166667 | H23: R | I23: RAM + CAEN 21H15 | J23: =VLOOKUP(I23,Feuil2!D8:I32,6,FALSE) -> 0.38541667 | K23: O | L23: RAM + NANTES 1 | M23: =VLOOKUP(L23,Feuil2!D8:I32,6,FALSE) -> 0.34375 | N23: P | O23: RAM + ANGERS 21H30 | P23: =VLOOKUP(O23,Feuil2!D8:I32,6,FALSE) -> 0.33333333 | Q23: M | R23: =SUM(D23+G23+J23+M23+P23) -> 1.7395833 | U23: RAM + ANGERS 21H30
B24: ROUAUD | C24: RAM + ANGERS 21H30 | D24: =VLOOKUP(C24,Feuil2!D9:I32,6,FALSE) -> 0.33333333 | E24: M | F24: RAM + CAEN 21H15 | G24: =VLOOKUP(F24,Feuil2!D9:I33,6,FALSE) -> 0.38541667 | H24: O | I24: RAM + ANGERS 21H30 | J24: =VLOOKUP(I24,Feuil2!D9:I33,6,FALSE) -> 0.33333333 | K24: M | L24: NAV CHATEAUBOUR | M24: =VLOOKUP(L24,Feuil2!D9:I33,6,FALSE) -> 0.29166667 | N24: R | O24: RAM + NANTES 1 | P24: =VLOOKUP(O24,Feuil2!D9:I33,6,FALSE) -> 0.34375 | Q24: P | R24: =SUM(D24+G24+J24+M24+P24) -> 1.6875 | U24: RAM + NANTES 1
C26: SEMAINE 14 | R26: TOTAL HEURES SEMAINE
C27: jour 1 | F27: jour 2 | I27: jour 3 | L27: jour 4 | O27: jour5
B29: CHOTARD | C29: RAM + NANTES 1 | D29: =VLOOKUP(C29,Feuil2!D6:I30,6,FALSE) -> 0.34375 | E29: P | F29: RAM + ANGERS 21H30 | G29: =VLOOKUP(F29,Feuil2!D6:I30,6,FALSE) -> 0.33333333 | H29: M | I29: RAM + NANTES 1 | J29: =VLOOKUP(I29,Feuil2!D6:I30,6,FALSE) -> 0.34375 | K29: P | L29: RAM + CAEN 21H15 | M29: =VLOOKUP(L29,Feuil2!D6:I30,6,FALSE) -> 0.38541667 | N29: O | O29: NAV CHATEAUBOUR | P29: =VLOOKUP(O29,Feuil2!D6:I30,6,FALSE) -> 0.29166667 | Q29: R | R29: =SUM(D29+G29+J29+M29+P29) -> 1.6979167
B30: HORVAIS | C30: NAV CHATEAUBOUR | D30: =VLOOKUP(C30,Feuil2!D7:I31,6,FALSE) -> 0.29166667 | E30: R | F30: RAM + NANTES 1 | G30: =VLOOKUP(F30,Feuil2!D7:I31,6,FALSE) -> 0.34375 | H30: P | I30: NAV CHATEAUBOUR | J30: =VLOOKUP(I30,Feuil2!D7:I31,6,FALSE) -> 0.29166667 | K30: R | L30: RAM + ANGERS 21H30 | M30: =VLOOKUP(L30,Feuil2!D7:I31,6,FALSE) -> 0.33333333 | N30: M | O30: RAM + CAEN 21H15 | P30: =VLOOKUP(O30,Feuil2!D7:I31,6,FALSE) -> 0.38541667 | Q30: O | R30: =SUM(D30+G30+J30+M30+P30) -> 1.6458333
B31: NICOL | C31: RAM + CAEN 21H15 | D31: =VLOOKUP(C31,Feuil2!D8:I32,6,FALSE) -> 0.38541667 | E31: O | F31: NAV CHATEAUBOUR | G31: =VLOOKUP(F31,Feuil2!D8:I32,6,FALSE) -> 0.29166667 | H31: R | I31: RAM + CAEN 21H15 | J31: =VLOOKUP(I31,Feuil2!D8:I32,6,FALSE) -> 0.38541667 | K31: O | L31: NAV CHATEAUBOUR | N31: P | O31: RAM + ANGERS 21H30 | P31: =VLOOKUP(O31,Feuil2!D8:I32,6,FALSE) -> 0.33333333 | Q31: M | R31: =SUM(D31+G31+J31+M31+P31) -> 1.3958333
B32: ROUAUD | C32: RAM + ANGERS 21H30 | D32: =VLOOKUP(C32,Feuil2!D9:I33,6,FALSE) -> 0.33333333 | E32: M | F32: RAM + CAEN 21H15 | G32: =VLOOKUP(F32,Feuil2!D9:I33,6,FALSE) -> 0.38541667 | H32: O | I32: RAM + ANGERS 21H30 | J32: =VLOOKUP(I32,Feuil2!D9:I33,6,FALSE) -> 0.33333333 | K32: M | L32: RAM + NANTES 1 | N32: R | O32: RAM + NANTES 1 | P32: =VLOOKUP(O32,Feuil2!D9:I33,6,FALSE) -> 0.34375 | Q32: P | R32: =SUM(D32+G32+J32+M32+P32) -> 1.3958333

Sheet NAVETTE+BASES
C2: SEMAINE 1 | R2: TOTAL HEURES SEMAINE | U2: si superieur a 40h ou 160h | W2: 1.6666667
C3: jour 1 | F3: jour 2 | I3: jour 3 | L3: jour 4 | O3: jour5 | U3: si inferieur ou =a 40h ou 160h | W3: 6.6666667
B5: MACE | C5: ROUEN + BASES | D5: =VLOOKUP(C5,Feuil2!D6:I30,6,FALSE) -> 0 | E5: O | F5: SU IFS + BASES | G5: =VLOOKUP(F5,Feuil2!D6:I30,6,FALSE) -> 0 | H5: M | I5: ROUEN + BASES | J5: =VLOOKUP(I5,Feuil2!D6:I30,6,FALSE) -> 0 | K5: P | L5: NAV NIORT 21H15 | M5: =VLOOKUP(L5,Feuil2!D6:I30,6,FALSE) -> 0 | N5: R | O5: ATHIS VENDREDI | P5: =VLOOKUP(O5,Feuil2!D6:I30,6,FALSE) -> 0.21875 | Q5: O | R5: =SUM(D5+G5+J5+M5+P5) -> 0.21875
B6: INTERIM | C6: SU IFS + BASES | D6: =VLOOKUP(C6,Feuil2!D7:I31,6,FALSE) -> 0 | E6: M | F6: NAV NIORT 21H15 | G6: =VLOOKUP(F6,Feuil2!D7:I31,6,FALSE) -> 0 | H6: P | I6: NAV NIORT 21H15 | J6: =VLOOKUP(I6,Feuil2!D7:I31,6,FALSE) -> 0 | K6: R | L6: SU IFS + BASES | M6: =VLOOKUP(L6,Feuil2!D7:I31,6,FALSE) -> 0 | N6: O | O6: NAV NIORT 21H15 | P6: =VLOOKUP(O6,Feuil2!D7:I31,6,FALSE) -> 0 | Q6: M | R6: =SUM(D6+G6+J6+M6+P6) -> 0
B7: INTERIM | C7: NAV NIORT 21H15 | D7: =VLOOKUP(C7,Feuil2!D8:I32,6,FALSE) -> 0 | E7: P | F7: ROUEN + BASES | G7: =VLOOKUP(F7,Feuil2!D8:I32,6,FALSE) -> 0 | H7: R | I7: SU IFS + BASES | J7: =VLOOKUP(I7,Feuil2!D8:I32,6,FALSE) -> 0 | K7: O | L7: ROUEN + BASES | M7: =VLOOKUP(L7,Feuil2!D8:I32,6,FALSE) -> 0 | N7: M | O7: SU IFS + BASES | P7: =VLOOKUP(O7,Feuil2!D8:I32,6,FALSE) -> 0 | Q7: P | R7: =SUM(D7+G7+J7+M7+P7) -> 0
B8: INTERIM | D8: =VLOOKUP(C8,Feuil2!D9:I33,6,FALSE) -> #N/A | E8: R | G8: =VLOOKUP(F8,Feuil2!D9:I33,6,FALSE) -> #N/A | H8: O | J8: =VLOOKUP(I8,Feuil2!D9:I33,6,FALSE) -> #N/A | K8: M | M8: =VLOOKUP(L8,Feuil2!D9:I33,6,FALSE) -> #N/A | N8: P | O8: ROUEN + BASES | P8: =VLOOKUP(O8,Feuil2!D9:I33,6,FALSE) -> 0 | Q8: R | R8: =SUM(D8+G8+J8+M8+P8) -> #N/A
C10: SEMAINE 2 | R10: TOTAL HEURES SEMAINE | U10: TOTAL HEURES PERIODE
C11: jour 1 | F11: jour 2 | I11: jour 3 | L11: jour 4 | O11: jour5
B13: MACE | C13: SU IFS + BASES | D13: =VLOOKUP(C13,Feuil2!D6:I29,6,FALSE) -> 0 | E13: M | F13: NAV NIORT 21H15 | G13: =VLOOKUP(F13,Feuil2!D6:I30,6,FALSE) -> 0 | H13: P | I13: SU IFS + BASES | J13: =VLOOKUP(I13,Feuil2!D6:I30,6,FALSE) -> 0 | K13: R | L13: ROUEN + BASES | M13: =VLOOKUP(L13,Feuil2!D6:I30,6,FALSE) -> 0 | N13: R | O13: ATHIS VENDREDI | P13: =VLOOKUP(O13,Feuil2!D6:I30,6,FALSE) -> 0.21875 | Q13: O | R13: =SUM(D13+G13+J13+M13+P13) -> 0.21875 | U13: MACE | V13: =SUM(R5,R13,R21,R29) -> 0.875
B14: INTERIM | C14: NAV NIORT 21H15 | D14: =VLOOKUP(C14,Feuil2!D7:I30,6,FALSE) -> 0 | E14: P | F14: ROUEN + BASES | G14: =VLOOKUP(F14,Feuil2!D7:I31,6,FALSE) -> 0 | H14: R | I14: NAV NIORT 21H15 | J14: =VLOOKUP(I14,Feuil2!D7:I31,6,FALSE) -> 0 | K14: O | L14: SU IFS + BASES | M14: =VLOOKUP(L14,Feuil2!D7:I31,6,FALSE) -> 0 | N14: O | O14: NAV NIORT 21H15 | P14: =VLOOKUP(O14,Feuil2!D7:I31,6,FALSE) -> 0 | Q14: M | R14: =SUM(D14+G14+J14+M14+P14) -> 0 | U14: INTERIM | V14: =SUM(R6,R14,R22,R30) -> 0
B15: INTERIM | C15: ROUEN + BASES | D15: =VLOOKUP(C15,Feuil2!D8:I31,6,FALSE) -> 0 | E15: R | F15: SU IFS + BASES | G15: =VLOOKUP(F15,Feuil2!D8:I32,6,FALSE) -> 0 | H15: O | I15: ROUEN + BASES | J15: =VLOOKUP(I15,Feuil2!D8:I32,6,FALSE) -> 0 | K15: M | L15: NAV NIORT 21H15 | M15: =VLOOKUP(L15,Feuil2!D8:I32,6,FALSE) -> 0 | N15: M | O15: ROUEN + BASES | P15: =VLOOKUP(O15,Feuil2!D8:I32,6,FALSE) -> 0 | Q15: P | R15: =SUM(D15+G15+J15+M15+P15) -> 0 | U15: INTERIM | V15: =SUM(R7,R15,R23,R31) -> 0
B16: INTERIM | D16: =VLOOKUP(C16,Feuil2!D9:I32,6,FALSE) -> #N/A | E16: O | G16: =VLOOKUP(F16,Feuil2!D9:I33,6,FALSE) -> #N/A | H16: M | J16: =VLOOKUP(I16,Feuil2!D9:I33,6,FALSE) -> #N/A | K16: P | M16: =VLOOKUP(L16,Feuil2!D9:I33,6,FALSE) -> #N/A | N16: P | O16: SU IFS + BASES | P16: =VLOOKUP(O16,Feuil2!D9:I33,6,FALSE) -> 0 | Q16: R | R16: =SUM(D16+G16+J16+M16+P16) -> #N/A | U16: ROUAUD | V16: =SUM(R8,R16,R24,R32) -> #N/A
C18: SEMAINE 3 | R18: TOTAL HEURES SEMAINE
C19: jour 1 | F19: jour 2 | I19: jour 3 | L19: jour 4 | O19: jour5
B21: MACE | C21: ROUEN + BASES | D21: =VLOOKUP(C21,Feuil2!D6:I29,6,FALSE) -> 0 | E21: P | F21: NAV NIORT 21H15 | G21: =VLOOKUP(F21,Feuil2!D6:I30,6,FALSE) -> 0 | H21: M | I21: SU IFS + BASES | J21: =VLOOKUP(I21,Feuil2!D6:I30,6,FALSE) -> 0 | K21: P | L21: ROUEN + BASES | M21: =VLOOKUP(L21,Feuil2!D6:I30,6,FALSE) -> 0 | N21: O | O21: ATHIS VENDREDI | P21: =VLOOKUP(O21,Feuil2!D6:I30,6,FALSE) -> 0.21875 | Q21: R | R21: =SUM(D21+G21+J21+M21+P21) -> 0.21875
B22: INTERIM | C22: SU IFS + BASES | D22: =VLOOKUP(C22,Feuil2!D7:I30,6,FALSE) -> 0 | E22: R | F22: ROUEN + BASES | G22: =VLOOKUP(F22,Feuil2!D7:I31,6,FALSE) -> 0 | H22: P | I22: NAV NIORT 21H15 | J22: =VLOOKUP(I22,Feuil2!D7:I31,6,FALSE) -> 0 | K22: R | L22: NAV NIORT 21H15 | M22: =VLOOKUP(L22,Feuil2!D7:I31,6,FALSE) -> 0 | N22: M | O22: SU IFS + BASES | P22: =VLOOKUP(O22,Feuil2!D7:I31,6,FALSE) -> 0 | Q22: O | R22: =SUM(D22+G22+J22+M22+P22) -> 0
B23: INTERIM | C23: NAV NIORT 21H15 | D23: =VLOOKUP(C23,Feuil2!D8:I31,6,FALSE) -> 0 | E23: O | F23: SU IFS + BASES | G23: =VLOOKUP(F23,Feuil2!D8:I32,6,FALSE) -> 0 | H23: R | I23: ROUEN + BASES | J23: =VLOOKUP(I23,Feuil2!D8:I32,6,FALSE) -> 0 | K23: O | L23: SU IFS + BASES | M23: =VLOOKUP(L23,Feuil2!D8:I32,6,FALSE) -> 0 | N23: P | O23: ROUEN + BASES | P23: =VLOOKUP(O23,Feuil2!D8:I32,6,FALSE) -> 0 | Q23: M | R23: =SUM(D23+G23+J23+M23+P23) -> 0
B24: INTERIM | D24: =VLOOKUP(C24,Feuil2!D9:I32,6,FALSE) -> #N/A | E24: M | G24: =VLOOKUP(F24,Feuil2!D9:I33,6,FALSE) -> #N/A | H24: O | J24: =VLOOKUP(I24,Feuil2!D9:I33,6,FALSE) -> #N/A | K24: M | M24: =VLOOKUP(L24,Feuil2!D9:I33,6,FALSE) -> #N/A | N24: R | O24: NAV NIORT 21H15 | P24: =VLOOKUP(O24,Feuil2!D9:I33,6,FALSE) -> 0 | Q24: P | R24: =SUM(D24+G24+J24+M24+P24) -> #N/A
C26: SEMAINE 14 | R26: TOTAL HEURES SEMAINE
C27: jour 1 | F27: jour 2 | I27: jour 3 | L27: jour 4 | O27: jour5
B29: MACE | C29: NAV NIORT 21H15 | D29: =VLOOKUP(C29,Feuil2!D6:I30,6,FALSE) -> 0 | E29: P | F29: SU IFS + BASES | G29: =VLOOKUP(F29,Feuil2!D6:I30,6,FALSE) -> 0 | H29: M | I29: ROUEN + BASES | J29: =VLOOKUP(I29,Feuil2!D6:I30,6,FALSE) -> 0 | K29: P | L29: NAV NIORT 21H15 | M29: =VLOOKUP(L29,Feuil2!D6:I30,6,FALSE) -> 0 | N29: O | O29: ATHIS VENDREDI | P29: =VLOOKUP(O29,Feuil2!D6:I30,6,FALSE) -> 0.21875 | Q29: R | R29: =SUM(D29+G29+J29+M29+P29) -> 0.21875 | U29: ATHIS VENDREDI
B30: INTERIM | C30: ROUEN + BASES | D30: =VLOOKUP(C30,Feuil2!D7:I31,6,FALSE) -> 0 | E30: R | F30: NAV NIORT 21H15 | G30: =VLOOKUP(F30,Feuil2!D7:I31,6,FALSE) -> 0 | H30: P | I30: SU IFS + BASES | J30: =VLOOKUP(I30,Feuil2!D7:I31,6,FALSE) -> 0 | K30: R | L30: ROUEN + BASES | M30: =VLOOKUP(L30,Feuil2!D7:I31,6,FALSE) -> 0 | N30: M | O30: ROUEN + BASES | P30: =VLOOKUP(O30,Feuil2!D7:I31,6,FALSE) -> 0 | Q30: O | R30: =SUM(D30+G30+J30+M30+P30) -> 0 | U30: SU IFS + BASES
B31: INTERIM | C31: SU IFS + BASES | D31: =VLOOKUP(C31,Feuil2!D8:I32,6,FALSE) -> 0 | E31: O | F31: ROUEN + BASES | G31: =VLOOKUP(F31,Feuil2!D8:I32,6,FALSE) -> 0 | H31: R | I31: NAV NIORT 21H15 | J31: =VLOOKUP(I31,Feuil2!D8:I32,6,FALSE) -> 0 | K31: O | L31: SU IFS + BASES | M31: =VLOOKUP(L31,Feuil2!D8:I32,6,FALSE) -> 0 | N31: P | O31: NAV NIORT 21H15 | P31: =VLOOKUP(O31,Feuil2!D8:I32,6,FALSE) -> 0 | Q31: M | R31: =SUM(D31+G31+J31+M31+P31) -> 0 | U31: ROUEN + BASES
B32: INTERIM | D32: =VLOOKUP(C32,Feuil2!D9:I33,6,FALSE) -> #N/A | E32: M | G32: =VLOOKUP(F32,Feuil2!D9:I33,6,FALSE) -> #N/A | H32: O | J32: =VLOOKUP(I32,Feuil2!D9:I33,6,FALSE) -> #N/A | K32: M | M32: =VLOOKUP(L32,Feuil2!D9:I33,6,FALSE) -> #N/A | N32: R | O32: SU IFS + BASES | P32: =VLOOKUP(O32,Feuil2!D9:I33,6,FALSE) -> 0 | Q32: P | R32: =SUM(D32+G32+J32+M32+P32) -> #N/A | U32: NAV NIORT 21H15

Sheet gr 2 RAMASSE NAVETTE
C2: SEMAINE 1 | R2: TOTAL HEURES SEMAINE | U2: si superieur a 40h ou 160h | W2: 1.6666667
C3: jour 1 | F3: jour 2 | I3: jour 3 | L3: jour 4 | O3: jour5 | U3: si inferieur ou =a 40h ou 160h | W3: 6.6666667
B5: BARRE | C5: NAV ATHIS 2 | D5: =VLOOKUP(C5,Feuil2!D6:I30,6,FALSE) -> 0.22916667 | E5: A | F5: NAV CHAULNES | G5: =VLOOKUP(F5,Feuil2!$D$6:$I$30,6,FALSE) -> 0.27083333 | H5: B | I5: NAV CLERMONT | J5: =VLOOKUP(I5,Feuil2!$D$6:$I$30,6,FALSE) -> 0.375 | K5: C | L5: NAV DIJON | M5: =VLOOKUP(L5,Feuil2!$D$6:$I$30,6,FALSE) -> 0.39236111 | N5: D | O5: NAV LANGRES | P5: =VLOOKUP(O5,Feuil2!$D$6:$I$30,6,FALSE) -> 0.35416667 | Q5: E | R5: =SUM(D5+G5+J5+M5+P5) -> 1.6215278
B6: BRILLET | C6: NAV CHAULNES | D6: =VLOOKUP(C6,Feuil2!D7:I31,6,FALSE) -> 0.27083333 | E6: B | F6: NAV CLERMONT | G6: =VLOOKUP(F6,Feuil2!$D$6:$I$30,6,FALSE) -> 0.375 | H6: C | I6: NAV DIJON | J6: =VLOOKUP(I6,Feuil2!$D$6:$I$30,6,FALSE) -> 0.39236111 | K6: D | L6: NAV LANGRES | M6: =VLOOKUP(L6,Feuil2!$D$6:$I$30,6,FALSE) -> 0.35416667 | N6: E | O6: NAV LILLE | P6: =VLOOKUP(O6,Feuil2!$D$6:$I$30,6,FALSE) -> 0.29861111 | Q6: F | R6: =SUM(D6+G6+J6+M6+P6) -> 1.6909722
B7: CHAUVIN | C7: NAV CLERMONT | D7: =VLOOKUP(C7,Feuil2!D8:I32,6,FALSE) -> 0.375 | E7: C | F7: NAV DIJON | G7: =VLOOKUP(F7,Feuil2!$D$6:$I$30,6,FALSE) -> 0.39236111 | H7: D | I7: NAV LANGRES | J7: =VLOOKUP(I7,Feuil2!$D$6:$I$30,6,FALSE) -> 0.35416667 | K7: E | L7: NAV LILLE | M7: =VLOOKUP(L7,Feuil2!$D$6:$I$30,6,FALSE) -> 0.29861111 | N7: F | O7: NAV NIORT | P7: =VLOOKUP(O7,Feuil2!$D$6:$I$30,6,FALSE) -> 0.34375 | Q7: G | R7: =SUM(D7+G7+J7+M7+P7) -> 1.7638889
B8: DELALANDE | C8: NAV DIJON | D8: =VLOOKUP(C8,Feuil2!D9:I33,6,FALSE) -> 0.39236111 | E8: D | F8: NAV LANGRES | G8: =VLOOKUP(F8,Feuil2!$D$6:$I$30,6,FALSE) -> 0.35416667 | H8: E | I8: NAV LILLE | J8: =VLOOKUP(I8,Feuil2!$D$6:$I$30,6,FALSE) -> 0.29861111 | K8: F | L8: NAV NIORT | M8: =VLOOKUP(L8,Feuil2!$D$6:$I$30,6,FALSE) -> 0.34375 | N8: G | O8: NAV VELAINES | P8: =VLOOKUP(O8,Feuil2!$D$6:$I$30,6,FALSE) -> 0.35763889 | Q8: I | R8: =SUM(D8+G8+J8+M8+P8) -> 1.7465278
B9: DUGUE | C9: NAV LANGRES | D9: =VLOOKUP(C9,Feuil2!D10:I34,6,FALSE) -> 0.35416667 | E9: E | F9: NAV LILLE | G9: =VLOOKUP(F9,Feuil2!$D$6:$I$30,6,FALSE) -> 0.29861111 | H9: F | I9: NAV NIORT | J9: =VLOOKUP(I9,Feuil2!$D$6:$I$30,6,FALSE) -> 0.34375 | K9: G | L9: NAV VELAINES | M9: =VLOOKUP(L9,Feuil2!$D$6:$I$30,6,FALSE) -> 0.35763889 | N9: I | O9: RAM + 21h30 TOURS | P9: =VLOOKUP(O9,Feuil2!$D$6:$I$30,6,FALSE) -> 0.35416667 | Q9: L | R9: =SUM(D9+G9+J9+M9+P9) -> 1.7083333
B10: FOUCAUD | C10: NAV LILLE | D10: =VLOOKUP(C10,Feuil2!D11:I35,6,FALSE) -> 0.29861111 | E10: F | F10: NAV NIORT | G10: =VLOOKUP(F10,Feuil2!$D$6:$I$30,6,FALSE) -> 0.34375 | H10: G | I10: NAV VELAINES | J10: =VLOOKUP(I10,Feuil2!$D$6:$I$30,6,FALSE) -> 0.35763889 | K10: I | L10: RAM + 21h30 TOURS | M10: =VLOOKUP(L10,Feuil2!$D$6:$I$30,6,FALSE) -> 0.35416667 | N10: L | O10: RAM + ATHIS 1 | P10: =VLOOKUP(O10,Feuil2!$D$6:$I$30,6,FALSE) -> 0.35416667 | Q10: N | R10: =SUM(D10+G10+J10+M10+P10) -> 1.7083333
B11: GUEZENNEC | C11: NAV NIORT | D11: =VLOOKUP(C11,Feuil2!D12:I36,6,FALSE) -> 0.34375 | E11: G | F11: NAV VELAINES | G11: =VLOOKUP(F11,Feuil2!$D$6:$I$30,6,FALSE) -> 0.35763889 | H11: I | I11: RAM + 21h30 TOURS | J11: =VLOOKUP(I11,Feuil2!$D$6:$I$30,6,FALSE) -> 0.35416667 | K11: L | L11: RAM + ATHIS 1 | M11: =VLOOKUP(L11,Feuil2!$D$6:$I$30,6,FALSE) -> 0.35416667 | N11: N | O11: RAM + NANTES 1 | P11: =VLOOKUP(O11,Feuil2!$D$6:$I$30,6,FALSE) -> 0.34375 | Q11: P | R11: =SUM(D11+G11+J11+M11+P11) -> 1.7534722
B12: HENRY | C12: NAV VELAINES | D12: =VLOOKUP(C12,Feuil2!D13:I37,6,FALSE) -> 0.35763889 | E12: I | F12: RAM + 21h30 TOURS | G12: =VLOOKUP(F12,Feuil2!$D$6:$I$30,6,FALSE) -> 0.35416667 | H12: L | I12: RAM + ATHIS 1 | J12: =VLOOKUP(I12,Feuil2!$D$6:$I$30,6,FALSE) -> 0.35416667 | K12: N | L12: RAM + NANTES 1 | M12: =VLOOKUP(L12,Feuil2!$D$6:$I$30,6,FALSE) -> 0.34375 | N12: P | O12: RAM + ORLEANS 21H | P12: =VLOOKUP(O12,Feuil2!$D$6:$I$30,6,FALSE) -> 0.38541667 | Q12: Q | R12: =SUM(D12+G12+J12+M12+P12) -> 1.7951389
B13: LAABID R | C13: RAM + 21h30 TOURS | D13: =VLOOKUP(C13,Feuil2!D14:I38,6,FALSE) -> 0.35416667 | E13: L | F13: RAM + ATHIS 1 | G13: =VLOOKUP(F13,Feuil2!$D$6:$I$30,6,FALSE) -> 0.35416667 | H13: N | I13: RAM + NANTES 1 | J13: =VLOOKUP(I13,Feuil2!$D$6:$I$30,6,FALSE) -> 0.34375 | K13: P | L13: RAM + ORLEANS 21H | M13: =VLOOKUP(L13,Feuil2!$D$6:$I$30,6,FALSE) -> 0.38541667 | N13: Q | O13: RAM 14H00 | P13: =VLOOKUP(O13,Feuil2!$D$6:$I$30,6,FALSE) -> 0.35416667 | Q13: S | R13: =SUM(D13+G13+J13+M13+P13) -> 1.7916667
B14: LEMARCHAND | C14: RAM + ATHIS 1 | D14: =VLOOKUP(C14,Feuil2!D15:I39,6,FALSE) -> 0.35416667 | E14: N | F14: RAM + NANTES 1 | G14: =VLOOKUP(F14,Feuil2!$D$6:$I$30,6,FALSE) -> 0.34375 | H14: P | I14: RAM + ORLEANS 21H | J14: =VLOOKUP(I14,Feuil2!$D$6:$I$30,6,FALSE) -> 0.38541667 | K14: Q | L14: RAM 14H00 | M14: =VLOOKUP(L14,Feuil2!$D$6:$I$30,6,FALSE) -> 0.35416667 | N14: S | O14: RAM MALO + LAVAL | P14: =VLOOKUP(O14,Feuil2!$D$6:$I$30,6,FALSE) -> 0.30208333 | Q14: T | R14: =SUM(D14+G14+J14+M14+P14) -> 1.7395833
B15: NOLLET | C15: RAM + NANTES 1 | D15: =VLOOKUP(C15,Feuil2!D16:I40,6,FALSE) -> 0.34375 | E15: P | F15: RAM + ORLEANS 21H | G15: =VLOOKUP(F15,Feuil2!$D$6:$I$30,6,FALSE) -> 0.38541667 | H15: Q | I15: RAM 14H00 | J15: =VLOOKUP(I15,Feuil2!$D$6:$I$30,6,FALSE) -> 0.35416667 | K15: S | L15: RAM MALO + LAVAL | M15: =VLOOKUP(L15,Feuil2!$D$6:$I$30,6,FALSE) -> 0.30208333 | N15: T | O15: RAM + 20H TOURS | P15: =VLOOKUP(O15,Feuil2!$D$6:$I$30,6,FALSE) -> 0.28125 | Q15: U | R15: =SUM(D15+G15+J15+M15+P15) -> 1.6666667
B16: PETIT | C16: RAM + ORLEANS 21H | D16: =VLOOKUP(C16,Feuil2!D17:I41,6,FALSE) -> 0.38541667 | E16: Q | F16: RAM 14H00 | G16: =VLOOKUP(F16,Feuil2!$D$6:$I$30,6,FALSE) -> 0.35416667 | H16: S | I16: RAM MALO + LAVAL | J16: =VLOOKUP(I16,Feuil2!$D$6:$I$30,6,FALSE) -> 0.30208333 | K16: T | L16: RAM + 20H TOURS | M16: =VLOOKUP(L16,Feuil2!$D$6:$I$30,6,FALSE) -> 0.28125 | N16: U | O16: NAV ATHIS 2 | P16: =VLOOKUP(O16,Feuil2!$D$6:$I$30,6,FALSE) -> 0.22916667 | Q16: A | R16: =SUM(D16+G16+J16+M16+P16) -> 1.5520833
... B19: VISSEICHE | C19: RAM + 20H TOURS | D19: =VLOOKUP(C19,Feuil2!D20:I44,6,FALSE) -> 0.28125 | E19: U | F19: NAV ATHIS 2 | G19: =VLOOKUP(F19,Feuil2!$D$6:$I$30,6,FALSE) -> 0.22916667 | H19: A | I19: NAV CHAULNES | J19: =VLOOKUP(I19,Feuil2!$D$6:$I$30,6,FALSE) -> 0.27083333 | K19: B | L19: NAV CLERMONT | M19: =VLOOKUP(L19,Feuil2!$D$6:$I$30,6,FALSE) -> 0.375 | N19: C | O19: NAV DIJON | P19: =VLOOKUP(O19,Feuil2!$D$6:$I$30,6,FALSE) -> 0.39236111 | Q19: D | R19: =SUM(D19+G19+J19+M19+P19) -> 1.5486111
D20: =VLOOKUP(C20,Feuil2!D21:I45,6,FALSE) -> #N/A | G20: =VLOOKUP(F20,Feuil2!D21:I45,6,FALSE) -> #N/A | J20: =VLOOKUP(I20,Feuil2!D21:I45,6,FALSE) -> #N/A | M20: =VLOOKUP(L20,Feuil2!$D$6:$I$30,6,FALSE) -> #N/A | P20: =VLOOKUP(O20,Feuil2!$D$6:$I$30,6,FALSE) -> #N/A | R20: =SUM(D20+G20+J20+M20+P20) -> #N/A
D21: =VLOOKUP(C21,Feuil2!D22:I46,6,FALSE) -> #N/A | G21: =VLOOKUP(F21,Feuil2!D22:I46,6,FALSE) -> #N/A | J21: =VLOOKUP(I21,Feuil2!D22:I46,6,FALSE) -> #N/A | M21: =VLOOKUP(L21,Feuil2!$D$6:$I$30,6,FALSE) -> #N/A | P21: =VLOOKUP(O21,Feuil2!$D$6:$I$30,6,FALSE) -> #N/A | R21: =SUM(D21+G21+J21+M21+P21) -> #N/A
D22: =VLOOKUP(C22,Feuil2!D23:I47,6,FALSE) -> #N/A | G22: =VLOOKUP(F22,Feuil2!D23:I47,6,FALSE) -> #N/A | J22: =VLOOKUP(I22,Feuil2!D23:I47,6,FALSE) -> #N/A | M22: =VLOOKUP(L22,Feuil2!$D$6:$I$30,6,FALSE) -> #N/A | P22: =VLOOKUP(O22,Feuil2!D23:I47,6,FALSE) -> #N/A | R22: =SUM(D22+G22+J22+M22+P22) -> #N/A
U23: TOTAL HEURES PERIODE
C24: SEMAINE 2 | R24: TOTAL HEURES SEMAINE
C25: jour 1 | F25: jour 2 | I25: jour 3 | L25: jour 4 | O25: jour5
U26: BARRE | V26: =IF(ISNA(INDEX($R$5:$R$22+$R$27:$R$44,MATCH(U26,$B$5:$B$22,0))),"",INDEX($R$5:$R$22+$R$27:$R$44,MATCH(U26,$B$5:$B$22,0))) -> 3.3298611
B27: BARRE | C27: NAV LILLE | D27: =VLOOKUP(C27,Feuil2!$D$6:$I$30,6,FALSE) -> 0.29861111 | E27: F | F27: NAV NIORT | G27: =VLOOKUP(F27,Feuil2!$D$6:$I$30,6,FALSE) -> 0.34375 | H27: G | I27: NAV VELAINES | J27: =VLOOKUP(I27,Feuil2!$D$6:$I$30,6,FALSE) -> 0.35763889 | K27: I | L27: RAM + 21h30 TOURS | M27: =VLOOKUP(L27,Feuil2!$D$6:$I$30,6,FALSE) -> 0.35416667 | N27: L | O27: RAM + ATHIS 1 | P27: =VLOOKUP(O27,Feuil2!$D$6:$I$30,6,FALSE) -> 0.35416667 | Q27: N | R27: =SUM(D27+G27+J27+M27+P27) -> 1.7083333 | U27: BRILLET | V27: =IF(ISNA(INDEX($R$5:$R$22+$R$27:$R$44,MATCH(U27,$B$5:$B$22,0))),"",INDEX($R$5:$R$22+$R$27:$R$44,MATCH(U27,$B$5:$B$22,0))) -> 3.4444444
B28: BRILLET | C28: NAV NIORT | D28: =VLOOKUP(C28,Feuil2!$D$6:$I$30,6,FALSE) -> 0.34375 | E28: G | F28: NAV VELAINES | G28: =VLOOKUP(F28,Feuil2!$D$6:$I$30,6,FALSE) -> 0.35763889 | H28: I | I28: RAM + 21h30 TOURS | J28: =VLOOKUP(I28,Feuil2!$D$6:$I$30,6,FALSE) -> 0.35416667 | K28: L | L28: RAM + ATHIS 1 | M28: =VLOOKUP(L28,Feuil2!$D$6:$I$30,6,FALSE) -> 0.35416667 | N28: N | O28: RAM + NANTES 1 | P28: =VLOOKUP(O28,Feuil2!$D$6:$I$30,6,FALSE) -> 0.34375 | Q28: P | R28: =SUM(D28+G28+J28+M28+P28) -> 1.7534722 | U28: CHAUVIN | V28: =IF(ISNA(INDEX($R$5:$R$22+$R$27:$R$44,MATCH(U28,$B$5:$B$22,0))),"",INDEX($R$5:$R$22+$R$27:$R$44,MATCH(U28,$B$5:$B$22,0))) -> 3.5590278
B29: CHAUVIN | C29: NAV VELAINES | D29: =VLOOKUP(C29,Feuil2!$D$6:$I$30,6,FALSE) -> 0.35763889 | E29: I | F29: RAM + 21h30 TOURS | G29: =VLOOKUP(F29,Feuil2!$D$6:$I$30,6,FALSE) -> 0.35416667 | H29: L | I29: RAM + ATHIS 1 | J29: =VLOOKUP(I29,Feuil2!$D$6:$I$30,6,FALSE) -> 0.35416667 | K29: N | L29: RAM + NANTES 1 | M29: =VLOOKUP(L29,Feuil2!$D$6:$I$30,6,FALSE) -> 0.34375 | N29: P | O29: RAM + ORLEANS 21H | P29: =VLOOKUP(O29,Feuil2!$D$6:$I$30,6,FALSE) -> 0.38541667 | Q29: Q | R29: =SUM(D29+G29+J29+M29+P29) -> 1.7951389 | U29: DELALANDE | V29: =IF(ISNA(INDEX($R$5:$R$22+$R$27:$R$44,MATCH(U29,$B$5:$B$22,0))),"",INDEX($R$5:$R$22+$R$27:$R$44,MATCH(U29,$B$5:$B$22,0))) -> 3.5381944
B30: DELALANDE | C30: RAM + 21h30 TOURS | D30: =VLOOKUP(C30,Feuil2!$D$6:$I$30,6,FALSE) -> 0.35416667 | E30: L | F30: RAM + ATHIS 1 | G30: =VLOOKUP(F30,Feuil2!$D$6:$I$30,6,FALSE) -> 0.35416667 | H30: N | I30: RAM + NANTES 1 | J30: =VLOOKUP(I30,Feuil2!$D$6:$I$30,6,FALSE) -> 0.34375 | K30: P | L30: RAM + ORLEANS 21H | M30: =VLOOKUP(L30,Feuil2!$D$6:$I$30,6,FALSE) -> 0.38541667 | N30: Q | O30: RAM 14H00 | P30: =VLOOKUP(O30,Feuil2!$D$6:$I$30,6,FALSE) -> 0.35416667 | Q30: S | R30: =SUM(D30+G30+J30+M30+P30) -> 1.7916667 | U30: DUGUE | V30: =IF(ISNA(INDEX($R$5:$R$22+$R$27:$R$44,MATCH(U30,$B$5:$B$22,0))),"",INDEX($R$5:$R$22+$R$27:$R$44,MATCH(U30,$B$5:$B$22,0))) -> 3.4479167
B31: DUGUE | C31: RAM + ATHIS 1 | D31: =VLOOKUP(C31,Feuil2!$D$6:$I$30,6,FALSE) -> 0.35416667 | E31: N | F31: RAM + NANTES 1 | G31: =VLOOKUP(F31,Feuil2!$D$6:$I$30,6,FALSE) -> 0.34375 | H31: P | I31: RAM + ORLEANS 21H | J31: =VLOOKUP(I31,Feuil2!$D$6:$I$30,6,FALSE) -> 0.38541667 | K31: Q | L31: RAM 14H00 | M31: =VLOOKUP(L31,Feuil2!$D$6:$I$30,6,FALSE) -> 0.35416667 | N31: S | O31: RAM MALO + LAVAL | P31: =VLOOKUP(O31,Feuil2!$D$6:$I$30,6,FALSE) -> 0.30208333 | Q31: T | R31: =SUM(D31+G31+J31+M31+P31) -> 1.7395833 | U31: FOUCAUD | V31: =IF(ISNA(INDEX($R$5:$R$22+$R$27:$R$44,MATCH(U31,$B$5:$B$22,0))),"",INDEX($R$5:$R$22+$R$27:$R$44,MATCH(U31,$B$5:$B$22,0))) -> 3.375
B32: FOUCAUD | C32: RAM + NANTES 1 | D32: =VLOOKUP(C32,Feuil2!$D$6:$I$30,6,FALSE) -> 0.34375 | E32: P | F32: RAM + ORLEANS 21H | G32: =VLOOKUP(F32,Feuil2!$D$6:$I$30,6,FALSE) -> 0.38541667 | H32: Q | I32: RAM 14H00 | J32: =VLOOKUP(I32,Feuil2!$D$6:$I$30,6,FALSE) -> 0.35416667 | K32: S | L32: RAM MALO + LAVAL | M32: =VLOOKUP(L32,Feuil2!$D$6:$I$30,6,FALSE) -> 0.30208333 | N32: T | O32: RAM + 20H TOURS | P32: =VLOOKUP(O32,Feuil2!$D$6:$I$30,6,FALSE) -> 0.28125 | Q32: U | R32: =SUM(D32+G32+J32+M32+P32) -> 1.6666667 | U32: GUEZENNEC | V32: =IF(ISNA(INDEX($R$5:$R$22+$R$27:$R$44,MATCH(U32,$B$5:$B$22,0))),"",INDEX($R$5:$R$22+$R$27:$R$44,MATCH(U32,$B$5:$B$22,0))) -> 3.3055556
B33: GUEZENNEC | C33: RAM + ORLEANS 21H | D33: =VLOOKUP(C33,Feuil2!$D$6:$I$30,6,FALSE) -> 0.38541667 | E33: Q | F33: RAM 14H00 | G33: =VLOOKUP(F33,Feuil2!$D$6:$I$30,6,FALSE) -> 0.35416667 | H33: S | I33: RAM MALO + LAVAL | J33: =VLOOKUP(I33,Feuil2!$D$6:$I$30,6,FALSE) -> 0.30208333 | K33: T | L33: RAM + 20H TOURS | M33: =VLOOKUP(L33,Feuil2!$D$6:$I$30,6,FALSE) -> 0.28125 | N33: U | O33: NAV ATHIS 2 | P33: =VLOOKUP(O33,Feuil2!$D$6:$I$30,6,FALSE) -> 0.22916667 | Q33: A | R33: =SUM(D33+G33+J33+M33+P33) -> 1.5520833 | U33: HENRY | V33: =IF(ISNA(INDEX($R$5:$R$22+$R$27:$R$44,MATCH(U33,$B$5:$B$22,0))),"",INDEX($R$5:$R$22+$R$27:$R$44,MATCH(U33,$B$5:$B$22,0))) -> 3.2326389
B34: HENRY | C34: RAM 14H00 | D34: =VLOOKUP(C34,Feuil2!$D$6:$I$30,6,FALSE) -> 0.35416667 | E34: S | F34: RAM MALO + LAVAL | G34: =VLOOKUP(F34,Feuil2!$D$6:$I$30,6,FALSE) -> 0.30208333 | H34: T | I34: RAM + 20H TOURS | J34: =VLOOKUP(I34,Feuil2!$D$6:$I$30,6,FALSE) -> 0.28125 | K34: U | L34: NAV ATHIS 2 | M34: =VLOOKUP(L34,Feuil2!$D$6:$I$30,6,FALSE) -> 0.22916667 | N34: A | O34: NAV CHAULNES | P34: =VLOOKUP(O34,Feuil2!$D$6:$I$30,6,FALSE) -> 0.27083333 | Q34: B | R34: =SUM(D34+G34+J34+M34+P34) -> 1.4375 | U34: LAABID R | V34: =IF(ISNA(INDEX($R$5:$R$22+$R$27:$R$44,MATCH(U34,$B$5:$B$22,0))),"",INDEX($R$5:$R$22+$R$27:$R$44,MATCH(U34,$B$5:$B$22,0))) -> 3.25
B35: LAABID R | C35: RAM MALO + LAVAL | D35: =VLOOKUP(C35,Feuil2!$D$6:$I$30,6,FALSE) -> 0.30208333 | E35: T | F35: RAM + 20H TOURS | G35: =VLOOKUP(F35,Feuil2!$D$6:$I$30,6,FALSE) -> 0.28125 | H35: U | I35: NAV ATHIS 2 | J35: =VLOOKUP(I35,Feuil2!$D$6:$I$30,6,FALSE) -> 0.22916667 | K35: A | L35: NAV CHAULNES | M35: =VLOOKUP(L35,Feuil2!$D$6:$I$30,6,FALSE) -> 0.27083333 | N35: B | O35: NAV CLERMONT | P35: =VLOOKUP(O35,Feuil2!$D$6:$I$30,6,FALSE) -> 0.375 | Q35: C | R35: =SUM(D35+G35+J35+M35+P35) -> 1.4583333 | U35: LEMARCHAND | V35: =IF(ISNA(INDEX($R$5:$R$22+$R$27:$R$44,MATCH(U35,$B$5:$B$22,0))),"",INDEX($R$5:$R$22+$R$27:$R$44,MATCH(U35,$B$5:$B$22,0))) -> 3.2881944
B36: LEMARCHAND | C36: RAM + 20H TOURS | D36: =VLOOKUP(C36,Feuil2!$D$6:$I$30,6,FALSE) -> 0.28125 | E36: U | F36: NAV ATHIS 2 | G36: =VLOOKUP(F36,Feuil2!$D$6:$I$30,6,FALSE) -> 0.22916667 | H36: A | I36: NAV CHAULNES | J36: =VLOOKUP(I36,Feuil2!$D$6:$I$30,6,FALSE) -> 0.27083333 | K36: B | L36: NAV CLERMONT | M36: =VLOOKUP(L36,Feuil2!$D$6:$I$30,6,FALSE) -> 0.375 | N36: C | O36: NAV DIJON | P36: =VLOOKUP(O36,Feuil2!$D$6:$I$30,6,FALSE) -> 0.39236111 | Q36: D | R36: =SUM(D36+G36+J36+M36+P36) -> 1.5486111 | U36: NOLLET | V36: =IF(ISNA(INDEX($R$5:$R$22+$R$27:$R$44,MATCH(U36,$B$5:$B$22,0))),"",INDEX($R$5:$R$22+$R$27:$R$44,MATCH(U36,$B$5:$B$22,0))) -> 3.2881944
B37: NOLLET | C37: NAV ATHIS 2 | D37: =VLOOKUP(C37,Feuil2!$D$6:$I$30,6,FALSE) -> 0.22916667 | E37: A | F37: NAV CHAULNES | G37: =VLOOKUP(F37,Feuil2!$D$6:$I$30,6,FALSE) -> 0.27083333 | H37: B | I37: NAV CLERMONT | J37: =VLOOKUP(I37,Feuil2!$D$6:$I$30,6,FALSE) -> 0.375 | K37: C | L37: NAV DIJON | M37: =VLOOKUP(L37,Feuil2!$D$6:$I$30,6,FALSE) -> 0.39236111 | N37: D | O37: NAV LANGRES | P37: =VLOOKUP(O37,Feuil2!$D$6:$I$30,6,FALSE) -> 0.35416667 | Q37: E | R37: =SUM(D37+G37+J37+M37+P37) -> 1.6215278 | U37: PETIT | V37: =IF(ISNA(INDEX($R$5:$R$22+$R$27:$R$44,MATCH(U37,$B$5:$B$22,0))),"",INDEX($R$5:$R$22+$R$27:$R$44,MATCH(U37,$B$5:$B$22,0))) -> 3.2430556
B38: PETIT | C38: NAV CHAULNES | D38: =VLOOKUP(C38,Feuil2!$D$6:$I$30,6,FALSE) -> 0.27083333 | E38: B | F38: NAV CLERMONT | G38: =VLOOKUP(F38,Feuil2!$D$6:$I$30,6,FALSE) -> 0.375 | H38: C | I38: NAV DIJON | J38: =VLOOKUP(I38,Feuil2!$D$6:$I$30,6,FALSE) -> 0.39236111 | K38: D | L38: NAV LANGRES | M38: =VLOOKUP(L38,Feuil2!$D$6:$I$30,6,FALSE) -> 0.35416667 | N38: E | O38: NAV LILLE | P38: =VLOOKUP(O38,Feuil2!$D$6:$I$30,6,FALSE) -> 0.29861111 | Q38: F | R38: =SUM(D38+G38+J38+M38+P38) -> 1.6909722 | U38: RAZE | V38: =IF(ISNA(INDEX($R$5:$R$22+$R$27:$R$44,MATCH(U38,$B$5:$B$22,0))),"",INDEX($R$5:$R$22+$R$27:$R$44,MATCH(U38,$B$5:$B$22,0))) -> 3.2013889
... B40: SINIVASSIN | C40: NAV DIJON | D40: =VLOOKUP(C40,Feuil2!$D$6:$I$30,6,FALSE) -> 0.39236111 | E40: D | F40: NAV LANGRES | G40: =VLOOKUP(F40,Feuil2!$D$6:$I$30,6,FALSE) -> 0.35416667 | H40: E | I40: NAV LILLE | J40: =VLOOKUP(I40,Feuil2!$D$6:$I$30,6,FALSE) -> 0.29861111 | K40: F | L40: NAV NIORT | M40: =VLOOKUP(L40,Feuil2!$D$6:$I$30,6,FALSE) -> 0.34375 | N40: G | O40: NAV VELAINES | P40: =VLOOKUP(O40,Feuil2!$D$6:$I$30,6,FALSE) -> 0.35763889 | Q40: I | R40: =SUM(D40+G40+J40+M40+P40) -> 1.7465278 | U40: VISSEICHE | V40: =IF(ISNA(INDEX($R$5:$R$22+$R$27:$R$44,MATCH(U40,$B$5:$B$22,0))),"",INDEX($R$5:$R$22+$R$27:$R$44,MATCH(U40,$B$5:$B$22,0))) -> 3.2569444
B41: VISSEICHE | C41: NAV LANGRES | D41: =VLOOKUP(C41,Feuil2!$D$6:$I$30,6,FALSE) -> 0.35416667 | E41: E | F41: NAV LILLE | G41: =VLOOKUP(F41,Feuil2!$D$6:$I$30,6,FALSE) -> 0.29861111 | H41: F | I41: NAV NIORT | J41: =VLOOKUP(I41,Feuil2!$D$6:$I$30,6,FALSE) -> 0.34375 | K41: G | L41: NAV VELAINES | M41: =VLOOKUP(L41,Feuil2!$D$6:$I$30,6,FALSE) -> 0.35763889 | N41: I | O41: RAM + 21h30 TOURS | P41: =VLOOKUP(O41,Feuil2!$D$6:$I$30,6,FALSE) -> 0.35416667 | Q41: L | R41: =SUM(D41+G41+J41+M41+P41) -> 1.7083333 | V41: =IF(ISNA(INDEX($R$5:$R$22+$R$27:$R$44,MATCH(U41,$B$5:$B$22,0))),"",INDEX($R$5:$R$22+$R$27:$R$44,MATCH(U41,$B$5:$B$22,0)))
D42: =VLOOKUP(C42,Feuil2!$D$6:$I$30,6,FALSE) -> #N/A | G42: =VLOOKUP(F42,Feuil2!$D$6:$I$30,6,FALSE) -> #N/A | J42: =VLOOKUP(I42,Feuil2!$D$6:$I$30,6,FALSE) -> #N/A | M42: =VLOOKUP(L42,Feuil2!$D$6:$I$30,6,FALSE) -> #N/A | P42: =VLOOKUP(O42,Feuil2!$D$6:$I$30,6,FALSE) -> #N/A | R42: =SUM(D42+G42+J42+M42+P42) -> #N/A
D43: =VLOOKUP(C43,Feuil2!$D$6:$I$30,6,FALSE) -> #N/A | G43: =VLOOKUP(F43,Feuil2!D31:I55,6,FALSE) -> #N/A | J43: =VLOOKUP(I43,Feuil2!$D$6:$I$30,6,FALSE) -> #N/A | M43: =VLOOKUP(L43,Feuil2!$D$6:$I$30,6,FALSE) -> #N/A | P43: =VLOOKUP(O43,Feuil2!$D$6:$I$30,6,FALSE) -> #N/A | R43: =SUM(D43+G43+J43+M43+P43) -> #N/A
D44: =VLOOKUP(C44,Feuil2!$D$6:$I$30,6,FALSE) -> #N/A | G44: =VLOOKUP(F44,Feuil2!D31:I55,6,FALSE) -> #N/A | J44: =VLOOKUP(I44,Feuil2!$D$6:$I$30,6,FALSE) -> #N/A | M44: =VLOOKUP(L44,Feuil2!$D$6:$I$30,6,FALSE) -> #N/A | P44: =VLOOKUP(O44,Feuil2!$D$6:$I$30,6,FALSE) -> #N/A | R44: =SUM(D44+G44+J44+M44+P44) -> #N/A
C46: SEMAINE 1 | R46: TOTAL HEURES SEMAINE
C47: jour 1 | F47: jour 2 | I47: jour 3 | L47: jour 4 | O47: jour5
B49: BARRE | D49: =VLOOKUP(C49,Feuil2!D50:I74,6,FALSE) -> #N/A | E49: O | G49: =VLOOKUP(F49,Feuil2!D50:I74,6,FALSE) -> #N/A | H49: M | J49: =VLOOKUP(I49,Feuil2!D50:I74,6,FALSE) -> #N/A | K49: P | M49: =VLOOKUP(L49,Feuil2!D50:I74,6,FALSE) -> #N/A | N49: R | P49: =VLOOKUP(O49,Feuil2!D50:I74,6,FALSE) -> #N/A | Q49: O | R49: =SUM(D49+G49+J49+M49+P49) -> #N/A
B50: BRILLET | D50: =VLOOKUP(C50,Feuil2!D51:I75,6,FALSE) -> #N/A | E50: M | G50: =VLOOKUP(F50,Feuil2!D51:I75,6,FALSE) -> #N/A | H50: P | J50: =VLOOKUP(I50,Feuil2!D51:I75,6,FALSE) -> #N/A | K50: R | M50: =VLOOKUP(L50,Feuil2!D51:I75,6,FALSE) -> #N/A | N50: O | P50: =VLOOKUP(O50,Feuil2!D51:I75,6,FALSE) -> #N/A | Q50: M | R50: =SUM(D50+G50+J50+M50+P50) -> #N/A
B51: CHAUVIN
B52: DELALANDE
B53: DUGUE
B54: FOUCAUD
B55: GUEZENNEC
B56: HENRY
B57: LAABID R
B58: LEMARCHAND
B59: NOLLET
B60: PETIT
B61: RAZE
B62: SINIVASSIN
B63: VISSEICHE | D63: =VLOOKUP(C63,Feuil2!D52:I76,6,FALSE) -> #N/A | G63: =VLOOKUP(F63,Feuil2!D52:I76,6,FALSE) -> #N/A | J63: =VLOOKUP(I63,Feuil2!D52:I76,6,FALSE) -> #N/A | M63: =VLOOKUP(L63,Feuil2!D52:I76,6,FALSE) -> #N/A | P63: =VLOOKUP(O63,Feuil2!D52:I76,6,FALSE) -> #N/A | R63: =SUM(D63+G63+J63+M63+P63) -> #N/A
D65: =VLOOKUP(C65,Feuil2!D53:I77,6,FALSE) -> #N/A | E65: P | G65: =VLOOKUP(F65,Feuil2!D53:I77,6,FALSE) -> #N/A | H65: R | J65: =VLOOKUP(I65,Feuil2!D53:I77,6,FALSE) -> #N/A | K65: O | M65: =VLOOKUP(L65,Feuil2!D53:I77,6,FALSE) -> #N/A | N65: M | P65: =VLOOKUP(O65,Feuil2!D53:I77,6,FALSE) -> #N/A | Q65: P | R65: =SUM(D65+G65+J65+M65+P65) -> #N/A
D66: =VLOOKUP(C66,Feuil2!D53:I77,6,FALSE) -> #N/A | E66: R | G66: =VLOOKUP(F66,Feuil2!D53:I77,6,FALSE) -> #N/A | H66: O | J66: =VLOOKUP(I66,Feuil2!D53:I77,6,FALSE) -> #N/A | K66: M | M66: =VLOOKUP(L66,Feuil2!D53:I77,6,FALSE) -> #N/A | N66: P | P66: =VLOOKUP(O66,Feuil2!D53:I77,6,FALSE) -> #N/A | Q66: R | R66: =SUM(D66+G66+J66+M66+P66) -> #N/A
C68: SEMAINE 1 | R68: TOTAL HEURES SEMAINE
C69: jour 1 | F69: jour 2 | I69: jour 3 | L69: jour 4 | O69: jour5
B71: BARRE | D71: =VLOOKUP(C71,Feuil2!D72:I96,6,FALSE) -> #N/A | E71: O | G71: =VLOOKUP(F71,Feuil2!D72:I96,6,FALSE) -> #N/A | H71: M | J71: =VLOOKUP(I71,Feuil2!D72:I96,6,FALSE) -> #N/A | K71: P | M71: =VLOOKUP(L71,Feuil2!D72:I96,6,FALSE) -> #N/A | N71: R | P71: =VLOOKUP(O71,Feuil2!D72:I96,6,FALSE) -> #N/A | Q71: O | R71: =SUM(D71+G71+J71+M71+P71) -> #N/A
B72: BRILLET | D72: =VLOOKUP(C72,Feuil2!D73:I97,6,FALSE) -> #N/A | E72: M | G72: =VLOOKUP(F72,Feuil2!D73:I97,6,FALSE) -> #N/A | H72: P | J72: =VLOOKUP(I72,Feuil2!D73:I97,6,FALSE) -> #N/A | K72: R | M72: =VLOOKUP(L72,Feuil2!D73:I97,6,FALSE) -> #N/A | N72: O | P72: =VLOOKUP(O72,Feuil2!D73:I97,6,FALSE) -> #N/A | Q72: M | R72: =SUM(D72+G72+J72+M72+P72) -> #N/A
B73: CHAUVIN
B74: DELALANDE
B75: DUGUE
B76: FOUCAUD
B77: GUEZENNEC
B78: HENRY
B79: LAABID R
B80: LEMARCHAND
B81: NOLLET
B82: PETIT
B83: RAZE
B84: SINIVASSIN
B85: VISSEICHE | D85: =VLOOKUP(C85,Feuil2!D74:I98,6,FALSE) -> #N/A | G85: =VLOOKUP(F85,Feuil2!D74:I98,6,FALSE) -> #N/A | J85: =VLOOKUP(I85,Feuil2!D74:I98,6,FALSE) -> #N/A | M85: =VLOOKUP(L85,Feuil2!D74:I98,6,FALSE) -> #N/A | P85: =VLOOKUP(O85,Feuil2!D74:I98,6,FALSE) -> #N/A | R85: =SUM(D85+G85+J85+M85+P85) -> #N/A
D87: =VLOOKUP(C87,Feuil2!D75:I99,6,FALSE) -> #N/A | E87: P | G87: =VLOOKUP(F87,Feuil2!D75:I99,6,FALSE) -> #N/A | H87: R | J87: =VLOOKUP(I87,Feuil2!D75:I99,6,FALSE) -> #N/A | K87: O | M87: =VLOOKUP(L87,Feuil2!D75:I99,6,FALSE) -> #N/A | N87: M | P87: =VLOOKUP(O87,Feuil2!D75:I99,6,FALSE) -> #N/A | Q87: P | R87: =SUM(D87+G87+J87+M87+P87) -> #N/A
D88: =VLOOKUP(C88,Feuil2!D75:I99,6,FALSE) -> #N/A | E88: R | G88: =VLOOKUP(F88,Feuil2!D75:I99,6,FALSE) -> #N/A | H88: O | J88: =VLOOKUP(I88,Feuil2!D75:I99,6,FALSE) -> #N/A | K88: M | M88: =VLOOKUP(L88,Feuil2!D75:I99,6,FALSE) -> #N/A | N88: P | P88: =VLOOKUP(O88,Feuil2!D75:I99,6,FALSE) -> #N/A | Q88: R | R88: =SUM(D88+G88+J88+M88+P88) -> #N/A

Sheet Feuil6
C1: periode 1
C2: jour 1 | E2: jour 2 | G2: jour 3 | I2: jour 4 | K2: jour5 | O2: NAV ATHIS 2 | P2: A
O3: NAV CHAULNES | P3: B
A4: 1 | B4: BARRE | C4: NAV ATHIS 2 | D4: A | E4: NAV CHAULNES | F4: B | G4: NAV CLERMONT | H4: C | I4: NAV DIJON | J4: D | K4: NAV LANGRES | L4: E | O4: NAV CLERMONT | P4: C
A5: 2 | B5: BRILLET | C5: NAV CHAULNES | D5: B | E5: NAV CLERMONT | F5: C | G5: NAV DIJON | H5: D | I5: NAV LANGRES | J5: E | K5: NAV LILLE | L5: F | O5: NAV DIJON | P5: D
A6: 3 | B6: CHAUVIN | C6: NAV CLERMONT | D6: C | E6: NAV DIJON | F6: D | G6: NAV LANGRES | H6: E | I6: NAV LILLE | J6: F | K6: NAV NIORT | L6: G | O6: NAV LANGRES | P6: E
A7: 4 | B7: DELALANDE | C7: NAV DIJON | D7: D | E7: NAV LANGRES | F7: E | G7: NAV LILLE | H7: F | I7: NAV NIORT | J7: G | K7: NAV VELAINES | L7: I | O7: NAV LILLE | P7: F
A8: 5 | B8: DUGUE | C8: NAV LANGRES | D8: E | E8: NAV LILLE | F8: F | G8: NAV NIORT | H8: G | I8: NAV VELAINES | J8: I | K8: RAM + 21h30 TOURS | L8: L | O8: NAV NIORT | P8: G
A9: 6 | B9: FOUCAUD | C9: NAV LILLE | D9: F | E9: NAV NIORT | F9: G | G9: NAV VELAINES | H9: I | I9: RAM + 21h30 TOURS | J9: L | K9: RAM + ATHIS 1 | L9: N | O9: NAV VELAINES | P9: I
A10: 7 | B10: GUEZENNEC | C10: NAV NIORT | D10: G | E10: NAV VELAINES | F10: I | G10: RAM + 21h30 TOURS | H10: L | I10: RAM + ATHIS 1 | J10: N | K10: RAM + NANTES 1 | L10: P | O10: RAM + 21h30 TOURS | P10: L
A11: 8 | B11: HENRY | C11: NAV VELAINES | D11: I | E11: RAM + 21h30 TOURS | F11: L | G11: RAM + ATHIS 1 | H11: N | I11: RAM + NANTES 1 | J11: P | K11: RAM + ORLEANS 21H | L11: Q | O11: RAM + ATHIS 1 | P11: N
A12: 9 | B12: LAABID R | C12: RAM + 21h30 TOURS | D12: L | E12: RAM + ATHIS 1 | F12: N | G12: RAM + NANTES 1 | H12: P | I12: RAM + ORLEANS 21H | J12: Q | K12: RAM 14H00 | L12: S | O12: RAM + NANTES 1 | P12: P
A13: 10 | B13: LEMARCHAND | C13: RAM + ATHIS 1 | D13: N | E13: RAM + NANTES 1 | F13: P | G13: RAM + ORLEANS 21H | H13: Q | I13: RAM 14H00 | J13: S | K13: RAM MALO + LAVAL | L13: T | O13: RAM + ORLEANS 21H | P13: Q
A14: 11 | B14: NOLLET | C14: RAM + NANTES 1 | D14: P | E14: RAM + ORLEANS 21H | F14: Q | G14: RAM 14H00 | H14: S | I14: RAM MALO + LAVAL | J14: T | K14: RAM + 20H TOURS | L14: U | O14: RAM 14H00 | P14: S
A15: 12 | B15: PETIT | C15: RAM + ORLEANS 21H | D15: Q | E15: RAM 14H00 | F15: S | G15: RAM MALO + LAVAL | H15: T | I15: RAM + 20H TOURS | J15: U | K15: NAV ATHIS 2 | L15: A | O15: RAM MALO + LAVAL | P15: T
A16: 13 | B16: RAZE | C16: RAM 14H00 | D16: S | E16: RAM MALO + LAVAL | F16: T | G16: RAM + 20H TOURS | H16: U | I16: NAV ATHIS 2 | J16: A | K16: NAV CHAULNES | L16: B | O16: RAM + 20H TOURS | P16: U
A17: 14 | B17: SINIVASSIN | C17: RAM MALO + LAVAL | D17: T | E17: RAM + 20H TOURS | F17: U | G17: NAV ATHIS 2 | H17: A | I17: NAV CHAULNES | J17: B | K17: NAV CLERMONT | L17: C
A18: 15 | B18: VISSEICHE | C18: RAM + 20H TOURS | D18: U | E18: NAV ATHIS 2 | F18: A | G18: NAV CHAULNES | H18: B | I18: NAV CLERMONT | J18: C | K18: NAV DIJON | L18: D
C19: periode 2
C20: jour 1 | E20: jour 2 | G20: jour 3 | I20: jour 4 | K20: jour5
B22: BARRE | C22: NAV LILLE | D22: F | E22: NAV NIORT | F22: G | G22: NAV VELAINES | H22: I | I22: RAM + 21h30 TOURS | J22: L | K22: RAM + ATHIS 1 | L22: N
B23: BRILLET | C23: NAV NIORT | D23: G | E23: NAV VELAINES | F23: I | G23: RAM + 21h30 TOURS | H23: L | I23: RAM + ATHIS 1 | J23: N | K23: RAM + NANTES 1 | L23: P
B24: CHAUVIN | C24: NAV VELAINES | D24: I | E24: RAM + 21h30 TOURS | F24: L | G24: RAM + ATHIS 1 | H24: N | I24: RAM + NANTES 1 | J24: P | K24: RAM + ORLEANS 21H | L24: Q
B25: DELALANDE | C25: RAM + 21h30 TOURS | D25: L | E25: RAM + ATHIS 1 | F25: N | G25: RAM + NANTES 1 | H25: P | I25: RAM + ORLEANS 21H | J25: Q | K25: RAM 14H00 | L25: S
B26: DUGUE | C26: RAM + ATHIS 1 | D26: N | E26: RAM + NANTES 1 | F26: P | G26: RAM + ORLEANS 21H | H26: Q | I26: RAM 14H00 | J26: S | K26: RAM MALO + LAVAL | L26: T
B27: FOUCAUD | C27: RAM + NANTES 1 | D27: P | E27: RAM + ORLEANS 21H | F27: Q | G27: RAM 14H00 | H27: S | I27: RAM MALO + LAVAL | J27: T | K27: RAM + 20H TOURS | L27: U
B28: GUEZENNEC | C28: RAM + ORLEANS 21H | D28: Q | E28: RAM 14H00 | F28: S | G28: RAM MALO + LAVAL | H28: T | I28: RAM + 20H TOURS | J28: U | K28: NAV ATHIS 2 | L28: A
B29: HENRY | C29: RAM 14H00 | D29: S | E29: RAM MALO + LAVAL | F29: T | G29: RAM + 20H TOURS | H29: U | I29: NAV ATHIS 2 | J29: A | K29: NAV CHAULNES | L29: B
B30: LAABID R | C30: RAM MALO + LAVAL | D30: T | E30: RAM + 20H TOURS | F30: U | G30: NAV ATHIS 2 | H30: A | I30: NAV CHAULNES | J30: B | K30: NAV CLERMONT | L30: C
B31: LEMARCHAND | C31: RAM + 20H TOURS | D31: U | E31: NAV ATHIS 2 | F31: A | G31: NAV CHAULNES | H31: B | I31: NAV CLERMONT | J31: C | K31: NAV DIJON | L31: D
B32: NOLLET | C32: NAV ATHIS 2 | D32: A | E32: NAV CHAULNES | F32: B | G32: NAV CLERMONT | H32: C | I32: NAV DIJON | J32: D | K32: NAV LANGRES | L32: E
B33: PETIT | C33: NAV CHAULNES | D33: B | E33: NAV CLERMONT | F33: C | G33: NAV DIJON | H33: D | I33: NAV LANGRES | J33: E | K33: NAV LILLE | L33: F
... B36: VISSEICHE | C36: NAV LANGRES | D36: E | E36: NAV LILLE | F36: F | G36: NAV NIORT | H36: G | I36: NAV VELAINES | J36: I | K36: RAM + 21h30 TOURS | L36: L
C37: periode 3
C38: jour 1 | E38: jour 2 | G38: jour 3 | I38: jour 4 | K38: jour5
B40: BARRE | C40: RAM + NANTES 1 | D40: P | E40: RAM + ORLEANS 21H | F40: Q | G40: RAM 14H00 | H40: S | I40: RAM MALO + LAVAL | J40: T | K40: RAM + 20H TOURS | L40: U
B41: BRILLET | C41: RAM + ORLEANS 21H | D41: Q | E41: RAM 14H00 | F41: S | G41: RAM MALO + LAVAL | H41: T | I41: RAM + 20H TOURS | J41: U | K41: NAV ATHIS 2 | L41: A
B42: CHAUVIN | C42: RAM 14H00 | D42: S | E42: RAM MALO + LAVAL | F42: T | G42: RAM + 20H TOURS | H42: U | I42: NAV ATHIS 2 | J42: A | K42: NAV CHAULNES | L42: B
B43: DELALANDE | C43: RAM MALO + LAVAL | D43: T | E43: RAM + 20H TOURS | F43: U | G43: NAV ATHIS 2 | H43: A | I43: NAV CHAULNES | J43: B | K43: NAV CLERMONT | L43: C
B44: DUGUE | C44: RAM + 20H TOURS | D44: U | E44: NAV ATHIS 2 | F44: A | G44: NAV CHAULNES | H44: B | I44: NAV CLERMONT | J44: C | K44: NAV DIJON | L44: D
B45: FOUCAUD | C45: NAV ATHIS 2 | D45: A | E45: NAV CHAULNES | F45: B | G45: NAV CLERMONT | H45: C | I45: NAV DIJON | J45: D | K45: NAV LANGRES | L45: E
B46: GUEZENNEC | C46: NAV CHAULNES | D46: B | E46: NAV CLERMONT | F46: C | G46: NAV DIJON | H46: D | I46: NAV LANGRES | J46: E | K46: NAV LILLE | L46: F
B47: HENRY | C47: NAV CLERMONT | D47: C | E47: NAV DIJON | F47: D | G47: NAV LANGRES | H47: E | I47: NAV LILLE | J47: F | K47: NAV NIORT | L47: G
B48: LAABID R | C48: NAV DIJON | D48: D | E48: NAV LANGRES | F48: E | G48: NAV LILLE | H48: F | I48: NAV NIORT | J48: G | K48: NAV VELAINES | L48: I
B49: LEMARCHAND | C49: NAV LANGRES | D49: E | E49: NAV LILLE | F49: F | G49: NAV NIORT | H49: G | I49: NAV VELAINES | J49: I | K49: RAM + 21h30 TOURS | L49: L
B50: NOLLET | C50: NAV LILLE | D50: F | E50: NAV NIORT | F50: G | G50: NAV VELAINES | H50: I | I50: RAM + 21h30 TOURS | J50: L | K50: RAM + ATHIS 1 | L50: N
B51: PETIT | C51: NAV NIORT | D51: G | E51: NAV VELAINES | F51: I | G51: RAM + 21h30 TOURS | H51: L | I51: RAM + ATHIS 1 | J51: N | K51: RAM + NANTES 1 | L51: P
... B54: VISSEICHE | C54: RAM + ATHIS 1 | D54: N | E54: RAM + NANTES 1 | F54: P | G54: RAM + ORLEANS 21H | H54: Q | I54: RAM 14H00 | J54: S | K54: RAM MALO + LAVAL | L54: T
C55: periode 3
C56: jour 1 | E56: jour 2 | G56: jour 3 | I56: jour 4 | K56: jour5
B58: BARRE | C58: NAV ATHIS 2 | D58: A | E58: NAV CHAULNES | F58: B | G58: NAV CLERMONT | H58: C | I58: RAM MALO + LAVAL | J58: T | K58: RAM + 20H TOURS | L58: U
B59: BRILLET | C59: NAV CHAULNES | D59: B | E59: NAV CLERMONT | F59: C | G59: NAV DIJON | H59: D | I59: RAM + 20H TOURS | J59: U | K59: NAV ATHIS 2 | L59: A
B60: CHAUVIN | C60: NAV CLERMONT | D60: C | E60: NAV DIJON | F60: D | G60: NAV LANGRES | H60: E | I60: NAV ATHIS 2 | J60: A | K60: NAV CHAULNES | L60: B
B61: DELALANDE | C61: NAV DIJON | D61: D | E61: NAV LANGRES | F61: E | G61: NAV LILLE | H61: F | I61: NAV CHAULNES | J61: B | K61: NAV CLERMONT | L61: C
B62: DUGUE | C62: NAV LANGRES | D62: E | E62: NAV LILLE | F62: F | G62: NAV NIORT | H62: G | I62: NAV CLERMONT | J62: C | K62: NAV DIJON | L62: D
B63: FOUCAUD | C63: NAV LILLE | D63: F | E63: NAV NIORT | F63: G | G63: NAV VELAINES | H63: I | I63: NAV DIJON | J63: D | K63: NAV LANGRES | L63: E
B64: GUEZENNEC | C64: NAV NIORT | D64: G | E64: NAV VELAINES | F64: I | G64: RAM + 21h30 TOURS | H64: L | I64: NAV LANGRES | J64: E | K64: NAV LILLE | L64: F
B65: HENRY | C65: NAV VELAINES | D65: I | E65: RAM + 21h30 TOURS | F65: L | G65: RAM + ATHIS 1 | H65: N | I65: NAV LILLE | J65: F | K65: NAV NIORT | L65: G
B66: LAABID R | C66: RAM + 21h30 TOURS | D66: L | E66: RAM + ATHIS 1 | F66: N | G66: RAM + NANTES 1 | H66: P | I66: NAV NIORT | J66: G | K66: NAV VELAINES | L66: I
B67: LEMARCHAND | C67: RAM + ATHIS 1 | D67: N | E67: RAM + NANTES 1 | F67: P | G67: RAM + ORLEANS 21H | H67: Q | I67: NAV VELAINES | J67: I | K67: RAM + 21h30 TOURS | L67: L
B68: NOLLET | C68: RAM + NANTES 1 | D68: P | E68: RAM + ORLEANS 21H | F68: Q | G68: RAM 14H00 | H68: S | I68: RAM + 21h30 TOURS | J68: L | K68: RAM + ATHIS 1 | L68: N
B69: PETIT | C69: RAM + ORLEANS 21H | D69: Q | E69: RAM 14H00 | F69: S | G69: RAM MALO + LAVAL | H69: T | I69: RAM + ATHIS 1 | J69: N | K69: RAM + NANTES 1 | L69: P
... B72: VISSEICHE | C72: RAM + 20H TOURS | D72: U | E72: NAV ATHIS 2 | F72: A | G72: RAM + ORLEANS 21H | H72: Q | I72: RAM 14H00 | J72: S | K72: RAM MALO + LAVAL | L72: T

Sheet Feuil3
C2: SEMAINE 1 | R2: TOTAL HEURES SEMAINE | U2: si superieur a 40h ou 160h | W2: 1.6666667
C3: jour 1 | F3: jour 2 | I3: jour 3 | L3: jour 4 | O3: jour5 | U3: si inferieur ou =a 40h ou 160h | W3: 6.6666667
B5: BARRE | D5: =VLOOKUP(C5,Feuil2!D6:I30,6,FALSE) -> #N/A | E5: O | G5: =VLOOKUP(F5,Feuil2!D6:I30,6,FALSE) -> #N/A | H5: M | J5: =VLOOKUP(I5,Feuil2!D6:I30,6,FALSE) -> #N/A | K5: P | M5: =VLOOKUP(L5,Feuil2!D6:I30,6,FALSE) -> #N/A | N5: R | P5: =VLOOKUP(O5,Feuil2!D6:I30,6,FALSE) -> #N/A | Q5: O | R5: =SUM(D5+G5+J5+M5+P5) -> #N/A
B6: BRILLET | D6: =VLOOKUP(C6,Feuil2!D7:I31,6,FALSE) -> #N/A | E6: M | G6: =VLOOKUP(F6,Feuil2!D7:I31,6,FALSE) -> #N/A | H6: P | J6: =VLOOKUP(I6,Feuil2!D7:I31,6,FALSE) -> #N/A | K6: R | M6: =VLOOKUP(L6,Feuil2!D7:I31,6,FALSE) -> #N/A | N6: O | P6: =VLOOKUP(O6,Feuil2!D7:I31,6,FALSE) -> #N/A | Q6: M | R6: =SUM(D6+G6+J6+M6+P6) -> #N/A
B7: CHAUVIN
B8: DELALANDE
B9: DUGUE
B10: FOUCAUD
B11: GUEZENNEC
B12: HENRY
B13: LAABID R
B14: LEMARCHAND
B15: NOLLET
B16: PETIT
B17: RAZE
B18: SINIVASSIN
B19: VISSEICHE | D19: =VLOOKUP(C19,Feuil2!D8:I32,6,FALSE) -> #N/A | G19: =VLOOKUP(F19,Feuil2!D8:I32,6,FALSE) -> #N/A | J19: =VLOOKUP(I19,Feuil2!D8:I32,6,FALSE) -> #N/A | M19: =VLOOKUP(L19,Feuil2!D8:I32,6,FALSE) -> #N/A | P19: =VLOOKUP(O19,Feuil2!D8:I32,6,FALSE) -> #N/A | R19: =SUM(D19+G19+J19+M19+P19) -> #N/A
D21: =VLOOKUP(C21,Feuil2!D9:I33,6,FALSE) -> #N/A | E21: P | G21: =VLOOKUP(F21,Feuil2!D9:I33,6,FALSE) -> #N/A | H21: R | J21: =VLOOKUP(I21,Feuil2!D9:I33,6,FALSE) -> #N/A | K21: O | M21: =VLOOKUP(L21,Feuil2!D9:I33,6,FALSE) -> #N/A | N21: M | P21: =VLOOKUP(O21,Feuil2!D9:I33,6,FALSE) -> #N/A | Q21: P | R21: =SUM(D21+G21+J21+M21+P21) -> #N/A
D22: =VLOOKUP(C22,Feuil2!D9:I33,6,FALSE) -> #N/A | E22: R | G22: =VLOOKUP(F22,Feuil2!D9:I33,6,FALSE) -> #N/A | H22: O | J22: =VLOOKUP(I22,Feuil2!D9:I33,6,FALSE) -> #N/A | K22: M | M22: =VLOOKUP(L22,Feuil2!D9:I33,6,FALSE) -> #N/A | N22: P | P22: =VLOOKUP(O22,Feuil2!D9:I33,6,FALSE) -> #N/A | Q22: R | R22: =SUM(D22+G22+J22+M22+P22) -> #N/A
C24: SEMAINE 2 | R24: TOTAL HEURES SEMAINE | U24: TOTAL HEURES PERIODE
C25: jour 1 | F25: jour 2 | I25: jour 3 | L25: jour 4 | O25: jour5
B27: CHOTARD | C27: RAM + ANGERS 21H30 | D27: =VLOOKUP(C27,Feuil2!D6:I29,6,FALSE) -> 0.33333333 | E27: M | F27: RAM + NANTES 1 | G27: =VLOOKUP(F27,Feuil2!D6:I30,6,FALSE) -> 0.34375 | H27: P | I27: NAV CHATEAUBOUR | J27: =VLOOKUP(I27,Feuil2!D6:I30,6,FALSE) -> 0.29166667 | K27: R | L27: NAV CHATEAUBOUR | M27: =VLOOKUP(L27,Feuil2!D6:I30,6,FALSE) -> 0.29166667 | N27: R | O27: RAM + CAEN 21H15 | P27: =VLOOKUP(O27,Feuil2!D6:I30,6,FALSE) -> 0.38541667 | Q27: O | R27: =SUM(D27+G27+J27+M27+P27) -> 1.6458333 | U27: CHOTARD | V27: =SUM(R5,R27,R35,R43) -> #N/A
B28: HORVAIS | C28: RAM + NANTES 1 | D28: =VLOOKUP(C28,Feuil2!D7:I30,6,FALSE) -> 0.34375 | E28: P | F28: NAV CHATEAUBOUR | G28: =VLOOKUP(F28,Feuil2!D7:I31,6,FALSE) -> 0.29166667 | H28: R | I28: RAM + CAEN 21H15 | J28: =VLOOKUP(I28,Feuil2!D7:I31,6,FALSE) -> 0.38541667 | K28: O | L28: RAM + CAEN 21H15 | M28: =VLOOKUP(L28,Feuil2!D7:I31,6,FALSE) -> 0.38541667 | N28: O | O28: RAM + ANGERS 21H30 | P28: =VLOOKUP(O28,Feuil2!D7:I31,6,FALSE) -> 0.33333333 | Q28: M | R28: =SUM(D28+G28+J28+M28+P28) -> 1.7395833 | U28: HORVAIS | V28: =SUM(R6,R28,R36,R44) -> #N/A
B29: NICOL | C29: NAV CHATEAUBOUR | D29: =VLOOKUP(C29,Feuil2!D8:I31,6,FALSE) -> 0.29166667 | E29: R | F29: RAM + CAEN 21H15 | G29: =VLOOKUP(F29,Feuil2!D8:I32,6,FALSE) -> 0.38541667 | H29: O | I29: RAM + ANGERS 21H30 | J29: =VLOOKUP(I29,Feuil2!D8:I32,6,FALSE) -> 0.33333333 | K29: M | L29: RAM + ANGERS 21H30 | M29: =VLOOKUP(L29,Feuil2!D8:I32,6,FALSE) -> 0.33333333 | N29: M | O29: RAM + NANTES 1 | P29: =VLOOKUP(O29,Feuil2!D8:I32,6,FALSE) -> 0.34375 | Q29: P | R29: =SUM(D29+G29+J29+M29+P29) -> 1.6875 | U29: NICOL | V29: =SUM(R21,R29,R37,R45) -> #N/A
B30: ROUAUD | C30: RAM + CAEN 21H15 | D30: =VLOOKUP(C30,Feuil2!D9:I32,6,FALSE) -> 0.38541667 | E30: O | F30: RAM + ANGERS 21H30 | G30: =VLOOKUP(F30,Feuil2!D9:I33,6,FALSE) -> 0.33333333 | H30: M | I30: RAM + NANTES 1 | J30: =VLOOKUP(I30,Feuil2!D9:I33,6,FALSE) -> 0.34375 | K30: P | L30: RAM + NANTES 1 | M30: =VLOOKUP(L30,Feuil2!D9:I33,6,FALSE) -> 0.34375 | N30: P | O30: NAV CHATEAUBOUR | P30: =VLOOKUP(O30,Feuil2!D9:I33,6,FALSE) -> 0.29166667 | Q30: R | R30: =SUM(D30+G30+J30+M30+P30) -> 1.6979167 | U30: ROUAUD | V30: =SUM(R22,R30,R38,R46) -> #N/A
C32: SEMAINE 3 | R32: TOTAL HEURES SEMAINE
C33: jour 1 | F33: jour 2 | I33: jour 3 | L33: jour 4 | O33: jour5
B35: CHOTARD | C35: RAM + NANTES 1 | D35: =VLOOKUP(C35,Feuil2!D6:I29,6,FALSE) -> 0.34375 | E35: P | F35: RAM + ANGERS 21H30 | G35: =VLOOKUP(F35,Feuil2!D6:I30,6,FALSE) -> 0.33333333 | H35: M | I35: RAM + NANTES 1 | J35: =VLOOKUP(I35,Feuil2!D6:I30,6,FALSE) -> 0.34375 | K35: P | L35: RAM + CAEN 21H15 | M35: =VLOOKUP(L35,Feuil2!D6:I30,6,FALSE) -> 0.38541667 | N35: O | O35: NAV CHATEAUBOUR | P35: =VLOOKUP(O35,Feuil2!D6:I30,6,FALSE) -> 0.29166667 | Q35: R | R35: =SUM(D35+G35+J35+M35+P35) -> 1.6979167 | U35: NAV CHATEAUBOUR
B36: HORVAIS | C36: NAV CHATEAUBOUR | D36: =VLOOKUP(C36,Feuil2!D7:I30,6,FALSE) -> 0.29166667 | E36: R | F36: RAM + NANTES 1 | G36: =VLOOKUP(F36,Feuil2!D7:I31,6,FALSE) -> 0.34375 | H36: P | I36: NAV CHATEAUBOUR | J36: =VLOOKUP(I36,Feuil2!D7:I31,6,FALSE) -> 0.29166667 | K36: R | L36: RAM + ANGERS 21H30 | M36: =VLOOKUP(L36,Feuil2!D7:I31,6,FALSE) -> 0.33333333 | N36: M | O36: RAM + CAEN 21H15 | P36: =VLOOKUP(O36,Feuil2!D7:I31,6,FALSE) -> 0.38541667 | Q36: O | R36: =SUM(D36+G36+J36+M36+P36) -> 1.6458333 | U36: RAM + CAEN 21H15
B37: NICOL | C37: RAM + CAEN 21H15 | D37: =VLOOKUP(C37,Feuil2!D8:I31,6,FALSE) -> 0.38541667 | E37: O | F37: NAV CHATEAUBOUR | G37: =VLOOKUP(F37,Feuil2!D8:I32,6,FALSE) -> 0.29166667 | H37: R | I37: RAM + CAEN 21H15 | J37: =VLOOKUP(I37,Feuil2!D8:I32,6,FALSE) -> 0.38541667 | K37: O | L37: RAM + NANTES 1 | M37: =VLOOKUP(L37,Feuil2!D8:I32,6,FALSE) -> 0.34375 | N37: P | O37: RAM + ANGERS 21H30 | P37: =VLOOKUP(O37,Feuil2!D8:I32,6,FALSE) -> 0.33333333 | Q37: M | R37: =SUM(D37+G37+J37+M37+P37) -> 1.7395833 | U37: RAM + ANGERS 21H30
B38: ROUAUD | C38: RAM + ANGERS 21H30 | D38: =VLOOKUP(C38,Feuil2!D9:I32,6,FALSE) -> 0.33333333 | E38: M | F38: RAM + CAEN 21H15 | G38: =VLOOKUP(F38,Feuil2!D9:I33,6,FALSE) -> 0.38541667 | H38: O | I38: RAM + ANGERS 21H30 | J38: =VLOOKUP(I38,Feuil2!D9:I33,6,FALSE) -> 0.33333333 | K38: M | L38: NAV CHATEAUBOUR | M38: =VLOOKUP(L38,Feuil2!D9:I33,6,FALSE) -> 0.29166667 | N38: R | O38: RAM + NANTES 1 | P38: =VLOOKUP(O38,Feuil2!D9:I33,6,FALSE) -> 0.34375 | Q38: P | R38: =SUM(D38+G38+J38+M38+P38) -> 1.6875 | U38: RAM + NANTES 1
C40: SEMAINE 14 | R40: TOTAL HEURES SEMAINE
C41: jour 1 | F41: jour 2 | I41: jour 3 | L41: jour 4 | O41: jour5
B43: CHOTARD | C43: RAM + NANTES 1 | D43: =VLOOKUP(C43,Feuil2!D6:I30,6,FALSE) -> 0.34375 | E43: P | F43: RAM + ANGERS 21H30 | G43: =VLOOKUP(F43,Feuil2!D6:I30,6,FALSE) -> 0.33333333 | H43: M | I43: RAM + NANTES 1 | J43: =VLOOKUP(I43,Feuil2!D6:I30,6,FALSE) -> 0.34375 | K43: P | L43: RAM + CAEN 21H15 | M43: =VLOOKUP(L43,Feuil2!D6:I30,6,FALSE) -> 0.38541667 | N43: O | O43: NAV CHATEAUBOUR | P43: =VLOOKUP(O43,Feuil2!D6:I30,6,FALSE) -> 0.29166667 | Q43: R | R43: =SUM(D43+G43+J43+M43+P43) -> 1.6979167
B44: HORVAIS | C44: NAV CHATEAUBOUR | D44: =VLOOKUP(C44,Feuil2!D7:I31,6,FALSE) -> 0.29166667 | E44: R | F44: RAM + NANTES 1 | G44: =VLOOKUP(F44,Feuil2!D7:I31,6,FALSE) -> 0.34375 | H44: P | I44: NAV CHATEAUBOUR | J44: =VLOOKUP(I44,Feuil2!D7:I31,6,FALSE) -> 0.29166667 | K44: R | L44: RAM + ANGERS 21H30 | M44: =VLOOKUP(L44,Feuil2!D7:I31,6,FALSE) -> 0.33333333 | N44: M | O44: RAM + CAEN 21H15 | P44: =VLOOKUP(O44,Feuil2!D7:I31,6,FALSE) -> 0.38541667 | Q44: O | R44: =SUM(D44+G44+J44+M44+P44) -> 1.6458333
B45: NICOL | C45: RAM + CAEN 21H15 | D45: =VLOOKUP(C45,Feuil2!D8:I32,6,FALSE) -> 0.38541667 | E45: O | F45: NAV CHATEAUBOUR | G45: =VLOOKUP(F45,Feuil2!D8:I32,6,FALSE) -> 0.29166667 | H45: R | I45: RAM + CAEN 21H15 | J45: =VLOOKUP(I45,Feuil2!D8:I32,6,FALSE) -> 0.38541667 | K45: O | L45: RAM + NANTES 1 | M45: =VLOOKUP(L45,Feuil2!D8:I32,6,FALSE) -> 0.34375 | N45: P | O45: RAM + ANGERS 21H30 | P45: =VLOOKUP(O45,Feuil2!D8:I32,6,FALSE) -> 0.33333333 | Q45: M | R45: =SUM(D45+G45+J45+M45+P45) -> 1.7395833
B46: ROUAUD | C46: RAM + ANGERS 21H30 | D46: =VLOOKUP(C46,Feuil2!D9:I33,6,FALSE) -> 0.33333333 | E46: M | F46: RAM + CAEN 21H15 | G46: =VLOOKUP(F46,Feuil2!D9:I33,6,FALSE) -> 0.38541667 | H46: O | I46: RAM + ANGERS 21H30 | J46: =VLOOKUP(I46,Feuil2!D9:I33,6,FALSE) -> 0.33333333 | K46: M | L46: NAV CHATEAUBOUR | M46: =VLOOKUP(L46,Feuil2!D9:I33,6,FALSE) -> 0.29166667 | N46: R | O46: RAM + NANTES 1 | P46: =VLOOKUP(O46,Feuil2!D9:I33,6,FALSE) -> 0.34375 | Q46: P | R46: =SUM(D46+G46+J46+M46+P46) -> 1.6875

Sheet Feuil4
C2: periode 1
C3: jour 1 | E3: jour 2 | G3: jour 3 | I3: jour 4 | K3: jour5
B5: MACE | C5: ROUEN + BASES | D5: W | E5: SU IFS + BASES | F5: X | G5: NAV NIORT 21H15 | H5: Y | I5: ROUEN + BASES | J5: W | K5: SU IFS + BASES | L5: O
B6: CHAUF 2 | C6: SU IFS + BASES | D6: X | E6: NAV NIORT 21H15 | F6: Y | G6: ROUEN + BASES | H6: W | I6: SU IFS + BASES | J6: X | K6: ROUEN + BASES | L6: W
B7: CHAUF 3 | C7: NAV NIORT 21H15 | D7: Y | E7: ROUEN + BASES | F7: W | G7: SU IFS + BASES | H7: X | I7: NAV NIORT 21H15 | J7: Y | K7: SU IFS + BASES | L7: X
B8: CHAUF 4 | K8: NAV NIORT 21H15 | L8: Y
C10: periode 2
C11: jour 1 | E11: jour 2 | G11: jour 3 | I11: jour 4 | K11: jour5
B13: MACE | C13: SU IFS + BASES | D13: X | E13: ROUEN + BASES | F13: W | G13: ROUEN + BASES | H13: W | I13: NAV NIORT 21H15 | J13: Y | K13: ATHIS VENDREDI | L13: O
B14: CHAUF 2 | C14: NAV NIORT 21H15 | D14: Y | E14: SU IFS + BASES | F14: X | G14: SU IFS + BASES | H14: X | I14: ROUEN + BASES | J14: W | K14: ROUEN + BASES | L14: W
B15: CHAUF 3 | C15: ROUEN + BASES | D15: W | E15: NAV NIORT 21H15 | F15: Y | G15: NAV NIORT 21H15 | H15: Y | I15: SU IFS + BASES | J15: X | K15: SU IFS + BASES | L15: X
B16: CHAUF 4 | K16: NAV NIORT 21H15 | L16: Y
C18: periode 3
C19: jour 1 | E19: jour 2 | G19: jour 3 | I19: jour 4 | K19: jour5
B21: MACE | C21: ROUEN + BASES | D21: W | E21: NAV NIORT 21H15 | F21: Y | G21: SU IFS + BASES | H21: X | I21: ROUEN + BASES | J21: W | K21: ATHIS VENDREDI | L21: O
B22: CHAUF 2 | C22: SU IFS + BASES | D22: X | E22: ROUEN + BASES | F22: W | G22: NAV NIORT 21H15 | H22: Y | I22: SU IFS + BASES | J22: X | K22: ROUEN + BASES | L22: W
B23: CHAUF 3 | C23: NAV NIORT 21H15 | D23: Y | E23: SU IFS + BASES | F23: X | G23: ROUEN + BASES | H23: W | I23: NAV NIORT 21H15 | J23: Y | K23: SU IFS + BASES | L23: X
B24: CHAUF 4 | K24: NAV NIORT 21H15 | L24: Y
C26: periode 4
C27: jour 1 | E27: jour 2 | G27: jour 3 | I27: jour 4 | K27: jour5
B29: MACE | C29: NAV NIORT 21H15 | D29: Y | E29: SU IFS + BASES | F29: X | G29: NAV NIORT 21H15 | H29: Y | I29: ROUEN + BASES | J29: W | K29: ATHIS VENDREDI | L29: O
B30: CHAUF 2 | C30: ROUEN + BASES | D30: W | E30: NAV NIORT 21H15 | F30: Y | G30: ROUEN + BASES | H30: W | I30: SU IFS + BASES | J30: X | K30: ROUEN + BASES | L30: W
B31: CHAUF 3 | C31: SU IFS + BASES | D31: X | E31: ROUEN + BASES | F31: W | G31: SU IFS + BASES | H31: X | I31: NAV NIORT 21H15 | J31: Y | K31: SU IFS + BASES | L31: X
B32: CHAUF 4 | K32: NAV NIORT 21H15 | L32: Y

Sheet Feuil7
