Workbook
Name imag: INDEX(Photos,MATCH(JEU!$A$3,Noms,0))
Name imag1: INDEX(Photos,MATCH(JEU!$A$5,Noms,0))
Name imag2: INDEX(Photos,MATCH(JEU!$A$7,Noms,0))
Name imag3: INDEX(Photos,MATCH(JEU!$A$9,Noms,0))
Name Noms: OFFSET(Data!$A$1,,,COUNTA(Data!$A:$A)+0)
Name Photos: OFFSET(Data!$D$1,,,COUNTA(Data!$D:$D)+0)

Sheet JEU
A3: =Data!C1 -> 11 | D3: > | E3: =IF(A3=Data!C1,Data!D1)
A5: =Data!C2 -> 1 | D5: > | E5: =IF(A5=Data!C2,Data!D2)
A7: =Data!C3 -> 3 | D7: >

Sheet Data
A1: 1 | B1: =RAND() -> 0.098135363 | C1: =RANK(B1,$B$1:$B$12)+COUNTIF($B$1:B1,B1)-1 -> 11 | D1: =IF(AND(A1<1),"Vide","")
A2: 2 | B2: =RAND() -> 0.90238395 | C2: =RANK(B2,$B$1:$B$12)+COUNTIF($B$1:B2,B2)-1 -> 1 | D2: =IF(AND(A2<1),"Vide","")
A3: 3 | B3: =RAND() -> 0.78129144 | C3: =RANK(B3,$B$1:$B$12)+COUNTIF($B$1:B3,B3)-1 -> 3 | D3: =IF(AND(A3<1),"Vide","")
A4: 4 | B4: =RAND() -> 0.44242642 | C4: =RANK(B4,$B$1:$B$12)+COUNTIF($B$1:B4,B4)-1 -> 8 | D4: =IF(AND(A4<1),"Vide","")
A5: 5 | B5: =RAND() -> 0.33815798 | C5: =RANK(B5,$B$1:$B$12)+COUNTIF($B$1:B5,B5)-1 -> 9 | D5: =IF(AND(A5<1),"Vide","")
A6: 6 | B6: =RAND() -> 0.67482902 | C6: =RANK(B6,$B$1:$B$12)+COUNTIF($B$1:B6,B6)-1 -> 5 | D6: =IF(AND(A6<1),"Vide","")
A7: 7 | B7: =RAND() -> 0.29856136 | C7: =RANK(B7,$B$1:$B$12)+COUNTIF($B$1:B7,B7)-1 -> 10 | D7: =IF(AND(A7<1),"Vide","")
A8: 8 | B8: =RAND() -> 0.59829573 | C8: =RANK(B8,$B$1:$B$12)+COUNTIF($B$1:B8,B8)-1 -> 7 | D8: =IF(AND(A8<1),"Vide","")
A9: 9 | B9: =RAND() -> 0.72358236 | C9: =RANK(B9,$B$1:$B$12)+COUNTIF($B$1:B9,B9)-1 -> 4 | D9: =IF(AND(A9<1),"Vide","")
A10: 10 | B10: =RAND() -> 0.0068381013 | C10: =RANK(B10,$B$1:$B$12)+COUNTIF($B$1:B10,B10)-1 -> 12 | D10: =IF(AND(A10<1),"Vide","")
A11: 11 | B11: =RAND() -> 0.66548618 | C11: =RANK(B11,$B$1:$B$12)+COUNTIF($B$1:B11,B11)-1 -> 6 | D11: =IF(AND(A11<1),"Vide","")
A12: 12 | B12: =RAND() -> 0.84149753 | C12: =RANK(B12,$B$1:$B$12)+COUNTIF($B$1:B12,B12)-1 -> 2 | D12: =IF(AND(A12<1),"Vide","")
