Workbook
Name gérald: ref!$D$22:$D$32
Name gérald1: ref!$D$22:$E$32
Name gerald2: ref!$D$22:$D$35
Name gerald3: ref!$D$22:$D$37
Name gérald4: ref!$D$21:$D$37

Sheet planning 
AE1: 0.77083333 | AF1: 0.91666667 | AG1: 0
Z2: Heures suplémentaires réels | AE2: 0.91666667 | AF2: 1 | AG2: 0.25
C3: jour | D3: type de journée | F3: Début | G3: pause | H3: Fin | J3: H Jour | K3: hc de | L3: H amp | M3: hc de | N3: hs semaine | O3: début P midi | P3: fin p midi | Q3: résultat | R3: hc de | S3: début P soir | T3: fin P Soir | U3: résultat | V3: hc de | X3: j semaine | Z3: H nuit | AA3: H dimanche | AB3: H férié travaillé | AC3: H sup + 18:30 | AD3: H samedi | AE3: 18:30-22:00 | AF3: 22:00:24:00 | AG3: 00:00-06:00
B5: date | C5: =DATE(ref!E$2,B$9,B$7) -> 43830 | D5: travail | E5: =IF(AND(H5="",F5=""),"",C5+F5) -> 43830.583 | F5: 0.58333333 | G5: =SUM(Q5+U5) -> 0 | H5: 0.083333333 | I5: =IF(AND(F5="",H5=""),"",C5+H5+(F5>H5)) -> 43831.083 | J5: =IF(OR(D5="télétravail",D5="férié travaillé",D5="travail"),(H5-F5+IF(F5>H5,1)-G5),INDEX(ref!$E$22:'ref'!$E$37,MATCH(D5,gerald3,0))) -> 0.5 | K5: =IF(SUM(J5-ref!E$8)<0,0,SUM(J5-ref!E$8)) -> 0.083333333 | L5: =IF(OR(D5="férié travaillé",D5="travail",D5="asa",D5="rtt"),H5-F5+IF(F5>H5,1),INDEX(ref!$E$22:'ref'!$E$37,MATCH(D5,gerald2,0))) -> 0.5 | M5: =IF(SUM(L5-ref!E$4)<0,0,SUM(L5-ref!E$4)) -> 0 | N5: =J5 -> 0.5 | Q5: =SUM(P5-O5) -> 0 | R5: =IF(O5="","",ABS(IF(SUM(O5-ref!E$38)>0,0,SUM(O5-ref!E$38)))) | U5: =SUM(T5-S5) -> 0 | V5: =IF(S5="","",ABS(IF(SUM(S5-ref!E$38)>0,0,SUM(S5-ref!E$38)))) | W5: =SUM(X5:X11) -> 2 | X5: =IF(AND(F5<>"",H5<>""),1,0+OR(N(H4)<N(F4),D5="récupération",D5="asa",D5="congé 1 jour",D5="congé 1/2 jour ",D5="congé 5h24",D5="arrêt maladie",D5="arrêt travail",D5="férié ",D5="congé parentale",D5="congé de naissance")) -> 1 | Z5: =IF(SUM(MOD(H5-F5,1)-IF(H5>F5,MAX(0,MIN(H5,ref!E$17/24)-MAX('planning '!F5,7/24)),MAX(0,ref!E$17/24-MAX('planning '!F5,7/24))+MAX(0,MIN('planning '!H5,ref!E$17/24)-7/24)))<0,0,SUM(MOD('planning '!H5-'planning '!F5,1)-IF('planning '!H5>'planning '!F5,MAX(0,MIN('planning '!H5,ref!E$17/24)-MAX('planning '!F5,7/24)),MAX(0,ref!E$17/24-MAX('planning '!F5,7/24))+MAX(0,MIN('planning '!H5,ref!E$17/24)-7/24)))) -> 0.16666667 | AA5: =IF(AND(J5<>0,WEEKDAY(C5,2)=7),J5,0) -> 0 | AB5: =IF(D5<>"travail",IF(D5="férié travaillé",MOD(H5-F5,1)-G5,"00:00"),"00:00") -> 00:00 | AD5: =IF(AND(J5<>0,WEEKDAY(C5,2)=6),J5,0) -> 0 | AE5: =IF(OR($F5="",$H5=""),0,IF($H5>$F5,MEDIAN($H5,AE$2,AE$1)-MEDIAN($F5,AE$2,AE$1),+($H5<$F5)*(AE$2-AE$1)+MEDIAN($H5,AE$1,AE$2)-MEDIAN($F5,AE$1,AE$2))) -> 0.14583333 | AF5: =IF(OR($F5="",$H5=""),0,IF($H5>$F5,MEDIAN($H5,AF$2,AF$1)-MEDIAN($F5,AF$2,AF$1),+($H5<$F5)*(AF$2-AF$1)+MEDIAN($H5,AF$1,AF$2)-MEDIAN($F5,AF$1,AF$2))) -> 0.083333333 | AG5: =IF(OR($F5="",$H5=""),0,IF($H5>$F5,MEDIAN($H5,AG$2,AG$1)-MEDIAN($F5,AG$2,AG$1),+($H5<$F5)*(AG$2-AG$1)+MEDIAN($H5,AG$1,AG$2)-MEDIAN($F5,AG$1,AG$2))) -> 0.083333333
B6: date | C6: =C5+1 -> 43831 | D6: off | E6: =IF(AND(H6="",F6=""),"",C6+F6) | G6: =SUM(O6+S6) -> 0 | I6: =IF(AND(F6="",H6=""),"",C6+H6+(F6>H6)) | J6: =IF(OR(D6="télétravail",D6="férié travaillé",D6="travail"),(H6-F6+IF(F6>H6,1)-G6),INDEX(ref!$E$22:'ref'!$E$37,MATCH(D6,gerald3,0))) -> 0 | K6: =IF(SUM(J6-ref!E$8)<0,0,SUM(J6-ref!E$8)) -> 0 | L6: =IF(OR(D6="férié travaillé",D6="travail",D6="asa",D6="rtt"),H6-F6+IF(F6>H6,1),INDEX(ref!$E$22:'ref'!$E$37,MATCH(D6,gerald2,0))) -> 0 | M6: =IF(SUM(L6-ref!E$4)<0,0,SUM(L6-ref!E$4)) -> 0 | N6: =N5+J6 -> 0.5 | R6: =IF(O6="","",ABS(IF(SUM(O6-ref!E$38)>0,0,SUM(O6-ref!E$38)))) | V6: =IF(S6="","",ABS(IF(SUM(S6-ref!E$38)>0,0,SUM(S6-ref!E$38)))) | W6: =IF(SUM(W5-ref!E$7)<0,0,SUM(W5-ref!E$7)) -> 0 | X6: =IF(AND(F6<>"",H6<>""),1,0+OR(N(H5)<N(F5),D6="récupération",D6="asa",D6="congé 1 jour",D6="congé 1/2 jour ",D6="congé 5h24",D6="arrêt maladie",D6="arrêt travail",D6="férié ",D6="congé parentale",D6="congé de naissance")) -> 1 | Z6: =IF(SUM(MOD(H6-F6,1)-IF(H6>F6,MAX(0,MIN(H6,ref!E$17/24)-MAX('planning '!F6,7/24)),MAX(0,ref!E$17/24-MAX('planning '!F6,7/24))+MAX(0,MIN('planning '!H6,ref!E$17/24)-7/24)))<0,0,SUM(MOD('planning '!H6-'planning '!F6,1)-IF('planning '!H6>'planning '!F6,MAX(0,MIN('planning '!H6,ref!E$17/24)-MAX('planning '!F6,7/24)),MAX(0,ref!E$17/24-MAX('planning '!F6,7/24))+MAX(0,MIN('planning '!H6,ref!E$17/24)-7/24)))) -> 0 | AA6: =IF(AND(J6<>0,WEEKDAY(C6,2)=7),J6,0) -> 0 | AB6: =IF(D6<>"travail",IF(D6="férié travaillé",MOD(H6-F6,1)-G6,"00:00"),"00:00") -> 00:00 | AC6: =IF(SUM(IF(N6>(ref!E$10*1),N6-(ref!E$10*1),0)-AC5)<0,0,SUM(IF(N6>(ref!E$10*1),N6-(ref!E$10*1),0)-AC5)) -> 0 | AD6: =IF(AND(J6<>0,WEEKDAY(C6,2)=6),J6,0) -> 0 | AE6: =IF(OR($F6="",$H6=""),0,IF($H6>$F6,MEDIAN($H6,AE$2,AE$1)-MEDIAN($F6,AE$2,AE$1),+($H6<$F6)*(AE$2-AE$1)+MEDIAN($H6,AE$1,AE$2)-MEDIAN($F6,AE$1,AE$2))) -> 0 | AF6: =IF(OR($F6="",$H6=""),0,IF($H6>$F6,MEDIAN($H6,AF$2,AF$1)-MEDIAN($F6,AF$2,AF$1),+($H6<$F6)*(AF$2-AF$1)+MEDIAN($H6,AF$1,AF$2)-MEDIAN($F6,AF$1,AF$2))) -> 0 | AG6: =IF(OR($F6="",$H6=""),0,IF($H6>$F6,MEDIAN($H6,AG$2,AG$1)-MEDIAN($F6,AG$2,AG$1),+($H6<$F6)*(AG$2-AG$1)+MEDIAN($H6,AG$1,AG$2)-MEDIAN($F6,AG$1,AG$2))) -> 0
B7: 1 | C7: =C6+1 -> 43832 | D7: off | E7: =IF(AND(H7="",F7=""),"",C7+F7) | G7: =SUM(O7+S7) -> 0 | I7: =IF(AND(F7="",H7=""),"",C7+H7+(F7>H7)) | J7: =IF(OR(D7="télétravail",D7="férié travaillé",D7="travail"),(H7-F7+IF(F7>H7,1)-G7),INDEX(ref!$E$22:'ref'!$E$37,MATCH(D7,gerald3,0))) -> 0 | K7: =IF(SUM(J7-ref!E$8)<0,0,SUM(J7-ref!E$8)) -> 0 | L7: =IF(OR(D7="férié travaillé",D7="travail",D7="asa",D7="rtt"),H7-F7+IF(F7>H7,1),INDEX(ref!$E$22:'ref'!$E$37,MATCH(D7,gerald2,0))) -> 0 | M7: =IF(SUM(L7-ref!E$4)<0,0,SUM(L7-ref!E$4)) -> 0 | N7: =N6+J7 -> 0.5 | R7: =IF(O7="","",ABS(IF(SUM(O7-ref!E$38)>0,0,SUM(O7-ref!E$38)))) | V7: =IF(S7="","",ABS(IF(SUM(S7-ref!E$38)>0,0,SUM(S7-ref!E$38)))) | W7: H semaine | X7: =IF(AND(F7<>"",H7<>""),1,0+OR(N(H6)<N(F6),D7="récupération",D7="asa",D7="congé 1 jour",D7="congé 1/2 jour ",D7="congé 5h24",D7="arrêt maladie",D7="arrêt travail",D7="férié ",D7="congé parentale",D7="congé de naissance")) -> 0 | Z7: =IF(SUM(MOD(H7-F7,1)-IF(H7>F7,MAX(0,MIN(H7,ref!E$17/24)-MAX('planning '!F7,7/24)),MAX(0,ref!E$17/24-MAX('planning '!F7,7/24))+MAX(0,MIN('planning '!H7,ref!E$17/24)-7/24)))<0,0,SUM(MOD('planning '!H7-'planning '!F7,1)-IF('planning '!H7>'planning '!F7,MAX(0,MIN('planning '!H7,ref!E$17/24)-MAX('planning '!F7,7/24)),MAX(0,ref!E$17/24-MAX('planning '!F7,7/24))+MAX(0,MIN('planning '!H7,ref!E$17/24)-7/24)))) -> 0 | AA7: =IF(AND(J7<>0,WEEKDAY(C7,2)=7),J7,0) -> 0 | AB7: =IF(D7<>"travail",IF(D7="férié travaillé",MOD(H7-F7,1)-G7,"00:00"),"00:00") -> 00:00 | AC7: =IF(SUM(IF(N7>(ref!E$10*1),N7-(ref!E$10*1),0)-AC6)<0,0,SUM(IF(N7>(ref!E$10*1),N7-(ref!E$10*1),0)-AC5-AC6)) -> 0 | AD7: =IF(AND(J7<>0,WEEKDAY(C7,2)=6),J7,0) -> 0 | AE7: =IF(OR($F7="",$H7=""),0,IF($H7>$F7,MEDIAN($H7,AE$2,AE$1)-MEDIAN($F7,AE$2,AE$1),+($H7<$F7)*(AE$2-AE$1)+MEDIAN($H7,AE$1,AE$2)-MEDIAN($F7,AE$1,AE$2))) -> 0 | AF7: =IF(OR($F7="",$H7=""),0,IF($H7>$F7,MEDIAN($H7,AF$2,AF$1)-MEDIAN($F7,AF$2,AF$1),+($H7<$F7)*(AF$2-AF$1)+MEDIAN($H7,AF$1,AF$2)-MEDIAN($F7,AF$1,AF$2))) -> 0 | AG7: =IF(OR($F7="",$H7=""),0,IF($H7>$F7,MEDIAN($H7,AG$2,AG$1)-MEDIAN($F7,AG$2,AG$1),+($H7<$F7)*(AG$2-AG$1)+MEDIAN($H7,AG$1,AG$2)-MEDIAN($F7,AG$1,AG$2))) -> 0
B8: mois | C8: =C7+1 -> 43833 | D8: off | E8: =IF(AND(H8="",F8=""),"",C8+F8) | G8: =SUM(O8+S8) -> 0 | I8: =IF(AND(F8="",H8=""),"",C8+H8+(F8>H8)) | J8: =IF(OR(D8="télétravail",D8="férié travaillé",D8="travail"),(H8-F8+IF(F8>H8,1)-G8),INDEX(ref!$E$22:'ref'!$E$37,MATCH(D8,gerald3,0))) -> 0 | K8: =IF(SUM(J8-ref!E$8)<0,0,SUM(J8-ref!E$8)) -> 0 | L8: =IF(OR(D8="férié travaillé",D8="travail",D8="asa",D8="rtt"),H8-F8+IF(F8>H8,1),INDEX(ref!$E$22:'ref'!$E$37,MATCH(D8,gerald2,0))) -> 0 | M8: =IF(SUM(L8-ref!E$4)<0,0,SUM(L8-ref!E$4)) -> 0 | N8: =N7+J8 -> 0.5 | R8: =IF(O8="","",ABS(IF(SUM(O8-ref!E$38)>0,0,SUM(O8-ref!E$38)))) | V8: =IF(S8="","",ABS(IF(SUM(S8-ref!E$38)>0,0,SUM(S8-ref!E$38)))) | W8: =N11 -> 0.5 | X8: =IF(AND(F8<>"",H8<>""),1,0+OR(N(H7)<N(F7),D8="récupération",D8="asa",D8="congé 1 jour",D8="congé 1/2 jour ",D8="congé 5h24",D8="arrêt maladie",D8="arrêt travail",D8="férié ",D8="congé parentale",D8="congé de naissance")) -> 0 | Z8: =IF(SUM(MOD(H8-F8,1)-IF(H8>F8,MAX(0,MIN(H8,ref!E$17/24)-MAX('planning '!F8,7/24)),MAX(0,ref!E$17/24-MAX('planning '!F8,7/24))+MAX(0,MIN('planning '!H8,ref!E$17/24)-7/24)))<0,0,SUM(MOD('planning '!H8-'planning '!F8,1)-IF('planning '!H8>'planning '!F8,MAX(0,MIN('planning '!H8,ref!E$17/24)-MAX('planning '!F8,7/24)),MAX(0,ref!E$17/24-MAX('planning '!F8,7/24))+MAX(0,MIN('planning '!H8,ref!E$17/24)-7/24)))) -> 0 | AA8: =IF(AND(J8<>0,WEEKDAY(C8,2)=7),J8,0) -> 0 | AB8: =IF(D8<>"travail",IF(D8="férié travaillé",MOD(H8-F8,1)-G8,"00:00"),"00:00") -> 00:00 | AC8: =IF(SUM(IF(N8>(ref!E$10*1),N8-(ref!E$10*1),0)-AC7)<0,0,SUM(IF(N8>(ref!E$10*1),N8-(ref!E$10*1),0)-AC5-AC6-AC7)) -> 0 | AD8: =IF(AND(J8<>0,WEEKDAY(C8,2)=6),J8,0) -> 0 | AE8: =IF(OR($F8="",$H8=""),0,IF($H8>$F8,MEDIAN($H8,AE$2,AE$1)-MEDIAN($F8,AE$2,AE$1),+($H8<$F8)*(AE$2-AE$1)+MEDIAN($H8,AE$1,AE$2)-MEDIAN($F8,AE$1,AE$2))) -> 0 | AF8: =IF(OR($F8="",$H8=""),0,IF($H8>$F8,MEDIAN($H8,AF$2,AF$1)-MEDIAN($F8,AF$2,AF$1),+($H8<$F8)*(AF$2-AF$1)+MEDIAN($H8,AF$1,AF$2)-MEDIAN($F8,AF$1,AF$2))) -> 0 | AG8: =IF(OR($F8="",$H8=""),0,IF($H8>$F8,MEDIAN($H8,AG$2,AG$1)-MEDIAN($F8,AG$2,AG$1),+($H8<$F8)*(AG$2-AG$1)+MEDIAN($H8,AG$1,AG$2)-MEDIAN($F8,AG$1,AG$2))) -> 0
B9: 1 | C9: =C8+1 -> 43834 | D9: off | E9: =IF(AND(H9="",F9=""),"",C9+F9) | G9: =SUM(O9+S9) -> 0 | I9: =IF(AND(F9="",H9=""),"",C9+H9+(F9>H9)) | J9: =IF(OR(D9="télétravail",D9="férié travaillé",D9="travail"),(H9-F9+IF(F9>H9,1)-G9),INDEX(ref!$E$22:'ref'!$E$37,MATCH(D9,gerald3,0))) -> 0 | K9: =IF(SUM(J9-ref!E$8)<0,0,SUM(J9-ref!E$8)) -> 0 | L9: =IF(OR(D9="férié travaillé",D9="travail",D9="asa",D9="rtt"),H9-F9+IF(F9>H9,1),INDEX(ref!$E$22:'ref'!$E$37,MATCH(D9,gerald2,0))) -> 0 | M9: =IF(SUM(L9-ref!E$4)<0,0,SUM(L9-ref!E$4)) -> 0 | N9: =N8+J9 -> 0.5 | R9: =IF(O9="","",ABS(IF(SUM(O9-ref!E$38)>0,0,SUM(O9-ref!E$38)))) | V9: =IF(S9="","",ABS(IF(SUM(S9-ref!E$38)>0,0,SUM(S9-ref!E$38)))) | W9: H semaine hc de | X9: =IF(AND(F9<>"",H9<>""),1,0+OR(N(H8)<N(F8),D9="récupération",D9="asa",D9="congé 1 jour",D9="congé 1/2 jour ",D9="congé 5h24",D9="arrêt maladie",D9="arrêt travail",D9="férié ",D9="congé parentale",D9="congé de naissance")) -> 0 | Z9: =IF(SUM(MOD(H9-F9,1)-IF(H9>F9,MAX(0,MIN(H9,ref!E$17/24)-MAX('planning '!F9,7/24)),MAX(0,ref!E$17/24-MAX('planning '!F9,7/24))+MAX(0,MIN('planning '!H9,ref!E$17/24)-7/24)))<0,0,SUM(MOD('planning '!H9-'planning '!F9,1)-IF('planning '!H9>'planning '!F9,MAX(0,MIN('planning '!H9,ref!E$17/24)-MAX('planning '!F9,7/24)),MAX(0,ref!E$17/24-MAX('planning '!F9,7/24))+MAX(0,MIN('planning '!H9,ref!E$17/24)-7/24)))) -> 0 | AA9: =IF(AND(J9<>0,WEEKDAY(C9,2)=7),J9,0) -> 0 | AB9: =IF(D9<>"travail",IF(D9="férié travaillé",MOD(H9-F9,1)-G9,"00:00"),"00:00") -> 00:00 | AC9: =IF(SUM(IF(N9>(ref!E$10*1),N9-(ref!E$10*1),0)-AC8)<0,0,SUM(IF(N9>(ref!E$10*1),N9-(ref!E$10*1),0)-AC5-AC6-AC7-AC8)) -> 0 | AD9: =IF(AND(J9<>0,WEEKDAY(C9,2)=6),J9,0) -> 0 | AE9: =IF(OR($F9="",$H9=""),0,IF($H9>$F9,MEDIAN($H9,AE$2,AE$1)-MEDIAN($F9,AE$2,AE$1),+($H9<$F9)*(AE$2-AE$1)+MEDIAN($H9,AE$1,AE$2)-MEDIAN($F9,AE$1,AE$2))) -> 0 | AF9: =IF(OR($F9="",$H9=""),0,IF($H9>$F9,MEDIAN($H9,AF$2,AF$1)-MEDIAN($F9,AF$2,AF$1),+($H9<$F9)*(AF$2-AF$1)+MEDIAN($H9,AF$1,AF$2)-MEDIAN($F9,AF$1,AF$2))) -> 0 | AG9: =IF(OR($F9="",$H9=""),0,IF($H9>$F9,MEDIAN($H9,AG$2,AG$1)-MEDIAN($F9,AG$2,AG$1),+($H9<$F9)*(AG$2-AG$1)+MEDIAN($H9,AG$1,AG$2)-MEDIAN($F9,AG$1,AG$2))) -> 0
C10: =C9+1 -> 43835 | D10: off | E10: =IF(AND(H10="",F10=""),"",C10+F10) | G10: =SUM(O10+S10) -> 0 | I10: =IF(AND(F10="",H10=""),"",C10+H10+(F10>H10)) | J10: =IF(OR(D10="télétravail",D10="férié travaillé",D10="travail"),(H10-F10+IF(F10>H10,1)-G10),INDEX(ref!$E$22:'ref'!$E$37,MATCH(D10,gerald3,0))) -> 0 | K10: =IF(SUM(J10-ref!E$8)<0,0,SUM(J10-ref!E$8)) -> 0 | L10: =IF(OR(D10="férié travaillé",D10="travail",D10="asa",D10="rtt"),H10-F10+IF(F10>H10,1),INDEX(ref!$E$22:'ref'!$E$37,MATCH(D10,gerald2,0))) -> 0 | M10: =IF(SUM(L10-ref!E$4)<0,0,SUM(L10-ref!E$4)) -> 0 | N10: =N9+J10 -> 0.5 | R10: =IF(O10="","",ABS(IF(SUM(O10-ref!E$38)>0,0,SUM(O10-ref!E$38)))) | V10: =IF(S10="","",ABS(IF(SUM(S10-ref!E$38)>0,0,SUM(S10-ref!E$38)))) | W10: =ref!E$11 -> 2 | X10: =IF(AND(F10<>"",H10<>""),1,0+OR(N(H9)<N(F9),D10="récupération",D10="asa",D10="congé 1 jour",D10="congé 1/2 jour ",D10="congé 5h24",D10="arrêt maladie",D10="arrêt travail",D10="férié ",D10="congé parentale",D10="congé de naissance")) -> 0 | Z10: =IF(SUM(MOD(H10-F10,1)-IF(H10>F10,MAX(0,MIN(H10,ref!E$17/24)-MAX('planning '!F10,7/24)),MAX(0,ref!E$17/24-MAX('planning '!F10,7/24))+MAX(0,MIN('planning '!H10,ref!E$17/24)-7/24)))<0,0,SUM(MOD('planning '!H10-'planning '!F10,1)-IF('planning '!H10>'planning '!F10,MAX(0,MIN('planning '!H10,ref!E$17/24)-MAX('planning '!F10,7/24)),MAX(0,ref!E$17/24-MAX('planning '!F10,7/24))+MAX(0,MIN('planning '!H10,ref!E$17/24)-7/24)))) -> 0 | AA10: =IF(AND(J10<>0,WEEKDAY(C10,2)=7),J10,0) -> 0 | AB10: =IF(D10<>"travail",IF(D10="férié travaillé",MOD(H10-F10,1)-G10,"00:00"),"00:00") -> 00:00 | AC10: =IF(SUM(IF(N10>(ref!E$10*1),N10-(ref!E$10*1),0)-AC9)<0,0,SUM(IF(N10>(ref!E$10*1),N10-(ref!E$10*1),0)-AC5-AC6-AC7-AC8-AC9)) -> 0 | AD10: =IF(AND(J10<>0,WEEKDAY(C10,2)=6),J10,0) -> 0 | AE10: =IF(OR($F10="",$H10=""),0,IF($H10>$F10,MEDIAN($H10,AE$2,AE$1)-MEDIAN($F10,AE$2,AE$1),+($H10<$F10)*(AE$2-AE$1)+MEDIAN($H10,AE$1,AE$2)-MEDIAN($F10,AE$1,AE$2))) -> 0 | AF10: =IF(OR($F10="",$H10=""),0,IF($H10>$F10,MEDIAN($H10,AF$2,AF$1)-MEDIAN($F10,AF$2,AF$1),+($H10<$F10)*(AF$2-AF$1)+MEDIAN($H10,AF$1,AF$2)-MEDIAN($F10,AF$1,AF$2))) -> 0 | AG10: =IF(OR($F10="",$H10=""),0,IF($H10>$F10,MEDIAN($H10,AG$2,AG$1)-MEDIAN($F10,AG$2,AG$1),+($H10<$F10)*(AG$2-AG$1)+MEDIAN($H10,AG$1,AG$2)-MEDIAN($F10,AG$1,AG$2))) -> 0
C11: =C10+1 -> 43836 | D11: off | E11: =IF(AND(H11="",F11=""),"",C11+F11) | G11: =SUM(O11+S11) -> 0 | I11: =IF(AND(F11="",H11=""),"",C11+H11+(F11>H11)) | J11: =IF(OR(D11="télétravail",D11="férié travaillé",D11="travail"),(H11-F11+IF(F11>H11,1)-G11),INDEX(ref!$E$22:'ref'!$E$37,MATCH(D11,gerald3,0))) -> 0 | K11: =IF(SUM(J11-ref!E$8)<0,0,SUM(J11-ref!E$8)) -> 0 | L11: =IF(OR(D11="férié travaillé",D11="travail",D11="asa",D11="rtt"),H11-F11+IF(F11>H11,1),INDEX(ref!$E$22:'ref'!$E$37,MATCH(D11,gerald2,0))) -> 0 | M11: =IF(SUM(L11-ref!E$4)<0,0,SUM(L11-ref!E$4)) -> 0 | N11: =N10+J11 -> 0.5 | R11: =IF(O11="","",ABS(IF(SUM(O11-ref!E$38)>0,0,SUM(O11-ref!E$38)))) | V11: =IF(S11="","",ABS(IF(SUM(S11-ref!E$38)>0,0,SUM(S11-ref!E$38)))) | W11: =IF(SUM(N11-ref!E$11)<0,0,SUM(N11-ref!E$11)) -> 0 | X11: =IF(AND(F11<>"",H11<>""),1,0+OR(N(H10)<N(F10),D11="récupération",D11="asa",D11="congé 1 jour",D11="congé 1/2 jour ",D11="congé 5h24",D11="arrêt maladie",D11="arrêt travail",D11="férié ",D11="congé parentale",D11="congé de naissance")) -> 0 | Z11: =IF(SUM(MOD(H11-F11,1)-IF(H11>F11,MAX(0,MIN(H11,ref!E$17/24)-MAX('planning '!F11,7/24)),MAX(0,ref!E$17/24-MAX('planning '!F11,7/24))+MAX(0,MIN('planning '!H11,ref!E$17/24)-7/24)))<0,0,SUM(MOD('planning '!H11-'planning '!F11,1)-IF('planning '!H11>'planning '!F11,MAX(0,MIN('planning '!H11,ref!E$17/24)-MAX('planning '!F11,7/24)),MAX(0,ref!E$17/24-MAX('planning '!F11,7/24))+MAX(0,MIN('planning '!H11,ref!E$17/24)-7/24)))) -> 0 | AA11: =IF(AND(J11<>0,WEEKDAY(C11,2)=7),J11,0) -> 0 | AB11: =IF(D11<>"travail",IF(D11="férié travaillé",MOD(H11-F11,1)-G11,"00:00"),"00:00") -> 00:00 | AC11: =IF(SUM(IF(N11>(ref!E$10*1),N11-(ref!E$10*1),0)-AC10)<0,0,SUM(IF(N11>(ref!E$10*1),N11-(ref!E$10*1),0)-AC5-AC6-AC7-AC8-AC9-AC10)) -> 0 | AD11: =IF(AND(J11<>0,WEEKDAY(C11,2)=6),J11,0) -> 0 | AE11: =IF(OR($F11="",$H11=""),0,IF($H11>$F11,MEDIAN($H11,AE$2,AE$1)-MEDIAN($F11,AE$2,AE$1),+($H11<$F11)*(AE$2-AE$1)+MEDIAN($H11,AE$1,AE$2)-MEDIAN($F11,AE$1,AE$2))) -> 0 | AF11: =IF(OR($F11="",$H11=""),0,IF($H11>$F11,MEDIAN($H11,AF$2,AF$1)-MEDIAN($F11,AF$2,AF$1),+($H11<$F11)*(AF$2-AF$1)+MEDIAN($H11,AF$1,AF$2)-MEDIAN($F11,AF$1,AF$2))) -> 0 | AG11: =IF(OR($F11="",$H11=""),0,IF($H11>$F11,MEDIAN($H11,AG$2,AG$1)-MEDIAN($F11,AG$2,AG$1),+($H11<$F11)*(AG$2-AG$1)+MEDIAN($H11,AG$1,AG$2)-MEDIAN($F11,AG$1,AG$2))) -> 0

Sheet résultat 
C2: jours sur l'année 2022 | G2: congé = 185 h
C3: jours | F3: congé 1 jour | G3: =COUNTIF('planning '!$D$5:$D$14,F3) -> 0 | H3: =G3*ref!E5 -> 0
B4: travail | C4: =COUNTIF('planning '!$D$5:$D$14,B4) -> 1 | F4: congé 1/2 jour | G4: =COUNTIF('planning '!$D$5:$D$14,F4) -> 0 | H4: =SUM(G4*ref!E26) -> 0
B5: récupération | C5: =COUNTIF('planning '!$D$5:$D$14,B5) -> 0 | F5: congé 4h | G5: =COUNTIF('planning '!$D$5:$D$14,F5) -> 0 | H5: =G5*ref!E27 -> 0
B6: arrêt maladie | C6: =COUNTIF('planning '!$D$5:$D$14,B6) -> 0 | G6: résultat | H6: =SUM(H3+H4+H5) -> 0
B7: arrêt travail | C7: =COUNTIF('planning '!$D$5:$D$14,B7) -> 0
B8: férié travaillé | C8: =COUNTIF('planning '!$D$5:$D$14,B8) -> 0 | F8: férié | G8: =COUNTIF('planning '!$D$5:$D$14,F8) -> 0 | H8: =G8*ref!E5 -> 0
B9: asa | C9: =COUNTIF('planning '!$D$5:$D$14,B9) -> 0
B10: télétravail | C10: =COUNTIF('planning '!$D$5:$D$14,B10) -> 0 | F10: rtt | G10: =COUNTIF('planning '!$D$5:$D$14,F10) -> 0 | H10: =G10*ref!E5 -> 0
B13: résultat sur l'année en heures | C13: =SUM('planning '!J5:J14)-(H6+H10+H9) -> 0.5
G23: congé parentale 11 jours - naissance 3 jours
F24: congé parentale | G24: =COUNTIF('planning '!$D$5:$D$14,F24) -> 0
C25: heures réels | D25: résultat récupération sur l'année 2022 | F25: congé parentale week end | G25: =COUNTIF('planning '!$D$5:$D$14,F25) -> 0
B26: HS + 35 | C26: =SUM('planning '!AC5:AC14) -> 0 | D26: heures majoré | F26: congé de naissance | G26: =COUNTIF('planning '!$D$5:$D$14,F26) -> 0 | K26: hs +35 / 25h par mois
B27: H nuit | C27: =SUM('planning '!#REF!) -> #REF! | D27: =SUM(C26*ref!E16)*24 -> 0 | K27: mois | M27: hc de
B28: H dimanche | C28: =SUM('planning '!#REF!) -> #REF! | D28: =SUM(C27*ref!E18)*24 -> #REF! | K28: janvier | L28: =SUMPRODUCT((YEAR('planning '!$C$5:$C$14)=ref!E$2)*(MONTH('planning '!$C$5:$C$14)=MONTH(1&K28))*('planning '!$AC$5:$AC$14)) -> 0 | M28: =IF(SUM(L28-ref!E$13)<0,0,SUM(L28-ref!E$13)) -> 0
B29: H férié travaillé | C29: =SUM('planning '!#REF!) -> #REF! | D29: =SUM(C28*ref!E19)*24 -> #REF! | K29: février | L29: =SUMPRODUCT((YEAR('planning '!$C$5:$C$14)=ref!E$2)*(MONTH('planning '!$C$5:$C$14)=MONTH(1&K29))*('planning '!$AC$5:$AC$14)) -> 0 | M29: =IF(SUM(L29-ref!E$13)<0,0,SUM(L29-ref!E$13)) -> 0
B30: H samedi | C30: =SUM('planning '!#REF!) -> #REF! | D30: =SUM(C29*ref!E21)*24 -> #REF! | K30: mars | L30: =SUMPRODUCT((YEAR('planning '!$C$5:$C$14)=ref!E$2)*(MONTH('planning '!$C$5:$C$14)=MONTH(1&K30))*('planning '!$AC$5:$AC$14)) -> 0 | M30: =IF(SUM(L30-ref!E$13)<0,0,SUM(L30-ref!E$13)) -> 0
D31: =SUM(C30*ref!E20)*24 -> #REF! | K31: avril | L31: =SUMPRODUCT((YEAR('planning '!$C$5:$C$14)=ref!E$2)*(MONTH('planning '!$C$5:$C$14)=MONTH(1&K31))*('planning '!$AC$5:$AC$14)) -> 0 | M31: =IF(SUM(L31-ref!E$13)<0,0,SUM(L31-ref!E$13)) -> 0
B32: récuperation 2023 | C32: =SUM(C26:C30) -> #REF! | K32: mai | L32: =SUMPRODUCT((YEAR('planning '!$C$5:$C$14)=ref!E$2)*(MONTH('planning '!$C$5:$C$14)=MONTH(1&K32))*('planning '!$AC$5:$AC$14)) -> 0 | M32: =IF(SUM(L32-ref!E$13)<0,0,SUM(L32-ref!E$13)) -> 0
B33: Heures supplémenatires 2022 | D33: =SUM(D27:D31) -> #REF! | K33: juin | L33: =SUMPRODUCT((YEAR('planning '!$C$5:$C$14)=ref!E$2)*(MONTH('planning '!$C$5:$C$14)=MONTH(1&K33))*('planning '!$AC$5:$AC$14)) -> 0 | M33: =IF(SUM(L33-ref!E$13)<0,0,SUM(L33-ref!E$13)) -> 0
B34: récupation pris en 2023 | K34: juillet | L34: =SUMPRODUCT((YEAR('planning '!$C$5:$C$14)=ref!E$2)*(MONTH('planning '!$C$5:$C$14)=MONTH(1&K34))*('planning '!$AC$5:$AC$14)) -> 0 | M34: =IF(SUM(L34-ref!E$13)<0,0,SUM(L34-ref!E$13)) -> 0
C35: résutat | D35: =SUM(C5*ref!E5) -> 0 | H35: résultat des heures hors cadre pour 2023 | K35: août | L35: =SUMPRODUCT((YEAR('planning '!$C$5:$C$14)=ref!E$2)*(MONTH('planning '!$C$5:$C$14)=MONTH(1&K35))*('planning '!$AC$5:$AC$14)) -> 0 | M35: =IF(SUM(L35-ref!E$13)<0,0,SUM(L35-ref!E$13)) -> 0
D36: =SUM(D33+D34-D35) -> #REF! | H36: hc de | K36: septembre | L36: =SUMPRODUCT((YEAR('planning '!$C$5:$C$14)=ref!E$2)*(MONTH('planning '!$C$5:$C$14)=MONTH(1&K36))*('planning '!$AC$5:$AC$14)) -> 0 | M36: =IF(SUM(L36-ref!E$13)<0,0,SUM(L36-ref!E$13)) -> 0
G37: travail annuel -1067 | H37: =SUM(ref!E3-'résultat '!C13) -> 66.458333 | K37: octobre | L37: =SUMPRODUCT((YEAR('planning '!$C$5:$C$14)=ref!E$2)*(MONTH('planning '!$C$5:$C$14)=MONTH(1&K37))*('planning '!$AC$5:$AC$14)) -> 0 | M37: =IF(SUM(L37-ref!E$13)<0,0,SUM(L37-ref!E$13)) -> 0
G38: travail annuel +1067 | H38: =IF(SUM(C13-ref!E$3)<0,0,SUM(C13-ref!E$3)) -> 0 | K38: novembre | L38: =SUMPRODUCT((YEAR('planning '!$C$5:$C$14)=ref!E$2)*(MONTH('planning '!$C$5:$C$14)=MONTH(1&K38))*('planning '!$AC$5:$AC$14)) -> 0 | M38: =IF(SUM(L38-ref!E$13)<0,0,SUM(L38-ref!E$13)) -> 0
G39: jour +10 h | H39: =SUM('planning '!K5:K14) -> 0.083333333 | K39: décembre | L39: =SUMPRODUCT((YEAR('planning '!$C$5:$C$14)=ref!E$2)*(MONTH('planning '!$C$5:$C$14)=MONTH(1&K39))*('planning '!$AC$5:$AC$14)) -> 0 | M39: =IF(SUM(L39-ref!E$13)<0,0,SUM(L39-ref!E$13)) -> 0
G40: amplitude jour +12 h | H40: =SUM('planning '!M5:M14) -> 0
G41: jours hedbomadaire + 6 jours | H41: =SUM('planning '!#REF!+'planning '!#REF!+'planning '!#REF!+'planning '!#REF!+'planning '!#REF!+'planning '!#REF!+'planning '!#REF!+'planning '!#REF!+'planning '!#REF!+'planning '!#REF!+'planning '!#REF!+'planning '!#REF!+'planning '!#REF!+'planning '!#REF!+'planning '!#REF!+'planning '!#REF!+'planning '!#REF!+'planning '!#REF!+'planning '!#REF!+'planning '!#REF!+'planning '!#REF!+'planning '!#REF!+'planning '!#REF!+'planning '!#REF!+'planning '!#REF!+'planning '!#REF!+'planning '!#REF!+'planning '!#REF!+'planning '!#REF!+'planning '!#REF!+'planning '!#REF!+'planning '!#REF!+'planning '!#REF!+'planning '!#REF!+'planning '!#REF!+'planning '!#REF!+'planning '!#REF!+'planning '!#REF!+'planning '!#REF!+'planning '!#REF!+'planning '!#REF!+'planning '!#REF!+'planning '!#REF!+'planning '!#REF!+'planning '!#REF!+'planning '!#REF!+'planning '!#REF!+'planning '!#REF!) -> #REF! | L41: h sup +37 2023 + 25h | M41: =SUM(L28:L39) -> 0
G42: heures semaine + 48h | H42: =SUM('planning '!W11+'planning '!#REF!+'planning '!#REF!+'planning '!#REF!+'planning '!#REF!+'planning '!#REF!+'planning '!#REF!+'planning '!#REF!+'planning '!#REF!+'planning '!#REF!+'planning '!#REF!+'planning '!#REF!+'planning '!#REF!+'planning '!#REF!+'planning '!#REF!+'planning '!#REF!+'planning '!#REF!+'planning '!#REF!+'planning '!#REF!+'planning '!#REF!+'planning '!#REF!+'planning '!#REF!+'planning '!#REF!+'planning '!#REF!+'planning '!#REF!+'planning '!#REF!+'planning '!#REF!+'planning '!#REF!+'planning '!#REF!+'planning '!#REF!+'planning '!#REF!+'planning '!#REF!+'planning '!#REF!+'planning '!#REF!+'planning '!#REF!+'planning '!#REF!+'planning '!#REF!+'planning '!#REF!+'planning '!#REF!+'planning '!#REF!+'planning '!#REF!+'planning '!#REF!+'planning '!#REF!+'planning '!#REF!+'planning '!#REF!+'planning '!#REF!+'planning '!#REF!+'planning '!#REF!+'planning '!#REF!+'planning '!#REF!+'planning '!#REF!+'planning '!#REF!) -> #REF! | L42: h sup +37 / hc 2022 | M42: =SUM(M28:M39) -> 0
G43: repos journalier
G44: repos hebdomadaire

Sheet ref
D2: année | E2: 2024
D3: heures annueltravail | E3: 66.958333
D4: amplitude du temps | E4: 0.5
D5: heure jour | E5: 0.29166667
D6: jour semaine | E6: 5
D7: jour semaine maximun | E7: 6
D8: la durée de travail jour | E8: 0.41666667
D9: repos quotidien | E9: 0.45833333
D10: durée du travail hebdomadaire | E10: 1.4583333
D11: durée du travail hebdomadaire max | E11: 2
D12: repos hebdomadaire | E12: 1.4583333
D13: heures sup mensuel max par mois | E13: 1.0416667
... D23: travail | E23: 0
D24: récupération | E24: =E5 -> 0.29166667
D25: congé 1 jour | E25: =E5 -> 0.29166667
D26: congé 1/2 jour | E26: 0.16388889
D27: congé 4H | E27: 0.16666667
D28: arrêt maladie | E28: =E5 -> 0.29166667
D29: arrêt travail | E29: =E5 -> 0.29166667
D30: férié | E30: =E5 -> 0.29166667
D31: télétravail | E31: 0
D32: férié travaillé | E32: 0
D33: congé parentale | E33: =E5 -> 0.29166667
D34: congé parentale week end | E34: 0
D35: congé de naissance | E35: =E5 -> 0.29166667
D36: asa | E36: =E5 -> 0.29166667
D37: rtt | E37: =E5 -> 0.29166667
D38: heure de pause repas | E38: 0.03125
