Workbook

Sheet Récap
B2: Tableau Heures Supplémentaires | J2: NOM
J3: PRENOM
J4: CONTRAT | K4: 1.625
B5: S | C5: Total hebdo | D5: Heures Négatives | E5: HS ou négatives TOTAL | F5: Heures majorées à 20% | G5: Heures majorées à 50% | H5: Total Heures Dues
B6: 1 | C6: =Janvier!K7 -> 1.5833333 | D6: =IF(OR(ISBLANK(C6),C6=0),0,IF(C6<$K$4,C6-$K$4,C6-$K$4)) -> -0.041666667 | E6: =IF(C6-K4<0,0,C6-K4) -> 0 | F6: =IF(E6<=4,E6,4) -> 0 | G6: =IF(E6-F6>0,E6-F6,0) -> 0 | H6: =SUM(F6*1.2)+(G6*1.5) -> 0
B7: 2 | D7: =IF(OR(ISBLANK(C7),C7=0),0,IF(C7<$K$4,C7-$K$4,C7-$K$4)) -> 0
B8: 3 | D8: =IF(OR(ISBLANK(C8),C8=0),0,IF(C8<$K$4,C8-$K$4,C8-$K$4)) -> 0
B9: 4 | D9: =IF(OR(ISBLANK(C9),C9=0),0,IF(C9<$K$4,C9-$K$4,C9-$K$4)) -> 0
B10: 5 | D10: =IF(OR(ISBLANK(C10),C10=0),0,IF(C10<$K$4,C10-$K$4,C10-$K$4)) -> 0
B11: 6 | D11: =IF(OR(ISBLANK(C11),C11=0),0,IF(C11<$K$4,C11-$K$4,C11-$K$4)) -> 0 | J11: Total heures négatives | K11: =SUM(D6:D57) -> -0.041666667
B12: 7 | D12: =IF(OR(ISBLANK(C12),C12=0),0,IF(C12<$K$4,C12-$K$4,C12-$K$4)) -> 0
B13: 8 | D13: =IF(OR(ISBLANK(C13),C13=0),0,IF(C13<$K$4,C13-$K$4,C13-$K$4)) -> 0
B14: 9 | D14: =IF(OR(ISBLANK(C14),C14=0),0,IF(C14<$K$4,C14-$K$4,C14-$K$4)) -> 0
B15: 10 | D15: =IF(OR(ISBLANK(C15),C15=0),0,IF(C15<$K$4,C15-$K$4,C15-$K$4)) -> 0
B16: 11 | D16: =IF(OR(ISBLANK(C16),C16=0),0,IF(C16<$K$4,C16-$K$4,C16-$K$4)) -> 0
B17: 12 | D17: =IF(OR(ISBLANK(C17),C17=0),0,IF(C17<$K$4,C17-$K$4,C17-$K$4)) -> 0
B18: 13 | D18: =IF(OR(ISBLANK(C18),C18=0),0,IF(C18<$K$4,C18-$K$4,C18-$K$4)) -> 0
B19: 14 | D19: =IF(OR(ISBLANK(C19),C19=0),0,IF(C19<$K$4,C19-$K$4,C19-$K$4)) -> 0
B20: 15 | D20: =IF(OR(ISBLANK(C20),C20=0),0,IF(C20<$K$4,C20-$K$4,C20-$K$4)) -> 0
B21: 16 | D21: =IF(OR(ISBLANK(C21),C21=0),0,IF(C21<$K$4,C21-$K$4,C21-$K$4)) -> 0
B22: 17 | D22: =IF(OR(ISBLANK(C22),C22=0),0,IF(C22<$K$4,C22-$K$4,C22-$K$4)) -> 0
B23: 18 | D23: =IF(OR(ISBLANK(C23),C23=0),0,IF(C23<$K$4,C23-$K$4,C23-$K$4)) -> 0
... B57: 52 | D57: =IF(OR(ISBLANK(C57),C57=0),0,IF(C57<$K$4,C57-$K$4,C57-$K$4)) -> 0

Sheet Janvier
B2: Janvier 2024 | M2: Nom | N2: =Récap!K2 -> 0
M3: Prénom | N3: =Récap!K3 -> 0
M4: Type contrat | N4: =Récap!K4 -> 1.625
B5: Date | D5: Arrivée | E5: Pause | G5: Si Coupure | I5: Départ | J5: Total jour | K5: Total semaine
E6: Début | F6: Fin | G6: Départ | H6: Arrivée
B7: L | C7: 45292 | D7: 0.33333333 | E7: 0.5 | F7: 0.52083333 | I7: 0.60416667 | J7: =SUM(I7-D7)-(F7-E7)-(H7-G7) -> 0.25 | K7: =SUM(J7:J13) -> 1.5833333 | M7: Signature salarié
B8: M | C8: 45293 | D8: 0.33333333 | E8: 0.5 | F8: 0.52083333 | I8: 0.6875 | J8: =SUM(I8-D8)-(F8-E8)-(H8-G8) -> 0.33333333
B9: M | C9: 45294 | D9: 0.33333333 | E9: 0.5 | F9: 0.52083333 | I9: 0.6875 | J9: =SUM(I9-D9)-(F9-E9)-(H9-G9) -> 0.33333333
B10: J | C10: 45295 | D10: 0.33333333 | E10: 0.5 | F10: 0.52083333 | I10: 0.6875 | J10: =SUM(I10-D10)-(F10-E10)-(H10-G10) -> 0.33333333
B11: V | C11: 45296 | D11: 0.33333333 | E11: 0.5 | F11: 0.52083333 | I11: 0.6875 | J11: =SUM(I11-D11)-(F11-E11)-(H11-G11) -> 0.33333333
B12: S | C12: 45297 | J12: =SUM(I12-D12)-(F12-E12)-(H12-G12) -> 0
B13: D | C13: 45298 | J13: =SUM(I13-D13)-(F13-E13)-(H13-G13) -> 0
B14: L | C14: 45299 | J14: =MOD(I14-D14,1)-MOD(H14-G14,1)-MOD(F14-E14,1) -> 0 | K14: =SUM(J14:J20) -> 0 | M14: Signature salarié
B15: M | C15: 45300 | J15: =MOD(I15-D15,1)-MOD(H15-G15,1)-MOD(F15-E15,1) -> 0
B16: M | C16: 45301 | J16: =MOD(I16-D16,1)-MOD(H16-G16,1)-MOD(F16-E16,1) -> 0
B17: J | C17: 45302 | J17: =MOD(I17-D17,1)-MOD(H17-G17,1)-MOD(F17-E17,1) -> 0
B18: V | C18: 45303 | J18: =MOD(I18-D18,1)-MOD(H18-G18,1)-MOD(F18-E18,1) -> 0
B19: S | C19: 45304 | J19: =MOD(I19-D19,1)-MOD(H19-G19,1)-MOD(F19-E19,1) -> 0
B20: D | C20: 45305 | J20: =MOD(I20-D20,1)-MOD(H20-G20,1)-MOD(F20-E20,1) -> 0
B21: L | C21: 45306 | J21: =MOD(I21-D21,1)-MOD(H21-G21,1)-MOD(F21-E21,1) -> 0 | K21: =SUM(J21:J27) -> 0 | M21: Signature salarié
B22: M | C22: 45307 | J22: =MOD(I22-D22,1)-MOD(H22-G22,1)-MOD(F22-E22,1) -> 0
B23: M | C23: 45308 | J23: =MOD(I23-D23,1)-MOD(H23-G23,1)-MOD(F23-E23,1) -> 0
B24: J | C24: 45309 | J24: =MOD(I24-D24,1)-MOD(H24-G24,1)-MOD(F24-E24,1) -> 0
B25: V | C25: 45310 | J25: =MOD(I25-D25,1)-MOD(H25-G25,1)-MOD(F25-E25,1) -> 0
B26: S | C26: 45311 | J26: =MOD(I26-D26,1)-MOD(H26-G26,1)-MOD(F26-E26,1) -> 0
B27: D | C27: 45312 | J27: =MOD(I27-D27,1)-MOD(H27-G27,1)-MOD(F27-E27,1) -> 0
B28: L | C28: 45313 | J28: =MOD(I28-D28,1)-MOD(H28-G28,1)-MOD(F28-E28,1) -> 0 | K28: =SUM(J28:J34) -> 0 | M28: Signature salarié
B29: M | C29: 45314 | J29: =MOD(I29-D29,1)-MOD(H29-G29,1)-MOD(F29-E29,1) -> 0
B30: M | C30: 45315 | J30: =MOD(I30-D30,1)-MOD(H30-G30,1)-MOD(F30-E30,1) -> 0
B31: J | C31: 45316 | J31: =MOD(I31-D31,1)-MOD(H31-G31,1)-MOD(F31-E31,1) -> 0
B32: V | C32: 45317 | J32: =MOD(I32-D32,1)-MOD(H32-G32,1)-MOD(F32-E32,1) -> 0
B33: S | C33: 45318 | J33: =MOD(I33-D33,1)-MOD(H33-G33,1)-MOD(F33-E33,1) -> 0
B34: D | C34: 45319 | J34: =MOD(I34-D34,1)-MOD(H34-G34,1)-MOD(F34-E34,1) -> 0
B35: L | C35: 45320 | J35: =MOD(I35-D35,1)-MOD(H35-G35,1)-MOD(F35-E35,1) -> 0 | K35: =SUM(J35:J41) -> 0 | M35: Signature salarié
B36: M | C36: 45321 | J36: =MOD(I36-D36,1)-MOD(H36-G36,1)-MOD(F36-E36,1) -> 0
B37: M | C37: 45322 | J37: =MOD(I37-D37,1)-MOD(H37-G37,1)-MOD(F37-E37,1) -> 0
B38: J | C38: 45323 | J38: =MOD(I38-D38,1)-MOD(H38-G38,1)-MOD(F38-E38,1) -> 0
B39: V | C39: 45324 | J39: =MOD(I39-D39,1)-MOD(H39-G39,1)-MOD(F39-E39,1) -> 0
B40: S | C40: 45325 | J40: =MOD(I40-D40,1)-MOD(H40-G40,1)-MOD(F40-E40,1) -> 0
B41: D | C41: 45326 | J41: =MOD(I41-D41,1)-MOD(H41-G41,1)-MOD(F41-E41,1) -> 0
C43: Signature Responsable | J43: Congés Payés
J44: Repos
J45: RR
J46: Absence injustifiée
J47: Arrêt Maladie
J48: Formation
J49: Evenement familiale
J50: Jour Férié et RJF

Sheet Fevrier
B2: Février 2024 | M2: Nom | N2: =Récap!K2 -> 0
M3: Prénom | N3: =Récap!K3 -> 0
M4: Service | N4: =Récap!K4 -> 1.625
B5: Date | D5: Arrivée | E5: Pause | G5: Si Coupure | I5: Départ | J5: Total jour | K5: Total semaine
E6: Début | F6: Fin | G6: Départ | H6: Arrivée
B7: L | C7: 45327 | D7: 0.33333333 | E7: 0.5 | F7: 0.52083333 | I7: 0.66666667 | J7: =MOD(I7-D7,1)-MOD(H7-G7,1)-MOD(F7-E7,1) -> 0.3125 | K7: =SUM(J7:J13) -> 0.3125 | M7: Signature salarié
B8: M | C8: 45328 | J8: =MOD(I8-D8,1)-MOD(H8-G8,1)-MOD(F8-E8,1) -> 0
B9: M | C9: 45329 | J9: =MOD(I9-D9,1)-MOD(H9-G9,1)-MOD(F9-E9,1) -> 0
B10: J | C10: 45330 | J10: =MOD(I10-D10,1)-MOD(H10-G10,1)-MOD(F10-E10,1) -> 0
B11: V | C11: 45331 | J11: =MOD(I11-D11,1)-MOD(H11-G11,1)-MOD(F11-E11,1) -> 0
B12: S | C12: 45332 | J12: =MOD(I12-D12,1)-MOD(H12-G12,1)-MOD(F12-E12,1) -> 0
B13: D | C13: 45333 | J13: =MOD(I13-D13,1)-MOD(H13-G13,1)-MOD(F13-E13,1) -> 0
B14: L | C14: 45334 | J14: =MOD(I14-D14,1)-MOD(H14-G14,1)-MOD(F14-E14,1) -> 0 | K14: =SUM(J14:J20) -> 0 | M14: Signature salarié
B15: M | C15: 45335 | J15: =MOD(I15-D15,1)-MOD(H15-G15,1)-MOD(F15-E15,1) -> 0
B16: M | C16: 45336 | J16: =MOD(I16-D16,1)-MOD(H16-G16,1)-MOD(F16-E16,1) -> 0
B17: J | C17: 45337 | J17: =MOD(I17-D17,1)-MOD(H17-G17,1)-MOD(F17-E17,1) -> 0
B18: V | C18: 45338 | J18: =MOD(I18-D18,1)-MOD(H18-G18,1)-MOD(F18-E18,1) -> 0
B19: S | C19: 45339 | J19: =MOD(I19-D19,1)-MOD(H19-G19,1)-MOD(F19-E19,1) -> 0
B20: D | C20: 45340 | J20: =MOD(I20-D20,1)-MOD(H20-G20,1)-MOD(F20-E20,1) -> 0
B21: L | C21: 45341 | J21: =MOD(I21-D21,1)-MOD(H21-G21,1)-MOD(F21-E21,1) -> 0 | K21: =SUM(J21:J27) -> 0 | M21: Signature salarié
B22: M | C22: 45342 | J22: =MOD(I22-D22,1)-MOD(H22-G22,1)-MOD(F22-E22,1) -> 0
B23: M | C23: 45343 | J23: =MOD(I23-D23,1)-MOD(H23-G23,1)-MOD(F23-E23,1) -> 0
B24: J | C24: 45344 | J24: =MOD(I24-D24,1)-MOD(H24-G24,1)-MOD(F24-E24,1) -> 0
B25: V | C25: 45345 | J25: =MOD(I25-D25,1)-MOD(H25-G25,1)-MOD(F25-E25,1) -> 0
B26: S | C26: 45346 | J26: =MOD(I26-D26,1)-MOD(H26-G26,1)-MOD(F26-E26,1) -> 0
B27: D | C27: 45347 | J27: =MOD(I27-D27,1)-MOD(H27-G27,1)-MOD(F27-E27,1) -> 0
B28: L | C28: 45348 | J28: =MOD(I28-D28,1)-MOD(H28-G28,1)-MOD(F28-E28,1) -> 0 | K28: =SUM(J28:J34) -> 0 | M28: Signature salarié
B29: M | C29: 45349 | J29: =MOD(I29-D29,1)-MOD(H29-G29,1)-MOD(F29-E29,1) -> 0
B30: M | C30: 45350 | J30: =MOD(I30-D30,1)-MOD(H30-G30,1)-MOD(F30-E30,1) -> 0
B31: J | C31: 45351 | J31: =MOD(I31-D31,1)-MOD(H31-G31,1)-MOD(F31-E31,1) -> 0
B32: V | C32: 45352 | J32: =MOD(I32-D32,1)-MOD(H32-G32,1)-MOD(F32-E32,1) -> 0
B33: S | C33: 45353 | J33: =MOD(I33-D33,1)-MOD(H33-G33,1)-MOD(F33-E33,1) -> 0
B34: D | C34: 45354 | J34: =MOD(I34-D34,1)-MOD(H34-G34,1)-MOD(F34-E34,1) -> 0
C36: Signature Responsable | J36: Congés Payés
J37: Repos
J38: RR
J39: Absence injustifiée
J40: Arrêt Maladie
J41: Formation
J42: Evenement familiale
J43: Jour Férié et RJF

Sheet Mars
B2: Mars 2024 | M2: Nom | N2: =Récap!K2 -> 0
M3: Prénom | N3: =Récap!K3 -> 0
M4: Service | N4: =Récap!K4 -> 1.625
B5: Date | D5: Arrivée | E5: Pause | G5: Si Coupure | I5: Départ | J5: Total jour | K5: Total semaine
E6: Début | F6: Fin | G6: Départ | H6: Arrivée
B7: L | C7: 45355 | D7: 0.33333333 | E7: 0.5 | F7: 0.52083333 | I7: 0.66666667 | J7: =MOD(I7-D7,1)-MOD(H7-G7,1)-MOD(F7-E7,1) -> 0.3125 | K7: =SUM(J7:J13) -> 0.3125 | M7: Signature salarié
B8: M | C8: 45356 | J8: =MOD(I8-D8,1)-MOD(H8-G8,1)-MOD(F8-E8,1) -> 0
B9: M | C9: 45357 | J9: =MOD(I9-D9,1)-MOD(H9-G9,1)-MOD(F9-E9,1) -> 0
B10: J | C10: 45358 | J10: =MOD(I10-D10,1)-MOD(H10-G10,1)-MOD(F10-E10,1) -> 0
B11: V | C11: 45359 | J11: =MOD(I11-D11,1)-MOD(H11-G11,1)-MOD(F11-E11,1) -> 0
B12: S | C12: 45360 | J12: =MOD(I12-D12,1)-MOD(H12-G12,1)-MOD(F12-E12,1) -> 0
B13: D | C13: 45361 | J13: =MOD(I13-D13,1)-MOD(H13-G13,1)-MOD(F13-E13,1) -> 0
B14: L | C14: 45362 | J14: =MOD(I14-D14,1)-MOD(H14-G14,1)-MOD(F14-E14,1) -> 0 | K14: =SUM(J14:J20) -> 0 | M14: Signature salarié
B15: M | C15: 45363 | J15: =MOD(I15-D15,1)-MOD(H15-G15,1)-MOD(F15-E15,1) -> 0
B16: M | C16: 45364 | J16: =MOD(I16-D16,1)-MOD(H16-G16,1)-MOD(F16-E16,1) -> 0
B17: J | C17: 45365 | J17: =MOD(I17-D17,1)-MOD(H17-G17,1)-MOD(F17-E17,1) -> 0
B18: V | C18: 45366 | J18: =MOD(I18-D18,1)-MOD(H18-G18,1)-MOD(F18-E18,1) -> 0
B19: S | C19: 45367 | J19: =MOD(I19-D19,1)-MOD(H19-G19,1)-MOD(F19-E19,1) -> 0
B20: D | C20: 45368 | J20: =MOD(I20-D20,1)-MOD(H20-G20,1)-MOD(F20-E20,1) -> 0
B21: L | C21: 45369 | J21: =MOD(I21-D21,1)-MOD(H21-G21,1)-MOD(F21-E21,1) -> 0 | K21: =SUM(J21:J27) -> 0 | M21: Signature salarié
B22: M | C22: 45370 | J22: =MOD(I22-D22,1)-MOD(H22-G22,1)-MOD(F22-E22,1) -> 0
B23: M | C23: 45371 | J23: =MOD(I23-D23,1)-MOD(H23-G23,1)-MOD(F23-E23,1) -> 0
B24: J | C24: 45372 | J24: =MOD(I24-D24,1)-MOD(H24-G24,1)-MOD(F24-E24,1) -> 0
B25: V | C25: 45373 | J25: =MOD(I25-D25,1)-MOD(H25-G25,1)-MOD(F25-E25,1) -> 0
B26: S | C26: 45374 | J26: =MOD(I26-D26,1)-MOD(H26-G26,1)-MOD(F26-E26,1) -> 0
B27: D | C27: 45375 | J27: =MOD(I27-D27,1)-MOD(H27-G27,1)-MOD(F27-E27,1) -> 0
B28: L | C28: 45376 | J28: =MOD(I28-D28,1)-MOD(H28-G28,1)-MOD(F28-E28,1) -> 0 | K28: =SUM(J28:J34) -> 0 | M28: Signature salarié
B29: M | C29: 45377 | J29: =MOD(I29-D29,1)-MOD(H29-G29,1)-MOD(F29-E29,1) -> 0
B30: M | C30: 45378 | J30: =MOD(I30-D30,1)-MOD(H30-G30,1)-MOD(F30-E30,1) -> 0
B31: J | C31: 45379 | J31: =MOD(I31-D31,1)-MOD(H31-G31,1)-MOD(F31-E31,1) -> 0
B32: V | C32: 45380 | J32: =MOD(I32-D32,1)-MOD(H32-G32,1)-MOD(F32-E32,1) -> 0
B33: S | C33: 45381 | J33: =MOD(I33-D33,1)-MOD(H33-G33,1)-MOD(F33-E33,1) -> 0
B34: D | C34: 45382 | J34: =MOD(I34-D34,1)-MOD(H34-G34,1)-MOD(F34-E34,1) -> 0
C36: Signature Responsable | J36: Congés Payés
J37: Repos
J38: RR
J39: Absence injustifiée
J40: Arrêt Maladie
J41: Formation
J42: Evenement familiale
J43: Jour Férié et RJF

Sheet Avril
B2: Avril 2024 | M2: Nom | N2: =Récap!K2 -> 0
M3: Prénom | N3: =Récap!K3 -> 0
M4: Service | N4: =Récap!K4 -> 1.625
B5: Date | D5: Arrivée | E5: Pause | G5: Si Coupure | I5: Départ | J5: Total jour | K5: Total semaine
E6: Début | F6: Fin | G6: Départ | H6: Arrivée
B7: L | C7: 45383 | D7: 0.33333333 | E7: 0.5 | F7: 0.52083333 | I7: 0.66666667 | J7: =MOD(I7-D7,1)-MOD(H7-G7,1)-MOD(F7-E7,1) -> 0.3125 | K7: =SUM(J7:J13) -> 0.3125 | M7: Signature salarié
B8: M | C8: 45384 | J8: =MOD(I8-D8,1)-MOD(H8-G8,1)-MOD(F8-E8,1) -> 0
B9: M | C9: 45385 | J9: =MOD(I9-D9,1)-MOD(H9-G9,1)-MOD(F9-E9,1) -> 0
B10: J | C10: 45386 | J10: =MOD(I10-D10,1)-MOD(H10-G10,1)-MOD(F10-E10,1) -> 0
B11: V | C11: 45387 | J11: =MOD(I11-D11,1)-MOD(H11-G11,1)-MOD(F11-E11,1) -> 0
B12: S | C12: 45388 | J12: =MOD(I12-D12,1)-MOD(H12-G12,1)-MOD(F12-E12,1) -> 0
B13: D | C13: 45389 | J13: =MOD(I13-D13,1)-MOD(H13-G13,1)-MOD(F13-E13,1) -> 0
B14: L | C14: 45390 | J14: =MOD(I14-D14,1)-MOD(H14-G14,1)-MOD(F14-E14,1) -> 0 | K14: =SUM(J14:J20) -> 0 | M14: Signature salarié
B15: M | C15: 45391 | J15: =MOD(I15-D15,1)-MOD(H15-G15,1)-MOD(F15-E15,1) -> 0
B16: M | C16: 45392 | J16: =MOD(I16-D16,1)-MOD(H16-G16,1)-MOD(F16-E16,1) -> 0
B17: J | C17: 45393 | J17: =MOD(I17-D17,1)-MOD(H17-G17,1)-MOD(F17-E17,1) -> 0
B18: V | C18: 45394 | J18: =MOD(I18-D18,1)-MOD(H18-G18,1)-MOD(F18-E18,1) -> 0
B19: S | C19: 45395 | J19: =MOD(I19-D19,1)-MOD(H19-G19,1)-MOD(F19-E19,1) -> 0
B20: D | C20: 45396 | J20: =MOD(I20-D20,1)-MOD(H20-G20,1)-MOD(F20-E20,1) -> 0
B21: L | C21: 45397 | J21: =MOD(I21-D21,1)-MOD(H21-G21,1)-MOD(F21-E21,1) -> 0 | K21: =SUM(J21:J27) -> 0 | M21: Signature salarié
B22: M | C22: 45398 | J22: =MOD(I22-D22,1)-MOD(H22-G22,1)-MOD(F22-E22,1) -> 0
B23: M | C23: 45399 | J23: =MOD(I23-D23,1)-MOD(H23-G23,1)-MOD(F23-E23,1) -> 0
B24: J | C24: 45400 | J24: =MOD(I24-D24,1)-MOD(H24-G24,1)-MOD(F24-E24,1) -> 0
B25: V | C25: 45401 | J25: =MOD(I25-D25,1)-MOD(H25-G25,1)-MOD(F25-E25,1) -> 0
B26: S | C26: 45402 | J26: =MOD(I26-D26,1)-MOD(H26-G26,1)-MOD(F26-E26,1) -> 0
B27: D | C27: 45403 | J27: =MOD(I27-D27,1)-MOD(H27-G27,1)-MOD(F27-E27,1) -> 0
B28: L | C28: 45404 | J28: =MOD(I28-D28,1)-MOD(H28-G28,1)-MOD(F28-E28,1) -> 0 | K28: =SUM(J28:J34) -> 0 | M28: Signature salarié
B29: M | C29: 45405 | J29: =MOD(I29-D29,1)-MOD(H29-G29,1)-MOD(F29-E29,1) -> 0
B30: M | C30: 45406 | J30: =MOD(I30-D30,1)-MOD(H30-G30,1)-MOD(F30-E30,1) -> 0
B31: J | C31: 45407 | J31: =MOD(I31-D31,1)-MOD(H31-G31,1)-MOD(F31-E31,1) -> 0
B32: V | C32: 45408 | J32: =MOD(I32-D32,1)-MOD(H32-G32,1)-MOD(F32-E32,1) -> 0
B33: S | C33: 45409 | J33: =MOD(I33-D33,1)-MOD(H33-G33,1)-MOD(F33-E33,1) -> 0
B34: D | C34: 45410 | J34: =MOD(I34-D34,1)-MOD(H34-G34,1)-MOD(F34-E34,1) -> 0
B35: L | C35: 45411 | J35: =MOD(I35-D35,1)-MOD(H35-G35,1)-MOD(F35-E35,1) -> 0 | K35: =SUM(J35:J41) -> 0 | M35: Signature salarié
B36: M | C36: 45412 | J36: =MOD(I36-D36,1)-MOD(H36-G36,1)-MOD(F36-E36,1) -> 0
B37: M | C37: 45413 | J37: =MOD(I37-D37,1)-MOD(H37-G37,1)-MOD(F37-E37,1) -> 0
B38: J | C38: 45414 | J38: =MOD(I38-D38,1)-MOD(H38-G38,1)-MOD(F38-E38,1) -> 0
B39: V | C39: 45415 | J39: =MOD(I39-D39,1)-MOD(H39-G39,1)-MOD(F39-E39,1) -> 0
B40: S | C40: 45416 | J40: =MOD(I40-D40,1)-MOD(H40-G40,1)-MOD(F40-E40,1) -> 0
B41: D | C41: 45417 | J41: =MOD(I41-D41,1)-MOD(H41-G41,1)-MOD(F41-E41,1) -> 0
C43: Signature Responsable | J43: Congés Payés
J44: Repos
J45: RR
J46: Absence injustifiée
J47: Arrêt Maladie
J48: Formation
J49: Evenement familiale
J50: Jour Férié et RJF

Sheet Mai
B2: Mai 2024 | M2: Nom | N2: =Récap!K2 -> 0
M3: Prénom | N3: =Récap!K3 -> 0
M4: Service | N4: =Récap!K4 -> 1.625
B5: Date | D5: Arrivée | E5: Pause | G5: Si Coupure | I5: Départ | J5: Total jour | K5: Total semaine
E6: Début | F6: Fin | G6: Départ | H6: Arrivée
B7: L | C7: 45418 | D7: 0.33333333 | E7: 0.5 | F7: 0.52083333 | I7: 0.66666667 | J7: =MOD(I7-D7,1)-MOD(H7-G7,1)-MOD(F7-E7,1) -> 0.3125 | K7: =SUM(J7:J13) -> 0.3125 | M7: Signature salarié
B8: M | C8: 45419 | J8: =MOD(I8-D8,1)-MOD(H8-G8,1)-MOD(F8-E8,1) -> 0
B9: M | C9: 45420 | J9: =MOD(I9-D9,1)-MOD(H9-G9,1)-MOD(F9-E9,1) -> 0
B10: J | C10: 45421 | J10: =MOD(I10-D10,1)-MOD(H10-G10,1)-MOD(F10-E10,1) -> 0
B11: V | C11: 45422 | J11: =MOD(I11-D11,1)-MOD(H11-G11,1)-MOD(F11-E11,1) -> 0
B12: S | C12: 45423 | J12: =MOD(I12-D12,1)-MOD(H12-G12,1)-MOD(F12-E12,1) -> 0
B13: D | C13: 45424 | J13: =MOD(I13-D13,1)-MOD(H13-G13,1)-MOD(F13-E13,1) -> 0
B14: L | C14: 45425 | J14: =MOD(I14-D14,1)-MOD(H14-G14,1)-MOD(F14-E14,1) -> 0 | K14: =SUM(J14:J20) -> 0 | M14: Signature salarié
B15: M | C15: 45426 | J15: =MOD(I15-D15,1)-MOD(H15-G15,1)-MOD(F15-E15,1) -> 0
B16: M | C16: 45427 | J16: =MOD(I16-D16,1)-MOD(H16-G16,1)-MOD(F16-E16,1) -> 0
B17: J | C17: 45428 | J17: =MOD(I17-D17,1)-MOD(H17-G17,1)-MOD(F17-E17,1) -> 0
B18: V | C18: 45429 | J18: =MOD(I18-D18,1)-MOD(H18-G18,1)-MOD(F18-E18,1) -> 0
B19: S | C19: 45430 | J19: =MOD(I19-D19,1)-MOD(H19-G19,1)-MOD(F19-E19,1) -> 0
B20: D | C20: 45431 | J20: =MOD(I20-D20,1)-MOD(H20-G20,1)-MOD(F20-E20,1) -> 0
B21: L | C21: 45432 | J21: =MOD(I21-D21,1)-MOD(H21-G21,1)-MOD(F21-E21,1) -> 0 | K21: =SUM(J21:J27) -> 0 | M21: Signature salarié
B22: M | C22: 45433 | J22: =MOD(I22-D22,1)-MOD(H22-G22,1)-MOD(F22-E22,1) -> 0
B23: M | C23: 45434 | J23: =MOD(I23-D23,1)-MOD(H23-G23,1)-MOD(F23-E23,1) -> 0
B24: J | C24: 45435 | J24: =MOD(I24-D24,1)-MOD(H24-G24,1)-MOD(F24-E24,1) -> 0
B25: V | C25: 45436 | J25: =MOD(I25-D25,1)-MOD(H25-G25,1)-MOD(F25-E25,1) -> 0
B26: S | C26: 45437 | J26: =MOD(I26-D26,1)-MOD(H26-G26,1)-MOD(F26-E26,1) -> 0
B27: D | C27: 45438 | J27: =MOD(I27-D27,1)-MOD(H27-G27,1)-MOD(F27-E27,1) -> 0
B28: L | C28: 45439 | J28: =MOD(I28-D28,1)-MOD(H28-G28,1)-MOD(F28-E28,1) -> 0 | K28: =SUM(J28:J34) -> 0 | M28: Signature salarié
B29: M | C29: 45440 | J29: =MOD(I29-D29,1)-MOD(H29-G29,1)-MOD(F29-E29,1) -> 0
B30: M | C30: 45441 | J30: =MOD(I30-D30,1)-MOD(H30-G30,1)-MOD(F30-E30,1) -> 0
B31: J | C31: 45442 | J31: =MOD(I31-D31,1)-MOD(H31-G31,1)-MOD(F31-E31,1) -> 0
B32: V | C32: 45443 | J32: =MOD(I32-D32,1)-MOD(H32-G32,1)-MOD(F32-E32,1) -> 0
B33: S | C33: 45444 | J33: =MOD(I33-D33,1)-MOD(H33-G33,1)-MOD(F33-E33,1) -> 0
B34: D | C34: 45445 | J34: =MOD(I34-D34,1)-MOD(H34-G34,1)-MOD(F34-E34,1) -> 0
C36: Signature Responsable | J36: Congés Payés
J37: Repos
J38: RR
J39: Absence injustifiée
J40: Arrêt Maladie
J41: Formation
J42: Evenement familiale
J43: Jour Férié et RJF

Sheet Juin
B2: Juin 2024 | M2: Nom | N2: =Récap!K2 -> 0
M3: Prénom | N3: =Récap!K3 -> 0
M4: Service | N4: =Récap!K4 -> 1.625
B5: Date | D5: Arrivée | E5: Pause | G5: Si Coupure | I5: Départ | J5: Total jour | K5: Total semaine
E6: Début | F6: Fin | G6: Départ | H6: Arrivée
B7: L | C7: 45446 | D7: 0.33333333 | E7: 0.5 | F7: 0.52083333 | I7: 0.66666667 | J7: =MOD(I7-D7,1)-MOD(H7-G7,1)-MOD(F7-E7,1) -> 0.3125 | K7: =SUM(J7:J13) -> 0.3125 | M7: Signature salarié
B8: M | C8: 45447 | J8: =MOD(I8-D8,1)-MOD(H8-G8,1)-MOD(F8-E8,1) -> 0
B9: M | C9: 45448 | J9: =MOD(I9-D9,1)-MOD(H9-G9,1)-MOD(F9-E9,1) -> 0
B10: J | C10: 45449 | J10: =MOD(I10-D10,1)-MOD(H10-G10,1)-MOD(F10-E10,1) -> 0
B11: V | C11: 45450 | J11: =MOD(I11-D11,1)-MOD(H11-G11,1)-MOD(F11-E11,1) -> 0
B12: S | C12: 45451 | J12: =MOD(I12-D12,1)-MOD(H12-G12,1)-MOD(F12-E12,1) -> 0
B13: D | C13: 45452 | J13: =MOD(I13-D13,1)-MOD(H13-G13,1)-MOD(F13-E13,1) -> 0
B14: L | C14: 45453 | J14: =MOD(I14-D14,1)-MOD(H14-G14,1)-MOD(F14-E14,1) -> 0 | K14: =SUM(J14:J20) -> 0 | M14: Signature salarié
B15: M | C15: 45454 | J15: =MOD(I15-D15,1)-MOD(H15-G15,1)-MOD(F15-E15,1) -> 0
B16: M | C16: 45455 | J16: =MOD(I16-D16,1)-MOD(H16-G16,1)-MOD(F16-E16,1) -> 0
B17: J | C17: 45456 | J17: =MOD(I17-D17,1)-MOD(H17-G17,1)-MOD(F17-E17,1) -> 0
B18: V | C18: 45457 | J18: =MOD(I18-D18,1)-MOD(H18-G18,1)-MOD(F18-E18,1) -> 0
B19: S | C19: 45458 | J19: =MOD(I19-D19,1)-MOD(H19-G19,1)-MOD(F19-E19,1) -> 0
B20: D | C20: 45459 | J20: =MOD(I20-D20,1)-MOD(H20-G20,1)-MOD(F20-E20,1) -> 0
B21: L | C21: 45460 | J21: =MOD(I21-D21,1)-MOD(H21-G21,1)-MOD(F21-E21,1) -> 0 | K21: =SUM(J21:J27) -> 0 | M21: Signature salarié
B22: M | C22: 45461 | J22: =MOD(I22-D22,1)-MOD(H22-G22,1)-MOD(F22-E22,1) -> 0
B23: M | C23: 45462 | J23: =MOD(I23-D23,1)-MOD(H23-G23,1)-MOD(F23-E23,1) -> 0
B24: J | C24: 45463 | J24: =MOD(I24-D24,1)-MOD(H24-G24,1)-MOD(F24-E24,1) -> 0
B25: V | C25: 45464 | J25: =MOD(I25-D25,1)-MOD(H25-G25,1)-MOD(F25-E25,1) -> 0
B26: S | C26: 45465 | J26: =MOD(I26-D26,1)-MOD(H26-G26,1)-MOD(F26-E26,1) -> 0
B27: D | C27: 45466 | J27: =MOD(I27-D27,1)-MOD(H27-G27,1)-MOD(F27-E27,1) -> 0
B28: L | C28: 45467 | J28: =MOD(I28-D28,1)-MOD(H28-G28,1)-MOD(F28-E28,1) -> 0 | K28: =SUM(J28:J34) -> 0 | M28: Signature salarié
B29: M | C29: 45468 | J29: =MOD(I29-D29,1)-MOD(H29-G29,1)-MOD(F29-E29,1) -> 0
B30: M | C30: 45469 | J30: =MOD(I30-D30,1)-MOD(H30-G30,1)-MOD(F30-E30,1) -> 0
B31: J | C31: 45470 | J31: =MOD(I31-D31,1)-MOD(H31-G31,1)-MOD(F31-E31,1) -> 0
B32: V | C32: 45471 | J32: =MOD(I32-D32,1)-MOD(H32-G32,1)-MOD(F32-E32,1) -> 0
B33: S | C33: 45472 | J33: =MOD(I33-D33,1)-MOD(H33-G33,1)-MOD(F33-E33,1) -> 0
B34: D | C34: 45473 | J34: =MOD(I34-D34,1)-MOD(H34-G34,1)-MOD(F34-E34,1) -> 0
C36: Signature Responsable | J36: Congés Payés
J37: Repos
J38: RR
J39: Absence injustifiée
J40: Arrêt Maladie
J41: Formation
J42: Evenement familiale
J43: Jour Férié et RJF

Sheet Juillet
B2: Juillet 2024 | M2: Nom | N2: =Récap!K2 -> 0
M3: Prénom | N3: =Récap!K3 -> 0
M4: Service | N4: =Récap!K4 -> 1.625
B5: Date | D5: Arrivée | E5: Pause | G5: Si Coupure | I5: Départ | J5: Total jour | K5: Total semaine
E6: Début | F6: Fin | G6: Départ | H6: Arrivée
B7: L | C7: 45474 | D7: 0.33333333 | E7: 0.5 | F7: 0.52083333 | I7: 0.66666667 | J7: =MOD(I7-D7,1)-MOD(H7-G7,1)-MOD(F7-E7,1) -> 0.3125 | K7: =SUM(J7:J13) -> 0.3125 | M7: Signature salarié
B8: M | C8: 45475 | J8: =MOD(I8-D8,1)-MOD(H8-G8,1)-MOD(F8-E8,1) -> 0
B9: M | C9: 45476 | J9: =MOD(I9-D9,1)-MOD(H9-G9,1)-MOD(F9-E9,1) -> 0
B10: J | C10: 45477 | J10: =MOD(I10-D10,1)-MOD(H10-G10,1)-MOD(F10-E10,1) -> 0
B11: V | C11: 45478 | J11: =MOD(I11-D11,1)-MOD(H11-G11,1)-MOD(F11-E11,1) -> 0
B12: S | C12: 45479 | J12: =MOD(I12-D12,1)-MOD(H12-G12,1)-MOD(F12-E12,1) -> 0
B13: D | C13: 45480 | J13: =MOD(I13-D13,1)-MOD(H13-G13,1)-MOD(F13-E13,1) -> 0
B14: L | C14: 45481 | J14: =MOD(I14-D14,1)-MOD(H14-G14,1)-MOD(F14-E14,1) -> 0 | K14: =SUM(J14:J20) -> 0 | M14: Signature salarié
B15: M | C15: 45482 | J15: =MOD(I15-D15,1)-MOD(H15-G15,1)-MOD(F15-E15,1) -> 0
B16: M | C16: 45483 | J16: =MOD(I16-D16,1)-MOD(H16-G16,1)-MOD(F16-E16,1) -> 0
B17: J | C17: 45484 | J17: =MOD(I17-D17,1)-MOD(H17-G17,1)-MOD(F17-E17,1) -> 0
B18: V | C18: 45485 | J18: =MOD(I18-D18,1)-MOD(H18-G18,1)-MOD(F18-E18,1) -> 0
B19: S | C19: 45486 | J19: =MOD(I19-D19,1)-MOD(H19-G19,1)-MOD(F19-E19,1) -> 0
B20: D | C20: 45487 | J20: =MOD(I20-D20,1)-MOD(H20-G20,1)-MOD(F20-E20,1) -> 0
B21: L | C21: 45488 | J21: =MOD(I21-D21,1)-MOD(H21-G21,1)-MOD(F21-E21,1) -> 0 | K21: =SUM(J21:J27) -> 0 | M21: Signature salarié
B22: M | C22: 45489 | J22: =MOD(I22-D22,1)-MOD(H22-G22,1)-MOD(F22-E22,1) -> 0
B23: M | C23: 45490 | J23: =MOD(I23-D23,1)-MOD(H23-G23,1)-MOD(F23-E23,1) -> 0
B24: J | C24: 45491 | J24: =MOD(I24-D24,1)-MOD(H24-G24,1)-MOD(F24-E24,1) -> 0
B25: V | C25: 45492 | J25: =MOD(I25-D25,1)-MOD(H25-G25,1)-MOD(F25-E25,1) -> 0
B26: S | C26: 45493 | J26: =MOD(I26-D26,1)-MOD(H26-G26,1)-MOD(F26-E26,1) -> 0
B27: D | C27: 45494 | J27: =MOD(I27-D27,1)-MOD(H27-G27,1)-MOD(F27-E27,1) -> 0
B28: L | C28: 45495 | J28: =MOD(I28-D28,1)-MOD(H28-G28,1)-MOD(F28-E28,1) -> 0 | K28: =SUM(J28:J34) -> 0 | M28: Signature salarié
B29: M | C29: 45496 | J29: =MOD(I29-D29,1)-MOD(H29-G29,1)-MOD(F29-E29,1) -> 0
B30: M | C30: 45497 | J30: =MOD(I30-D30,1)-MOD(H30-G30,1)-MOD(F30-E30,1) -> 0
B31: J | C31: 45498 | J31: =MOD(I31-D31,1)-MOD(H31-G31,1)-MOD(F31-E31,1) -> 0
B32: V | C32: 45499 | J32: =MOD(I32-D32,1)-MOD(H32-G32,1)-MOD(F32-E32,1) -> 0
B33: S | C33: 45500 | J33: =MOD(I33-D33,1)-MOD(H33-G33,1)-MOD(F33-E33,1) -> 0
B34: D | C34: 45501 | J34: =MOD(I34-D34,1)-MOD(H34-G34,1)-MOD(F34-E34,1) -> 0
B35: L | C35: 45502 | J35: =MOD(I35-D35,1)-MOD(H35-G35,1)-MOD(F35-E35,1) -> 0 | K35: =SUM(J35:J41) -> 0 | M35: Signature salarié
B36: M | C36: 45503 | J36: =MOD(I36-D36,1)-MOD(H36-G36,1)-MOD(F36-E36,1) -> 0
B37: M | C37: 45504 | J37: =MOD(I37-D37,1)-MOD(H37-G37,1)-MOD(F37-E37,1) -> 0
B38: J | C38: 45505 | J38: =MOD(I38-D38,1)-MOD(H38-G38,1)-MOD(F38-E38,1) -> 0
B39: V | C39: 45506 | J39: =MOD(I39-D39,1)-MOD(H39-G39,1)-MOD(F39-E39,1) -> 0
B40: S | C40: 45507 | J40: =MOD(I40-D40,1)-MOD(H40-G40,1)-MOD(F40-E40,1) -> 0
B41: D | C41: 45508 | J41: =MOD(I41-D41,1)-MOD(H41-G41,1)-MOD(F41-E41,1) -> 0
C43: Signature Responsable | J43: Congés Payés
J44: Repos
J45: RR
J46: Absence injustifiée
J47: Arrêt Maladie
J48: Formation
J49: Evenement familiale
J50: Jour Férié et RJF

Sheet Aout
B2: Aout 2024 | M2: Nom | N2: =Récap!K2 -> 0
M3: Prénom | N3: =Récap!K3 -> 0
M4: Service | N4: =Récap!K4 -> 1.625
B5: Date | D5: Arrivée | E5: Pause | G5: Si Coupure | I5: Départ | J5: Total jour | K5: Total semaine
E6: Début | F6: Fin | G6: Départ | H6: Arrivée
B7: L | C7: 45509 | D7: 0.33333333 | E7: 0.5 | F7: 0.52083333 | I7: 0.66666667 | J7: =MOD(I7-D7,1)-MOD(H7-G7,1)-MOD(F7-E7,1) -> 0.3125 | K7: =SUM(J7:J13) -> 0.3125 | M7: Signature salarié
B8: M | C8: 45510 | J8: =MOD(I8-D8,1)-MOD(H8-G8,1)-MOD(F8-E8,1) -> 0
B9: M | C9: 45511 | J9: =MOD(I9-D9,1)-MOD(H9-G9,1)-MOD(F9-E9,1) -> 0
B10: J | C10: 45512 | J10: =MOD(I10-D10,1)-MOD(H10-G10,1)-MOD(F10-E10,1) -> 0
B11: V | C11: 45513 | J11: =MOD(I11-D11,1)-MOD(H11-G11,1)-MOD(F11-E11,1) -> 0
B12: S | C12: 45514 | J12: =MOD(I12-D12,1)-MOD(H12-G12,1)-MOD(F12-E12,1) -> 0
B13: D | C13: 45515 | J13: =MOD(I13-D13,1)-MOD(H13-G13,1)-MOD(F13-E13,1) -> 0
B14: L | C14: 45516 | J14: =MOD(I14-D14,1)-MOD(H14-G14,1)-MOD(F14-E14,1) -> 0 | K14: =SUM(J14:J20) -> 0 | M14: Signature salarié
B15: M | C15: 45517 | J15: =MOD(I15-D15,1)-MOD(H15-G15,1)-MOD(F15-E15,1) -> 0
B16: M | C16: 45518 | J16: =MOD(I16-D16,1)-MOD(H16-G16,1)-MOD(F16-E16,1) -> 0
B17: J | C17: 45519 | J17: =MOD(I17-D17,1)-MOD(H17-G17,1)-MOD(F17-E17,1) -> 0
B18: V | C18: 45520 | J18: =MOD(I18-D18,1)-MOD(H18-G18,1)-MOD(F18-E18,1) -> 0
B19: S | C19: 45521 | J19: =MOD(I19-D19,1)-MOD(H19-G19,1)-MOD(F19-E19,1) -> 0
B20: D | C20: 45522 | J20: =MOD(I20-D20,1)-MOD(H20-G20,1)-MOD(F20-E20,1) -> 0
B21: L | C21: 45523 | J21: =MOD(I21-D21,1)-MOD(H21-G21,1)-MOD(F21-E21,1) -> 0 | K21: =SUM(J21:J27) -> 0 | M21: Signature salarié
B22: M | C22: 45524 | J22: =MOD(I22-D22,1)-MOD(H22-G22,1)-MOD(F22-E22,1) -> 0
B23: M | C23: 45525 | J23: =MOD(I23-D23,1)-MOD(H23-G23,1)-MOD(F23-E23,1) -> 0
B24: J | C24: 45526 | J24: =MOD(I24-D24,1)-MOD(H24-G24,1)-MOD(F24-E24,1) -> 0
B25: V | C25: 45527 | J25: =MOD(I25-D25,1)-MOD(H25-G25,1)-MOD(F25-E25,1) -> 0
B26: S | C26: 45528 | J26: =MOD(I26-D26,1)-MOD(H26-G26,1)-MOD(F26-E26,1) -> 0
B27: D | C27: 45529 | J27: =MOD(I27-D27,1)-MOD(H27-G27,1)-MOD(F27-E27,1) -> 0
B28: L | C28: 45530 | J28: =MOD(I28-D28,1)-MOD(H28-G28,1)-MOD(F28-E28,1) -> 0 | K28: =SUM(J28:J34) -> 0 | M28: Signature salarié
B29: M | C29: 45531 | J29: =MOD(I29-D29,1)-MOD(H29-G29,1)-MOD(F29-E29,1) -> 0
B30: M | C30: 45532 | J30: =MOD(I30-D30,1)-MOD(H30-G30,1)-MOD(F30-E30,1) -> 0
B31: J | C31: 45533 | J31: =MOD(I31-D31,1)-MOD(H31-G31,1)-MOD(F31-E31,1) -> 0
B32: V | C32: 45534 | J32: =MOD(I32-D32,1)-MOD(H32-G32,1)-MOD(F32-E32,1) -> 0
B33: S | C33: 45535 | J33: =MOD(I33-D33,1)-MOD(H33-G33,1)-MOD(F33-E33,1) -> 0
B34: D | C34: 45536 | J34: =MOD(I34-D34,1)-MOD(H34-G34,1)-MOD(F34-E34,1) -> 0
C36: Signature Responsable | J36: Congés Payés
J37: Repos
J38: RR
J39: Absence injustifiée
J40: Arrêt Maladie
J41: Formation
J42: Evenement familiale
J43: Jour Férié et RJF

Sheet Septembre
B2: Septembre 2024 | M2: Nom | N2: =Récap!K2 -> 0
M3: Prénom | N3: =Récap!K3 -> 0
M4: Service | N4: =Récap!K4 -> 1.625
B5: Date | D5: Arrivée | E5: Pause | G5: Si Coupure | I5: Départ | J5: Total jour | K5: Total semaine
E6: Début | F6: Fin | G6: Départ | H6: Arrivée
B7: L | C7: 45537 | D7: 0.33333333 | E7: 0.5 | F7: 0.52083333 | I7: 0.66666667 | J7: =MOD(I7-D7,1)-MOD(H7-G7,1)-MOD(F7-E7,1) -> 0.3125 | K7: =SUM(J7:J13) -> 0.3125 | M7: Signature salarié
B8: M | C8: 45538 | J8: =MOD(I8-D8,1)-MOD(H8-G8,1)-MOD(F8-E8,1) -> 0
B9: M | C9: 45539 | J9: =MOD(I9-D9,1)-MOD(H9-G9,1)-MOD(F9-E9,1) -> 0
B10: J | C10: 45540 | J10: =MOD(I10-D10,1)-MOD(H10-G10,1)-MOD(F10-E10,1) -> 0
B11: V | C11: 45541 | J11: =MOD(I11-D11,1)-MOD(H11-G11,1)-MOD(F11-E11,1) -> 0
B12: S | C12: 45542 | J12: =MOD(I12-D12,1)-MOD(H12-G12,1)-MOD(F12-E12,1) -> 0
B13: D | C13: 45543 | J13: =MOD(I13-D13,1)-MOD(H13-G13,1)-MOD(F13-E13,1) -> 0
B14: L | C14: 45544 | J14: =MOD(I14-D14,1)-MOD(H14-G14,1)-MOD(F14-E14,1) -> 0 | K14: =SUM(J14:J20) -> 0 | M14: Signature salarié
B15: M | C15: 45545 | J15: =MOD(I15-D15,1)-MOD(H15-G15,1)-MOD(F15-E15,1) -> 0
B16: M | C16: 45546 | J16: =MOD(I16-D16,1)-MOD(H16-G16,1)-MOD(F16-E16,1) -> 0
B17: J | C17: 45547 | J17: =MOD(I17-D17,1)-MOD(H17-G17,1)-MOD(F17-E17,1) -> 0
B18: V | C18: 45548 | J18: =MOD(I18-D18,1)-MOD(H18-G18,1)-MOD(F18-E18,1) -> 0
B19: S | C19: 45549 | J19: =MOD(I19-D19,1)-MOD(H19-G19,1)-MOD(F19-E19,1) -> 0
B20: D | C20: 45550 | J20: =MOD(I20-D20,1)-MOD(H20-G20,1)-MOD(F20-E20,1) -> 0
B21: L | C21: 45551 | J21: =MOD(I21-D21,1)-MOD(H21-G21,1)-MOD(F21-E21,1) -> 0 | K21: =SUM(J21:J27) -> 0 | M21: Signature salarié
B22: M | C22: 45552 | J22: =MOD(I22-D22,1)-MOD(H22-G22,1)-MOD(F22-E22,1) -> 0
B23: M | C23: 45553 | J23: =MOD(I23-D23,1)-MOD(H23-G23,1)-MOD(F23-E23,1) -> 0
B24: J | C24: 45554 | J24: =MOD(I24-D24,1)-MOD(H24-G24,1)-MOD(F24-E24,1) -> 0
B25: V | C25: 45555 | J25: =MOD(I25-D25,1)-MOD(H25-G25,1)-MOD(F25-E25,1) -> 0
B26: S | C26: 45556 | J26: =MOD(I26-D26,1)-MOD(H26-G26,1)-MOD(F26-E26,1) -> 0
B27: D | C27: 45557 | J27: =MOD(I27-D27,1)-MOD(H27-G27,1)-MOD(F27-E27,1) -> 0
B28: L | C28: 45558 | J28: =MOD(I28-D28,1)-MOD(H28-G28,1)-MOD(F28-E28,1) -> 0 | K28: =SUM(J28:J34) -> 0 | M28: Signature salarié
B29: M | C29: 45559 | J29: =MOD(I29-D29,1)-MOD(H29-G29,1)-MOD(F29-E29,1) -> 0
B30: M | C30: 45560 | J30: =MOD(I30-D30,1)-MOD(H30-G30,1)-MOD(F30-E30,1) -> 0
B31: J | C31: 45561 | J31: =MOD(I31-D31,1)-MOD(H31-G31,1)-MOD(F31-E31,1) -> 0
B32: V | C32: 45562 | J32: =MOD(I32-D32,1)-MOD(H32-G32,1)-MOD(F32-E32,1) -> 0
B33: S | C33: 45563 | J33: =MOD(I33-D33,1)-MOD(H33-G33,1)-MOD(F33-E33,1) -> 0
B34: D | C34: 45564 | J34: =MOD(I34-D34,1)-MOD(H34-G34,1)-MOD(F34-E34,1) -> 0
B35: L | C35: 45565 | J35: =MOD(I35-D35,1)-MOD(H35-G35,1)-MOD(F35-E35,1) -> 0 | K35: =SUM(J35:J41) -> 0 | M35: Signature salarié
B36: M | C36: 45566 | J36: =MOD(I36-D36,1)-MOD(H36-G36,1)-MOD(F36-E36,1) -> 0
B37: M | C37: 45567 | J37: =MOD(I37-D37,1)-MOD(H37-G37,1)-MOD(F37-E37,1) -> 0
B38: J | C38: 45568 | J38: =MOD(I38-D38,1)-MOD(H38-G38,1)-MOD(F38-E38,1) -> 0
B39: V | C39: 45569 | J39: =MOD(I39-D39,1)-MOD(H39-G39,1)-MOD(F39-E39,1) -> 0
B40: S | C40: 45570 | J40: =MOD(I40-D40,1)-MOD(H40-G40,1)-MOD(F40-E40,1) -> 0
B41: D | C41: 45571 | J41: =MOD(I41-D41,1)-MOD(H41-G41,1)-MOD(F41-E41,1) -> 0
C43: Signature Responsable | J43: Congés Payés
J44: Repos
J45: RR
J46: Absence injustifiée
J47: Arrêt Maladie
J48: Formation
J49: Evenement familiale
J50: Jour Férié et RJF

Sheet Octobre
B2: Octobre 2024 | M2: Nom | N2: =Récap!K2 -> 0
M3: Prénom | N3: =Récap!K3 -> 0
M4: Service | N4: =Récap!K4 -> 1.625
B5: Date | D5: Arrivée | E5: Pause | G5: Si Coupure | I5: Départ | J5: Total jour | K5: Total semaine
E6: Début | F6: Fin | G6: Départ | H6: Arrivée
B7: L | C7: 45572 | D7: 0.33333333 | E7: 0.5 | F7: 0.52083333 | I7: 0.66666667 | J7: =MOD(I7-D7,1)-MOD(H7-G7,1)-MOD(F7-E7,1) -> 0.3125 | K7: =SUM(J7:J13) -> 0.3125 | M7: Signature salarié
B8: M | C8: 45573 | J8: =MOD(I8-D8,1)-MOD(H8-G8,1)-MOD(F8-E8,1) -> 0
B9: M | C9: 45574 | J9: =MOD(I9-D9,1)-MOD(H9-G9,1)-MOD(F9-E9,1) -> 0
B10: J | C10: 45575 | J10: =MOD(I10-D10,1)-MOD(H10-G10,1)-MOD(F10-E10,1) -> 0
B11: V | C11: 45576 | J11: =MOD(I11-D11,1)-MOD(H11-G11,1)-MOD(F11-E11,1) -> 0
B12: S | C12: 45577 | J12: =MOD(I12-D12,1)-MOD(H12-G12,1)-MOD(F12-E12,1) -> 0
B13: D | C13: 45578 | J13: =MOD(I13-D13,1)-MOD(H13-G13,1)-MOD(F13-E13,1) -> 0
B14: L | C14: 45579 | J14: =MOD(I14-D14,1)-MOD(H14-G14,1)-MOD(F14-E14,1) -> 0 | K14: =SUM(J14:J20) -> 0 | M14: Signature salarié
B15: M | C15: 45580 | J15: =MOD(I15-D15,1)-MOD(H15-G15,1)-MOD(F15-E15,1) -> 0
B16: M | C16: 45581 | J16: =MOD(I16-D16,1)-MOD(H16-G16,1)-MOD(F16-E16,1) -> 0
B17: J | C17: 45582 | J17: =MOD(I17-D17,1)-MOD(H17-G17,1)-MOD(F17-E17,1) -> 0
B18: V | C18: 45583 | J18: =MOD(I18-D18,1)-MOD(H18-G18,1)-MOD(F18-E18,1) -> 0
B19: S | C19: 45584 | J19: =MOD(I19-D19,1)-MOD(H19-G19,1)-MOD(F19-E19,1) -> 0
B20: D | C20: 45585 | J20: =MOD(I20-D20,1)-MOD(H20-G20,1)-MOD(F20-E20,1) -> 0
B21: L | C21: 45586 | J21: =MOD(I21-D21,1)-MOD(H21-G21,1)-MOD(F21-E21,1) -> 0 | K21: =SUM(J21:J27) -> 0 | M21: Signature salarié
B22: M | C22: 45587 | J22: =MOD(I22-D22,1)-MOD(H22-G22,1)-MOD(F22-E22,1) -> 0
B23: M | C23: 45588 | J23: =MOD(I23-D23,1)-MOD(H23-G23,1)-MOD(F23-E23,1) -> 0
B24: J | C24: 45589 | J24: =MOD(I24-D24,1)-MOD(H24-G24,1)-MOD(F24-E24,1) -> 0
B25: V | C25: 45590 | J25: =MOD(I25-D25,1)-MOD(H25-G25,1)-MOD(F25-E25,1) -> 0
B26: S | C26: 45591 | J26: =MOD(I26-D26,1)-MOD(H26-G26,1)-MOD(F26-E26,1) -> 0
B27: D | C27: 45592 | J27: =MOD(I27-D27,1)-MOD(H27-G27,1)-MOD(F27-E27,1) -> 0
B28: L | C28: 45593 | J28: =MOD(I28-D28,1)-MOD(H28-G28,1)-MOD(F28-E28,1) -> 0 | K28: =SUM(J28:J34) -> 0 | M28: Signature salarié
B29: M | C29: 45594 | J29: =MOD(I29-D29,1)-MOD(H29-G29,1)-MOD(F29-E29,1) -> 0
B30: M | C30: 45595 | J30: =MOD(I30-D30,1)-MOD(H30-G30,1)-MOD(F30-E30,1) -> 0
B31: J | C31: 45596 | J31: =MOD(I31-D31,1)-MOD(H31-G31,1)-MOD(F31-E31,1) -> 0
B32: V | C32: 45597 | J32: =MOD(I32-D32,1)-MOD(H32-G32,1)-MOD(F32-E32,1) -> 0
B33: S | C33: 45598 | J33: =MOD(I33-D33,1)-MOD(H33-G33,1)-MOD(F33-E33,1) -> 0
B34: D | C34: 45599 | J34: =MOD(I34-D34,1)-MOD(H34-G34,1)-MOD(F34-E34,1) -> 0
C36: Signature Responsable | J36: Congés Payés
J37: Repos
J38: RR
J39: Absence injustifiée
J40: Arrêt Maladie
J41: Formation
J42: Evenement familiale
J43: Jour Férié et RJF

Sheet Novembre
B2: Novembre 2024 | M2: Nom | N2: =Récap!K2 -> 0
M3: Prénom | N3: =Récap!K3 -> 0
M4: Service | N4: =Récap!K4 -> 1.625
B5: Date | D5: Arrivée | E5: Pause | G5: Si Coupure | I5: Départ | J5: Total jour | K5: Total semaine
E6: Début | F6: Fin | G6: Départ | H6: Arrivée
B7: L | C7: 45600 | D7: 0.33333333 | E7: 0.5 | F7: 0.52083333 | I7: 0.66666667 | J7: =MOD(I7-D7,1)-MOD(H7-G7,1)-MOD(F7-E7,1) -> 0.3125 | K7: =SUM(J7:J13) -> 0.3125 | M7: Signature salarié
B8: M | C8: 45601 | J8: =MOD(I8-D8,1)-MOD(H8-G8,1)-MOD(F8-E8,1) -> 0
B9: M | C9: 45602 | J9: =MOD(I9-D9,1)-MOD(H9-G9,1)-MOD(F9-E9,1) -> 0
B10: J | C10: 45603 | J10: =MOD(I10-D10,1)-MOD(H10-G10,1)-MOD(F10-E10,1) -> 0
B11: V | C11: 45604 | J11: =MOD(I11-D11,1)-MOD(H11-G11,1)-MOD(F11-E11,1) -> 0
B12: S | C12: 45605 | J12: =MOD(I12-D12,1)-MOD(H12-G12,1)-MOD(F12-E12,1) -> 0
B13: D | C13: 45606 | J13: =MOD(I13-D13,1)-MOD(H13-G13,1)-MOD(F13-E13,1) -> 0
B14: L | C14: 45607 | J14: =MOD(I14-D14,1)-MOD(H14-G14,1)-MOD(F14-E14,1) -> 0 | K14: =SUM(J14:J20) -> 0 | M14: Signature salarié
B15: M | C15: 45608 | J15: =MOD(I15-D15,1)-MOD(H15-G15,1)-MOD(F15-E15,1) -> 0
B16: M | C16: 45609 | J16: =MOD(I16-D16,1)-MOD(H16-G16,1)-MOD(F16-E16,1) -> 0
B17: J | C17: 45610 | J17: =MOD(I17-D17,1)-MOD(H17-G17,1)-MOD(F17-E17,1) -> 0
B18: V | C18: 45611 | J18: =MOD(I18-D18,1)-MOD(H18-G18,1)-MOD(F18-E18,1) -> 0
B19: S | C19: 45612 | J19: =MOD(I19-D19,1)-MOD(H19-G19,1)-MOD(F19-E19,1) -> 0
B20: D | C20: 45613 | J20: =MOD(I20-D20,1)-MOD(H20-G20,1)-MOD(F20-E20,1) -> 0
B21: L | C21: 45614 | J21: =MOD(I21-D21,1)-MOD(H21-G21,1)-MOD(F21-E21,1) -> 0 | K21: =SUM(J21:J27) -> 0 | M21: Signature salarié
B22: M | C22: 45615 | J22: =MOD(I22-D22,1)-MOD(H22-G22,1)-MOD(F22-E22,1) -> 0
B23: M | C23: 45616 | J23: =MOD(I23-D23,1)-MOD(H23-G23,1)-MOD(F23-E23,1) -> 0
B24: J | C24: 45617 | J24: =MOD(I24-D24,1)-MOD(H24-G24,1)-MOD(F24-E24,1) -> 0
B25: V | C25: 45618 | J25: =MOD(I25-D25,1)-MOD(H25-G25,1)-MOD(F25-E25,1) -> 0
B26: S | C26: 45619 | J26: =MOD(I26-D26,1)-MOD(H26-G26,1)-MOD(F26-E26,1) -> 0
B27: D | C27: 45620 | J27: =MOD(I27-D27,1)-MOD(H27-G27,1)-MOD(F27-E27,1) -> 0
B28: L | C28: 45621 | J28: =MOD(I28-D28,1)-MOD(H28-G28,1)-MOD(F28-E28,1) -> 0 | K28: =SUM(J28:J34) -> 0 | M28: Signature salarié
B29: M | C29: 45622 | J29: =MOD(I29-D29,1)-MOD(H29-G29,1)-MOD(F29-E29,1) -> 0
B30: M | C30: 45623 | J30: =MOD(I30-D30,1)-MOD(H30-G30,1)-MOD(F30-E30,1) -> 0
B31: J | C31: 45624 | J31: =MOD(I31-D31,1)-MOD(H31-G31,1)-MOD(F31-E31,1) -> 0
B32: V | C32: 45625 | J32: =MOD(I32-D32,1)-MOD(H32-G32,1)-MOD(F32-E32,1) -> 0
B33: S | C33: 45626 | J33: =MOD(I33-D33,1)-MOD(H33-G33,1)-MOD(F33-E33,1) -> 0
B34: D | C34: 45627 | J34: =MOD(I34-D34,1)-MOD(H34-G34,1)-MOD(F34-E34,1) -> 0
C36: Signature Responsable | J36: Congés Payés
J37: Repos
J38: RR
J39: Absence injustifiée
J40: Arrêt Maladie
J41: Formation
J42: Evenement familiale
J43: Jour Férié et RJF

Sheet Décembre
B2: Décembre 2024 | M2: Nom | N2: =Récap!K2 -> 0
M3: Prénom | N3: =Récap!K3 -> 0
M4: Service | N4: =Récap!K4 -> 1.625
B5: Date | D5: Arrivée | E5: Pause | G5: Si Coupure | I5: Départ | J5: Total jour | K5: Total semaine
E6: Début | F6: Fin | G6: Départ | H6: Arrivée
B7: L | C7: 45628 | D7: 0.33333333 | E7: 0.5 | F7: 0.52083333 | I7: 0.66666667 | J7: =MOD(I7-D7,1)-MOD(H7-G7,1)-MOD(F7-E7,1) -> 0.3125 | K7: =SUM(J7:J13) -> 0.3125 | M7: Signature salarié
B8: M | C8: 45629 | J8: =MOD(I8-D8,1)-MOD(H8-G8,1)-MOD(F8-E8,1) -> 0
B9: M | C9: 45630 | J9: =MOD(I9-D9,1)-MOD(H9-G9,1)-MOD(F9-E9,1) -> 0
B10: J | C10: 45631 | J10: =MOD(I10-D10,1)-MOD(H10-G10,1)-MOD(F10-E10,1) -> 0
B11: V | C11: 45632 | J11: =MOD(I11-D11,1)-MOD(H11-G11,1)-MOD(F11-E11,1) -> 0
B12: S | C12: 45633 | J12: =MOD(I12-D12,1)-MOD(H12-G12,1)-MOD(F12-E12,1) -> 0
B13: D | C13: 45634 | J13: =MOD(I13-D13,1)-MOD(H13-G13,1)-MOD(F13-E13,1) -> 0
B14: L | C14: 45635 | J14: =MOD(I14-D14,1)-MOD(H14-G14,1)-MOD(F14-E14,1) -> 0 | K14: =SUM(J14:J20) -> 0 | M14: Signature salarié
B15: M | C15: 45636 | J15: =MOD(I15-D15,1)-MOD(H15-G15,1)-MOD(F15-E15,1) -> 0
B16: M | C16: 45637 | J16: =MOD(I16-D16,1)-MOD(H16-G16,1)-MOD(F16-E16,1) -> 0
B17: J | C17: 45638 | J17: =MOD(I17-D17,1)-MOD(H17-G17,1)-MOD(F17-E17,1) -> 0
B18: V | C18: 45639 | J18: =MOD(I18-D18,1)-MOD(H18-G18,1)-MOD(F18-E18,1) -> 0
B19: S | C19: 45640 | J19: =MOD(I19-D19,1)-MOD(H19-G19,1)-MOD(F19-E19,1) -> 0
B20: D | C20: 45641 | J20: =MOD(I20-D20,1)-MOD(H20-G20,1)-MOD(F20-E20,1) -> 0
B21: L | C21: 45642 | J21: =MOD(I21-D21,1)-MOD(H21-G21,1)-MOD(F21-E21,1) -> 0 | K21: =SUM(J21:J27) -> 0 | M21: Signature salarié
B22: M | C22: 45643 | J22: =MOD(I22-D22,1)-MOD(H22-G22,1)-MOD(F22-E22,1) -> 0
B23: M | C23: 45644 | J23: =MOD(I23-D23,1)-MOD(H23-G23,1)-MOD(F23-E23,1) -> 0
B24: J | C24: 45645 | J24: =MOD(I24-D24,1)-MOD(H24-G24,1)-MOD(F24-E24,1) -> 0
B25: V | C25: 45646 | J25: =MOD(I25-D25,1)-MOD(H25-G25,1)-MOD(F25-E25,1) -> 0
B26: S | C26: 45647 | J26: =MOD(I26-D26,1)-MOD(H26-G26,1)-MOD(F26-E26,1) -> 0
B27: D | C27: 45648 | J27: =MOD(I27-D27,1)-MOD(H27-G27,1)-MOD(F27-E27,1) -> 0
B28: L | C28: 45649 | J28: =MOD(I28-D28,1)-MOD(H28-G28,1)-MOD(F28-E28,1) -> 0 | K28: =SUM(J28:J34) -> 0 | M28: Signature salarié
B29: M | C29: 45650 | J29: =MOD(I29-D29,1)-MOD(H29-G29,1)-MOD(F29-E29,1) -> 0
B30: M | C30: 45651 | J30: =MOD(I30-D30,1)-MOD(H30-G30,1)-MOD(F30-E30,1) -> 0
B31: J | C31: 45652 | J31: =MOD(I31-D31,1)-MOD(H31-G31,1)-MOD(F31-E31,1) -> 0
B32: V | C32: 45653 | J32: =MOD(I32-D32,1)-MOD(H32-G32,1)-MOD(F32-E32,1) -> 0
B33: S | C33: 45654 | J33: =MOD(I33-D33,1)-MOD(H33-G33,1)-MOD(F33-E33,1) -> 0
B34: D | C34: 45655 | J34: =MOD(I34-D34,1)-MOD(H34-G34,1)-MOD(F34-E34,1) -> 0
B35: L | C35: 45656 | J35: =MOD(I35-D35,1)-MOD(H35-G35,1)-MOD(F35-E35,1) -> 0 | K35: =SUM(J35:J41) -> 0 | M35: Signature salarié
B36: M | C36: 45657 | J36: =MOD(I36-D36,1)-MOD(H36-G36,1)-MOD(F36-E36,1) -> 0
B37: M | C37: 45658 | J37: =MOD(I37-D37,1)-MOD(H37-G37,1)-MOD(F37-E37,1) -> 0
B38: J | C38: 45659 | J38: =MOD(I38-D38,1)-MOD(H38-G38,1)-MOD(F38-E38,1) -> 0
B39: V | C39: 45660 | J39: =MOD(I39-D39,1)-MOD(H39-G39,1)-MOD(F39-E39,1) -> 0
B40: S | C40: 45661 | J40: =MOD(I40-D40,1)-MOD(H40-G40,1)-MOD(F40-E40,1) -> 0
B41: D | C41: 45662 | J41: =MOD(I41-D41,1)-MOD(H41-G41,1)-MOD(F41-E41,1) -> 0
C43: Signature Responsable | J43: Congés Payés
J44: Repos
J45: RR
J46: Absence injustifiée
J47: Arrêt Maladie
J48: Formation
J49: Evenement familiale
J50: Jour Férié et RJF
