Workbook
Name Formation: Tableau1[Formation]
Name M_atricule: Tableau1[MAT.]
Name Matricule: OFFSET('BASE DE DONNEES'!$G$2,,,COUNTIF('BASE DE DONNEES'!$G:$G,">0"))

Sheet BASE DE DONNEES
A1: MAT. | B1: Formation | C1: Date de Debut | D1: Fin groupe 1
A2: 49 | B2: 5S | C2: 44992 | D2: 44995 | G2: {=IFERROR(INDEX(M_atricule,MATCH(0,COUNTIF(M_atricule,"<"&M_atricule)-SUM(COUNTIF(G$1:G1,M_atricule)),0)),"")} -> 49
A3: 49 | B3: MANAGEMENT OPERATIONNEL ET GESTION D'EQUIPE | C3: 45141 | D3: 45142 | G3: {=IFERROR(INDEX(M_atricule,MATCH(0,COUNTIF(M_atricule,"<"&M_atricule)-SUM(COUNTIF(G$1:G2,M_atricule)),0)),"")} -> 50
A4: 50 | B4: MANAGEMENT OPERATIONNEL ET GESTION D'EQUIPE | C4: 45117 | D4: 45118 | G4: {=IFERROR(INDEX(M_atricule,MATCH(0,COUNTIF(M_atricule,"<"&M_atricule)-SUM(COUNTIF(G$1:G3,M_atricule)),0)),"")} -> 51
A5: 50 | B5: PERFORMANCE INDUSTRIELLE ET EXPERTISE METIER | C5: 44958 | D5: 44960 | G5: {=IFERROR(INDEX(M_atricule,MATCH(0,COUNTIF(M_atricule,"<"&M_atricule)-SUM(COUNTIF(G$1:G4,M_atricule)),0)),"")} -> 55
A6: 51 | B6: LES BONNES PRATIQUES D'HYGIENE ET DE FABRICATION | C6: 44970 | D6: 44974 | G6: {=IFERROR(INDEX(M_atricule,MATCH(0,COUNTIF(M_atricule,"<"&M_atricule)-SUM(COUNTIF(G$1:G5,M_atricule)),0)),"")} -> 82
A7: 55 | B7: 5S | C7: 44992 | D7: 44995 | G7: {=IFERROR(INDEX(M_atricule,MATCH(0,COUNTIF(M_atricule,"<"&M_atricule)-SUM(COUNTIF(G$1:G6,M_atricule)),0)),"")} -> 93
A8: 55 | B8: MANAGEMENT OPERATIONNEL ET GESTION D'EQUIPE | C8: 45124 | D8: 45125 | G8: {=IFERROR(INDEX(M_atricule,MATCH(0,COUNTIF(M_atricule,"<"&M_atricule)-SUM(COUNTIF(G$1:G7,M_atricule)),0)),"")} -> 100
A9: 82 | B9: 5S | C9: 44999 | D9: 45002 | G9: {=IFERROR(INDEX(M_atricule,MATCH(0,COUNTIF(M_atricule,"<"&M_atricule)-SUM(COUNTIF(G$1:G8,M_atricule)),0)),"")} -> 115
A10: 82 | B10: MANAGEMENT OPERATIONNEL ET GESTION D'EQUIPE | C10: 45124 | D10: 45125 | G10: {=IFERROR(INDEX(M_atricule,MATCH(0,COUNTIF(M_atricule,"<"&M_atricule)-SUM(COUNTIF(G$1:G9,M_atricule)),0)),"")} -> 119
A11: 93 | B11: 5S | C11: 44999 | D11: 45002 | G11: {=IFERROR(INDEX(M_atricule,MATCH(0,COUNTIF(M_atricule,"<"&M_atricule)-SUM(COUNTIF(G$1:G10,M_atricule)),0)),"")} -> 129
A12: 93 | B12: LES BONNES PRATIQUES D'HYGIENE ET DE FABRICATION | C12: 44970 | D12: 44974 | G12: {=IFERROR(INDEX(M_atricule,MATCH(0,COUNTIF(M_atricule,"<"&M_atricule)-SUM(COUNTIF(G$1:G11,M_atricule)),0)),"")} -> 132
A13: 93 | B13: MANAGEMENT OPERATIONNEL ET GESTION D'EQUIPE | C13: 45141 | D13: 45142 | G13: {=IFERROR(INDEX(M_atricule,MATCH(0,COUNTIF(M_atricule,"<"&M_atricule)-SUM(COUNTIF(G$1:G12,M_atricule)),0)),"")} -> 140
... A124: 539 | B124: TECHNIQUES ET METHODES D'IDENTIFICATION ET D'ANALYSE DES RISQUES INDUSTRIELS | C124: 45019 | D124: 45022 | G124: {=IFERROR(INDEX(M_atricule,MATCH(0,COUNTIF(M_atricule,"<"&M_atricule)-SUM(COUNTIF(G$1:G123,M_atricule)),0)),"")}
A125: 539 | B125: MANAGEMENT OPERATIONNEL ET GESTION D'EQUIPE | C125: 45141 | D125: 45142
A126: 550 | B126: TOEIC/TOEFL/IELT | C126: 44984 | D126: 45002
A127: 561 | B127: REUSSIR SA MISSION DE MEMBRE DU CSST | C127: 44958 | D127: 44960
A128: 561 | B128: TECHNIQUES ET METHODES D'IDENTIFICATION ET D'ANALYSE DES RISQUES INDUSTRIELS | C128: 45027 | D128: 45030
A129: 561 | B129: FINANCE POUR INDUSTRIELS | C129: 45048 | D129: 45051
A130: 561 | B130: PERFORMANCE INDUSTRIELLE ET EXPERTISE METIER | C130: 44986 | D130: 44988
A131: 563 | B131: LES BONNES PRATIQUES D'HYGIENE ET DE FABRICATION | C131: 44963 | D131: 44967
A132: 569 | B132: LES BONNES PRATIQUES D'HYGIENE ET DE FABRICATION | C132: 44963 | D132: 44967
A133: 569 | B133: REUSSIR SA MISSION DE MEMBRE DU CSST | C133: 44958 | D133: 44960
A134: 569 | B134: TECHNIQUES ET METHODES D'IDENTIFICATION ET D'ANALYSE DES RISQUES INDUSTRIELS | C134: 45019 | D134: 45022
A135: 569 | B135: MANAGEMENT OPERATIONNEL ET GESTION D'EQUIPE | C135: 45117 | D135: 45118
A136: 571 | B136: TOEIC/TOEFL/IELT | C136: 44984 | D136: 45002
... A181: 3211 | B181: MAINTENANCE DES EQUIPEMENTS ELECTRIQUES ET COMPREHENSION D'UN SCHEMA ELECTRIQUE | C181: 45048 | D181: 45051
B186: =IFERROR(INDEX(#REF!, SMALL(IF($A$2:$A$1000=457, ROW($A$2:$A$1000)-ROW($A$2)+1), ROWS(#REF!))), "")

Sheet Feuil de correspondance
A1: MAT. | B1: Formation | C1: Date de Debut | D1: Fin groupe 1 | F1: Matricule | H1: Formation | I1: Date de Debut | J1: Fin groupe 1
A2: 561 | F2: 228 | H2: {=IF(ROWS('BASE DE DONNEES'!$1:1)<=COUNTIF(M_atricule,$F$2),INDEX(Formation,SMALL(IF(M_atricule=$F$2,ROW(INDIRECT("1:"&ROWS(M_atricule)))),ROWS('BASE DE DONNEES'!$1:1))),"")} -> 5S | I2: =IFERROR(INDEX('BASE DE DONNEES'!C:C,0+MATCH($H2,'BASE DE DONNEES'!B:B,0)),"") -> 44992 | J2: =IFERROR(INDEX('BASE DE DONNEES'!D:D,0+MATCH($H2,'BASE DE DONNEES'!B:B,0)),"") -> 44995
A3: 600 | H3: {=IF(ROWS('BASE DE DONNEES'!$1:2)<=COUNTIF(M_atricule,$F$2),INDEX(Formation,SMALL(IF(M_atricule=$F$2,ROW(INDIRECT("1:"&ROWS(M_atricule)))),ROWS('BASE DE DONNEES'!$1:2))),"")} -> REUSSIR SA MISSION DE MEMBRE DU CSST | I3: =IFERROR(INDEX('BASE DE DONNEES'!C:C,0+MATCH($H3,'BASE DE DONNEES'!B:B,0)),"") -> 44958 | J3: =IFERROR(INDEX('BASE DE DONNEES'!D:D,0+MATCH($H3,'BASE DE DONNEES'!B:B,0)),"") -> 44960
A4: 276 | H4: {=IF(ROWS('BASE DE DONNEES'!$1:3)<=COUNTIF(M_atricule,$F$2),INDEX(Formation,SMALL(IF(M_atricule=$F$2,ROW(INDIRECT("1:"&ROWS(M_atricule)))),ROWS('BASE DE DONNEES'!$1:3))),"")} -> TECHNIQUES ET METHODES D'IDENTIFICATION ET D'ANALYSE DES RISQUES INDUSTRIELS | I4: =IFERROR(INDEX('BASE DE DONNEES'!C:C,0+MATCH($H4,'BASE DE DONNEES'!B:B,0)),"") -> 45027 | J4: =IFERROR(INDEX('BASE DE DONNEES'!D:D,0+MATCH($H4,'BASE DE DONNEES'!B:B,0)),"") -> 45030
A5: 535 | H5: {=IF(ROWS('BASE DE DONNEES'!$1:4)<=COUNTIF(M_atricule,$F$2),INDEX(Formation,SMALL(IF(M_atricule=$F$2,ROW(INDIRECT("1:"&ROWS(M_atricule)))),ROWS('BASE DE DONNEES'!$1:4))),"")} -> MANAGEMENT OPERATIONNEL ET GESTION D'EQUIPE | I5: =IFERROR(INDEX('BASE DE DONNEES'!C:C,0+MATCH($H5,'BASE DE DONNEES'!B:B,0)),"") -> 45141 | J5: =IFERROR(INDEX('BASE DE DONNEES'!D:D,0+MATCH($H5,'BASE DE DONNEES'!B:B,0)),"") -> 45142
A6: 149 | H6: {=IF(ROWS('BASE DE DONNEES'!$1:5)<=COUNTIF(M_atricule,$F$2),INDEX(Formation,SMALL(IF(M_atricule=$F$2,ROW(INDIRECT("1:"&ROWS(M_atricule)))),ROWS('BASE DE DONNEES'!$1:5))),"")} | I6: =IFERROR(INDEX('BASE DE DONNEES'!C:C,0+MATCH($H6,'BASE DE DONNEES'!B:B,0)),"") -> 0 | J6: =IFERROR(INDEX('BASE DE DONNEES'!D:D,0+MATCH($H6,'BASE DE DONNEES'!B:B,0)),"") -> 0
A7: 354 | H7: {=IF(ROWS('BASE DE DONNEES'!$1:6)<=COUNTIF(M_atricule,$F$2),INDEX(Formation,SMALL(IF(M_atricule=$F$2,ROW(INDIRECT("1:"&ROWS(M_atricule)))),ROWS('BASE DE DONNEES'!$1:6))),"")} | I7: =IFERROR(INDEX('BASE DE DONNEES'!C:C,0+MATCH($H7,'BASE DE DONNEES'!B:B,0)),"") -> 0 | J7: =IFERROR(INDEX('BASE DE DONNEES'!D:D,0+MATCH($H7,'BASE DE DONNEES'!B:B,0)),"") -> 0
A8: 3097 | H8: {=IF(ROWS('BASE DE DONNEES'!$1:7)<=COUNTIF(M_atricule,$F$2),INDEX(Formation,SMALL(IF(M_atricule=$F$2,ROW(INDIRECT("1:"&ROWS(M_atricule)))),ROWS('BASE DE DONNEES'!$1:7))),"")} | I8: =IFERROR(INDEX('BASE DE DONNEES'!C:C,0+MATCH($H8,'BASE DE DONNEES'!B:B,0)),"") -> 0 | J8: =IFERROR(INDEX('BASE DE DONNEES'!D:D,0+MATCH($H8,'BASE DE DONNEES'!B:B,0)),"") -> 0
A9: 297 | H9: {=IF(ROWS('BASE DE DONNEES'!$1:8)<=COUNTIF(M_atricule,$F$2),INDEX(Formation,SMALL(IF(M_atricule=$F$2,ROW(INDIRECT("1:"&ROWS(M_atricule)))),ROWS('BASE DE DONNEES'!$1:8))),"")} | I9: =IFERROR(INDEX('BASE DE DONNEES'!C:C,0+MATCH($H9,'BASE DE DONNEES'!B:B,0)),"") -> 0 | J9: =IFERROR(INDEX('BASE DE DONNEES'!D:D,0+MATCH($H9,'BASE DE DONNEES'!B:B,0)),"") -> 0
A10: 294 | H10: {=IF(ROWS('BASE DE DONNEES'!$1:9)<=COUNTIF(M_atricule,$F$2),INDEX(Formation,SMALL(IF(M_atricule=$F$2,ROW(INDIRECT("1:"&ROWS(M_atricule)))),ROWS('BASE DE DONNEES'!$1:9))),"")} | I10: =IFERROR(INDEX('BASE DE DONNEES'!C:C,0+MATCH($H10,'BASE DE DONNEES'!B:B,0)),"") -> 0 | J10: =IFERROR(INDEX('BASE DE DONNEES'!D:D,0+MATCH($H10,'BASE DE DONNEES'!B:B,0)),"") -> 0
A11: 351
A12: 348
A13: 296
A14: 526
A15: 561
A16: 168
A17: 626
A18: 3210
A19: 580
A20: 3120
A21: 228
A22: 569
... A180: 3392
