Workbook
Name Année: OFFSET(Charges!$B$2,,,COUNTA(Charges!$B:$B)-1)

Sheet Ecritures
A1: DATE | B1: BENEFICIAIRE | C1: TRAVAUX | D1: ALUR | E1: MONTANT | J1: ALSIMMO - ALUR
A2: 43040 | B2: ESPACES PAYSAGERS | C2: AMENAGEMENT ESPACES VERTS | E2: 58.75 | G2: TOTAL APPELS DE FONDS ALUR | H2: =SUBTOTAL(9,Tableau1[ALUR]) -> 277.19 | J2: ALSIMMO
A3: 43136 | B3: GCE | C3: PLOMBERIE EAU CHAUDE | E3: 120.34 | G3: TOTAL TRAVAUX | H3: =SUBTOTAL(9,Tableau1[MONTANT]) -> 1322.23 | J3: =SUMIFS(Tableau1[ALUR],Tableau1[BENEFICIAIRE],J2) -> 277.19
A4: 43405 | B4: FISCHER SERRURIER | C4: CLOTURE ET BARRIERE | E4: 163.93 | G4: TOTAL GENERAL | H4: =H2+H3 -> 1599.42
A5: 43739 | B5: GRIMMA & STRIEGEL | C5: PEINTURE DES SOUS SOL | E5: 275.67
A6: 43739 | B6: ESPACES PAYSAGERS | C6: PAVAGE ALLEE | E6: 168.66 | G6: TOTAL BENEFICIAIRES | J6: TOTAL TRAVAUX
A7: 44197 | B7: ALSIMMO | D7: 139.93
A8: 44228 | B8: ESPACES PAYSAGERS | C8: AMENAGEMENT ESPACES VERTS | E8: 275.48 | G8: OTIS | H8: =SUMIFS(Tableau1[MONTANT],Tableau1[BENEFICIAIRE],G8) -> 167.36 | J8: AMENAGEMENT ESPACES VERTS | K8: =SUMIFS(Tableau1[MONTANT],Tableau1[TRAVAUX],J8) -> 334.23
A9: 44562 | B9: CESAR PROPRETE | C9: NETTOYAGE DU DALLAGE | E9: 26.71 | G9: GCE | H9: =SUMIFS(Tableau1[MONTANT],Tableau1[BENEFICIAIRE],G9) -> 120.34 | J9: CLOTURE ET BARRIERE | K9: =SUMIFS(Tableau1[MONTANT],Tableau1[TRAVAUX],J9) -> 163.93
A10: 44562 | B10: FISCHER SERRURIER | C10: SECURISATION PORTE ACCES | E10: 65.33 | G10: FISCHER SERRURIER | H10: =SUMIFS(Tableau1[MONTANT],Tableau1[BENEFICIAIRE],G10) -> 229.26 | J10: NETTOYAGE DU DALLAGE | K10: =SUMIFS(Tableau1[MONTANT],Tableau1[TRAVAUX],J10) -> 26.71
A11: 44562 | B11: OTIS | C11: CONTACT CLEF ASCENSEUR | E11: 31.41 | G11: ESPACES PAYSAGERS | H11: =SUMIFS(Tableau1[MONTANT],Tableau1[BENEFICIAIRE],G11) -> 502.89 | J11: CONTACT CLEF ASCENSEUR | K11: =SUMIFS(Tableau1[MONTANT],Tableau1[TRAVAUX],J11) -> 31.41
A12: 44562 | B12: ALSIMMO | D12: 137.26 | G12: ALSIMMO | H12: =SUMIFS(Tableau1[MONTANT],Tableau1[BENEFICIAIRE],G12) -> 0 | J12: PEINTURE DES SOUS SOL | K12: =SUMIFS(Tableau1[MONTANT],Tableau1[TRAVAUX],J12) -> 275.67
A13: 44901 | B13: OTIS | C13: INSTALLATION EVIEW | E13: 135.95 | G13: CESAR PROPRETE | H13: =SUMIFS(Tableau1[MONTANT],Tableau1[BENEFICIAIRE],G13) -> 26.71 | J13: PLOMBERIE EAU CHAUDE | K13: =SUMIFS(Tableau1[MONTANT],Tableau1[TRAVAUX],J13) -> 120.34
J14: PAVAGE ALLEE | K14: =SUMIFS(Tableau1[MONTANT],Tableau1[TRAVAUX],J14) -> 168.66
J15: SECURISATION PORTE ACCES | K15: =SUMIFS(Tableau1[MONTANT],Tableau1[TRAVAUX],J15) -> 65.33
J16: CLOTURE ET BARRIERE | K16: =SUMIFS(Tableau1[MONTANT],Tableau1[TRAVAUX],J16) -> 163.93
J17: INSTALLATION EVIEW | K17: =SUMIFS(Tableau1[MONTANT],Tableau1[TRAVAUX],J17) -> 135.95

Sheet Charges
A1: APPEL DE FONDS | B1: PERIODE | C1: MONTANT | D1: DATE TRIEE | E1: SOMME ANNEE | F1: ALLUR
A2: APPELS DE FONDS | B2: 2014/2015 | C2: 563.49 | D2: =IFERROR(INDEX(Année,MATCH(0,INDEX(COUNTIF($D$1:$D1,Année),),0)),) -> 2014/2015 | E2: =IF(COUNTIF(D2:D38,"*")=0,"",SUMIFS(Charges!$C$2:$C$38,Charges!$B$2:$B$38,"*"&D2)) -> 2253.96 | H2: TOTAL CHARGES | I2: =SUM(Tableau4[SOMME ANNEE]) -> 21073.51
B3: 2014/2015 | C3: 563.49 | D3: =IFERROR(INDEX(Année,MATCH(0,INDEX(COUNTIF($D$1:$D2,Année),),0)),) -> 2015/2016 | E3: =IF(COUNTIF(D3:D39,"*")=0,"",SUMIFS(Charges!$C$2:$C$38,Charges!$B$2:$B$38,"*"&D3)) -> 2202.85
B4: 2014/2015 | C4: 563.49 | D4: =IFERROR(INDEX(Année,MATCH(0,INDEX(COUNTIF($D$1:$D3,Année),),0)),) -> 2016/2017 | E4: =IF(COUNTIF(D4:D40,"*")=0,"",SUMIFS(Charges!$C$2:$C$38,Charges!$B$2:$B$38,"*"&D4)) -> 2135.64
B5: 2014/2015 | C5: 563.49 | D5: =IFERROR(INDEX(Année,MATCH(0,INDEX(COUNTIF($D$1:$D4,Année),),0)),) -> 2017/2018 | E5: =IF(COUNTIF(D5:D41,"*")=0,"",SUMIFS(Charges!$C$2:$C$38,Charges!$B$2:$B$38,"*"&D5)) -> 2255.19 | H5: TOTAL ALLUR | I5: =SUM(Tableau4[ALLUR]) -> 277.19
B6: 2015/2016 | C6: 552.58 | D6: =IFERROR(INDEX(Année,MATCH(0,INDEX(COUNTIF($D$1:$D5,Année),),0)),) -> 2018/2019 | E6: =IF(COUNTIF(D6:D42,"*")=0,"",SUMIFS(Charges!$C$2:$C$38,Charges!$B$2:$B$38,"*"&D6)) -> 2325.53
B7: 2015/2016 | C7: 550.09 | D7: =IFERROR(INDEX(Année,MATCH(0,INDEX(COUNTIF($D$1:$D6,Année),),0)),) -> 2019/2020 | E7: =IF(COUNTIF(D7:D43,"*")=0,"",SUMIFS(Charges!$C$2:$C$38,Charges!$B$2:$B$38,"*"&D7)) -> 2428.62
B8: 2015/2016 | C8: 550.09 | D8: =IFERROR(INDEX(Année,MATCH(0,INDEX(COUNTIF($D$1:$D7,Année),),0)),) -> 2020/2021 | E8: =IF(COUNTIF(D8:D44,"*")=0,"",SUMIFS(Charges!$C$2:$C$38,Charges!$B$2:$B$38,"*"&D8)) -> 2417.32 | H8: TOTAL GENERAL | I8: =(SUM(I2+I5+Ecritures!H3)) -> 22672.93
B9: 2015/2016 | C9: 550.09 | D9: =IFERROR(INDEX(Année,MATCH(0,INDEX(COUNTIF($D$1:$D8,Année),),0)),) -> 2021/2022 | E9: =IF(COUNTIF(D9:D45,"*")=0,"",SUMIFS(Charges!$C$2:$C$38,Charges!$B$2:$B$38,"*"&D9)) -> 2505.62
B10: 2016/2017 | C10: 550.09 | D10: =IFERROR(INDEX(Année,MATCH(0,INDEX(COUNTIF($D$1:$D9,Année),),0)),) -> 2022/2023 | E10: =IF(COUNTIF(D10:D46,"*")=0,"",SUMIFS(Charges!$C$2:$C$38,Charges!$B$2:$B$38,"*"&D10)) -> 2548.78
B11: 2016/2017 | C11: 535.93 | D11: =IFERROR(INDEX(Année,MATCH(0,INDEX(COUNTIF($D$1:$D10,Année),),0)),) -> 0 | E11: =IF(COUNTIF(D11:D47,"*")=0,"",SUMIFS(Charges!$C$2:$C$38,Charges!$B$2:$B$38,"*"&D11))
B12: 2016/2017 | C12: 524.81 | D12: =IFERROR(INDEX(Année,MATCH(0,INDEX(COUNTIF($D$1:$D11,Année),),0)),) -> 0 | E12: =IF(COUNTIF(D12:D48,"*")=0,"",SUMIFS(Charges!$C$2:$C$38,Charges!$B$2:$B$38,"*"&D12))
B13: 2016/2017 | C13: 524.81 | D13: =IFERROR(INDEX(Année,MATCH(0,INDEX(COUNTIF($D$1:$D12,Année),),0)),) -> 0 | E13: =IF(COUNTIF(D13:D49,"*")=0,"",SUMIFS(Charges!$C$2:$C$38,Charges!$B$2:$B$38,"*"&D13))
B14: 2017/2018 | C14: 524.81 | D14: =IFERROR(INDEX(Année,MATCH(0,INDEX(COUNTIF($D$1:$D13,Année),),0)),) -> 0 | E14: =IF(COUNTIF(D14:D50,"*")=0,"",SUMIFS(Charges!$C$2:$C$38,Charges!$B$2:$B$38,"*"&D14))
B15: 2017/2018 | C15: 578.1 | D15: =IFERROR(INDEX(Année,MATCH(0,INDEX(COUNTIF($D$1:$D14,Année),),0)),) -> 0 | E15: =IF(COUNTIF(D15:D51,"*")=0,"",SUMIFS(Charges!$C$2:$C$38,Charges!$B$2:$B$38,"*"&D15))
B16: 2017/2018 | C16: 576.14 | D16: =IFERROR(INDEX(Année,MATCH(0,INDEX(COUNTIF($D$1:$D15,Année),),0)),) -> 0 | E16: =IF(COUNTIF(D16:D52,"*")=0,"",SUMIFS(Charges!$C$2:$C$38,Charges!$B$2:$B$38,"*"&D16))
B17: 2017/2018 | C17: 576.14 | D17: =IFERROR(INDEX(Année,MATCH(0,INDEX(COUNTIF($D$1:$D16,Année),),0)),) -> 0 | E17: =IF(COUNTIF(D17:D53,"*")=0,"",SUMIFS(Charges!$C$2:$C$38,Charges!$B$2:$B$38,"*"&D17))
B18: 2018/2019 | C18: 576.14 | D18: =IFERROR(INDEX(Année,MATCH(0,INDEX(COUNTIF($D$1:$D17,Année),),0)),) -> 0 | E18: =IF(COUNTIF(D18:D54,"*")=0,"",SUMIFS(Charges!$C$2:$C$38,Charges!$B$2:$B$38,"*"&D18))
B19: 2018/2019 | C19: 583.13 | D19: =IFERROR(INDEX(Année,MATCH(0,INDEX(COUNTIF($D$1:$D18,Année),),0)),) -> 0 | E19: =IF(COUNTIF(D19:D55,"*")=0,"",SUMIFS(Charges!$C$2:$C$38,Charges!$B$2:$B$38,"*"&D19))
B20: 2018/2019 | C20: 583.13 | D20: =IFERROR(INDEX(Année,MATCH(0,INDEX(COUNTIF($D$1:$D19,Année),),0)),) -> 0 | E20: =IF(COUNTIF(D20:D56,"*")=0,"",SUMIFS(Charges!$C$2:$C$38,Charges!$B$2:$B$38,"*"&D20))
... B29: 2020/2021 | C29: 594.83 | D29: =IFERROR(INDEX(Année,MATCH(0,INDEX(COUNTIF($D$1:$D28,Année),),0)),) -> 0 | E29: =IF(COUNTIF(D29:D65,"*")=0,"",SUMIFS(Charges!$C$2:$C$38,Charges!$B$2:$B$38,"*"&D29))
B30: 2021/2022 | C30: 594.83 | D30: =IFERROR(INDEX(Année,MATCH(0,INDEX(COUNTIF($D$1:$D29,Année),),0)),) -> 0 | E30: =IF(COUNTIF(D30:D66,"*")=0,"",SUMIFS(Charges!$C$2:$C$38,Charges!$B$2:$B$38,"*"&D30)) | F30: 139.93
B31: 2021/2022 | C31: 636.93 | D31: =IFERROR(INDEX(Année,MATCH(0,INDEX(COUNTIF($D$1:$D30,Année),),0)),) -> 0 | E31: =IF(COUNTIF(D31:D67,"*")=0,"",SUMIFS(Charges!$C$2:$C$38,Charges!$B$2:$B$38,"*"&D31))
B32: 2021/2022 | C32: 636.93 | D32: =IFERROR(INDEX(Année,MATCH(0,INDEX(COUNTIF($D$1:$D31,Année),),0)),) -> 0 | E32: =IF(COUNTIF(D32:D68,"*")=0,"",SUMIFS(Charges!$C$2:$C$38,Charges!$B$2:$B$38,"*"&D32))
B33: 2021/2022 | C33: 636.93 | D33: =IFERROR(INDEX(Année,MATCH(0,INDEX(COUNTIF($D$1:$D32,Année),),0)),) -> 0 | E33: =IF(COUNTIF(D33:D69,"*")=0,"",SUMIFS(Charges!$C$2:$C$38,Charges!$B$2:$B$38,"*"&D33))
B34: 2022/2023 | C34: 636.93 | D34: =IFERROR(INDEX(Année,MATCH(0,INDEX(COUNTIF($D$1:$D33,Année),),0)),) -> 0 | E34: =IF(COUNTIF(D34:D70,"*")=0,"",SUMIFS(Charges!$C$2:$C$38,Charges!$B$2:$B$38,"*"&D34)) | F34: 137.26
B35: 2022/2023 | C35: 610.81 | D35: =IFERROR(INDEX(Année,MATCH(0,INDEX(COUNTIF($D$1:$D34,Année),),0)),) -> 0 | E35: =IF(COUNTIF(D35:D71,"*")=0,"",SUMIFS(Charges!$C$2:$C$38,Charges!$B$2:$B$38,"*"&D35))
B36: 2022/2023 | C36: 610.81 | D36: =IFERROR(INDEX(Année,MATCH(0,INDEX(COUNTIF($D$1:$D35,Année),),0)),) -> 0 | E36: =IF(COUNTIF(D36:D72,"*")=0,"",SUMIFS(Charges!$C$2:$C$38,Charges!$B$2:$B$38,"*"&D36))
B37: 2022/2023 | C37: 690.23 | D37: =IFERROR(INDEX(Année,MATCH(0,INDEX(COUNTIF($D$1:$D36,Année),),0)),) -> 0 | E37: =IF(COUNTIF(D37:D73,"*")=0,"",SUMIFS(Charges!$C$2:$C$38,Charges!$B$2:$B$38,"*"&D37))
D38: =IFERROR(INDEX(Année,MATCH(0,INDEX(COUNTIF($D$1:$D37,Année),),0)),) -> 0 | E38: =IF(COUNTIF(D38:D74,"*")=0,"",SUMIFS(Charges!$C$2:$C$38,Charges!$B$2:$B$38,"*"&D38))

Sheet Données
A1: NATURES DES TRAVAUS | C1: PRESTATAIRES
A2: AMENAGEMENT ESPACES VERTS | C2: ALSIMMO
A3: CLOTURE ET BARRIERE | C3: FISCHER SERRURIER
A4: CONTACT CLEF ASCENSEUR | C4: GCE
A5: NETTOYAGE DU DALLAGE | C5: OTIS
A6: PAVAGE ALLEE | C6: DEPANNAGE DAVID
A7: PEINTURE DES SOUS SOL | C7: GRIMMA & STRIEGEL
A8: PLOMBERIE EAU CHAUDE | C8: ESPACES PAYSAGERS
A9: SECURISATION PORTE ACCES | C9: CESAR PROPRETE
A10: INSTALLATION EVIEW | C10: SERRURERIE VOGT
