Workbook

Sheet Planning
B4: Date | C4: Clients - Tâches | D4: Opérateurs | E4: Opérateur N° 2 | F4: Conca | G4: Opérateur N°3
B5: 44844 | C5: Client M | D5: Fabien | E5: Mathieu | F5: =CONCATENATE(D5," / ",E5) -> Fabien / Mathieu
B6: 44844 | C6: Client S | D6: François | E6: Bob | F6: =CONCATENATE(D6," / ",E6) -> François / Bob
B7: 44845 | C7: Client V | D7: Kludo | E7: Sam | F7: =CONCATENATE(D7," / ",E7) -> Kludo / Sam
B8: 44845 | C8: ATELIER | D8: Chantal | F8: =CONCATENATE(D8," / ",E8) -> Chantal /
B9: 44845 | C9: Prospect° | D9: David | E9: Fabien | F9: =CONCATENATE(D9," / ",E9) -> David / Fabien
B10: 44846 | C10: Client A | D10: Michel | E10: Sam | F10: =CONCATENATE(D10," / ",E10) -> Michel / Sam
B11: 44847 | C11: Client B | D11: Bob | E11: Sab | F11: =CONCATENATE(D11," / ",E11) -> Bob / Sab
F12: =CONCATENATE(D12," / ",E12) -> /
F13: =CONCATENATE(D13," / ",E13) -> /
F14: =CONCATENATE(D14," / ",E14) -> /

Sheet Vue Mensuelle
C2: 2022 | D2: =UPPER(CHOOSE(E2,"Janvier","Février","Mars","Avril","Mai","Juin","Juillet","Août","Septembre","Octobre","Novembre","Décembre")) -> OCTOBRE | E2: 10
C4: VUE MENSUELLE
C5: LUNDI | D5: MARDI | E5: MERCREDI | F5: JEUDI | G5: VENDREDI | H5: SAMEDI | I5: DIMANCHE
B6: =1+INT(MIN(MOD(C6-DATE(YEAR(C6)+{-1;0;1},1,5)+WEEKDAY(DATE(YEAR(C6)+{-1;0;1},1,3)),734))/7) -> 39 | C6: =DATE(C2,E2,1)-WEEKDAY(DATE(C2,E2,1),2)+1 -> 44830 | D6: =C6+1 -> 44831 | E6: =D6+1 -> 44832 | F6: =E6+1 -> 44833 | G6: =F6+1 -> 44834 | H6: =G6+1 -> 44835 | I6: =H6+1 -> 44836
B7: SEMAINE | C7: =IFERROR(VLOOKUP(C6,JF_P[],2,0),"") | D7: =IFERROR(VLOOKUP(D6,JF_P[],2,0),"") | E7: =IFERROR(VLOOKUP(E6,JF_P[],2,0),"") | F7: =IFERROR(VLOOKUP(F6,JF_P[],2,0),"") | G7: =IFERROR(VLOOKUP(G6,JF_P[],2,0),"") | H7: =IFERROR(VLOOKUP(H6,JF_P[],2,0),"") | I7: =IFERROR(VLOOKUP(I6,JF_P[],2,0),"")
C8: {=IF(ROW($A1)>COUNTIF(Planning!$B$5:$B$14,C$6),"",TEXT(INDEX(Planning!$C$5:$C$14,-1+SMALL(IF(Planning!$B$5:$B$14=C$6,ROW(Planning!$B$5:$B$14)+1-ROW(Planning!$B$4),""),ROW($A1))),"[hh]:mm")&" "&INDEX(Planning!$F$5:$F$14,-1+SMALL(IF(Planning!$B$5:$B$14=C$6,ROW(Planning!$B$5:$B$14)+1-ROW(Planning!$B$4),""),ROW($A1))))} | D8: {=IF(ROW($A1)>COUNTIF(Planning!$B$5:$B$14,D$6),"",TEXT(INDEX(Planning!$C$5:$C$14,-1+SMALL(IF(Planning!$B$5:$B$14=D$6,ROW(Planning!$B$5:$B$14)+1-ROW(Planning!$B$4),""),ROW($A1))),"[hh]:mm")&" "&INDEX(Planning!$F$5:$F$14,-1+SMALL(IF(Planning!$B$5:$B$14=D$6,ROW(Planning!$B$5:$B$14)+1-ROW(Planning!$B$4),""),ROW($A1))))} | E8: {=IF(ROW($A1)>COUNTIF(Planning!$B$5:$B$14,E$6),"",TEXT(INDEX(Planning!$C$5:$C$14,-1+SMALL(IF(Planning!$B$5:$B$14=E$6,ROW(Planning!$B$5:$B$14)+1-ROW(Planning!$B$4),""),ROW($A1))),"[hh]:mm")&" "&INDEX(Planning!$F$5:$F$14,-1+SMALL(IF(Planning!$B$5:$B$14=E$6,ROW(Planning!$B$5:$B$14)+1-ROW(Planning!$B$4),""),ROW($A1))))} | F8: {=IF(ROW($A1)>COUNTIF(Planning!$B$5:$B$14,F$6),"",TEXT(INDEX(Planning!$C$5:$C$14,-1+SMALL(IF(Planning!$B$5:$B$14=F$6,ROW(Planning!$B$5:$B$14)+1-ROW(Planning!$B$4),""),ROW($A1))),"[hh]:mm")&" "&INDEX(Planning!$F$5:$F$14,-1+SMALL(IF(Planning!$B$5:$B$14=F$6,ROW(Planning!$B$5:$B$14)+1-ROW(Planning!$B$4),""),ROW($A1))))} | G8: {=IF(ROW($A1)>COUNTIF(Planning!$B$5:$B$14,G$6),"",TEXT(INDEX(Planning!$C$5:$C$14,-1+SMALL(IF(Planning!$B$5:$B$14=G$6,ROW(Planning!$B$5:$B$14)+1-ROW(Planning!$B$4),""),ROW($A1))),"[hh]:mm")&" "&INDEX(Planning!$F$5:$F$14,-1+SMALL(IF(Planning!$B$5:$B$14=G$6,ROW(Planning!$B$5:$B$14)+1-ROW(Planning!$B$4),""),ROW($A1))))} | H8: {=IF(ROW($A1)>COUNTIF(Planning!$B$5:$B$14,H$6),"",TEXT(INDEX(Planning!$C$5:$C$14,-1+SMALL(IF(Planning!$B$5:$B$14=H$6,ROW(Planning!$B$5:$B$14)+1-ROW(Planning!$B$4),""),ROW($A1))),"[hh]:mm")&" "&INDEX(Planning!$F$5:$F$14,-1+SMALL(IF(Planning!$B$5:$B$14=H$6,ROW(Planning!$B$5:$B$14)+1-ROW(Planning!$B$4),""),ROW($A1))))} | I8: {=IF(ROW($A1)>COUNTIF(Planning!$B$5:$B$14,I$6),"",TEXT(INDEX(Planning!$C$5:$C$14,-1+SMALL(IF(Planning!$B$5:$B$14=I$6,ROW(Planning!$B$5:$B$14)+1-ROW(Planning!$B$4),""),ROW($A1))),"[hh]:mm")&" "&INDEX(Planning!$F$5:$F$14,-1+SMALL(IF(Planning!$B$5:$B$14=I$6,ROW(Planning!$B$5:$B$14)+1-ROW(Planning!$B$4),""),ROW($A1))))}
C9: {=IF(ROW($A2)>COUNTIF(Planning!$B$5:$B$14,C$6),"",TEXT(INDEX(Planning!$C$5:$C$14,-1+SMALL(IF(Planning!$B$5:$B$14=C$6,ROW(Planning!$B$5:$B$14)+1-ROW(Planning!$B$4),""),ROW($A2))),"[hh]:mm")&" "&INDEX(Planning!$F$5:$F$14,-1+SMALL(IF(Planning!$B$5:$B$14=C$6,ROW(Planning!$B$5:$B$14)+1-ROW(Planning!$B$4),""),ROW($A2))))} | D9: {=IF(ROW($A2)>COUNTIF(Planning!$B$5:$B$14,D$6),"",TEXT(INDEX(Planning!$C$5:$C$14,-1+SMALL(IF(Planning!$B$5:$B$14=D$6,ROW(Planning!$B$5:$B$14)+1-ROW(Planning!$B$4),""),ROW($A2))),"[hh]:mm")&" "&INDEX(Planning!$F$5:$F$14,-1+SMALL(IF(Planning!$B$5:$B$14=D$6,ROW(Planning!$B$5:$B$14)+1-ROW(Planning!$B$4),""),ROW($A2))))} | E9: {=IF(ROW($A2)>COUNTIF(Planning!$B$5:$B$14,E$6),"",TEXT(INDEX(Planning!$C$5:$C$14,-1+SMALL(IF(Planning!$B$5:$B$14=E$6,ROW(Planning!$B$5:$B$14)+1-ROW(Planning!$B$4),""),ROW($A2))),"[hh]:mm")&" "&INDEX(Planning!$F$5:$F$14,-1+SMALL(IF(Planning!$B$5:$B$14=E$6,ROW(Planning!$B$5:$B$14)+1-ROW(Planning!$B$4),""),ROW($A2))))} | F9: {=IF(ROW($A2)>COUNTIF(Planning!$B$5:$B$14,F$6),"",TEXT(INDEX(Planning!$C$5:$C$14,-1+SMALL(IF(Planning!$B$5:$B$14=F$6,ROW(Planning!$B$5:$B$14)+1-ROW(Planning!$B$4),""),ROW($A2))),"[hh]:mm")&" "&INDEX(Planning!$F$5:$F$14,-1+SMALL(IF(Planning!$B$5:$B$14=F$6,ROW(Planning!$B$5:$B$14)+1-ROW(Planning!$B$4),""),ROW($A2))))} | G9: {=IF(ROW($A2)>COUNTIF(Planning!$B$5:$B$14,G$6),"",TEXT(INDEX(Planning!$C$5:$C$14,-1+SMALL(IF(Planning!$B$5:$B$14=G$6,ROW(Planning!$B$5:$B$14)+1-ROW(Planning!$B$4),""),ROW($A2))),"[hh]:mm")&" "&INDEX(Planning!$F$5:$F$14,-1+SMALL(IF(Planning!$B$5:$B$14=G$6,ROW(Planning!$B$5:$B$14)+1-ROW(Planning!$B$4),""),ROW($A2))))} | H9: {=IF(ROW($A2)>COUNTIF(Planning!$B$5:$B$14,H$6),"",TEXT(INDEX(Planning!$C$5:$C$14,-1+SMALL(IF(Planning!$B$5:$B$14=H$6,ROW(Planning!$B$5:$B$14)+1-ROW(Planning!$B$4),""),ROW($A2))),"[hh]:mm")&" "&INDEX(Planning!$F$5:$F$14,-1+SMALL(IF(Planning!$B$5:$B$14=H$6,ROW(Planning!$B$5:$B$14)+1-ROW(Planning!$B$4),""),ROW($A2))))} | I9: {=IF(ROW($A2)>COUNTIF(Planning!$B$5:$B$14,I$6),"",TEXT(INDEX(Planning!$C$5:$C$14,-1+SMALL(IF(Planning!$B$5:$B$14=I$6,ROW(Planning!$B$5:$B$14)+1-ROW(Planning!$B$4),""),ROW($A2))),"[hh]:mm")&" "&INDEX(Planning!$F$5:$F$14,-1+SMALL(IF(Planning!$B$5:$B$14=I$6,ROW(Planning!$B$5:$B$14)+1-ROW(Planning!$B$4),""),ROW($A2))))}
C10: {=IF(ROW($A3)>COUNTIF(Planning!$B$5:$B$14,C$6),"",TEXT(INDEX(Planning!$C$5:$C$14,-1+SMALL(IF(Planning!$B$5:$B$14=C$6,ROW(Planning!$B$5:$B$14)+1-ROW(Planning!$B$4),""),ROW($A3))),"[hh]:mm")&" "&INDEX(Planning!$F$5:$F$14,-1+SMALL(IF(Planning!$B$5:$B$14=C$6,ROW(Planning!$B$5:$B$14)+1-ROW(Planning!$B$4),""),ROW($A3))))} | D10: {=IF(ROW($A3)>COUNTIF(Planning!$B$5:$B$14,D$6),"",TEXT(INDEX(Planning!$C$5:$C$14,-1+SMALL(IF(Planning!$B$5:$B$14=D$6,ROW(Planning!$B$5:$B$14)+1-ROW(Planning!$B$4),""),ROW($A3))),"[hh]:mm")&" "&INDEX(Planning!$F$5:$F$14,-1+SMALL(IF(Planning!$B$5:$B$14=D$6,ROW(Planning!$B$5:$B$14)+1-ROW(Planning!$B$4),""),ROW($A3))))} | E10: {=IF(ROW($A3)>COUNTIF(Planning!$B$5:$B$14,E$6),"",TEXT(INDEX(Planning!$C$5:$C$14,-1+SMALL(IF(Planning!$B$5:$B$14=E$6,ROW(Planning!$B$5:$B$14)+1-ROW(Planning!$B$4),""),ROW($A3))),"[hh]:mm")&" "&INDEX(Planning!$F$5:$F$14,-1+SMALL(IF(Planning!$B$5:$B$14=E$6,ROW(Planning!$B$5:$B$14)+1-ROW(Planning!$B$4),""),ROW($A3))))} | F10: {=IF(ROW($A3)>COUNTIF(Planning!$B$5:$B$14,F$6),"",TEXT(INDEX(Planning!$C$5:$C$14,-1+SMALL(IF(Planning!$B$5:$B$14=F$6,ROW(Planning!$B$5:$B$14)+1-ROW(Planning!$B$4),""),ROW($A3))),"[hh]:mm")&" "&INDEX(Planning!$F$5:$F$14,-1+SMALL(IF(Planning!$B$5:$B$14=F$6,ROW(Planning!$B$5:$B$14)+1-ROW(Planning!$B$4),""),ROW($A3))))} | G10: {=IF(ROW($A3)>COUNTIF(Planning!$B$5:$B$14,G$6),"",TEXT(INDEX(Planning!$C$5:$C$14,-1+SMALL(IF(Planning!$B$5:$B$14=G$6,ROW(Planning!$B$5:$B$14)+1-ROW(Planning!$B$4),""),ROW($A3))),"[hh]:mm")&" "&INDEX(Planning!$F$5:$F$14,-1+SMALL(IF(Planning!$B$5:$B$14=G$6,ROW(Planning!$B$5:$B$14)+1-ROW(Planning!$B$4),""),ROW($A3))))} | H10: {=IF(ROW($A3)>COUNTIF(Planning!$B$5:$B$14,H$6),"",TEXT(INDEX(Planning!$C$5:$C$14,-1+SMALL(IF(Planning!$B$5:$B$14=H$6,ROW(Planning!$B$5:$B$14)+1-ROW(Planning!$B$4),""),ROW($A3))),"[hh]:mm")&" "&INDEX(Planning!$F$5:$F$14,-1+SMALL(IF(Planning!$B$5:$B$14=H$6,ROW(Planning!$B$5:$B$14)+1-ROW(Planning!$B$4),""),ROW($A3))))} | I10: {=IF(ROW($A3)>COUNTIF(Planning!$B$5:$B$14,I$6),"",TEXT(INDEX(Planning!$C$5:$C$14,-1+SMALL(IF(Planning!$B$5:$B$14=I$6,ROW(Planning!$B$5:$B$14)+1-ROW(Planning!$B$4),""),ROW($A3))),"[hh]:mm")&" "&INDEX(Planning!$F$5:$F$14,-1+SMALL(IF(Planning!$B$5:$B$14=I$6,ROW(Planning!$B$5:$B$14)+1-ROW(Planning!$B$4),""),ROW($A3))))}
C11: {=IF(ROW($A4)>COUNTIF(Planning!$B$5:$B$14,C$6),"",TEXT(INDEX(Planning!$C$5:$C$14,-1+SMALL(IF(Planning!$B$5:$B$14=C$6,ROW(Planning!$B$5:$B$14)+1-ROW(Planning!$B$4),""),ROW($A4))),"[hh]:mm")&" "&INDEX(Planning!$F$5:$F$14,-1+SMALL(IF(Planning!$B$5:$B$14=C$6,ROW(Planning!$B$5:$B$14)+1-ROW(Planning!$B$4),""),ROW($A4))))} | D11: {=IF(ROW($A4)>COUNTIF(Planning!$B$5:$B$14,D$6),"",TEXT(INDEX(Planning!$C$5:$C$14,-1+SMALL(IF(Planning!$B$5:$B$14=D$6,ROW(Planning!$B$5:$B$14)+1-ROW(Planning!$B$4),""),ROW($A4))),"[hh]:mm")&" "&INDEX(Planning!$F$5:$F$14,-1+SMALL(IF(Planning!$B$5:$B$14=D$6,ROW(Planning!$B$5:$B$14)+1-ROW(Planning!$B$4),""),ROW($A4))))} | E11: {=IF(ROW($A4)>COUNTIF(Planning!$B$5:$B$14,E$6),"",TEXT(INDEX(Planning!$C$5:$C$14,-1+SMALL(IF(Planning!$B$5:$B$14=E$6,ROW(Planning!$B$5:$B$14)+1-ROW(Planning!$B$4),""),ROW($A4))),"[hh]:mm")&" "&INDEX(Planning!$F$5:$F$14,-1+SMALL(IF(Planning!$B$5:$B$14=E$6,ROW(Planning!$B$5:$B$14)+1-ROW(Planning!$B$4),""),ROW($A4))))} | F11: {=IF(ROW($A4)>COUNTIF(Planning!$B$5:$B$14,F$6),"",TEXT(INDEX(Planning!$C$5:$C$14,-1+SMALL(IF(Planning!$B$5:$B$14=F$6,ROW(Planning!$B$5:$B$14)+1-ROW(Planning!$B$4),""),ROW($A4))),"[hh]:mm")&" "&INDEX(Planning!$F$5:$F$14,-1+SMALL(IF(Planning!$B$5:$B$14=F$6,ROW(Planning!$B$5:$B$14)+1-ROW(Planning!$B$4),""),ROW($A4))))} | G11: {=IF(ROW($A4)>COUNTIF(Planning!$B$5:$B$14,G$6),"",TEXT(INDEX(Planning!$C$5:$C$14,-1+SMALL(IF(Planning!$B$5:$B$14=G$6,ROW(Planning!$B$5:$B$14)+1-ROW(Planning!$B$4),""),ROW($A4))),"[hh]:mm")&" "&INDEX(Planning!$F$5:$F$14,-1+SMALL(IF(Planning!$B$5:$B$14=G$6,ROW(Planning!$B$5:$B$14)+1-ROW(Planning!$B$4),""),ROW($A4))))} | H11: {=IF(ROW($A4)>COUNTIF(Planning!$B$5:$B$14,H$6),"",TEXT(INDEX(Planning!$C$5:$C$14,-1+SMALL(IF(Planning!$B$5:$B$14=H$6,ROW(Planning!$B$5:$B$14)+1-ROW(Planning!$B$4),""),ROW($A4))),"[hh]:mm")&" "&INDEX(Planning!$F$5:$F$14,-1+SMALL(IF(Planning!$B$5:$B$14=H$6,ROW(Planning!$B$5:$B$14)+1-ROW(Planning!$B$4),""),ROW($A4))))} | I11: {=IF(ROW($A4)>COUNTIF(Planning!$B$5:$B$14,I$6),"",TEXT(INDEX(Planning!$C$5:$C$14,-1+SMALL(IF(Planning!$B$5:$B$14=I$6,ROW(Planning!$B$5:$B$14)+1-ROW(Planning!$B$4),""),ROW($A4))),"[hh]:mm")&" "&INDEX(Planning!$F$5:$F$14,-1+SMALL(IF(Planning!$B$5:$B$14=I$6,ROW(Planning!$B$5:$B$14)+1-ROW(Planning!$B$4),""),ROW($A4))))}
B12: =1+INT(MIN(MOD(C12-DATE(YEAR(C12)+{-1;0;1},1,5)+WEEKDAY(DATE(YEAR(C12)+{-1;0;1},1,3)),734))/7) -> 40 | C12: =C6+7 -> 44837 | D12: =C12+1 -> 44838 | E12: =D12+1 -> 44839 | F12: =E12+1 -> 44840 | G12: =F12+1 -> 44841 | H12: =G12+1 -> 44842 | I12: =H12+1 -> 44843
B13: SEMAINE | C13: =IFERROR(VLOOKUP(C12,JF_P[],2,0),"") | D13: =IFERROR(VLOOKUP(D12,JF_P[],2,0),"") | E13: =IFERROR(VLOOKUP(E12,JF_P[],2,0),"") | F13: =IFERROR(VLOOKUP(F12,JF_P[],2,0),"") | G13: =IFERROR(VLOOKUP(G12,JF_P[],2,0),"") | H13: =IFERROR(VLOOKUP(H12,JF_P[],2,0),"") | I13: =IFERROR(VLOOKUP(I12,JF_P[],2,0),"")
C14: {=IF(ROW($A1)>COUNTIF(Planning!$B$5:$B$14,C$12),"",TEXT(INDEX(Planning!$C$5:$C$14,-1+SMALL(IF(Planning!$B$5:$B$14=C$12,ROW(Planning!$B$5:$B$14)+1-ROW(Planning!$B$4),""),ROW($A1))),"[hh]:mm")&" "&INDEX(Planning!$F$5:$F$14,-1+SMALL(IF(Planning!$B$5:$B$14=C$12,ROW(Planning!$B$5:$B$14)+1-ROW(Planning!$B$4),""),ROW($A1))))} | D14: {=IF(ROW($A1)>COUNTIF(Planning!$B$5:$B$14,D$12),"",TEXT(INDEX(Planning!$C$5:$C$14,-1+SMALL(IF(Planning!$B$5:$B$14=D$12,ROW(Planning!$B$5:$B$14)+1-ROW(Planning!$B$4),""),ROW($A1))),"[hh]:mm")&" "&INDEX(Planning!$F$5:$F$14,-1+SMALL(IF(Planning!$B$5:$B$14=D$12,ROW(Planning!$B$5:$B$14)+1-ROW(Planning!$B$4),""),ROW($A1))))} | E14: {=IF(ROW($A1)>COUNTIF(Planning!$B$5:$B$14,E$12),"",TEXT(INDEX(Planning!$C$5:$C$14,-1+SMALL(IF(Planning!$B$5:$B$14=E$12,ROW(Planning!$B$5:$B$14)+1-ROW(Planning!$B$4),""),ROW($A1))),"[hh]:mm")&" "&INDEX(Planning!$F$5:$F$14,-1+SMALL(IF(Planning!$B$5:$B$14=E$12,ROW(Planning!$B$5:$B$14)+1-ROW(Planning!$B$4),""),ROW($A1))))} | F14: {=IF(ROW($A1)>COUNTIF(Planning!$B$5:$B$14,F$12),"",TEXT(INDEX(Planning!$C$5:$C$14,-1+SMALL(IF(Planning!$B$5:$B$14=F$12,ROW(Planning!$B$5:$B$14)+1-ROW(Planning!$B$4),""),ROW($A1))),"[hh]:mm")&" "&INDEX(Planning!$F$5:$F$14,-1+SMALL(IF(Planning!$B$5:$B$14=F$12,ROW(Planning!$B$5:$B$14)+1-ROW(Planning!$B$4),""),ROW($A1))))} | G14: {=IF(ROW($A1)>COUNTIF(Planning!$B$5:$B$14,G$12),"",TEXT(INDEX(Planning!$C$5:$C$14,-1+SMALL(IF(Planning!$B$5:$B$14=G$12,ROW(Planning!$B$5:$B$14)+1-ROW(Planning!$B$4),""),ROW($A1))),"[hh]:mm")&" "&INDEX(Planning!$F$5:$F$14,-1+SMALL(IF(Planning!$B$5:$B$14=G$12,ROW(Planning!$B$5:$B$14)+1-ROW(Planning!$B$4),""),ROW($A1))))} | H14: {=IF(ROW($A1)>COUNTIF(Planning!$B$5:$B$14,H$12),"",TEXT(INDEX(Planning!$C$5:$C$14,-1+SMALL(IF(Planning!$B$5:$B$14=H$12,ROW(Planning!$B$5:$B$14)+1-ROW(Planning!$B$4),""),ROW($A1))),"[hh]:mm")&" "&INDEX(Planning!$F$5:$F$14,-1+SMALL(IF(Planning!$B$5:$B$14=H$12,ROW(Planning!$B$5:$B$14)+1-ROW(Planning!$B$4),""),ROW($A1))))} | I14: {=IF(ROW($A1)>COUNTIF(Planning!$B$5:$B$14,I$12),"",TEXT(INDEX(Planning!$C$5:$C$14,-1+SMALL(IF(Planning!$B$5:$B$14=I$12,ROW(Planning!$B$5:$B$14)+1-ROW(Planning!$B$4),""),ROW($A1))),"[hh]:mm")&" "&INDEX(Planning!$F$5:$F$14,-1+SMALL(IF(Planning!$B$5:$B$14=I$12,ROW(Planning!$B$5:$B$14)+1-ROW(Planning!$B$4),""),ROW($A1))))}
C15: {=IF(ROW($A2)>COUNTIF(Planning!$B$5:$B$14,C$12),"",TEXT(INDEX(Planning!$C$5:$C$14,-1+SMALL(IF(Planning!$B$5:$B$14=C$12,ROW(Planning!$B$5:$B$14)+1-ROW(Planning!$B$4),""),ROW($A2))),"[hh]:mm")&" "&INDEX(Planning!$F$5:$F$14,-1+SMALL(IF(Planning!$B$5:$B$14=C$12,ROW(Planning!$B$5:$B$14)+1-ROW(Planning!$B$4),""),ROW($A2))))} | D15: {=IF(ROW($A2)>COUNTIF(Planning!$B$5:$B$14,D$12),"",TEXT(INDEX(Planning!$C$5:$C$14,-1+SMALL(IF(Planning!$B$5:$B$14=D$12,ROW(Planning!$B$5:$B$14)+1-ROW(Planning!$B$4),""),ROW($A2))),"[hh]:mm")&" "&INDEX(Planning!$F$5:$F$14,-1+SMALL(IF(Planning!$B$5:$B$14=D$12,ROW(Planning!$B$5:$B$14)+1-ROW(Planning!$B$4),""),ROW($A2))))} | E15: {=IF(ROW($A2)>COUNTIF(Planning!$B$5:$B$14,E$12),"",TEXT(INDEX(Planning!$C$5:$C$14,-1+SMALL(IF(Planning!$B$5:$B$14=E$12,ROW(Planning!$B$5:$B$14)+1-ROW(Planning!$B$4),""),ROW($A2))),"[hh]:mm")&" "&INDEX(Planning!$F$5:$F$14,-1+SMALL(IF(Planning!$B$5:$B$14=E$12,ROW(Planning!$B$5:$B$14)+1-ROW(Planning!$B$4),""),ROW($A2))))} | F15: {=IF(ROW($A2)>COUNTIF(Planning!$B$5:$B$14,F$12),"",TEXT(INDEX(Planning!$C$5:$C$14,-1+SMALL(IF(Planning!$B$5:$B$14=F$12,ROW(Planning!$B$5:$B$14)+1-ROW(Planning!$B$4),""),ROW($A2))),"[hh]:mm")&" "&INDEX(Planning!$F$5:$F$14,-1+SMALL(IF(Planning!$B$5:$B$14=F$12,ROW(Planning!$B$5:$B$14)+1-ROW(Planning!$B$4),""),ROW($A2))))} | G15: {=IF(ROW($A2)>COUNTIF(Planning!$B$5:$B$14,G$12),"",TEXT(INDEX(Planning!$C$5:$C$14,-1+SMALL(IF(Planning!$B$5:$B$14=G$12,ROW(Planning!$B$5:$B$14)+1-ROW(Planning!$B$4),""),ROW($A2))),"[hh]:mm")&" "&INDEX(Planning!$F$5:$F$14,-1+SMALL(IF(Planning!$B$5:$B$14=G$12,ROW(Planning!$B$5:$B$14)+1-ROW(Planning!$B$4),""),ROW($A2))))} | H15: {=IF(ROW($A2)>COUNTIF(Planning!$B$5:$B$14,H$12),"",TEXT(INDEX(Planning!$C$5:$C$14,-1+SMALL(IF(Planning!$B$5:$B$14=H$12,ROW(Planning!$B$5:$B$14)+1-ROW(Planning!$B$4),""),ROW($A2))),"[hh]:mm")&" "&INDEX(Planning!$F$5:$F$14,-1+SMALL(IF(Planning!$B$5:$B$14=H$12,ROW(Planning!$B$5:$B$14)+1-ROW(Planning!$B$4),""),ROW($A2))))} | I15: {=IF(ROW($A2)>COUNTIF(Planning!$B$5:$B$14,I$12),"",TEXT(INDEX(Planning!$C$5:$C$14,-1+SMALL(IF(Planning!$B$5:$B$14=I$12,ROW(Planning!$B$5:$B$14)+1-ROW(Planning!$B$4),""),ROW($A2))),"[hh]:mm")&" "&INDEX(Planning!$F$5:$F$14,-1+SMALL(IF(Planning!$B$5:$B$14=I$12,ROW(Planning!$B$5:$B$14)+1-ROW(Planning!$B$4),""),ROW($A2))))}
C16: {=IF(ROW($A3)>COUNTIF(Planning!$B$5:$B$14,C$12),"",TEXT(INDEX(Planning!$C$5:$C$14,-1+SMALL(IF(Planning!$B$5:$B$14=C$12,ROW(Planning!$B$5:$B$14)+1-ROW(Planning!$B$4),""),ROW($A3))),"[hh]:mm")&" "&INDEX(Planning!$F$5:$F$14,-1+SMALL(IF(Planning!$B$5:$B$14=C$12,ROW(Planning!$B$5:$B$14)+1-ROW(Planning!$B$4),""),ROW($A3))))} | D16: {=IF(ROW($A3)>COUNTIF(Planning!$B$5:$B$14,D$12),"",TEXT(INDEX(Planning!$C$5:$C$14,-1+SMALL(IF(Planning!$B$5:$B$14=D$12,ROW(Planning!$B$5:$B$14)+1-ROW(Planning!$B$4),""),ROW($A3))),"[hh]:mm")&" "&INDEX(Planning!$F$5:$F$14,-1+SMALL(IF(Planning!$B$5:$B$14=D$12,ROW(Planning!$B$5:$B$14)+1-ROW(Planning!$B$4),""),ROW($A3))))} | E16: {=IF(ROW($A3)>COUNTIF(Planning!$B$5:$B$14,E$12),"",TEXT(INDEX(Planning!$C$5:$C$14,-1+SMALL(IF(Planning!$B$5:$B$14=E$12,ROW(Planning!$B$5:$B$14)+1-ROW(Planning!$B$4),""),ROW($A3))),"[hh]:mm")&" "&INDEX(Planning!$F$5:$F$14,-1+SMALL(IF(Planning!$B$5:$B$14=E$12,ROW(Planning!$B$5:$B$14)+1-ROW(Planning!$B$4),""),ROW($A3))))} | F16: {=IF(ROW($A3)>COUNTIF(Planning!$B$5:$B$14,F$12),"",TEXT(INDEX(Planning!$C$5:$C$14,-1+SMALL(IF(Planning!$B$5:$B$14=F$12,ROW(Planning!$B$5:$B$14)+1-ROW(Planning!$B$4),""),ROW($A3))),"[hh]:mm")&" "&INDEX(Planning!$F$5:$F$14,-1+SMALL(IF(Planning!$B$5:$B$14=F$12,ROW(Planning!$B$5:$B$14)+1-ROW(Planning!$B$4),""),ROW($A3))))} | G16: {=IF(ROW($A3)>COUNTIF(Planning!$B$5:$B$14,G$12),"",TEXT(INDEX(Planning!$C$5:$C$14,-1+SMALL(IF(Planning!$B$5:$B$14=G$12,ROW(Planning!$B$5:$B$14)+1-ROW(Planning!$B$4),""),ROW($A3))),"[hh]:mm")&" "&INDEX(Planning!$F$5:$F$14,-1+SMALL(IF(Planning!$B$5:$B$14=G$12,ROW(Planning!$B$5:$B$14)+1-ROW(Planning!$B$4),""),ROW($A3))))} | H16: {=IF(ROW($A3)>COUNTIF(Planning!$B$5:$B$14,H$12),"",TEXT(INDEX(Planning!$C$5:$C$14,-1+SMALL(IF(Planning!$B$5:$B$14=H$12,ROW(Planning!$B$5:$B$14)+1-ROW(Planning!$B$4),""),ROW($A3))),"[hh]:mm")&" "&INDEX(Planning!$F$5:$F$14,-1+SMALL(IF(Planning!$B$5:$B$14=H$12,ROW(Planning!$B$5:$B$14)+1-ROW(Planning!$B$4),""),ROW($A3))))} | I16: {=IF(ROW($A3)>COUNTIF(Planning!$B$5:$B$14,I$12),"",TEXT(INDEX(Planning!$C$5:$C$14,-1+SMALL(IF(Planning!$B$5:$B$14=I$12,ROW(Planning!$B$5:$B$14)+1-ROW(Planning!$B$4),""),ROW($A3))),"[hh]:mm")&" "&INDEX(Planning!$F$5:$F$14,-1+SMALL(IF(Planning!$B$5:$B$14=I$12,ROW(Planning!$B$5:$B$14)+1-ROW(Planning!$B$4),""),ROW($A3))))}
C17: {=IF(ROW($A4)>COUNTIF(Planning!$B$5:$B$14,C$12),"",TEXT(INDEX(Planning!$C$5:$C$14,-1+SMALL(IF(Planning!$B$5:$B$14=C$12,ROW(Planning!$B$5:$B$14)+1-ROW(Planning!$B$4),""),ROW($A4))),"[hh]:mm")&" "&INDEX(Planning!$F$5:$F$14,-1+SMALL(IF(Planning!$B$5:$B$14=C$12,ROW(Planning!$B$5:$B$14)+1-ROW(Planning!$B$4),""),ROW($A4))))} | D17: {=IF(ROW($A4)>COUNTIF(Planning!$B$5:$B$14,D$12),"",TEXT(INDEX(Planning!$C$5:$C$14,-1+SMALL(IF(Planning!$B$5:$B$14=D$12,ROW(Planning!$B$5:$B$14)+1-ROW(Planning!$B$4),""),ROW($A4))),"[hh]:mm")&" "&INDEX(Planning!$F$5:$F$14,-1+SMALL(IF(Planning!$B$5:$B$14=D$12,ROW(Planning!$B$5:$B$14)+1-ROW(Planning!$B$4),""),ROW($A4))))} | E17: {=IF(ROW($A4)>COUNTIF(Planning!$B$5:$B$14,E$12),"",TEXT(INDEX(Planning!$C$5:$C$14,-1+SMALL(IF(Planning!$B$5:$B$14=E$12,ROW(Planning!$B$5:$B$14)+1-ROW(Planning!$B$4),""),ROW($A4))),"[hh]:mm")&" "&INDEX(Planning!$F$5:$F$14,-1+SMALL(IF(Planning!$B$5:$B$14=E$12,ROW(Planning!$B$5:$B$14)+1-ROW(Planning!$B$4),""),ROW($A4))))} | F17: {=IF(ROW($A4)>COUNTIF(Planning!$B$5:$B$14,F$12),"",TEXT(INDEX(Planning!$C$5:$C$14,-1+SMALL(IF(Planning!$B$5:$B$14=F$12,ROW(Planning!$B$5:$B$14)+1-ROW(Planning!$B$4),""),ROW($A4))),"[hh]:mm")&" "&INDEX(Planning!$F$5:$F$14,-1+SMALL(IF(Planning!$B$5:$B$14=F$12,ROW(Planning!$B$5:$B$14)+1-ROW(Planning!$B$4),""),ROW($A4))))} | G17: {=IF(ROW($A4)>COUNTIF(Planning!$B$5:$B$14,G$12),"",TEXT(INDEX(Planning!$C$5:$C$14,-1+SMALL(IF(Planning!$B$5:$B$14=G$12,ROW(Planning!$B$5:$B$14)+1-ROW(Planning!$B$4),""),ROW($A4))),"[hh]:mm")&" "&INDEX(Planning!$F$5:$F$14,-1+SMALL(IF(Planning!$B$5:$B$14=G$12,ROW(Planning!$B$5:$B$14)+1-ROW(Planning!$B$4),""),ROW($A4))))} | H17: {=IF(ROW($A4)>COUNTIF(Planning!$B$5:$B$14,H$12),"",TEXT(INDEX(Planning!$C$5:$C$14,-1+SMALL(IF(Planning!$B$5:$B$14=H$12,ROW(Planning!$B$5:$B$14)+1-ROW(Planning!$B$4),""),ROW($A4))),"[hh]:mm")&" "&INDEX(Planning!$F$5:$F$14,-1+SMALL(IF(Planning!$B$5:$B$14=H$12,ROW(Planning!$B$5:$B$14)+1-ROW(Planning!$B$4),""),ROW($A4))))} | I17: {=IF(ROW($A4)>COUNTIF(Planning!$B$5:$B$14,I$12),"",TEXT(INDEX(Planning!$C$5:$C$14,-1+SMALL(IF(Planning!$B$5:$B$14=I$12,ROW(Planning!$B$5:$B$14)+1-ROW(Planning!$B$4),""),ROW($A4))),"[hh]:mm")&" "&INDEX(Planning!$F$5:$F$14,-1+SMALL(IF(Planning!$B$5:$B$14=I$12,ROW(Planning!$B$5:$B$14)+1-ROW(Planning!$B$4),""),ROW($A4))))}
B18: =1+INT(MIN(MOD(C18-DATE(YEAR(C18)+{-1;0;1},1,5)+WEEKDAY(DATE(YEAR(C18)+{-1;0;1},1,3)),734))/7) -> 41 | C18: =C12+7 -> 44844 | D18: =C18+1 -> 44845 | E18: =D18+1 -> 44846 | F18: =E18+1 -> 44847 | G18: =F18+1 -> 44848 | H18: =G18+1 -> 44849 | I18: =H18+1 -> 44850
B19: SEMAINE | C19: =IFERROR(VLOOKUP(C18,JF_P[],2,0),"") | D19: =IFERROR(VLOOKUP(D18,JF_P[],2,0),"") | E19: =IFERROR(VLOOKUP(E18,JF_P[],2,0),"") | F19: =IFERROR(VLOOKUP(F18,JF_P[],2,0),"") | G19: =IFERROR(VLOOKUP(G18,JF_P[],2,0),"") | H19: =IFERROR(VLOOKUP(H18,JF_P[],2,0),"") | I19: =IFERROR(VLOOKUP(I18,JF_P[],2,0),"")
C20: {=IF(ROW($A1)>COUNTIF(Planning!$B$5:$B$14,C$18),"",TEXT(INDEX(Planning!$C$5:$C$14,-1+SMALL(IF(Planning!$B$5:$B$14=C$18,ROW(Planning!$B$5:$B$14)+1-ROW(Planning!$B$4),""),ROW($A1))),"[hh]:mm")&" "&INDEX(Planning!$F$5:$F$14,-1+SMALL(IF(Planning!$B$5:$B$14=C$18,ROW(Planning!$B$5:$B$14)+1-ROW(Planning!$B$4),""),ROW($A1))))} -> Client M Fabien / Mathieu | D20: {=IF(ROW($A1)>COUNTIF(Planning!$B$5:$B$14,D$18),"",TEXT(INDEX(Planning!$C$5:$C$14,-1+SMALL(IF(Planning!$B$5:$B$14=D$18,ROW(Planning!$B$5:$B$14)+1-ROW(Planning!$B$4),""),ROW($A1))),"[hh]:mm")&" "&INDEX(Planning!$F$5:$F$14,-1+SMALL(IF(Planning!$B$5:$B$14=D$18,ROW(Planning!$B$5:$B$14)+1-ROW(Planning!$B$4),""),ROW($A1))))} -> Client V Kludo / Sam | E20: {=IF(ROW($A1)>COUNTIF(Planning!$B$5:$B$14,E$18),"",TEXT(INDEX(Planning!$C$5:$C$14,-1+SMALL(IF(Planning!$B$5:$B$14=E$18,ROW(Planning!$B$5:$B$14)+1-ROW(Planning!$B$4),""),ROW($A1))),"[hh]:mm")&" "&INDEX(Planning!$F$5:$F$14,-1+SMALL(IF(Planning!$B$5:$B$14=E$18,ROW(Planning!$B$5:$B$14)+1-ROW(Planning!$B$4),""),ROW($A1))))} -> Client A Michel / Sam | F20: {=IF(ROW($A1)>COUNTIF(Planning!$B$5:$B$14,F$18),"",TEXT(INDEX(Planning!$C$5:$C$14,-1+SMALL(IF(Planning!$B$5:$B$14=F$18,ROW(Planning!$B$5:$B$14)+1-ROW(Planning!$B$4),""),ROW($A1))),"[hh]:mm")&" "&INDEX(Planning!$F$5:$F$14,-1+SMALL(IF(Planning!$B$5:$B$14=F$18,ROW(Planning!$B$5:$B$14)+1-ROW(Planning!$B$4),""),ROW($A1))))} -> Client B Bob / Sab | G20: {=IF(ROW($A1)>COUNTIF(Planning!$B$5:$B$14,G$18),"",TEXT(INDEX(Planning!$C$5:$C$14,-1+SMALL(IF(Planning!$B$5:$B$14=G$18,ROW(Planning!$B$5:$B$14)+1-ROW(Planning!$B$4),""),ROW($A1))),"[hh]:mm")&" "&INDEX(Planning!$F$5:$F$14,-1+SMALL(IF(Planning!$B$5:$B$14=G$18,ROW(Planning!$B$5:$B$14)+1-ROW(Planning!$B$4),""),ROW($A1))))} | H20: {=IF(ROW($A1)>COUNTIF(Planning!$B$5:$B$14,H$18),"",TEXT(INDEX(Planning!$C$5:$C$14,-1+SMALL(IF(Planning!$B$5:$B$14=H$18,ROW(Planning!$B$5:$B$14)+1-ROW(Planning!$B$4),""),ROW($A1))),"[hh]:mm")&" "&INDEX(Planning!$F$5:$F$14,-1+SMALL(IF(Planning!$B$5:$B$14=H$18,ROW(Planning!$B$5:$B$14)+1-ROW(Planning!$B$4),""),ROW($A1))))} | I20: {=IF(ROW($A1)>COUNTIF(Planning!$B$5:$B$14,I$18),"",TEXT(INDEX(Planning!$C$5:$C$14,-1+SMALL(IF(Planning!$B$5:$B$14=I$18,ROW(Planning!$B$5:$B$14)+1-ROW(Planning!$B$4),""),ROW($A1))),"[hh]:mm")&" "&INDEX(Planning!$F$5:$F$14,-1+SMALL(IF(Planning!$B$5:$B$14=I$18,ROW(Planning!$B$5:$B$14)+1-ROW(Planning!$B$4),""),ROW($A1))))}
C21: {=IF(ROW($A2)>COUNTIF(Planning!$B$5:$B$14,C$18),"",TEXT(INDEX(Planning!$C$5:$C$14,-1+SMALL(IF(Planning!$B$5:$B$14=C$18,ROW(Planning!$B$5:$B$14)+1-ROW(Planning!$B$4),""),ROW($A2))),"[hh]:mm")&" "&INDEX(Planning!$D$5:$D$14,-1+SMALL(IF(Planning!$B$5:$B$14=C$18,ROW(Planning!$B$5:$B$14)+1-ROW(Planning!$B$4),""),ROW($A2))))} -> Client S François | D21: {=IF(ROW($A2)>COUNTIF(Planning!$B$5:$B$14,D$18),"",TEXT(INDEX(Planning!$C$5:$C$14,-1+SMALL(IF(Planning!$B$5:$B$14=D$18,ROW(Planning!$B$5:$B$14)+1-ROW(Planning!$B$4),""),ROW($A2))),"[hh]:mm")&" "&INDEX(Planning!$D$5:$D$14,-1+SMALL(IF(Planning!$B$5:$B$14=D$18,ROW(Planning!$B$5:$B$14)+1-ROW(Planning!$B$4),""),ROW($A2))))} -> ATELIER Chantal | E21: {=IF(ROW($A2)>COUNTIF(Planning!$B$5:$B$14,E$18),"",TEXT(INDEX(Planning!$C$5:$C$14,-1+SMALL(IF(Planning!$B$5:$B$14=E$18,ROW(Planning!$B$5:$B$14)+1-ROW(Planning!$B$4),""),ROW($A2))),"[hh]:mm")&" "&INDEX(Planning!$D$5:$D$14,-1+SMALL(IF(Planning!$B$5:$B$14=E$18,ROW(Planning!$B$5:$B$14)+1-ROW(Planning!$B$4),""),ROW($A2))))} | F21: {=IF(ROW($A2)>COUNTIF(Planning!$B$5:$B$14,F$18),"",TEXT(INDEX(Planning!$C$5:$C$14,-1+SMALL(IF(Planning!$B$5:$B$14=F$18,ROW(Planning!$B$5:$B$14)+1-ROW(Planning!$B$4),""),ROW($A2))),"[hh]:mm")&" "&INDEX(Planning!$D$5:$D$14,-1+SMALL(IF(Planning!$B$5:$B$14=F$18,ROW(Planning!$B$5:$B$14)+1-ROW(Planning!$B$4),""),ROW($A2))))} | G21: {=IF(ROW($A2)>COUNTIF(Planning!$B$5:$B$14,G$18),"",TEXT(INDEX(Planning!$C$5:$C$14,-1+SMALL(IF(Planning!$B$5:$B$14=G$18,ROW(Planning!$B$5:$B$14)+1-ROW(Planning!$B$4),""),ROW($A2))),"[hh]:mm")&" "&INDEX(Planning!$D$5:$D$14,-1+SMALL(IF(Planning!$B$5:$B$14=G$18,ROW(Planning!$B$5:$B$14)+1-ROW(Planning!$B$4),""),ROW($A2))))} | H21: {=IF(ROW($A2)>COUNTIF(Planning!$B$5:$B$14,H$18),"",TEXT(INDEX(Planning!$C$5:$C$14,-1+SMALL(IF(Planning!$B$5:$B$14=H$18,ROW(Planning!$B$5:$B$14)+1-ROW(Planning!$B$4),""),ROW($A2))),"[hh]:mm")&" "&INDEX(Planning!$D$5:$D$14,-1+SMALL(IF(Planning!$B$5:$B$14=H$18,ROW(Planning!$B$5:$B$14)+1-ROW(Planning!$B$4),""),ROW($A2))))} | I21: {=IF(ROW($A2)>COUNTIF(Planning!$B$5:$B$14,I$18),"",TEXT(INDEX(Planning!$C$5:$C$14,-1+SMALL(IF(Planning!$B$5:$B$14=I$18,ROW(Planning!$B$5:$B$14)+1-ROW(Planning!$B$4),""),ROW($A2))),"[hh]:mm")&" "&INDEX(Planning!$D$5:$D$14,-1+SMALL(IF(Planning!$B$5:$B$14=I$18,ROW(Planning!$B$5:$B$14)+1-ROW(Planning!$B$4),""),ROW($A2))))}
C22: {=IF(ROW($A3)>COUNTIF(Planning!$B$5:$B$14,C$18),"",TEXT(INDEX(Planning!$C$5:$C$14,-1+SMALL(IF(Planning!$B$5:$B$14=C$18,ROW(Planning!$B$5:$B$14)+1-ROW(Planning!$B$4),""),ROW($A3))),"[hh]:mm")&" "&INDEX(Planning!$D$5:$D$14,-1+SMALL(IF(Planning!$B$5:$B$14=C$18,ROW(Planning!$B$5:$B$14)+1-ROW(Planning!$B$4),""),ROW($A3))))} | D22: {=IF(ROW($A3)>COUNTIF(Planning!$B$5:$B$14,D$18),"",TEXT(INDEX(Planning!$C$5:$C$14,-1+SMALL(IF(Planning!$B$5:$B$14=D$18,ROW(Planning!$B$5:$B$14)+1-ROW(Planning!$B$4),""),ROW($A3))),"[hh]:mm")&" "&INDEX(Planning!$D$5:$D$14,-1+SMALL(IF(Planning!$B$5:$B$14=D$18,ROW(Planning!$B$5:$B$14)+1-ROW(Planning!$B$4),""),ROW($A3))))} -> Prospect° David | E22: {=IF(ROW($A3)>COUNTIF(Planning!$B$5:$B$14,E$18),"",TEXT(INDEX(Planning!$C$5:$C$14,-1+SMALL(IF(Planning!$B$5:$B$14=E$18,ROW(Planning!$B$5:$B$14)+1-ROW(Planning!$B$4),""),ROW($A3))),"[hh]:mm")&" "&INDEX(Planning!$D$5:$D$14,-1+SMALL(IF(Planning!$B$5:$B$14=E$18,ROW(Planning!$B$5:$B$14)+1-ROW(Planning!$B$4),""),ROW($A3))))} | F22: {=IF(ROW($A3)>COUNTIF(Planning!$B$5:$B$14,F$18),"",TEXT(INDEX(Planning!$C$5:$C$14,-1+SMALL(IF(Planning!$B$5:$B$14=F$18,ROW(Planning!$B$5:$B$14)+1-ROW(Planning!$B$4),""),ROW($A3))),"[hh]:mm")&" "&INDEX(Planning!$D$5:$D$14,-1+SMALL(IF(Planning!$B$5:$B$14=F$18,ROW(Planning!$B$5:$B$14)+1-ROW(Planning!$B$4),""),ROW($A3))))} | G22: {=IF(ROW($A3)>COUNTIF(Planning!$B$5:$B$14,G$18),"",TEXT(INDEX(Planning!$C$5:$C$14,-1+SMALL(IF(Planning!$B$5:$B$14=G$18,ROW(Planning!$B$5:$B$14)+1-ROW(Planning!$B$4),""),ROW($A3))),"[hh]:mm")&" "&INDEX(Planning!$D$5:$D$14,-1+SMALL(IF(Planning!$B$5:$B$14=G$18,ROW(Planning!$B$5:$B$14)+1-ROW(Planning!$B$4),""),ROW($A3))))} | H22: {=IF(ROW($A3)>COUNTIF(Planning!$B$5:$B$14,H$18),"",TEXT(INDEX(Planning!$C$5:$C$14,-1+SMALL(IF(Planning!$B$5:$B$14=H$18,ROW(Planning!$B$5:$B$14)+1-ROW(Planning!$B$4),""),ROW($A3))),"[hh]:mm")&" "&INDEX(Planning!$D$5:$D$14,-1+SMALL(IF(Planning!$B$5:$B$14=H$18,ROW(Planning!$B$5:$B$14)+1-ROW(Planning!$B$4),""),ROW($A3))))} | I22: {=IF(ROW($A3)>COUNTIF(Planning!$B$5:$B$14,I$18),"",TEXT(INDEX(Planning!$C$5:$C$14,-1+SMALL(IF(Planning!$B$5:$B$14=I$18,ROW(Planning!$B$5:$B$14)+1-ROW(Planning!$B$4),""),ROW($A3))),"[hh]:mm")&" "&INDEX(Planning!$D$5:$D$14,-1+SMALL(IF(Planning!$B$5:$B$14=I$18,ROW(Planning!$B$5:$B$14)+1-ROW(Planning!$B$4),""),ROW($A3))))}
C23: {=IF(ROW($A4)>COUNTIF(Planning!$B$5:$B$14,C$18),"",TEXT(INDEX(Planning!$C$5:$C$14,-1+SMALL(IF(Planning!$B$5:$B$14=C$18,ROW(Planning!$B$5:$B$14)+1-ROW(Planning!$B$4),""),ROW($A4))),"[hh]:mm")&" "&INDEX(Planning!$D$5:$D$14,-1+SMALL(IF(Planning!$B$5:$B$14=C$18,ROW(Planning!$B$5:$B$14)+1-ROW(Planning!$B$4),""),ROW($A4))))} | D23: {=IF(ROW($A4)>COUNTIF(Planning!$B$5:$B$14,D$18),"",TEXT(INDEX(Planning!$C$5:$C$14,-1+SMALL(IF(Planning!$B$5:$B$14=D$18,ROW(Planning!$B$5:$B$14)+1-ROW(Planning!$B$4),""),ROW($A4))),"[hh]:mm")&" "&INDEX(Planning!$D$5:$D$14,-1+SMALL(IF(Planning!$B$5:$B$14=D$18,ROW(Planning!$B$5:$B$14)+1-ROW(Planning!$B$4),""),ROW($A4))))} | E23: {=IF(ROW($A4)>COUNTIF(Planning!$B$5:$B$14,E$18),"",TEXT(INDEX(Planning!$C$5:$C$14,-1+SMALL(IF(Planning!$B$5:$B$14=E$18,ROW(Planning!$B$5:$B$14)+1-ROW(Planning!$B$4),""),ROW($A4))),"[hh]:mm")&" "&INDEX(Planning!$D$5:$D$14,-1+SMALL(IF(Planning!$B$5:$B$14=E$18,ROW(Planning!$B$5:$B$14)+1-ROW(Planning!$B$4),""),ROW($A4))))} | F23: {=IF(ROW($A4)>COUNTIF(Planning!$B$5:$B$14,F$18),"",TEXT(INDEX(Planning!$C$5:$C$14,-1+SMALL(IF(Planning!$B$5:$B$14=F$18,ROW(Planning!$B$5:$B$14)+1-ROW(Planning!$B$4),""),ROW($A4))),"[hh]:mm")&" "&INDEX(Planning!$D$5:$D$14,-1+SMALL(IF(Planning!$B$5:$B$14=F$18,ROW(Planning!$B$5:$B$14)+1-ROW(Planning!$B$4),""),ROW($A4))))} | G23: {=IF(ROW($A4)>COUNTIF(Planning!$B$5:$B$14,G$18),"",TEXT(INDEX(Planning!$C$5:$C$14,-1+SMALL(IF(Planning!$B$5:$B$14=G$18,ROW(Planning!$B$5:$B$14)+1-ROW(Planning!$B$4),""),ROW($A4))),"[hh]:mm")&" "&INDEX(Planning!$D$5:$D$14,-1+SMALL(IF(Planning!$B$5:$B$14=G$18,ROW(Planning!$B$5:$B$14)+1-ROW(Planning!$B$4),""),ROW($A4))))} | H23: {=IF(ROW($A4)>COUNTIF(Planning!$B$5:$B$14,H$18),"",TEXT(INDEX(Planning!$C$5:$C$14,-1+SMALL(IF(Planning!$B$5:$B$14=H$18,ROW(Planning!$B$5:$B$14)+1-ROW(Planning!$B$4),""),ROW($A4))),"[hh]:mm")&" "&INDEX(Planning!$D$5:$D$14,-1+SMALL(IF(Planning!$B$5:$B$14=H$18,ROW(Planning!$B$5:$B$14)+1-ROW(Planning!$B$4),""),ROW($A4))))} | I23: {=IF(ROW($A4)>COUNTIF(Planning!$B$5:$B$14,I$18),"",TEXT(INDEX(Planning!$C$5:$C$14,-1+SMALL(IF(Planning!$B$5:$B$14=I$18,ROW(Planning!$B$5:$B$14)+1-ROW(Planning!$B$4),""),ROW($A4))),"[hh]:mm")&" "&INDEX(Planning!$D$5:$D$14,-1+SMALL(IF(Planning!$B$5:$B$14=I$18,ROW(Planning!$B$5:$B$14)+1-ROW(Planning!$B$4),""),ROW($A4))))}
B24: =1+INT(MIN(MOD(C24-DATE(YEAR(C24)+{-1;0;1},1,5)+WEEKDAY(DATE(YEAR(C24)+{-1;0;1},1,3)),734))/7) -> 42 | C24: =C18+7 -> 44851 | D24: =C24+1 -> 44852 | E24: =D24+1 -> 44853 | F24: =E24+1 -> 44854 | G24: =F24+1 -> 44855 | H24: =G24+1 -> 44856 | I24: =H24+1 -> 44857
B25: SEMAINE | C25: =IFERROR(VLOOKUP(C24,JF_P[],2,0),"") | D25: =IFERROR(VLOOKUP(D24,JF_P[],2,0),"") | E25: =IFERROR(VLOOKUP(E24,JF_P[],2,0),"") | F25: =IFERROR(VLOOKUP(F24,JF_P[],2,0),"") | G25: =IFERROR(VLOOKUP(G24,JF_P[],2,0),"") | H25: =IFERROR(VLOOKUP(H24,JF_P[],2,0),"") | I25: =IFERROR(VLOOKUP(I24,JF_P[],2,0),"")
C26: {=IF(ROW($A1)>COUNTIF(Planning!$B$5:$B$14,C$24),"",TEXT(INDEX(Planning!$C$5:$C$14,-1+SMALL(IF(Planning!$B$5:$B$14=C$24,ROW(Planning!$B$5:$B$14)+1-ROW(Planning!$B$4),""),ROW($A1))),"[hh]:mm")&" "&INDEX(Planning!$F$5:$F$14,-1+SMALL(IF(Planning!$B$5:$B$14=C$24,ROW(Planning!$B$5:$B$14)+1-ROW(Planning!$B$4),""),ROW($A1))))} | D26: {=IF(ROW($A1)>COUNTIF(Planning!$B$5:$B$14,D$24),"",TEXT(INDEX(Planning!$C$5:$C$14,-1+SMALL(IF(Planning!$B$5:$B$14=D$24,ROW(Planning!$B$5:$B$14)+1-ROW(Planning!$B$4),""),ROW($A1))),"[hh]:mm")&" "&INDEX(Planning!$F$5:$F$14,-1+SMALL(IF(Planning!$B$5:$B$14=D$24,ROW(Planning!$B$5:$B$14)+1-ROW(Planning!$B$4),""),ROW($A1))))} | E26: {=IF(ROW($A1)>COUNTIF(Planning!$B$5:$B$14,E$24),"",TEXT(INDEX(Planning!$C$5:$C$14,-1+SMALL(IF(Planning!$B$5:$B$14=E$24,ROW(Planning!$B$5:$B$14)+1-ROW(Planning!$B$4),""),ROW($A1))),"[hh]:mm")&" "&INDEX(Planning!$F$5:$F$14,-1+SMALL(IF(Planning!$B$5:$B$14=E$24,ROW(Planning!$B$5:$B$14)+1-ROW(Planning!$B$4),""),ROW($A1))))} | F26: {=IF(ROW($A1)>COUNTIF(Planning!$B$5:$B$14,F$24),"",TEXT(INDEX(Planning!$C$5:$C$14,-1+SMALL(IF(Planning!$B$5:$B$14=F$24,ROW(Planning!$B$5:$B$14)+1-ROW(Planning!$B$4),""),ROW($A1))),"[hh]:mm")&" "&INDEX(Planning!$F$5:$F$14,-1+SMALL(IF(Planning!$B$5:$B$14=F$24,ROW(Planning!$B$5:$B$14)+1-ROW(Planning!$B$4),""),ROW($A1))))} | G26: {=IF(ROW($A1)>COUNTIF(Planning!$B$5:$B$14,G$24),"",TEXT(INDEX(Planning!$C$5:$C$14,-1+SMALL(IF(Planning!$B$5:$B$14=G$24,ROW(Planning!$B$5:$B$14)+1-ROW(Planning!$B$4),""),ROW($A1))),"[hh]:mm")&" "&INDEX(Planning!$F$5:$F$14,-1+SMALL(IF(Planning!$B$5:$B$14=G$24,ROW(Planning!$B$5:$B$14)+1-ROW(Planning!$B$4),""),ROW($A1))))} | H26: {=IF(ROW($A1)>COUNTIF(Planning!$B$5:$B$14,H$24),"",TEXT(INDEX(Planning!$C$5:$C$14,-1+SMALL(IF(Planning!$B$5:$B$14=H$24,ROW(Planning!$B$5:$B$14)+1-ROW(Planning!$B$4),""),ROW($A1))),"[hh]:mm")&" "&INDEX(Planning!$F$5:$F$14,-1+SMALL(IF(Planning!$B$5:$B$14=H$24,ROW(Planning!$B$5:$B$14)+1-ROW(Planning!$B$4),""),ROW($A1))))} | I26: {=IF(ROW($A1)>COUNTIF(Planning!$B$5:$B$14,I$24),"",TEXT(INDEX(Planning!$C$5:$C$14,-1+SMALL(IF(Planning!$B$5:$B$14=I$24,ROW(Planning!$B$5:$B$14)+1-ROW(Planning!$B$4),""),ROW($A1))),"[hh]:mm")&" "&INDEX(Planning!$F$5:$F$14,-1+SMALL(IF(Planning!$B$5:$B$14=I$24,ROW(Planning!$B$5:$B$14)+1-ROW(Planning!$B$4),""),ROW($A1))))}
C27: {=IF(ROW($A2)>COUNTIF(Planning!$B$5:$B$14,C$24),"",TEXT(INDEX(Planning!$C$5:$C$14,-1+SMALL(IF(Planning!$B$5:$B$14=C$24,ROW(Planning!$B$5:$B$14)+1-ROW(Planning!$B$4),""),ROW($A2))),"[hh]:mm")&" "&INDEX(Planning!$F$5:$F$14,-1+SMALL(IF(Planning!$B$5:$B$14=C$24,ROW(Planning!$B$5:$B$14)+1-ROW(Planning!$B$4),""),ROW($A2))))} | D27: {=IF(ROW($A2)>COUNTIF(Planning!$B$5:$B$14,D$24),"",TEXT(INDEX(Planning!$C$5:$C$14,-1+SMALL(IF(Planning!$B$5:$B$14=D$24,ROW(Planning!$B$5:$B$14)+1-ROW(Planning!$B$4),""),ROW($A2))),"[hh]:mm")&" "&INDEX(Planning!$F$5:$F$14,-1+SMALL(IF(Planning!$B$5:$B$14=D$24,ROW(Planning!$B$5:$B$14)+1-ROW(Planning!$B$4),""),ROW($A2))))} | E27: {=IF(ROW($A2)>COUNTIF(Planning!$B$5:$B$14,E$24),"",TEXT(INDEX(Planning!$C$5:$C$14,-1+SMALL(IF(Planning!$B$5:$B$14=E$24,ROW(Planning!$B$5:$B$14)+1-ROW(Planning!$B$4),""),ROW($A2))),"[hh]:mm")&" "&INDEX(Planning!$F$5:$F$14,-1+SMALL(IF(Planning!$B$5:$B$14=E$24,ROW(Planning!$B$5:$B$14)+1-ROW(Planning!$B$4),""),ROW($A2))))} | F27: {=IF(ROW($A2)>COUNTIF(Planning!$B$5:$B$14,F$24),"",TEXT(INDEX(Planning!$C$5:$C$14,-1+SMALL(IF(Planning!$B$5:$B$14=F$24,ROW(Planning!$B$5:$B$14)+1-ROW(Planning!$B$4),""),ROW($A2))),"[hh]:mm")&" "&INDEX(Planning!$F$5:$F$14,-1+SMALL(IF(Planning!$B$5:$B$14=F$24,ROW(Planning!$B$5:$B$14)+1-ROW(Planning!$B$4),""),ROW($A2))))} | G27: {=IF(ROW($A2)>COUNTIF(Planning!$B$5:$B$14,G$24),"",TEXT(INDEX(Planning!$C$5:$C$14,-1+SMALL(IF(Planning!$B$5:$B$14=G$24,ROW(Planning!$B$5:$B$14)+1-ROW(Planning!$B$4),""),ROW($A2))),"[hh]:mm")&" "&INDEX(Planning!$F$5:$F$14,-1+SMALL(IF(Planning!$B$5:$B$14=G$24,ROW(Planning!$B$5:$B$14)+1-ROW(Planning!$B$4),""),ROW($A2))))} | H27: {=IF(ROW($A2)>COUNTIF(Planning!$B$5:$B$14,H$24),"",TEXT(INDEX(Planning!$C$5:$C$14,-1+SMALL(IF(Planning!$B$5:$B$14=H$24,ROW(Planning!$B$5:$B$14)+1-ROW(Planning!$B$4),""),ROW($A2))),"[hh]:mm")&" "&INDEX(Planning!$F$5:$F$14,-1+SMALL(IF(Planning!$B$5:$B$14=H$24,ROW(Planning!$B$5:$B$14)+1-ROW(Planning!$B$4),""),ROW($A2))))} | I27: {=IF(ROW($A2)>COUNTIF(Planning!$B$5:$B$14,I$24),"",TEXT(INDEX(Planning!$C$5:$C$14,-1+SMALL(IF(Planning!$B$5:$B$14=I$24,ROW(Planning!$B$5:$B$14)+1-ROW(Planning!$B$4),""),ROW($A2))),"[hh]:mm")&" "&INDEX(Planning!$F$5:$F$14,-1+SMALL(IF(Planning!$B$5:$B$14=I$24,ROW(Planning!$B$5:$B$14)+1-ROW(Planning!$B$4),""),ROW($A2))))}
C28: {=IF(ROW($A3)>COUNTIF(Planning!$B$5:$B$14,C$24),"",TEXT(INDEX(Planning!$C$5:$C$14,-1+SMALL(IF(Planning!$B$5:$B$14=C$24,ROW(Planning!$B$5:$B$14)+1-ROW(Planning!$B$4),""),ROW($A3))),"[hh]:mm")&" "&INDEX(Planning!$F$5:$F$14,-1+SMALL(IF(Planning!$B$5:$B$14=C$24,ROW(Planning!$B$5:$B$14)+1-ROW(Planning!$B$4),""),ROW($A3))))} | D28: {=IF(ROW($A3)>COUNTIF(Planning!$B$5:$B$14,D$24),"",TEXT(INDEX(Planning!$C$5:$C$14,-1+SMALL(IF(Planning!$B$5:$B$14=D$24,ROW(Planning!$B$5:$B$14)+1-ROW(Planning!$B$4),""),ROW($A3))),"[hh]:mm")&" "&INDEX(Planning!$F$5:$F$14,-1+SMALL(IF(Planning!$B$5:$B$14=D$24,ROW(Planning!$B$5:$B$14)+1-ROW(Planning!$B$4),""),ROW($A3))))} | E28: {=IF(ROW($A3)>COUNTIF(Planning!$B$5:$B$14,E$24),"",TEXT(INDEX(Planning!$C$5:$C$14,-1+SMALL(IF(Planning!$B$5:$B$14=E$24,ROW(Planning!$B$5:$B$14)+1-ROW(Planning!$B$4),""),ROW($A3))),"[hh]:mm")&" "&INDEX(Planning!$F$5:$F$14,-1+SMALL(IF(Planning!$B$5:$B$14=E$24,ROW(Planning!$B$5:$B$14)+1-ROW(Planning!$B$4),""),ROW($A3))))} | F28: {=IF(ROW($A3)>COUNTIF(Planning!$B$5:$B$14,F$24),"",TEXT(INDEX(Planning!$C$5:$C$14,-1+SMALL(IF(Planning!$B$5:$B$14=F$24,ROW(Planning!$B$5:$B$14)+1-ROW(Planning!$B$4),""),ROW($A3))),"[hh]:mm")&" "&INDEX(Planning!$F$5:$F$14,-1+SMALL(IF(Planning!$B$5:$B$14=F$24,ROW(Planning!$B$5:$B$14)+1-ROW(Planning!$B$4),""),ROW($A3))))} | G28: {=IF(ROW($A3)>COUNTIF(Planning!$B$5:$B$14,G$24),"",TEXT(INDEX(Planning!$C$5:$C$14,-1+SMALL(IF(Planning!$B$5:$B$14=G$24,ROW(Planning!$B$5:$B$14)+1-ROW(Planning!$B$4),""),ROW($A3))),"[hh]:mm")&" "&INDEX(Planning!$F$5:$F$14,-1+SMALL(IF(Planning!$B$5:$B$14=G$24,ROW(Planning!$B$5:$B$14)+1-ROW(Planning!$B$4),""),ROW($A3))))} | H28: {=IF(ROW($A3)>COUNTIF(Planning!$B$5:$B$14,H$24),"",TEXT(INDEX(Planning!$C$5:$C$14,-1+SMALL(IF(Planning!$B$5:$B$14=H$24,ROW(Planning!$B$5:$B$14)+1-ROW(Planning!$B$4),""),ROW($A3))),"[hh]:mm")&" "&INDEX(Planning!$F$5:$F$14,-1+SMALL(IF(Planning!$B$5:$B$14=H$24,ROW(Planning!$B$5:$B$14)+1-ROW(Planning!$B$4),""),ROW($A3))))} | I28: {=IF(ROW($A3)>COUNTIF(Planning!$B$5:$B$14,I$24),"",TEXT(INDEX(Planning!$C$5:$C$14,-1+SMALL(IF(Planning!$B$5:$B$14=I$24,ROW(Planning!$B$5:$B$14)+1-ROW(Planning!$B$4),""),ROW($A3))),"[hh]:mm")&" "&INDEX(Planning!$F$5:$F$14,-1+SMALL(IF(Planning!$B$5:$B$14=I$24,ROW(Planning!$B$5:$B$14)+1-ROW(Planning!$B$4),""),ROW($A3))))}
C29: {=IF(ROW($A4)>COUNTIF(Planning!$B$5:$B$14,C$24),"",TEXT(INDEX(Planning!$C$5:$C$14,-1+SMALL(IF(Planning!$B$5:$B$14=C$24,ROW(Planning!$B$5:$B$14)+1-ROW(Planning!$B$4),""),ROW($A4))),"[hh]:mm")&" "&INDEX(Planning!$F$5:$F$14,-1+SMALL(IF(Planning!$B$5:$B$14=C$24,ROW(Planning!$B$5:$B$14)+1-ROW(Planning!$B$4),""),ROW($A4))))} | D29: {=IF(ROW($A4)>COUNTIF(Planning!$B$5:$B$14,D$24),"",TEXT(INDEX(Planning!$C$5:$C$14,-1+SMALL(IF(Planning!$B$5:$B$14=D$24,ROW(Planning!$B$5:$B$14)+1-ROW(Planning!$B$4),""),ROW($A4))),"[hh]:mm")&" "&INDEX(Planning!$F$5:$F$14,-1+SMALL(IF(Planning!$B$5:$B$14=D$24,ROW(Planning!$B$5:$B$14)+1-ROW(Planning!$B$4),""),ROW($A4))))} | E29: {=IF(ROW($A4)>COUNTIF(Planning!$B$5:$B$14,E$24),"",TEXT(INDEX(Planning!$C$5:$C$14,-1+SMALL(IF(Planning!$B$5:$B$14=E$24,ROW(Planning!$B$5:$B$14)+1-ROW(Planning!$B$4),""),ROW($A4))),"[hh]:mm")&" "&INDEX(Planning!$F$5:$F$14,-1+SMALL(IF(Planning!$B$5:$B$14=E$24,ROW(Planning!$B$5:$B$14)+1-ROW(Planning!$B$4),""),ROW($A4))))} | F29: {=IF(ROW($A4)>COUNTIF(Planning!$B$5:$B$14,F$24),"",TEXT(INDEX(Planning!$C$5:$C$14,-1+SMALL(IF(Planning!$B$5:$B$14=F$24,ROW(Planning!$B$5:$B$14)+1-ROW(Planning!$B$4),""),ROW($A4))),"[hh]:mm")&" "&INDEX(Planning!$F$5:$F$14,-1+SMALL(IF(Planning!$B$5:$B$14=F$24,ROW(Planning!$B$5:$B$14)+1-ROW(Planning!$B$4),""),ROW($A4))))} | G29: {=IF(ROW($A4)>COUNTIF(Planning!$B$5:$B$14,G$24),"",TEXT(INDEX(Planning!$C$5:$C$14,-1+SMALL(IF(Planning!$B$5:$B$14=G$24,ROW(Planning!$B$5:$B$14)+1-ROW(Planning!$B$4),""),ROW($A4))),"[hh]:mm")&" "&INDEX(Planning!$F$5:$F$14,-1+SMALL(IF(Planning!$B$5:$B$14=G$24,ROW(Planning!$B$5:$B$14)+1-ROW(Planning!$B$4),""),ROW($A4))))} | H29: {=IF(ROW($A4)>COUNTIF(Planning!$B$5:$B$14,H$24),"",TEXT(INDEX(Planning!$C$5:$C$14,-1+SMALL(IF(Planning!$B$5:$B$14=H$24,ROW(Planning!$B$5:$B$14)+1-ROW(Planning!$B$4),""),ROW($A4))),"[hh]:mm")&" "&INDEX(Planning!$F$5:$F$14,-1+SMALL(IF(Planning!$B$5:$B$14=H$24,ROW(Planning!$B$5:$B$14)+1-ROW(Planning!$B$4),""),ROW($A4))))} | I29: {=IF(ROW($A4)>COUNTIF(Planning!$B$5:$B$14,I$24),"",TEXT(INDEX(Planning!$C$5:$C$14,-1+SMALL(IF(Planning!$B$5:$B$14=I$24,ROW(Planning!$B$5:$B$14)+1-ROW(Planning!$B$4),""),ROW($A4))),"[hh]:mm")&" "&INDEX(Planning!$F$5:$F$14,-1+SMALL(IF(Planning!$B$5:$B$14=I$24,ROW(Planning!$B$5:$B$14)+1-ROW(Planning!$B$4),""),ROW($A4))))}
B30: =1+INT(MIN(MOD(C30-DATE(YEAR(C30)+{-1;0;1},1,5)+WEEKDAY(DATE(YEAR(C30)+{-1;0;1},1,3)),734))/7) -> 43 | C30: =C24+7 -> 44858 | D30: =C30+1 -> 44859 | E30: =D30+1 -> 44860 | F30: =E30+1 -> 44861 | G30: =F30+1 -> 44862 | H30: =G30+1 -> 44863 | I30: =H30+1 -> 44864
B31: SEMAINE | C31: =IFERROR(VLOOKUP(C30,JF_P[],2,0),"") | D31: =IFERROR(VLOOKUP(D30,JF_P[],2,0),"") | E31: =IFERROR(VLOOKUP(E30,JF_P[],2,0),"") | F31: =IFERROR(VLOOKUP(F30,JF_P[],2,0),"") | G31: =IFERROR(VLOOKUP(G30,JF_P[],2,0),"") | H31: =IFERROR(VLOOKUP(H30,JF_P[],2,0),"") | I31: =IFERROR(VLOOKUP(I30,JF_P[],2,0),"")
C32: {=IF(ROW($A1)>COUNTIF(Planning!$B$5:$B$14,C$30),"",TEXT(INDEX(Planning!$C$5:$C$14,-1+SMALL(IF(Planning!$B$5:$B$14=C$30,ROW(Planning!$B$5:$B$14)+1-ROW(Planning!$B$4),""),ROW($A1))),"[hh]:mm")&" "&INDEX(Planning!$F$5:$F$14,-1+SMALL(IF(Planning!$B$5:$B$14=C$30,ROW(Planning!$B$5:$B$14)+1-ROW(Planning!$B$4),""),ROW($A1))))} | D32: {=IF(ROW($A1)>COUNTIF(Planning!$B$5:$B$14,D$30),"",TEXT(INDEX(Planning!$C$5:$C$14,-1+SMALL(IF(Planning!$B$5:$B$14=D$30,ROW(Planning!$B$5:$B$14)+1-ROW(Planning!$B$4),""),ROW($A1))),"[hh]:mm")&" "&INDEX(Planning!$F$5:$F$14,-1+SMALL(IF(Planning!$B$5:$B$14=D$30,ROW(Planning!$B$5:$B$14)+1-ROW(Planning!$B$4),""),ROW($A1))))} | E32: {=IF(ROW($A1)>COUNTIF(Planning!$B$5:$B$14,E$30),"",TEXT(INDEX(Planning!$C$5:$C$14,-1+SMALL(IF(Planning!$B$5:$B$14=E$30,ROW(Planning!$B$5:$B$14)+1-ROW(Planning!$B$4),""),ROW($A1))),"[hh]:mm")&" "&INDEX(Planning!$F$5:$F$14,-1+SMALL(IF(Planning!$B$5:$B$14=E$30,ROW(Planning!$B$5:$B$14)+1-ROW(Planning!$B$4),""),ROW($A1))))} | F32: {=IF(ROW($A1)>COUNTIF(Planning!$B$5:$B$14,F$30),"",TEXT(INDEX(Planning!$C$5:$C$14,-1+SMALL(IF(Planning!$B$5:$B$14=F$30,ROW(Planning!$B$5:$B$14)+1-ROW(Planning!$B$4),""),ROW($A1))),"[hh]:mm")&" "&INDEX(Planning!$F$5:$F$14,-1+SMALL(IF(Planning!$B$5:$B$14=F$30,ROW(Planning!$B$5:$B$14)+1-ROW(Planning!$B$4),""),ROW($A1))))} | G32: {=IF(ROW($A1)>COUNTIF(Planning!$B$5:$B$14,G$30),"",TEXT(INDEX(Planning!$C$5:$C$14,-1+SMALL(IF(Planning!$B$5:$B$14=G$30,ROW(Planning!$B$5:$B$14)+1-ROW(Planning!$B$4),""),ROW($A1))),"[hh]:mm")&" "&INDEX(Planning!$F$5:$F$14,-1+SMALL(IF(Planning!$B$5:$B$14=G$30,ROW(Planning!$B$5:$B$14)+1-ROW(Planning!$B$4),""),ROW($A1))))} | H32: {=IF(ROW($A1)>COUNTIF(Planning!$B$5:$B$14,H$30),"",TEXT(INDEX(Planning!$C$5:$C$14,-1+SMALL(IF(Planning!$B$5:$B$14=H$30,ROW(Planning!$B$5:$B$14)+1-ROW(Planning!$B$4),""),ROW($A1))),"[hh]:mm")&" "&INDEX(Planning!$F$5:$F$14,-1+SMALL(IF(Planning!$B$5:$B$14=H$30,ROW(Planning!$B$5:$B$14)+1-ROW(Planning!$B$4),""),ROW($A1))))} | I32: {=IF(ROW($A1)>COUNTIF(Planning!$B$5:$B$14,I$30),"",TEXT(INDEX(Planning!$C$5:$C$14,-1+SMALL(IF(Planning!$B$5:$B$14=I$30,ROW(Planning!$B$5:$B$14)+1-ROW(Planning!$B$4),""),ROW($A1))),"[hh]:mm")&" "&INDEX(Planning!$F$5:$F$14,-1+SMALL(IF(Planning!$B$5:$B$14=I$30,ROW(Planning!$B$5:$B$14)+1-ROW(Planning!$B$4),""),ROW($A1))))}
C33: {=IF(ROW($A2)>COUNTIF(Planning!$B$5:$B$14,C$30),"",TEXT(INDEX(Planning!$C$5:$C$14,-1+SMALL(IF(Planning!$B$5:$B$14=C$30,ROW(Planning!$B$5:$B$14)+1-ROW(Planning!$B$4),""),ROW($A2))),"[hh]:mm")&" "&INDEX(Planning!$F$5:$F$14,-1+SMALL(IF(Planning!$B$5:$B$14=C$30,ROW(Planning!$B$5:$B$14)+1-ROW(Planning!$B$4),""),ROW($A2))))} | D33: {=IF(ROW($A2)>COUNTIF(Planning!$B$5:$B$14,D$30),"",TEXT(INDEX(Planning!$C$5:$C$14,-1+SMALL(IF(Planning!$B$5:$B$14=D$30,ROW(Planning!$B$5:$B$14)+1-ROW(Planning!$B$4),""),ROW($A2))),"[hh]:mm")&" "&INDEX(Planning!$F$5:$F$14,-1+SMALL(IF(Planning!$B$5:$B$14=D$30,ROW(Planning!$B$5:$B$14)+1-ROW(Planning!$B$4),""),ROW($A2))))} | E33: {=IF(ROW($A2)>COUNTIF(Planning!$B$5:$B$14,E$30),"",TEXT(INDEX(Planning!$C$5:$C$14,-1+SMALL(IF(Planning!$B$5:$B$14=E$30,ROW(Planning!$B$5:$B$14)+1-ROW(Planning!$B$4),""),ROW($A2))),"[hh]:mm")&" "&INDEX(Planning!$F$5:$F$14,-1+SMALL(IF(Planning!$B$5:$B$14=E$30,ROW(Planning!$B$5:$B$14)+1-ROW(Planning!$B$4),""),ROW($A2))))} | F33: {=IF(ROW($A2)>COUNTIF(Planning!$B$5:$B$14,F$30),"",TEXT(INDEX(Planning!$C$5:$C$14,-1+SMALL(IF(Planning!$B$5:$B$14=F$30,ROW(Planning!$B$5:$B$14)+1-ROW(Planning!$B$4),""),ROW($A2))),"[hh]:mm")&" "&INDEX(Planning!$F$5:$F$14,-1+SMALL(IF(Planning!$B$5:$B$14=F$30,ROW(Planning!$B$5:$B$14)+1-ROW(Planning!$B$4),""),ROW($A2))))} | G33: {=IF(ROW($A2)>COUNTIF(Planning!$B$5:$B$14,G$30),"",TEXT(INDEX(Planning!$C$5:$C$14,-1+SMALL(IF(Planning!$B$5:$B$14=G$30,ROW(Planning!$B$5:$B$14)+1-ROW(Planning!$B$4),""),ROW($A2))),"[hh]:mm")&" "&INDEX(Planning!$F$5:$F$14,-1+SMALL(IF(Planning!$B$5:$B$14=G$30,ROW(Planning!$B$5:$B$14)+1-ROW(Planning!$B$4),""),ROW($A2))))} | H33: {=IF(ROW($A2)>COUNTIF(Planning!$B$5:$B$14,H$30),"",TEXT(INDEX(Planning!$C$5:$C$14,-1+SMALL(IF(Planning!$B$5:$B$14=H$30,ROW(Planning!$B$5:$B$14)+1-ROW(Planning!$B$4),""),ROW($A2))),"[hh]:mm")&" "&INDEX(Planning!$F$5:$F$14,-1+SMALL(IF(Planning!$B$5:$B$14=H$30,ROW(Planning!$B$5:$B$14)+1-ROW(Planning!$B$4),""),ROW($A2))))} | I33: {=IF(ROW($A2)>COUNTIF(Planning!$B$5:$B$14,I$30),"",TEXT(INDEX(Planning!$C$5:$C$14,-1+SMALL(IF(Planning!$B$5:$B$14=I$30,ROW(Planning!$B$5:$B$14)+1-ROW(Planning!$B$4),""),ROW($A2))),"[hh]:mm")&" "&INDEX(Planning!$F$5:$F$14,-1+SMALL(IF(Planning!$B$5:$B$14=I$30,ROW(Planning!$B$5:$B$14)+1-ROW(Planning!$B$4),""),ROW($A2))))}
C34: {=IF(ROW($A3)>COUNTIF(Planning!$B$5:$B$14,C$30),"",TEXT(INDEX(Planning!$C$5:$C$14,-1+SMALL(IF(Planning!$B$5:$B$14=C$30,ROW(Planning!$B$5:$B$14)+1-ROW(Planning!$B$4),""),ROW($A3))),"[hh]:mm")&" "&INDEX(Planning!$F$5:$F$14,-1+SMALL(IF(Planning!$B$5:$B$14=C$30,ROW(Planning!$B$5:$B$14)+1-ROW(Planning!$B$4),""),ROW($A3))))} | D34: {=IF(ROW($A3)>COUNTIF(Planning!$B$5:$B$14,D$30),"",TEXT(INDEX(Planning!$C$5:$C$14,-1+SMALL(IF(Planning!$B$5:$B$14=D$30,ROW(Planning!$B$5:$B$14)+1-ROW(Planning!$B$4),""),ROW($A3))),"[hh]:mm")&" "&INDEX(Planning!$F$5:$F$14,-1+SMALL(IF(Planning!$B$5:$B$14=D$30,ROW(Planning!$B$5:$B$14)+1-ROW(Planning!$B$4),""),ROW($A3))))} | E34: {=IF(ROW($A3)>COUNTIF(Planning!$B$5:$B$14,E$30),"",TEXT(INDEX(Planning!$C$5:$C$14,-1+SMALL(IF(Planning!$B$5:$B$14=E$30,ROW(Planning!$B$5:$B$14)+1-ROW(Planning!$B$4),""),ROW($A3))),"[hh]:mm")&" "&INDEX(Planning!$F$5:$F$14,-1+SMALL(IF(Planning!$B$5:$B$14=E$30,ROW(Planning!$B$5:$B$14)+1-ROW(Planning!$B$4),""),ROW($A3))))} | F34: {=IF(ROW($A3)>COUNTIF(Planning!$B$5:$B$14,F$30),"",TEXT(INDEX(Planning!$C$5:$C$14,-1+SMALL(IF(Planning!$B$5:$B$14=F$30,ROW(Planning!$B$5:$B$14)+1-ROW(Planning!$B$4),""),ROW($A3))),"[hh]:mm")&" "&INDEX(Planning!$F$5:$F$14,-1+SMALL(IF(Planning!$B$5:$B$14=F$30,ROW(Planning!$B$5:$B$14)+1-ROW(Planning!$B$4),""),ROW($A3))))} | G34: {=IF(ROW($A3)>COUNTIF(Planning!$B$5:$B$14,G$30),"",TEXT(INDEX(Planning!$C$5:$C$14,-1+SMALL(IF(Planning!$B$5:$B$14=G$30,ROW(Planning!$B$5:$B$14)+1-ROW(Planning!$B$4),""),ROW($A3))),"[hh]:mm")&" "&INDEX(Planning!$F$5:$F$14,-1+SMALL(IF(Planning!$B$5:$B$14=G$30,ROW(Planning!$B$5:$B$14)+1-ROW(Planning!$B$4),""),ROW($A3))))} | H34: {=IF(ROW($A3)>COUNTIF(Planning!$B$5:$B$14,H$30),"",TEXT(INDEX(Planning!$C$5:$C$14,-1+SMALL(IF(Planning!$B$5:$B$14=H$30,ROW(Planning!$B$5:$B$14)+1-ROW(Planning!$B$4),""),ROW($A3))),"[hh]:mm")&" "&INDEX(Planning!$F$5:$F$14,-1+SMALL(IF(Planning!$B$5:$B$14=H$30,ROW(Planning!$B$5:$B$14)+1-ROW(Planning!$B$4),""),ROW($A3))))} | I34: {=IF(ROW($A3)>COUNTIF(Planning!$B$5:$B$14,I$30),"",TEXT(INDEX(Planning!$C$5:$C$14,-1+SMALL(IF(Planning!$B$5:$B$14=I$30,ROW(Planning!$B$5:$B$14)+1-ROW(Planning!$B$4),""),ROW($A3))),"[hh]:mm")&" "&INDEX(Planning!$F$5:$F$14,-1+SMALL(IF(Planning!$B$5:$B$14=I$30,ROW(Planning!$B$5:$B$14)+1-ROW(Planning!$B$4),""),ROW($A3))))}
C35: {=IF(ROW($A4)>COUNTIF(Planning!$B$5:$B$14,C$30),"",TEXT(INDEX(Planning!$C$5:$C$14,-1+SMALL(IF(Planning!$B$5:$B$14=C$30,ROW(Planning!$B$5:$B$14)+1-ROW(Planning!$B$4),""),ROW($A4))),"[hh]:mm")&" "&INDEX(Planning!$F$5:$F$14,-1+SMALL(IF(Planning!$B$5:$B$14=C$30,ROW(Planning!$B$5:$B$14)+1-ROW(Planning!$B$4),""),ROW($A4))))} | D35: {=IF(ROW($A4)>COUNTIF(Planning!$B$5:$B$14,D$30),"",TEXT(INDEX(Planning!$C$5:$C$14,-1+SMALL(IF(Planning!$B$5:$B$14=D$30,ROW(Planning!$B$5:$B$14)+1-ROW(Planning!$B$4),""),ROW($A4))),"[hh]:mm")&" "&INDEX(Planning!$F$5:$F$14,-1+SMALL(IF(Planning!$B$5:$B$14=D$30,ROW(Planning!$B$5:$B$14)+1-ROW(Planning!$B$4),""),ROW($A4))))} | E35: {=IF(ROW($A4)>COUNTIF(Planning!$B$5:$B$14,E$30),"",TEXT(INDEX(Planning!$C$5:$C$14,-1+SMALL(IF(Planning!$B$5:$B$14=E$30,ROW(Planning!$B$5:$B$14)+1-ROW(Planning!$B$4),""),ROW($A4))),"[hh]:mm")&" "&INDEX(Planning!$F$5:$F$14,-1+SMALL(IF(Planning!$B$5:$B$14=E$30,ROW(Planning!$B$5:$B$14)+1-ROW(Planning!$B$4),""),ROW($A4))))} | F35: {=IF(ROW($A4)>COUNTIF(Planning!$B$5:$B$14,F$30),"",TEXT(INDEX(Planning!$C$5:$C$14,-1+SMALL(IF(Planning!$B$5:$B$14=F$30,ROW(Planning!$B$5:$B$14)+1-ROW(Planning!$B$4),""),ROW($A4))),"[hh]:mm")&" "&INDEX(Planning!$F$5:$F$14,-1+SMALL(IF(Planning!$B$5:$B$14=F$30,ROW(Planning!$B$5:$B$14)+1-ROW(Planning!$B$4),""),ROW($A4))))} | G35: {=IF(ROW($A4)>COUNTIF(Planning!$B$5:$B$14,G$30),"",TEXT(INDEX(Planning!$C$5:$C$14,-1+SMALL(IF(Planning!$B$5:$B$14=G$30,ROW(Planning!$B$5:$B$14)+1-ROW(Planning!$B$4),""),ROW($A4))),"[hh]:mm")&" "&INDEX(Planning!$F$5:$F$14,-1+SMALL(IF(Planning!$B$5:$B$14=G$30,ROW(Planning!$B$5:$B$14)+1-ROW(Planning!$B$4),""),ROW($A4))))} | H35: {=IF(ROW($A4)>COUNTIF(Planning!$B$5:$B$14,H$30),"",TEXT(INDEX(Planning!$C$5:$C$14,-1+SMALL(IF(Planning!$B$5:$B$14=H$30,ROW(Planning!$B$5:$B$14)+1-ROW(Planning!$B$4),""),ROW($A4))),"[hh]:mm")&" "&INDEX(Planning!$F$5:$F$14,-1+SMALL(IF(Planning!$B$5:$B$14=H$30,ROW(Planning!$B$5:$B$14)+1-ROW(Planning!$B$4),""),ROW($A4))))} | I35: {=IF(ROW($A4)>COUNTIF(Planning!$B$5:$B$14,I$30),"",TEXT(INDEX(Planning!$C$5:$C$14,-1+SMALL(IF(Planning!$B$5:$B$14=I$30,ROW(Planning!$B$5:$B$14)+1-ROW(Planning!$B$4),""),ROW($A4))),"[hh]:mm")&" "&INDEX(Planning!$F$5:$F$14,-1+SMALL(IF(Planning!$B$5:$B$14=I$30,ROW(Planning!$B$5:$B$14)+1-ROW(Planning!$B$4),""),ROW($A4))))}
B36: =1+INT(MIN(MOD(C36-DATE(YEAR(C36)+{-1;0;1},1,5)+WEEKDAY(DATE(YEAR(C36)+{-1;0;1},1,3)),734))/7) -> 44 | C36: =C30+7 -> 44865 | D36: =C36+1 -> 44866 | E36: =D36+1 -> 44867 | F36: =E36+1 -> 44868 | G36: =F36+1 -> 44869 | H36: =G36+1 -> 44870 | I36: =H36+1 -> 44871
B37: SEMAINE | C37: =IFERROR(VLOOKUP(C36,JF_P[],2,0),"") -> Pont | D37: =IFERROR(VLOOKUP(D36,JF_P[],2,0),"") -> Toussaint | E37: =IFERROR(VLOOKUP(E36,JF_P[],2,0),"") | F37: =IFERROR(VLOOKUP(F36,JF_P[],2,0),"") | G37: =IFERROR(VLOOKUP(G36,JF_P[],2,0),"") | H37: =IFERROR(VLOOKUP(H36,JF_P[],2,0),"") | I37: =IFERROR(VLOOKUP(I36,JF_P[],2,0),"")
C38: {=IF(ROW($A1)>COUNTIF(Planning!$B$5:$B$14,C$36),"",TEXT(INDEX(Planning!$C$5:$C$14,-1+SMALL(IF(Planning!$B$5:$B$14=C$36,ROW(Planning!$B$5:$B$14)+1-ROW(Planning!$B$4),""),ROW($A1))),"[hh]:mm")&" "&INDEX(Planning!$F$5:$F$14,-1+SMALL(IF(Planning!$B$5:$B$14=C$36,ROW(Planning!$B$5:$B$14)+1-ROW(Planning!$B$4),""),ROW($A1))))} | D38: {=IF(ROW($A1)>COUNTIF(Planning!$B$5:$B$14,D$36),"",TEXT(INDEX(Planning!$C$5:$C$14,-1+SMALL(IF(Planning!$B$5:$B$14=D$36,ROW(Planning!$B$5:$B$14)+1-ROW(Planning!$B$4),""),ROW($A1))),"[hh]:mm")&" "&INDEX(Planning!$F$5:$F$14,-1+SMALL(IF(Planning!$B$5:$B$14=D$36,ROW(Planning!$B$5:$B$14)+1-ROW(Planning!$B$4),""),ROW($A1))))} | E38: {=IF(ROW($A1)>COUNTIF(Planning!$B$5:$B$14,E$36),"",TEXT(INDEX(Planning!$C$5:$C$14,-1+SMALL(IF(Planning!$B$5:$B$14=E$36,ROW(Planning!$B$5:$B$14)+1-ROW(Planning!$B$4),""),ROW($A1))),"[hh]:mm")&" "&INDEX(Planning!$F$5:$F$14,-1+SMALL(IF(Planning!$B$5:$B$14=E$36,ROW(Planning!$B$5:$B$14)+1-ROW(Planning!$B$4),""),ROW($A1))))} | F38: {=IF(ROW($A1)>COUNTIF(Planning!$B$5:$B$14,F$36),"",TEXT(INDEX(Planning!$C$5:$C$14,-1+SMALL(IF(Planning!$B$5:$B$14=F$36,ROW(Planning!$B$5:$B$14)+1-ROW(Planning!$B$4),""),ROW($A1))),"[hh]:mm")&" "&INDEX(Planning!$F$5:$F$14,-1+SMALL(IF(Planning!$B$5:$B$14=F$36,ROW(Planning!$B$5:$B$14)+1-ROW(Planning!$B$4),""),ROW($A1))))} | G38: {=IF(ROW($A1)>COUNTIF(Planning!$B$5:$B$14,G$36),"",TEXT(INDEX(Planning!$C$5:$C$14,-1+SMALL(IF(Planning!$B$5:$B$14=G$36,ROW(Planning!$B$5:$B$14)+1-ROW(Planning!$B$4),""),ROW($A1))),"[hh]:mm")&" "&INDEX(Planning!$F$5:$F$14,-1+SMALL(IF(Planning!$B$5:$B$14=G$36,ROW(Planning!$B$5:$B$14)+1-ROW(Planning!$B$4),""),ROW($A1))))} | H38: {=IF(ROW($A1)>COUNTIF(Planning!$B$5:$B$14,H$36),"",TEXT(INDEX(Planning!$C$5:$C$14,-1+SMALL(IF(Planning!$B$5:$B$14=H$36,ROW(Planning!$B$5:$B$14)+1-ROW(Planning!$B$4),""),ROW($A1))),"[hh]:mm")&" "&INDEX(Planning!$F$5:$F$14,-1+SMALL(IF(Planning!$B$5:$B$14=H$36,ROW(Planning!$B$5:$B$14)+1-ROW(Planning!$B$4),""),ROW($A1))))} | I38: {=IF(ROW($A1)>COUNTIF(Planning!$B$5:$B$14,I$36),"",TEXT(INDEX(Planning!$C$5:$C$14,-1+SMALL(IF(Planning!$B$5:$B$14=I$36,ROW(Planning!$B$5:$B$14)+1-ROW(Planning!$B$4),""),ROW($A1))),"[hh]:mm")&" "&INDEX(Planning!$F$5:$F$14,-1+SMALL(IF(Planning!$B$5:$B$14=I$36,ROW(Planning!$B$5:$B$14)+1-ROW(Planning!$B$4),""),ROW($A1))))}
C39: {=IF(ROW($A2)>COUNTIF(Planning!$B$5:$B$14,C$36),"",TEXT(INDEX(Planning!$C$5:$C$14,-1+SMALL(IF(Planning!$B$5:$B$14=C$36,ROW(Planning!$B$5:$B$14)+1-ROW(Planning!$B$4),""),ROW($A2))),"[hh]:mm")&" "&INDEX(Planning!$F$5:$F$14,-1+SMALL(IF(Planning!$B$5:$B$14=C$36,ROW(Planning!$B$5:$B$14)+1-ROW(Planning!$B$4),""),ROW($A2))))} | D39: {=IF(ROW($A2)>COUNTIF(Planning!$B$5:$B$14,D$36),"",TEXT(INDEX(Planning!$C$5:$C$14,-1+SMALL(IF(Planning!$B$5:$B$14=D$36,ROW(Planning!$B$5:$B$14)+1-ROW(Planning!$B$4),""),ROW($A2))),"[hh]:mm")&" "&INDEX(Planning!$F$5:$F$14,-1+SMALL(IF(Planning!$B$5:$B$14=D$36,ROW(Planning!$B$5:$B$14)+1-ROW(Planning!$B$4),""),ROW($A2))))} | E39: {=IF(ROW($A2)>COUNTIF(Planning!$B$5:$B$14,E$36),"",TEXT(INDEX(Planning!$C$5:$C$14,-1+SMALL(IF(Planning!$B$5:$B$14=E$36,ROW(Planning!$B$5:$B$14)+1-ROW(Planning!$B$4),""),ROW($A2))),"[hh]:mm")&" "&INDEX(Planning!$F$5:$F$14,-1+SMALL(IF(Planning!$B$5:$B$14=E$36,ROW(Planning!$B$5:$B$14)+1-ROW(Planning!$B$4),""),ROW($A2))))} | F39: {=IF(ROW($A2)>COUNTIF(Planning!$B$5:$B$14,F$36),"",TEXT(INDEX(Planning!$C$5:$C$14,-1+SMALL(IF(Planning!$B$5:$B$14=F$36,ROW(Planning!$B$5:$B$14)+1-ROW(Planning!$B$4),""),ROW($A2))),"[hh]:mm")&" "&INDEX(Planning!$F$5:$F$14,-1+SMALL(IF(Planning!$B$5:$B$14=F$36,ROW(Planning!$B$5:$B$14)+1-ROW(Planning!$B$4),""),ROW($A2))))} | G39: {=IF(ROW($A2)>COUNTIF(Planning!$B$5:$B$14,G$36),"",TEXT(INDEX(Planning!$C$5:$C$14,-1+SMALL(IF(Planning!$B$5:$B$14=G$36,ROW(Planning!$B$5:$B$14)+1-ROW(Planning!$B$4),""),ROW($A2))),"[hh]:mm")&" "&INDEX(Planning!$F$5:$F$14,-1+SMALL(IF(Planning!$B$5:$B$14=G$36,ROW(Planning!$B$5:$B$14)+1-ROW(Planning!$B$4),""),ROW($A2))))} | H39: {=IF(ROW($A2)>COUNTIF(Planning!$B$5:$B$14,H$36),"",TEXT(INDEX(Planning!$C$5:$C$14,-1+SMALL(IF(Planning!$B$5:$B$14=H$36,ROW(Planning!$B$5:$B$14)+1-ROW(Planning!$B$4),""),ROW($A2))),"[hh]:mm")&" "&INDEX(Planning!$F$5:$F$14,-1+SMALL(IF(Planning!$B$5:$B$14=H$36,ROW(Planning!$B$5:$B$14)+1-ROW(Planning!$B$4),""),ROW($A2))))} | I39: {=IF(ROW($A2)>COUNTIF(Planning!$B$5:$B$14,I$36),"",TEXT(INDEX(Planning!$C$5:$C$14,-1+SMALL(IF(Planning!$B$5:$B$14=I$36,ROW(Planning!$B$5:$B$14)+1-ROW(Planning!$B$4),""),ROW($A2))),"[hh]:mm")&" "&INDEX(Planning!$F$5:$F$14,-1+SMALL(IF(Planning!$B$5:$B$14=I$36,ROW(Planning!$B$5:$B$14)+1-ROW(Planning!$B$4),""),ROW($A2))))}
C40: {=IF(ROW($A3)>COUNTIF(Planning!$B$5:$B$14,C$36),"",TEXT(INDEX(Planning!$C$5:$C$14,-1+SMALL(IF(Planning!$B$5:$B$14=C$36,ROW(Planning!$B$5:$B$14)+1-ROW(Planning!$B$4),""),ROW($A3))),"[hh]:mm")&" "&INDEX(Planning!$F$5:$F$14,-1+SMALL(IF(Planning!$B$5:$B$14=C$36,ROW(Planning!$B$5:$B$14)+1-ROW(Planning!$B$4),""),ROW($A3))))} | D40: {=IF(ROW($A3)>COUNTIF(Planning!$B$5:$B$14,D$36),"",TEXT(INDEX(Planning!$C$5:$C$14,-1+SMALL(IF(Planning!$B$5:$B$14=D$36,ROW(Planning!$B$5:$B$14)+1-ROW(Planning!$B$4),""),ROW($A3))),"[hh]:mm")&" "&INDEX(Planning!$F$5:$F$14,-1+SMALL(IF(Planning!$B$5:$B$14=D$36,ROW(Planning!$B$5:$B$14)+1-ROW(Planning!$B$4),""),ROW($A3))))} | E40: {=IF(ROW($A3)>COUNTIF(Planning!$B$5:$B$14,E$36),"",TEXT(INDEX(Planning!$C$5:$C$14,-1+SMALL(IF(Planning!$B$5:$B$14=E$36,ROW(Planning!$B$5:$B$14)+1-ROW(Planning!$B$4),""),ROW($A3))),"[hh]:mm")&" "&INDEX(Planning!$F$5:$F$14,-1+SMALL(IF(Planning!$B$5:$B$14=E$36,ROW(Planning!$B$5:$B$14)+1-ROW(Planning!$B$4),""),ROW($A3))))} | F40: {=IF(ROW($A3)>COUNTIF(Planning!$B$5:$B$14,F$36),"",TEXT(INDEX(Planning!$C$5:$C$14,-1+SMALL(IF(Planning!$B$5:$B$14=F$36,ROW(Planning!$B$5:$B$14)+1-ROW(Planning!$B$4),""),ROW($A3))),"[hh]:mm")&" "&INDEX(Planning!$F$5:$F$14,-1+SMALL(IF(Planning!$B$5:$B$14=F$36,ROW(Planning!$B$5:$B$14)+1-ROW(Planning!$B$4),""),ROW($A3))))} | G40: {=IF(ROW($A3)>COUNTIF(Planning!$B$5:$B$14,G$36),"",TEXT(INDEX(Planning!$C$5:$C$14,-1+SMALL(IF(Planning!$B$5:$B$14=G$36,ROW(Planning!$B$5:$B$14)+1-ROW(Planning!$B$4),""),ROW($A3))),"[hh]:mm")&" "&INDEX(Planning!$F$5:$F$14,-1+SMALL(IF(Planning!$B$5:$B$14=G$36,ROW(Planning!$B$5:$B$14)+1-ROW(Planning!$B$4),""),ROW($A3))))} | H40: {=IF(ROW($A3)>COUNTIF(Planning!$B$5:$B$14,H$36),"",TEXT(INDEX(Planning!$C$5:$C$14,-1+SMALL(IF(Planning!$B$5:$B$14=H$36,ROW(Planning!$B$5:$B$14)+1-ROW(Planning!$B$4),""),ROW($A3))),"[hh]:mm")&" "&INDEX(Planning!$F$5:$F$14,-1+SMALL(IF(Planning!$B$5:$B$14=H$36,ROW(Planning!$B$5:$B$14)+1-ROW(Planning!$B$4),""),ROW($A3))))} | I40: {=IF(ROW($A3)>COUNTIF(Planning!$B$5:$B$14,I$36),"",TEXT(INDEX(Planning!$C$5:$C$14,-1+SMALL(IF(Planning!$B$5:$B$14=I$36,ROW(Planning!$B$5:$B$14)+1-ROW(Planning!$B$4),""),ROW($A3))),"[hh]:mm")&" "&INDEX(Planning!$F$5:$F$14,-1+SMALL(IF(Planning!$B$5:$B$14=I$36,ROW(Planning!$B$5:$B$14)+1-ROW(Planning!$B$4),""),ROW($A3))))}
C41: {=IF(ROW($A4)>COUNTIF(Planning!$B$5:$B$14,C$36),"",TEXT(INDEX(Planning!$C$5:$C$14,-1+SMALL(IF(Planning!$B$5:$B$14=C$36,ROW(Planning!$B$5:$B$14)+1-ROW(Planning!$B$4),""),ROW($A4))),"[hh]:mm")&" "&INDEX(Planning!$F$5:$F$14,-1+SMALL(IF(Planning!$B$5:$B$14=C$36,ROW(Planning!$B$5:$B$14)+1-ROW(Planning!$B$4),""),ROW($A4))))} | D41: {=IF(ROW($A4)>COUNTIF(Planning!$B$5:$B$14,D$36),"",TEXT(INDEX(Planning!$C$5:$C$14,-1+SMALL(IF(Planning!$B$5:$B$14=D$36,ROW(Planning!$B$5:$B$14)+1-ROW(Planning!$B$4),""),ROW($A4))),"[hh]:mm")&" "&INDEX(Planning!$F$5:$F$14,-1+SMALL(IF(Planning!$B$5:$B$14=D$36,ROW(Planning!$B$5:$B$14)+1-ROW(Planning!$B$4),""),ROW($A4))))} | E41: {=IF(ROW($A4)>COUNTIF(Planning!$B$5:$B$14,E$36),"",TEXT(INDEX(Planning!$C$5:$C$14,-1+SMALL(IF(Planning!$B$5:$B$14=E$36,ROW(Planning!$B$5:$B$14)+1-ROW(Planning!$B$4),""),ROW($A4))),"[hh]:mm")&" "&INDEX(Planning!$F$5:$F$14,-1+SMALL(IF(Planning!$B$5:$B$14=E$36,ROW(Planning!$B$5:$B$14)+1-ROW(Planning!$B$4),""),ROW($A4))))} | F41: {=IF(ROW($A4)>COUNTIF(Planning!$B$5:$B$14,F$36),"",TEXT(INDEX(Planning!$C$5:$C$14,-1+SMALL(IF(Planning!$B$5:$B$14=F$36,ROW(Planning!$B$5:$B$14)+1-ROW(Planning!$B$4),""),ROW($A4))),"[hh]:mm")&" "&INDEX(Planning!$F$5:$F$14,-1+SMALL(IF(Planning!$B$5:$B$14=F$36,ROW(Planning!$B$5:$B$14)+1-ROW(Planning!$B$4),""),ROW($A4))))} | G41: {=IF(ROW($A4)>COUNTIF(Planning!$B$5:$B$14,G$36),"",TEXT(INDEX(Planning!$C$5:$C$14,-1+SMALL(IF(Planning!$B$5:$B$14=G$36,ROW(Planning!$B$5:$B$14)+1-ROW(Planning!$B$4),""),ROW($A4))),"[hh]:mm")&" "&INDEX(Planning!$F$5:$F$14,-1+SMALL(IF(Planning!$B$5:$B$14=G$36,ROW(Planning!$B$5:$B$14)+1-ROW(Planning!$B$4),""),ROW($A4))))} | H41: {=IF(ROW($A4)>COUNTIF(Planning!$B$5:$B$14,H$36),"",TEXT(INDEX(Planning!$C$5:$C$14,-1+SMALL(IF(Planning!$B$5:$B$14=H$36,ROW(Planning!$B$5:$B$14)+1-ROW(Planning!$B$4),""),ROW($A4))),"[hh]:mm")&" "&INDEX(Planning!$F$5:$F$14,-1+SMALL(IF(Planning!$B$5:$B$14=H$36,ROW(Planning!$B$5:$B$14)+1-ROW(Planning!$B$4),""),ROW($A4))))} | I41: {=IF(ROW($A4)>COUNTIF(Planning!$B$5:$B$14,I$36),"",TEXT(INDEX(Planning!$C$5:$C$14,-1+SMALL(IF(Planning!$B$5:$B$14=I$36,ROW(Planning!$B$5:$B$14)+1-ROW(Planning!$B$4),""),ROW($A4))),"[hh]:mm")&" "&INDEX(Planning!$F$5:$F$14,-1+SMALL(IF(Planning!$B$5:$B$14=I$36,ROW(Planning!$B$5:$B$14)+1-ROW(Planning!$B$4),""),ROW($A4))))}

Sheet Vue hebdomadaire
B2: ='Vue Mensuelle'!C2 -> 2022 | C2: 41
B4: VUE HEBDOMADAIRE
