Workbook

Sheet Feuil1
A1: Matricule | B1: Structure
A2: a15561 | B2: 4546
A3: a15561 | B3: 4547
A4: a15561 | B4: 4548
A5: a15561 | B5: 4549
A6: a15561 | B6: 4550
A7: a15561 | B7: 4551
A8: a15561 | B8: 4552
A9: a15561 | B9: 4553
A10: a15561 | B10: 4554
A11: a15561 | B11: 4555
A12: a15561 | B12: 4556
A13: a15561 | B13: 4557
... A28: P218J780 | B28: 847

Sheet Feuil2
A1: Matricule | B1: Structures
A2: a15561 | B2: {=IFERROR(INDEX(Feuil1!$B$2:$B$100,SMALL(IF((COUNTIF($A2:A2,Feuil1!$B$2:$B$100)=0)*(Feuil1!$A$2:$A$100=$A2),ROW(Feuil1!$B$2:$B$100)-1),1)),"")} -> 4546 | C2: {=IFERROR(INDEX(Feuil1!$B$2:$B$100,SMALL(IF((COUNTIF($A2:B2,Feuil1!$B$2:$B$100)=0)*(Feuil1!$A$2:$A$100=$A2),ROW(Feuil1!$B$2:$B$100)-1),1)),"")} -> 4547 | D2: {=IFERROR(INDEX(Feuil1!$B$2:$B$100,SMALL(IF((COUNTIF($A2:C2,Feuil1!$B$2:$B$100)=0)*(Feuil1!$A$2:$A$100=$A2),ROW(Feuil1!$B$2:$B$100)-1),1)),"")} -> 4548 | E2: {=IFERROR(INDEX(Feuil1!$B$2:$B$100,SMALL(IF((COUNTIF($A2:D2,Feuil1!$B$2:$B$100)=0)*(Feuil1!$A$2:$A$100=$A2),ROW(Feuil1!$B$2:$B$100)-1),1)),"")} -> 4549 | F2: {=IFERROR(INDEX(Feuil1!$B$2:$B$100,SMALL(IF((COUNTIF($A2:E2,Feuil1!$B$2:$B$100)=0)*(Feuil1!$A$2:$A$100=$A2),ROW(Feuil1!$B$2:$B$100)-1),1)),"")} -> 4550 | G2: {=IFERROR(INDEX(Feuil1!$B$2:$B$100,SMALL(IF((COUNTIF($A2:F2,Feuil1!$B$2:$B$100)=0)*(Feuil1!$A$2:$A$100=$A2),ROW(Feuil1!$B$2:$B$100)-1),1)),"")} -> 4551 | H2: {=IFERROR(INDEX(Feuil1!$B$2:$B$100,SMALL(IF((COUNTIF($A2:G2,Feuil1!$B$2:$B$100)=0)*(Feuil1!$A$2:$A$100=$A2),ROW(Feuil1!$B$2:$B$100)-1),1)),"")} -> 4552 | I2: {=IFERROR(INDEX(Feuil1!$B$2:$B$100,SMALL(IF((COUNTIF($A2:H2,Feuil1!$B$2:$B$100)=0)*(Feuil1!$A$2:$A$100=$A2),ROW(Feuil1!$B$2:$B$100)-1),1)),"")} -> 4553 | ... N2: {=IFERROR(INDEX(Feuil1!$B$2:$B$100,SMALL(IF((COUNTIF($A2:M2,Feuil1!$B$2:$B$100)=0)*(Feuil1!$A$2:$A$100=$A2),ROW(Feuil1!$B$2:$B$100)-1),1)),"")} -> 4558 | O2: {=IFERROR(INDEX(Feuil1!$B$2:$B$20,SMALL(IF((COUNTIF($A2:N2,Feuil1!$B$2:$B$20)=0)*(Feuil1!$A$2:$A$20=$A2),ROW(Feuil1!$B$2:$B$20)-1),1)),"")}
A3: f45461 | B3: {=IFERROR(INDEX(Feuil1!$B$2:$B$100,SMALL(IF((COUNTIF($A3:A3,Feuil1!$B$2:$B$100)=0)*(Feuil1!$A$2:$A$100=$A3),ROW(Feuil1!$B$2:$B$100)-1),1)),"")} -> 125654 | C3: {=IFERROR(INDEX(Feuil1!$B$2:$B$100,SMALL(IF((COUNTIF($A3:B3,Feuil1!$B$2:$B$100)=0)*(Feuil1!$A$2:$A$100=$A3),ROW(Feuil1!$B$2:$B$100)-1),1)),"")} -> 125655 | D3: {=IFERROR(INDEX(Feuil1!$B$2:$B$100,SMALL(IF((COUNTIF($A3:C3,Feuil1!$B$2:$B$100)=0)*(Feuil1!$A$2:$A$100=$A3),ROW(Feuil1!$B$2:$B$100)-1),1)),"")} -> 125656 | E3: {=IFERROR(INDEX(Feuil1!$B$2:$B$100,SMALL(IF((COUNTIF($A3:D3,Feuil1!$B$2:$B$100)=0)*(Feuil1!$A$2:$A$100=$A3),ROW(Feuil1!$B$2:$B$100)-1),1)),"")} -> 125657 | F3: {=IFERROR(INDEX(Feuil1!$B$2:$B$100,SMALL(IF((COUNTIF($A3:E3,Feuil1!$B$2:$B$100)=0)*(Feuil1!$A$2:$A$100=$A3),ROW(Feuil1!$B$2:$B$100)-1),1)),"")} | G3: {=IFERROR(INDEX(Feuil1!$B$2:$B$100,SMALL(IF((COUNTIF($A3:F3,Feuil1!$B$2:$B$100)=0)*(Feuil1!$A$2:$A$100=$A3),ROW(Feuil1!$B$2:$B$100)-1),1)),"")} | H3: {=IFERROR(INDEX(Feuil1!$B$2:$B$100,SMALL(IF((COUNTIF($A3:G3,Feuil1!$B$2:$B$100)=0)*(Feuil1!$A$2:$A$100=$A3),ROW(Feuil1!$B$2:$B$100)-1),1)),"")} | I3: {=IFERROR(INDEX(Feuil1!$B$2:$B$100,SMALL(IF((COUNTIF($A3:H3,Feuil1!$B$2:$B$100)=0)*(Feuil1!$A$2:$A$100=$A3),ROW(Feuil1!$B$2:$B$100)-1),1)),"")} | ... N3: {=IFERROR(INDEX(Feuil1!$B$2:$B$100,SMALL(IF((COUNTIF($A3:M3,Feuil1!$B$2:$B$100)=0)*(Feuil1!$A$2:$A$100=$A3),ROW(Feuil1!$B$2:$B$100)-1),1)),"")}
A4: H45451 | B4: {=IFERROR(INDEX(Feuil1!$B$2:$B$100,SMALL(IF((COUNTIF($A4:A4,Feuil1!$B$2:$B$100)=0)*(Feuil1!$A$2:$A$100=$A4),ROW(Feuil1!$B$2:$B$100)-1),1)),"")} -> 154654 | C4: {=IFERROR(INDEX(Feuil1!$B$2:$B$100,SMALL(IF((COUNTIF($A4:B4,Feuil1!$B$2:$B$100)=0)*(Feuil1!$A$2:$A$100=$A4),ROW(Feuil1!$B$2:$B$100)-1),1)),"")} | D4: {=IFERROR(INDEX(Feuil1!$B$2:$B$100,SMALL(IF((COUNTIF($A4:C4,Feuil1!$B$2:$B$100)=0)*(Feuil1!$A$2:$A$100=$A4),ROW(Feuil1!$B$2:$B$100)-1),1)),"")} | E4: {=IFERROR(INDEX(Feuil1!$B$2:$B$100,SMALL(IF((COUNTIF($A4:D4,Feuil1!$B$2:$B$100)=0)*(Feuil1!$A$2:$A$100=$A4),ROW(Feuil1!$B$2:$B$100)-1),1)),"")} | F4: {=IFERROR(INDEX(Feuil1!$B$2:$B$100,SMALL(IF((COUNTIF($A4:E4,Feuil1!$B$2:$B$100)=0)*(Feuil1!$A$2:$A$100=$A4),ROW(Feuil1!$B$2:$B$100)-1),1)),"")} | G4: {=IFERROR(INDEX(Feuil1!$B$2:$B$100,SMALL(IF((COUNTIF($A4:F4,Feuil1!$B$2:$B$100)=0)*(Feuil1!$A$2:$A$100=$A4),ROW(Feuil1!$B$2:$B$100)-1),1)),"")} | H4: {=IFERROR(INDEX(Feuil1!$B$2:$B$100,SMALL(IF((COUNTIF($A4:G4,Feuil1!$B$2:$B$100)=0)*(Feuil1!$A$2:$A$100=$A4),ROW(Feuil1!$B$2:$B$100)-1),1)),"")} | I4: {=IFERROR(INDEX(Feuil1!$B$2:$B$100,SMALL(IF((COUNTIF($A4:H4,Feuil1!$B$2:$B$100)=0)*(Feuil1!$A$2:$A$100=$A4),ROW(Feuil1!$B$2:$B$100)-1),1)),"")} | ... N4: {=IFERROR(INDEX(Feuil1!$B$2:$B$100,SMALL(IF((COUNTIF($A4:M4,Feuil1!$B$2:$B$100)=0)*(Feuil1!$A$2:$A$100=$A4),ROW(Feuil1!$B$2:$B$100)-1),1)),"")}
A5: P79878 | B5: {=IFERROR(INDEX(Feuil1!$B$2:$B$100,SMALL(IF((COUNTIF($A5:A5,Feuil1!$B$2:$B$100)=0)*(Feuil1!$A$2:$A$100=$A5),ROW(Feuil1!$B$2:$B$100)-1),1)),"")} -> 5465 | C5: {=IFERROR(INDEX(Feuil1!$B$2:$B$100,SMALL(IF((COUNTIF($A5:B5,Feuil1!$B$2:$B$100)=0)*(Feuil1!$A$2:$A$100=$A5),ROW(Feuil1!$B$2:$B$100)-1),1)),"")} | D5: {=IFERROR(INDEX(Feuil1!$B$2:$B$100,SMALL(IF((COUNTIF($A5:C5,Feuil1!$B$2:$B$100)=0)*(Feuil1!$A$2:$A$100=$A5),ROW(Feuil1!$B$2:$B$100)-1),1)),"")} | E5: {=IFERROR(INDEX(Feuil1!$B$2:$B$100,SMALL(IF((COUNTIF($A5:D5,Feuil1!$B$2:$B$100)=0)*(Feuil1!$A$2:$A$100=$A5),ROW(Feuil1!$B$2:$B$100)-1),1)),"")} | F5: {=IFERROR(INDEX(Feuil1!$B$2:$B$100,SMALL(IF((COUNTIF($A5:E5,Feuil1!$B$2:$B$100)=0)*(Feuil1!$A$2:$A$100=$A5),ROW(Feuil1!$B$2:$B$100)-1),1)),"")} | G5: {=IFERROR(INDEX(Feuil1!$B$2:$B$100,SMALL(IF((COUNTIF($A5:F5,Feuil1!$B$2:$B$100)=0)*(Feuil1!$A$2:$A$100=$A5),ROW(Feuil1!$B$2:$B$100)-1),1)),"")} | H5: {=IFERROR(INDEX(Feuil1!$B$2:$B$100,SMALL(IF((COUNTIF($A5:G5,Feuil1!$B$2:$B$100)=0)*(Feuil1!$A$2:$A$100=$A5),ROW(Feuil1!$B$2:$B$100)-1),1)),"")} | I5: {=IFERROR(INDEX(Feuil1!$B$2:$B$100,SMALL(IF((COUNTIF($A5:H5,Feuil1!$B$2:$B$100)=0)*(Feuil1!$A$2:$A$100=$A5),ROW(Feuil1!$B$2:$B$100)-1),1)),"")} | ... N5: {=IFERROR(INDEX(Feuil1!$B$2:$B$100,SMALL(IF((COUNTIF($A5:M5,Feuil1!$B$2:$B$100)=0)*(Feuil1!$A$2:$A$100=$A5),ROW(Feuil1!$B$2:$B$100)-1),1)),"")}
A6: P218J780 | B6: {=IFERROR(INDEX(Feuil1!$B$2:$B$100,SMALL(IF((COUNTIF($A6:A6,Feuil1!$B$2:$B$100)=0)*(Feuil1!$A$2:$A$100=$A6),ROW(Feuil1!$B$2:$B$100)-1),1)),"")} -> 202 | C6: {=IFERROR(INDEX(Feuil1!$B$2:$B$100,SMALL(IF((COUNTIF($A6:B6,Feuil1!$B$2:$B$100)=0)*(Feuil1!$A$2:$A$100=$A6),ROW(Feuil1!$B$2:$B$100)-1),1)),"")} -> 302 | D6: {=IFERROR(INDEX(Feuil1!$B$2:$B$100,SMALL(IF((COUNTIF($A6:C6,Feuil1!$B$2:$B$100)=0)*(Feuil1!$A$2:$A$100=$A6),ROW(Feuil1!$B$2:$B$100)-1),1)),"")} -> 508 | E6: {=IFERROR(INDEX(Feuil1!$B$2:$B$100,SMALL(IF((COUNTIF($A6:D6,Feuil1!$B$2:$B$100)=0)*(Feuil1!$A$2:$A$100=$A6),ROW(Feuil1!$B$2:$B$100)-1),1)),"")} -> 409 | F6: {=IFERROR(INDEX(Feuil1!$B$2:$B$100,SMALL(IF((COUNTIF($A6:E6,Feuil1!$B$2:$B$100)=0)*(Feuil1!$A$2:$A$100=$A6),ROW(Feuil1!$B$2:$B$100)-1),1)),"")} -> 307 | G6: {=IFERROR(INDEX(Feuil1!$B$2:$B$100,SMALL(IF((COUNTIF($A6:F6,Feuil1!$B$2:$B$100)=0)*(Feuil1!$A$2:$A$100=$A6),ROW(Feuil1!$B$2:$B$100)-1),1)),"")} -> 222 | H6: {=IFERROR(INDEX(Feuil1!$B$2:$B$100,SMALL(IF((COUNTIF($A6:G6,Feuil1!$B$2:$B$100)=0)*(Feuil1!$A$2:$A$100=$A6),ROW(Feuil1!$B$2:$B$100)-1),1)),"")} -> 321 | I6: {=IFERROR(INDEX(Feuil1!$B$2:$B$100,SMALL(IF((COUNTIF($A6:H6,Feuil1!$B$2:$B$100)=0)*(Feuil1!$A$2:$A$100=$A6),ROW(Feuil1!$B$2:$B$100)-1),1)),"")} -> 847 | ... N6: {=IFERROR(INDEX(Feuil1!$B$2:$B$100,SMALL(IF((COUNTIF($A6:M6,Feuil1!$B$2:$B$100)=0)*(Feuil1!$A$2:$A$100=$A6),ROW(Feuil1!$B$2:$B$100)-1),1)),"")}
B7: {=IFERROR(INDEX(Feuil1!$B$2:$B$100,SMALL(IF((COUNTIF($A7:A7,Feuil1!$B$2:$B$100)=0)*(Feuil1!$A$2:$A$100=$A7),ROW(Feuil1!$B$2:$B$100)-1),1)),"")} -> 0 | C7: {=IFERROR(INDEX(Feuil1!$B$2:$B$100,SMALL(IF((COUNTIF($A7:B7,Feuil1!$B$2:$B$100)=0)*(Feuil1!$A$2:$A$100=$A7),ROW(Feuil1!$B$2:$B$100)-1),1)),"")} | D7: {=IFERROR(INDEX(Feuil1!$B$2:$B$100,SMALL(IF((COUNTIF($A7:C7,Feuil1!$B$2:$B$100)=0)*(Feuil1!$A$2:$A$100=$A7),ROW(Feuil1!$B$2:$B$100)-1),1)),"")} | E7: {=IFERROR(INDEX(Feuil1!$B$2:$B$100,SMALL(IF((COUNTIF($A7:D7,Feuil1!$B$2:$B$100)=0)*(Feuil1!$A$2:$A$100=$A7),ROW(Feuil1!$B$2:$B$100)-1),1)),"")} | F7: {=IFERROR(INDEX(Feuil1!$B$2:$B$100,SMALL(IF((COUNTIF($A7:E7,Feuil1!$B$2:$B$100)=0)*(Feuil1!$A$2:$A$100=$A7),ROW(Feuil1!$B$2:$B$100)-1),1)),"")} | G7: {=IFERROR(INDEX(Feuil1!$B$2:$B$100,SMALL(IF((COUNTIF($A7:F7,Feuil1!$B$2:$B$100)=0)*(Feuil1!$A$2:$A$100=$A7),ROW(Feuil1!$B$2:$B$100)-1),1)),"")} | H7: {=IFERROR(INDEX(Feuil1!$B$2:$B$100,SMALL(IF((COUNTIF($A7:G7,Feuil1!$B$2:$B$100)=0)*(Feuil1!$A$2:$A$100=$A7),ROW(Feuil1!$B$2:$B$100)-1),1)),"")} | I7: {=IFERROR(INDEX(Feuil1!$B$2:$B$100,SMALL(IF((COUNTIF($A7:H7,Feuil1!$B$2:$B$100)=0)*(Feuil1!$A$2:$A$100=$A7),ROW(Feuil1!$B$2:$B$100)-1),1)),"")} | ... N7: {=IFERROR(INDEX(Feuil1!$B$2:$B$100,SMALL(IF((COUNTIF($A7:M7,Feuil1!$B$2:$B$100)=0)*(Feuil1!$A$2:$A$100=$A7),ROW(Feuil1!$B$2:$B$100)-1),1)),"")}
B8: {=IFERROR(INDEX(Feuil1!$B$2:$B$100,SMALL(IF((COUNTIF($A8:A8,Feuil1!$B$2:$B$100)=0)*(Feuil1!$A$2:$A$100=$A8),ROW(Feuil1!$B$2:$B$100)-1),1)),"")} -> 0 | C8: {=IFERROR(INDEX(Feuil1!$B$2:$B$100,SMALL(IF((COUNTIF($A8:B8,Feuil1!$B$2:$B$100)=0)*(Feuil1!$A$2:$A$100=$A8),ROW(Feuil1!$B$2:$B$100)-1),1)),"")} | D8: {=IFERROR(INDEX(Feuil1!$B$2:$B$100,SMALL(IF((COUNTIF($A8:C8,Feuil1!$B$2:$B$100)=0)*(Feuil1!$A$2:$A$100=$A8),ROW(Feuil1!$B$2:$B$100)-1),1)),"")} | E8: {=IFERROR(INDEX(Feuil1!$B$2:$B$100,SMALL(IF((COUNTIF($A8:D8,Feuil1!$B$2:$B$100)=0)*(Feuil1!$A$2:$A$100=$A8),ROW(Feuil1!$B$2:$B$100)-1),1)),"")} | F8: {=IFERROR(INDEX(Feuil1!$B$2:$B$100,SMALL(IF((COUNTIF($A8:E8,Feuil1!$B$2:$B$100)=0)*(Feuil1!$A$2:$A$100=$A8),ROW(Feuil1!$B$2:$B$100)-1),1)),"")} | G8: {=IFERROR(INDEX(Feuil1!$B$2:$B$100,SMALL(IF((COUNTIF($A8:F8,Feuil1!$B$2:$B$100)=0)*(Feuil1!$A$2:$A$100=$A8),ROW(Feuil1!$B$2:$B$100)-1),1)),"")} | H8: {=IFERROR(INDEX(Feuil1!$B$2:$B$100,SMALL(IF((COUNTIF($A8:G8,Feuil1!$B$2:$B$100)=0)*(Feuil1!$A$2:$A$100=$A8),ROW(Feuil1!$B$2:$B$100)-1),1)),"")} | I8: {=IFERROR(INDEX(Feuil1!$B$2:$B$100,SMALL(IF((COUNTIF($A8:H8,Feuil1!$B$2:$B$100)=0)*(Feuil1!$A$2:$A$100=$A8),ROW(Feuil1!$B$2:$B$100)-1),1)),"")} | ... N8: {=IFERROR(INDEX(Feuil1!$B$2:$B$100,SMALL(IF((COUNTIF($A8:M8,Feuil1!$B$2:$B$100)=0)*(Feuil1!$A$2:$A$100=$A8),ROW(Feuil1!$B$2:$B$100)-1),1)),"")}
B9: {=IFERROR(INDEX(Feuil1!$B$2:$B$100,SMALL(IF((COUNTIF($A9:A9,Feuil1!$B$2:$B$100)=0)*(Feuil1!$A$2:$A$100=$A9),ROW(Feuil1!$B$2:$B$100)-1),1)),"")} -> 0 | C9: {=IFERROR(INDEX(Feuil1!$B$2:$B$100,SMALL(IF((COUNTIF($A9:B9,Feuil1!$B$2:$B$100)=0)*(Feuil1!$A$2:$A$100=$A9),ROW(Feuil1!$B$2:$B$100)-1),1)),"")} | D9: {=IFERROR(INDEX(Feuil1!$B$2:$B$100,SMALL(IF((COUNTIF($A9:C9,Feuil1!$B$2:$B$100)=0)*(Feuil1!$A$2:$A$100=$A9),ROW(Feuil1!$B$2:$B$100)-1),1)),"")} | E9: {=IFERROR(INDEX(Feuil1!$B$2:$B$100,SMALL(IF((COUNTIF($A9:D9,Feuil1!$B$2:$B$100)=0)*(Feuil1!$A$2:$A$100=$A9),ROW(Feuil1!$B$2:$B$100)-1),1)),"")} | F9: {=IFERROR(INDEX(Feuil1!$B$2:$B$100,SMALL(IF((COUNTIF($A9:E9,Feuil1!$B$2:$B$100)=0)*(Feuil1!$A$2:$A$100=$A9),ROW(Feuil1!$B$2:$B$100)-1),1)),"")} | G9: {=IFERROR(INDEX(Feuil1!$B$2:$B$100,SMALL(IF((COUNTIF($A9:F9,Feuil1!$B$2:$B$100)=0)*(Feuil1!$A$2:$A$100=$A9),ROW(Feuil1!$B$2:$B$100)-1),1)),"")} | H9: {=IFERROR(INDEX(Feuil1!$B$2:$B$100,SMALL(IF((COUNTIF($A9:G9,Feuil1!$B$2:$B$100)=0)*(Feuil1!$A$2:$A$100=$A9),ROW(Feuil1!$B$2:$B$100)-1),1)),"")} | I9: {=IFERROR(INDEX(Feuil1!$B$2:$B$100,SMALL(IF((COUNTIF($A9:H9,Feuil1!$B$2:$B$100)=0)*(Feuil1!$A$2:$A$100=$A9),ROW(Feuil1!$B$2:$B$100)-1),1)),"")} | ... N9: {=IFERROR(INDEX(Feuil1!$B$2:$B$100,SMALL(IF((COUNTIF($A9:M9,Feuil1!$B$2:$B$100)=0)*(Feuil1!$A$2:$A$100=$A9),ROW(Feuil1!$B$2:$B$100)-1),1)),"")}
B10: {=IFERROR(INDEX(Feuil1!$B$2:$B$100,SMALL(IF((COUNTIF($A10:A10,Feuil1!$B$2:$B$100)=0)*(Feuil1!$A$2:$A$100=$A10),ROW(Feuil1!$B$2:$B$100)-1),1)),"")} -> 0 | C10: {=IFERROR(INDEX(Feuil1!$B$2:$B$100,SMALL(IF((COUNTIF($A10:B10,Feuil1!$B$2:$B$100)=0)*(Feuil1!$A$2:$A$100=$A10),ROW(Feuil1!$B$2:$B$100)-1),1)),"")} | D10: {=IFERROR(INDEX(Feuil1!$B$2:$B$100,SMALL(IF((COUNTIF($A10:C10,Feuil1!$B$2:$B$100)=0)*(Feuil1!$A$2:$A$100=$A10),ROW(Feuil1!$B$2:$B$100)-1),1)),"")} | E10: {=IFERROR(INDEX(Feuil1!$B$2:$B$100,SMALL(IF((COUNTIF($A10:D10,Feuil1!$B$2:$B$100)=0)*(Feuil1!$A$2:$A$100=$A10),ROW(Feuil1!$B$2:$B$100)-1),1)),"")} | F10: {=IFERROR(INDEX(Feuil1!$B$2:$B$100,SMALL(IF((COUNTIF($A10:E10,Feuil1!$B$2:$B$100)=0)*(Feuil1!$A$2:$A$100=$A10),ROW(Feuil1!$B$2:$B$100)-1),1)),"")} | G10: {=IFERROR(INDEX(Feuil1!$B$2:$B$100,SMALL(IF((COUNTIF($A10:F10,Feuil1!$B$2:$B$100)=0)*(Feuil1!$A$2:$A$100=$A10),ROW(Feuil1!$B$2:$B$100)-1),1)),"")} | H10: {=IFERROR(INDEX(Feuil1!$B$2:$B$100,SMALL(IF((COUNTIF($A10:G10,Feuil1!$B$2:$B$100)=0)*(Feuil1!$A$2:$A$100=$A10),ROW(Feuil1!$B$2:$B$100)-1),1)),"")} | I10: {=IFERROR(INDEX(Feuil1!$B$2:$B$100,SMALL(IF((COUNTIF($A10:H10,Feuil1!$B$2:$B$100)=0)*(Feuil1!$A$2:$A$100=$A10),ROW(Feuil1!$B$2:$B$100)-1),1)),"")} | ... N10: {=IFERROR(INDEX(Feuil1!$B$2:$B$100,SMALL(IF((COUNTIF($A10:M10,Feuil1!$B$2:$B$100)=0)*(Feuil1!$A$2:$A$100=$A10),ROW(Feuil1!$B$2:$B$100)-1),1)),"")}
B11: {=IFERROR(INDEX(Feuil1!$B$2:$B$100,SMALL(IF((COUNTIF($A11:A11,Feuil1!$B$2:$B$100)=0)*(Feuil1!$A$2:$A$100=$A11),ROW(Feuil1!$B$2:$B$100)-1),1)),"")} -> 0 | C11: {=IFERROR(INDEX(Feuil1!$B$2:$B$100,SMALL(IF((COUNTIF($A11:B11,Feuil1!$B$2:$B$100)=0)*(Feuil1!$A$2:$A$100=$A11),ROW(Feuil1!$B$2:$B$100)-1),1)),"")} | D11: {=IFERROR(INDEX(Feuil1!$B$2:$B$100,SMALL(IF((COUNTIF($A11:C11,Feuil1!$B$2:$B$100)=0)*(Feuil1!$A$2:$A$100=$A11),ROW(Feuil1!$B$2:$B$100)-1),1)),"")} | E11: {=IFERROR(INDEX(Feuil1!$B$2:$B$100,SMALL(IF((COUNTIF($A11:D11,Feuil1!$B$2:$B$100)=0)*(Feuil1!$A$2:$A$100=$A11),ROW(Feuil1!$B$2:$B$100)-1),1)),"")} | F11: {=IFERROR(INDEX(Feuil1!$B$2:$B$100,SMALL(IF((COUNTIF($A11:E11,Feuil1!$B$2:$B$100)=0)*(Feuil1!$A$2:$A$100=$A11),ROW(Feuil1!$B$2:$B$100)-1),1)),"")} | G11: {=IFERROR(INDEX(Feuil1!$B$2:$B$100,SMALL(IF((COUNTIF($A11:F11,Feuil1!$B$2:$B$100)=0)*(Feuil1!$A$2:$A$100=$A11),ROW(Feuil1!$B$2:$B$100)-1),1)),"")} | H11: {=IFERROR(INDEX(Feuil1!$B$2:$B$100,SMALL(IF((COUNTIF($A11:G11,Feuil1!$B$2:$B$100)=0)*(Feuil1!$A$2:$A$100=$A11),ROW(Feuil1!$B$2:$B$100)-1),1)),"")} | I11: {=IFERROR(INDEX(Feuil1!$B$2:$B$100,SMALL(IF((COUNTIF($A11:H11,Feuil1!$B$2:$B$100)=0)*(Feuil1!$A$2:$A$100=$A11),ROW(Feuil1!$B$2:$B$100)-1),1)),"")} | ... N11: {=IFERROR(INDEX(Feuil1!$B$2:$B$100,SMALL(IF((COUNTIF($A11:M11,Feuil1!$B$2:$B$100)=0)*(Feuil1!$A$2:$A$100=$A11),ROW(Feuil1!$B$2:$B$100)-1),1)),"")}
B12: {=IFERROR(INDEX(Feuil1!$B$2:$B$100,SMALL(IF((COUNTIF($A12:A12,Feuil1!$B$2:$B$100)=0)*(Feuil1!$A$2:$A$100=$A12),ROW(Feuil1!$B$2:$B$100)-1),1)),"")} -> 0 | C12: {=IFERROR(INDEX(Feuil1!$B$2:$B$100,SMALL(IF((COUNTIF($A12:B12,Feuil1!$B$2:$B$100)=0)*(Feuil1!$A$2:$A$100=$A12),ROW(Feuil1!$B$2:$B$100)-1),1)),"")} | D12: {=IFERROR(INDEX(Feuil1!$B$2:$B$100,SMALL(IF((COUNTIF($A12:C12,Feuil1!$B$2:$B$100)=0)*(Feuil1!$A$2:$A$100=$A12),ROW(Feuil1!$B$2:$B$100)-1),1)),"")} | E12: {=IFERROR(INDEX(Feuil1!$B$2:$B$100,SMALL(IF((COUNTIF($A12:D12,Feuil1!$B$2:$B$100)=0)*(Feuil1!$A$2:$A$100=$A12),ROW(Feuil1!$B$2:$B$100)-1),1)),"")} | F12: {=IFERROR(INDEX(Feuil1!$B$2:$B$100,SMALL(IF((COUNTIF($A12:E12,Feuil1!$B$2:$B$100)=0)*(Feuil1!$A$2:$A$100=$A12),ROW(Feuil1!$B$2:$B$100)-1),1)),"")} | G12: {=IFERROR(INDEX(Feuil1!$B$2:$B$100,SMALL(IF((COUNTIF($A12:F12,Feuil1!$B$2:$B$100)=0)*(Feuil1!$A$2:$A$100=$A12),ROW(Feuil1!$B$2:$B$100)-1),1)),"")} | H12: {=IFERROR(INDEX(Feuil1!$B$2:$B$100,SMALL(IF((COUNTIF($A12:G12,Feuil1!$B$2:$B$100)=0)*(Feuil1!$A$2:$A$100=$A12),ROW(Feuil1!$B$2:$B$100)-1),1)),"")} | I12: {=IFERROR(INDEX(Feuil1!$B$2:$B$100,SMALL(IF((COUNTIF($A12:H12,Feuil1!$B$2:$B$100)=0)*(Feuil1!$A$2:$A$100=$A12),ROW(Feuil1!$B$2:$B$100)-1),1)),"")} | ... N12: {=IFERROR(INDEX(Feuil1!$B$2:$B$100,SMALL(IF((COUNTIF($A12:M12,Feuil1!$B$2:$B$100)=0)*(Feuil1!$A$2:$A$100=$A12),ROW(Feuil1!$B$2:$B$100)-1),1)),"")}
B13: {=IFERROR(INDEX(Feuil1!$B$2:$B$100,SMALL(IF((COUNTIF($A13:A13,Feuil1!$B$2:$B$100)=0)*(Feuil1!$A$2:$A$100=$A13),ROW(Feuil1!$B$2:$B$100)-1),1)),"")} -> 0 | C13: {=IFERROR(INDEX(Feuil1!$B$2:$B$100,SMALL(IF((COUNTIF($A13:B13,Feuil1!$B$2:$B$100)=0)*(Feuil1!$A$2:$A$100=$A13),ROW(Feuil1!$B$2:$B$100)-1),1)),"")} | D13: {=IFERROR(INDEX(Feuil1!$B$2:$B$100,SMALL(IF((COUNTIF($A13:C13,Feuil1!$B$2:$B$100)=0)*(Feuil1!$A$2:$A$100=$A13),ROW(Feuil1!$B$2:$B$100)-1),1)),"")} | E13: {=IFERROR(INDEX(Feuil1!$B$2:$B$100,SMALL(IF((COUNTIF($A13:D13,Feuil1!$B$2:$B$100)=0)*(Feuil1!$A$2:$A$100=$A13),ROW(Feuil1!$B$2:$B$100)-1),1)),"")} | F13: {=IFERROR(INDEX(Feuil1!$B$2:$B$100,SMALL(IF((COUNTIF($A13:E13,Feuil1!$B$2:$B$100)=0)*(Feuil1!$A$2:$A$100=$A13),ROW(Feuil1!$B$2:$B$100)-1),1)),"")} | G13: {=IFERROR(INDEX(Feuil1!$B$2:$B$100,SMALL(IF((COUNTIF($A13:F13,Feuil1!$B$2:$B$100)=0)*(Feuil1!$A$2:$A$100=$A13),ROW(Feuil1!$B$2:$B$100)-1),1)),"")} | H13: {=IFERROR(INDEX(Feuil1!$B$2:$B$100,SMALL(IF((COUNTIF($A13:G13,Feuil1!$B$2:$B$100)=0)*(Feuil1!$A$2:$A$100=$A13),ROW(Feuil1!$B$2:$B$100)-1),1)),"")} | I13: {=IFERROR(INDEX(Feuil1!$B$2:$B$100,SMALL(IF((COUNTIF($A13:H13,Feuil1!$B$2:$B$100)=0)*(Feuil1!$A$2:$A$100=$A13),ROW(Feuil1!$B$2:$B$100)-1),1)),"")} | ... N13: {=IFERROR(INDEX(Feuil1!$B$2:$B$100,SMALL(IF((COUNTIF($A13:M13,Feuil1!$B$2:$B$100)=0)*(Feuil1!$A$2:$A$100=$A13),ROW(Feuil1!$B$2:$B$100)-1),1)),"")}
B14: {=IFERROR(INDEX(Feuil1!$B$2:$B$100,SMALL(IF((COUNTIF($A14:A14,Feuil1!$B$2:$B$100)=0)*(Feuil1!$A$2:$A$100=$A14),ROW(Feuil1!$B$2:$B$100)-1),1)),"")} -> 0 | C14: {=IFERROR(INDEX(Feuil1!$B$2:$B$100,SMALL(IF((COUNTIF($A14:B14,Feuil1!$B$2:$B$100)=0)*(Feuil1!$A$2:$A$100=$A14),ROW(Feuil1!$B$2:$B$100)-1),1)),"")} | D14: {=IFERROR(INDEX(Feuil1!$B$2:$B$100,SMALL(IF((COUNTIF($A14:C14,Feuil1!$B$2:$B$100)=0)*(Feuil1!$A$2:$A$100=$A14),ROW(Feuil1!$B$2:$B$100)-1),1)),"")} | E14: {=IFERROR(INDEX(Feuil1!$B$2:$B$100,SMALL(IF((COUNTIF($A14:D14,Feuil1!$B$2:$B$100)=0)*(Feuil1!$A$2:$A$100=$A14),ROW(Feuil1!$B$2:$B$100)-1),1)),"")} | F14: {=IFERROR(INDEX(Feuil1!$B$2:$B$100,SMALL(IF((COUNTIF($A14:E14,Feuil1!$B$2:$B$100)=0)*(Feuil1!$A$2:$A$100=$A14),ROW(Feuil1!$B$2:$B$100)-1),1)),"")} | G14: {=IFERROR(INDEX(Feuil1!$B$2:$B$100,SMALL(IF((COUNTIF($A14:F14,Feuil1!$B$2:$B$100)=0)*(Feuil1!$A$2:$A$100=$A14),ROW(Feuil1!$B$2:$B$100)-1),1)),"")} | H14: {=IFERROR(INDEX(Feuil1!$B$2:$B$100,SMALL(IF((COUNTIF($A14:G14,Feuil1!$B$2:$B$100)=0)*(Feuil1!$A$2:$A$100=$A14),ROW(Feuil1!$B$2:$B$100)-1),1)),"")} | I14: {=IFERROR(INDEX(Feuil1!$B$2:$B$100,SMALL(IF((COUNTIF($A14:H14,Feuil1!$B$2:$B$100)=0)*(Feuil1!$A$2:$A$100=$A14),ROW(Feuil1!$B$2:$B$100)-1),1)),"")} | ... N14: {=IFERROR(INDEX(Feuil1!$B$2:$B$100,SMALL(IF((COUNTIF($A14:M14,Feuil1!$B$2:$B$100)=0)*(Feuil1!$A$2:$A$100=$A14),ROW(Feuil1!$B$2:$B$100)-1),1)),"")}
B15: {=IFERROR(INDEX(Feuil1!$B$2:$B$100,SMALL(IF((COUNTIF($A15:A15,Feuil1!$B$2:$B$100)=0)*(Feuil1!$A$2:$A$100=$A15),ROW(Feuil1!$B$2:$B$100)-1),1)),"")} -> 0 | C15: {=IFERROR(INDEX(Feuil1!$B$2:$B$100,SMALL(IF((COUNTIF($A15:B15,Feuil1!$B$2:$B$100)=0)*(Feuil1!$A$2:$A$100=$A15),ROW(Feuil1!$B$2:$B$100)-1),1)),"")} | D15: {=IFERROR(INDEX(Feuil1!$B$2:$B$100,SMALL(IF((COUNTIF($A15:C15,Feuil1!$B$2:$B$100)=0)*(Feuil1!$A$2:$A$100=$A15),ROW(Feuil1!$B$2:$B$100)-1),1)),"")} | E15: {=IFERROR(INDEX(Feuil1!$B$2:$B$100,SMALL(IF((COUNTIF($A15:D15,Feuil1!$B$2:$B$100)=0)*(Feuil1!$A$2:$A$100=$A15),ROW(Feuil1!$B$2:$B$100)-1),1)),"")} | F15: {=IFERROR(INDEX(Feuil1!$B$2:$B$100,SMALL(IF((COUNTIF($A15:E15,Feuil1!$B$2:$B$100)=0)*(Feuil1!$A$2:$A$100=$A15),ROW(Feuil1!$B$2:$B$100)-1),1)),"")} | G15: {=IFERROR(INDEX(Feuil1!$B$2:$B$100,SMALL(IF((COUNTIF($A15:F15,Feuil1!$B$2:$B$100)=0)*(Feuil1!$A$2:$A$100=$A15),ROW(Feuil1!$B$2:$B$100)-1),1)),"")} | H15: {=IFERROR(INDEX(Feuil1!$B$2:$B$100,SMALL(IF((COUNTIF($A15:G15,Feuil1!$B$2:$B$100)=0)*(Feuil1!$A$2:$A$100=$A15),ROW(Feuil1!$B$2:$B$100)-1),1)),"")} | I15: {=IFERROR(INDEX(Feuil1!$B$2:$B$100,SMALL(IF((COUNTIF($A15:H15,Feuil1!$B$2:$B$100)=0)*(Feuil1!$A$2:$A$100=$A15),ROW(Feuil1!$B$2:$B$100)-1),1)),"")} | ... N15: {=IFERROR(INDEX(Feuil1!$B$2:$B$100,SMALL(IF((COUNTIF($A15:M15,Feuil1!$B$2:$B$100)=0)*(Feuil1!$A$2:$A$100=$A15),ROW(Feuil1!$B$2:$B$100)-1),1)),"")}
B16: {=IFERROR(INDEX(Feuil1!$B$2:$B$100,SMALL(IF((COUNTIF($A16:A16,Feuil1!$B$2:$B$100)=0)*(Feuil1!$A$2:$A$100=$A16),ROW(Feuil1!$B$2:$B$100)-1),1)),"")} -> 0 | C16: {=IFERROR(INDEX(Feuil1!$B$2:$B$100,SMALL(IF((COUNTIF($A16:B16,Feuil1!$B$2:$B$100)=0)*(Feuil1!$A$2:$A$100=$A16),ROW(Feuil1!$B$2:$B$100)-1),1)),"")} | D16: {=IFERROR(INDEX(Feuil1!$B$2:$B$100,SMALL(IF((COUNTIF($A16:C16,Feuil1!$B$2:$B$100)=0)*(Feuil1!$A$2:$A$100=$A16),ROW(Feuil1!$B$2:$B$100)-1),1)),"")} | E16: {=IFERROR(INDEX(Feuil1!$B$2:$B$100,SMALL(IF((COUNTIF($A16:D16,Feuil1!$B$2:$B$100)=0)*(Feuil1!$A$2:$A$100=$A16),ROW(Feuil1!$B$2:$B$100)-1),1)),"")} | F16: {=IFERROR(INDEX(Feuil1!$B$2:$B$100,SMALL(IF((COUNTIF($A16:E16,Feuil1!$B$2:$B$100)=0)*(Feuil1!$A$2:$A$100=$A16),ROW(Feuil1!$B$2:$B$100)-1),1)),"")} | G16: {=IFERROR(INDEX(Feuil1!$B$2:$B$100,SMALL(IF((COUNTIF($A16:F16,Feuil1!$B$2:$B$100)=0)*(Feuil1!$A$2:$A$100=$A16),ROW(Feuil1!$B$2:$B$100)-1),1)),"")} | H16: {=IFERROR(INDEX(Feuil1!$B$2:$B$100,SMALL(IF((COUNTIF($A16:G16,Feuil1!$B$2:$B$100)=0)*(Feuil1!$A$2:$A$100=$A16),ROW(Feuil1!$B$2:$B$100)-1),1)),"")} | I16: {=IFERROR(INDEX(Feuil1!$B$2:$B$100,SMALL(IF((COUNTIF($A16:H16,Feuil1!$B$2:$B$100)=0)*(Feuil1!$A$2:$A$100=$A16),ROW(Feuil1!$B$2:$B$100)-1),1)),"")} | ... N16: {=IFERROR(INDEX(Feuil1!$B$2:$B$100,SMALL(IF((COUNTIF($A16:M16,Feuil1!$B$2:$B$100)=0)*(Feuil1!$A$2:$A$100=$A16),ROW(Feuil1!$B$2:$B$100)-1),1)),"")}
B17: {=IFERROR(INDEX(Feuil1!$B$2:$B$100,SMALL(IF((COUNTIF($A17:A17,Feuil1!$B$2:$B$100)=0)*(Feuil1!$A$2:$A$100=$A17),ROW(Feuil1!$B$2:$B$100)-1),1)),"")} -> 0 | C17: {=IFERROR(INDEX(Feuil1!$B$2:$B$100,SMALL(IF((COUNTIF($A17:B17,Feuil1!$B$2:$B$100)=0)*(Feuil1!$A$2:$A$100=$A17),ROW(Feuil1!$B$2:$B$100)-1),1)),"")} | D17: {=IFERROR(INDEX(Feuil1!$B$2:$B$100,SMALL(IF((COUNTIF($A17:C17,Feuil1!$B$2:$B$100)=0)*(Feuil1!$A$2:$A$100=$A17),ROW(Feuil1!$B$2:$B$100)-1),1)),"")} | E17: {=IFERROR(INDEX(Feuil1!$B$2:$B$100,SMALL(IF((COUNTIF($A17:D17,Feuil1!$B$2:$B$100)=0)*(Feuil1!$A$2:$A$100=$A17),ROW(Feuil1!$B$2:$B$100)-1),1)),"")} | F17: {=IFERROR(INDEX(Feuil1!$B$2:$B$100,SMALL(IF((COUNTIF($A17:E17,Feuil1!$B$2:$B$100)=0)*(Feuil1!$A$2:$A$100=$A17),ROW(Feuil1!$B$2:$B$100)-1),1)),"")} | G17: {=IFERROR(INDEX(Feuil1!$B$2:$B$100,SMALL(IF((COUNTIF($A17:F17,Feuil1!$B$2:$B$100)=0)*(Feuil1!$A$2:$A$100=$A17),ROW(Feuil1!$B$2:$B$100)-1),1)),"")} | H17: {=IFERROR(INDEX(Feuil1!$B$2:$B$100,SMALL(IF((COUNTIF($A17:G17,Feuil1!$B$2:$B$100)=0)*(Feuil1!$A$2:$A$100=$A17),ROW(Feuil1!$B$2:$B$100)-1),1)),"")} | I17: {=IFERROR(INDEX(Feuil1!$B$2:$B$100,SMALL(IF((COUNTIF($A17:H17,Feuil1!$B$2:$B$100)=0)*(Feuil1!$A$2:$A$100=$A17),ROW(Feuil1!$B$2:$B$100)-1),1)),"")} | ... N17: {=IFERROR(INDEX(Feuil1!$B$2:$B$100,SMALL(IF((COUNTIF($A17:M17,Feuil1!$B$2:$B$100)=0)*(Feuil1!$A$2:$A$100=$A17),ROW(Feuil1!$B$2:$B$100)-1),1)),"")}
B18: {=IFERROR(INDEX(Feuil1!$B$2:$B$100,SMALL(IF((COUNTIF($A18:A18,Feuil1!$B$2:$B$100)=0)*(Feuil1!$A$2:$A$100=$A18),ROW(Feuil1!$B$2:$B$100)-1),1)),"")} -> 0 | C18: {=IFERROR(INDEX(Feuil1!$B$2:$B$100,SMALL(IF((COUNTIF($A18:B18,Feuil1!$B$2:$B$100)=0)*(Feuil1!$A$2:$A$100=$A18),ROW(Feuil1!$B$2:$B$100)-1),1)),"")} | D18: {=IFERROR(INDEX(Feuil1!$B$2:$B$100,SMALL(IF((COUNTIF($A18:C18,Feuil1!$B$2:$B$100)=0)*(Feuil1!$A$2:$A$100=$A18),ROW(Feuil1!$B$2:$B$100)-1),1)),"")} | E18: {=IFERROR(INDEX(Feuil1!$B$2:$B$100,SMALL(IF((COUNTIF($A18:D18,Feuil1!$B$2:$B$100)=0)*(Feuil1!$A$2:$A$100=$A18),ROW(Feuil1!$B$2:$B$100)-1),1)),"")} | F18: {=IFERROR(INDEX(Feuil1!$B$2:$B$100,SMALL(IF((COUNTIF($A18:E18,Feuil1!$B$2:$B$100)=0)*(Feuil1!$A$2:$A$100=$A18),ROW(Feuil1!$B$2:$B$100)-1),1)),"")} | G18: {=IFERROR(INDEX(Feuil1!$B$2:$B$100,SMALL(IF((COUNTIF($A18:F18,Feuil1!$B$2:$B$100)=0)*(Feuil1!$A$2:$A$100=$A18),ROW(Feuil1!$B$2:$B$100)-1),1)),"")} | H18: {=IFERROR(INDEX(Feuil1!$B$2:$B$100,SMALL(IF((COUNTIF($A18:G18,Feuil1!$B$2:$B$100)=0)*(Feuil1!$A$2:$A$100=$A18),ROW(Feuil1!$B$2:$B$100)-1),1)),"")} | I18: {=IFERROR(INDEX(Feuil1!$B$2:$B$100,SMALL(IF((COUNTIF($A18:H18,Feuil1!$B$2:$B$100)=0)*(Feuil1!$A$2:$A$100=$A18),ROW(Feuil1!$B$2:$B$100)-1),1)),"")} | ... N18: {=IFERROR(INDEX(Feuil1!$B$2:$B$100,SMALL(IF((COUNTIF($A18:M18,Feuil1!$B$2:$B$100)=0)*(Feuil1!$A$2:$A$100=$A18),ROW(Feuil1!$B$2:$B$100)-1),1)),"")}
... B20: {=IFERROR(INDEX(Feuil1!$B$2:$B$100,SMALL(IF((COUNTIF($A20:A20,Feuil1!$B$2:$B$100)=0)*(Feuil1!$A$2:$A$100=$A20),ROW(Feuil1!$B$2:$B$100)-1),1)),"")} -> 0 | C20: {=IFERROR(INDEX(Feuil1!$B$2:$B$100,SMALL(IF((COUNTIF($A20:B20,Feuil1!$B$2:$B$100)=0)*(Feuil1!$A$2:$A$100=$A20),ROW(Feuil1!$B$2:$B$100)-1),1)),"")} | D20: {=IFERROR(INDEX(Feuil1!$B$2:$B$100,SMALL(IF((COUNTIF($A20:C20,Feuil1!$B$2:$B$100)=0)*(Feuil1!$A$2:$A$100=$A20),ROW(Feuil1!$B$2:$B$100)-1),1)),"")} | E20: {=IFERROR(INDEX(Feuil1!$B$2:$B$100,SMALL(IF((COUNTIF($A20:D20,Feuil1!$B$2:$B$100)=0)*(Feuil1!$A$2:$A$100=$A20),ROW(Feuil1!$B$2:$B$100)-1),1)),"")} | F20: {=IFERROR(INDEX(Feuil1!$B$2:$B$100,SMALL(IF((COUNTIF($A20:E20,Feuil1!$B$2:$B$100)=0)*(Feuil1!$A$2:$A$100=$A20),ROW(Feuil1!$B$2:$B$100)-1),1)),"")} | G20: {=IFERROR(INDEX(Feuil1!$B$2:$B$100,SMALL(IF((COUNTIF($A20:F20,Feuil1!$B$2:$B$100)=0)*(Feuil1!$A$2:$A$100=$A20),ROW(Feuil1!$B$2:$B$100)-1),1)),"")} | H20: {=IFERROR(INDEX(Feuil1!$B$2:$B$100,SMALL(IF((COUNTIF($A20:G20,Feuil1!$B$2:$B$100)=0)*(Feuil1!$A$2:$A$100=$A20),ROW(Feuil1!$B$2:$B$100)-1),1)),"")} | I20: {=IFERROR(INDEX(Feuil1!$B$2:$B$100,SMALL(IF((COUNTIF($A20:H20,Feuil1!$B$2:$B$100)=0)*(Feuil1!$A$2:$A$100=$A20),ROW(Feuil1!$B$2:$B$100)-1),1)),"")} | ... N20: {=IFERROR(INDEX(Feuil1!$B$2:$B$100,SMALL(IF((COUNTIF($A20:M20,Feuil1!$B$2:$B$100)=0)*(Feuil1!$A$2:$A$100=$A20),ROW(Feuil1!$B$2:$B$100)-1),1)),"")}
