Workbook

Sheet DATA
A1: Type d'immeuble | B1: Multi résidentiel | C1: Bureau | E1: Long terme 1 | I1: Long terme 2 | M1: Long terme 3 | Q1: Long terme 4
A2: Maintenance | B2: 650 | C2: 0.02 | E2: Année | F2: Cashflow annuel | G2: Cashflow cumulatif | I2: Année | J2: Cashflow annuel | K2: Cashflow cumulatif | M2: Année | N2: Cashflow annuel | O2: Cashflow cumulatif | Q2: Année | R2: Cashflow annuel | S2: Cashflow cumulatif
A3: Gestion | B3: 0.035 | C3: 0.035 | E3: 1 | F3: =(FV(0.0175,E3,,-'Long terme 1'!$B$7))-(FV(0.007,E3,,-('Long terme 1'!$D$22-('Long terme 1'!$D$13*12))))-('Long terme 1'!$D$13*12) -> 0 | G3: =F3 -> 0 | I3: 1 | J3: =(FV(0.0175,I3,,-'Long terme 2'!$B$7))-(FV(0.007,I3,,-('Long terme 2'!$D$22-('Long terme 2'!$D$13*12))))-('Long terme 2'!$D$13*12) -> -5476.5664 | K3: =J3 -> -5476.5664 | M3: 1 | N3: =(FV(0.0175,M3,,-'Long terme 3'!$B$7))-(FV(0.007,M3,,-('Long terme 3'!$D$22-('Long terme 3'!$D$13*12))))-('Long terme 3'!$D$13*12) -> 0 | O3: =N3 -> 0 | Q3: 1 | R3: =(FV(0.0175,Q3,,-'Long terme 4'!$B$7))-(FV(0.007,Q3,,-('Long terme 4'!$D$22-('Long terme 4'!$D$13*12))))-('Long terme 4'!$D$13*12) -> 0 | S3: =R3 -> 0
A4: Réserve remplacement | B4: 0.02 | C4: 0.02 | E4: 2 | F4: =(FV(0.0175,E4,,-'Long terme 1'!$B$7))-(FV(0.007,E4,,-('Long terme 1'!$D$22-('Long terme 1'!$D$13*12))))-('Long terme 1'!$D$13*12) -> 0 | G4: =F4+G3 -> 0 | I4: 2 | J4: =(FV(0.0175,I4,,-'Long terme 2'!$B$7))-(FV(0.007,I4,,-('Long terme 2'!$D$22-('Long terme 2'!$D$13*12))))-('Long terme 2'!$D$13*12) -> -5483.3763 | K4: =J4+K3 -> -10959.943 | M4: 2 | N4: =(FV(0.0175,M4,,-'Long terme 3'!$B$7))-(FV(0.007,M4,,-('Long terme 3'!$D$22-('Long terme 3'!$D$13*12))))-('Long terme 3'!$D$13*12) -> 0 | O4: =N4+O3 -> 0 | Q4: 2 | R4: =(FV(0.0175,Q4,,-'Long terme 4'!$B$7))-(FV(0.007,Q4,,-('Long terme 4'!$D$22-('Long terme 4'!$D$13*12))))-('Long terme 4'!$D$13*12) -> 0 | S4: =R4+S3 -> 0
A5: Taux d'innocupation | B5: 0.05 | C5: 0.05 | E5: 3 | F5: =(FV(0.0175,E5,,-'Long terme 1'!$B$7))-(FV(0.007,E5,,-('Long terme 1'!$D$22-('Long terme 1'!$D$13*12))))-('Long terme 1'!$D$13*12) -> 0 | G5: =F5+G4 -> 0 | I5: 3 | J5: =(FV(0.0175,I5,,-'Long terme 2'!$B$7))-(FV(0.007,I5,,-('Long terme 2'!$D$22-('Long terme 2'!$D$13*12))))-('Long terme 2'!$D$13*12) -> -5490.2301 | K5: =J5+K4 -> -16450.173 | M5: 3 | N5: =(FV(0.0175,M5,,-'Long terme 3'!$B$7))-(FV(0.007,M5,,-('Long terme 3'!$D$22-('Long terme 3'!$D$13*12))))-('Long terme 3'!$D$13*12) -> 0 | O5: =N5+O4 -> 0 | Q5: 3 | R5: =(FV(0.0175,Q5,,-'Long terme 4'!$B$7))-(FV(0.007,Q5,,-('Long terme 4'!$D$22-('Long terme 4'!$D$13*12))))-('Long terme 4'!$D$13*12) -> 0 | S5: =R5+S4 -> 0
A6: taux actualisation | B6: 0.05 | C6: 0.065 | E6: 4 | F6: =(FV(0.0175,E6,,-'Long terme 1'!$B$7))-(FV(0.007,E6,,-('Long terme 1'!$D$22-('Long terme 1'!$D$13*12))))-('Long terme 1'!$D$13*12) -> 0 | G6: =F6+G5 -> 0 | I6: 4 | J6: =(FV(0.0175,I6,,-'Long terme 2'!$B$7))-(FV(0.007,I6,,-('Long terme 2'!$D$22-('Long terme 2'!$D$13*12))))-('Long terme 2'!$D$13*12) -> -5497.1281 | K6: =J6+K5 -> -21947.301 | M6: 4 | N6: =(FV(0.0175,M6,,-'Long terme 3'!$B$7))-(FV(0.007,M6,,-('Long terme 3'!$D$22-('Long terme 3'!$D$13*12))))-('Long terme 3'!$D$13*12) -> 0 | O6: =N6+O5 -> 0 | Q6: 4 | R6: =(FV(0.0175,Q6,,-'Long terme 4'!$B$7))-(FV(0.007,Q6,,-('Long terme 4'!$D$22-('Long terme 4'!$D$13*12))))-('Long terme 4'!$D$13*12) -> 0 | S6: =R6+S5 -> 0
A7: DSC | B7: 1.2 | C7: 1.25 | E7: 5 | F7: =(FV(0.0175,E7,,-'Long terme 1'!$B$7))-(FV(0.007,E7,,-('Long terme 1'!$D$22-('Long terme 1'!$D$13*12))))-('Long terme 1'!$D$13*12) -> 0 | G7: =F7+G6 -> 0 | I7: 5 | J7: =(FV(0.0175,I7,,-'Long terme 2'!$B$7))-(FV(0.007,I7,,-('Long terme 2'!$D$22-('Long terme 2'!$D$13*12))))-('Long terme 2'!$D$13*12) -> -5504.0705 | K7: =J7+K6 -> -27451.371 | M7: 5 | N7: =(FV(0.0175,M7,,-'Long terme 3'!$B$7))-(FV(0.007,M7,,-('Long terme 3'!$D$22-('Long terme 3'!$D$13*12))))-('Long terme 3'!$D$13*12) -> 0 | O7: =N7+O6 -> 0 | Q7: 5 | R7: =(FV(0.0175,Q7,,-'Long terme 4'!$B$7))-(FV(0.007,Q7,,-('Long terme 4'!$D$22-('Long terme 4'!$D$13*12))))-('Long terme 4'!$D$13*12) -> 0 | S7: =R7+S6 -> 0
E8: 6 | F8: =(FV(0.0175,E8,,-'Long terme 1'!$B$7))-(FV(0.007,E8,,-('Long terme 1'!$D$22-('Long terme 1'!$D$13*12))))-('Long terme 1'!$D$13*12) -> 0 | G8: =F8+G7 -> 0 | I8: 6 | J8: =(FV(0.0175,I8,,-'Long terme 2'!$B$7))-(FV(0.007,I8,,-('Long terme 2'!$D$22-('Long terme 2'!$D$13*12))))-('Long terme 2'!$D$13*12) -> -5511.0576 | K8: =J8+K7 -> -32962.429 | M8: 6 | N8: =(FV(0.0175,M8,,-'Long terme 3'!$B$7))-(FV(0.007,M8,,-('Long terme 3'!$D$22-('Long terme 3'!$D$13*12))))-('Long terme 3'!$D$13*12) -> 0 | O8: =N8+O7 -> 0 | Q8: 6 | R8: =(FV(0.0175,Q8,,-'Long terme 4'!$B$7))-(FV(0.007,Q8,,-('Long terme 4'!$D$22-('Long terme 4'!$D$13*12))))-('Long terme 4'!$D$13*12) -> 0 | S8: =R8+S7 -> 0
E9: 7 | F9: =(FV(0.0175,E9,,-'Long terme 1'!$B$7))-(FV(0.007,E9,,-('Long terme 1'!$D$22-('Long terme 1'!$D$13*12))))-('Long terme 1'!$D$13*12) -> 0 | G9: =F9+G8 -> 0 | I9: 7 | J9: =(FV(0.0175,I9,,-'Long terme 2'!$B$7))-(FV(0.007,I9,,-('Long terme 2'!$D$22-('Long terme 2'!$D$13*12))))-('Long terme 2'!$D$13*12) -> -5518.0895 | K9: =J9+K8 -> -38480.519 | M9: 7 | N9: =(FV(0.0175,M9,,-'Long terme 3'!$B$7))-(FV(0.007,M9,,-('Long terme 3'!$D$22-('Long terme 3'!$D$13*12))))-('Long terme 3'!$D$13*12) -> 0 | O9: =N9+O8 -> 0 | Q9: 7 | R9: =(FV(0.0175,Q9,,-'Long terme 4'!$B$7))-(FV(0.007,Q9,,-('Long terme 4'!$D$22-('Long terme 4'!$D$13*12))))-('Long terme 4'!$D$13*12) -> 0 | S9: =R9+S8 -> 0
E10: 8 | F10: =(FV(0.0175,E10,,-'Long terme 1'!$B$7))-(FV(0.007,E10,,-('Long terme 1'!$D$22-('Long terme 1'!$D$13*12))))-('Long terme 1'!$D$13*12) -> 0 | G10: =F10+G9 -> 0 | I10: 8 | J10: =(FV(0.0175,I10,,-'Long terme 2'!$B$7))-(FV(0.007,I10,,-('Long terme 2'!$D$22-('Long terme 2'!$D$13*12))))-('Long terme 2'!$D$13*12) -> -5525.1667 | K10: =J10+K9 -> -44005.685 | M10: 8 | N10: =(FV(0.0175,M10,,-'Long terme 3'!$B$7))-(FV(0.007,M10,,-('Long terme 3'!$D$22-('Long terme 3'!$D$13*12))))-('Long terme 3'!$D$13*12) -> 0 | O10: =N10+O9 -> 0 | Q10: 8 | R10: =(FV(0.0175,Q10,,-'Long terme 4'!$B$7))-(FV(0.007,Q10,,-('Long terme 4'!$D$22-('Long terme 4'!$D$13*12))))-('Long terme 4'!$D$13*12) -> 0 | S10: =R10+S9 -> 0
E11: 9 | F11: =(FV(0.0175,E11,,-'Long terme 1'!$B$7))-(FV(0.007,E11,,-('Long terme 1'!$D$22-('Long terme 1'!$D$13*12))))-('Long terme 1'!$D$13*12) -> 0 | G11: =F11+G10 -> 0 | I11: 9 | J11: =(FV(0.0175,I11,,-'Long terme 2'!$B$7))-(FV(0.007,I11,,-('Long terme 2'!$D$22-('Long terme 2'!$D$13*12))))-('Long terme 2'!$D$13*12) -> -5532.2892 | K11: =J11+K10 -> -49537.974 | M11: 9 | N11: =(FV(0.0175,M11,,-'Long terme 3'!$B$7))-(FV(0.007,M11,,-('Long terme 3'!$D$22-('Long terme 3'!$D$13*12))))-('Long terme 3'!$D$13*12) -> 0 | O11: =N11+O10 -> 0 | Q11: 9 | R11: =(FV(0.0175,Q11,,-'Long terme 4'!$B$7))-(FV(0.007,Q11,,-('Long terme 4'!$D$22-('Long terme 4'!$D$13*12))))-('Long terme 4'!$D$13*12) -> 0 | S11: =R11+S10 -> 0
E12: 10 | F12: =(FV(0.0175,E12,,-'Long terme 1'!$B$7))-(FV(0.007,E12,,-('Long terme 1'!$D$22-('Long terme 1'!$D$13*12))))-('Long terme 1'!$D$13*12) -> 0 | G12: =F12+G11 -> 0 | I12: 10 | J12: =(FV(0.0175,I12,,-'Long terme 2'!$B$7))-(FV(0.007,I12,,-('Long terme 2'!$D$22-('Long terme 2'!$D$13*12))))-('Long terme 2'!$D$13*12) -> -5539.4573 | K12: =J12+K11 -> -55077.432 | M12: 10 | N12: =(FV(0.0175,M12,,-'Long terme 3'!$B$7))-(FV(0.007,M12,,-('Long terme 3'!$D$22-('Long terme 3'!$D$13*12))))-('Long terme 3'!$D$13*12) -> 0 | O12: =N12+O11 -> 0 | Q12: 10 | R12: =(FV(0.0175,Q12,,-'Long terme 4'!$B$7))-(FV(0.007,Q12,,-('Long terme 4'!$D$22-('Long terme 4'!$D$13*12))))-('Long terme 4'!$D$13*12) -> 0 | S12: =R12+S11 -> 0
E13: 11 | F13: =(FV(0.0175,E13,,-'Long terme 1'!$B$7))-(FV(0.007,E13,,-('Long terme 1'!$D$22-('Long terme 1'!$D$13*12))))-('Long terme 1'!$D$13*12) -> 0 | G13: =F13+G12 -> 0 | I13: 11 | J13: =(FV(0.0175,I13,,-'Long terme 2'!$B$7))-(FV(0.007,I13,,-('Long terme 2'!$D$22-('Long terme 2'!$D$13*12))))-('Long terme 2'!$D$13*12) -> -5546.6713 | K13: =J13+K12 -> -60624.103 | M13: 11 | N13: =(FV(0.0175,M13,,-'Long terme 3'!$B$7))-(FV(0.007,M13,,-('Long terme 3'!$D$22-('Long terme 3'!$D$13*12))))-('Long terme 3'!$D$13*12) -> 0 | O13: =N13+O12 -> 0 | Q13: 11 | R13: =(FV(0.0175,Q13,,-'Long terme 4'!$B$7))-(FV(0.007,Q13,,-('Long terme 4'!$D$22-('Long terme 4'!$D$13*12))))-('Long terme 4'!$D$13*12) -> 0 | S13: =R13+S12 -> 0
E14: 12 | F14: =(FV(0.0175,E14,,-'Long terme 1'!$B$7))-(FV(0.007,E14,,-('Long terme 1'!$D$22-('Long terme 1'!$D$13*12))))-('Long terme 1'!$D$13*12) -> 0 | G14: =F14+G13 -> 0 | I14: 12 | J14: =(FV(0.0175,I14,,-'Long terme 2'!$B$7))-(FV(0.007,I14,,-('Long terme 2'!$D$22-('Long terme 2'!$D$13*12))))-('Long terme 2'!$D$13*12) -> -5553.9315 | K14: =J14+K13 -> -66178.034 | M14: 12 | N14: =(FV(0.0175,M14,,-'Long terme 3'!$B$7))-(FV(0.007,M14,,-('Long terme 3'!$D$22-('Long terme 3'!$D$13*12))))-('Long terme 3'!$D$13*12) -> 0 | O14: =N14+O13 -> 0 | Q14: 12 | R14: =(FV(0.0175,Q14,,-'Long terme 4'!$B$7))-(FV(0.007,Q14,,-('Long terme 4'!$D$22-('Long terme 4'!$D$13*12))))-('Long terme 4'!$D$13*12) -> 0 | S14: =R14+S13 -> 0
E15: 13 | F15: =(FV(0.0175,E15,,-'Long terme 1'!$B$7))-(FV(0.007,E15,,-('Long terme 1'!$D$22-('Long terme 1'!$D$13*12))))-('Long terme 1'!$D$13*12) -> 0 | G15: =F15+G14 -> 0 | I15: 13 | J15: =(FV(0.0175,I15,,-'Long terme 2'!$B$7))-(FV(0.007,I15,,-('Long terme 2'!$D$22-('Long terme 2'!$D$13*12))))-('Long terme 2'!$D$13*12) -> -5561.238 | K15: =J15+K14 -> -71739.272 | M15: 13 | N15: =(FV(0.0175,M15,,-'Long terme 3'!$B$7))-(FV(0.007,M15,,-('Long terme 3'!$D$22-('Long terme 3'!$D$13*12))))-('Long terme 3'!$D$13*12) -> 0 | O15: =N15+O14 -> 0 | Q15: 13 | R15: =(FV(0.0175,Q15,,-'Long terme 4'!$B$7))-(FV(0.007,Q15,,-('Long terme 4'!$D$22-('Long terme 4'!$D$13*12))))-('Long terme 4'!$D$13*12) -> 0 | S15: =R15+S14 -> 0
E16: 14 | F16: =(FV(0.0175,E16,,-'Long terme 1'!$B$7))-(FV(0.007,E16,,-('Long terme 1'!$D$22-('Long terme 1'!$D$13*12))))-('Long terme 1'!$D$13*12) -> 0 | G16: =F16+G15 -> 0 | I16: 14 | J16: =(FV(0.0175,I16,,-'Long terme 2'!$B$7))-(FV(0.007,I16,,-('Long terme 2'!$D$22-('Long terme 2'!$D$13*12))))-('Long terme 2'!$D$13*12) -> -5568.5911 | K16: =J16+K15 -> -77307.864 | M16: 14 | N16: =(FV(0.0175,M16,,-'Long terme 3'!$B$7))-(FV(0.007,M16,,-('Long terme 3'!$D$22-('Long terme 3'!$D$13*12))))-('Long terme 3'!$D$13*12) -> 0 | O16: =N16+O15 -> 0 | Q16: 14 | R16: =(FV(0.0175,Q16,,-'Long terme 4'!$B$7))-(FV(0.007,Q16,,-('Long terme 4'!$D$22-('Long terme 4'!$D$13*12))))-('Long terme 4'!$D$13*12) -> 0 | S16: =R16+S15 -> 0
E17: 15 | F17: =(FV(0.0175,E17,,-'Long terme 1'!$B$7))-(FV(0.007,E17,,-('Long terme 1'!$D$22-('Long terme 1'!$D$13*12))))-('Long terme 1'!$D$13*12) -> 0 | G17: =F17+G16 -> 0 | I17: 15 | J17: =(FV(0.0175,I17,,-'Long terme 2'!$B$7))-(FV(0.007,I17,,-('Long terme 2'!$D$22-('Long terme 2'!$D$13*12))))-('Long terme 2'!$D$13*12) -> -5575.9911 | K17: =J17+K16 -> -82883.855 | M17: 15 | N17: =(FV(0.0175,M17,,-'Long terme 3'!$B$7))-(FV(0.007,M17,,-('Long terme 3'!$D$22-('Long terme 3'!$D$13*12))))-('Long terme 3'!$D$13*12) -> 0 | O17: =N17+O16 -> 0 | Q17: 15 | R17: =(FV(0.0175,Q17,,-'Long terme 4'!$B$7))-(FV(0.007,Q17,,-('Long terme 4'!$D$22-('Long terme 4'!$D$13*12))))-('Long terme 4'!$D$13*12) -> 0 | S17: =R17+S16 -> 0
E18: 16 | F18: =(FV(0.0175,E18,,-'Long terme 1'!$B$7))-(FV(0.007,E18,,-('Long terme 1'!$D$22-('Long terme 1'!$D$13*12))))-('Long terme 1'!$D$13*12) -> 0 | G18: =F18+G17 -> 0 | I18: 16 | J18: =(FV(0.0175,I18,,-'Long terme 2'!$B$7))-(FV(0.007,I18,,-('Long terme 2'!$D$22-('Long terme 2'!$D$13*12))))-('Long terme 2'!$D$13*12) -> -5583.4382 | K18: =J18+K17 -> -88467.293 | M18: 16 | N18: =(FV(0.0175,M18,,-'Long terme 3'!$B$7))-(FV(0.007,M18,,-('Long terme 3'!$D$22-('Long terme 3'!$D$13*12))))-('Long terme 3'!$D$13*12) -> 0 | O18: =N18+O17 -> 0 | Q18: 16 | R18: =(FV(0.0175,Q18,,-'Long terme 4'!$B$7))-(FV(0.007,Q18,,-('Long terme 4'!$D$22-('Long terme 4'!$D$13*12))))-('Long terme 4'!$D$13*12) -> 0 | S18: =R18+S17 -> 0
E19: 17 | F19: =(FV(0.0175,E19,,-'Long terme 1'!$B$7))-(FV(0.007,E19,,-('Long terme 1'!$D$22-('Long terme 1'!$D$13*12))))-('Long terme 1'!$D$13*12) -> 0 | G19: =F19+G18 -> 0 | I19: 17 | J19: =(FV(0.0175,I19,,-'Long terme 2'!$B$7))-(FV(0.007,I19,,-('Long terme 2'!$D$22-('Long terme 2'!$D$13*12))))-('Long terme 2'!$D$13*12) -> -5590.9327 | K19: =J19+K18 -> -94058.226 | M19: 17 | N19: =(FV(0.0175,M19,,-'Long terme 3'!$B$7))-(FV(0.007,M19,,-('Long terme 3'!$D$22-('Long terme 3'!$D$13*12))))-('Long terme 3'!$D$13*12) -> 0 | O19: =N19+O18 -> 0 | Q19: 17 | R19: =(FV(0.0175,Q19,,-'Long terme 4'!$B$7))-(FV(0.007,Q19,,-('Long terme 4'!$D$22-('Long terme 4'!$D$13*12))))-('Long terme 4'!$D$13*12) -> 0 | S19: =R19+S18 -> 0
... E27: 25 | F27: =(FV(0.0175,E27,,-'Long terme 1'!$B$7))-(FV(0.007,E27,,-('Long terme 1'!$D$22-('Long terme 1'!$D$13*12))))-('Long terme 1'!$D$13*12) -> 0 | G27: =F27+G26 -> 0 | I27: 25 | J27: =(FV(0.0175,I27,,-'Long terme 2'!$B$7))-(FV(0.007,I27,,-('Long terme 2'!$D$22-('Long terme 2'!$D$13*12))))-('Long terme 2'!$D$13*12) -> -5652.6234 | K27: =J27+K26 -> -139061.25 | M27: 25 | N27: =(FV(0.0175,M27,,-'Long terme 3'!$B$7))-(FV(0.007,M27,,-('Long terme 3'!$D$22-('Long terme 3'!$D$13*12))))-('Long terme 3'!$D$13*12) -> 0 | O27: =N27+O26 -> 0 | Q27: 25 | R27: =(FV(0.0175,Q27,,-'Long terme 4'!$B$7))-(FV(0.007,Q27,,-('Long terme 4'!$D$22-('Long terme 4'!$D$13*12))))-('Long terme 4'!$D$13*12) -> 0 | S27: =R27+S26 -> 0

Sheet Long terme 1
A1: Adresse
A2: Lien web
A3: Rentabilité | F3: Capacité de financement | J3: Amortissement
A4: Description | B4: Information | C4: Mise de fond initial | D4: Dépense mensuel | F4: Type d'immeuble | G4: Multi résidentiel | J4: Achat | K4: =B5 -> 0 | M4: Intérêt | N4: 0.018
A5: Prix batisse | F5: # unité / pi² | G5: 2 | J5: Mise de fond | K5: =C8 -> 0 | M5: Amortissement | N5: 300
A6: Nombre de logement | F6: Taux d'intérêt | G6: 0.02 | J6: Prime SCHL | K6: =C12 -> 0
A7: Revenu brut annuel | F7: Revenu brut | G7: =B7 -> 0 | J7: Capital intial | K7: =K4-K5+K6 -> 0
A8: Mise de fond | C8: =B5*B8 -> 0
A9: Frais notaire | C9: 1250 | F9: Frais normalisé | J9: Mois | K9: Montant ouverture | L9: Versement | M9: capital | N9: intérêt | O9: solde
A10: Frais d'inspection | C10: 750 | F10: Frais de maintenance | G10: =IF($G$4=DATA!$B$1,'Long terme 1'!G5*DATA!B2,'Long terme 1'!G5*DATA!C2) -> 1300 | J10: 1 | K10: =K7 -> 0 | L10: =PMT(($N$4/12),$N$5,$K$7)*-1 -> 0 | M10: =L10-N10 -> 0 | N10: =K10*($N$4/12) -> 0 | O10: =K10-M10 -> 0
A11: Taxe bienvenue | F11: Frais de gestion | G11: =IF($G$4=DATA!$B$1,'Long terme 1'!G$7*DATA!B3,'Long terme 1'!G$7*DATA!C3) -> 0 | J11: 2 | K11: =O10 -> 0 | L11: =PMT(($N$4/12),$N$5,$K$7)*-1 -> 0 | M11: =L11-N11 -> 0 | N11: =K11*$N$4/12 -> 0 | O11: =K11-M11 -> 0
A12: Prime SCHL | F12: Réserve de remplacement | G12: =IF($G$4=DATA!$B$1,'Long terme 1'!G$7*DATA!B4,'Long terme 1'!G$7*DATA!C4) -> 0 | J12: 3 | K12: =O11 -> 0 | L12: =PMT(($N$4/12),$N$5,$K$7)*-1 -> 0 | M12: =L12-N12 -> 0 | N12: =K12*$N$4/12 -> 0 | O12: =K12-M12 -> 0
A13: Paiement hypothecaire | D13: =L10 -> 0 | F13: Taux d'innocupation | G13: =IF($G$4=DATA!$B$1,'Long terme 1'!G$7*DATA!B5,'Long terme 1'!G$7*DATA!C5) -> 0 | J13: 4 | K13: =O12 -> 0 | L13: =PMT(($N$4/12),$N$5,$K$7)*-1 -> 0 | M13: =L13-N13 -> 0 | N13: =K13*$N$4/12 -> 0 | O13: =K13-M13 -> 0
A14: Taxe Municipale | F14: Total | G14: =SUM(G10:G13) -> 1300 | J14: 5 | K14: =O13 -> 0 | L14: =PMT(($N$4/12),$N$5,$K$7)*-1 -> 0 | M14: =L14-N14 -> 0 | N14: =K14*$N$4/12 -> 0 | O14: =K14-M14 -> 0
A15: Taxes scolaires | F15: Revenu net | G15: =G7-G14-((D14+D15)*12) -> -1300 | J15: 6 | K15: =O14 -> 0 | L15: =PMT(($N$4/12),$N$5,$K$7)*-1 -> 0 | M15: =L15-N15 -> 0 | N15: =K15*$N$4/12 -> 0 | O15: =K15-M15 -> 0
A16: Électricité | J16: 7 | K16: =O15 -> 0 | L16: =PMT(($N$4/12),$N$5,$K$7)*-1 -> 0 | M16: =L16-N16 -> 0 | N16: =K16*$N$4/12 -> 0 | O16: =K16-M16 -> 0
A17: Déneigement | D17: =(166*B6)/12 -> 0 | F17: Financement possible | J17: 8 | K17: =O16 -> 0 | L17: =PMT(($N$4/12),$N$5,$K$7)*-1 -> 0 | M17: =L17-N17 -> 0 | N17: =K17*$N$4/12 -> 0 | O17: =K17-M17 -> 0
A18: Assurances | D18: =0.004*B5/12 -> 0 | F18: Selon taux d'actualisation | G18: =G15/H18*0.8 -> -20800 | H18: =IF(G4=DATA!B1,DATA!B6,DATA!C6) -> 0.05 | J18: 9 | K18: =O17 -> 0 | L18: =PMT(($N$4/12),$N$5,$K$7)*-1 -> 0 | M18: =L18-N18 -> 0 | N18: =K18*$N$4/12 -> 0 | O18: =K18-M18 -> 0
A19: Entretien logement | D19: =(B6*450)/12 -> 0 | F19: Selon calcul DSC | G19: =G15/H19/0.0767 -> -14124.294 | H19: =IF(G4=DATA!B1,DATA!B7,DATA!C7) -> 1.2 | J19: 10 | K19: =O18 -> 0 | L19: =PMT(($N$4/12),$N$5,$K$7)*-1 -> 0 | M19: =L19-N19 -> 0 | N19: =K19*$N$4/12 -> 0 | O19: =K19-M19 -> 0
A20: Taux innocupation | D20: =(IF(B6=2,(B7*0.03)/2,B7*0.03))/12 -> 0 | F20: Selon valeur marchande | G20: =B5*H20 -> 0 | H20: 0.95 | J20: 11 | K20: =O19 -> 0 | L20: =PMT(($N$4/12),$N$5,$K$7)*-1 -> 0 | M20: =L20-N20 -> 0 | N20: =K20*$N$4/12 -> 0 | O20: =K20-M20 -> 0
A21: Dépenses mensuelles | D21: =SUM(D5:D20) -> 0 | J21: 12 | K21: =O20 -> 0 | L21: =PMT(($N$4/12),$N$5,$K$7)*-1 -> 0 | M21: =L21-N21 -> 0 | N21: =K21*$N$4/12 -> 0 | O21: =K21-M21 -> 0
A22: Dépense annuel | D22: =D21*12 -> 0 | J22: 13 | K22: =O21 -> 0 | L22: =PMT(($N$4/12),$N$5,$K$7)*-1 -> 0 | M22: =L22-N22 -> 0 | N22: =K22*$N$4/12 -> 0 | O22: =K22-M22 -> 0
A23: Revenu net annuel | D23: =B7-D22 -> 0 | J23: 14 | K23: =O22 -> 0 | L23: =PMT(($N$4/12),$N$5,$K$7)*-1 -> 0 | M23: =L23-N23 -> 0 | N23: =K23*$N$4/12 -> 0 | O23: =K23-M23 -> 0
A24: Mise de fond | C24: =SUM(C5:C11) -> 2000 | J24: 15 | K24: =O23 -> 0 | L24: =PMT(($N$4/12),$N$5,$K$7)*-1 -> 0 | M24: =L24-N24 -> 0 | N24: =K24*$N$4/12 -> 0 | O24: =K24-M24 -> 0
A25: Mise de fond avec cashflow manquant | C25: =C24+IF(MIN(DATA!G3:G27)<0,-MIN(DATA!G3:G27),0) -> 2000 | J25: 16 | K25: =O24 -> 0 | L25: =PMT(($N$4/12),$N$5,$K$7)*-1 -> 0 | M25: =L25-N25 -> 0 | N25: =K25*$N$4/12 -> 0 | O25: =K25-M25 -> 0
J26: 17 | K26: =O25 -> 0 | L26: =PMT(($N$4/12),$N$5,$K$7)*-1 -> 0 | M26: =L26-N26 -> 0 | N26: =K26*$N$4/12 -> 0 | O26: =K26-M26 -> 0
A27: Rendement | J27: 18 | K27: =O26 -> 0 | L27: =PMT(($N$4/12),$N$5,$K$7)*-1 -> 0 | M27: =L27-N27 -> 0 | N27: =K27*$N$4/12 -> 0 | O27: =K27-M27 -> 0
A28: Prix de la batisse | B28: Capital payé | C28: Revenu généré | D28: ROI | J28: 19 | K28: =O27 -> 0 | L28: =PMT(($N$4/12),$N$5,$K$7)*-1 -> 0 | M28: =L28-N28 -> 0 | N28: =K28*$N$4/12 -> 0 | O28: =K28-M28 -> 0
A29: 5 ans | J29: 20 | K29: =O28 -> 0 | L29: =PMT(($N$4/12),$N$5,$K$7)*-1 -> 0 | M29: =L29-N29 -> 0 | N29: =K29*$N$4/12 -> 0 | O29: =K29-M29 -> 0
A30: =FV(0.03,5,,-B5) -> 0 | B30: =SUM(M10:M69) -> 0 | C30: =DATA!G7 -> 0 | D30: =(((A30-B$5+B30+C30))/C$25) -> 0 | F30: =$C$25*D30 -> 0 | J30: 21 | K30: =O29 -> 0 | L30: =PMT(($N$4/12),$N$5,$K$7)*-1 -> 0 | M30: =L30-N30 -> 0 | N30: =K30*$N$4/12 -> 0 | O30: =K30-M30 -> 0
A31: 10 ans | J31: 22 | K31: =O30 -> 0 | L31: =PMT(($N$4/12),$N$5,$K$7)*-1 -> 0 | M31: =L31-N31 -> 0 | N31: =K31*$N$4/12 -> 0 | O31: =K31-M31 -> 0
A32: =FV(0.03,10,,-B$5) -> 0 | B32: =SUM(M10:M129) -> 0 | C32: =DATA!G12 -> 0 | D32: =(((A32-B$5+B32+C32))/C$25) -> 0 | F32: =$C$25*D32 -> 0 | J32: 23 | K32: =O31 -> 0 | L32: =PMT(($N$4/12),$N$5,$K$7)*-1 -> 0 | M32: =L32-N32 -> 0 | N32: =K32*$N$4/12 -> 0 | O32: =K32-M32 -> 0
A33: 15 ans | J33: 24 | K33: =O32 -> 0 | L33: =PMT(($N$4/12),$N$5,$K$7)*-1 -> 0 | M33: =L33-N33 -> 0 | N33: =K33*$N$4/12 -> 0 | O33: =K33-M33 -> 0
A34: =FV(0.03,15,,-B$5) -> 0 | B34: =SUM(M10:M189) -> 0 | C34: =DATA!G17 -> 0 | D34: =(((A34-B$5+B34+C34))/C$25) -> 0 | F34: =$C$25*D34 -> 0 | J34: 25 | K34: =O33 -> 0 | L34: =PMT(($N$4/12),$N$5,$K$7)*-1 -> 0 | M34: =L34-N34 -> 0 | N34: =K34*$N$4/12 -> 0 | O34: =K34-M34 -> 0
A35: 20 ans | J35: 26 | K35: =O34 -> 0 | L35: =PMT(($N$4/12),$N$5,$K$7)*-1 -> 0 | M35: =L35-N35 -> 0 | N35: =K35*$N$4/12 -> 0 | O35: =K35-M35 -> 0
A36: =FV(0.03,20,,-B$5) -> 0 | B36: =SUM(M10:M249) -> 0 | C36: =DATA!G22 -> 0 | D36: =(((A36-B$5+B36+C36))/C$25) -> 0 | F36: =$C$25*D36 -> 0 | J36: 27 | K36: =O35 -> 0 | L36: =PMT(($N$4/12),$N$5,$K$7)*-1 -> 0 | M36: =L36-N36 -> 0 | N36: =K36*$N$4/12 -> 0 | O36: =K36-M36 -> 0
A37: 25 ans | J37: 28 | K37: =O36 -> 0 | L37: =PMT(($N$4/12),$N$5,$K$7)*-1 -> 0 | M37: =L37-N37 -> 0 | N37: =K37*$N$4/12 -> 0 | O37: =K37-M37 -> 0
A38: =FV(0.03,25,,-B$5) -> 0 | B38: =SUM(M10:M309) -> 0 | C38: =DATA!G27 -> 0 | D38: =(((A38-B$5+B38+C38))/C$25) -> 0 | F38: =$C$25*D38 -> 0 | J38: 29 | K38: =O37 -> 0 | L38: =PMT(($N$4/12),$N$5,$K$7)*-1 -> 0 | M38: =L38-N38 -> 0 | N38: =K38*$N$4/12 -> 0 | O38: =K38-M38 -> 0
J39: 30 | K39: =O38 -> 0 | L39: =PMT(($N$4/12),$N$5,$K$7)*-1 -> 0 | M39: =L39-N39 -> 0 | N39: =K39*$N$4/12 -> 0 | O39: =K39-M39 -> 0
J40: 31 | K40: =O39 -> 0 | L40: =PMT(($N$4/12),$N$5,$K$7)*-1 -> 0 | M40: =L40-N40 -> 0 | N40: =K40*$N$4/12 -> 0 | O40: =K40-M40 -> 0
...

Sheet Long terme 2
A1: Adresse
A2: Lien web
A3: Rentabilité | F3: Capacité de financement | J3: Amortissement
A4: Description | B4: Information | C4: Mise de fond initial | D4: Dépense mensuel | F4: Type d'immeuble | G4: Multi résidentiel | J4: Achat | K4: =B5 -> 100000 | M4: Intérêt | N4: 0.018
A5: Prix batisse | B5: 100000 | F5: # unité / pi² | G5: 2 | J5: Mise de fond | K5: =C8 -> 10000 | M5: Amortissement | N5: 300
A6: Nombre de logement | B6: 1 | F6: Taux d'intérêt | G6: 0.02 | J6: Prime SCHL | K6: =C12 -> 0
A7: Revenu brut annuel | B7: 20 | F7: Revenu brut | G7: =B7 -> 20 | J7: Capital intial | K7: =K4-K5+K6 -> 90000
A8: Mise de fond | B8: 0.1 | C8: =B5*B8 -> 10000
A9: Frais notaire | C9: 1250 | F9: Frais normalisé | J9: Mois | K9: Montant ouverture | L9: Versement | M9: capital | N9: intérêt | O9: solde
A10: Frais d'inspection | C10: 750 | F10: Frais de maintenance | G10: =IF($G$4=DATA!$B$1,'Long terme 2'!G5*DATA!B2,'Long terme 2'!G5*DATA!C2) -> 1300 | J10: 1 | K10: =K7 -> 90000 | L10: =PMT(($N$4/12),$N$5,$K$7)*-1 -> 372.76668 | M10: =L10-N10 -> 237.76668 | N10: =K10*($N$4/12) -> 135 | O10: =K10-M10 -> 89762.233
A11: Taxe bienvenue | F11: Frais de gestion | G11: =IF($G$4=DATA!$B$1,'Long terme 2'!G$7*DATA!B3,'Long terme 2'!G$7*DATA!C3) -> 0.7 | J11: 2 | K11: =O10 -> 89762.233 | L11: =PMT(($N$4/12),$N$5,$K$7)*-1 -> 372.76668 | M11: =L11-N11 -> 238.12333 | N11: =K11*$N$4/12 -> 134.64335 | O11: =K11-M11 -> 89524.11
A12: Prime SCHL | C12: =IF(AND(B8>0,B8<0.1),0.04*(B5-C8),IF(AND(B8=0.1,B8>0.1,B8<0.15),0.031*(B5-C8),IF(AND(B8=0.15,B8>0.15,B8<0.2),0.028*(B5-C8),0))) -> 0 | F12: Réserve de remplacement | G12: =IF($G$4=DATA!$B$1,'Long terme 2'!G$7*DATA!B4,'Long terme 2'!G$7*DATA!C4) -> 0.4 | J12: 3 | K12: =O11 -> 89524.11 | L12: =PMT(($N$4/12),$N$5,$K$7)*-1 -> 372.76668 | M12: =L12-N12 -> 238.48052 | N12: =K12*$N$4/12 -> 134.28616 | O12: =K12-M12 -> 89285.629
A13: Paiement hypothecaire | D13: =L10 -> 372.76668 | F13: Taux d'innocupation | G13: =IF($G$4=DATA!$B$1,'Long terme 2'!G$7*DATA!B5,'Long terme 2'!G$7*DATA!C5) -> 1 | J13: 4 | K13: =O12 -> 89285.629 | L13: =PMT(($N$4/12),$N$5,$K$7)*-1 -> 372.76668 | M13: =L13-N13 -> 238.83824 | N13: =K13*$N$4/12 -> 133.92844 | O13: =K13-M13 -> 89046.791
A14: Taxe Municipale | F14: Total | G14: =SUM(G10:G13) -> 1302.1 | J14: 5 | K14: =O13 -> 89046.791 | L14: =PMT(($N$4/12),$N$5,$K$7)*-1 -> 372.76668 | M14: =L14-N14 -> 239.1965 | N14: =K14*$N$4/12 -> 133.57019 | O14: =K14-M14 -> 88807.595
A15: Taxes scolaires | F15: Revenu net | G15: =G7-G14-((D14+D15)*12) -> -1282.1 | J15: 6 | K15: =O14 -> 88807.595 | L15: =PMT(($N$4/12),$N$5,$K$7)*-1 -> 372.76668 | M15: =L15-N15 -> 239.55529 | N15: =K15*$N$4/12 -> 133.21139 | O15: =K15-M15 -> 88568.039
A16: Électricité | J16: 7 | K16: =O15 -> 88568.039 | L16: =PMT(($N$4/12),$N$5,$K$7)*-1 -> 372.76668 | M16: =L16-N16 -> 239.91463 | N16: =K16*$N$4/12 -> 132.85206 | O16: =K16-M16 -> 88328.125
A17: Déneigement | D17: =(166*B6)/12 -> 13.833333 | F17: Financement possible | J17: 8 | K17: =O16 -> 88328.125 | L17: =PMT(($N$4/12),$N$5,$K$7)*-1 -> 372.76668 | M17: =L17-N17 -> 240.2745 | N17: =K17*$N$4/12 -> 132.49219 | O17: =K17-M17 -> 88087.85
A18: Assurances | D18: =0.004*B5/12 -> 33.333333 | F18: Selon taux d'actualisation | G18: =G15/H18*0.8 -> -20513.6 | H18: =IF(G4=DATA!B1,DATA!B6,DATA!C6) -> 0.05 | J18: 9 | K18: =O17 -> 88087.85 | L18: =PMT(($N$4/12),$N$5,$K$7)*-1 -> 372.76668 | M18: =L18-N18 -> 240.63491 | N18: =K18*$N$4/12 -> 132.13178 | O18: =K18-M18 -> 87847.215
A19: Entretien logement | D19: =(B6*450)/12 -> 37.5 | F19: Selon calcul DSC | G19: =G15/H19/0.0767 -> -13929.813 | H19: =IF(G4=DATA!B1,DATA!B7,DATA!C7) -> 1.2 | J19: 10 | K19: =O18 -> 87847.215 | L19: =PMT(($N$4/12),$N$5,$K$7)*-1 -> 372.76668 | M19: =L19-N19 -> 240.99586 | N19: =K19*$N$4/12 -> 131.77082 | O19: =K19-M19 -> 87606.22
A20: Taux innocupation | D20: =(IF(B6=2,(B7*0.03)/2,B7*0.03))/12 -> 0.05 | F20: Selon valeur marchande | G20: =B5*H20 -> 95000 | H20: 0.95 | J20: 11 | K20: =O19 -> 87606.22 | L20: =PMT(($N$4/12),$N$5,$K$7)*-1 -> 372.76668 | M20: =L20-N20 -> 241.35736 | N20: =K20*$N$4/12 -> 131.40933 | O20: =K20-M20 -> 87364.862
A21: Dépenses mensuelles | D21: =SUM(D5:D20) -> 457.48335 | J21: 12 | K21: =O20 -> 87364.862 | L21: =PMT(($N$4/12),$N$5,$K$7)*-1 -> 372.76668 | M21: =L21-N21 -> 241.71939 | N21: =K21*$N$4/12 -> 131.04729 | O21: =K21-M21 -> 87123.143
A22: Dépense annuel | D22: =D21*12 -> 5489.8002 | J22: 13 | K22: =O21 -> 87123.143 | L22: =PMT(($N$4/12),$N$5,$K$7)*-1 -> 372.76668 | M22: =L22-N22 -> 242.08197 | N22: =K22*$N$4/12 -> 130.68471 | O22: =K22-M22 -> 86881.061
A23: Revenu net annuel | D23: =B7-D22 -> -5469.8002 | J23: 14 | K23: =O22 -> 86881.061 | L23: =PMT(($N$4/12),$N$5,$K$7)*-1 -> 372.76668 | M23: =L23-N23 -> 242.44509 | N23: =K23*$N$4/12 -> 130.32159 | O23: =K23-M23 -> 86638.616
A24: Mise de fond | C24: =SUM(C5:C11) -> 12000 | J24: 15 | K24: =O23 -> 86638.616 | L24: =PMT(($N$4/12),$N$5,$K$7)*-1 -> 372.76668 | M24: =L24-N24 -> 242.80876 | N24: =K24*$N$4/12 -> 129.95792 | O24: =K24-M24 -> 86395.807
A25: Mise de fond avec cashflow manquant | C25: =C24+IF(MIN(DATA!K3:K27)<0,-MIN(DATA!K3:K27),0) -> 151061.25 | J25: 16 | K25: =O24 -> 86395.807 | L25: =PMT(($N$4/12),$N$5,$K$7)*-1 -> 372.76668 | M25: =L25-N25 -> 243.17297 | N25: =K25*$N$4/12 -> 129.59371 | O25: =K25-M25 -> 86152.634
J26: 17 | K26: =O25 -> 86152.634 | L26: =PMT(($N$4/12),$N$5,$K$7)*-1 -> 372.76668 | M26: =L26-N26 -> 243.53773 | N26: =K26*$N$4/12 -> 129.22895 | O26: =K26-M26 -> 85909.096
A27: Rendement | J27: 18 | K27: =O26 -> 85909.096 | L27: =PMT(($N$4/12),$N$5,$K$7)*-1 -> 372.76668 | M27: =L27-N27 -> 243.90304 | N27: =K27*$N$4/12 -> 128.86364 | O27: =K27-M27 -> 85665.193
A28: Prix de la batisse | B28: Capital payé | C28: Revenu généré | D28: ROI | J28: 19 | K28: =O27 -> 85665.193 | L28: =PMT(($N$4/12),$N$5,$K$7)*-1 -> 372.76668 | M28: =L28-N28 -> 244.26889 | N28: =K28*$N$4/12 -> 128.49779 | O28: =K28-M28 -> 85420.924
A29: 5 ans | J29: 20 | K29: =O28 -> 85420.924 | L29: =PMT(($N$4/12),$N$5,$K$7)*-1 -> 372.76668 | M29: =L29-N29 -> 244.6353 | N29: =K29*$N$4/12 -> 128.13139 | O29: =K29-M29 -> 85176.289
A30: =FV(0.03,5,,-B5) -> 115927.41 | B30: =SUM(M10:M69) -> 14915.976 | C30: =DATA!K7 -> -27451.371 | D30: =(((A30-B$5+B30+C30))/C$25) -> 0.022454549 | F30: =$C$25*D30 -> 3392.0124 | J30: 21 | K30: =O29 -> 85176.289 | L30: =PMT(($N$4/12),$N$5,$K$7)*-1 -> 372.76668 | M30: =L30-N30 -> 245.00225 | N30: =K30*$N$4/12 -> 127.76443 | O30: =K30-M30 -> 84931.287
A31: 10 ans | J31: 22 | K31: =O30 -> 84931.287 | L31: =PMT(($N$4/12),$N$5,$K$7)*-1 -> 372.76668 | M31: =L31-N31 -> 245.36975 | N31: =K31*$N$4/12 -> 127.39693 | O31: =K31-M31 -> 84685.917
A32: =FV(0.03,10,,-B$5) -> 134391.64 | B32: =SUM(M10:M129) -> 31235.554 | C32: =DATA!K12 -> -55077.432 | D32: =(((A32-B$5+B32+C32))/C$25) -> 0.06983763 | F32: =$C$25*D32 -> 10549.76 | J32: 23 | K32: =O31 -> 84685.917 | L32: =PMT(($N$4/12),$N$5,$K$7)*-1 -> 372.76668 | M32: =L32-N32 -> 245.73781 | N32: =K32*$N$4/12 -> 127.02888 | O32: =K32-M32 -> 84440.179
A33: 15 ans | J33: 24 | K33: =O32 -> 84440.179 | L33: =PMT(($N$4/12),$N$5,$K$7)*-1 -> 372.76668 | M33: =L33-N33 -> 246.10642 | N33: =K33*$N$4/12 -> 126.66027 | O33: =K33-M33 -> 84194.073
A34: =FV(0.03,15,,-B$5) -> 155796.74 | B34: =SUM(M10:M189) -> 49090.812 | C34: =DATA!K17 -> -82883.855 | D34: =(((A34-B$5+B34+C34))/C$25) -> 0.14566077 | F34: =$C$25*D34 -> 22003.699 | J34: 25 | K34: =O33 -> 84194.073 | L34: =PMT(($N$4/12),$N$5,$K$7)*-1 -> 372.76668 | M34: =L34-N34 -> 246.47558 | N34: =K34*$N$4/12 -> 126.29111 | O34: =K34-M34 -> 83947.597
A35: 20 ans | J35: 26 | K35: =O34 -> 83947.597 | L35: =PMT(($N$4/12),$N$5,$K$7)*-1 -> 372.76668 | M35: =L35-N35 -> 246.84529 | N35: =K35*$N$4/12 -> 125.9214 | O35: =K35-M35 -> 83700.752
A36: =FV(0.03,20,,-B$5) -> 180611.12 | B36: =SUM(M10:M249) -> 68626.258 | C36: =DATA!K22 -> -110876.47 | D36: =(((A36-B$5+B36+C36))/C$25) -> 0.25394277 | F36: =$C$25*D36 -> 38360.914 | J36: 27 | K36: =O35 -> 83700.752 | L36: =PMT(($N$4/12),$N$5,$K$7)*-1 -> 372.76668 | M36: =L36-N36 -> 247.21556 | N36: =K36*$N$4/12 -> 125.55113 | O36: =K36-M36 -> 83453.536
A37: 25 ans | J37: 28 | K37: =O36 -> 83453.536 | L37: =PMT(($N$4/12),$N$5,$K$7)*-1 -> 372.76668 | M37: =L37-N37 -> 247.58638 | N37: =K37*$N$4/12 -> 125.1803 | O37: =K37-M37 -> 83205.95
A38: =FV(0.03,25,,-B$5) -> 209377.79 | B38: =SUM(M10:M309) -> 90000 | C38: =DATA!K27 -> -139061.25 | D38: =(((A38-B$5+B38+C38))/C$25) -> 0.39928531 | F38: =$C$25*D38 -> 60316.539 | J38: 29 | K38: =O37 -> 83205.95 | L38: =PMT(($N$4/12),$N$5,$K$7)*-1 -> 372.76668 | M38: =L38-N38 -> 247.95776 | N38: =K38*$N$4/12 -> 124.80892 | O38: =K38-M38 -> 82957.992
J39: 30 | K39: =O38 -> 82957.992 | L39: =PMT(($N$4/12),$N$5,$K$7)*-1 -> 372.76668 | M39: =L39-N39 -> 248.3297 | N39: =K39*$N$4/12 -> 124.43699 | O39: =K39-M39 -> 82709.663
J40: 31 | K40: =O39 -> 82709.663 | L40: =PMT(($N$4/12),$N$5,$K$7)*-1 -> 372.76668 | M40: =L40-N40 -> 248.70219 | N40: =K40*$N$4/12 -> 124.06449 | O40: =K40-M40 -> 82460.96
...

Sheet Long terme 3
A1: Adresse
A2: Lien web
A3: Rentabilité | F3: Capacité de financement | J3: Amortissement
A4: Description | B4: Information | C4: Mise de fond initial | D4: Dépense mensuel | F4: Type d'immeuble | G4: Multi résidentiel | J4: Achat | K4: =B5 -> 0 | M4: Intérêt | N4: 0.018
A5: Prix batisse | F5: # unité / pi² | G5: 2 | J5: Mise de fond | K5: =C8 -> 0 | M5: Amortissement | N5: 300
A6: Nombre de logement | F6: Taux d'intérêt | G6: 0.02 | J6: Prime SCHL | K6: =C12 -> 0
A7: Revenu brut annuel | F7: Revenu brut | G7: =B7 -> 0 | J7: Capital intial | K7: =K4-K5+K6 -> 0
A8: Mise de fond | C8: =B5*B8 -> 0
A9: Frais notaire | C9: 1250 | F9: Frais normalisé | J9: Mois | K9: Montant ouverture | L9: Versement | M9: capital | N9: intérêt | O9: solde
A10: Frais d'inspection | C10: 750 | F10: Frais de maintenance | G10: =IF($G$4=DATA!$B$1,'Long terme 3'!G5*DATA!B2,'Long terme 3'!G5*DATA!C2) -> 1300 | J10: 1 | K10: =K7 -> 0 | L10: =PMT(($N$4/12),$N$5,$K$7)*-1 -> 0 | M10: =L10-N10 -> 0 | N10: =K10*($N$4/12) -> 0 | O10: =K10-M10 -> 0
A11: Taxe bienvenue | F11: Frais de gestion | G11: =IF($G$4=DATA!$B$1,'Long terme 3'!G$7*DATA!B3,'Long terme 3'!G$7*DATA!C3) -> 0 | J11: 2 | K11: =O10 -> 0 | L11: =PMT(($N$4/12),$N$5,$K$7)*-1 -> 0 | M11: =L11-N11 -> 0 | N11: =K11*$N$4/12 -> 0 | O11: =K11-M11 -> 0
A12: Prime SCHL | F12: Réserve de remplacement | G12: =IF($G$4=DATA!$B$1,'Long terme 3'!G$7*DATA!B4,'Long terme 3'!G$7*DATA!C4) -> 0 | J12: 3 | K12: =O11 -> 0 | L12: =PMT(($N$4/12),$N$5,$K$7)*-1 -> 0 | M12: =L12-N12 -> 0 | N12: =K12*$N$4/12 -> 0 | O12: =K12-M12 -> 0
A13: Paiement hypothecaire | D13: =L10 -> 0 | F13: Taux d'innocupation | G13: =IF($G$4=DATA!$B$1,'Long terme 3'!G$7*DATA!B5,'Long terme 3'!G$7*DATA!C5) -> 0 | J13: 4 | K13: =O12 -> 0 | L13: =PMT(($N$4/12),$N$5,$K$7)*-1 -> 0 | M13: =L13-N13 -> 0 | N13: =K13*$N$4/12 -> 0 | O13: =K13-M13 -> 0
A14: Taxe Municipale | F14: Total | G14: =SUM(G10:G13) -> 1300 | J14: 5 | K14: =O13 -> 0 | L14: =PMT(($N$4/12),$N$5,$K$7)*-1 -> 0 | M14: =L14-N14 -> 0 | N14: =K14*$N$4/12 -> 0 | O14: =K14-M14 -> 0
A15: Taxes scolaires | F15: Revenu net | G15: =G7-G14-((D14+D15)*12) -> -1300 | J15: 6 | K15: =O14 -> 0 | L15: =PMT(($N$4/12),$N$5,$K$7)*-1 -> 0 | M15: =L15-N15 -> 0 | N15: =K15*$N$4/12 -> 0 | O15: =K15-M15 -> 0
A16: Électricité | J16: 7 | K16: =O15 -> 0 | L16: =PMT(($N$4/12),$N$5,$K$7)*-1 -> 0 | M16: =L16-N16 -> 0 | N16: =K16*$N$4/12 -> 0 | O16: =K16-M16 -> 0
A17: Déneigement | D17: =(166*B6)/12 -> 0 | F17: Financement possible | J17: 8 | K17: =O16 -> 0 | L17: =PMT(($N$4/12),$N$5,$K$7)*-1 -> 0 | M17: =L17-N17 -> 0 | N17: =K17*$N$4/12 -> 0 | O17: =K17-M17 -> 0
A18: Assurances | D18: =0.004*B5/12 -> 0 | F18: Selon taux d'actualisation | G18: =G15/H18*0.8 -> -20800 | H18: =IF(G4=DATA!B1,DATA!B6,DATA!C6) -> 0.05 | J18: 9 | K18: =O17 -> 0 | L18: =PMT(($N$4/12),$N$5,$K$7)*-1 -> 0 | M18: =L18-N18 -> 0 | N18: =K18*$N$4/12 -> 0 | O18: =K18-M18 -> 0
A19: Entretien logement | D19: =(B6*450)/12 -> 0 | F19: Selon calcul DSC | G19: =G15/H19/0.0767 -> -14124.294 | H19: =IF(G4=DATA!B1,DATA!B7,DATA!C7) -> 1.2 | J19: 10 | K19: =O18 -> 0 | L19: =PMT(($N$4/12),$N$5,$K$7)*-1 -> 0 | M19: =L19-N19 -> 0 | N19: =K19*$N$4/12 -> 0 | O19: =K19-M19 -> 0
A20: Taux innocupation | D20: =(IF(B6=2,(B7*0.03)/2,B7*0.03))/12 -> 0 | F20: Selon valeur marchande | G20: =B5*H20 -> 0 | H20: 0.95 | J20: 11 | K20: =O19 -> 0 | L20: =PMT(($N$4/12),$N$5,$K$7)*-1 -> 0 | M20: =L20-N20 -> 0 | N20: =K20*$N$4/12 -> 0 | O20: =K20-M20 -> 0
A21: Dépenses mensuelles | D21: =SUM(D5:D20) -> 0 | J21: 12 | K21: =O20 -> 0 | L21: =PMT(($N$4/12),$N$5,$K$7)*-1 -> 0 | M21: =L21-N21 -> 0 | N21: =K21*$N$4/12 -> 0 | O21: =K21-M21 -> 0
A22: Dépense annuel | D22: =D21*12 -> 0 | J22: 13 | K22: =O21 -> 0 | L22: =PMT(($N$4/12),$N$5,$K$7)*-1 -> 0 | M22: =L22-N22 -> 0 | N22: =K22*$N$4/12 -> 0 | O22: =K22-M22 -> 0
A23: Revenu net annuel | D23: =B7-D22 -> 0 | J23: 14 | K23: =O22 -> 0 | L23: =PMT(($N$4/12),$N$5,$K$7)*-1 -> 0 | M23: =L23-N23 -> 0 | N23: =K23*$N$4/12 -> 0 | O23: =K23-M23 -> 0
A24: Mise de fond | C24: =SUM(C5:C11) -> 2000 | J24: 15 | K24: =O23 -> 0 | L24: =PMT(($N$4/12),$N$5,$K$7)*-1 -> 0 | M24: =L24-N24 -> 0 | N24: =K24*$N$4/12 -> 0 | O24: =K24-M24 -> 0
A25: Mise de fond avec cashflow manquant | C25: =C24+IF(MIN(DATA!O3:O27)<0,-MIN(DATA!O3:O27),0) -> 2000 | J25: 16 | K25: =O24 -> 0 | L25: =PMT(($N$4/12),$N$5,$K$7)*-1 -> 0 | M25: =L25-N25 -> 0 | N25: =K25*$N$4/12 -> 0 | O25: =K25-M25 -> 0
J26: 17 | K26: =O25 -> 0 | L26: =PMT(($N$4/12),$N$5,$K$7)*-1 -> 0 | M26: =L26-N26 -> 0 | N26: =K26*$N$4/12 -> 0 | O26: =K26-M26 -> 0
A27: Rendement | J27: 18 | K27: =O26 -> 0 | L27: =PMT(($N$4/12),$N$5,$K$7)*-1 -> 0 | M27: =L27-N27 -> 0 | N27: =K27*$N$4/12 -> 0 | O27: =K27-M27 -> 0
A28: Prix de la batisse | B28: Capital payé | C28: Revenu généré | D28: ROI | J28: 19 | K28: =O27 -> 0 | L28: =PMT(($N$4/12),$N$5,$K$7)*-1 -> 0 | M28: =L28-N28 -> 0 | N28: =K28*$N$4/12 -> 0 | O28: =K28-M28 -> 0
A29: 5 ans | J29: 20 | K29: =O28 -> 0 | L29: =PMT(($N$4/12),$N$5,$K$7)*-1 -> 0 | M29: =L29-N29 -> 0 | N29: =K29*$N$4/12 -> 0 | O29: =K29-M29 -> 0
A30: =FV(0.03,5,,-B5) -> 0 | B30: =SUM(M10:M69) -> 0 | C30: =DATA!O7 -> 0 | D30: =(((A30-B$5+B30+C30))/C$25) -> 0 | F30: =$C$25*D30 -> 0 | J30: 21 | K30: =O29 -> 0 | L30: =PMT(($N$4/12),$N$5,$K$7)*-1 -> 0 | M30: =L30-N30 -> 0 | N30: =K30*$N$4/12 -> 0 | O30: =K30-M30 -> 0
A31: 10 ans | J31: 22 | K31: =O30 -> 0 | L31: =PMT(($N$4/12),$N$5,$K$7)*-1 -> 0 | M31: =L31-N31 -> 0 | N31: =K31*$N$4/12 -> 0 | O31: =K31-M31 -> 0
A32: =FV(0.03,10,,-B$5) -> 0 | B32: =SUM(M10:M129) -> 0 | C32: =DATA!O12 -> 0 | D32: =(((A32-B$5+B32+C32))/C$25) -> 0 | F32: =$C$25*D32 -> 0 | J32: 23 | K32: =O31 -> 0 | L32: =PMT(($N$4/12),$N$5,$K$7)*-1 -> 0 | M32: =L32-N32 -> 0 | N32: =K32*$N$4/12 -> 0 | O32: =K32-M32 -> 0
A33: 15 ans | J33: 24 | K33: =O32 -> 0 | L33: =PMT(($N$4/12),$N$5,$K$7)*-1 -> 0 | M33: =L33-N33 -> 0 | N33: =K33*$N$4/12 -> 0 | O33: =K33-M33 -> 0
A34: =FV(0.03,15,,-B$5) -> 0 | B34: =SUM(M10:M189) -> 0 | C34: =DATA!O17 -> 0 | D34: =(((A34-B$5+B34+C34))/C$25) -> 0 | F34: =$C$25*D34 -> 0 | J34: 25 | K34: =O33 -> 0 | L34: =PMT(($N$4/12),$N$5,$K$7)*-1 -> 0 | M34: =L34-N34 -> 0 | N34: =K34*$N$4/12 -> 0 | O34: =K34-M34 -> 0
A35: 20 ans | J35: 26 | K35: =O34 -> 0 | L35: =PMT(($N$4/12),$N$5,$K$7)*-1 -> 0 | M35: =L35-N35 -> 0 | N35: =K35*$N$4/12 -> 0 | O35: =K35-M35 -> 0
A36: =FV(0.03,20,,-B$5) -> 0 | B36: =SUM(M10:M249) -> 0 | C36: =DATA!O22 -> 0 | D36: =(((A36-B$5+B36+C36))/C$25) -> 0 | F36: =$C$25*D36 -> 0 | J36: 27 | K36: =O35 -> 0 | L36: =PMT(($N$4/12),$N$5,$K$7)*-1 -> 0 | M36: =L36-N36 -> 0 | N36: =K36*$N$4/12 -> 0 | O36: =K36-M36 -> 0
A37: 25 ans | J37: 28 | K37: =O36 -> 0 | L37: =PMT(($N$4/12),$N$5,$K$7)*-1 -> 0 | M37: =L37-N37 -> 0 | N37: =K37*$N$4/12 -> 0 | O37: =K37-M37 -> 0
A38: =FV(0.03,25,,-B$5) -> 0 | B38: =SUM(M10:M309) -> 0 | C38: =DATA!O27 -> 0 | D38: =(((A38-B$5+B38+C38))/C$25) -> 0 | F38: =$C$25*D38 -> 0 | J38: 29 | K38: =O37 -> 0 | L38: =PMT(($N$4/12),$N$5,$K$7)*-1 -> 0 | M38: =L38-N38 -> 0 | N38: =K38*$N$4/12 -> 0 | O38: =K38-M38 -> 0
J39: 30 | K39: =O38 -> 0 | L39: =PMT(($N$4/12),$N$5,$K$7)*-1 -> 0 | M39: =L39-N39 -> 0 | N39: =K39*$N$4/12 -> 0 | O39: =K39-M39 -> 0
J40: 31 | K40: =O39 -> 0 | L40: =PMT(($N$4/12),$N$5,$K$7)*-1 -> 0 | M40: =L40-N40 -> 0 | N40: =K40*$N$4/12 -> 0 | O40: =K40-M40 -> 0
...

Sheet Long terme 4
A1: Adresse
A2: Lien web
A3: Rentabilité | F3: Capacité de financement | J3: Amortissement
A4: Description | B4: Information | C4: Mise de fond initial | D4: Dépense mensuel | F4: Type d'immeuble | G4: Multi résidentiel | J4: Achat | K4: =B5 -> 0 | M4: Intérêt | N4: 0.018
A5: Prix batisse | F5: # unité / pi² | G5: 2 | J5: Mise de fond | K5: =C8 -> 0 | M5: Amortissement | N5: 300
A6: Nombre de logement | F6: Taux d'intérêt | G6: 0.02 | J6: Prime SCHL | K6: =C12 -> 0
A7: Revenu brut annuel | F7: Revenu brut | G7: =B7 -> 0 | J7: Capital intial | K7: =K4-K5+K6 -> 0
A8: Mise de fond | C8: =B5*B8 -> 0
A9: Frais notaire | C9: 1250 | F9: Frais normalisé | J9: Mois | K9: Montant ouverture | L9: Versement | M9: capital | N9: intérêt | O9: solde
A10: Frais d'inspection | C10: 750 | F10: Frais de maintenance | G10: =IF($G$4=DATA!$B$1,'Long terme 4'!G5*DATA!B2,'Long terme 4'!G5*DATA!C2) -> 1300 | J10: 1 | K10: =K7 -> 0 | L10: =PMT(($N$4/12),$N$5,$K$7)*-1 -> 0 | M10: =L10-N10 -> 0 | N10: =K10*($N$4/12) -> 0 | O10: =K10-M10 -> 0
A11: Taxe bienvenue | F11: Frais de gestion | G11: =IF($G$4=DATA!$B$1,'Long terme 4'!G$7*DATA!B3,'Long terme 4'!G$7*DATA!C3) -> 0 | J11: 2 | K11: =O10 -> 0 | L11: =PMT(($N$4/12),$N$5,$K$7)*-1 -> 0 | M11: =L11-N11 -> 0 | N11: =K11*$N$4/12 -> 0 | O11: =K11-M11 -> 0
A12: Prime SCHL | F12: Réserve de remplacement | G12: =IF($G$4=DATA!$B$1,'Long terme 4'!G$7*DATA!B4,'Long terme 4'!G$7*DATA!C4) -> 0 | J12: 3 | K12: =O11 -> 0 | L12: =PMT(($N$4/12),$N$5,$K$7)*-1 -> 0 | M12: =L12-N12 -> 0 | N12: =K12*$N$4/12 -> 0 | O12: =K12-M12 -> 0
A13: Paiement hypothecaire | D13: =L10 -> 0 | F13: Taux d'innocupation | G13: =IF($G$4=DATA!$B$1,'Long terme 4'!G$7*DATA!B5,'Long terme 4'!G$7*DATA!C5) -> 0 | J13: 4 | K13: =O12 -> 0 | L13: =PMT(($N$4/12),$N$5,$K$7)*-1 -> 0 | M13: =L13-N13 -> 0 | N13: =K13*$N$4/12 -> 0 | O13: =K13-M13 -> 0
A14: Taxe Municipale | F14: Total | G14: =SUM(G10:G13) -> 1300 | J14: 5 | K14: =O13 -> 0 | L14: =PMT(($N$4/12),$N$5,$K$7)*-1 -> 0 | M14: =L14-N14 -> 0 | N14: =K14*$N$4/12 -> 0 | O14: =K14-M14 -> 0
A15: Taxes scolaires | F15: Revenu net | G15: =G7-G14-((D14+D15)*12) -> -1300 | J15: 6 | K15: =O14 -> 0 | L15: =PMT(($N$4/12),$N$5,$K$7)*-1 -> 0 | M15: =L15-N15 -> 0 | N15: =K15*$N$4/12 -> 0 | O15: =K15-M15 -> 0
A16: Électricité | J16: 7 | K16: =O15 -> 0 | L16: =PMT(($N$4/12),$N$5,$K$7)*-1 -> 0 | M16: =L16-N16 -> 0 | N16: =K16*$N$4/12 -> 0 | O16: =K16-M16 -> 0
A17: Déneigement | D17: =(166*B6)/12 -> 0 | F17: Financement possible | J17: 8 | K17: =O16 -> 0 | L17: =PMT(($N$4/12),$N$5,$K$7)*-1 -> 0 | M17: =L17-N17 -> 0 | N17: =K17*$N$4/12 -> 0 | O17: =K17-M17 -> 0
A18: Assurances | D18: =0.004*B5/12 -> 0 | F18: Selon taux d'actualisation | G18: =G15/H18*0.8 -> -20800 | H18: =IF(G4=DATA!B1,DATA!B6,DATA!C6) -> 0.05 | J18: 9 | K18: =O17 -> 0 | L18: =PMT(($N$4/12),$N$5,$K$7)*-1 -> 0 | M18: =L18-N18 -> 0 | N18: =K18*$N$4/12 -> 0 | O18: =K18-M18 -> 0
A19: Entretien logement | D19: =(B6*450)/12 -> 0 | F19: Selon calcul DSC | G19: =G15/H19/0.0767 -> -14124.294 | H19: =IF(G4=DATA!B1,DATA!B7,DATA!C7) -> 1.2 | J19: 10 | K19: =O18 -> 0 | L19: =PMT(($N$4/12),$N$5,$K$7)*-1 -> 0 | M19: =L19-N19 -> 0 | N19: =K19*$N$4/12 -> 0 | O19: =K19-M19 -> 0
A20: Taux innocupation | D20: =(IF(B6=2,(B7*0.03)/2,B7*0.03))/12 -> 0 | F20: Selon valeur marchande | G20: =B5*H20 -> 0 | H20: 0.95 | J20: 11 | K20: =O19 -> 0 | L20: =PMT(($N$4/12),$N$5,$K$7)*-1 -> 0 | M20: =L20-N20 -> 0 | N20: =K20*$N$4/12 -> 0 | O20: =K20-M20 -> 0
A21: Dépenses mensuelles | D21: =SUM(D5:D20) -> 0 | J21: 12 | K21: =O20 -> 0 | L21: =PMT(($N$4/12),$N$5,$K$7)*-1 -> 0 | M21: =L21-N21 -> 0 | N21: =K21*$N$4/12 -> 0 | O21: =K21-M21 -> 0
A22: Dépense annuel | D22: =D21*12 -> 0 | J22: 13 | K22: =O21 -> 0 | L22: =PMT(($N$4/12),$N$5,$K$7)*-1 -> 0 | M22: =L22-N22 -> 0 | N22: =K22*$N$4/12 -> 0 | O22: =K22-M22 -> 0
A23: Revenu net annuel | D23: =B7-D22 -> 0 | J23: 14 | K23: =O22 -> 0 | L23: =PMT(($N$4/12),$N$5,$K$7)*-1 -> 0 | M23: =L23-N23 -> 0 | N23: =K23*$N$4/12 -> 0 | O23: =K23-M23 -> 0
A24: Mise de fond | C24: =SUM(C5:C11) -> 2000 | J24: 15 | K24: =O23 -> 0 | L24: =PMT(($N$4/12),$N$5,$K$7)*-1 -> 0 | M24: =L24-N24 -> 0 | N24: =K24*$N$4/12 -> 0 | O24: =K24-M24 -> 0
A25: Mise de fond avec cashflow manquant | C25: =C24+IF(MIN(DATA!S3:S27)<0,-MIN(DATA!S3:S27),0) -> 2000 | J25: 16 | K25: =O24 -> 0 | L25: =PMT(($N$4/12),$N$5,$K$7)*-1 -> 0 | M25: =L25-N25 -> 0 | N25: =K25*$N$4/12 -> 0 | O25: =K25-M25 -> 0
J26: 17 | K26: =O25 -> 0 | L26: =PMT(($N$4/12),$N$5,$K$7)*-1 -> 0 | M26: =L26-N26 -> 0 | N26: =K26*$N$4/12 -> 0 | O26: =K26-M26 -> 0
A27: Rendement | J27: 18 | K27: =O26 -> 0 | L27: =PMT(($N$4/12),$N$5,$K$7)*-1 -> 0 | M27: =L27-N27 -> 0 | N27: =K27*$N$4/12 -> 0 | O27: =K27-M27 -> 0
A28: Prix de la batisse | B28: Capital payé | C28: Revenu généré | D28: ROI | J28: 19 | K28: =O27 -> 0 | L28: =PMT(($N$4/12),$N$5,$K$7)*-1 -> 0 | M28: =L28-N28 -> 0 | N28: =K28*$N$4/12 -> 0 | O28: =K28-M28 -> 0
A29: 5 ans | J29: 20 | K29: =O28 -> 0 | L29: =PMT(($N$4/12),$N$5,$K$7)*-1 -> 0 | M29: =L29-N29 -> 0 | N29: =K29*$N$4/12 -> 0 | O29: =K29-M29 -> 0
A30: =FV(0.03,5,,-B5) -> 0 | B30: =SUM(M10:M69) -> 0 | C30: =DATA!S7 -> 0 | D30: =(((A30-B$5+B30+C30))/C$25) -> 0 | F30: =$C$25*D30 -> 0 | J30: 21 | K30: =O29 -> 0 | L30: =PMT(($N$4/12),$N$5,$K$7)*-1 -> 0 | M30: =L30-N30 -> 0 | N30: =K30*$N$4/12 -> 0 | O30: =K30-M30 -> 0
A31: 10 ans | J31: 22 | K31: =O30 -> 0 | L31: =PMT(($N$4/12),$N$5,$K$7)*-1 -> 0 | M31: =L31-N31 -> 0 | N31: =K31*$N$4/12 -> 0 | O31: =K31-M31 -> 0
A32: =FV(0.03,10,,-B$5) -> 0 | B32: =SUM(M10:M129) -> 0 | C32: =DATA!S12 -> 0 | D32: =(((A32-B$5+B32+C32))/C$25) -> 0 | F32: =$C$25*D32 -> 0 | J32: 23 | K32: =O31 -> 0 | L32: =PMT(($N$4/12),$N$5,$K$7)*-1 -> 0 | M32: =L32-N32 -> 0 | N32: =K32*$N$4/12 -> 0 | O32: =K32-M32 -> 0
A33: 15 ans | J33: 24 | K33: =O32 -> 0 | L33: =PMT(($N$4/12),$N$5,$K$7)*-1 -> 0 | M33: =L33-N33 -> 0 | N33: =K33*$N$4/12 -> 0 | O33: =K33-M33 -> 0
A34: =FV(0.03,15,,-B$5) -> 0 | B34: =SUM(M10:M189) -> 0 | C34: =DATA!S17 -> 0 | D34: =(((A34-B$5+B34+C34))/C$25) -> 0 | F34: =$C$25*D34 -> 0 | J34: 25 | K34: =O33 -> 0 | L34: =PMT(($N$4/12),$N$5,$K$7)*-1 -> 0 | M34: =L34-N34 -> 0 | N34: =K34*$N$4/12 -> 0 | O34: =K34-M34 -> 0
A35: 20 ans | J35: 26 | K35: =O34 -> 0 | L35: =PMT(($N$4/12),$N$5,$K$7)*-1 -> 0 | M35: =L35-N35 -> 0 | N35: =K35*$N$4/12 -> 0 | O35: =K35-M35 -> 0
A36: =FV(0.03,20,,-B$5) -> 0 | B36: =SUM(M10:M249) -> 0 | C36: =DATA!S22 -> 0 | D36: =(((A36-B$5+B36+C36))/C$25) -> 0 | F36: =$C$25*D36 -> 0 | J36: 27 | K36: =O35 -> 0 | L36: =PMT(($N$4/12),$N$5,$K$7)*-1 -> 0 | M36: =L36-N36 -> 0 | N36: =K36*$N$4/12 -> 0 | O36: =K36-M36 -> 0
A37: 25 ans | J37: 28 | K37: =O36 -> 0 | L37: =PMT(($N$4/12),$N$5,$K$7)*-1 -> 0 | M37: =L37-N37 -> 0 | N37: =K37*$N$4/12 -> 0 | O37: =K37-M37 -> 0
A38: =FV(0.03,25,,-B$5) -> 0 | B38: =SUM(M10:M309) -> 0 | C38: =DATA!S27 -> 0 | D38: =(((A38-B$5+B38+C38))/C$25) -> 0 | F38: =$C$25*D38 -> 0 | J38: 29 | K38: =O37 -> 0 | L38: =PMT(($N$4/12),$N$5,$K$7)*-1 -> 0 | M38: =L38-N38 -> 0 | N38: =K38*$N$4/12 -> 0 | O38: =K38-M38 -> 0
J39: 30 | K39: =O38 -> 0 | L39: =PMT(($N$4/12),$N$5,$K$7)*-1 -> 0 | M39: =L39-N39 -> 0 | N39: =K39*$N$4/12 -> 0 | O39: =K39-M39 -> 0
J40: 31 | K40: =O39 -> 0 | L40: =PMT(($N$4/12),$N$5,$K$7)*-1 -> 0 | M40: =L40-N40 -> 0 | N40: =K40*$N$4/12 -> 0 | O40: =K40-M40 -> 0
...

Sheet Flip 1
A1: Adresse
A2: Lien web
A3: Rentabilité | G3: Amortissement
A4: Description | B4: Information | C4: Mise de fond initial | D4: Dépense mensuel | G4: Achat | H4: =B5 -> 0 | J4: Intérêt | K4: 0.018
A5: Prix batisse | G5: Mise de fond | H5: =C9 -> 0 | J5: Amortissement | K5: 300
A6: Total p² | G6: Prime SCHL | H6: =C14 -> 0
A7: Durée travaux et vente | G7: Capital intial | H7: =H4-H5+H6 -> 0
A8: Cout rénovation p² | C8: =B6*B8 -> 0
A9: Mise de fond | C9: =B5*B9 -> 0 | G9: Mois | H9: Montant ouverture | I9: Versement | J9: capital | K9: intérêt | L9: solde
A10: Commission courtier | C10: =IF(B10="x",(C27*0.05),1000) -> 1000 | G10: 1 | H10: =H7 -> 0 | I10: =PMT(($K$4/12),$K$5,$H$7)*-1 -> 0 | J10: =I10-K10 -> 0 | K10: =H10*($K$4/12) -> 0 | L10: =H10-J10 -> 0
A11: Frais notaire | C11: 2500 | G11: 2 | H11: =L10 -> 0 | I11: =PMT(($K$4/12),$K$5,$H$7)*-1 -> 0 | J11: =I11-K11 -> 0 | K11: =H11*($K$4/12) -> 0 | L11: =H11-J11 -> 0
A12: Frais d'inspection | C12: 750 | G12: 3 | H12: =L11 -> 0 | I12: =PMT(($K$4/12),$K$5,$H$7)*-1 -> 0 | J12: =I12-K12 -> 0 | K12: =H12*($K$4/12) -> 0 | L12: =H12-J12 -> 0
A13: Taxe bienvenue | G13: 4 | H13: =L12 -> 0 | I13: =PMT(($K$4/12),$K$5,$H$7)*-1 -> 0 | J13: =I13-K13 -> 0 | K13: =H13*($K$4/12) -> 0 | L13: =H13-J13 -> 0
A14: Prime SCHL | G14: 5 | H14: =L13 -> 0 | I14: =PMT(($K$4/12),$K$5,$H$7)*-1 -> 0 | J14: =I14-K14 -> 0 | K14: =H14*($K$4/12) -> 0 | L14: =H14-J14 -> 0
A15: Paiement hypothecaire | D15: =I10 -> 0 | G15: 6 | H15: =L14 -> 0 | I15: =PMT(($K$4/12),$K$5,$H$7)*-1 -> 0 | J15: =I15-K15 -> 0 | K15: =H15*($K$4/12) -> 0 | L15: =H15-J15 -> 0
A16: Taxe Municipale | G16: 7 | H16: =L15 -> 0 | I16: =PMT(($K$4/12),$K$5,$H$7)*-1 -> 0 | J16: =I16-K16 -> 0 | K16: =H16*($K$4/12) -> 0 | L16: =H16-J16 -> 0
A17: Taxes scolaires | G17: 8 | H17: =L16 -> 0 | I17: =PMT(($K$4/12),$K$5,$H$7)*-1 -> 0 | J17: =I17-K17 -> 0 | K17: =H17*($K$4/12) -> 0 | L17: =H17-J17 -> 0
A18: Électricité | D18: =B6*0.5/12 -> 0 | G18: 9 | H18: =L17 -> 0 | I18: =PMT(($K$4/12),$K$5,$H$7)*-1 -> 0 | J18: =I18-K18 -> 0 | K18: =H18*($K$4/12) -> 0 | L18: =H18-J18 -> 0
A19: Déneigement/pelouse | D19: =500/12 -> 41.666667 | G19: 10 | H19: =L18 -> 0 | I19: =PMT(($K$4/12),$K$5,$H$7)*-1 -> 0 | J19: =I19-K19 -> 0 | K19: =H19*($K$4/12) -> 0 | L19: =H19-J19 -> 0
A20: Assurances | D20: =0.004*B5/12 -> 0 | G20: 11 | H20: =L19 -> 0 | I20: =PMT(($K$4/12),$K$5,$H$7)*-1 -> 0 | J20: =I20-K20 -> 0 | K20: =H20*($K$4/12) -> 0 | L20: =H20-J20 -> 0
A21: Entretien logement | D21: =450/12 -> 37.5 | G21: 12 | H21: =L20 -> 0 | I21: =PMT(($K$4/12),$K$5,$H$7)*-1 -> 0 | J21: =I21-K21 -> 0 | K21: =H21*($K$4/12) -> 0 | L21: =H21-J21 -> 0
A22: Dépenses total | C22: =(C8+C9+C11+C12+C13) -> 3250 | D22: =SUM(D5:D21) -> 79.166667 | G22: 13 | H22: =L21 -> 0 | I22: =PMT(($K$4/12),$K$5,$H$7)*-1 -> 0 | J22: =I22-K22 -> 0 | K22: =H22*($K$4/12) -> 0 | L22: =H22-J22 -> 0
G23: 14 | H23: =L22 -> 0 | I23: =PMT(($K$4/12),$K$5,$H$7)*-1 -> 0 | J23: =I23-K23 -> 0 | K23: =H23*($K$4/12) -> 0 | L23: =H23-J23 -> 0
G24: 15 | H24: =L23 -> 0 | I24: =PMT(($K$4/12),$K$5,$H$7)*-1 -> 0 | J24: =I24-K24 -> 0 | K24: =H24*($K$4/12) -> 0 | L24: =H24-J24 -> 0
A25: Rendement | G25: 16 | H25: =L24 -> 0 | I25: =PMT(($K$4/12),$K$5,$H$7)*-1 -> 0 | J25: =I25-K25 -> 0 | K25: =H25*($K$4/12) -> 0 | L25: =H25-J25 -> 0
A26: Total des couts | C26: Prix vente visé | D26: Rentabilité | G26: 17 | H26: =L25 -> 0 | I26: =PMT(($K$4/12),$K$5,$H$7)*-1 -> 0 | J26: =I26-K26 -> 0 | K26: =H26*($K$4/12) -> 0 | L26: =H26-J26 -> 0
A27: =(B5+C8+C11+C12+C13+C14)+(B7*D22) -> 3250 | D27: =C27-A$29 -> -4250 | G27: 18 | H27: =L26 -> 0 | I27: =PMT(($K$4/12),$K$5,$H$7)*-1 -> 0 | J27: =I27-K27 -> 0 | K27: =H27*($K$4/12) -> 0 | L27: =H27-J27 -> 0
A28: Prix de vente minimum | C28: Rendement annuel | G28: 19 | H28: =L27 -> 0 | I28: =PMT(($K$4/12),$K$5,$H$7)*-1 -> 0 | J28: =I28-K28 -> 0 | K28: =H28*($K$4/12) -> 0 | L28: =H28-J28 -> 0
A29: =A27+C10 -> 4250 | C29: =((C27-A29)/(C22+C10))*12/B7 -> #DIV/0! | G29: 20 | H29: =L28 -> 0 | I29: =PMT(($K$4/12),$K$5,$H$7)*-1 -> 0 | J29: =I29-K29 -> 0 | K29: =H29*($K$4/12) -> 0 | L29: =H29-J29 -> 0
G30: 21 | H30: =L29 -> 0 | I30: =PMT(($K$4/12),$K$5,$H$7)*-1 -> 0 | J30: =I30-K30 -> 0 | K30: =H30*($K$4/12) -> 0 | L30: =H30-J30 -> 0
G31: 22 | H31: =L30 -> 0 | I31: =PMT(($K$4/12),$K$5,$H$7)*-1 -> 0 | J31: =I31-K31 -> 0 | K31: =H31*($K$4/12) -> 0 | L31: =H31-J31 -> 0
G32: 23 | H32: =L31 -> 0 | I32: =PMT(($K$4/12),$K$5,$H$7)*-1 -> 0 | J32: =I32-K32 -> 0 | K32: =H32*($K$4/12) -> 0 | L32: =H32-J32 -> 0
G33: 24 | H33: =L32 -> 0 | I33: =PMT(($K$4/12),$K$5,$H$7)*-1 -> 0 | J33: =I33-K33 -> 0 | K33: =H33*($K$4/12) -> 0 | L33: =H33-J33 -> 0
B34: =100*1.05 -> 105 | G34: 25 | H34: =L33 -> 0 | I34: =PMT(($K$4/12),$K$5,$H$7)*-1 -> 0 | J34: =I34-K34 -> 0 | K34: =H34*($K$4/12) -> 0 | L34: =H34-J34 -> 0
B35: =100/0.95 -> 105.26316 | G35: 26 | H35: =L34 -> 0 | I35: =PMT(($K$4/12),$K$5,$H$7)*-1 -> 0 | J35: =I35-K35 -> 0 | K35: =H35*($K$4/12) -> 0 | L35: =H35-J35 -> 0
G36: 27 | H36: =L35 -> 0 | I36: =PMT(($K$4/12),$K$5,$H$7)*-1 -> 0 | J36: =I36-K36 -> 0 | K36: =H36*($K$4/12) -> 0 | L36: =H36-J36 -> 0
G37: 28 | H37: =L36 -> 0 | I37: =PMT(($K$4/12),$K$5,$H$7)*-1 -> 0 | J37: =I37-K37 -> 0 | K37: =H37*($K$4/12) -> 0 | L37: =H37-J37 -> 0
G38: 29 | H38: =L37 -> 0 | I38: =PMT(($K$4/12),$K$5,$H$7)*-1 -> 0 | J38: =I38-K38 -> 0 | K38: =H38*($K$4/12) -> 0 | L38: =H38-J38 -> 0
G39: 30 | H39: =L38 -> 0 | I39: =PMT(($K$4/12),$K$5,$H$7)*-1 -> 0 | J39: =I39-K39 -> 0 | K39: =H39*($K$4/12) -> 0 | L39: =H39-J39 -> 0
G40: 31 | H40: =L39 -> 0 | I40: =PMT(($K$4/12),$K$5,$H$7)*-1 -> 0 | J40: =I40-K40 -> 0 | K40: =H40*($K$4/12) -> 0 | L40: =H40-J40 -> 0
...

Sheet plex neuf
A2: Adresse
A4: Prix maison avant taxe
A5: Prix Maison avec taxe | B5: =B4*1.14975 -> 0
A6: nombre de logement
A7: mise de fond 10% | B7: =B5*0.1 -> 0
A8: Taxe bienvenue | B8: =SUMPRODUCT((B5>{0;50000;250000})*(B5-{0;50000;250000})*0.5%) -> 0
A9: frais notaire | B9: 1250 | E9: actuel | J9: prise de valeur | K9: =B5*0.03 -> 0
A10: Frais d'inspection | B10: 750 | E10: loyer | F10: 790 | J10: paiement de capital | K10: =1250*12 -> 15000
A11: Paiement hypothecaire | E11: assurance | F11: =300/12 -> 25 | J11: total de capital après 1 an | K11: =SUM(K9:K10) -> 15000
E12: Total | F12: =SUM(F10:F11) -> 815
A13: Dépense
A14: Taxe Municipale | J14: Taxe total | K14: =B4*0.14975 -> 0
A15: Taxes scolaires | J15: retour taxe | K15: =K14*0.36 -> 0
A16: Électricité
A17: Déneigement | B17: 500
A18: Assurances | B18: =1000 -> 1000
A19: Entretien logement | B19: =450*B6 -> 0
A20: Taux innocupation
A21: Dépense total | B21: =SUM(B14:B20) -> 1500
A23: revenu brut
A24: paiement par mois | B24: =(B23/12)-((B21/12)+B11) -> -125
A25: cout du loyer
A27: cout pour habitation | B27: =B25-B24 -> 125
A28: différence loyer actuel | B28: =B27-F12 -> -690
A29: cashdown nécessaire | B29: =B8+B9+B10 -> 2000

Sheet mise de fond retour 5%
A2: Adresse
A4: Prix Maison
A5: nombre de logement
A6: mise de fond 10% | B6: =B4*0.1 -> 0
A7: retour 5 % | B7: =B6/2 -> 0
A8: Taxe bienvenue | B8: =SUMPRODUCT((B4>{0;50000;250000})*(B4-{0;50000;250000})*0.5%) -> 0
A9: frais notaire | B9: 1250 | E9: actuel
A10: Frais d'inspection | B10: 750 | E10: loyer | F10: 800
A11: Paiement hypothecaire | E11: assurance | F11: =300/12 -> 25
A12: paiement après 5 ans (-1% du taux) | E12: electricite | F12: =1100/12 -> 91.666667
E13: Total | F13: =SUM(F10:F12) -> 916.66667
A14: Dépense
A15: Taxe Municipale | B15: 4399
A16: Taxes scolaires | B16: 1019
A17: Électricité | B17: 1200
A18: Déneigement | B18: 500
A19: Assurances | B19: =1000 -> 1000
A20: Entretien logement | B20: =B5*450 -> 0
A21: Taux innocupation | B21: =IF(B5=2,(B24*0.03)/2,B24*0.03) -> 0
A22: Dépense total | B22: =SUM(B15:B21) -> 8118
A24: revenu brut
A25: paiement par mois | B25: =(B24/12)-((B22/12)+B11) -> -676.5
A26: paiement par mois après 5 ans | B26: =(B24/12)-((B22/12)+B12) -> -676.5
A27: cout du loyer
A29: cout pour habitation | B29: =B27-B25 -> 676.5
A30: cout pour habitation aprèes 5 ans | B30: =B27-B26 -> 676.5
A31: différence loyer actuel | B31: =B29-F13 -> -240.16667
A32: différence loyer actuel après 5 ans | B32: =B30-F13 -> -240.16667
A33: cashdown nécessaire | B33: =B6+B8+B9+B10 -> 2000
A34: cashdown après retour 5% | B34: =B7+B8+B9+B10 -> 2000

Sheet Prix avec réno
A1: Montant empruntable maximum | B1: 375000
A2: Prix maison | B2: =B1*0.956937799 -> 358851.67
A3: Emprunt | B3: =B2*0.95 -> 340909.09
A4: Emprunt réno possible | B4: =B3*0.1 -> 34090.909
A5: Mise de fond initial | B5: =B2-B3 -> 17942.584
A6: Emprunt maison et réno | B6: =B3+B4 -> 375000
A7: Mise de fond réno | B7: =B4*0.05 -> 1704.5455
A8: Mise de fond total | B8: =B5+B7 -> 19647.129
A9: Mise de fond total (%) | B9: =B8/B2 -> 0.05475
