Workbook

Sheet Training Plan
B3: 7 Weeks / 4 Days + GPP / 3 Exercises (StrengthDevelopment©)
B4: Start Date - End Date
B7: Training Plan Overview
C12: Day 1 | F12: Day 2 | I12: GPP | L12: Day 3 | O12: Day 4
B15: Week 1 | C15: Exercise 1 | F15: Exercise 1 | L15: Exercise 1 | O15: Exercise 1
C16: Competition Squat | F16: Competition Squat
C22: Rest Periods | F22: Rest Periods | L22: Rest Periods | O22: Rest Periods
C23: Exercise 2 | F23: Exercise 2 | L23: Exercise 2 | O23: Exercise 2
C30: Rest Periods | F30: Rest Periods | L30: Rest Periods | O30: Rest Periods
C31: Exercise 3 | F31: Exercise 3 | L31: Exercise 3 | O31: Exercise 3
I35: Other(s)
C38: Rest Periods | F38: Rest Periods | L38: Rest Periods | O38: Rest Periods
C41: Day 1 | F41: Day 2 | I41: GPP | L41: Day 3 | O41: Day 4
B44: Week 2 | C44: Exercise 1 | F44: Exercise 1 | L44: Exercise 1 | O44: Exercise 1
C51: Rest Periods | F51: Rest Periods | L51: Rest Periods | O51: Rest Periods
C52: Exercise 2 | F52: Exercise 2 | L52: Exercise 2 | O52: Exercise 2
C59: Rest Periods | F59: Rest Periods | L59: Rest Periods | O59: Rest Periods
C60: Exercise 3 | F60: Exercise 3 | L60: Exercise 3 | O60: Exercise 3
I64: Other(s)
C67: Rest Periods | F67: Rest Periods | L67: Rest Periods | O67: Rest Periods
C70: Day 1 | F70: Day 2 | I70: GPP | L70: Day 3 | O70: Day 4
B73: Week 3 | C73: Exercise 1 | F73: Exercise 1 | L73: Exercise 1 | O73: Exercise 1
C80: Rest Periods | F80: Rest Periods | L80: Rest Periods | O80: Rest Periods
C81: Exercise 2 | F81: Exercise 2 | L81: Exercise 2 | O81: Exercise 2
C88: Rest Periods | F88: Rest Periods | L88: Rest Periods | O88: Rest Periods
C89: Exercise 3 | F89: Exercise 3 | L89: Exercise 3 | O89: Exercise 3
I93: Other(s)
C96: Rest Periods | F96: Rest Periods | L96: Rest Periods | O96: Rest Periods
C99: Day 1 | F99: Day 2 | I99: GPP | L99: Day 3 | O99: Day 4
B102: Week 4 | C102: Exercise 1 | F102: Exercise 1 | L102: Exercise 1 | O102: Exercise 1
C109: Rest Periods | F109: Rest Periods | L109: Rest Periods | O109: Rest Periods
C110: Exercise 2 | F110: Exercise 2 | L110: Exercise 2 | O110: Exercise 2
C117: Rest Periods | F117: Rest Periods | L117: Rest Periods | O117: Rest Periods
C118: Exercise 3 | F118: Exercise 3 | L118: Exercise 3 | O118: Exercise 3
I122: Other(s)
C125: Rest Periods | F125: Rest Periods | L125: Rest Periods | O125: Rest Periods
C128: Day 1 | F128: Day 2 | I128: GPP | L128: Day 3 | O128: Day 4
B131: Week 5 | C131: Exercise 1 | F131: Exercise 1 | L131: Exercise 1 | O131: Exercise 1
C138: Rest Periods | F138: Rest Periods | L138: Rest Periods | O138: Rest Periods
C139: Exercise 2 | F139: Exercise 2 | L139: Exercise 2 | O139: Exercise 2
...

Sheet Indications & Informations
A3: Important Indications
C7: Exercices | G7: Indications
Y11: ='Training Plan'!C45 -> 0
Y12: ='Training Plan'!C53 -> 0
Y13: ='Training Plan'!C61 -> 0
Y14: ='Training Plan'!F45 -> 0
Y15: ='Training Plan'!F53 -> 0
Y16: ='Training Plan'!F61 -> 0
Y17: ='Training Plan'!L45 -> 0
Y18: ='Training Plan'!L53 -> 0
Y19: ='Training Plan'!L61 -> 0
Y20: ='Training Plan'!O45 -> 0
Y21: ='Training Plan'!O53 -> 0
Y22: ='Training Plan'!O61 -> 0
C39: Informations
F43: Table des RPE (Rating of Perceived Exertion ou Taux d'Effort Perçu)
F45: RPE 5,5 | G45: Trop facile pour compter comme une vrai série
F47: RPE 6 | G47: Assez facile (comme une charge d'échauffement) / 4 reps en réserve
F49: RPE 6,5 | G49: Un peu trop lourd pour de l'échauffement? | Z49: Besoin d'aide? Sélectionnez le sujet qui vous intéresse dans la liste déroulante.
F51: RPE 7 | G51: Rapide et facile comme un opener / 3 reps en réserve
F53: RPE 7,5 | G53: Peut-être 3 reps en réserve ou un peu plus de charge sur la barre
F55: RPE 8 | G55: 2 reps en réserve
F57: RPE 8,5 | G57: Peut-être 2 reps en réserve ou un peu plus de charge sur la barre
F59: RPE 9 | G59: 1 rep en réserve
F61: RPE 9,5 | G61: Peut-être 1 rep en réserve ou un peu plus de charge sur la barre
F63: RPE 10 | G63: Effort maximal (RM)
E67: Cliquez ici pour sélectionner dans la liste déroulante | Z67: Progresser avec les RPEs est assez simple, la progression se fait de façon linéaire ou ondulatoire. Evidemment, il est possible d'autoréguler la charge, le plus important étant de ne pas dépasser ou être en dessous des RPEs programmés (overshoot/undershoot). La progression se fait essentiellement par l'exploitation de l’estimated 1RM (e1RM), c'est-à-dire l'estimation de votre 1RM sur un exercice donné à un moment donné de votre block. La tendance générale de la courbe de votre e1RM doit être vers la hausse, autrement dit, votre e1RM doit augmenter de semaine en semaine, si ce n'est pas le cas durant une certaine période (entre 2/4 semaines), une révision de votre planification doit être faite. Venons-en au vif du sujet : comment gérer sa progression? En général, il faut que l'écart entre le RPE planifié et celui réaliser à l'entrainement soit de 1. C'est-à-dire que si j'ai 4 répétitions @9 RPE de planifié, le RPE à l'entrainement doit être compris entre 8,5 et 9,5. Dans le cas où le RPE est de 8,5 (undershoot), j'augmente la charge de 1 à 3% pour la semaine d'après. Dans le cas où le RPE est de 9,5 (overshoot), je garde la même charge la semaine d'après et j'essaie d'être au bon RPE. Dans le cas, ou j'overshoot ou j'undershoot beaucoup trop (1+ RPE), je baisse/augmente la charge de 3 à 5%. Si je suis au bon RPE, j'augmente la charge de 1 à 2% la semaine d'après. Semaine 1 -1 RPE ou + -0,5 RPE Bon RPE +0,5 RPE +1 RPE ou + Semaine 2 +3/5% +1/3% +1/2% -1/3% -3/5%
E69: =IF(E67=T70,Z49,IF(E67=T71,Z67,IF(E67=T72,Z85,IF(E67=T73,Z102,)))) -> Besoin d'aide? Sélectionnez le sujet qui vous intéresse dans la liste déroulante.
T70: Cliquez ici pour sélectionner dans la liste déroulante
T71: Comment progresser avec l'utilisation du RPE?
T72: GPP (General Physical Prepardness ou Préparation Physique Générale)
T73: Concernant l'échauffement
Z85: Le but ici est d'augmenter/maintenir sa condition physique, sa capacité de travail et faire quelques exercices d'assistances qui n'interfèrent pas trop avec la récupération. Concernant le cardio, la table des RPE est : RPE 6 : Plus ennuyant que dure, peut tenir une conversation avec des phrases entières. RPE 7 : Effort facile, peut seulement parler en courtes phrases. RPE 8 : Effort modéré, ne peut pas parler confortablement. RPE 9 : Effort intense, effort quasiment maximal. RPE 10 : Effort maximal, très dure voire impossible à maintenir. Concernant le type d'exercices d'assistances, c'est essentiellement destiné à travailler le haut du dos, le tronc et les bras. Aucuns exercices n'est meilleur qu'un autre, le choix se fait en fonction de l’athlète (ses préférences, ses antécédents etc..). En général, le mieux est de choisir des exercices peu traumatisant pour la bas du dos (rowing machine, tractions etc..); pour le tronc, dans l'ordre de préférence : Ab Wheel, Gainage ventral, Enroulement de bassin, Crunch etc..; pour les bras : biceps curl (haltères, barres, poulies), Extensions triceps etc..
Z102: L’échauffement a pour but de vous préparer à la tâche physique à venir. Il comprend des éléments généraux et spécifiques. Un échauffement général est une activité différente de celle que vous ferez pour votre entraînement (comme faire 5 minutes de cardio facile avant de commencer vos squats). Cependant, dans le cadre de l’entrainement en force, je ne recommande aucun échauffement général particulier, à condition que vous puissiez démarrer l'échauffement spécifique sans aucun problème. Je ne recommande pas non plus la pratique de mobilité/automassages (ou alors de façon légère et occasionnelle si vous en ressentez le besoin). La pratique d’étirements dynamiques est préférable. Un échauffement spécifique est très similaire ou identique à l'activité à venir et utilise une intensité croissante. Par exemple, effectuer des squats d’abord avec la barre vide, puis ajouter progressivement de la charge jusqu'à atteindre votre charge de travail. La recommandation est de faire autant de séries barre à vide qu'il n'en faut pour que vous vous sentiez prêt mentalement et physiquement avant de charger votre barre petit à petit. Prenons l'exemple d'un athlète dont la programmation dit : 5 reps @6RPE; 5 reps @7RPE; 3 x 5 reps @8RPE. Pour cet athlète, les charges seront 5@6 @100kg; 5@7 @107,5kg et 5@8 @115kg. Il fera donc 2-5 séries barre à vide ; 5 reps @40kg ; 5 reps @70kg ; 5 reps @85kg puis sa première séries de 5 reps @6RPE @100kg.

Sheet Calculators
B3: Calculators
C7: RPE Chart (by default)
C9: Reps | D9: 1 | E9: 2 | F9: 3 | G9: 4 | H9: 5 | I9: 6 | J9: 7 | K9: 8 | L9: 9 | M9: 10 | AB9: RPE Chart (by default) | AM9: =AB9 -> RPE Chart (by default)
C10: RPE 10 | AB10: =F17*1 -> 0 | AC10: =F17*0.955 -> 0 | AD10: =F17*0.922 -> 0 | AE10: =F17*0.892 -> 0 | AF10: =F17*0.863 -> 0 | AG10: =F17*0.837 -> 0 | AH10: =F17*0.811 -> 0 | AI10: =F17*0.786 -> 0 | AJ10: =F17*0.762 -> 0 | AK10: =F17*0.739 -> 0 | AM10: =C53 -> Custom RPE Chart (Squat)
C11: RPE 9,5 | AB11: =F17*0.978 -> 0 | AC11: =F17*0.939 -> 0 | AD11: =F17*0.907 -> 0 | AE11: =F17*0.878 -> 0 | AF11: =F17*0.85 -> 0 | AG11: =F17*0.824 -> 0 | AH11: =F17*0.799 -> 0 | AI11: =F17*0.774 -> 0 | AJ11: =F17*0.751 -> 0 | AK11: =F17*0.723 -> 0 | AM11: =G53 -> Custom RPE Chart (Bench)
C12: RPE 9 | AB12: =F17*0.955 -> 0 | AC12: =F17*0.922 -> 0 | AD12: =F17*0.892 -> 0 | AE12: =F17*0.863 -> 0 | AF12: =F17*0.837 -> 0 | AG12: =F17*0.811 -> 0 | AH12: =F17*0.786 -> 0 | AI12: =F17*0.762 -> 0 | AJ12: =F17*0.739 -> 0 | AK12: =F17*0.707 -> 0 | AM12: =K53 -> Custom RPE Chart (Deadlift)
C13: RPE 8,5 | AB13: =F17*0.939 -> 0 | AC13: =F17*0.907 -> 0 | AD13: =F17*0.878 -> 0 | AE13: =F17*0.85 -> 0 | AF13: =F17*0.824 -> 0 | AG13: =F17*0.799 -> 0 | AH13: =F17*0.774 -> 0 | AI13: =F17*0.751 -> 0 | AJ13: =F17*0.723 -> 0 | AK13: =F17*0.694 -> 0
C14: RPE 8 | AB14: =F17*0.922 -> 0 | AC14: =F17*0.892 -> 0 | AD14: =F17*0.863 -> 0 | AE14: =F17*0.837 -> 0 | AF14: =F17*0.811 -> 0 | AG14: =F17*0.786 -> 0 | AH14: =F17*0.762 -> 0 | AI14: =F17*0.739 -> 0 | AJ14: =F17*0.707 -> 0 | AK14: =F17*0.68 -> 0
C15: e1RM | D15: =IF(C7=AM9,MAX(D10/1,D11/0.978,D12/0.955,D13/0.939,D14/0.922),IF(C7=AM10,MAX(D10/1,D11/AVERAGE(E57:E58),D12/E58,D13/AVERAGE(E58:E59),D14/E59),IF(C7=AM11,MAX(D10/1,D11/AVERAGE(I57:I58),D12/I58,D13/AVERAGE(I58:I59),D14/I59),IF(C7=AM12,MAX(D10/1,D11/AVERAGE(M57:M58),D12/M58,D13/AVERAGE(M58:M59),D14/M59))))) -> 0 | E15: =IF(C7=AM9,MAX(E10/0.955,E11/0.939,E12/0.922,E13/0.907,E14/0.892),IF(C7=AM10,MAX(E10/E58,E11/AVERAGE(E58:E59),E12/E59,E13/AVERAGE(E59:E60),E14/E60),IF(C7=AM11,MAX(E10/I58,E11/AVERAGE(I58:I59),E12/I59,E13/AVERAGE(I59:I60),E14/I60),IF(C7=AM12,MAX(E10/M58,E11/AVERAGE(M58:M59),E12/M59,E13/AVERAGE(M59:M60),E14/M60))))) -> 0 | F15: =IF(C7=AM9,MAX(F10/0.922,F11/0.907,F12/0.892,F13/0.878,F14/0.863),IF(C7=AM10,MAX(F10/E59,F11/AVERAGE(E59:E60),F12/E60,F13/AVERAGE(E60:E61),F14/E61),IF(C7=AM11,MAX(F10/I59,F11/AVERAGE(I59:I60),F12/I60,F13/AVERAGE(I60:I61),F14/I61),IF(C7=AM12,MAX(F10/M59,F11/AVERAGE(M59:M60),F12/M60,F13/AVERAGE(M60:M61),F14/M61))))) -> 0 | G15: =IF(C7=AM9,MAX(G10/0.892,G11/0.878,G12/0.863,G13/0.85,G14/0.837),IF(C7=AM10,MAX(G10/E60,G11/AVERAGE(E60:E61),G12/E61,G13/AVERAGE(E61:E62),G14/E62),IF(C7=AM11,MAX(G10/I60,G11/AVERAGE(I60:I61),G12/I61,G13/AVERAGE(I61:I62),G14/I62),IF(C7=AM12,MAX(G10/M60,G11/AVERAGE(M60:M61),G12/M61,G13/AVERAGE(M61:M62),G14/M62))))) -> 0 | H15: =IF(C7=AM9,MAX(H10/0.863,H11/0.85,H12/0.837,H13/0.824,H14/0.811),IF(C7=AM10,MAX(H10/E61,H11/AVERAGE(E61:E62),H12/E62,H13/AVERAGE(E62:E63),H14/E63),IF(C7=AM11,MAX(H10/I61,H11/AVERAGE(I61:I62),H12/I62,H13/AVERAGE(I62:I63),H14/I63),IF(C7=AM12,MAX(H10/M61,H11/AVERAGE(M61:M62),H12/M62,H13/AVERAGE(M62:M63),H14/M63))))) -> 0 | I15: =IF(C7=AM9,MAX(I10/0.837,I11/0.824,I12/0.811,I13/0.799,I14/0.786),IF(C7=AM10,MAX(I10/E62,I11/AVERAGE(E62:E63),I12/E63,I13/AVERAGE(E63:E64),I14/E64),IF(C7=AM11,MAX(I10/I62,I11/AVERAGE(I62:I63),I12/I63,I13/AVERAGE(I63:I64),I14/I64),IF(C7=AM12,MAX(I10/M62,I11/AVERAGE(M62:M63),I12/M63,I13/AVERAGE(M63:M64),I14/M64))))) -> 0 | J15: =IF(C7=AM9,MAX(J10/0.811,J11/0.799,J12/0.786,J13/0.774,J14/0.762),IF(C7=AM10,MAX(J10/E63,J11/AVERAGE(E63:E64),J12/E64,J13/AVERAGE(E64:E65),J14/E65),IF(C7=AM11,MAX(J10/I63,J11/AVERAGE(I63:I64),J12/I64,J13/AVERAGE(I64:I65),J14/I65),IF(C7=AM12,MAX(J10/M63,J11/AVERAGE(M63:M64),J12/M64,J13/AVERAGE(M64:M65),J14/M65))))) -> 0 | K15: =IF(C7=AM9,MAX(K10/0.786,K11/0.774,K12/0.762,K13/0.751,K14/0.739),IF(C7=AM10,MAX(K10/E64,K11/AVERAGE(E64:E65),K12/E65,K13/AVERAGE(E65:E66),K14/E66),IF(C7=AM11,MAX(K10/I64,K11/AVERAGE(I64:I65),K12/I65,K13/AVERAGE(I65:I66),K14/I66),IF(C7=AM12,MAX(K10/M64,K11/AVERAGE(M64:M65),K12/M65,K13/AVERAGE(M65:M66),K14/M66))))) -> 0 | L15: =IF(C7=AM9,MAX(L10/0.762,L11/0.751,L12/0.739,L13/0.723,L14/0.707),IF(C7=AM10,MAX(L10/E65,L11/AVERAGE(E65:E66),L12/E66,L13/AVERAGE(E66:E67),L14/E67),IF(C7=AM11,MAX(L10/I65,L11/AVERAGE(I65:I66),L12/I66,L13/AVERAGE(I66:I67),L14/I67),IF(C7=AM12,MAX(L10/M65,L11/AVERAGE(M65:M66),L12/M66,L13/AVERAGE(M66:M67),L14/M67))))) -> 0 | M15: =IF(C7=AM9,MAX(M10/0.739,M11/0.723,M12/0.707,M13/0.694,M14/0.68),IF(C7=AM10,MAX(M10/E66,M11/AVERAGE(E66:E67),M12/E67,M13/AVERAGE(E67:E68),M14/E68),IF(C7=AM11,MAX(M10/I66,M11/AVERAGE(I66:I67),M12/I67,M13/AVERAGE(I67:I68),M14/I68),IF(C7=AM12,MAX(M10/M66,M11/AVERAGE(M66:M67),M12/M67,M13/AVERAGE(M67:M68),M14/M68))))) -> 0 | AB15: =F17*0.907 -> 0 | AC15: =F17*0.878 -> 0 | AD15: =F17*0.85 -> 0 | AE15: =F17*0.824 -> 0 | AF15: =F17*0.799 -> 0 | AG15: =F17*0.774 -> 0 | AH15: =F17*0.751 -> 0 | AI15: =F17*0.723 -> 0 | AJ15: =F17*0.694 -> 0 | AK15: =F17*0.667 -> 0
AB16: =F17*0.892 -> 0 | AC16: =F17*0.863 -> 0 | AD16: =F17*0.837 -> 0 | AE16: =F17*0.811 -> 0 | AF16: =F17*0.786 -> 0 | AG16: =F17*0.762 -> 0 | AH16: =F17*0.739 -> 0 | AI16: =F17*0.707 -> 0 | AJ16: =F17*0.68 -> 0 | AK16: =F17*0.653 -> 0
E17: e1RM : | F17: =MAX(D15:M15) -> 0 | H17: Back-off Calculator | L17: =J17-L18 -> 0 | AB17: =F17*0.878 -> 0 | AC17: =F17*0.85 -> 0 | AD17: =F17*0.824 -> 0 | AE17: =F17*0.799 -> 0 | AF17: =F17*0.774 -> 0 | AG17: =F17*0.751 -> 0 | AH17: =F17*0.723 -> 0 | AI17: =F17*0.694 -> 0 | AJ17: =F17*0.667 -> 0 | AK17: =F17*0.64 -> 0
J18: Weight | K18: Percentage | L18: =J17*K17 -> 0 | AB18: =F17*0.863 -> 0 | AC18: =F17*0.837 -> 0 | AD18: =F17*0.811 -> 0 | AE18: =F17*0.786 -> 0 | AF18: =F17*0.762 -> 0 | AG18: =F17*0.739 -> 0 | AH18: =F17*0.707 -> 0 | AI18: =F17*0.68 -> 0 | AJ18: =F17*0.653 -> 0 | AK18: =F17*0.627 -> 0
Z19: =C53 -> Custom RPE Chart (Squat)
C20: Rep(s) | D20: 1 | E20: 2 | F20: 3 | G20: 4 | H20: 5 | I20: 6 | J20: 7 | K20: 8 | L20: 9 | M20: 10 | Z20: =F17 -> 0 | AA20: =Z20*E58 -> 0 | AB20: =Z20*E59 -> 0 | AC20: =Z20*E60 -> 0 | AD20: =Z20*E61 -> 0 | AE20: =Z20*E62 -> 0 | AF20: =Z20*E63 -> 0 | AG20: =Z20*E64 -> 0 | AH20: =Z20*E65 -> 0 | AI20: =Z20*E66 -> 0 | AJ20: =Z20*E67 -> 0 | AK20: =Z20*E68 -> 0 | AL20: =Z20*E69 -> 0 | AM20: =Z20*E70 -> 0 | AN20: =Z20*E71 -> 0
C21: RPE 10 | D21: =IF(C7=AM9,AB10,IF(C7=AM10,Z20,IF(C7=AM11,Z32,IF(C7=AM12,Z44,0)))) -> 0 | E21: =IF(C7=AM9,AC10,IF(C7=AM10,AA20,IF(C7=AM11,AA32,IF(C7=AM12,AA44,0)))) -> 0 | F21: =IF(C7=AM9,AD10,IF(C7=AM10,AB20,IF(C7=AM11,AB32,IF(C7=AM12,AB44,0)))) -> 0 | G21: =IF(C7=AM9,AE10,IF(C7=AM10,AC20,IF(C7=AM11,AC32,IF(C7=AM12,AC44,0)))) -> 0 | H21: =IF(C7=AM9,AF10,IF(C7=AM10,AD20,IF(C7=AM11,AD32,IF(C7=AM12,AD44,0)))) -> 0 | I21: =IF(C7=AM9,AG10,IF(C7=AM10,AE20,IF(C7=AM11,AE32,IF(C7=AM12,AE44,0)))) -> 0 | J21: =IF(C7=AM9,AH10,IF(C7=AM10,AF20,IF(C7=AM11,AF32,IF(C7=AM12,AF44,0)))) -> 0 | K21: =IF(C7=AM9,AI10,IF(C7=AM10,AG20,IF(C7=AM11,AG32,IF(C7=AM12,AG44,0)))) -> 0 | L21: =IF(C7=AM9,AJ10,IF(C7=AM10,AH20,IF(C7=AM11,AH32,IF(C7=AM12,AH44,0)))) -> 0 | M21: =IF(C7=AM9,AK10,IF(C7=AM10,AI20,IF(C7=AM11,AI32,IF(C7=AM12,AI44,0)))) -> 0 | Z21: =AVERAGE(Z20,Z22) -> 0 | AA21: =AVERAGE(AA20,AA22) -> 0 | AB21: =AVERAGE(AB20,AB22) -> 0 | AC21: =AVERAGE(AC20,AC22) -> 0 | AD21: =AVERAGE(AD20,AD22) -> 0 | AE21: =AVERAGE(AE20,AE22) -> 0 | AF21: =AVERAGE(AF20,AF22) -> 0 | AG21: =AVERAGE(AG20,AG22) -> 0 | ... AI21: =AVERAGE(AI20,AI22) -> 0
C22: RPE 9,5 | D22: =IF(C7=AM9,AB11,IF(C7=AM10,Z21,IF(C7=AM11,Z33,IF(C7=AM12,Z45,0)))) -> 0 | E22: =IF(C7=AM9,AC11,IF(C7=AM10,AA21,IF(C7=AM11,AA33,IF(C7=AM12,AA45,0)))) -> 0 | F22: =IF(C7=AM9,AD11,IF(C7=AM10,AB21,IF(C7=AM11,AB33,IF(C7=AM12,AB45,0)))) -> 0 | G22: =IF(C7=AM9,AE11,IF(C7=AM10,AC21,IF(C7=AM11,AC33,IF(C7=AM12,AC45,0)))) -> 0 | H22: =IF(C7=AM9,AF11,IF(C7=AM10,AD21,IF(C7=AM11,AD33,IF(C7=AM12,AD45,0)))) -> 0 | I22: =IF(C7=AM9,AG11,IF(C7=AM10,AE21,IF(C7=AM11,AE33,IF(C7=AM12,AE45,0)))) -> 0 | J22: =IF(C7=AM9,AH11,IF(C7=AM10,AF21,IF(C7=AM11,AF33,IF(C7=AM12,AF45,0)))) -> 0 | K22: =IF(C7=AM9,AI11,IF(C7=AM10,AG21,IF(C7=AM11,AG33,IF(C7=AM12,AG45,0)))) -> 0 | L22: =IF(C7=AM9,AJ11,IF(C7=AM10,AH21,IF(C7=AM11,AH33,IF(C7=AM12,AH45,0)))) -> 0 | M22: =IF(C7=AM9,AK11,IF(C7=AM10,AI21,IF(C7=AM11,AI33,IF(C7=AM12,AI45,0)))) -> 0 | Z22: =AA20 -> 0 | AA22: =AB20 -> 0 | AB22: =AC20 -> 0 | AC22: =AD20 -> 0 | AD22: =AE20 -> 0 | AE22: =AF20 -> 0 | AF22: =AG20 -> 0 | AG22: =AH20 -> 0 | ... AI22: =AJ20 -> 0
C23: RPE 9 | D23: =IF(C7=AM9,AB12,IF(C7=AM10,Z22,IF(C7=AM11,Z34,IF(C7=AM12,Z46,0)))) -> 0 | E23: =IF(C7=AM9,AC12,IF(C7=AM10,AA22,IF(C7=AM11,AA34,IF(C7=AM12,AA46,0)))) -> 0 | F23: =IF(C7=AM9,AD12,IF(C7=AM10,AB22,IF(C7=AM11,AB34,IF(C7=AM12,AB46,0)))) -> 0 | G23: =IF(C7=AM9,AE12,IF(C7=AM10,AC22,IF(C7=AM11,AC34,IF(C7=AM12,AC46,0)))) -> 0 | H23: =IF(C7=AM9,AF12,IF(C7=AM10,AD22,IF(C7=AM11,AD34,IF(C7=AM12,AD46,0)))) -> 0 | I23: =IF(C7=AM9,AG12,IF(C7=AM10,AE22,IF(C7=AM11,AE34,IF(C7=AM12,AE46,0)))) -> 0 | J23: =IF(C7=AM9,AH12,IF(C7=AM10,AF22,IF(C7=AM11,AF34,IF(C7=AM12,AF46,0)))) -> 0 | K23: =IF(C7=AM9,AI12,IF(C7=AM10,AG22,IF(C7=AM11,AG34,IF(C7=AM12,AG46,0)))) -> 0 | L23: =IF(C7=AM9,AJ12,IF(C7=AM10,AH22,IF(C7=AM11,AH34,IF(C7=AM12,AH46,0)))) -> 0 | M23: =IF(C7=AM9,AK12,IF(C7=AM10,AI22,IF(C7=AM11,AI34,IF(C7=AM12,AI46,0)))) -> 0 | Z23: =AVERAGE(Z22,Z24) -> 0 | AA23: =AVERAGE(AA22,AA24) -> 0 | AB23: =AVERAGE(AB22,AB24) -> 0 | AC23: =AVERAGE(AC22,AC24) -> 0 | AD23: =AVERAGE(AD22,AD24) -> 0 | AE23: =AVERAGE(AE22,AE24) -> 0 | AF23: =AVERAGE(AF22,AF24) -> 0 | AG23: =AVERAGE(AG22,AG24) -> 0 | ... AI23: =AVERAGE(AI22,AI24) -> 0
C24: RPE 8,5 | D24: =IF(C7=AM9,AB13,IF(C7=AM10,Z23,IF(C7=AM11,Z35,IF(C7=AM12,Z47,0)))) -> 0 | E24: =IF(C7=AM9,AC13,IF(C7=AM10,AA23,IF(C7=AM11,AA35,IF(C7=AM12,AA47,0)))) -> 0 | F24: =IF(C7=AM9,AD13,IF(C7=AM10,AB23,IF(C7=AM11,AB35,IF(C7=AM12,AB47,0)))) -> 0 | G24: =IF(C7=AM9,AE13,IF(C7=AM10,AC23,IF(C7=AM11,AC35,IF(C7=AM12,AC47,0)))) -> 0 | H24: =IF(C7=AM9,AF13,IF(C7=AM10,AD23,IF(C7=AM11,AD35,IF(C7=AM12,AD47,0)))) -> 0 | I24: =IF(C7=AM9,AG13,IF(C7=AM10,AE23,IF(C7=AM11,AE35,IF(C7=AM12,AE47,0)))) -> 0 | J24: =IF(C7=AM9,AH13,IF(C7=AM10,AF23,IF(C7=AM11,AF35,IF(C7=AM12,AF47,0)))) -> 0 | K24: =IF(C7=AM9,AI13,IF(C7=AM10,AG23,IF(C7=AM11,AG35,IF(C7=AM12,AG47,0)))) -> 0 | L24: =IF(C7=AM9,AJ13,IF(C7=AM10,AH23,IF(C7=AM11,AH35,IF(C7=AM12,AH47,0)))) -> 0 | M24: =IF(C7=AM9,AK13,IF(C7=AM10,AI23,IF(C7=AM11,AI35,IF(C7=AM12,AI47,0)))) -> 0 | Z24: =AB20 -> 0 | AA24: =AC20 -> 0 | AB24: =AD20 -> 0 | AC24: =AE20 -> 0 | AD24: =AF20 -> 0 | AE24: =AG20 -> 0 | AF24: =AH20 -> 0 | AG24: =AI20 -> 0 | ... AI24: =AK20 -> 0
C25: RPE 8 | D25: =IF(C7=AM9,AB14,IF(C7=AM10,Z24,IF(C7=AM11,Z36,IF(C7=AM12,Z48,0)))) -> 0 | E25: =IF(C7=AM9,AC14,IF(C7=AM10,AA24,IF(C7=AM11,AA36,IF(C7=AM12,AA48,0)))) -> 0 | F25: =IF(C7=AM9,AD14,IF(C7=AM10,AB24,IF(C7=AM11,AB36,IF(C7=AM12,AB48,0)))) -> 0 | G25: =IF(C7=AM9,AE14,IF(C7=AM10,AC24,IF(C7=AM11,AC36,IF(C7=AM12,AC48,0)))) -> 0 | H25: =IF(C7=AM9,AF14,IF(C7=AM10,AD24,IF(C7=AM11,AD36,IF(C7=AM12,AD48,0)))) -> 0 | I25: =IF(C7=AM9,AG14,IF(C7=AM10,AE24,IF(C7=AM11,AE36,IF(C7=AM12,AE48,0)))) -> 0 | J25: =IF(C7=AM9,AH14,IF(C7=AM10,AF24,IF(C7=AM11,AF36,IF(C7=AM12,AF48,0)))) -> 0 | K25: =IF(C7=AM9,AI14,IF(C7=AM10,AG24,IF(C7=AM11,AG36,IF(C7=AM12,AG48,0)))) -> 0 | L25: =IF(C7=AM9,AJ14,IF(C7=AM10,AH24,IF(C7=AM11,AH36,IF(C7=AM12,AH48,0)))) -> 0 | M25: =IF(C7=AM9,AK14,IF(C7=AM10,AI24,IF(C7=AM11,AI36,IF(C7=AM12,AI48,0)))) -> 0 | Z25: =AVERAGE(Z24,Z26) -> 0 | AA25: =AVERAGE(AA24,AA26) -> 0 | AB25: =AVERAGE(AB24,AB26) -> 0 | AC25: =AVERAGE(AC24,AC26) -> 0 | AD25: =AVERAGE(AD24,AD26) -> 0 | AE25: =AVERAGE(AE24,AE26) -> 0 | AF25: =AVERAGE(AF24,AF26) -> 0 | AG25: =AVERAGE(AG24,AG26) -> 0 | ... AI25: =AVERAGE(AI24,AI26) -> 0
C26: RPE 7,5 | D26: =IF(C7=AM9,AB15,IF(C7=AM10,Z25,IF(C7=AM11,Z37,IF(C7=AM12,Z49,0)))) -> 0 | E26: =IF(C7=AM9,AC15,IF(C7=AM10,AA25,IF(C7=AM11,AA37,IF(C7=AM12,AA49,0)))) -> 0 | F26: =IF(C7=AM9,AD15,IF(C7=AM10,AB25,IF(C7=AM11,AB37,IF(C7=AM12,AB49,0)))) -> 0 | G26: =IF(C7=AM9,AE15,IF(C7=AM10,AC25,IF(C7=AM11,AC37,IF(C7=AM12,AC49,0)))) -> 0 | H26: =IF(C7=AM9,AF15,IF(C7=AM10,AD25,IF(C7=AM11,AD37,IF(C7=AM12,AD49,0)))) -> 0 | I26: =IF(C7=AM9,AG15,IF(C7=AM10,AE25,IF(C7=AM11,AE37,IF(C7=AM12,AE49,0)))) -> 0 | J26: =IF(C7=AM9,AH15,IF(C7=AM10,AF25,IF(C7=AM11,AF37,IF(C7=AM12,AF49,0)))) -> 0 | K26: =IF(C7=AM9,AI15,IF(C7=AM10,AG25,IF(C7=AM11,AG37,IF(C7=AM12,AG49,0)))) -> 0 | L26: =IF(C7=AM9,AJ15,IF(C7=AM10,AH25,IF(C7=AM11,AH37,IF(C7=AM12,AH49,0)))) -> 0 | M26: =IF(C7=AM9,AK15,IF(C7=AM10,AI25,IF(C7=AM11,AI37,IF(C7=AM12,AI49,0)))) -> 0 | Z26: =AC20 -> 0 | AA26: =AD20 -> 0 | AB26: =AE20 -> 0 | AC26: =AF20 -> 0 | AD26: =AG20 -> 0 | AE26: =AH20 -> 0 | AF26: =AI20 -> 0 | AG26: =AJ20 -> 0 | ... AI26: =AL20 -> 0
C27: RPE 7 | D27: =IF(C7=AM9,AB16,IF(C7=AM10,Z26,IF(C7=AM11,Z38,IF(C7=AM12,Z50,0)))) -> 0 | E27: =IF(C7=AM9,AC16,IF(C7=AM10,AA26,IF(C7=AM11,AA38,IF(C7=AM12,AA50,0)))) -> 0 | F27: =IF(C7=AM9,AD16,IF(C7=AM10,AB26,IF(C7=AM11,AB38,IF(C7=AM12,AB50,0)))) -> 0 | G27: =IF(C7=AM9,AE16,IF(C7=AM10,AC26,IF(C7=AM11,AC38,IF(C7=AM12,AC50,0)))) -> 0 | H27: =IF(C7=AM9,AF16,IF(C7=AM10,AD26,IF(C7=AM11,AD38,IF(C7=AM12,AD50,0)))) -> 0 | I27: =IF(C7=AM9,AG16,IF(C7=AM10,AE26,IF(C7=AM11,AE38,IF(C7=AM12,AE50,0)))) -> 0 | J27: =IF(C7=AM9,AH16,IF(C7=AM10,AF26,IF(C7=AM11,AF38,IF(C7=AM12,AF50,0)))) -> 0 | K27: =IF(C7=AM9,AI16,IF(C7=AM10,AG26,IF(C7=AM11,AG38,IF(C7=AM12,AG50,0)))) -> 0 | L27: =IF(C7=AM9,AJ16,IF(C7=AM10,AH26,IF(C7=AM11,AH38,IF(C7=AM12,AH50,0)))) -> 0 | M27: =IF(C7=AM9,AK16,IF(C7=AM10,AI26,IF(C7=AM11,AI38,IF(C7=AM12,AI50,0)))) -> 0 | Z27: =AVERAGE(Z26,Z28) -> 0 | AA27: =AVERAGE(AA28,AA26) -> 0 | AB27: =AVERAGE(AB26,AB28) -> 0 | AC27: =AVERAGE(AC26,AC28) -> 0 | AD27: =AVERAGE(AD26,AD28) -> 0 | AE27: =AVERAGE(AE26,AE28) -> 0 | AF27: =AVERAGE(AF26,AF28) -> 0 | AG27: =AVERAGE(AG26,AG28) -> 0 | AH27: =AVERAGE(AH26,AH28) -> 0 | AI27: =AVERAGE(AI26,AI28) -> 0
C28: RPE 6,5 | D28: =IF(C7=AM9,AB17,IF(C7=AM10,Z27,IF(C7=AM11,Z39,IF(C7=AM12,Z51,0)))) -> 0 | E28: =IF(C7=AM9,AC17,IF(C7=AM10,AA27,IF(C7=AM11,AA39,IF(C7=AM12,AA51,0)))) -> 0 | F28: =IF(C7=AM9,AD17,IF(C7=AM10,AB27,IF(C7=AM11,AB39,IF(C7=AM12,AB51,0)))) -> 0 | G28: =IF(C7=AM9,AE17,IF(C7=AM10,AC27,IF(C7=AM11,AC39,IF(C7=AM12,AC51,0)))) -> 0 | H28: =IF(C7=AM9,AF17,IF(C7=AM10,AD27,IF(C7=AM11,AD39,IF(C7=AM12,AD51,0)))) -> 0 | I28: =IF(C7=AM9,AG17,IF(C7=AM10,AE27,IF(C7=AM11,AE39,IF(C7=AM12,AE51,0)))) -> 0 | J28: =IF(C7=AM9,AH17,IF(C7=AM10,AF27,IF(C7=AM11,AF39,IF(C7=AM12,AF51,0)))) -> 0 | K28: =IF(C7=AM9,AI17,IF(C7=AM10,AG27,IF(C7=AM11,AG39,IF(C7=AM12,AG51,0)))) -> 0 | L28: =IF(C7=AM9,AJ17,IF(C7=AM10,AH27,IF(C7=AM11,AH39,IF(C7=AM12,AH51,0)))) -> 0 | M28: =IF(C7=AM9,AK17,IF(C7=AM10,AI27,IF(C7=AM11,AI39,IF(C7=AM12,AI51,0)))) -> 0 | Z28: =AD20 -> 0 | AA28: =AE20 -> 0 | AB28: =AF20 -> 0 | AC28: =AG20 -> 0 | AD28: =AH20 -> 0 | AE28: =AI20 -> 0 | AF28: =AJ20 -> 0 | AG28: =AK20 -> 0 | ... AI28: =AM20 -> 0
C29: RPE 6 | D29: =IF(C7=AM9,AB18,IF(C7=AM10,Z28,IF(C7=AM11,Z40,IF(C7=AM12,Z52,0)))) -> 0 | E29: =IF(C7=AM9,AC18,IF(C7=AM10,AA28,IF(C7=AM11,AA40,IF(C7=AM12,AA52,0)))) -> 0 | F29: =IF(C7=AM9,AD18,IF(C7=AM10,AB28,IF(C7=AM11,AB40,IF(C7=AM12,AB52,0)))) -> 0 | G29: =IF(C7=AM9,AE18,IF(C7=AM10,AC28,IF(C7=AM11,AC40,IF(C7=AM12,AC52,0)))) -> 0 | H29: =IF(C7=AM9,AF18,IF(C7=AM10,AD28,IF(C7=AM11,AD40,IF(C7=AM12,AD52,0)))) -> 0 | I29: =IF(C7=AM9,AG18,IF(C7=AM10,AE28,IF(C7=AM11,AE40,IF(C7=AM12,AE52,0)))) -> 0 | J29: =IF(C7=AM9,AH18,IF(C7=AM10,AF28,IF(C7=AM11,AF40,IF(C7=AM12,AF52,0)))) -> 0 | K29: =IF(C7=AM9,AI18,IF(C7=AM10,AG28,IF(C7=AM11,AG40,IF(C7=AM12,AG52,0)))) -> 0 | L29: =IF(C7=AM9,AJ18,IF(C7=AM10,AH28,IF(C7=AM11,AH40,IF(C7=AM12,AH52,0)))) -> 0 | M29: =IF(C7=AM9,AK18,IF(C7=AM10,AI28,IF(C7=AM11,AI40,IF(C7=AM12,AI52,0)))) -> 0
C31: Reps @RPE | E31: Fatigue Stops | H31: Reps @RPE | J31: Fatigue Stops | M31: Wilks Points Calculator | Z31: =G53 -> Custom RPE Chart (Bench)
E32: 0.05 | F32: 0.07 | J32: 0.05 | K32: 0.07 | Z32: =F17 -> 0 | AA32: =Z32*I58 -> 0 | AB32: =Z32*I59 -> 0 | AC32: =Z32*I60 -> 0 | AD32: =Z32*I61 -> 0 | AE32: =Z32*I62 -> 0 | AF32: =Z32*I63 -> 0 | AG32: =Z32*I64 -> 0 | AH32: =Z32*I65 -> 0 | AI32: =Z32*I66 -> 0 | AJ32: =Z32*I67 -> 0 | AK32: =Z32*I68 -> 0 | AL32: =Z32*I69 -> 0 | AM32: =Z32*I70 -> 0 | AN32: =Z32*I71 -> 0
C33: 1 @RPE 9 | D33: =D23 -> 0 | E33: =D33-(D33*E32) -> 0 | F33: =D33-(D33*F32) -> 0 | H33: 6 @RPE 9 | I33: =I23 -> 0 | J33: =I33-(I33*J32) -> 0 | K33: =I33-(I33*K32) -> 0 | M33: You are : | Z33: =AVERAGE(Z32,Z34) -> 0 | AA33: =AVERAGE(AA34,AA32) -> 0 | AB33: =AVERAGE(AB32,AB34) -> 0 | AC33: =AVERAGE(AC32,AC34) -> 0 | AD33: =AVERAGE(AD32,AD34) -> 0 | AE33: =AVERAGE(AE32,AE34) -> 0 | AF33: =AVERAGE(AF32,AF34) -> 0 | AG33: =AVERAGE(AG34,AG32) -> 0 | AH33: =AVERAGE(AH32,AH34) -> 0 | AI33: =AVERAGE(AI32,AI34) -> 0
C34: 1 @RPE 8 | D34: =D25 -> 0 | H34: 6 @RPE 8 | I34: =I25 -> 0 | Z34: =AA32 -> 0 | AA34: =AB32 -> 0 | AB34: =AC32 -> 0 | AC34: =AD32 -> 0 | AD34: =AE32 -> 0 | AE34: =AF32 -> 0 | AF34: =AG32 -> 0 | AG34: =AH32 -> 0 | ... AI34: =AJ32 -> 0
C35: 1 @RPE 7 | D35: =D27 -> 0 | H35: 6 @RPE 7 | I35: =I27 -> 0 | M35: Bodyweight : | Z35: =AVERAGE(Z34,Z36) -> 0 | AA35: =AVERAGE(AA34,AA36) -> 0 | AB35: =AVERAGE(AB34,AB36) -> 0 | AC35: =AVERAGE(AC34,AC36) -> 0 | AD35: =AVERAGE(AD34,AD36) -> 0 | AE35: =AVERAGE(AE34,AE36) -> 0 | AF35: =AVERAGE(AF34,AF36) -> 0 | AG35: =AVERAGE(AG36,AG34) -> 0 | AH35: =AVERAGE(AH34,AH36) -> 0 | AI35: =AVERAGE(AI34,AI36) -> 0
Z36: =AB32 -> 0 | AA36: =AC32 -> 0 | AB36: =AD32 -> 0 | AC36: =AE32 -> 0 | AD36: =AF32 -> 0 | AE36: =AG32 -> 0 | AF36: =AH32 -> 0 | AG36: =AI32 -> 0 | ... AI36: =AK32 -> 0
C37: 2 @RPE 9 | D37: =E23 -> 0 | E37: =D37-(D37*E32) -> 0 | F37: =D37-(D37*F32) -> 0 | H37: 7 @RPE 9 | I37: =J23 -> 0 | J37: =I37-(I37*J32) -> 0 | K37: =I37-(I37*K32) -> 0 | M37: Total Lifted Weight : | Z37: =AVERAGE(Z36,Z38) -> 0 | AA37: =AVERAGE(AA36,AA38) -> 0 | AB37: =AVERAGE(AB36,AB38) -> 0 | AC37: =AVERAGE(AC36,AC38) -> 0 | AD37: =AVERAGE(AD36,AD38) -> 0 | AE37: =AVERAGE(AE36,AE38) -> 0 | AF37: =AVERAGE(AF36,AF38) -> 0 | AG37: =AVERAGE(AG38,AG36) -> 0 | AH37: =AVERAGE(AH36,AH38) -> 0 | AI37: =AVERAGE(AI36,AI38) -> 0
C38: 2 @RPE 8 | D38: =E25 -> 0 | H38: 7 @RPE 8 | I38: =J25 -> 0 | Z38: =AC32 -> 0 | AA38: =AD32 -> 0 | AB38: =AE32 -> 0 | AC38: =AF32 -> 0 | AD38: =AG32 -> 0 | AE38: =AH32 -> 0 | AF38: =AI32 -> 0 | AG38: =AJ32 -> 0 | ... AI38: =AL32 -> 0
C39: 2 @RPE 7 | D39: =E27 -> 0 | H39: 7 @RPE 7 | I39: =J27 -> 0 | M39: =IF(O33=S40,O37*500/(-216.0475144+16.2606339*O35-0.002388645*O35^2-0.00113732*O35^3+0.00000701863*O35^4-0.00000001291*O35^5),O37*500/(594.31747775582-27.23842536447*O35+0.82112226871*O35^2-0.00930733913*O35^3+0.00004731582*O35^4-0.00000009054*O35^5)) -> 0 | Z39: =AVERAGE(Z38,Z40) -> 0 | AA39: =AVERAGE(AA38,AA40) -> 0 | AB39: =AVERAGE(AB38,AB40) -> 0 | AC39: =AVERAGE(AC38,AC40) -> 0 | AD39: =AVERAGE(AD38,AD40) -> 0 | AE39: =AVERAGE(AE38,AE40) -> 0 | AF39: =AVERAGE(AF38,AF40) -> 0 | AG39: =AVERAGE(AG38,AG40) -> 0 | ... AI39: =AVERAGE(AI38,AI40) -> 0
S40: Man | Z40: =AD32 -> 0 | AA40: =AE32 -> 0 | AB40: =AF32 -> 0 | AC40: =AG32 -> 0 | AD40: =AH32 -> 0 | AE40: =AI32 -> 0 | AF40: =AJ32 -> 0 | AG40: =AK32 -> 0 | ... AI40: =AM32 -> 0
C41: 3 @RPE 9 | D41: =F23 -> 0 | E41: =D41-(D41*E32) -> 0 | F41: =D41-(D41*F32) -> 0 | H41: 8 @RPE 9 | I41: =K23 -> 0 | J41: =I41-(I41*J32) -> 0 | K41: =I41-(I41*K32) -> 0
C42: 3 @RPE 8 | D42: =F25 -> 0 | H42: 8 @RPE 8 | I42: =K25 -> 0 | M42: IPF Points Calculator (Classic 3-Lift)
C43: 3 @RPE 7 | D43: =F27 -> 0 | H43: 8 @RPE 7 | I43: =K27 -> 0 | Z43: =K53 -> Custom RPE Chart (Deadlift)
M44: You are : | Z44: =F17 -> 0 | AA44: =Z44*M58 -> 0 | AB44: =Z44*M59 -> 0 | AC44: =Z44*M60 -> 0 | AD44: =Z44*M61 -> 0 | AE44: =Z44*M62 -> 0 | AF44: =Z44*M63 -> 0 | AG44: =Z44*M64 -> 0 | AH44: =Z44*M65 -> 0 | AI44: =Z44*M66 -> 0 | AJ44: =Z44*M67 -> 0 | AK44: =Z44*M68 -> 0 | AL44: =Z44*M69 -> 0 | AM44: =Z44*M70 -> 0 | AN44: =Z44*M71 -> 0
C45: 4 @RPE 9 | D45: =G23 -> 0 | E45: =D45-(D45*E32) -> 0 | F45: =D45-(D45*F32) -> 0 | H45: 9 @RPE 9 | I45: =L23 -> 0 | J45: =I45-(I45*J32) -> 0 | K45: =I45-(I45*K32) -> 0 | Z45: =AVERAGE(Z44,Z46) -> 0 | AA45: =AVERAGE(AA44,AA46) -> 0 | AB45: =AVERAGE(AB44,AB46) -> 0 | AC45: =AVERAGE(AC44,AC46) -> 0 | AD45: =AVERAGE(AD44,AD46) -> 0 | AE45: =AVERAGE(AE44,AE46) -> 0 | AF45: =AVERAGE(AF44,AF46) -> 0 | AG45: =AVERAGE(AG44,AG46) -> 0 | ... AI45: =AVERAGE(AI44,AI46) -> 0
C46: 4 @RPE 8 | D46: =G25 -> 0 | H46: 9 @RPE 8 | I46: =L25 -> 0 | M46: Bodyweight : | Z46: =AA44 -> 0 | AA46: =AB44 -> 0 | AB46: =AC44 -> 0 | AC46: =AD44 -> 0 | AD46: =AE44 -> 0 | AE46: =AF44 -> 0 | AF46: =AG44 -> 0 | AG46: =AH44 -> 0 | ... AI46: =AJ44 -> 0
C47: 4 @RPE 7 | D47: =G27 -> 0 | H47: 9 @RPE 7 | I47: =L27 -> 0 | Z47: =AVERAGE(Z46,Z48) -> 0 | AA47: =AVERAGE(AA46,AA48) -> 0 | AB47: =AVERAGE(AB46,AB48) -> 0 | AC47: =AVERAGE(AC46,AC48) -> 0 | AD47: =AVERAGE(AD46,AD48) -> 0 | AE47: =AVERAGE(AE46,AE48) -> 0 | AF47: =AVERAGE(AF46,AF48) -> 0 | AG47: =AVERAGE(AG46,AG48) -> 0 | ... AI47: =AVERAGE(AI46,AI48) -> 0
...

Sheet Week 1
C3: ='Training Plan'!B12 -> 0 | E3: Week 1 Training Log
B9: Day 1
B13: 1 | C13: ='Training Plan'!C16 -> Competition Squat | H13: 2 | I13: ='Training Plan'!C24 -> 0 | N13: 3 | O13: ='Training Plan'!C32 -> 0
B15: Sets x Reps @RPE / % | D15: ='Training Plan'!C17 -> 0 | H15: Sets x Reps @RPE / % | J15: ='Training Plan'!C25 -> 0 | N15: Sets x Reps @RPE / % | P15: ='Training Plan'!C33 -> 0
B20: Rest Periods | D20: ='Training Plan'!D22 -> 0 | H20: Rest Periods | J20: ='Training Plan'!D30 -> 0 | N20: Rest Periods | P20: ='Training Plan'!D38 -> 0
B22: Sets | C22: Reps | D22: Weight | E22: RPE | F22: Relative Intensity | H22: Sets | I22: Reps | J22: Weight | K22: RPE | L22: Relative Intensity | N22: Sets | O22: Reps | P22: Weight | Q22: RPE | R22: Relative Intensity
B23: 1 | C23: 1 | D23: 100 | F23: =IF(ISNUMBER(D23),D23/B35,) -> 0.71428571 | H23: 1 | L23: =IF(ISNUMBER(J23),J23/H35,) -> 0 | N23: 1 | R23: =IF(ISNUMBER(P23),P23/N35,) -> 0
B24: 2 | F24: =IF(ISNUMBER(D24),D24/B35,) -> 0 | H24: 2 | L24: =IF(ISNUMBER(J24),J24/H35,) -> 0 | N24: 2 | R24: =IF(ISNUMBER(P24),P24/N35,) -> 0
B25: 3 | F25: =IF(ISNUMBER(D25),D25/B35,) -> 0 | H25: 3 | L25: =IF(ISNUMBER(J25),J25/H35,) -> 0 | N25: 3 | R25: =IF(ISNUMBER(P25),P25/N35,) -> 0
B26: 4 | F26: =IF(ISNUMBER(D26),D26/B35,) -> 0 | H26: 4 | L26: =IF(ISNUMBER(J26),J26/H35,) -> 0 | N26: 4 | R26: =IF(ISNUMBER(P26),P26/N35,) -> 0
B27: 5 | F27: =IF(ISNUMBER(D27),D27/B35,) -> 0 | H27: 5 | L27: =IF(ISNUMBER(J27),J27/H35,) -> 0 | N27: 5 | R27: =IF(ISNUMBER(P27),P27/N35,) -> 0
B28: 6 | F28: =IF(ISNUMBER(D28),D28/B35,) -> 0 | H28: 6 | L28: =IF(ISNUMBER(J28),J28/H35,) -> 0 | N28: 6 | R28: =IF(ISNUMBER(P28),P28/N35,) -> 0
B29: 7 | F29: =IF(ISNUMBER(D29),D29/B35,) -> 0 | H29: 7 | L29: =IF(ISNUMBER(J29),J29/H35,) -> 0 | N29: 7 | R29: =IF(ISNUMBER(P29),P29/N35,) -> 0
B30: 8 | F30: =IF(ISNUMBER(D30),D30/B35,) -> 0 | H30: 8 | L30: =IF(ISNUMBER(J30),J30/H35,) -> 0 | N30: 8 | R30: =IF(ISNUMBER(P30),P30/N35,) -> 0
B31: 9 | F31: =IF(ISNUMBER(D31),D31/B35,) -> 0 | H31: 9 | L31: =IF(ISNUMBER(J31),J31/H35,) -> 0 | N31: 9 | R31: =IF(ISNUMBER(P31),P31/N35,) -> 0
B32: 10 | F32: =IF(ISNUMBER(D32),D32/B35,) -> 0 | H32: 10 | L32: =IF(ISNUMBER(J32),J32/H35,) -> 0 | N32: 10 | R32: =IF(ISNUMBER(P32),P32/N35,) -> 0
B33: e1RM | C33: Average Intensity | E33: =IFERROR(IF(COUNT(F23:F32)>0,AVERAGEIF(F23:F32,">0"),0),) -> 0.71428571 | H33: e1RM | I33: Average Intensity | K33: =IFERROR(IF(COUNT(L23:L32)>0,AVERAGEIF(L23:L32,">0"),0),) -> 0 | N33: e1RM | O33: Average Intensity | P33: =IFERROR(IF(COUNT(R23:R32)>0,AVERAGEIF(R23:R32,">0"),0),) -> 0 | Q33: sRPE | R33: =IFERROR(Q37*R37,"")
B35: =IFERROR(ROUNDUP(B37/(0.0005*C37^2-0.0342*C37+1.034),0),) -> 140 | C35: nReps | D35: =SUM(C23:C32) -> 1 | E35: Volume | F35: =SUM(C23*D23,C24*D24,C25*D25,C26*D26,C27*D27,C28*D28,C29*D29,C30*D30,C31*D31,C32*D32) -> 100 | H35: =IFERROR(ROUNDUP(H37/(0.0005*I37^2-0.0342*I37+1.034),0),) -> 0 | I35: nReps | J35: =SUM(I23:I32) -> 0 | K35: Volume | L35: =SUM(I23*J23,I24*J24,I25*J25,I26*J26,I27*J27,I28*J28,I29*J29,I30*J30,I31*J31,I32*J32) -> 0 | N35: =IFERROR(ROUNDUP(N37/(0.0005*O37^2-0.0342*O37+1.034),0),) -> 0 | O35: nReps | P35: =SUM(O23:O32) -> 0 | Q35: Volume | R35: =SUM(O23*P23,O24*P24,O25*P25,O26*P26,O27*P27,O28*P28,O29*P29,O30*P30,O31*P31,O32*P32) -> 0
B37: =OFFSET(D22,MATCH(MAX(D23:D32),D23:D32,0),0) -> 100 | C37: =OFFSET(C22,MATCH(MAX(D23:D32),D23:D32,0),0)+(10-OFFSET(E22,MATCH(MAX(D23:D32),D23:D32,0),0)) -> 11 | H37: =OFFSET(J22,MATCH(MAX(J23:J32),J23:J32,0),0) -> #N/A | I37: =OFFSET(I22,MATCH(MAX(J23:J32),J23:J32,0),0)+(10-OFFSET(K22,MATCH(MAX(J23:J32),J23:J32,0),0)) -> #N/A | N37: =OFFSET(P22,MATCH(MAX(P23:P32),P23:P32,0),0) -> #N/A | O37: =OFFSET(O22,MATCH(MAX(P23:P32),P23:P32,0),0)+(10-OFFSET(Q22,MATCH(MAX(P23:P32),P23:P32,0),0)) -> #N/A | Q37: =IFERROR(AVERAGE(AVERAGE(E23:E32),AVERAGE(K23:K32),AVERAGE(Q23:Q32)),"") | R37: =COUNTIF(C23:C32,">0")+COUNTIF(I23:I32,">0")+COUNTIF(O23:O32,">0") -> 1
B39: Day 2
B43: 1 | C43: ='Training Plan'!F16 -> Competition Squat | H43: 2 | I43: ='Training Plan'!F24 -> 0 | N43: 3 | O43: ='Training Plan'!F32 -> 0
B45: Sets x Reps @RPE / % | D45: ='Training Plan'!F17 -> 0 | H45: Sets x Reps @RPE / % | J45: ='Training Plan'!F25 -> 0 | N45: Sets x Reps @RPE / % | P45: ='Training Plan'!F33 -> 0
B50: Rest Periods | D50: ='Training Plan'!G22 -> 0 | H50: Rest Periods | J50: ='Training Plan'!G30 -> 0 | N50: Rest Periods | P50: ='Training Plan'!G38 -> 0
B52: Sets | C52: Reps | D52: Weight | E52: RPE | F52: Relative Intensity | H52: Sets | I52: Reps | J52: Weight | K52: RPE | L52: Relative Intensity | N52: Sets | O52: Reps | P52: Weight | Q52: RPE | R52: Relative Intensity
B53: 1 | C53: 1 | D53: 150 | F53: =IF(ISNUMBER(D53),D53/B65,) -> 0.71770335 | H53: 1 | L53: =IF(ISNUMBER(J53),J53/H65,) -> 0 | N53: 1 | R53: =IF(ISNUMBER(P53),P53/N65,) -> 0
B54: 2 | F54: =IF(ISNUMBER(D54),D54/B65,) -> 0 | H54: 2 | L54: =IF(ISNUMBER(J54),J54/H65,) -> 0 | N54: 2 | R54: =IF(ISNUMBER(P54),P54/N65,) -> 0
B55: 3 | F55: =IF(ISNUMBER(D55),D55/B65,) -> 0 | H55: 3 | L55: =IF(ISNUMBER(J55),J55/H65,) -> 0 | N55: 3 | R55: =IF(ISNUMBER(P55),P55/N65,) -> 0
B56: 4 | F56: =IF(ISNUMBER(D56),D56/B65,) -> 0 | H56: 4 | L56: =IF(ISNUMBER(J56),J56/H65,) -> 0 | N56: 4 | R56: =IF(ISNUMBER(P56),P56/N65,) -> 0
B57: 5 | F57: =IF(ISNUMBER(D57),D57/B65,) -> 0 | H57: 5 | L57: =IF(ISNUMBER(J57),J57/H65,) -> 0 | N57: 5 | R57: =IF(ISNUMBER(P57),P57/N65,) -> 0
B58: 6 | F58: =IF(ISNUMBER(D58),D58/B65,) -> 0 | H58: 6 | L58: =IF(ISNUMBER(J58),J58/H65,) -> 0 | N58: 6 | R58: =IF(ISNUMBER(P58),P58/N65,) -> 0
B59: 7 | F59: =IF(ISNUMBER(D59),D59/B65,) -> 0 | H59: 7 | L59: =IF(ISNUMBER(J59),J59/H65,) -> 0 | N59: 7 | R59: =IF(ISNUMBER(P59),P59/N65,) -> 0
B60: 8 | F60: =IF(ISNUMBER(D60),D60/B65,) -> 0 | H60: 8 | L60: =IF(ISNUMBER(J60),J60/H65,) -> 0 | N60: 8 | R60: =IF(ISNUMBER(P60),P60/N65,) -> 0
B61: 9 | F61: =IF(ISNUMBER(D61),D61/B65,) -> 0 | H61: 9 | L61: =IF(ISNUMBER(J61),J61/H65,) -> 0 | N61: 9 | R61: =IF(ISNUMBER(P61),P61/N65,) -> 0
B62: 10 | F62: =IF(ISNUMBER(D62),D62/B65,) -> 0 | H62: 10 | L62: =IF(ISNUMBER(J62),J62/H65,) -> 0 | N62: 10 | R62: =IF(ISNUMBER(P62),P62/N65,) -> 0
B63: e1RM | C63: Average Intensity | E63: =IFERROR(IF(COUNT(F53:F62)>0,AVERAGEIF(F53:F62,">0"),0),) -> 0.71770335 | H63: e1RM | I63: Average Intensity | K63: =IFERROR(IF(COUNT(L53:L62)>0,AVERAGEIF(L53:L62,">0"),0),) -> 0 | N63: e1RM | O63: Average Intensity | P63: =IFERROR(IF(COUNT(R53:R62)>0,AVERAGEIF(R53:R62,">0"),0),) -> 0 | Q63: sRPE | R63: =IFERROR(Q67*R67,"")
B65: =IFERROR(ROUNDUP(B67/(0.0005*C67^2-0.0342*C67+1.034),0),) -> 209 | C65: nReps | D65: =SUM(C53:C62) -> 1 | E65: Volume | F65: =SUM(C53*D53,C54*D54,C55*D55,C56*D56,C57*D57,C58*D58,C59*D59,C60*D60,C61*D61,C62*D62) -> 150 | H65: =IFERROR(ROUNDUP(H67/(0.0005*I67^2-0.0342*I67+1.034),0),) -> 0 | I65: nReps | J65: =SUM(I53:I62) -> 0 | K65: Volume | L65: =SUM(I53*J53,I54*J54,I55*J55,I56*J56,I57*J57,I58*J58,I59*J59,I60*J60,I61*J61,I62*J62) -> 0 | N65: =IFERROR(ROUNDUP(N67/(0.0005*O67^2-0.0342*O67+1.034),0),) -> 0 | O65: nReps | P65: =SUM(O53:O62) -> 0 | Q65: Volume | R65: =SUM(O53*P53,O54*P54,O55*P55,O56*P56,O57*P57,O58*P58,O59*P59,O60*P60,O61*P61,O62*P62) -> 0
B67: =OFFSET(D52,MATCH(MAX(D53:D62),D53:D62,0),0) -> 150 | C67: =OFFSET(C52,MATCH(MAX(D53:D62),D53:D62,0),0)+(10-OFFSET(E52,MATCH(MAX(D53:D62),D53:D62,0),0)) -> 11 | H67: =OFFSET(J52,MATCH(MAX(J53:J62),J53:J62,0),0) -> #N/A | I67: =OFFSET(I52,MATCH(MAX(J53:J62),J53:J62,0),0)+(10-OFFSET(K52,MATCH(MAX(J53:J62),J53:J62,0),0)) -> #N/A | N67: =OFFSET(P52,MATCH(MAX(P53:P62),P53:P62,0),0) -> #N/A | O67: =OFFSET(O52,MATCH(MAX(P53:P62),P53:P62,0),0)+(10-OFFSET(Q52,MATCH(MAX(P53:P62),P53:P62,0),0)) -> #N/A | Q67: =IFERROR(AVERAGE(AVERAGE(E53:E62),AVERAGE(K53:K62),AVERAGE(Q53:Q62)),"") | R67: =COUNTIF(C53:C62,">0")+COUNTIF(I53:I62,">0")+COUNTIF(O53:O62,">0") -> 1
B69: General Physical Prepardness (GPP)
C73: ='Training Plan'!I15 -> 0 | F73: ='Training Plan'!I19 -> 0 | I73: ='Training Plan'!I23 -> 0 | L73: ='Training Plan'!I27 -> 0 | O73: ='Training Plan'!I31 -> 0
C75: ='Training Plan'!I16 -> 0 | F75: ='Training Plan'!I20 -> 0 | I75: ='Training Plan'!I24 -> 0 | L75: ='Training Plan'!I28 -> 0 | O75: ='Training Plan'!I32 -> 0
...

Sheet Week 2
C3: ='Training Plan'!B41 -> 0 | E3: Week 2 Training Log
B9: Day 1
B13: 1 | C13: ='Training Plan'!C45 -> 0 | H13: 2 | I13: ='Training Plan'!C53 -> 0 | N13: 3 | O13: ='Training Plan'!C61 -> 0
B15: Sets x Reps @RPE / % | D15: ='Training Plan'!C46 -> 0 | H15: Sets x Reps @RPE / % | J15: ='Training Plan'!C54 -> 0 | N15: Sets x Reps @RPE / % | P15: ='Training Plan'!C62 -> 0
B20: Rest Periods | D20: ='Training Plan'!D51 -> 0 | H20: Rest Periods | J20: ='Training Plan'!D59 -> 0 | N20: Rest Periods | P20: ='Training Plan'!D67 -> 0
B22: Sets | C22: Reps | D22: Weight | E22: RPE | F22: Relative Intensity | H22: Sets | I22: Reps | J22: Weight | K22: RPE | L22: Relative Intensity | N22: Sets | O22: Reps | P22: Weight | Q22: RPE | R22: Relative Intensity
B23: 1 | F23: =IF(ISNUMBER(D23),D23/B35,) -> 0 | H23: 1 | L23: =IF(ISNUMBER(J23),J23/H35,) -> 0 | N23: 1 | R23: =IF(ISNUMBER(P23),P23/N35,) -> 0
B24: 2 | F24: =IF(ISNUMBER(D24),D24/B35,) -> 0 | H24: 2 | L24: =IF(ISNUMBER(J24),J24/H35,) -> 0 | N24: 2 | R24: =IF(ISNUMBER(P24),P24/N35,) -> 0
B25: 3 | F25: =IF(ISNUMBER(D25),D25/B35,) -> 0 | H25: 3 | L25: =IF(ISNUMBER(J25),J25/H35,) -> 0 | N25: 3 | R25: =IF(ISNUMBER(P25),P25/N35,) -> 0
B26: 4 | F26: =IF(ISNUMBER(D26),D26/B35,) -> 0 | H26: 4 | L26: =IF(ISNUMBER(J26),J26/H35,) -> 0 | N26: 4 | R26: =IF(ISNUMBER(P26),P26/N35,) -> 0
B27: 5 | F27: =IF(ISNUMBER(D27),D27/B35,) -> 0 | H27: 5 | L27: =IF(ISNUMBER(J27),J27/H35,) -> 0 | N27: 5 | R27: =IF(ISNUMBER(P27),P27/N35,) -> 0
B28: 6 | F28: =IF(ISNUMBER(D28),D28/B35,) -> 0 | H28: 6 | L28: =IF(ISNUMBER(J28),J28/H35,) -> 0 | N28: 6 | R28: =IF(ISNUMBER(P28),P28/N35,) -> 0
B29: 7 | F29: =IF(ISNUMBER(D29),D29/B35,) -> 0 | H29: 7 | L29: =IF(ISNUMBER(J29),J29/H35,) -> 0 | N29: 7 | R29: =IF(ISNUMBER(P29),P29/N35,) -> 0
B30: 8 | F30: =IF(ISNUMBER(D30),D30/B35,) -> 0 | H30: 8 | L30: =IF(ISNUMBER(J30),J30/H35,) -> 0 | N30: 8 | R30: =IF(ISNUMBER(P30),P30/N35,) -> 0
B31: 9 | F31: =IF(ISNUMBER(D31),D31/B35,) -> 0 | H31: 9 | L31: =IF(ISNUMBER(J31),J31/H35,) -> 0 | N31: 9 | R31: =IF(ISNUMBER(P31),P31/N35,) -> 0
B32: 10 | F32: =IF(ISNUMBER(D32),D32/B35,) -> 0 | H32: 10 | L32: =IF(ISNUMBER(J32),J32/H35,) -> 0 | N32: 10 | R32: =IF(ISNUMBER(P32),P32/N35,) -> 0
B33: e1RM | C33: Average Intensity | E33: =IFERROR(IF(COUNT(F23:F32)>0,AVERAGEIF(F23:F32,">0"),0),) -> 0 | H33: e1RM | I33: Average Intensity | K33: =IFERROR(IF(COUNT(L23:L32)>0,AVERAGEIF(L23:L32,">0"),0),) -> 0 | N33: e1RM | O33: Average Intensity | P33: =IFERROR(IF(COUNT(R23:R32)>0,AVERAGEIF(R23:R32,">0"),0),) -> 0 | Q33: sRPE | R33: =IFERROR(Q37*R37,"")
B35: =IFERROR(ROUNDUP(B37/(0.0005*C37^2-0.0342*C37+1.034),0),) -> 0 | C35: nReps | D35: =SUM(C23:C32) -> 0 | E35: Volume | F35: =SUM(C23*D23,C24*D24,C25*D25,C26*D26,C27*D27,C28*D28,C29*D29,C30*D30,C31*D31,C32*D32) -> 0 | H35: =IFERROR(ROUNDUP(H37/(0.0005*I37^2-0.0342*I37+1.034),0),) -> 0 | I35: nReps | J35: =SUM(I23:I32) -> 0 | K35: Volume | L35: =SUM(I23*J23,I24*J24,I25*J25,I26*J26,I27*J27,I28*J28,I29*J29,I30*J30,I31*J31,I32*J32) -> 0 | N35: =IFERROR(ROUNDUP(N37/(0.0005*O37^2-0.0342*O37+1.034),0),) -> 0 | O35: nReps | P35: =SUM(O23:O32) -> 0 | Q35: Volume | R35: =SUM(O23*P23,O24*P24,O25*P25,O26*P26,O27*P27,O28*P28,O29*P29,O30*P30,O31*P31,O32*P32) -> 0
B37: =OFFSET(D22,MATCH(MAX(D23:D32),D23:D32,0),0) -> #N/A | C37: =OFFSET(C22,MATCH(MAX(D23:D32),D23:D32,0),0)+(10-OFFSET(E22,MATCH(MAX(D23:D32),D23:D32,0),0)) -> #N/A | H37: =OFFSET(J22,MATCH(MAX(J23:J32),J23:J32,0),0) -> #N/A | I37: =OFFSET(I22,MATCH(MAX(J23:J32),J23:J32,0),0)+(10-OFFSET(K22,MATCH(MAX(J23:J32),J23:J32,0),0)) -> #N/A | N37: =OFFSET(P22,MATCH(MAX(P23:P32),P23:P32,0),0) -> #N/A | O37: =OFFSET(O22,MATCH(MAX(P23:P32),P23:P32,0),0)+(10-OFFSET(Q22,MATCH(MAX(P23:P32),P23:P32,0),0)) -> #N/A | Q37: =IFERROR(AVERAGE(AVERAGE(E23:E32),AVERAGE(K23:K32),AVERAGE(Q23:Q32)),"") | R37: =COUNTIF(C23:C32,">0")+COUNTIF(I23:I32,">0")+COUNTIF(O23:O32,">0") -> 0
B39: Day 2
B43: 1 | C43: ='Training Plan'!F45 -> 0 | H43: 2 | I43: ='Training Plan'!F53 -> 0 | N43: 3 | O43: ='Training Plan'!F61 -> 0
B45: Sets x Reps @RPE / % | D45: ='Training Plan'!F46 -> 0 | H45: Sets x Reps @RPE / % | J45: ='Training Plan'!F54 -> 0 | N45: Sets x Reps @RPE / % | P45: ='Training Plan'!F62 -> 0
B50: Rest Periods | D50: ='Training Plan'!G51 -> 0 | H50: Rest Periods | J50: ='Training Plan'!G59 -> 0 | N50: Rest Periods | P50: ='Training Plan'!G67 -> 0
B52: Sets | C52: Reps | D52: Weight | E52: RPE | F52: Relative Intensity | H52: Sets | I52: Reps | J52: Weight | K52: RPE | L52: Relative Intensity | N52: Sets | O52: Reps | P52: Weight | Q52: RPE | R52: Relative Intensity
B53: 1 | F53: =IF(ISNUMBER(D53),D53/B65,) -> 0 | H53: 1 | L53: =IF(ISNUMBER(J53),J53/H65,) -> 0 | N53: 1 | R53: =IF(ISNUMBER(P53),P53/N65,) -> 0
B54: 2 | F54: =IF(ISNUMBER(D54),D54/B65,) -> 0 | H54: 2 | L54: =IF(ISNUMBER(J54),J54/H65,) -> 0 | N54: 2 | R54: =IF(ISNUMBER(P54),P54/N65,) -> 0
B55: 3 | F55: =IF(ISNUMBER(D55),D55/B65,) -> 0 | H55: 3 | L55: =IF(ISNUMBER(J55),J55/H65,) -> 0 | N55: 3 | R55: =IF(ISNUMBER(P55),P55/N65,) -> 0
B56: 4 | F56: =IF(ISNUMBER(D56),D56/B65,) -> 0 | H56: 4 | L56: =IF(ISNUMBER(J56),J56/H65,) -> 0 | N56: 4 | R56: =IF(ISNUMBER(P56),P56/N65,) -> 0
B57: 5 | F57: =IF(ISNUMBER(D57),D57/B65,) -> 0 | H57: 5 | L57: =IF(ISNUMBER(J57),J57/H65,) -> 0 | N57: 5 | R57: =IF(ISNUMBER(P57),P57/N65,) -> 0
B58: 6 | F58: =IF(ISNUMBER(D58),D58/B65,) -> 0 | H58: 6 | L58: =IF(ISNUMBER(J58),J58/H65,) -> 0 | N58: 6 | R58: =IF(ISNUMBER(P58),P58/N65,) -> 0
B59: 7 | F59: =IF(ISNUMBER(D59),D59/B65,) -> 0 | H59: 7 | L59: =IF(ISNUMBER(J59),J59/H65,) -> 0 | N59: 7 | R59: =IF(ISNUMBER(P59),P59/N65,) -> 0
B60: 8 | F60: =IF(ISNUMBER(D60),D60/B65,) -> 0 | H60: 8 | L60: =IF(ISNUMBER(J60),J60/H65,) -> 0 | N60: 8 | R60: =IF(ISNUMBER(P60),P60/N65,) -> 0
B61: 9 | F61: =IF(ISNUMBER(D61),D61/B65,) -> 0 | H61: 9 | L61: =IF(ISNUMBER(J61),J61/H65,) -> 0 | N61: 9 | R61: =IF(ISNUMBER(P61),P61/N65,) -> 0
B62: 10 | F62: =IF(ISNUMBER(D62),D62/B65,) -> 0 | H62: 10 | L62: =IF(ISNUMBER(J62),J62/H65,) -> 0 | N62: 10 | R62: =IF(ISNUMBER(P62),P62/N65,) -> 0
B63: e1RM | C63: Average Intensity | E63: =IFERROR(IF(COUNT(F53:F62)>0,AVERAGEIF(F53:F62,">0"),0),) -> 0 | H63: e1RM | I63: Average Intensity | K63: =IFERROR(IF(COUNT(L53:L62)>0,AVERAGEIF(L53:L62,">0"),0),) -> 0 | N63: e1RM | O63: Average Intensity | P63: =IFERROR(IF(COUNT(R53:R62)>0,AVERAGEIF(R53:R62,">0"),0),) -> 0 | Q63: sRPE | R63: =IFERROR(Q67*R67,"")
B65: =IFERROR(ROUNDUP(B67/(0.0005*C67^2-0.0342*C67+1.034),0),) -> 0 | C65: nReps | D65: =SUM(C53:C62) -> 0 | E65: Volume | F65: =SUM(C53*D53,C54*D54,C55*D55,C56*D56,C57*D57,C58*D58,C59*D59,C60*D60,C61*D61,C62*D62) -> 0 | H65: =IFERROR(ROUNDUP(H67/(0.0005*I67^2-0.0342*I67+1.034),0),) -> 0 | I65: nReps | J65: =SUM(I53:I62) -> 0 | K65: Volume | L65: =SUM(I53*J53,I54*J54,I55*J55,I56*J56,I57*J57,I58*J58,I59*J59,I60*J60,I61*J61,I62*J62) -> 0 | N65: =IFERROR(ROUNDUP(N67/(0.0005*O67^2-0.0342*O67+1.034),0),) -> 0 | O65: nReps | P65: =SUM(O53:O62) -> 0 | Q65: Volume | R65: =SUM(O53*P53,O54*P54,O55*P55,O56*P56,O57*P57,O58*P58,O59*P59,O60*P60,O61*P61,O62*P62) -> 0
B67: =OFFSET(D52,MATCH(MAX(D53:D62),D53:D62,0),0) -> #N/A | C67: =OFFSET(C52,MATCH(MAX(D53:D62),D53:D62,0),0)+(10-OFFSET(E52,MATCH(MAX(D53:D62),D53:D62,0),0)) -> #N/A | H67: =OFFSET(J52,MATCH(MAX(J53:J62),J53:J62,0),0) -> #N/A | I67: =OFFSET(I52,MATCH(MAX(J53:J62),J53:J62,0),0)+(10-OFFSET(K52,MATCH(MAX(J53:J62),J53:J62,0),0)) -> #N/A | N67: =OFFSET(P52,MATCH(MAX(P53:P62),P53:P62,0),0) -> #N/A | O67: =OFFSET(O52,MATCH(MAX(P53:P62),P53:P62,0),0)+(10-OFFSET(Q52,MATCH(MAX(P53:P62),P53:P62,0),0)) -> #N/A | Q67: =IFERROR(AVERAGE(AVERAGE(E53:E62),AVERAGE(K53:K62),AVERAGE(Q53:Q62)),"") | R67: =COUNTIF(C53:C62,">0")+COUNTIF(I53:I62,">0")+COUNTIF(O53:O62,">0") -> 0
B69: General Physical Prepardness (GPP)
C73: ='Training Plan'!I44 -> 0 | F73: ='Training Plan'!I48 -> 0 | I73: ='Training Plan'!I52 -> 0 | L73: ='Training Plan'!I56 -> 0 | O73: ='Training Plan'!I60 -> 0
C75: ='Training Plan'!I45 -> 0 | F75: ='Training Plan'!I49 -> 0 | I75: ='Training Plan'!I53 -> 0 | L75: ='Training Plan'!I57 -> 0 | O75: ='Training Plan'!I61 -> 0
...

Sheet Week 3
C3: ='Training Plan'!B70 -> 0 | E3: Week 3 Training Log
B9: Day 1
B13: 1 | C13: ='Training Plan'!C74 -> 0 | H13: 2 | I13: ='Training Plan'!C82 -> 0 | N13: 3 | O13: ='Training Plan'!C90 -> 0
B15: Sets x Reps @RPE / % | D15: ='Training Plan'!C75 -> 0 | H15: Sets x Reps @RPE / % | J15: ='Training Plan'!C83 -> 0 | N15: Sets x Reps @RPE / % | P15: ='Training Plan'!C91 -> 0
B20: Rest Periods | D20: ='Training Plan'!D80 -> 0 | H20: Rest Periods | J20: ='Training Plan'!D88 -> 0 | N20: Rest Periods | P20: ='Training Plan'!D96 -> 0
B22: Sets | C22: Reps | D22: Weight | E22: RPE | F22: Relative Intensity | H22: Sets | I22: Reps | J22: Weight | K22: RPE | L22: Relative Intensity | N22: Sets | O22: Reps | P22: Weight | Q22: RPE | R22: Relative Intensity
B23: 1 | F23: =IF(ISNUMBER(D23),D23/B35,) -> 0 | H23: 1 | L23: =IF(ISNUMBER(J23),J23/H35,) -> 0 | N23: 1 | R23: =IF(ISNUMBER(P23),P23/N35,) -> 0
B24: 2 | F24: =IF(ISNUMBER(D24),D24/B35,) -> 0 | H24: 2 | L24: =IF(ISNUMBER(J24),J24/H35,) -> 0 | N24: 2 | R24: =IF(ISNUMBER(P24),P24/N35,) -> 0
B25: 3 | F25: =IF(ISNUMBER(D25),D25/B35,) -> 0 | H25: 3 | L25: =IF(ISNUMBER(J25),J25/H35,) -> 0 | N25: 3 | R25: =IF(ISNUMBER(P25),P25/N35,) -> 0
B26: 4 | F26: =IF(ISNUMBER(D26),D26/B35,) -> 0 | H26: 4 | L26: =IF(ISNUMBER(J26),J26/H35,) -> 0 | N26: 4 | R26: =IF(ISNUMBER(P26),P26/N35,) -> 0
B27: 5 | F27: =IF(ISNUMBER(D27),D27/B35,) -> 0 | H27: 5 | L27: =IF(ISNUMBER(J27),J27/H35,) -> 0 | N27: 5 | R27: =IF(ISNUMBER(P27),P27/N35,) -> 0
B28: 6 | F28: =IF(ISNUMBER(D28),D28/B35,) -> 0 | H28: 6 | L28: =IF(ISNUMBER(J28),J28/H35,) -> 0 | N28: 6 | R28: =IF(ISNUMBER(P28),P28/N35,) -> 0
B29: 7 | F29: =IF(ISNUMBER(D29),D29/B35,) -> 0 | H29: 7 | L29: =IF(ISNUMBER(J29),J29/H35,) -> 0 | N29: 7 | R29: =IF(ISNUMBER(P29),P29/N35,) -> 0
B30: 8 | F30: =IF(ISNUMBER(D30),D30/B35,) -> 0 | H30: 8 | L30: =IF(ISNUMBER(J30),J30/H35,) -> 0 | N30: 8 | R30: =IF(ISNUMBER(P30),P30/N35,) -> 0
B31: 9 | F31: =IF(ISNUMBER(D31),D31/B35,) -> 0 | H31: 9 | L31: =IF(ISNUMBER(J31),J31/H35,) -> 0 | N31: 9 | R31: =IF(ISNUMBER(P31),P31/N35,) -> 0
B32: 10 | F32: =IF(ISNUMBER(D32),D32/B35,) -> 0 | H32: 10 | L32: =IF(ISNUMBER(J32),J32/H35,) -> 0 | N32: 10 | R32: =IF(ISNUMBER(P32),P32/N35,) -> 0
B33: e1RM | C33: Average Intensity | E33: =IFERROR(IF(COUNT(F23:F32)>0,AVERAGEIF(F23:F32,">0"),0),) -> 0 | H33: e1RM | I33: Average Intensity | K33: =IFERROR(IF(COUNT(L23:L32)>0,AVERAGEIF(L23:L32,">0"),0),) -> 0 | N33: e1RM | O33: Average Intensity | P33: =IFERROR(IF(COUNT(R23:R32)>0,AVERAGEIF(R23:R32,">0"),0),) -> 0 | Q33: sRPE | R33: =IFERROR(Q37*R37,"")
B35: =IFERROR(ROUNDUP(B37/(0.0005*C37^2-0.0342*C37+1.034),0),) -> 0 | C35: nReps | D35: =SUM(C23:C32) -> 0 | E35: Volume | F35: =SUM(C23*D23,C24*D24,C25*D25,C26*D26,C27*D27,C28*D28,C29*D29,C30*D30,C31*D31,C32*D32) -> 0 | H35: =IFERROR(ROUNDUP(H37/(0.0005*I37^2-0.0342*I37+1.034),0),) -> 0 | I35: nReps | J35: =SUM(I23:I32) -> 0 | K35: Volume | L35: =SUM(I23*J23,I24*J24,I25*J25,I26*J26,I27*J27,I28*J28,I29*J29,I30*J30,I31*J31,I32*J32) -> 0 | N35: =IFERROR(ROUNDUP(N37/(0.0005*O37^2-0.0342*O37+1.034),0),) -> 0 | O35: nReps | P35: =SUM(O23:O32) -> 0 | Q35: Volume | R35: =SUM(O23*P23,O24*P24,O25*P25,O26*P26,O27*P27,O28*P28,O29*P29,O30*P30,O31*P31,O32*P32) -> 0
B37: =OFFSET(D22,MATCH(MAX(D23:D32),D23:D32,0),0) -> #N/A | C37: =OFFSET(C22,MATCH(MAX(D23:D32),D23:D32,0),0)+(10-OFFSET(E22,MATCH(MAX(D23:D32),D23:D32,0),0)) -> #N/A | H37: =OFFSET(J22,MATCH(MAX(J23:J32),J23:J32,0),0) -> #N/A | I37: =OFFSET(I22,MATCH(MAX(J23:J32),J23:J32,0),0)+(10-OFFSET(K22,MATCH(MAX(J23:J32),J23:J32,0),0)) -> #N/A | N37: =OFFSET(P22,MATCH(MAX(P23:P32),P23:P32,0),0) -> #N/A | O37: =OFFSET(O22,MATCH(MAX(P23:P32),P23:P32,0),0)+(10-OFFSET(Q22,MATCH(MAX(P23:P32),P23:P32,0),0)) -> #N/A | Q37: =IFERROR(AVERAGE(AVERAGE(E23:E32),AVERAGE(K23:K32),AVERAGE(Q23:Q32)),"") | R37: =COUNTIF(C23:C32,">0")+COUNTIF(I23:I32,">0")+COUNTIF(O23:O32,">0") -> 0
B39: Day 2
B43: 1 | C43: ='Training Plan'!F74 -> 0 | H43: 2 | I43: ='Training Plan'!F82 -> 0 | N43: 3 | O43: ='Training Plan'!F90 -> 0
B45: Sets x Reps @RPE / % | D45: ='Training Plan'!F75 -> 0 | H45: Sets x Reps @RPE / % | J45: ='Training Plan'!F83 -> 0 | N45: Sets x Reps @RPE / % | P45: ='Training Plan'!F91 -> 0
B50: Rest Periods | D50: ='Training Plan'!G80 -> 0 | H50: Rest Periods | J50: ='Training Plan'!G88 -> 0 | N50: Rest Periods | P50: ='Training Plan'!G96 -> 0
B52: Sets | C52: Reps | D52: Weight | E52: RPE | F52: Relative Intensity | H52: Sets | I52: Reps | J52: Weight | K52: RPE | L52: Relative Intensity | N52: Sets | O52: Reps | P52: Weight | Q52: RPE | R52: Relative Intensity
B53: 1 | F53: =IF(ISNUMBER(D53),D53/B65,) -> 0 | H53: 1 | L53: =IF(ISNUMBER(J53),J53/H65,) -> 0 | N53: 1 | R53: =IF(ISNUMBER(P53),P53/N65,) -> 0
B54: 2 | F54: =IF(ISNUMBER(D54),D54/B65,) -> 0 | H54: 2 | L54: =IF(ISNUMBER(J54),J54/H65,) -> 0 | N54: 2 | R54: =IF(ISNUMBER(P54),P54/N65,) -> 0
B55: 3 | F55: =IF(ISNUMBER(D55),D55/B65,) -> 0 | H55: 3 | L55: =IF(ISNUMBER(J55),J55/H65,) -> 0 | N55: 3 | R55: =IF(ISNUMBER(P55),P55/N65,) -> 0
B56: 4 | F56: =IF(ISNUMBER(D56),D56/B65,) -> 0 | H56: 4 | L56: =IF(ISNUMBER(J56),J56/H65,) -> 0 | N56: 4 | R56: =IF(ISNUMBER(P56),P56/N65,) -> 0
B57: 5 | F57: =IF(ISNUMBER(D57),D57/B65,) -> 0 | H57: 5 | L57: =IF(ISNUMBER(J57),J57/H65,) -> 0 | N57: 5 | R57: =IF(ISNUMBER(P57),P57/N65,) -> 0
B58: 6 | F58: =IF(ISNUMBER(D58),D58/B65,) -> 0 | H58: 6 | L58: =IF(ISNUMBER(J58),J58/H65,) -> 0 | N58: 6 | R58: =IF(ISNUMBER(P58),P58/N65,) -> 0
B59: 7 | F59: =IF(ISNUMBER(D59),D59/B65,) -> 0 | H59: 7 | L59: =IF(ISNUMBER(J59),J59/H65,) -> 0 | N59: 7 | R59: =IF(ISNUMBER(P59),P59/N65,) -> 0
B60: 8 | F60: =IF(ISNUMBER(D60),D60/B65,) -> 0 | H60: 8 | L60: =IF(ISNUMBER(J60),J60/H65,) -> 0 | N60: 8 | R60: =IF(ISNUMBER(P60),P60/N65,) -> 0
B61: 9 | F61: =IF(ISNUMBER(D61),D61/B65,) -> 0 | H61: 9 | L61: =IF(ISNUMBER(J61),J61/H65,) -> 0 | N61: 9 | R61: =IF(ISNUMBER(P61),P61/N65,) -> 0
B62: 10 | F62: =IF(ISNUMBER(D62),D62/B65,) -> 0 | H62: 10 | L62: =IF(ISNUMBER(J62),J62/H65,) -> 0 | N62: 10 | R62: =IF(ISNUMBER(P62),P62/N65,) -> 0
B63: e1RM | C63: Average Intensity | E63: =IFERROR(IF(COUNT(F53:F62)>0,AVERAGEIF(F53:F62,">0"),0),) -> 0 | H63: e1RM | I63: Average Intensity | K63: =IFERROR(IF(COUNT(L53:L62)>0,AVERAGEIF(L53:L62,">0"),0),) -> 0 | N63: e1RM | O63: Average Intensity | P63: =IFERROR(IF(COUNT(R53:R62)>0,AVERAGEIF(R53:R62,">0"),0),) -> 0 | Q63: sRPE | R63: =IFERROR(Q67*R67,"")
B65: =IFERROR(ROUNDUP(B67/(0.0005*C67^2-0.0342*C67+1.034),0),) -> 0 | C65: nReps | D65: =SUM(C53:C62) -> 0 | E65: Volume | F65: =SUM(C53*D53,C54*D54,C55*D55,C56*D56,C57*D57,C58*D58,C59*D59,C60*D60,C61*D61,C62*D62) -> 0 | H65: =IFERROR(ROUNDUP(H67/(0.0005*I67^2-0.0342*I67+1.034),0),) -> 0 | I65: nReps | J65: =SUM(I53:I62) -> 0 | K65: Volume | L65: =SUM(I53*J53,I54*J54,I55*J55,I56*J56,I57*J57,I58*J58,I59*J59,I60*J60,I61*J61,I62*J62) -> 0 | N65: =IFERROR(ROUNDUP(N67/(0.0005*O67^2-0.0342*O67+1.034),0),) -> 0 | O65: nReps | P65: =SUM(O53:O62) -> 0 | Q65: Volume | R65: =SUM(O53*P53,O54*P54,O55*P55,O56*P56,O57*P57,O58*P58,O59*P59,O60*P60,O61*P61,O62*P62) -> 0
B67: =OFFSET(D52,MATCH(MAX(D53:D62),D53:D62,0),0) -> #N/A | C67: =OFFSET(C52,MATCH(MAX(D53:D62),D53:D62,0),0)+(10-OFFSET(E52,MATCH(MAX(D53:D62),D53:D62,0),0)) -> #N/A | H67: =OFFSET(J52,MATCH(MAX(J53:J62),J53:J62,0),0) -> #N/A | I67: =OFFSET(I52,MATCH(MAX(J53:J62),J53:J62,0),0)+(10-OFFSET(K52,MATCH(MAX(J53:J62),J53:J62,0),0)) -> #N/A | N67: =OFFSET(P52,MATCH(MAX(P53:P62),P53:P62,0),0) -> #N/A | O67: =OFFSET(O52,MATCH(MAX(P53:P62),P53:P62,0),0)+(10-OFFSET(Q52,MATCH(MAX(P53:P62),P53:P62,0),0)) -> #N/A | Q67: =IFERROR(AVERAGE(AVERAGE(E53:E62),AVERAGE(K53:K62),AVERAGE(Q53:Q62)),"") | R67: =COUNTIF(C53:C62,">0")+COUNTIF(I53:I62,">0")+COUNTIF(O53:O62,">0") -> 0
B69: General Physical Prepardness (GPP)
C73: ='Training Plan'!I73 -> 0 | F73: ='Training Plan'!I77 -> 0 | I73: ='Training Plan'!I81 -> 0 | L73: ='Training Plan'!I85 -> 0 | O73: ='Training Plan'!I89 -> 0
C75: ='Training Plan'!I74 -> 0 | F75: ='Training Plan'!I78 -> 0 | I75: ='Training Plan'!I82 -> 0 | L75: ='Training Plan'!I86 -> 0 | O75: ='Training Plan'!I90 -> 0
...

Sheet Week 4
C3: ='Training Plan'!B99 -> 0 | E3: Week 4 Training Log
B9: Day 1
B13: 1 | C13: ='Training Plan'!C103 -> 0 | H13: 2 | I13: ='Training Plan'!C111 -> 0 | N13: 3 | O13: ='Training Plan'!C119 -> 0
B15: Sets x Reps @RPE / % | D15: ='Training Plan'!C104 -> 0 | H15: Sets x Reps @RPE / % | J15: ='Training Plan'!C112 -> 0 | N15: Sets x Reps @RPE / % | P15: ='Training Plan'!C120 -> 0
B20: Rest Periods | D20: ='Training Plan'!D109 -> 0 | H20: Rest Periods | J20: ='Training Plan'!D117 -> 0 | N20: Rest Periods | P20: ='Training Plan'!D125 -> 0
B22: Sets | C22: Reps | D22: Weight | E22: RPE | F22: Relative Intensity | H22: Sets | I22: Reps | J22: Weight | K22: RPE | L22: Relative Intensity | N22: Sets | O22: Reps | P22: Weight | Q22: RPE | R22: Relative Intensity
B23: 1 | F23: =IF(ISNUMBER(D23),D23/B35,) -> 0 | H23: 1 | L23: =IF(ISNUMBER(J23),J23/H35,) -> 0 | N23: 1 | R23: =IF(ISNUMBER(P23),P23/N35,) -> 0
B24: 2 | F24: =IF(ISNUMBER(D24),D24/B35,) -> 0 | H24: 2 | L24: =IF(ISNUMBER(J24),J24/H35,) -> 0 | N24: 2 | R24: =IF(ISNUMBER(P24),P24/N35,) -> 0
B25: 3 | F25: =IF(ISNUMBER(D25),D25/B35,) -> 0 | H25: 3 | L25: =IF(ISNUMBER(J25),J25/H35,) -> 0 | N25: 3 | R25: =IF(ISNUMBER(P25),P25/N35,) -> 0
B26: 4 | F26: =IF(ISNUMBER(D26),D26/B35,) -> 0 | H26: 4 | L26: =IF(ISNUMBER(J26),J26/H35,) -> 0 | N26: 4 | R26: =IF(ISNUMBER(P26),P26/N35,) -> 0
B27: 5 | F27: =IF(ISNUMBER(D27),D27/B35,) -> 0 | H27: 5 | L27: =IF(ISNUMBER(J27),J27/H35,) -> 0 | N27: 5 | R27: =IF(ISNUMBER(P27),P27/N35,) -> 0
B28: 6 | F28: =IF(ISNUMBER(D28),D28/B35,) -> 0 | H28: 6 | L28: =IF(ISNUMBER(J28),J28/H35,) -> 0 | N28: 6 | R28: =IF(ISNUMBER(P28),P28/N35,) -> 0
B29: 7 | F29: =IF(ISNUMBER(D29),D29/B35,) -> 0 | H29: 7 | L29: =IF(ISNUMBER(J29),J29/H35,) -> 0 | N29: 7 | R29: =IF(ISNUMBER(P29),P29/N35,) -> 0
B30: 8 | F30: =IF(ISNUMBER(D30),D30/B35,) -> 0 | H30: 8 | L30: =IF(ISNUMBER(J30),J30/H35,) -> 0 | N30: 8 | R30: =IF(ISNUMBER(P30),P30/N35,) -> 0
B31: 9 | F31: =IF(ISNUMBER(D31),D31/B35,) -> 0 | H31: 9 | L31: =IF(ISNUMBER(J31),J31/H35,) -> 0 | N31: 9 | R31: =IF(ISNUMBER(P31),P31/N35,) -> 0
B32: 10 | F32: =IF(ISNUMBER(D32),D32/B35,) -> 0 | H32: 10 | L32: =IF(ISNUMBER(J32),J32/H35,) -> 0 | N32: 10 | R32: =IF(ISNUMBER(P32),P32/N35,) -> 0
B33: e1RM | C33: Average Intensity | E33: =IFERROR(IF(COUNT(F23:F32)>0,AVERAGEIF(F23:F32,">0"),0),) -> 0 | H33: e1RM | I33: Average Intensity | K33: =IFERROR(IF(COUNT(L23:L32)>0,AVERAGEIF(L23:L32,">0"),0),) -> 0 | N33: e1RM | O33: Average Intensity | P33: =IFERROR(IF(COUNT(R23:R32)>0,AVERAGEIF(R23:R32,">0"),0),) -> 0 | Q33: sRPE | R33: =IFERROR(Q37*R37,"")
B35: =IFERROR(ROUNDUP(B37/(0.0005*C37^2-0.0342*C37+1.034),0),) -> 0 | C35: nReps | D35: =SUM(C23:C32) -> 0 | E35: Volume | F35: =SUM(C23*D23,C24*D24,C25*D25,C26*D26,C27*D27,C28*D28,C29*D29,C30*D30,C31*D31,C32*D32) -> 0 | H35: =IFERROR(ROUNDUP(H37/(0.0005*I37^2-0.0342*I37+1.034),0),) -> 0 | I35: nReps | J35: =SUM(I23:I32) -> 0 | K35: Volume | L35: =SUM(I23*J23,I24*J24,I25*J25,I26*J26,I27*J27,I28*J28,I29*J29,I30*J30,I31*J31,I32*J32) -> 0 | N35: =IFERROR(ROUNDUP(N37/(0.0005*O37^2-0.0342*O37+1.034),0),) -> 0 | O35: nReps | P35: =SUM(O23:O32) -> 0 | Q35: Volume | R35: =SUM(O23*P23,O24*P24,O25*P25,O26*P26,O27*P27,O28*P28,O29*P29,O30*P30,O31*P31,O32*P32) -> 0
B37: =OFFSET(D22,MATCH(MAX(D23:D32),D23:D32,0),0) -> #N/A | C37: =OFFSET(C22,MATCH(MAX(D23:D32),D23:D32,0),0)+(10-OFFSET(E22,MATCH(MAX(D23:D32),D23:D32,0),0)) -> #N/A | H37: =OFFSET(J22,MATCH(MAX(J23:J32),J23:J32,0),0) -> #N/A | I37: =OFFSET(I22,MATCH(MAX(J23:J32),J23:J32,0),0)+(10-OFFSET(K22,MATCH(MAX(J23:J32),J23:J32,0),0)) -> #N/A | N37: =OFFSET(P22,MATCH(MAX(P23:P32),P23:P32,0),0) -> #N/A | O37: =OFFSET(O22,MATCH(MAX(P23:P32),P23:P32,0),0)+(10-OFFSET(Q22,MATCH(MAX(P23:P32),P23:P32,0),0)) -> #N/A | Q37: =IFERROR(AVERAGE(AVERAGE(E23:E32),AVERAGE(K23:K32),AVERAGE(Q23:Q32)),"") | R37: =COUNTIF(C23:C32,">0")+COUNTIF(I23:I32,">0")+COUNTIF(O23:O32,">0") -> 0
B39: Day 2
B43: 1 | C43: ='Training Plan'!F103 -> 0 | H43: 2 | I43: ='Training Plan'!F111 -> 0 | N43: 3 | O43: ='Training Plan'!F119 -> 0
B45: Sets x Reps @RPE / % | D45: ='Training Plan'!F104 -> 0 | H45: Sets x Reps @RPE / % | J45: ='Training Plan'!F112 -> 0 | N45: Sets x Reps @RPE / % | P45: ='Training Plan'!F120 -> 0
B50: Rest Periods | D50: ='Training Plan'!G109 -> 0 | H50: Rest Periods | J50: ='Training Plan'!G117 -> 0 | N50: Rest Periods | P50: ='Training Plan'!G125 -> 0
B52: Sets | C52: Reps | D52: Weight | E52: RPE | F52: Relative Intensity | H52: Sets | I52: Reps | J52: Weight | K52: RPE | L52: Relative Intensity | N52: Sets | O52: Reps | P52: Weight | Q52: RPE | R52: Relative Intensity
B53: 1 | F53: =IF(ISNUMBER(D53),D53/B65,) -> 0 | H53: 1 | L53: =IF(ISNUMBER(J53),J53/H65,) -> 0 | N53: 1 | R53: =IF(ISNUMBER(P53),P53/N65,) -> 0
B54: 2 | F54: =IF(ISNUMBER(D54),D54/B65,) -> 0 | H54: 2 | L54: =IF(ISNUMBER(J54),J54/H65,) -> 0 | N54: 2 | R54: =IF(ISNUMBER(P54),P54/N65,) -> 0
B55: 3 | F55: =IF(ISNUMBER(D55),D55/B65,) -> 0 | H55: 3 | L55: =IF(ISNUMBER(J55),J55/H65,) -> 0 | N55: 3 | R55: =IF(ISNUMBER(P55),P55/N65,) -> 0
B56: 4 | F56: =IF(ISNUMBER(D56),D56/B65,) -> 0 | H56: 4 | L56: =IF(ISNUMBER(J56),J56/H65,) -> 0 | N56: 4 | R56: =IF(ISNUMBER(P56),P56/N65,) -> 0
B57: 5 | F57: =IF(ISNUMBER(D57),D57/B65,) -> 0 | H57: 5 | L57: =IF(ISNUMBER(J57),J57/H65,) -> 0 | N57: 5 | R57: =IF(ISNUMBER(P57),P57/N65,) -> 0
B58: 6 | F58: =IF(ISNUMBER(D58),D58/B65,) -> 0 | H58: 6 | L58: =IF(ISNUMBER(J58),J58/H65,) -> 0 | N58: 6 | R58: =IF(ISNUMBER(P58),P58/N65,) -> 0
B59: 7 | F59: =IF(ISNUMBER(D59),D59/B65,) -> 0 | H59: 7 | L59: =IF(ISNUMBER(J59),J59/H65,) -> 0 | N59: 7 | R59: =IF(ISNUMBER(P59),P59/N65,) -> 0
B60: 8 | F60: =IF(ISNUMBER(D60),D60/B65,) -> 0 | H60: 8 | L60: =IF(ISNUMBER(J60),J60/H65,) -> 0 | N60: 8 | R60: =IF(ISNUMBER(P60),P60/N65,) -> 0
B61: 9 | F61: =IF(ISNUMBER(D61),D61/B65,) -> 0 | H61: 9 | L61: =IF(ISNUMBER(J61),J61/H65,) -> 0 | N61: 9 | R61: =IF(ISNUMBER(P61),P61/N65,) -> 0
