Workbook

Sheet Training Plan
B3: 7 Weeks / 4 Days + GPP / 3 Exercises (StrengthDevelopment©)
B4: Start Date - End Date
B7: Training Plan Overview
C12: Day 1 | F12: Day 2 | I12: GPP | L12: Day 3 | O12: Day 4
B15: Week 1 | C15: Exercise 1 | F15: Exercise 1 | L15: Exercise 1 | O15: Exercise 1
C16: Competition Squat | F16: Competition Squat
C22: Rest Periods | F22: Rest Periods | L22: Rest Periods | O22: Rest Periods
C23: Exercise 2 | F23: Exercise 2 | L23: Exercise 2 | O23: Exercise 2
C30: Rest Periods | F30: Rest Periods | L30: Rest Periods | O30: Rest Periods
C31: Exercise 3 | F31: Exercise 3 | L31: Exercise 3 | O31: Exercise 3
I35: Other(s)
C38: Rest Periods | F38: Rest Periods | L38: Rest Periods | O38: Rest Periods
C41: Day 1 | F41: Day 2 | I41: GPP | L41: Day 3 | O41: Day 4
B44: Week 2 | C44: Exercise 1 | F44: Exercise 1 | L44: Exercise 1 | O44: Exercise 1
C51: Rest Periods | F51: Rest Periods | L51: Rest Periods | O51: Rest Periods
C52: Exercise 2 | F52: Exercise 2 | L52: Exercise 2 | O52: Exercise 2
C59: Rest Periods | F59: Rest Periods | L59: Rest Periods | O59: Rest Periods
C60: Exercise 3 | F60: Exercise 3 | L60: Exercise 3 | O60: Exercise 3
I64: Other(s)
C67: Rest Periods | F67: Rest Periods | L67: Rest Periods | O67: Rest Periods
C70: Day 1 | F70: Day 2 | I70: GPP | L70: Day 3 | O70: Day 4
B73: Week 3 | C73: Exercise 1 | F73: Exercise 1 | L73: Exercise 1 | O73: Exercise 1
C80: Rest Periods | F80: Rest Periods | L80: Rest Periods | O80: Rest Periods
C81: Exercise 2 | F81: Exercise 2 | L81: Exercise 2 | O81: Exercise 2
C88: Rest Periods | F88: Rest Periods | L88: Rest Periods | O88: Rest Periods
C89: Exercise 3 | F89: Exercise 3 | L89: Exercise 3 | O89: Exercise 3
I93: Other(s)
C96: Rest Periods | F96: Rest Periods | L96: Rest Periods | O96: Rest Periods
C99: Day 1 | F99: Day 2 | I99: GPP | L99: Day 3 | O99: Day 4
B102: Week 4 | C102: Exercise 1 | F102: Exercise 1 | L102: Exercise 1 | O102: Exercise 1
C109: Rest Periods | F109: Rest Periods | L109: Rest Periods | O109: Rest Periods
C110: Exercise 2 | F110: Exercise 2 | L110: Exercise 2 | O110: Exercise 2
C117: Rest Periods | F117: Rest Periods | L117: Rest Periods | O117: Rest Periods
C118: Exercise 3 | F118: Exercise 3 | L118: Exercise 3 | O118: Exercise 3
I122: Other(s)
C125: Rest Periods | F125: Rest Periods | L125: Rest Periods | O125: Rest Periods
C128: Day 1 | F128: Day 2 | I128: GPP | L128: Day 3 | O128: Day 4
B131: Week 5 | C131: Exercise 1 | F131: Exercise 1 | L131: Exercise 1 | O131: Exercise 1
C138: Rest Periods | F138: Rest Periods | L138: Rest Periods | O138: Rest Periods
C139: Exercise 2 | F139: Exercise 2 | L139: Exercise 2 | O139: Exercise 2
C146: Rest Periods | F146: Rest Periods | L146: Rest Periods | O146: Rest Periods
C147: Exercise 3 | F147: Exercise 3 | L147: Exercise 3 | O147: Exercise 3
I151: Other(s)
C154: Rest Periods | F154: Rest Periods | L154: Rest Periods | O154: Rest Periods
C157: Day 1 | F157: Day 2 | I157: GPP | L157: Day 3 | O157: Day 4
B160: Week 6 | C160: Exercise 1 | F160: Exercise 1 | L160: Exercise 1 | O160: Exercise 1
C167: Rest Periods | F167: Rest Periods | L167: Rest Periods | O167: Rest Periods
C168: Exercise 2 | F168: Exercise 2 | L168: Exercise 2 | O168: Exercise 2
C175: Rest Periods | F175: Rest Periods | L175: Rest Periods | O175: Rest Periods
C176: Exercise 3 | F176: Exercise 3 | L176: Exercise 3 | O176: Exercise 3
I180: Other(s)
C183: Rest Periods | F183: Rest Periods | L183: Rest Periods | O183: Rest Periods
C186: Day 1 | F186: Day 2 | I186: GPP | L186: Day 3 | O186: Day 4
B189: Week 7 | C189: Exercise 1 | F189: Exercise 1 | L189: Exercise 1 | O189: Exercise 1
C196: Rest Periods | F196: Rest Periods | L196: Rest Periods | O196: Rest Periods
C197: Exercise 2 | F197: Exercise 2 | L197: Exercise 2 | O197: Exercise 2
C204: Rest Periods | F204: Rest Periods | L204: Rest Periods | O204: Rest Periods
C205: Exercise 3 | F205: Exercise 3 | L205: Exercise 3 | O205: Exercise 3
I209: Other(s)
C212: Rest Periods | F212: Rest Periods | L212: Rest Periods | O212: Rest Periods

Sheet Indications & Informations
A3: Important Indications
C7: Exercices | G7: Indications
Y11: ='Training Plan'!C45 -> 0
Y12: ='Training Plan'!C53 -> 0
Y13: ='Training Plan'!C61 -> 0
Y14: ='Training Plan'!F45 -> 0
Y15: ='Training Plan'!F53 -> 0
Y16: ='Training Plan'!F61 -> 0
Y17: ='Training Plan'!L45 -> 0
Y18: ='Training Plan'!L53 -> 0
Y19: ='Training Plan'!L61 -> 0
Y20: ='Training Plan'!O45 -> 0
Y21: ='Training Plan'!O53 -> 0
Y22: ='Training Plan'!O61 -> 0
C39: Informations
F43: Table des RPE (Rating of Perceived Exertion ou Taux d'Effort Perçu)
F45: RPE 5,5 | G45: Trop facile pour compter comme une vrai série
F47: RPE 6 | G47: Assez facile (comme une charge d'échauffement) / 4 reps en réserve
F49: RPE 6,5 | G49: Un peu trop lourd pour de l'échauffement? | Z49: Besoin d'aide? Sélectionnez le sujet qui vous intéresse dans la liste déroulante.
F51: RPE 7 | G51: Rapide et facile comme un opener / 3 reps en réserve
F53: RPE 7,5 | G53: Peut-être 3 reps en réserve ou un peu plus de charge sur la barre
F55: RPE 8 | G55: 2 reps en réserve
F57: RPE 8,5 | G57: Peut-être 2 reps en réserve ou un peu plus de charge sur la barre
F59: RPE 9 | G59: 1 rep en réserve
F61: RPE 9,5 | G61: Peut-être 1 rep en réserve ou un peu plus de charge sur la barre
F63: RPE 10 | G63: Effort maximal (RM)
E67: Cliquez ici pour sélectionner dans la liste déroulante | Z67: Progresser avec les RPEs est assez simple, la progression se fait de façon linéaire ou ondulatoire. Evidemment, il est possible d'autoréguler la charge, le plus important étant de ne pas dépasser ou être en dessous des RPEs programmés (overshoot/undershoot). La progression se fait essentiellement par l'exploitation de l’estimated 1RM (e1RM), c'est-à-dire l'estimation de votre 1RM sur un exercice donné à un moment donné de votre block. La tendance générale de la courbe de votre e1RM doit être vers la hausse, autrement dit, votre e1RM doit augmenter de semaine en semaine, si ce n'est pas le cas durant une certaine période (entre 2/4 semaines), une révision de votre planification doit être faite. Venons-en au vif du sujet : comment gérer sa progression? En général, il faut que l'écart entre le RPE planifié et celui réaliser à l'entrainement soit de 1. C'est-à-dire que si j'ai 4 répétitions @9 RPE de planifié, le RPE à l'entrainement doit être compris entre 8,5 et 9,5. Dans le cas où le RPE est de 8,5 (undershoot), j'augmente la charge de 1 à 3% pour la semaine d'après. Dans le cas où le RPE est de 9,5 (overshoot), je garde la même charge la semaine d'après et j'essaie d'être au bon RPE. Dans le cas, ou j'overshoot ou j'undershoot beaucoup trop (1+ RPE), je baisse/augmente la charge de 3 à 5%. Si je suis au bon RPE, j'augmente la charge de 1 à 2% la semaine d'après. Semaine 1 -1 RPE ou + -0,5 RPE Bon RPE +0,5 RPE +1 RPE ou + Semaine 2 +3/5% +1/3% +1/2% -1/3% -3/5%
E69: =IF(E67=T70,Z49,IF(E67=T71,Z67,IF(E67=T72,Z85,IF(E67=T73,Z102,)))) -> Besoin d'aide? Sélectionnez le sujet qui vous intéresse dans la liste déroulante.
T70: Cliquez ici pour sélectionner dans la liste déroulante
T71: Comment progresser avec l'utilisation du RPE?
T72: GPP (General Physical Prepardness ou Préparation Physique Générale)
T73: Concernant l'échauffement
Z85: Le but ici est d'augmenter/maintenir sa condition physique, sa capacité de travail et faire quelques exercices d'assistances qui n'interfèrent pas trop avec la récupération. Concernant le cardio, la table des RPE est : RPE 6 : Plus ennuyant que dure, peut tenir une conversation avec des phrases entières. RPE 7 : Effort facile, peut seulement parler en courtes phrases. RPE 8 : Effort modéré, ne peut pas parler confortablement. RPE 9 : Effort intense, effort quasiment maximal. RPE 10 : Effort maximal, très dure voire impossible à maintenir. Concernant le type d'exercices d'assistances, c'est essentiellement destiné à travailler le haut du dos, le tronc et les bras. Aucuns exercices n'est meilleur qu'un autre, le choix se fait en fonction de l’athlète (ses préférences, ses antécédents etc..). En général, le mieux est de choisir des exercices peu traumatisant pour la bas du dos (rowing machine, tractions etc..); pour le tronc, dans l'ordre de préférence : Ab Wheel, Gainage ventral, Enroulement de bassin, Crunch etc..; pour les bras : biceps curl (haltères, barres, poulies), Extensions triceps etc..
Z102: L’échauffement a pour but de vous préparer à la tâche physique à venir. Il comprend des éléments généraux et spécifiques. Un échauffement général est une activité différente de celle que vous ferez pour votre entraînement (comme faire 5 minutes de cardio facile avant de commencer vos squats). Cependant, dans le cadre de l’entrainement en force, je ne recommande aucun échauffement général particulier, à condition que vous puissiez démarrer l'échauffement spécifique sans aucun problème. Je ne recommande pas non plus la pratique de mobilité/automassages (ou alors de façon légère et occasionnelle si vous en ressentez le besoin). La pratique d’étirements dynamiques est préférable. Un échauffement spécifique est très similaire ou identique à l'activité à venir et utilise une intensité croissante. Par exemple, effectuer des squats d’abord avec la barre vide, puis ajouter progressivement de la charge jusqu'à atteindre votre charge de travail. La recommandation est de faire autant de séries barre à vide qu'il n'en faut pour que vous vous sentiez prêt mentalement et physiquement avant de charger votre barre petit à petit. Prenons l'exemple d'un athlète dont la programmation dit : 5 reps @6RPE; 5 reps @7RPE; 3 x 5 reps @8RPE. Pour cet athlète, les charges seront 5@6 @100kg; 5@7 @107,5kg et 5@8 @115kg. Il fera donc 2-5 séries barre à vide ; 5 reps @40kg ; 5 reps @70kg ; 5 reps @85kg puis sa première séries de 5 reps @6RPE @100kg.

Sheet Calculators
B3: Calculators
C7: RPE Chart (by default)
C9: Reps | D9: 1 | E9: 2 | F9: 3 | G9: 4 | H9: 5 | I9: 6 | J9: 7 | K9: 8 | L9: 9 | M9: 10 | AB9: RPE Chart (by default) | AM9: =AB9 -> RPE Chart (by default)
C10: RPE 10 | AB10: =F17*1 -> 0 | AC10: =F17*0.955 -> 0 | AD10: =F17*0.922 -> 0 | AE10: =F17*0.892 -> 0 | AF10: =F17*0.863 -> 0 | AG10: =F17*0.837 -> 0 | AH10: =F17*0.811 -> 0 | AI10: =F17*0.786 -> 0 | AJ10: =F17*0.762 -> 0 | AK10: =F17*0.739 -> 0 | AM10: =C53 -> Custom RPE Chart (Squat)
C11: RPE 9,5 | AB11: =F17*0.978 -> 0 | AC11: =F17*0.939 -> 0 | AD11: =F17*0.907 -> 0 | AE11: =F17*0.878 -> 0 | AF11: =F17*0.85 -> 0 | AG11: =F17*0.824 -> 0 | AH11: =F17*0.799 -> 0 | AI11: =F17*0.774 -> 0 | AJ11: =F17*0.751 -> 0 | AK11: =F17*0.723 -> 0 | AM11: =G53 -> Custom RPE Chart (Bench)
C12: RPE 9 | AB12: =F17*0.955 -> 0 | AC12: =F17*0.922 -> 0 | AD12: =F17*0.892 -> 0 | AE12: =F17*0.863 -> 0 | AF12: =F17*0.837 -> 0 | AG12: =F17*0.811 -> 0 | AH12: =F17*0.786 -> 0 | AI12: =F17*0.762 -> 0 | AJ12: =F17*0.739 -> 0 | AK12: =F17*0.707 -> 0 | AM12: =K53 -> Custom RPE Chart (Deadlift)
C13: RPE 8,5 | AB13: =F17*0.939 -> 0 | AC13: =F17*0.907 -> 0 | AD13: =F17*0.878 -> 0 | AE13: =F17*0.85 -> 0 | AF13: =F17*0.824 -> 0 | AG13: =F17*0.799 -> 0 | AH13: =F17*0.774 -> 0 | AI13: =F17*0.751 -> 0 | AJ13: =F17*0.723 -> 0 | AK13: =F17*0.694 -> 0
C14: RPE 8 | AB14: =F17*0.922 -> 0 | AC14: =F17*0.892 -> 0 | AD14: =F17*0.863 -> 0 | AE14: =F17*0.837 -> 0 | AF14: =F17*0.811 -> 0 | AG14: =F17*0.786 -> 0 | AH14: =F17*0.762 -> 0 | AI14: =F17*0.739 -> 0 | AJ14: =F17*0.707 -> 0 | AK14: =F17*0.68 -> 0
C15: e1RM | D15: =IF(C7=AM9,MAX(D10/1,D11/0.978,D12/0.955,D13/0.939,D14/0.922),IF(C7=AM10,MAX(D10/1,D11/AVERAGE(E57:E58),D12/E58,D13/AVERAGE(E58:E59),D14/E59),IF(C7=AM11,MAX(D10/1,D11/AVERAGE(I57:I58),D12/I58,D13/AVERAGE(I58:I59),D14/I59),IF(C7=AM12,MAX(D10/1,D11/AVERAGE(M57:M58),D12/M58,D13/AVERAGE(M58:M59),D14/M59))))) -> 0 | E15: =IF(C7=AM9,MAX(E10/0.955,E11/0.939,E12/0.922,E13/0.907,E14/0.892),IF(C7=AM10,MAX(E10/E58,E11/AVERAGE(E58:E59),E12/E59,E13/AVERAGE(E59:E60),E14/E60),IF(C7=AM11,MAX(E10/I58,E11/AVERAGE(I58:I59),E12/I59,E13/AVERAGE(I59:I60),E14/I60),IF(C7=AM12,MAX(E10/M58,E11/AVERAGE(M58:M59),E12/M59,E13/AVERAGE(M59:M60),E14/M60))))) -> 0 | F15: =IF(C7=AM9,MAX(F10/0.922,F11/0.907,F12/0.892,F13/0.878,F14/0.863),IF(C7=AM10,MAX(F10/E59,F11/AVERAGE(E59:E60),F12/E60,F13/AVERAGE(E60:E61),F14/E61),IF(C7=AM11,MAX(F10/I59,F11/AVERAGE(I59:I60),F12/I60,F13/AVERAGE(I60:I61),F14/I61),IF(C7=AM12,MAX(F10/M59,F11/AVERAGE(M59:M60),F12/M60,F13/AVERAGE(M60:M61),F14/M61))))) -> 0 | G15: =IF(C7=AM9,MAX(G10/0.892,G11/0.878,G12/0.863,G13/0.85,G14/0.837),IF(C7=AM10,MAX(G10/E60,G11/AVERAGE(E60:E61),G12/E61,G13/AVERAGE(E61:E62),G14/E62),IF(C7=AM11,MAX(G10/I60,G11/AVERAGE(I60:I61),G12/I61,G13/AVERAGE(I61:I62),G14/I62),IF(C7=AM12,MAX(G10/M60,G11/AVERAGE(M60:M61),G12/M61,G13/AVERAGE(M61:M62),G14/M62))))) -> 0 | H15: =IF(C7=AM9,MAX(H10/0.863,H11/0.85,H12/0.837,H13/0.824,H14/0.811),IF(C7=AM10,MAX(H10/E61,H11/AVERAGE(E61:E62),H12/E62,H13/AVERAGE(E62:E63),H14/E63),IF(C7=AM11,MAX(H10/I61,H11/AVERAGE(I61:I62),H12/I62,H13/AVERAGE(I62:I63),H14/I63),IF(C7=AM12,MAX(H10/M61,H11/AVERAGE(M61:M62),H12/M62,H13/AVERAGE(M62:M63),H14/M63))))) -> 0 | I15: =IF(C7=AM9,MAX(I10/0.837,I11/0.824,I12/0.811,I13/0.799,I14/0.786),IF(C7=AM10,MAX(I10/E62,I11/AVERAGE(E62:E63),I12/E63,I13/AVERAGE(E63:E64),I14/E64),IF(C7=AM11,MAX(I10/I62,I11/AVERAGE(I62:I63),I12/I63,I13/AVERAGE(I63:I64),I14/I64),IF(C7=AM12,MAX(I10/M62,I11/AVERAGE(M62:M63),I12/M63,I13/AVERAGE(M63:M64),I14/M64))))) -> 0 | J15: =IF(C7=AM9,MAX(J10/0.811,J11/0.799,J12/0.786,J13/0.774,J14/0.762),IF(C7=AM10,MAX(J10/E63,J11/AVERAGE(E63:E64),J12/E64,J13/AVERAGE(E64:E65),J14/E65),IF(C7=AM11,MAX(J10/I63,J11/AVERAGE(I63:I64),J12/I64,J13/AVERAGE(I64:I65),J14/I65),IF(C7=AM12,MAX(J10/M63,J11/AVERAGE(M63:M64),J12/M64,J13/AVERAGE(M64:M65),J14/M65))))) -> 0 | K15: =IF(C7=AM9,MAX(K10/0.786,K11/0.774,K12/0.762,K13/0.751,K14/0.739),IF(C7=AM10,MAX(K10/E64,K11/AVERAGE(E64:E65),K12/E65,K13/AVERAGE(E65:E66),K14/E66),IF(C7=AM11,MAX(K10/I64,K11/AVERAGE(I64:I65),K12/I65,K13/AVERAGE(I65:I66),K14/I66),IF(C7=AM12,MAX(K10/M64,K11/AVERAGE(M64:M65),K12/M65,K13/AVERAGE(M65:M66),K14/M66))))) -> 0 | L15: =IF(C7=AM9,MAX(L10/0.762,L11/0.751,L12/0.739,L13/0.723,L14/0.707),IF(C7=AM10,MAX(L10/E65,L11/AVERAGE(E65:E66),L12/E66,L13/AVERAGE(E66:E67),L14/E67),IF(C7=AM11,MAX(L10/I65,L11/AVERAGE(I65:I66),L12/I66,L13/AVERAGE(I66:I67),L14/I67),IF(C7=AM12,MAX(L10/M65,L11/AVERAGE(M65:M66),L12/M66,L13/AVERAGE(M66:M67),L14/M67))))) -> 0 | M15: =IF(C7=AM9,MAX(M10/0.739,M11/0.723,M12/0.707,M13/0.694,M14/0.68),IF(C7=AM10,MAX(M10/E66,M11/AVERAGE(E66:E67),M12/E67,M13/AVERAGE(E67:E68),M14/E68),IF(C7=AM11,MAX(M10/I66,M11/AVERAGE(I66:I67),M12/I67,M13/AVERAGE(I67:I68),M14/I68),IF(C7=AM12,MAX(M10/M66,M11/AVERAGE(M66:M67),M12/M67,M13/AVERAGE(M67:M68),M14/M68))))) -> 0 | AB15: =F17*0.907 -> 0 | AC15: =F17*0.878 -> 0 | AD15: =F17*0.85 -> 0 | AE15: =F17*0.824 -> 0 | AF15: =F17*0.799 -> 0 | AG15: =F17*0.774 -> 0 | AH15: =F17*0.751 -> 0 | AI15: =F17*0.723 -> 0 | AJ15: =F17*0.694 -> 0 | AK15: =F17*0.667 -> 0
AB16: =F17*0.892 -> 0 | AC16: =F17*0.863 -> 0 | AD16: =F17*0.837 -> 0 | AE16: =F17*0.811 -> 0 | AF16: =F17*0.786 -> 0 | AG16: =F17*0.762 -> 0 | AH16: =F17*0.739 -> 0 | AI16: =F17*0.707 -> 0 | AJ16: =F17*0.68 -> 0 | AK16: =F17*0.653 -> 0
E17: e1RM : | F17: =MAX(D15:M15) -> 0 | H17: Back-off Calculator | L17: =J17-L18 -> 0 | AB17: =F17*0.878 -> 0 | AC17: =F17*0.85 -> 0 | AD17: =F17*0.824 -> 0 | AE17: =F17*0.799 -> 0 | AF17: =F17*0.774 -> 0 | AG17: =F17*0.751 -> 0 | AH17: =F17*0.723 -> 0 | AI17: =F17*0.694 -> 0 | AJ17: =F17*0.667 -> 0 | AK17: =F17*0.64 -> 0
J18: Weight | K18: Percentage | L18: =J17*K17 -> 0 | AB18: =F17*0.863 -> 0 | AC18: =F17*0.837 -> 0 | AD18: =F17*0.811 -> 0 | AE18: =F17*0.786 -> 0 | AF18: =F17*0.762 -> 0 | AG18: =F17*0.739 -> 0 | AH18: =F17*0.707 -> 0 | AI18: =F17*0.68 -> 0 | AJ18: =F17*0.653 -> 0 | AK18: =F17*0.627 -> 0
Z19: =C53 -> Custom RPE Chart (Squat)
C20: Rep(s) | D20: 1 | E20: 2 | F20: 3 | G20: 4 | H20: 5 | I20: 6 | J20: 7 | K20: 8 | L20: 9 | M20: 10 | Z20: =F17 -> 0 | AA20: =Z20*E58 -> 0 | AB20: =Z20*E59 -> 0 | AC20: =Z20*E60 -> 0 | AD20: =Z20*E61 -> 0 | AE20: =Z20*E62 -> 0 | AF20: =Z20*E63 -> 0 | AG20: =Z20*E64 -> 0 | AH20: =Z20*E65 -> 0 | AI20: =Z20*E66 -> 0 | AJ20: =Z20*E67 -> 0 | AK20: =Z20*E68 -> 0 | AL20: =Z20*E69 -> 0 | AM20: =Z20*E70 -> 0 | AN20: =Z20*E71 -> 0
C21: RPE 10 | D21: =IF(C7=AM9,AB10,IF(C7=AM10,Z20,IF(C7=AM11,Z32,IF(C7=AM12,Z44,0)))) -> 0 | E21: =IF(C7=AM9,AC10,IF(C7=AM10,AA20,IF(C7=AM11,AA32,IF(C7=AM12,AA44,0)))) -> 0 | F21: =IF(C7=AM9,AD10,IF(C7=AM10,AB20,IF(C7=AM11,AB32,IF(C7=AM12,AB44,0)))) -> 0 | G21: =IF(C7=AM9,AE10,IF(C7=AM10,AC20,IF(C7=AM11,AC32,IF(C7=AM12,AC44,0)))) -> 0 | H21: =IF(C7=AM9,AF10,IF(C7=AM10,AD20,IF(C7=AM11,AD32,IF(C7=AM12,AD44,0)))) -> 0 | I21: =IF(C7=AM9,AG10,IF(C7=AM10,AE20,IF(C7=AM11,AE32,IF(C7=AM12,AE44,0)))) -> 0 | J21: =IF(C7=AM9,AH10,IF(C7=AM10,AF20,IF(C7=AM11,AF32,IF(C7=AM12,AF44,0)))) -> 0 | K21: =IF(C7=AM9,AI10,IF(C7=AM10,AG20,IF(C7=AM11,AG32,IF(C7=AM12,AG44,0)))) -> 0 | L21: =IF(C7=AM9,AJ10,IF(C7=AM10,AH20,IF(C7=AM11,AH32,IF(C7=AM12,AH44,0)))) -> 0 | M21: =IF(C7=AM9,AK10,IF(C7=AM10,AI20,IF(C7=AM11,AI32,IF(C7=AM12,AI44,0)))) -> 0 | Z21: =AVERAGE(Z20,Z22) -> 0 | AA21: =AVERAGE(AA20,AA22) -> 0 | AB21: =AVERAGE(AB20,AB22) -> 0 | AC21: =AVERAGE(AC20,AC22) -> 0 | AD21: =AVERAGE(AD20,AD22) -> 0 | AE21: =AVERAGE(AE20,AE22) -> 0 | AF21: =AVERAGE(AF20,AF22) -> 0 | AG21: =AVERAGE(AG20,AG22) -> 0 | ... AI21: =AVERAGE(AI20,AI22) -> 0
C22: RPE 9,5 | D22: =IF(C7=AM9,AB11,IF(C7=AM10,Z21,IF(C7=AM11,Z33,IF(C7=AM12,Z45,0)))) -> 0 | E22: =IF(C7=AM9,AC11,IF(C7=AM10,AA21,IF(C7=AM11,AA33,IF(C7=AM12,AA45,0)))) -> 0 | F22: =IF(C7=AM9,AD11,IF(C7=AM10,AB21,IF(C7=AM11,AB33,IF(C7=AM12,AB45,0)))) -> 0 | G22: =IF(C7=AM9,AE11,IF(C7=AM10,AC21,IF(C7=AM11,AC33,IF(C7=AM12,AC45,0)))) -> 0 | H22: =IF(C7=AM9,AF11,IF(C7=AM10,AD21,IF(C7=AM11,AD33,IF(C7=AM12,AD45,0)))) -> 0 | I22: =IF(C7=AM9,AG11,IF(C7=AM10,AE21,IF(C7=AM11,AE33,IF(C7=AM12,AE45,0)))) -> 0 | J22: =IF(C7=AM9,AH11,IF(C7=AM10,AF21,IF(C7=AM11,AF33,IF(C7=AM12,AF45,0)))) -> 0 | K22: =IF(C7=AM9,AI11,IF(C7=AM10,AG21,IF(C7=AM11,AG33,IF(C7=AM12,AG45,0)))) -> 0 | L22: =IF(C7=AM9,AJ11,IF(C7=AM10,AH21,IF(C7=AM11,AH33,IF(C7=AM12,AH45,0)))) -> 0 | M22: =IF(C7=AM9,AK11,IF(C7=AM10,AI21,IF(C7=AM11,AI33,IF(C7=AM12,AI45,0)))) -> 0 | Z22: =AA20 -> 0 | AA22: =AB20 -> 0 | AB22: =AC20 -> 0 | AC22: =AD20 -> 0 | AD22: =AE20 -> 0 | AE22: =AF20 -> 0 | AF22: =AG20 -> 0 | AG22: =AH20 -> 0 | ... AI22: =AJ20 -> 0
C23: RPE 9 | D23: =IF(C7=AM9,AB12,IF(C7=AM10,Z22,IF(C7=AM11,Z34,IF(C7=AM12,Z46,0)))) -> 0 | E23: =IF(C7=AM9,AC12,IF(C7=AM10,AA22,IF(C7=AM11,AA34,IF(C7=AM12,AA46,0)))) -> 0 | F23: =IF(C7=AM9,AD12,IF(C7=AM10,AB22,IF(C7=AM11,AB34,IF(C7=AM12,AB46,0)))) -> 0 | G23: =IF(C7=AM9,AE12,IF(C7=AM10,AC22,IF(C7=AM11,AC34,IF(C7=AM12,AC46,0)))) -> 0 | H23: =IF(C7=AM9,AF12,IF(C7=AM10,AD22,IF(C7=AM11,AD34,IF(C7=AM12,AD46,0)))) -> 0 | I23: =IF(C7=AM9,AG12,IF(C7=AM10,AE22,IF(C7=AM11,AE34,IF(C7=AM12,AE46,0)))) -> 0 | J23: =IF(C7=AM9,AH12,IF(C7=AM10,AF22,IF(C7=AM11,AF34,IF(C7=AM12,AF46,0)))) -> 0 | K23: =IF(C7=AM9,AI12,IF(C7=AM10,AG22,IF(C7=AM11,AG34,IF(C7=AM12,AG46,0)))) -> 0 | L23: =IF(C7=AM9,AJ12,IF(C7=AM10,AH22,IF(C7=AM11,AH34,IF(C7=AM12,AH46,0)))) -> 0 | M23: =IF(C7=AM9,AK12,IF(C7=AM10,AI22,IF(C7=AM11,AI34,IF(C7=AM12,AI46,0)))) -> 0 | Z23: =AVERAGE(Z22,Z24) -> 0 | AA23: =AVERAGE(AA22,AA24) -> 0 | AB23: =AVERAGE(AB22,AB24) -> 0 | AC23: =AVERAGE(AC22,AC24) -> 0 | AD23: =AVERAGE(AD22,AD24) -> 0 | AE23: =AVERAGE(AE22,AE24) -> 0 | AF23: =AVERAGE(AF22,AF24) -> 0 | AG23: =AVERAGE(AG22,AG24) -> 0 | ... AI23: =AVERAGE(AI22,AI24) -> 0
C24: RPE 8,5 | D24: =IF(C7=AM9,AB13,IF(C7=AM10,Z23,IF(C7=AM11,Z35,IF(C7=AM12,Z47,0)))) -> 0 | E24: =IF(C7=AM9,AC13,IF(C7=AM10,AA23,IF(C7=AM11,AA35,IF(C7=AM12,AA47,0)))) -> 0 | F24: =IF(C7=AM9,AD13,IF(C7=AM10,AB23,IF(C7=AM11,AB35,IF(C7=AM12,AB47,0)))) -> 0 | G24: =IF(C7=AM9,AE13,IF(C7=AM10,AC23,IF(C7=AM11,AC35,IF(C7=AM12,AC47,0)))) -> 0 | H24: =IF(C7=AM9,AF13,IF(C7=AM10,AD23,IF(C7=AM11,AD35,IF(C7=AM12,AD47,0)))) -> 0 | I24: =IF(C7=AM9,AG13,IF(C7=AM10,AE23,IF(C7=AM11,AE35,IF(C7=AM12,AE47,0)))) -> 0 | J24: =IF(C7=AM9,AH13,IF(C7=AM10,AF23,IF(C7=AM11,AF35,IF(C7=AM12,AF47,0)))) -> 0 | K24: =IF(C7=AM9,AI13,IF(C7=AM10,AG23,IF(C7=AM11,AG35,IF(C7=AM12,AG47,0)))) -> 0 | L24: =IF(C7=AM9,AJ13,IF(C7=AM10,AH23,IF(C7=AM11,AH35,IF(C7=AM12,AH47,0)))) -> 0 | M24: =IF(C7=AM9,AK13,IF(C7=AM10,AI23,IF(C7=AM11,AI35,IF(C7=AM12,AI47,0)))) -> 0 | Z24: =AB20 -> 0 | AA24: =AC20 -> 0 | AB24: =AD20 -> 0 | AC24: =AE20 -> 0 | AD24: =AF20 -> 0 | AE24: =AG20 -> 0 | AF24: =AH20 -> 0 | AG24: =AI20 -> 0 | ... AI24: =AK20 -> 0
C25: RPE 8 | D25: =IF(C7=AM9,AB14,IF(C7=AM10,Z24,IF(C7=AM11,Z36,IF(C7=AM12,Z48,0)))) -> 0 | E25: =IF(C7=AM9,AC14,IF(C7=AM10,AA24,IF(C7=AM11,AA36,IF(C7=AM12,AA48,0)))) -> 0 | F25: =IF(C7=AM9,AD14,IF(C7=AM10,AB24,IF(C7=AM11,AB36,IF(C7=AM12,AB48,0)))) -> 0 | G25: =IF(C7=AM9,AE14,IF(C7=AM10,AC24,IF(C7=AM11,AC36,IF(C7=AM12,AC48,0)))) -> 0 | H25: =IF(C7=AM9,AF14,IF(C7=AM10,AD24,IF(C7=AM11,AD36,IF(C7=AM12,AD48,0)))) -> 0 | I25: =IF(C7=AM9,AG14,IF(C7=AM10,AE24,IF(C7=AM11,AE36,IF(C7=AM12,AE48,0)))) -> 0 | J25: =IF(C7=AM9,AH14,IF(C7=AM10,AF24,IF(C7=AM11,AF36,IF(C7=AM12,AF48,0)))) -> 0 | K25: =IF(C7=AM9,AI14,IF(C7=AM10,AG24,IF(C7=AM11,AG36,IF(C7=AM12,AG48,0)))) -> 0 | L25: =IF(C7=AM9,AJ14,IF(C7=AM10,AH24,IF(C7=AM11,AH36,IF(C7=AM12,AH48,0)))) -> 0 | M25: =IF(C7=AM9,AK14,IF(C7=AM10,AI24,IF(C7=AM11,AI36,IF(C7=AM12,AI48,0)))) -> 0 | Z25: =AVERAGE(Z24,Z26) -> 0 | AA25: =AVERAGE(AA24,AA26) -> 0 | AB25: =AVERAGE(AB24,AB26) -> 0 | AC25: =AVERAGE(AC24,AC26) -> 0 | AD25: =AVERAGE(AD24,AD26) -> 0 | AE25: =AVERAGE(AE24,AE26) -> 0 | AF25: =AVERAGE(AF24,AF26) -> 0 | AG25: =AVERAGE(AG24,AG26) -> 0 | ... AI25: =AVERAGE(AI24,AI26) -> 0
C26: RPE 7,5 | D26: =IF(C7=AM9,AB15,IF(C7=AM10,Z25,IF(C7=AM11,Z37,IF(C7=AM12,Z49,0)))) -> 0 | E26: =IF(C7=AM9,AC15,IF(C7=AM10,AA25,IF(C7=AM11,AA37,IF(C7=AM12,AA49,0)))) -> 0 | F26: =IF(C7=AM9,AD15,IF(C7=AM10,AB25,IF(C7=AM11,AB37,IF(C7=AM12,AB49,0)))) -> 0 | G26: =IF(C7=AM9,AE15,IF(C7=AM10,AC25,IF(C7=AM11,AC37,IF(C7=AM12,AC49,0)))) -> 0 | H26: =IF(C7=AM9,AF15,IF(C7=AM10,AD25,IF(C7=AM11,AD37,IF(C7=AM12,AD49,0)))) -> 0 | I26: =IF(C7=AM9,AG15,IF(C7=AM10,AE25,IF(C7=AM11,AE37,IF(C7=AM12,AE49,0)))) -> 0 | J26: =IF(C7=AM9,AH15,IF(C7=AM10,AF25,IF(C7=AM11,AF37,IF(C7=AM12,AF49,0)))) -> 0 | K26: =IF(C7=AM9,AI15,IF(C7=AM10,AG25,IF(C7=AM11,AG37,IF(C7=AM12,AG49,0)))) -> 0 | L26: =IF(C7=AM9,AJ15,IF(C7=AM10,AH25,IF(C7=AM11,AH37,IF(C7=AM12,AH49,0)))) -> 0 | M26: =IF(C7=AM9,AK15,IF(C7=AM10,AI25,IF(C7=AM11,AI37,IF(C7=AM12,AI49,0)))) -> 0 | Z26: =AC20 -> 0 | AA26: =AD20 -> 0 | AB26: =AE20 -> 0 | AC26: =AF20 -> 0 | AD26: =AG20 -> 0 | AE26: =AH20 -> 0 | AF26: =AI20 -> 0 | AG26: =AJ20 -> 0 | ... AI26: =AL20 -> 0
C27: RPE 7 | D27: =IF(C7=AM9,AB16,IF(C7=AM10,Z26,IF(C7=AM11,Z38,IF(C7=AM12,Z50,0)))) -> 0 | E27: =IF(C7=AM9,AC16,IF(C7=AM10,AA26,IF(C7=AM11,AA38,IF(C7=AM12,AA50,0)))) -> 0 | F27: =IF(C7=AM9,AD16,IF(C7=AM10,AB26,IF(C7=AM11,AB38,IF(C7=AM12,AB50,0)))) -> 0 | G27: =IF(C7=AM9,AE16,IF(C7=AM10,AC26,IF(C7=AM11,AC38,IF(C7=AM12,AC50,0)))) -> 0 | H27: =IF(C7=AM9,AF16,IF(C7=AM10,AD26,IF(C7=AM11,AD38,IF(C7=AM12,AD50,0)))) -> 0 | I27: =IF(C7=AM9,AG16,IF(C7=AM10,AE26,IF(C7=AM11,AE38,IF(C7=AM12,AE50,0)))) -> 0 | J27: =IF(C7=AM9,AH16,IF(C7=AM10,AF26,IF(C7=AM11,AF38,IF(C7=AM12,AF50,0)))) -> 0 | K27: =IF(C7=AM9,AI16,IF(C7=AM10,AG26,IF(C7=AM11,AG38,IF(C7=AM12,AG50,0)))) -> 0 | L27: =IF(C7=AM9,AJ16,IF(C7=AM10,AH26,IF(C7=AM11,AH38,IF(C7=AM12,AH50,0)))) -> 0 | M27: =IF(C7=AM9,AK16,IF(C7=AM10,AI26,IF(C7=AM11,AI38,IF(C7=AM12,AI50,0)))) -> 0 | Z27: =AVERAGE(Z26,Z28) -> 0 | AA27: =AVERAGE(AA28,AA26) -> 0 | AB27: =AVERAGE(AB26,AB28) -> 0 | AC27: =AVERAGE(AC26,AC28) -> 0 | AD27: =AVERAGE(AD26,AD28) -> 0 | AE27: =AVERAGE(AE26,AE28) -> 0 | AF27: =AVERAGE(AF26,AF28) -> 0 | AG27: =AVERAGE(AG26,AG28) -> 0 | AH27: =AVERAGE(AH26,AH28) -> 0 | AI27: =AVERAGE(AI26,AI28) -> 0
C28: RPE 6,5 | D28: =IF(C7=AM9,AB17,IF(C7=AM10,Z27,IF(C7=AM11,Z39,IF(C7=AM12,Z51,0)))) -> 0 | E28: =IF(C7=AM9,AC17,IF(C7=AM10,AA27,IF(C7=AM11,AA39,IF(C7=AM12,AA51,0)))) -> 0 | F28: =IF(C7=AM9,AD17,IF(C7=AM10,AB27,IF(C7=AM11,AB39,IF(C7=AM12,AB51,0)))) -> 0 | G28: =IF(C7=AM9,AE17,IF(C7=AM10,AC27,IF(C7=AM11,AC39,IF(C7=AM12,AC51,0)))) -> 0 | H28: =IF(C7=AM9,AF17,IF(C7=AM10,AD27,IF(C7=AM11,AD39,IF(C7=AM12,AD51,0)))) -> 0 | I28: =IF(C7=AM9,AG17,IF(C7=AM10,AE27,IF(C7=AM11,AE39,IF(C7=AM12,AE51,0)))) -> 0 | J28: =IF(C7=AM9,AH17,IF(C7=AM10,AF27,IF(C7=AM11,AF39,IF(C7=AM12,AF51,0)))) -> 0 | K28: =IF(C7=AM9,AI17,IF(C7=AM10,AG27,IF(C7=AM11,AG39,IF(C7=AM12,AG51,0)))) -> 0 | L28: =IF(C7=AM9,AJ17,IF(C7=AM10,AH27,IF(C7=AM11,AH39,IF(C7=AM12,AH51,0)))) -> 0 | M28: =IF(C7=AM9,AK17,IF(C7=AM10,AI27,IF(C7=AM11,AI39,IF(C7=AM12,AI51,0)))) -> 0 | Z28: =AD20 -> 0 | AA28: =AE20 -> 0 | AB28: =AF20 -> 0 | AC28: =AG20 -> 0 | AD28: =AH20 -> 0 | AE28: =AI20 -> 0 | AF28: =AJ20 -> 0 | AG28: =AK20 -> 0 | ... AI28: =AM20 -> 0
C29: RPE 6 | D29: =IF(C7=AM9,AB18,IF(C7=AM10,Z28,IF(C7=AM11,Z40,IF(C7=AM12,Z52,0)))) -> 0 | E29: =IF(C7=AM9,AC18,IF(C7=AM10,AA28,IF(C7=AM11,AA40,IF(C7=AM12,AA52,0)))) -> 0 | F29: =IF(C7=AM9,AD18,IF(C7=AM10,AB28,IF(C7=AM11,AB40,IF(C7=AM12,AB52,0)))) -> 0 | G29: =IF(C7=AM9,AE18,IF(C7=AM10,AC28,IF(C7=AM11,AC40,IF(C7=AM12,AC52,0)))) -> 0 | H29: =IF(C7=AM9,AF18,IF(C7=AM10,AD28,IF(C7=AM11,AD40,IF(C7=AM12,AD52,0)))) -> 0 | I29: =IF(C7=AM9,AG18,IF(C7=AM10,AE28,IF(C7=AM11,AE40,IF(C7=AM12,AE52,0)))) -> 0 | J29: =IF(C7=AM9,AH18,IF(C7=AM10,AF28,IF(C7=AM11,AF40,IF(C7=AM12,AF52,0)))) -> 0 | K29: =IF(C7=AM9,AI18,IF(C7=AM10,AG28,IF(C7=AM11,AG40,IF(C7=AM12,AG52,0)))) -> 0 | L29: =IF(C7=AM9,AJ18,IF(C7=AM10,AH28,IF(C7=AM11,AH40,IF(C7=AM12,AH52,0)))) -> 0 | M29: =IF(C7=AM9,AK18,IF(C7=AM10,AI28,IF(C7=AM11,AI40,IF(C7=AM12,AI52,0)))) -> 0
C31: Reps @RPE | E31: Fatigue Stops | H31: Reps @RPE | J31: Fatigue Stops | M31: Wilks Points Calculator | Z31: =G53 -> Custom RPE Chart (Bench)
E32: 0.05 | F32: 0.07 | J32: 0.05 | K32: 0.07 | Z32: =F17 -> 0 | AA32: =Z32*I58 -> 0 | AB32: =Z32*I59 -> 0 | AC32: =Z32*I60 -> 0 | AD32: =Z32*I61 -> 0 | AE32: =Z32*I62 -> 0 | AF32: =Z32*I63 -> 0 | AG32: =Z32*I64 -> 0 | AH32: =Z32*I65 -> 0 | AI32: =Z32*I66 -> 0 | AJ32: =Z32*I67 -> 0 | AK32: =Z32*I68 -> 0 | AL32: =Z32*I69 -> 0 | AM32: =Z32*I70 -> 0 | AN32: =Z32*I71 -> 0
C33: 1 @RPE 9 | D33: =D23 -> 0 | E33: =D33-(D33*E32) -> 0 | F33: =D33-(D33*F32) -> 0 | H33: 6 @RPE 9 | I33: =I23 -> 0 | J33: =I33-(I33*J32) -> 0 | K33: =I33-(I33*K32) -> 0 | M33: You are : | Z33: =AVERAGE(Z32,Z34) -> 0 | AA33: =AVERAGE(AA34,AA32) -> 0 | AB33: =AVERAGE(AB32,AB34) -> 0 | AC33: =AVERAGE(AC32,AC34) -> 0 | AD33: =AVERAGE(AD32,AD34) -> 0 | AE33: =AVERAGE(AE32,AE34) -> 0 | AF33: =AVERAGE(AF32,AF34) -> 0 | AG33: =AVERAGE(AG34,AG32) -> 0 | AH33: =AVERAGE(AH32,AH34) -> 0 | AI33: =AVERAGE(AI32,AI34) -> 0
C34: 1 @RPE 8 | D34: =D25 -> 0 | H34: 6 @RPE 8 | I34: =I25 -> 0 | Z34: =AA32 -> 0 | AA34: =AB32 -> 0 | AB34: =AC32 -> 0 | AC34: =AD32 -> 0 | AD34: =AE32 -> 0 | AE34: =AF32 -> 0 | AF34: =AG32 -> 0 | AG34: =AH32 -> 0 | ... AI34: =AJ32 -> 0
C35: 1 @RPE 7 | D35: =D27 -> 0 | H35: 6 @RPE 7 | I35: =I27 -> 0 | M35: Bodyweight : | Z35: =AVERAGE(Z34,Z36) -> 0 | AA35: =AVERAGE(AA34,AA36) -> 0 | AB35: =AVERAGE(AB34,AB36) -> 0 | AC35: =AVERAGE(AC34,AC36) -> 0 | AD35: =AVERAGE(AD34,AD36) -> 0 | AE35: =AVERAGE(AE34,AE36) -> 0 | AF35: =AVERAGE(AF34,AF36) -> 0 | AG35: =AVERAGE(AG36,AG34) -> 0 | AH35: =AVERAGE(AH34,AH36) -> 0 | AI35: =AVERAGE(AI34,AI36) -> 0
Z36: =AB32 -> 0 | AA36: =AC32 -> 0 | AB36: =AD32 -> 0 | AC36: =AE32 -> 0 | AD36: =AF32 -> 0 | AE36: =AG32 -> 0 | AF36: =AH32 -> 0 | AG36: =AI32 -> 0 | ... AI36: =AK32 -> 0
C37: 2 @RPE 9 | D37: =E23 -> 0 | E37: =D37-(D37*E32) -> 0 | F37: =D37-(D37*F32) -> 0 | H37: 7 @RPE 9 | I37: =J23 -> 0 | J37: =I37-(I37*J32) -> 0 | K37: =I37-(I37*K32) -> 0 | M37: Total Lifted Weight : | Z37: =AVERAGE(Z36,Z38) -> 0 | AA37: =AVERAGE(AA36,AA38) -> 0 | AB37: =AVERAGE(AB36,AB38) -> 0 | AC37: =AVERAGE(AC36,AC38) -> 0 | AD37: =AVERAGE(AD36,AD38) -> 0 | AE37: =AVERAGE(AE36,AE38) -> 0 | AF37: =AVERAGE(AF36,AF38) -> 0 | AG37: =AVERAGE(AG38,AG36) -> 0 | AH37: =AVERAGE(AH36,AH38) -> 0 | AI37: =AVERAGE(AI36,AI38) -> 0
C38: 2 @RPE 8 | D38: =E25 -> 0 | H38: 7 @RPE 8 | I38: =J25 -> 0 | Z38: =AC32 -> 0 | AA38: =AD32 -> 0 | AB38: =AE32 -> 0 | AC38: =AF32 -> 0 | AD38: =AG32 -> 0 | AE38: =AH32 -> 0 | AF38: =AI32 -> 0 | AG38: =AJ32 -> 0 | ... AI38: =AL32 -> 0
C39: 2 @RPE 7 | D39: =E27 -> 0 | H39: 7 @RPE 7 | I39: =J27 -> 0 | M39: =IF(O33=S40,O37*500/(-216.0475144+16.2606339*O35-0.002388645*O35^2-0.00113732*O35^3+0.00000701863*O35^4-0.00000001291*O35^5),O37*500/(594.31747775582-27.23842536447*O35+0.82112226871*O35^2-0.00930733913*O35^3+0.00004731582*O35^4-0.00000009054*O35^5)) -> 0 | Z39: =AVERAGE(Z38,Z40) -> 0 | AA39: =AVERAGE(AA38,AA40) -> 0 | AB39: =AVERAGE(AB38,AB40) -> 0 | AC39: =AVERAGE(AC38,AC40) -> 0 | AD39: =AVERAGE(AD38,AD40) -> 0 | AE39: =AVERAGE(AE38,AE40) -> 0 | AF39: =AVERAGE(AF38,AF40) -> 0 | AG39: =AVERAGE(AG38,AG40) -> 0 | ... AI39: =AVERAGE(AI38,AI40) -> 0
S40: Man | Z40: =AD32 -> 0 | AA40: =AE32 -> 0 | AB40: =AF32 -> 0 | AC40: =AG32 -> 0 | AD40: =AH32 -> 0 | AE40: =AI32 -> 0 | AF40: =AJ32 -> 0 | AG40: =AK32 -> 0 | ... AI40: =AM32 -> 0
C41: 3 @RPE 9 | D41: =F23 -> 0 | E41: =D41-(D41*E32) -> 0 | F41: =D41-(D41*F32) -> 0 | H41: 8 @RPE 9 | I41: =K23 -> 0 | J41: =I41-(I41*J32) -> 0 | K41: =I41-(I41*K32) -> 0
C42: 3 @RPE 8 | D42: =F25 -> 0 | H42: 8 @RPE 8 | I42: =K25 -> 0 | M42: IPF Points Calculator (Classic 3-Lift)
C43: 3 @RPE 7 | D43: =F27 -> 0 | H43: 8 @RPE 7 | I43: =K27 -> 0 | Z43: =K53 -> Custom RPE Chart (Deadlift)
M44: You are : | Z44: =F17 -> 0 | AA44: =Z44*M58 -> 0 | AB44: =Z44*M59 -> 0 | AC44: =Z44*M60 -> 0 | AD44: =Z44*M61 -> 0 | AE44: =Z44*M62 -> 0 | AF44: =Z44*M63 -> 0 | AG44: =Z44*M64 -> 0 | AH44: =Z44*M65 -> 0 | AI44: =Z44*M66 -> 0 | AJ44: =Z44*M67 -> 0 | AK44: =Z44*M68 -> 0 | AL44: =Z44*M69 -> 0 | AM44: =Z44*M70 -> 0 | AN44: =Z44*M71 -> 0
C45: 4 @RPE 9 | D45: =G23 -> 0 | E45: =D45-(D45*E32) -> 0 | F45: =D45-(D45*F32) -> 0 | H45: 9 @RPE 9 | I45: =L23 -> 0 | J45: =I45-(I45*J32) -> 0 | K45: =I45-(I45*K32) -> 0 | Z45: =AVERAGE(Z44,Z46) -> 0 | AA45: =AVERAGE(AA44,AA46) -> 0 | AB45: =AVERAGE(AB44,AB46) -> 0 | AC45: =AVERAGE(AC44,AC46) -> 0 | AD45: =AVERAGE(AD44,AD46) -> 0 | AE45: =AVERAGE(AE44,AE46) -> 0 | AF45: =AVERAGE(AF44,AF46) -> 0 | AG45: =AVERAGE(AG44,AG46) -> 0 | ... AI45: =AVERAGE(AI44,AI46) -> 0
C46: 4 @RPE 8 | D46: =G25 -> 0 | H46: 9 @RPE 8 | I46: =L25 -> 0 | M46: Bodyweight : | Z46: =AA44 -> 0 | AA46: =AB44 -> 0 | AB46: =AC44 -> 0 | AC46: =AD44 -> 0 | AD46: =AE44 -> 0 | AE46: =AF44 -> 0 | AF46: =AG44 -> 0 | AG46: =AH44 -> 0 | ... AI46: =AJ44 -> 0
C47: 4 @RPE 7 | D47: =G27 -> 0 | H47: 9 @RPE 7 | I47: =L27 -> 0 | Z47: =AVERAGE(Z46,Z48) -> 0 | AA47: =AVERAGE(AA46,AA48) -> 0 | AB47: =AVERAGE(AB46,AB48) -> 0 | AC47: =AVERAGE(AC46,AC48) -> 0 | AD47: =AVERAGE(AD46,AD48) -> 0 | AE47: =AVERAGE(AE46,AE48) -> 0 | AF47: =AVERAGE(AF46,AF48) -> 0 | AG47: =AVERAGE(AG46,AG48) -> 0 | ... AI47: =AVERAGE(AI46,AI48) -> 0
M48: Total Lifted Weight : | Z48: =AB44 -> 0 | AA48: =AC44 -> 0 | AB48: =AD44 -> 0 | AC48: =AE44 -> 0 | AD48: =AF44 -> 0 | AE48: =AG44 -> 0 | AF48: =AH44 -> 0 | AG48: =AI44 -> 0 | ... AI48: =AK44 -> 0
C49: 5 @RPE 9 | D49: =H23 -> 0 | E49: =D49-(D49*E32) -> 0 | F49: =D49-(D49*F32) -> 0 | H49: 10 @RPE 9 | I49: =M23 -> 0 | J49: =I49-(I49*J32) -> 0 | K49: =I49-(I49*K32) -> 0 | Z49: =AVERAGE(Z48,Z50) -> 0 | AA49: =AVERAGE(AA48,AA50) -> 0 | AB49: =AVERAGE(AB48,AB50) -> 0 | AC49: =AVERAGE(AC48,AC50) -> 0 | AD49: =AVERAGE(AD48,AD50) -> 0 | AE49: =AVERAGE(AE48,AE50) -> 0 | AF49: =AVERAGE(AF48,AF50) -> 0 | AG49: =AVERAGE(AG48,AG50) -> 0 | ... AI49: =AVERAGE(AI48,AI50) -> 0
C50: 5 @RPE 8 | D50: =H25 -> 0 | H50: 10 @RPE 8 | I50: =M25 -> 0 | M50: =IFERROR(IF(O44=S51,500+100*(O48-(125.1435*LN(O46)-228.03))/(34.5246*LN(O46)-86.8301),500+100*(O48-(310.67*LN(O46)-857.785))/(53.216*LN(O46)-147.0835)),"0,00 Points") -> 0,00 Points | Z50: =AC44 -> 0 | AA50: =AD44 -> 0 | AB50: =AE44 -> 0 | AC50: =AF44 -> 0 | AD50: =AG44 -> 0 | AE50: =AH44 -> 0 | AF50: =AI44 -> 0 | AG50: =AJ44 -> 0 | ... AI50: =AL44 -> 0
C51: 5 @RPE 7 | D51: =H27 -> 0 | H51: 10 @RPE 7 | I51: =M27 -> 0 | Z51: =AVERAGE(Z50,Z52) -> 0 | AA51: =AVERAGE(AA50,AA52) -> 0 | AB51: =AVERAGE(AB50,AB52) -> 0 | AC51: =AVERAGE(AC50,AC52) -> 0 | AD51: =AVERAGE(AD50,AD52) -> 0 | AE51: =AVERAGE(AE50,AE52) -> 0 | AF51: =AVERAGE(AF50,AF52) -> 0 | AG51: =AVERAGE(AG50,AG52) -> 0 | ... AI51: =AVERAGE(AI50,AI52) -> 0
Z52: =AD44 -> 0 | AA52: =AE44 -> 0 | AB52: =AF44 -> 0 | AC52: =AG44 -> 0 | AD52: =AH44 -> 0 | AE52: =AI44 -> 0 | AF52: =AJ44 -> 0 | AG52: =AK44 -> 0 | ... AI52: =AM44 -> 0
C53: Custom RPE Chart (Squat) | G53: Custom RPE Chart (Bench) | K53: Custom RPE Chart (Deadlift)
C55: RM's | D55: Enter your RM's (in kg) | E55: Percentages of 1RM | G55: RM's | H55: Enter your RM's (in kg) | I55: Percentages of 1RM | K55: RM's | L55: Enter your RM's (in kg) | M55: Percentages of 1RM
C57: 1RM | E57: =IFERROR((100*D57/D57)/100,"0%") -> 0% | G57: 1RM | I57: =IFERROR((100*H57/H57)/100,"0%") -> 0% | K57: 1RM | M57: =IFERROR((100*L57/L57)/100,"0%") -> 0%
C58: 2RM | E58: =IFERROR((100*D58/D57)/100,"0%") -> 0% | G58: 2RM | I58: =IFERROR((100*H58/H57)/100,"0%") -> 0% | K58: 2RM | M58: =IFERROR((100*L58/L57)/100,"0%") -> 0%
C59: 3RM | E59: =IFERROR((100*D59/D57)/100,"0%") -> 0% | G59: 3RM | I59: =IFERROR((100*H59/H57)/100,"0%") -> 0% | K59: 3RM | M59: =IFERROR((100*L59/L57)/100,"0%") -> 0%
C60: 4RM | E60: =IFERROR((100*D60/D57)/100,"0%") -> 0% | G60: 4RM | I60: =IFERROR((100*H60/H57)/100,"0%") -> 0% | K60: 4RM | M60: =IFERROR((100*L60/L57)/100,"0%") -> 0%
C61: 5RM | E61: =IFERROR((100*D61/D57)/100,"0%") -> 0% | G61: 5RM | I61: =IFERROR((100*H61/H57)/100,"0%") -> 0% | K61: 5RM | M61: =IFERROR((100*L61/L57)/100,"0%") -> 0%
C62: 6RM | E62: =IFERROR((100*D62/D57)/100,"0%") -> 0% | G62: 6RM | I62: =IFERROR((100*H62/H57)/100,"0%") -> 0% | K62: 6RM | M62: =IFERROR((100*L62/L57)/100,"0%") -> 0%
C63: 7RM | E63: =IFERROR((100*D63/D57)/100,"0%") -> 0% | G63: 7RM | I63: =IFERROR((100*H63/H57)/100,"0%") -> 0% | K63: 7RM | M63: =IFERROR((100*L63/L57)/100,"0%") -> 0%
C64: 8RM | E64: =IFERROR((100*D64/D57)/100,"0%") -> 0% | G64: 8RM | I64: =IFERROR((100*H64/H57)/100,"0%") -> 0% | K64: 8RM | M64: =IFERROR((100*L64/L57)/100,"0%") -> 0%
C65: 9RM | E65: =IFERROR((100*D65/D57)/100,"0%") -> 0% | G65: 9RM | I65: =IFERROR((100*H65/H57)/100,"0%") -> 0% | K65: 9RM | M65: =IFERROR((100*L65/L57)/100,"0%") -> 0%
C66: 10RM | E66: =IFERROR((100*D66/D57)/100,"0%") -> 0% | G66: 10RM | I66: =IFERROR((100*H66/H57)/100,"0%") -> 0% | K66: 10RM | M66: =IFERROR((100*L66/L57)/100,"0%") -> 0%
C67: 11RM | E67: =IFERROR((100*D67/D57)/100,"0%") -> 0% | G67: 11RM | I67: =IFERROR((100*H67/H57)/100,"0%") -> 0% | K67: 11RM | M67: =IFERROR((100*L67/L57)/100,"0%") -> 0%
C68: 12RM | E68: =IFERROR((100*D68/D57)/100,"0%") -> 0% | G68: 12RM | I68: =IFERROR((100*H68/H57)/100,"0%") -> 0% | K68: 12RM | M68: =IFERROR((100*L68/L57)/100,"0%") -> 0%
C69: 13RM | E69: =IFERROR((100*D69/D57)/100,"0%") -> 0% | G69: 13RM | I69: =IFERROR((100*H69/H57)/100,"0%") -> 0% | K69: 13RM | M69: =IFERROR((100*L69/L57)/100,"0%") -> 0%
C70: 14RM | E70: =IFERROR((100*D70/D57)/100,"0%") -> 0% | G70: 14RM | I70: =IFERROR((100*H70/H57)/100,"0%") -> 0% | K70: 14RM | M70: =IFERROR((100*L70/L57)/100,"0%") -> 0%
C71: 15RM | E71: =IFERROR((100*D71/D57)/100,"0%") -> 0% | G71: 15RM | I71: =IFERROR((100*H71/H57)/100,"0%") -> 0% | K71: 15RM | M71: =IFERROR((100*L71/L57)/100,"0%") -> 0%

Sheet Week 1
C3: ='Training Plan'!B12 -> 0 | E3: Week 1 Training Log
B9: Day 1
B13: 1 | C13: ='Training Plan'!C16 -> Competition Squat | H13: 2 | I13: ='Training Plan'!C24 -> 0 | N13: 3 | O13: ='Training Plan'!C32 -> 0
B15: Sets x Reps @RPE / % | D15: ='Training Plan'!C17 -> 0 | H15: Sets x Reps @RPE / % | J15: ='Training Plan'!C25 -> 0 | N15: Sets x Reps @RPE / % | P15: ='Training Plan'!C33 -> 0
B20: Rest Periods | D20: ='Training Plan'!D22 -> 0 | H20: Rest Periods | J20: ='Training Plan'!D30 -> 0 | N20: Rest Periods | P20: ='Training Plan'!D38 -> 0
B22: Sets | C22: Reps | D22: Weight | E22: RPE | F22: Relative Intensity | H22: Sets | I22: Reps | J22: Weight | K22: RPE | L22: Relative Intensity | N22: Sets | O22: Reps | P22: Weight | Q22: RPE | R22: Relative Intensity
B23: 1 | C23: 1 | D23: 100 | F23: =IF(ISNUMBER(D23),D23/B35,) -> 0.71428571 | H23: 1 | L23: =IF(ISNUMBER(J23),J23/H35,) -> 0 | N23: 1 | R23: =IF(ISNUMBER(P23),P23/N35,) -> 0
B24: 2 | F24: =IF(ISNUMBER(D24),D24/B35,) -> 0 | H24: 2 | L24: =IF(ISNUMBER(J24),J24/H35,) -> 0 | N24: 2 | R24: =IF(ISNUMBER(P24),P24/N35,) -> 0
B25: 3 | F25: =IF(ISNUMBER(D25),D25/B35,) -> 0 | H25: 3 | L25: =IF(ISNUMBER(J25),J25/H35,) -> 0 | N25: 3 | R25: =IF(ISNUMBER(P25),P25/N35,) -> 0
B26: 4 | F26: =IF(ISNUMBER(D26),D26/B35,) -> 0 | H26: 4 | L26: =IF(ISNUMBER(J26),J26/H35,) -> 0 | N26: 4 | R26: =IF(ISNUMBER(P26),P26/N35,) -> 0
B27: 5 | F27: =IF(ISNUMBER(D27),D27/B35,) -> 0 | H27: 5 | L27: =IF(ISNUMBER(J27),J27/H35,) -> 0 | N27: 5 | R27: =IF(ISNUMBER(P27),P27/N35,) -> 0
B28: 6 | F28: =IF(ISNUMBER(D28),D28/B35,) -> 0 | H28: 6 | L28: =IF(ISNUMBER(J28),J28/H35,) -> 0 | N28: 6 | R28: =IF(ISNUMBER(P28),P28/N35,) -> 0
B29: 7 | F29: =IF(ISNUMBER(D29),D29/B35,) -> 0 | H29: 7 | L29: =IF(ISNUMBER(J29),J29/H35,) -> 0 | N29: 7 | R29: =IF(ISNUMBER(P29),P29/N35,) -> 0
B30: 8 | F30: =IF(ISNUMBER(D30),D30/B35,) -> 0 | H30: 8 | L30: =IF(ISNUMBER(J30),J30/H35,) -> 0 | N30: 8 | R30: =IF(ISNUMBER(P30),P30/N35,) -> 0
B31: 9 | F31: =IF(ISNUMBER(D31),D31/B35,) -> 0 | H31: 9 | L31: =IF(ISNUMBER(J31),J31/H35,) -> 0 | N31: 9 | R31: =IF(ISNUMBER(P31),P31/N35,) -> 0
B32: 10 | F32: =IF(ISNUMBER(D32),D32/B35,) -> 0 | H32: 10 | L32: =IF(ISNUMBER(J32),J32/H35,) -> 0 | N32: 10 | R32: =IF(ISNUMBER(P32),P32/N35,) -> 0
B33: e1RM | C33: Average Intensity | E33: =IFERROR(IF(COUNT(F23:F32)>0,AVERAGEIF(F23:F32,">0"),0),) -> 0.71428571 | H33: e1RM | I33: Average Intensity | K33: =IFERROR(IF(COUNT(L23:L32)>0,AVERAGEIF(L23:L32,">0"),0),) -> 0 | N33: e1RM | O33: Average Intensity | P33: =IFERROR(IF(COUNT(R23:R32)>0,AVERAGEIF(R23:R32,">0"),0),) -> 0 | Q33: sRPE | R33: =IFERROR(Q37*R37,"")
B35: =IFERROR(ROUNDUP(B37/(0.0005*C37^2-0.0342*C37+1.034),0),) -> 140 | C35: nReps | D35: =SUM(C23:C32) -> 1 | E35: Volume | F35: =SUM(C23*D23,C24*D24,C25*D25,C26*D26,C27*D27,C28*D28,C29*D29,C30*D30,C31*D31,C32*D32) -> 100 | H35: =IFERROR(ROUNDUP(H37/(0.0005*I37^2-0.0342*I37+1.034),0),) -> 0 | I35: nReps | J35: =SUM(I23:I32) -> 0 | K35: Volume | L35: =SUM(I23*J23,I24*J24,I25*J25,I26*J26,I27*J27,I28*J28,I29*J29,I30*J30,I31*J31,I32*J32) -> 0 | N35: =IFERROR(ROUNDUP(N37/(0.0005*O37^2-0.0342*O37+1.034),0),) -> 0 | O35: nReps | P35: =SUM(O23:O32) -> 0 | Q35: Volume | R35: =SUM(O23*P23,O24*P24,O25*P25,O26*P26,O27*P27,O28*P28,O29*P29,O30*P30,O31*P31,O32*P32) -> 0
B37: =OFFSET(D22,MATCH(MAX(D23:D32),D23:D32,0),0) -> 100 | C37: =OFFSET(C22,MATCH(MAX(D23:D32),D23:D32,0),0)+(10-OFFSET(E22,MATCH(MAX(D23:D32),D23:D32,0),0)) -> 11 | H37: =OFFSET(J22,MATCH(MAX(J23:J32),J23:J32,0),0) -> #N/A | I37: =OFFSET(I22,MATCH(MAX(J23:J32),J23:J32,0),0)+(10-OFFSET(K22,MATCH(MAX(J23:J32),J23:J32,0),0)) -> #N/A | N37: =OFFSET(P22,MATCH(MAX(P23:P32),P23:P32,0),0) -> #N/A | O37: =OFFSET(O22,MATCH(MAX(P23:P32),P23:P32,0),0)+(10-OFFSET(Q22,MATCH(MAX(P23:P32),P23:P32,0),0)) -> #N/A | Q37: =IFERROR(AVERAGE(AVERAGE(E23:E32),AVERAGE(K23:K32),AVERAGE(Q23:Q32)),"") | R37: =COUNTIF(C23:C32,">0")+COUNTIF(I23:I32,">0")+COUNTIF(O23:O32,">0") -> 1
B39: Day 2
B43: 1 | C43: ='Training Plan'!F16 -> Competition Squat | H43: 2 | I43: ='Training Plan'!F24 -> 0 | N43: 3 | O43: ='Training Plan'!F32 -> 0
B45: Sets x Reps @RPE / % | D45: ='Training Plan'!F17 -> 0 | H45: Sets x Reps @RPE / % | J45: ='Training Plan'!F25 -> 0 | N45: Sets x Reps @RPE / % | P45: ='Training Plan'!F33 -> 0
B50: Rest Periods | D50: ='Training Plan'!G22 -> 0 | H50: Rest Periods | J50: ='Training Plan'!G30 -> 0 | N50: Rest Periods | P50: ='Training Plan'!G38 -> 0
B52: Sets | C52: Reps | D52: Weight | E52: RPE | F52: Relative Intensity | H52: Sets | I52: Reps | J52: Weight | K52: RPE | L52: Relative Intensity | N52: Sets | O52: Reps | P52: Weight | Q52: RPE | R52: Relative Intensity
B53: 1 | C53: 1 | D53: 150 | F53: =IF(ISNUMBER(D53),D53/B65,) -> 0.71770335 | H53: 1 | L53: =IF(ISNUMBER(J53),J53/H65,) -> 0 | N53: 1 | R53: =IF(ISNUMBER(P53),P53/N65,) -> 0
B54: 2 | F54: =IF(ISNUMBER(D54),D54/B65,) -> 0 | H54: 2 | L54: =IF(ISNUMBER(J54),J54/H65,) -> 0 | N54: 2 | R54: =IF(ISNUMBER(P54),P54/N65,) -> 0
B55: 3 | F55: =IF(ISNUMBER(D55),D55/B65,) -> 0 | H55: 3 | L55: =IF(ISNUMBER(J55),J55/H65,) -> 0 | N55: 3 | R55: =IF(ISNUMBER(P55),P55/N65,) -> 0
B56: 4 | F56: =IF(ISNUMBER(D56),D56/B65,) -> 0 | H56: 4 | L56: =IF(ISNUMBER(J56),J56/H65,) -> 0 | N56: 4 | R56: =IF(ISNUMBER(P56),P56/N65,) -> 0
B57: 5 | F57: =IF(ISNUMBER(D57),D57/B65,) -> 0 | H57: 5 | L57: =IF(ISNUMBER(J57),J57/H65,) -> 0 | N57: 5 | R57: =IF(ISNUMBER(P57),P57/N65,) -> 0
B58: 6 | F58: =IF(ISNUMBER(D58),D58/B65,) -> 0 | H58: 6 | L58: =IF(ISNUMBER(J58),J58/H65,) -> 0 | N58: 6 | R58: =IF(ISNUMBER(P58),P58/N65,) -> 0
B59: 7 | F59: =IF(ISNUMBER(D59),D59/B65,) -> 0 | H59: 7 | L59: =IF(ISNUMBER(J59),J59/H65,) -> 0 | N59: 7 | R59: =IF(ISNUMBER(P59),P59/N65,) -> 0
B60: 8 | F60: =IF(ISNUMBER(D60),D60/B65,) -> 0 | H60: 8 | L60: =IF(ISNUMBER(J60),J60/H65,) -> 0 | N60: 8 | R60: =IF(ISNUMBER(P60),P60/N65,) -> 0
B61: 9 | F61: =IF(ISNUMBER(D61),D61/B65,) -> 0 | H61: 9 | L61: =IF(ISNUMBER(J61),J61/H65,) -> 0 | N61: 9 | R61: =IF(ISNUMBER(P61),P61/N65,) -> 0
B62: 10 | F62: =IF(ISNUMBER(D62),D62/B65,) -> 0 | H62: 10 | L62: =IF(ISNUMBER(J62),J62/H65,) -> 0 | N62: 10 | R62: =IF(ISNUMBER(P62),P62/N65,) -> 0
B63: e1RM | C63: Average Intensity | E63: =IFERROR(IF(COUNT(F53:F62)>0,AVERAGEIF(F53:F62,">0"),0),) -> 0.71770335 | H63: e1RM | I63: Average Intensity | K63: =IFERROR(IF(COUNT(L53:L62)>0,AVERAGEIF(L53:L62,">0"),0),) -> 0 | N63: e1RM | O63: Average Intensity | P63: =IFERROR(IF(COUNT(R53:R62)>0,AVERAGEIF(R53:R62,">0"),0),) -> 0 | Q63: sRPE | R63: =IFERROR(Q67*R67,"")
B65: =IFERROR(ROUNDUP(B67/(0.0005*C67^2-0.0342*C67+1.034),0),) -> 209 | C65: nReps | D65: =SUM(C53:C62) -> 1 | E65: Volume | F65: =SUM(C53*D53,C54*D54,C55*D55,C56*D56,C57*D57,C58*D58,C59*D59,C60*D60,C61*D61,C62*D62) -> 150 | H65: =IFERROR(ROUNDUP(H67/(0.0005*I67^2-0.0342*I67+1.034),0),) -> 0 | I65: nReps | J65: =SUM(I53:I62) -> 0 | K65: Volume | L65: =SUM(I53*J53,I54*J54,I55*J55,I56*J56,I57*J57,I58*J58,I59*J59,I60*J60,I61*J61,I62*J62) -> 0 | N65: =IFERROR(ROUNDUP(N67/(0.0005*O67^2-0.0342*O67+1.034),0),) -> 0 | O65: nReps | P65: =SUM(O53:O62) -> 0 | Q65: Volume | R65: =SUM(O53*P53,O54*P54,O55*P55,O56*P56,O57*P57,O58*P58,O59*P59,O60*P60,O61*P61,O62*P62) -> 0
B67: =OFFSET(D52,MATCH(MAX(D53:D62),D53:D62,0),0) -> 150 | C67: =OFFSET(C52,MATCH(MAX(D53:D62),D53:D62,0),0)+(10-OFFSET(E52,MATCH(MAX(D53:D62),D53:D62,0),0)) -> 11 | H67: =OFFSET(J52,MATCH(MAX(J53:J62),J53:J62,0),0) -> #N/A | I67: =OFFSET(I52,MATCH(MAX(J53:J62),J53:J62,0),0)+(10-OFFSET(K52,MATCH(MAX(J53:J62),J53:J62,0),0)) -> #N/A | N67: =OFFSET(P52,MATCH(MAX(P53:P62),P53:P62,0),0) -> #N/A | O67: =OFFSET(O52,MATCH(MAX(P53:P62),P53:P62,0),0)+(10-OFFSET(Q52,MATCH(MAX(P53:P62),P53:P62,0),0)) -> #N/A | Q67: =IFERROR(AVERAGE(AVERAGE(E53:E62),AVERAGE(K53:K62),AVERAGE(Q53:Q62)),"") | R67: =COUNTIF(C53:C62,">0")+COUNTIF(I53:I62,">0")+COUNTIF(O53:O62,">0") -> 1
B69: General Physical Prepardness (GPP)
C73: ='Training Plan'!I15 -> 0 | F73: ='Training Plan'!I19 -> 0 | I73: ='Training Plan'!I23 -> 0 | L73: ='Training Plan'!I27 -> 0 | O73: ='Training Plan'!I31 -> 0
C75: ='Training Plan'!I16 -> 0 | F75: ='Training Plan'!I20 -> 0 | I75: ='Training Plan'!I24 -> 0 | L75: ='Training Plan'!I28 -> 0 | O75: ='Training Plan'!I32 -> 0
C78: Log | F78: Log | I78: Log | L78: Log | O78: Log
B84: Day 3
B88: 1 | C88: ='Training Plan'!L16 -> 0 | H88: 2 | I88: ='Training Plan'!L24 -> 0 | N88: 3 | O88: ='Training Plan'!L32 -> 0
B90: Sets x Reps @RPE / % | D90: ='Training Plan'!L17 -> 0 | H90: Sets x Reps @RPE / % | J90: ='Training Plan'!L25 -> 0 | N90: Sets x Reps @RPE / % | P90: ='Training Plan'!L33 -> 0
B95: Rest Periods | D95: ='Training Plan'!M22 -> 0 | H95: Rest Periods | J95: ='Training Plan'!M30 -> 0 | N95: Rest Periods | P95: ='Training Plan'!M38 -> 0
B97: Sets | C97: Reps | D97: Weight | E97: RPE | F97: Relative Intensity | H97: Sets | I97: Reps | J97: Weight | K97: RPE | L97: Relative Intensity | N97: Sets | O97: Reps | P97: Weight | Q97: RPE | R97: Relative Intensity
B98: 1 | F98: =IF(ISNUMBER(D98),D98/B110,) -> 0 | H98: 1 | L98: =IF(ISNUMBER(J98),J98/H110,) -> 0 | N98: 1 | R98: =IF(ISNUMBER(P98),P98/N110,) -> 0
B99: 2 | F99: =IF(ISNUMBER(D99),D99/B110,) -> 0 | H99: 2 | L99: =IF(ISNUMBER(J99),J99/H110,) -> 0 | N99: 2 | R99: =IF(ISNUMBER(P99),P99/N110,) -> 0
B100: 3 | F100: =IF(ISNUMBER(D100),D100/B110,) -> 0 | H100: 3 | L100: =IF(ISNUMBER(J100),J100/H110,) -> 0 | N100: 3 | R100: =IF(ISNUMBER(P100),P100/N110,) -> 0
B101: 4 | F101: =IF(ISNUMBER(D101),D101/B110,) -> 0 | H101: 4 | L101: =IF(ISNUMBER(J101),J101/H110,) -> 0 | N101: 4 | R101: =IF(ISNUMBER(P101),P101/N110,) -> 0
B102: 5 | F102: =IF(ISNUMBER(D102),D102/B110,) -> 0 | H102: 5 | L102: =IF(ISNUMBER(J102),J102/H110,) -> 0 | N102: 5 | R102: =IF(ISNUMBER(P102),P102/N110,) -> 0
B103: 6 | F103: =IF(ISNUMBER(D103),D103/B110,) -> 0 | H103: 6 | L103: =IF(ISNUMBER(J103),J103/H110,) -> 0 | N103: 6 | R103: =IF(ISNUMBER(P103),P103/N110,) -> 0
B104: 7 | F104: =IF(ISNUMBER(D104),D104/B110,) -> 0 | H104: 7 | L104: =IF(ISNUMBER(J104),J104/H110,) -> 0 | N104: 7 | R104: =IF(ISNUMBER(P104),P104/N110,) -> 0
B105: 8 | F105: =IF(ISNUMBER(D105),D105/B110,) -> 0 | H105: 8 | L105: =IF(ISNUMBER(J105),J105/H110,) -> 0 | N105: 8 | R105: =IF(ISNUMBER(P105),P105/N110,) -> 0
B106: 9 | F106: =IF(ISNUMBER(D106),D106/B110,) -> 0 | H106: 9 | L106: =IF(ISNUMBER(J106),J106/H110,) -> 0 | N106: 9 | R106: =IF(ISNUMBER(P106),P106/N110,) -> 0
B107: 10 | F107: =IF(ISNUMBER(D107),D107/B110,) -> 0 | H107: 10 | L107: =IF(ISNUMBER(J107),J107/H110,) -> 0 | N107: 10 | R107: =IF(ISNUMBER(P107),P107/N110,) -> 0
B108: e1RM | C108: Average Intensity | E108: =IFERROR(IF(COUNT(F98:F107)>0,AVERAGEIF(F98:F107,">0"),0),) -> 0 | H108: e1RM | I108: Average Intensity | K108: =IFERROR(IF(COUNT(L98:L107)>0,AVERAGEIF(L98:L107,">0"),0),) -> 0 | N108: e1RM | O108: Average Intensity | P108: =IFERROR(IF(COUNT(R98:R107)>0,AVERAGEIF(R98:R107,">0"),0),) -> 0 | Q108: sRPE | R108: =IFERROR(Q112*R112,"")
B110: =IFERROR(ROUNDUP(B112/(0.0005*C112^2-0.0342*C112+1.034),0),) -> 0 | C110: nReps | D110: =SUM(C98:C107) -> 0 | E110: Volume | F110: =SUM(C98*D98,C99*D99,C100*D100,C101*D101,C102*D102,C103*D103,C104*D104,C105*D105,C106*D106,C107*D107) -> 0 | H110: =IFERROR(ROUNDUP(H112/(0.0005*I112^2-0.0342*I112+1.034),0),) -> 0 | I110: nReps | J110: =SUM(I98:I107) -> 0 | K110: Volume | L110: =SUM(I98*J98,I99*J99,I100*J100,I101*J101,I102*J102,I103*J103,I104*J104,I105*J105,I106*J106,I107*J107) -> 0 | N110: =IFERROR(ROUNDUP(N112/(0.0005*O112^2-0.0342*O112+1.034),0),) -> 0 | O110: nReps | P110: =SUM(O98:O107) -> 0 | Q110: Volume | R110: =SUM(O98*P98,O99*P99,O100*P100,O101*P101,O102*P102,O103*P103,O104*P104,O105*P105,O106*P106,O107*P107) -> 0
B112: =OFFSET(D97,MATCH(MAX(D98:D107),D98:D107,0),0) -> #N/A | C112: =OFFSET(C97,MATCH(MAX(D98:D107),D98:D107,0),0)+(10-OFFSET(E97,MATCH(MAX(D98:D107),D98:D107,0),0)) -> #N/A | H112: =OFFSET(J97,MATCH(MAX(J98:J107),J98:J107,0),0) -> #N/A | I112: =OFFSET(I97,MATCH(MAX(J98:J107),J98:J107,0),0)+(10-OFFSET(K97,MATCH(MAX(J98:J107),J98:J107,0),0)) -> #N/A | N112: =OFFSET(P97,MATCH(MAX(P98:P107),P98:P107,0),0) -> #N/A | O112: =OFFSET(O97,MATCH(MAX(P98:P107),P98:P107,0),0)+(10-OFFSET(Q97,MATCH(MAX(P98:P107),P98:P107,0),0)) -> #N/A | Q112: =IFERROR(AVERAGE(AVERAGE(E98:E107),AVERAGE(K98:K107),AVERAGE(Q98:Q107)),"") | R112: =COUNTIF(C98:C107,">0")+COUNTIF(I98:I107,">0")+COUNTIF(O98:O107,">0") -> 0
B114: Day 4
B118: 1 | C118: ='Training Plan'!O16 -> 0 | H118: 2 | I118: ='Training Plan'!O24 -> 0 | N118: 3 | O118: ='Training Plan'!O32 -> 0
B120: Sets x Reps @RPE / % | D120: ='Training Plan'!O17 -> 0 | H120: Sets x Reps @RPE / % | J120: ='Training Plan'!O25 -> 0 | N120: Sets x Reps @RPE / % | P120: ='Training Plan'!O33 -> 0
B125: Rest Periods | D125: ='Training Plan'!P22 -> 0 | H125: Rest Periods | J125: ='Training Plan'!P30 -> 0 | N125: Rest Periods | P125: ='Training Plan'!P38 -> 0
B127: Sets | C127: Reps | D127: Weight | E127: RPE | F127: Relative Intensity | H127: Sets | I127: Reps | J127: Weight | K127: RPE | L127: Relative Intensity | N127: Sets | O127: Reps | P127: Weight | Q127: RPE | R127: Relative Intensity
B128: 1 | F128: =IF(ISNUMBER(D128),D128/B140,) -> 0 | H128: 1 | L128: =IF(ISNUMBER(J128),J128/H140,) -> 0 | N128: 1 | R128: =IF(ISNUMBER(P128),P128/N140,) -> 0
B129: 2 | F129: =IF(ISNUMBER(D129),D129/B140,) -> 0 | H129: 2 | L129: =IF(ISNUMBER(J129),J129/H140,) -> 0 | N129: 2 | R129: =IF(ISNUMBER(P129),P129/N140,) -> 0
B130: 3 | F130: =IF(ISNUMBER(D130),D130/B140,) -> 0 | H130: 3 | L130: =IF(ISNUMBER(J130),J130/H140,) -> 0 | N130: 3 | R130: =IF(ISNUMBER(P130),P130/N140,) -> 0
B131: 4 | F131: =IF(ISNUMBER(D131),D131/B140,) -> 0 | H131: 4 | L131: =IF(ISNUMBER(J131),J131/H140,) -> 0 | N131: 4 | R131: =IF(ISNUMBER(P131),P131/N140,) -> 0
B132: 5 | F132: =IF(ISNUMBER(D132),D132/B140,) -> 0 | H132: 5 | L132: =IF(ISNUMBER(J132),J132/H140,) -> 0 | N132: 5 | R132: =IF(ISNUMBER(P132),P132/N140,) -> 0
B133: 6 | F133: =IF(ISNUMBER(D133),D133/B140,) -> 0 | H133: 6 | L133: =IF(ISNUMBER(J133),J133/H140,) -> 0 | N133: 6 | R133: =IF(ISNUMBER(P133),P133/N140,) -> 0
B134: 7 | F134: =IF(ISNUMBER(D134),D134/B140,) -> 0 | H134: 7 | L134: =IF(ISNUMBER(J134),J134/H140,) -> 0 | N134: 7 | R134: =IF(ISNUMBER(P134),P134/N140,) -> 0
B135: 8 | F135: =IF(ISNUMBER(D135),D135/B140,) -> 0 | H135: 8 | L135: =IF(ISNUMBER(J135),J135/H140,) -> 0 | N135: 8 | R135: =IF(ISNUMBER(P135),P135/N140,) -> 0
B136: 9 | F136: =IF(ISNUMBER(D136),D136/B140,) -> 0 | H136: 9 | L136: =IF(ISNUMBER(J136),J136/H140,) -> 0 | N136: 9 | R136: =IF(ISNUMBER(P136),P136/N140,) -> 0
B137: 10 | F137: =IF(ISNUMBER(D137),D137/B140,) -> 0 | H137: 10 | L137: =IF(ISNUMBER(J137),J137/H140,) -> 0 | N137: 10 | R137: =IF(ISNUMBER(P137),P137/N140,) -> 0
B138: e1RM | C138: Average Intensity | E138: =IFERROR(IF(COUNT(F128:F137)>0,AVERAGEIF(F128:F137,">0"),0),) -> 0 | H138: e1RM | I138: Average Intensity | K138: =IFERROR(IF(COUNT(L128:L137)>0,AVERAGEIF(L128:L137,">0"),0),) -> 0 | N138: e1RM | O138: Average Intensity | P138: =IFERROR(IF(COUNT(R128:R137)>0,AVERAGEIF(R128:R137,">0"),0),) -> 0 | Q138: sRPE | R138: =IFERROR(Q142*R142,"")
B140: =IFERROR(ROUNDUP(B142/(0.0005*C142^2-0.0342*C142+1.034),0),) -> 0 | C140: nReps | D140: =SUM(C128:C137) -> 0 | E140: Volume | F140: =SUM(C128*D128,C129*D129,C130*D130,C131*D131,C132*D132,C133*D133,C134*D134,C135*D135,C136*D136,C137*D137) -> 0 | H140: =IFERROR(ROUNDUP(H142/(0.0005*I142^2-0.0342*I142+1.034),0),) -> 0 | I140: nReps | J140: =SUM(I128:I137) -> 0 | K140: Volume | L140: =SUM(I128*J128,I129*J129,I130*J130,I131*J131,I132*J132,I133*J133,I134*J134,I135*J135,I136*J136,I137*J137) -> 0 | N140: =IFERROR(ROUNDUP(N142/(0.0005*O142^2-0.0342*O142+1.034),0),) -> 0 | O140: nReps | P140: =SUM(O128:O137) -> 0 | Q140: Volume | R140: =SUM(O128*P128,O129*P129,O130*P130,O131*P131,O132*P132,O133*P133,O134*P134,O135*P135,O136*P136,O137*P137) -> 0
B142: =OFFSET(D127,MATCH(MAX(D128:D137),D128:D137,0),0) -> #N/A | C142: =OFFSET(C127,MATCH(MAX(D128:D137),D128:D137,0),0)+(10-OFFSET(E127,MATCH(MAX(D128:D137),D128:D137,0),0)) -> #N/A | H142: =OFFSET(J127,MATCH(MAX(J128:J137),J128:J137,0),0) -> #N/A | I142: =OFFSET(I127,MATCH(MAX(J128:J137),J128:J137,0),0)+(10-OFFSET(K127,MATCH(MAX(J128:J137),J128:J137,0),0)) -> #N/A | N142: =OFFSET(P127,MATCH(MAX(P128:P137),P128:P137,0),0) -> #N/A | O142: =OFFSET(O127,MATCH(MAX(P128:P137),P128:P137,0),0)+(10-OFFSET(Q127,MATCH(MAX(P128:P137),P128:P137,0),0)) -> #N/A | Q142: =IFERROR(AVERAGE(AVERAGE(E128:E137),AVERAGE(K128:K137),AVERAGE(Q128:Q137)),"") | R142: =COUNTIF(C128:C137,">0")+COUNTIF(I128:I137,">0")+COUNTIF(O128:O137,">0") -> 0
B144: Fatigue Assessement & Comments and Observations
C148: Sleep Quality | E148: Calorie Intake | G148: Perceived Recovery | I148: Perceived Stress | K148: Bodyweight (kg) | M148: Comments and Observations
B150: Day 1 | C150: Moderate (5h ; little disruptions) | E150: Maintenance Phase | G150: Well Recovered (little fatigued) | I150: Some Stress in the Day
B152: Day 2 | C152: Very Well (8h+ ; no disruptions) | E152: Maintenance Phase | G152: Well Recovered (little fatigued) | I152: Some Stress in the Day
B154: Day 3 | C154: Very Well (8h+ ; no disruptions) | E154: Maintenance Phase | G154: Well Recovered (little fatigued) | I154: Some Stress in the Day
B156: Day 4 | C156: Very Well (8h+ ; no disruptions) | E156: Maintenance Phase | G156: Well Recovered (little fatigued) | I156: Some Stress in the Day
B158: Day 5 | C158: Very Well (8h+ ; no disruptions) | E158: Maintenance Phase | G158: Well Recovered (little fatigued) | I158: Some Stress in the Day
B160: Day 6 | C160: Very Well (8h+ ; no disruptions) | E160: Maintenance Phase | G160: Well Recovered (little fatigued) | I160: Some Stress in the Day
B162: Day 7 | C162: Very Well (8h+ ; no disruptions) | E162: Maintenance Phase | G162: Well Recovered (little fatigued) | I162: Some Stress in the Day
G176: Sleep Quality
H177: Very Well (8h+ ; no disruptions) | I177: 0.2
H178: Well (6/7h ; weak disruptions) | I178: 0.4
H179: Moderate (5h ; little disruptions) | I179: 0.6 | M179: sleep | N179: calorie | O179: recovery | P179: stress
H180: Poor (4h ; some disruptions) | I180: 0.8 | L180: 1 | M180: =IF(C150="","",VLOOKUP(C150,H177:I181,2,0)) -> 0.6 | N180: =IF(E150="","",VLOOKUP(E150,H184:I188,2,0)) -> 0.3 | O180: =IF(G150="","",VLOOKUP(G150,H191:I195,2,0)) -> 0.2 | P180: =IF(I150="","",VLOOKUP(I150,H198:I202,2,0)) -> 0.4
H181: Very Poor (-3h ; lot of disruptions) | I181: 1 | L181: 2 | M181: =IF(C152="","",VLOOKUP(C152,H177:I181,2,0)) -> 0.2 | N181: =IF(E152="","",VLOOKUP(E152,H184:I188,2,0)) -> 0.3 | O181: =IF(G152="","",VLOOKUP(G152,H191:I195,2,0)) -> 0.2 | P181: =IF(I152="","",VLOOKUP(I152,H198:I202,2,0)) -> 0.4
L182: 3 | M182: =IF(C154="","",VLOOKUP(C154,H177:I181,2,0)) -> 0.2 | N182: =IF(E154="","",VLOOKUP(E154,H184:I188,2,0)) -> 0.3 | O182: =IF(G154="","",VLOOKUP(G154,H191:I195,2,0)) -> 0.2 | P182: =IF(I154="","",VLOOKUP(I154,H198:I202,2,0)) -> 0.4
G183: Calorie Intake | L183: 4 | M183: =IF(C156="","",VLOOKUP(C156,H177:I181,2,0)) -> 0.2 | N183: =IF(E156="","",VLOOKUP(E156,H184:I188,2,0)) -> 0.3 | O183: =IF(G156="","",VLOOKUP(G156,H191:I195,2,0)) -> 0.2 | P183: =IF(I156="","",VLOOKUP(I156,H198:I202,2,0)) -> 0.4
H184: Surplus of 600 kcals or more | I184: 0.1 | L184: 5 | M184: =IF(C158="","",VLOOKUP(C158,H177:I181,2,0)) -> 0.2 | N184: =IF(E158="","",VLOOKUP(E158,H184:I188,2,0)) -> 0.3 | O184: =IF(G158="","",VLOOKUP(G158,H191:I195,2,0)) -> 0.2 | P184: =IF(I158="","",VLOOKUP(I158,H198:I202,2,0)) -> 0.4
H185: Surplus of 250/500 kcals | I185: 0.2 | L185: 6 | M185: =IF(C160="","",VLOOKUP(C160,H177:I181,2,0)) -> 0.2 | N185: =IF(E160="","",VLOOKUP(E160,H184:I188,2,0)) -> 0.3 | O185: =IF(G160="","",VLOOKUP(G160,H191:I195,2,0)) -> 0.2 | P185: =IF(I160="","",VLOOKUP(I160,H198:I202,2,0)) -> 0.4
H186: Maintenance Phase | I186: 0.3 | L186: 7 | M186: =IF(C162="","",VLOOKUP(C162,H177:I181,2,0)) -> 0.2 | N186: =IF(E162="","",VLOOKUP(E162,H184:I188,2,0)) -> 0.3 | O186: =IF(G162="","",VLOOKUP(G162,H191:I195,2,0)) -> 0.2 | P186: =IF(I162="","",VLOOKUP(I162,H198:I202,2,0)) -> 0.4
H187: Deficit of 250/500 kcals | I187: 0.4
H188: Deficit of 600 kcals or more | I188: 0.5
G190: Perceived Recovery | N190: =IFERROR(AVERAGE(K150:L163),"0,0 kg") -> 0,0 kg
...

Sheet Week 2
C3: ='Training Plan'!B41 -> 0 | E3: Week 2 Training Log
B9: Day 1
B13: 1 | C13: ='Training Plan'!C45 -> 0 | H13: 2 | I13: ='Training Plan'!C53 -> 0 | N13: 3 | O13: ='Training Plan'!C61 -> 0
B15: Sets x Reps @RPE / % | D15: ='Training Plan'!C46 -> 0 | H15: Sets x Reps @RPE / % | J15: ='Training Plan'!C54 -> 0 | N15: Sets x Reps @RPE / % | P15: ='Training Plan'!C62 -> 0
B20: Rest Periods | D20: ='Training Plan'!D51 -> 0 | H20: Rest Periods | J20: ='Training Plan'!D59 -> 0 | N20: Rest Periods | P20: ='Training Plan'!D67 -> 0
B22: Sets | C22: Reps | D22: Weight | E22: RPE | F22: Relative Intensity | H22: Sets | I22: Reps | J22: Weight | K22: RPE | L22: Relative Intensity | N22: Sets | O22: Reps | P22: Weight | Q22: RPE | R22: Relative Intensity
B23: 1 | F23: =IF(ISNUMBER(D23),D23/B35,) -> 0 | H23: 1 | L23: =IF(ISNUMBER(J23),J23/H35,) -> 0 | N23: 1 | R23: =IF(ISNUMBER(P23),P23/N35,) -> 0
B24: 2 | F24: =IF(ISNUMBER(D24),D24/B35,) -> 0 | H24: 2 | L24: =IF(ISNUMBER(J24),J24/H35,) -> 0 | N24: 2 | R24: =IF(ISNUMBER(P24),P24/N35,) -> 0
B25: 3 | F25: =IF(ISNUMBER(D25),D25/B35,) -> 0 | H25: 3 | L25: =IF(ISNUMBER(J25),J25/H35,) -> 0 | N25: 3 | R25: =IF(ISNUMBER(P25),P25/N35,) -> 0
B26: 4 | F26: =IF(ISNUMBER(D26),D26/B35,) -> 0 | H26: 4 | L26: =IF(ISNUMBER(J26),J26/H35,) -> 0 | N26: 4 | R26: =IF(ISNUMBER(P26),P26/N35,) -> 0
B27: 5 | F27: =IF(ISNUMBER(D27),D27/B35,) -> 0 | H27: 5 | L27: =IF(ISNUMBER(J27),J27/H35,) -> 0 | N27: 5 | R27: =IF(ISNUMBER(P27),P27/N35,) -> 0
B28: 6 | F28: =IF(ISNUMBER(D28),D28/B35,) -> 0 | H28: 6 | L28: =IF(ISNUMBER(J28),J28/H35,) -> 0 | N28: 6 | R28: =IF(ISNUMBER(P28),P28/N35,) -> 0
B29: 7 | F29: =IF(ISNUMBER(D29),D29/B35,) -> 0 | H29: 7 | L29: =IF(ISNUMBER(J29),J29/H35,) -> 0 | N29: 7 | R29: =IF(ISNUMBER(P29),P29/N35,) -> 0
B30: 8 | F30: =IF(ISNUMBER(D30),D30/B35,) -> 0 | H30: 8 | L30: =IF(ISNUMBER(J30),J30/H35,) -> 0 | N30: 8 | R30: =IF(ISNUMBER(P30),P30/N35,) -> 0
B31: 9 | F31: =IF(ISNUMBER(D31),D31/B35,) -> 0 | H31: 9 | L31: =IF(ISNUMBER(J31),J31/H35,) -> 0 | N31: 9 | R31: =IF(ISNUMBER(P31),P31/N35,) -> 0
B32: 10 | F32: =IF(ISNUMBER(D32),D32/B35,) -> 0 | H32: 10 | L32: =IF(ISNUMBER(J32),J32/H35,) -> 0 | N32: 10 | R32: =IF(ISNUMBER(P32),P32/N35,) -> 0
B33: e1RM | C33: Average Intensity | E33: =IFERROR(IF(COUNT(F23:F32)>0,AVERAGEIF(F23:F32,">0"),0),) -> 0 | H33: e1RM | I33: Average Intensity | K33: =IFERROR(IF(COUNT(L23:L32)>0,AVERAGEIF(L23:L32,">0"),0),) -> 0 | N33: e1RM | O33: Average Intensity | P33: =IFERROR(IF(COUNT(R23:R32)>0,AVERAGEIF(R23:R32,">0"),0),) -> 0 | Q33: sRPE | R33: =IFERROR(Q37*R37,"")
B35: =IFERROR(ROUNDUP(B37/(0.0005*C37^2-0.0342*C37+1.034),0),) -> 0 | C35: nReps | D35: =SUM(C23:C32) -> 0 | E35: Volume | F35: =SUM(C23*D23,C24*D24,C25*D25,C26*D26,C27*D27,C28*D28,C29*D29,C30*D30,C31*D31,C32*D32) -> 0 | H35: =IFERROR(ROUNDUP(H37/(0.0005*I37^2-0.0342*I37+1.034),0),) -> 0 | I35: nReps | J35: =SUM(I23:I32) -> 0 | K35: Volume | L35: =SUM(I23*J23,I24*J24,I25*J25,I26*J26,I27*J27,I28*J28,I29*J29,I30*J30,I31*J31,I32*J32) -> 0 | N35: =IFERROR(ROUNDUP(N37/(0.0005*O37^2-0.0342*O37+1.034),0),) -> 0 | O35: nReps | P35: =SUM(O23:O32) -> 0 | Q35: Volume | R35: =SUM(O23*P23,O24*P24,O25*P25,O26*P26,O27*P27,O28*P28,O29*P29,O30*P30,O31*P31,O32*P32) -> 0
B37: =OFFSET(D22,MATCH(MAX(D23:D32),D23:D32,0),0) -> #N/A | C37: =OFFSET(C22,MATCH(MAX(D23:D32),D23:D32,0),0)+(10-OFFSET(E22,MATCH(MAX(D23:D32),D23:D32,0),0)) -> #N/A | H37: =OFFSET(J22,MATCH(MAX(J23:J32),J23:J32,0),0) -> #N/A | I37: =OFFSET(I22,MATCH(MAX(J23:J32),J23:J32,0),0)+(10-OFFSET(K22,MATCH(MAX(J23:J32),J23:J32,0),0)) -> #N/A | N37: =OFFSET(P22,MATCH(MAX(P23:P32),P23:P32,0),0) -> #N/A | O37: =OFFSET(O22,MATCH(MAX(P23:P32),P23:P32,0),0)+(10-OFFSET(Q22,MATCH(MAX(P23:P32),P23:P32,0),0)) -> #N/A | Q37: =IFERROR(AVERAGE(AVERAGE(E23:E32),AVERAGE(K23:K32),AVERAGE(Q23:Q32)),"") | R37: =COUNTIF(C23:C32,">0")+COUNTIF(I23:I32,">0")+COUNTIF(O23:O32,">0") -> 0
B39: Day 2
B43: 1 | C43: ='Training Plan'!F45 -> 0 | H43: 2 | I43: ='Training Plan'!F53 -> 0 | N43: 3 | O43: ='Training Plan'!F61 -> 0
B45: Sets x Reps @RPE / % | D45: ='Training Plan'!F46 -> 0 | H45: Sets x Reps @RPE / % | J45: ='Training Plan'!F54 -> 0 | N45: Sets x Reps @RPE / % | P45: ='Training Plan'!F62 -> 0
B50: Rest Periods | D50: ='Training Plan'!G51 -> 0 | H50: Rest Periods | J50: ='Training Plan'!G59 -> 0 | N50: Rest Periods | P50: ='Training Plan'!G67 -> 0
B52: Sets | C52: Reps | D52: Weight | E52: RPE | F52: Relative Intensity | H52: Sets | I52: Reps | J52: Weight | K52: RPE | L52: Relative Intensity | N52: Sets | O52: Reps | P52: Weight | Q52: RPE | R52: Relative Intensity
B53: 1 | F53: =IF(ISNUMBER(D53),D53/B65,) -> 0 | H53: 1 | L53: =IF(ISNUMBER(J53),J53/H65,) -> 0 | N53: 1 | R53: =IF(ISNUMBER(P53),P53/N65,) -> 0
B54: 2 | F54: =IF(ISNUMBER(D54),D54/B65,) -> 0 | H54: 2 | L54: =IF(ISNUMBER(J54),J54/H65,) -> 0 | N54: 2 | R54: =IF(ISNUMBER(P54),P54/N65,) -> 0
B55: 3 | F55: =IF(ISNUMBER(D55),D55/B65,) -> 0 | H55: 3 | L55: =IF(ISNUMBER(J55),J55/H65,) -> 0 | N55: 3 | R55: =IF(ISNUMBER(P55),P55/N65,) -> 0
B56: 4 | F56: =IF(ISNUMBER(D56),D56/B65,) -> 0 | H56: 4 | L56: =IF(ISNUMBER(J56),J56/H65,) -> 0 | N56: 4 | R56: =IF(ISNUMBER(P56),P56/N65,) -> 0
B57: 5 | F57: =IF(ISNUMBER(D57),D57/B65,) -> 0 | H57: 5 | L57: =IF(ISNUMBER(J57),J57/H65,) -> 0 | N57: 5 | R57: =IF(ISNUMBER(P57),P57/N65,) -> 0
B58: 6 | F58: =IF(ISNUMBER(D58),D58/B65,) -> 0 | H58: 6 | L58: =IF(ISNUMBER(J58),J58/H65,) -> 0 | N58: 6 | R58: =IF(ISNUMBER(P58),P58/N65,) -> 0
B59: 7 | F59: =IF(ISNUMBER(D59),D59/B65,) -> 0 | H59: 7 | L59: =IF(ISNUMBER(J59),J59/H65,) -> 0 | N59: 7 | R59: =IF(ISNUMBER(P59),P59/N65,) -> 0
B60: 8 | F60: =IF(ISNUMBER(D60),D60/B65,) -> 0 | H60: 8 | L60: =IF(ISNUMBER(J60),J60/H65,) -> 0 | N60: 8 | R60: =IF(ISNUMBER(P60),P60/N65,) -> 0
B61: 9 | F61: =IF(ISNUMBER(D61),D61/B65,) -> 0 | H61: 9 | L61: =IF(ISNUMBER(J61),J61/H65,) -> 0 | N61: 9 | R61: =IF(ISNUMBER(P61),P61/N65,) -> 0
B62: 10 | F62: =IF(ISNUMBER(D62),D62/B65,) -> 0 | H62: 10 | L62: =IF(ISNUMBER(J62),J62/H65,) -> 0 | N62: 10 | R62: =IF(ISNUMBER(P62),P62/N65,) -> 0
B63: e1RM | C63: Average Intensity | E63: =IFERROR(IF(COUNT(F53:F62)>0,AVERAGEIF(F53:F62,">0"),0),) -> 0 | H63: e1RM | I63: Average Intensity | K63: =IFERROR(IF(COUNT(L53:L62)>0,AVERAGEIF(L53:L62,">0"),0),) -> 0 | N63: e1RM | O63: Average Intensity | P63: =IFERROR(IF(COUNT(R53:R62)>0,AVERAGEIF(R53:R62,">0"),0),) -> 0 | Q63: sRPE | R63: =IFERROR(Q67*R67,"")
B65: =IFERROR(ROUNDUP(B67/(0.0005*C67^2-0.0342*C67+1.034),0),) -> 0 | C65: nReps | D65: =SUM(C53:C62) -> 0 | E65: Volume | F65: =SUM(C53*D53,C54*D54,C55*D55,C56*D56,C57*D57,C58*D58,C59*D59,C60*D60,C61*D61,C62*D62) -> 0 | H65: =IFERROR(ROUNDUP(H67/(0.0005*I67^2-0.0342*I67+1.034),0),) -> 0 | I65: nReps | J65: =SUM(I53:I62) -> 0 | K65: Volume | L65: =SUM(I53*J53,I54*J54,I55*J55,I56*J56,I57*J57,I58*J58,I59*J59,I60*J60,I61*J61,I62*J62) -> 0 | N65: =IFERROR(ROUNDUP(N67/(0.0005*O67^2-0.0342*O67+1.034),0),) -> 0 | O65: nReps | P65: =SUM(O53:O62) -> 0 | Q65: Volume | R65: =SUM(O53*P53,O54*P54,O55*P55,O56*P56,O57*P57,O58*P58,O59*P59,O60*P60,O61*P61,O62*P62) -> 0
B67: =OFFSET(D52,MATCH(MAX(D53:D62),D53:D62,0),0) -> #N/A | C67: =OFFSET(C52,MATCH(MAX(D53:D62),D53:D62,0),0)+(10-OFFSET(E52,MATCH(MAX(D53:D62),D53:D62,0),0)) -> #N/A | H67: =OFFSET(J52,MATCH(MAX(J53:J62),J53:J62,0),0) -> #N/A | I67: =OFFSET(I52,MATCH(MAX(J53:J62),J53:J62,0),0)+(10-OFFSET(K52,MATCH(MAX(J53:J62),J53:J62,0),0)) -> #N/A | N67: =OFFSET(P52,MATCH(MAX(P53:P62),P53:P62,0),0) -> #N/A | O67: =OFFSET(O52,MATCH(MAX(P53:P62),P53:P62,0),0)+(10-OFFSET(Q52,MATCH(MAX(P53:P62),P53:P62,0),0)) -> #N/A | Q67: =IFERROR(AVERAGE(AVERAGE(E53:E62),AVERAGE(K53:K62),AVERAGE(Q53:Q62)),"") | R67: =COUNTIF(C53:C62,">0")+COUNTIF(I53:I62,">0")+COUNTIF(O53:O62,">0") -> 0
B69: General Physical Prepardness (GPP)
C73: ='Training Plan'!I44 -> 0 | F73: ='Training Plan'!I48 -> 0 | I73: ='Training Plan'!I52 -> 0 | L73: ='Training Plan'!I56 -> 0 | O73: ='Training Plan'!I60 -> 0
C75: ='Training Plan'!I45 -> 0 | F75: ='Training Plan'!I49 -> 0 | I75: ='Training Plan'!I53 -> 0 | L75: ='Training Plan'!I57 -> 0 | O75: ='Training Plan'!I61 -> 0
C78: Log | F78: Log | I78: Log | L78: Log | O78: Log
B84: Day 3
B88: 1 | C88: ='Training Plan'!L45 -> 0 | H88: 2 | I88: ='Training Plan'!L53 -> 0 | N88: 3 | O88: ='Training Plan'!L61 -> 0
B90: Sets x Reps @RPE / % | D90: ='Training Plan'!L46 -> 0 | H90: Sets x Reps @RPE / % | J90: ='Training Plan'!L54 -> 0 | N90: Sets x Reps @RPE / % | P90: ='Training Plan'!L62 -> 0
B95: Rest Periods | D95: ='Training Plan'!M51 -> 0 | H95: Rest Periods | J95: ='Training Plan'!M59 -> 0 | N95: Rest Periods | P95: ='Training Plan'!M67 -> 0
B97: Sets | C97: Reps | D97: Weight | E97: RPE | F97: Relative Intensity | H97: Sets | I97: Reps | J97: Weight | K97: RPE | L97: Relative Intensity | N97: Sets | O97: Reps | P97: Weight | Q97: RPE | R97: Relative Intensity
B98: 1 | F98: =IF(ISNUMBER(D98),D98/B110,) -> 0 | H98: 1 | L98: =IF(ISNUMBER(J98),J98/H110,) -> 0 | N98: 1 | R98: =IF(ISNUMBER(P98),P98/N110,) -> 0
B99: 2 | F99: =IF(ISNUMBER(D99),D99/B110,) -> 0 | H99: 2 | L99: =IF(ISNUMBER(J99),J99/H110,) -> 0 | N99: 2 | R99: =IF(ISNUMBER(P99),P99/N110,) -> 0
B100: 3 | F100: =IF(ISNUMBER(D100),D100/B110,) -> 0 | H100: 3 | L100: =IF(ISNUMBER(J100),J100/H110,) -> 0 | N100: 3 | R100: =IF(ISNUMBER(P100),P100/N110,) -> 0
B101: 4 | F101: =IF(ISNUMBER(D101),D101/B110,) -> 0 | H101: 4 | L101: =IF(ISNUMBER(J101),J101/H110,) -> 0 | N101: 4 | R101: =IF(ISNUMBER(P101),P101/N110,) -> 0
B102: 5 | F102: =IF(ISNUMBER(D102),D102/B110,) -> 0 | H102: 5 | L102: =IF(ISNUMBER(J102),J102/H110,) -> 0 | N102: 5 | R102: =IF(ISNUMBER(P102),P102/N110,) -> 0
B103: 6 | F103: =IF(ISNUMBER(D103),D103/B110,) -> 0 | H103: 6 | L103: =IF(ISNUMBER(J103),J103/H110,) -> 0 | N103: 6 | R103: =IF(ISNUMBER(P103),P103/N110,) -> 0
B104: 7 | F104: =IF(ISNUMBER(D104),D104/B110,) -> 0 | H104: 7 | L104: =IF(ISNUMBER(J104),J104/H110,) -> 0 | N104: 7 | R104: =IF(ISNUMBER(P104),P104/N110,) -> 0
B105: 8 | F105: =IF(ISNUMBER(D105),D105/B110,) -> 0 | H105: 8 | L105: =IF(ISNUMBER(J105),J105/H110,) -> 0 | N105: 8 | R105: =IF(ISNUMBER(P105),P105/N110,) -> 0
B106: 9 | F106: =IF(ISNUMBER(D106),D106/B110,) -> 0 | H106: 9 | L106: =IF(ISNUMBER(J106),J106/H110,) -> 0 | N106: 9 | R106: =IF(ISNUMBER(P106),P106/N110,) -> 0
B107: 10 | F107: =IF(ISNUMBER(D107),D107/B110,) -> 0 | H107: 10 | L107: =IF(ISNUMBER(J107),J107/H110,) -> 0 | N107: 10 | R107: =IF(ISNUMBER(P107),P107/N110,) -> 0
B108: e1RM | C108: Average Intensity | E108: =IFERROR(IF(COUNT(F98:F107)>0,AVERAGEIF(F98:F107,">0"),0),) -> 0 | H108: e1RM | I108: Average Intensity | K108: =IFERROR(IF(COUNT(L98:L107)>0,AVERAGEIF(L98:L107,">0"),0),) -> 0 | N108: e1RM | O108: Average Intensity | P108: =IFERROR(IF(COUNT(R98:R107)>0,AVERAGEIF(R98:R107,">0"),0),) -> 0 | Q108: sRPE | R108: =IFERROR(Q112*R112,"")
B110: =IFERROR(ROUNDUP(B112/(0.0005*C112^2-0.0342*C112+1.034),0),) -> 0 | C110: nReps | D110: =SUM(C98:C107) -> 0 | E110: Volume | F110: =SUM(C98*D98,C99*D99,C100*D100,C101*D101,C102*D102,C103*D103,C104*D104,C105*D105,C106*D106,C107*D107) -> 0 | H110: =IFERROR(ROUNDUP(H112/(0.0005*I112^2-0.0342*I112+1.034),0),) -> 0 | I110: nReps | J110: =SUM(I98:I107) -> 0 | K110: Volume | L110: =SUM(I98*J98,I99*J99,I100*J100,I101*J101,I102*J102,I103*J103,I104*J104,I105*J105,I106*J106,I107*J107) -> 0 | N110: =IFERROR(ROUNDUP(N112/(0.0005*O112^2-0.0342*O112+1.034),0),) -> 0 | O110: nReps | P110: =SUM(O98:O107) -> 0 | Q110: Volume | R110: =SUM(O98*P98,O99*P99,O100*P100,O101*P101,O102*P102,O103*P103,O104*P104,O105*P105,O106*P106,O107*P107) -> 0
B112: =OFFSET(D97,MATCH(MAX(D98:D107),D98:D107,0),0) -> #N/A | C112: =OFFSET(C97,MATCH(MAX(D98:D107),D98:D107,0),0)+(10-OFFSET(E97,MATCH(MAX(D98:D107),D98:D107,0),0)) -> #N/A | H112: =OFFSET(J97,MATCH(MAX(J98:J107),J98:J107,0),0) -> #N/A | I112: =OFFSET(I97,MATCH(MAX(J98:J107),J98:J107,0),0)+(10-OFFSET(K97,MATCH(MAX(J98:J107),J98:J107,0),0)) -> #N/A | N112: =OFFSET(P97,MATCH(MAX(P98:P107),P98:P107,0),0) -> #N/A | O112: =OFFSET(O97,MATCH(MAX(P98:P107),P98:P107,0),0)+(10-OFFSET(Q97,MATCH(MAX(P98:P107),P98:P107,0),0)) -> #N/A | Q112: =IFERROR(AVERAGE(AVERAGE(E98:E107),AVERAGE(K98:K107),AVERAGE(Q98:Q107)),"") | R112: =COUNTIF(C98:C107,">0")+COUNTIF(I98:I107,">0")+COUNTIF(O98:O107,">0") -> 0
B114: Day 4
B118: 1 | C118: ='Training Plan'!O45 -> 0 | H118: 2 | I118: ='Training Plan'!O53 -> 0 | N118: 3 | O118: ='Training Plan'!O61 -> 0
B120: Sets x Reps @RPE / % | D120: ='Training Plan'!O46 -> 0 | H120: Sets x Reps @RPE / % | J120: ='Training Plan'!O54 -> 0 | N120: Sets x Reps @RPE / % | P120: ='Training Plan'!O62 -> 0
B125: Rest Periods | D125: ='Training Plan'!P51 -> 0 | H125: Rest Periods | J125: ='Training Plan'!P59 -> 0 | N125: Rest Periods | P125: ='Training Plan'!P67 -> 0
B127: Sets | C127: Reps | D127: Weight | E127: RPE | F127: Relative Intensity | H127: Sets | I127: Reps | J127: Weight | K127: RPE | L127: Relative Intensity | N127: Sets | O127: Reps | P127: Weight | Q127: RPE | R127: Relative Intensity
B128: 1 | F128: =IF(ISNUMBER(D128),D128/B140,) -> 0 | H128: 1 | L128: =IF(ISNUMBER(J128),J128/H140,) -> 0 | N128: 1 | R128: =IF(ISNUMBER(P128),P128/N140,) -> 0
B129: 2 | F129: =IF(ISNUMBER(D129),D129/B140,) -> 0 | H129: 2 | L129: =IF(ISNUMBER(J129),J129/H140,) -> 0 | N129: 2 | R129: =IF(ISNUMBER(P129),P129/N140,) -> 0
B130: 3 | F130: =IF(ISNUMBER(D130),D130/B140,) -> 0 | H130: 3 | L130: =IF(ISNUMBER(J130),J130/H140,) -> 0 | N130: 3 | R130: =IF(ISNUMBER(P130),P130/N140,) -> 0
B131: 4 | F131: =IF(ISNUMBER(D131),D131/B140,) -> 0 | H131: 4 | L131: =IF(ISNUMBER(J131),J131/H140,) -> 0 | N131: 4 | R131: =IF(ISNUMBER(P131),P131/N140,) -> 0
B132: 5 | F132: =IF(ISNUMBER(D132),D132/B140,) -> 0 | H132: 5 | L132: =IF(ISNUMBER(J132),J132/H140,) -> 0 | N132: 5 | R132: =IF(ISNUMBER(P132),P132/N140,) -> 0
B133: 6 | F133: =IF(ISNUMBER(D133),D133/B140,) -> 0 | H133: 6 | L133: =IF(ISNUMBER(J133),J133/H140,) -> 0 | N133: 6 | R133: =IF(ISNUMBER(P133),P133/N140,) -> 0
B134: 7 | F134: =IF(ISNUMBER(D134),D134/B140,) -> 0 | H134: 7 | L134: =IF(ISNUMBER(J134),J134/H140,) -> 0 | N134: 7 | R134: =IF(ISNUMBER(P134),P134/N140,) -> 0
B135: 8 | F135: =IF(ISNUMBER(D135),D135/B140,) -> 0 | H135: 8 | L135: =IF(ISNUMBER(J135),J135/H140,) -> 0 | N135: 8 | R135: =IF(ISNUMBER(P135),P135/N140,) -> 0
B136: 9 | F136: =IF(ISNUMBER(D136),D136/B140,) -> 0 | H136: 9 | L136: =IF(ISNUMBER(J136),J136/H140,) -> 0 | N136: 9 | R136: =IF(ISNUMBER(P136),P136/N140,) -> 0
B137: 10 | F137: =IF(ISNUMBER(D137),D137/B140,) -> 0 | H137: 10 | L137: =IF(ISNUMBER(J137),J137/H140,) -> 0 | N137: 10 | R137: =IF(ISNUMBER(P137),P137/N140,) -> 0
B138: e1RM | C138: Average Intensity | E138: =IFERROR(IF(COUNT(F128:F137)>0,AVERAGEIF(F128:F137,">0"),0),) -> 0 | H138: e1RM | I138: Average Intensity | K138: =IFERROR(IF(COUNT(L128:L137)>0,AVERAGEIF(L128:L137,">0"),0),) -> 0 | N138: e1RM | O138: Average Intensity | P138: =IFERROR(IF(COUNT(R128:R137)>0,AVERAGEIF(R128:R137,">0"),0),) -> 0 | Q138: sRPE | R138: =IFERROR(Q142*R142,"")
B140: =IFERROR(ROUNDUP(B142/(0.0005*C142^2-0.0342*C142+1.034),0),) -> 0 | C140: nReps | D140: =SUM(C128:C137) -> 0 | E140: Volume | F140: =SUM(C128*D128,C129*D129,C130*D130,C131*D131,C132*D132,C133*D133,C134*D134,C135*D135,C136*D136,C137*D137) -> 0 | H140: =IFERROR(ROUNDUP(H142/(0.0005*I142^2-0.0342*I142+1.034),0),) -> 0 | I140: nReps | J140: =SUM(I128:I137) -> 0 | K140: Volume | L140: =SUM(I128*J128,I129*J129,I130*J130,I131*J131,I132*J132,I133*J133,I134*J134,I135*J135,I136*J136,I137*J137) -> 0 | N140: =IFERROR(ROUNDUP(N142/(0.0005*O142^2-0.0342*O142+1.034),0),) -> 0 | O140: nReps | P140: =SUM(O128:O137) -> 0 | Q140: Volume | R140: =SUM(O128*P128,O129*P129,O130*P130,O131*P131,O132*P132,O133*P133,O134*P134,O135*P135,O136*P136,O137*P137) -> 0
B142: =OFFSET(D127,MATCH(MAX(D128:D137),D128:D137,0),0) -> #N/A | C142: =OFFSET(C127,MATCH(MAX(D128:D137),D128:D137,0),0)+(10-OFFSET(E127,MATCH(MAX(D128:D137),D128:D137,0),0)) -> #N/A | H142: =OFFSET(J127,MATCH(MAX(J128:J137),J128:J137,0),0) -> #N/A | I142: =OFFSET(I127,MATCH(MAX(J128:J137),J128:J137,0),0)+(10-OFFSET(K127,MATCH(MAX(J128:J137),J128:J137,0),0)) -> #N/A | N142: =OFFSET(P127,MATCH(MAX(P128:P137),P128:P137,0),0) -> #N/A | O142: =OFFSET(O127,MATCH(MAX(P128:P137),P128:P137,0),0)+(10-OFFSET(Q127,MATCH(MAX(P128:P137),P128:P137,0),0)) -> #N/A | Q142: =IFERROR(AVERAGE(AVERAGE(E128:E137),AVERAGE(K128:K137),AVERAGE(Q128:Q137)),"") | R142: =COUNTIF(C128:C137,">0")+COUNTIF(I128:I137,">0")+COUNTIF(O128:O137,">0") -> 0
B144: Fatigue Assessement & Comments and Observations
C148: Sleep Quality | E148: Calorie Intake | G148: Perceived Recovery | I148: Perceived Stress | K148: Bodyweight (kg) | M148: Comments and Observations
B150: Day 1 | C150: Moderate (5h ; little disruptions) | E150: Maintenance Phase | G150: Well Recovered (little fatigued) | I150: Some Stress in the Day
B152: Day 2 | C152: Very Well (8h+ ; no disruptions) | E152: Maintenance Phase | G152: Well Recovered (little fatigued) | I152: Some Stress in the Day
B154: Day 3 | C154: Very Well (8h+ ; no disruptions) | E154: Maintenance Phase | G154: Well Recovered (little fatigued) | I154: Some Stress in the Day
B156: Day 4 | C156: Very Well (8h+ ; no disruptions) | E156: Maintenance Phase | G156: Well Recovered (little fatigued) | I156: Some Stress in the Day
B158: Day 5 | C158: Very Well (8h+ ; no disruptions) | E158: Maintenance Phase | G158: Well Recovered (little fatigued) | I158: Some Stress in the Day
B160: Day 6 | C160: Very Well (8h+ ; no disruptions) | E160: Maintenance Phase | G160: Well Recovered (little fatigued) | I160: Some Stress in the Day
B162: Day 7 | C162: Very Well (8h+ ; no disruptions) | E162: Maintenance Phase | G162: Well Recovered (little fatigued) | I162: Some Stress in the Day
G176: Sleep Quality
H177: Very Well (8h+ ; no disruptions) | I177: 0.2
H178: Well (6/7h ; weak disruptions) | I178: 0.4
H179: Moderate (5h ; little disruptions) | I179: 0.6 | M179: sleep | N179: calorie | O179: recovery | P179: stress
H180: Poor (4h ; some disruptions) | I180: 0.8 | L180: 1 | M180: =IF(C150="","",VLOOKUP(C150,H177:I181,2,0)) -> 0.6 | N180: =IF(E150="","",VLOOKUP(E150,H184:I188,2,0)) -> 0.3 | O180: =IF(G150="","",VLOOKUP(G150,H191:I195,2,0)) -> 0.2 | P180: =IF(I150="","",VLOOKUP(I150,H198:I202,2,0)) -> 0.4
H181: Very Poor (-3h ; lot of disruptions) | I181: 1 | L181: 2 | M181: =IF(C152="","",VLOOKUP(C152,H177:I181,2,0)) -> 0.2 | N181: =IF(E152="","",VLOOKUP(E152,H184:I188,2,0)) -> 0.3 | O181: =IF(G152="","",VLOOKUP(G152,H191:I195,2,0)) -> 0.2 | P181: =IF(I152="","",VLOOKUP(I152,H198:I202,2,0)) -> 0.4
L182: 3 | M182: =IF(C154="","",VLOOKUP(C154,H177:I181,2,0)) -> 0.2 | N182: =IF(E154="","",VLOOKUP(E154,H184:I188,2,0)) -> 0.3 | O182: =IF(G154="","",VLOOKUP(G154,H191:I195,2,0)) -> 0.2 | P182: =IF(I154="","",VLOOKUP(I154,H198:I202,2,0)) -> 0.4
G183: Calorie Intake | L183: 4 | M183: =IF(C156="","",VLOOKUP(C156,H177:I181,2,0)) -> 0.2 | N183: =IF(E156="","",VLOOKUP(E156,H184:I188,2,0)) -> 0.3 | O183: =IF(G156="","",VLOOKUP(G156,H191:I195,2,0)) -> 0.2 | P183: =IF(I156="","",VLOOKUP(I156,H198:I202,2,0)) -> 0.4
H184: Surplus of 600 kcals or more | I184: 0.1 | L184: 5 | M184: =IF(C158="","",VLOOKUP(C158,H177:I181,2,0)) -> 0.2 | N184: =IF(E158="","",VLOOKUP(E158,H184:I188,2,0)) -> 0.3 | O184: =IF(G158="","",VLOOKUP(G158,H191:I195,2,0)) -> 0.2 | P184: =IF(I158="","",VLOOKUP(I158,H198:I202,2,0)) -> 0.4
H185: Surplus of 250/500 kcals | I185: 0.2 | L185: 6 | M185: =IF(C160="","",VLOOKUP(C160,H177:I181,2,0)) -> 0.2 | N185: =IF(E160="","",VLOOKUP(E160,H184:I188,2,0)) -> 0.3 | O185: =IF(G160="","",VLOOKUP(G160,H191:I195,2,0)) -> 0.2 | P185: =IF(I160="","",VLOOKUP(I160,H198:I202,2,0)) -> 0.4
H186: Maintenance Phase | I186: 0.3 | L186: 7 | M186: =IF(C162="","",VLOOKUP(C162,H177:I181,2,0)) -> 0.2 | N186: =IF(E162="","",VLOOKUP(E162,H184:I188,2,0)) -> 0.3 | O186: =IF(G162="","",VLOOKUP(G162,H191:I195,2,0)) -> 0.2 | P186: =IF(I162="","",VLOOKUP(I162,H198:I202,2,0)) -> 0.4
H187: Deficit of 250/500 kcals | I187: 0.4
H188: Deficit of 600 kcals or more | I188: 0.5
G190: Perceived Recovery | N190: =IFERROR(AVERAGE(K150:L163),"0,0 kg") -> 0,0 kg
...

Sheet Week 3
C3: ='Training Plan'!B70 -> 0 | E3: Week 3 Training Log
B9: Day 1
B13: 1 | C13: ='Training Plan'!C74 -> 0 | H13: 2 | I13: ='Training Plan'!C82 -> 0 | N13: 3 | O13: ='Training Plan'!C90 -> 0
B15: Sets x Reps @RPE / % | D15: ='Training Plan'!C75 -> 0 | H15: Sets x Reps @RPE / % | J15: ='Training Plan'!C83 -> 0 | N15: Sets x Reps @RPE / % | P15: ='Training Plan'!C91 -> 0
B20: Rest Periods | D20: ='Training Plan'!D80 -> 0 | H20: Rest Periods | J20: ='Training Plan'!D88 -> 0 | N20: Rest Periods | P20: ='Training Plan'!D96 -> 0
B22: Sets | C22: Reps | D22: Weight | E22: RPE | F22: Relative Intensity | H22: Sets | I22: Reps | J22: Weight | K22: RPE | L22: Relative Intensity | N22: Sets | O22: Reps | P22: Weight | Q22: RPE | R22: Relative Intensity
B23: 1 | F23: =IF(ISNUMBER(D23),D23/B35,) -> 0 | H23: 1 | L23: =IF(ISNUMBER(J23),J23/H35,) -> 0 | N23: 1 | R23: =IF(ISNUMBER(P23),P23/N35,) -> 0
B24: 2 | F24: =IF(ISNUMBER(D24),D24/B35,) -> 0 | H24: 2 | L24: =IF(ISNUMBER(J24),J24/H35,) -> 0 | N24: 2 | R24: =IF(ISNUMBER(P24),P24/N35,) -> 0
B25: 3 | F25: =IF(ISNUMBER(D25),D25/B35,) -> 0 | H25: 3 | L25: =IF(ISNUMBER(J25),J25/H35,) -> 0 | N25: 3 | R25: =IF(ISNUMBER(P25),P25/N35,) -> 0
B26: 4 | F26: =IF(ISNUMBER(D26),D26/B35,) -> 0 | H26: 4 | L26: =IF(ISNUMBER(J26),J26/H35,) -> 0 | N26: 4 | R26: =IF(ISNUMBER(P26),P26/N35,) -> 0
B27: 5 | F27: =IF(ISNUMBER(D27),D27/B35,) -> 0 | H27: 5 | L27: =IF(ISNUMBER(J27),J27/H35,) -> 0 | N27: 5 | R27: =IF(ISNUMBER(P27),P27/N35,) -> 0
B28: 6 | F28: =IF(ISNUMBER(D28),D28/B35,) -> 0 | H28: 6 | L28: =IF(ISNUMBER(J28),J28/H35,) -> 0 | N28: 6 | R28: =IF(ISNUMBER(P28),P28/N35,) -> 0
B29: 7 | F29: =IF(ISNUMBER(D29),D29/B35,) -> 0 | H29: 7 | L29: =IF(ISNUMBER(J29),J29/H35,) -> 0 | N29: 7 | R29: =IF(ISNUMBER(P29),P29/N35,) -> 0
B30: 8 | F30: =IF(ISNUMBER(D30),D30/B35,) -> 0 | H30: 8 | L30: =IF(ISNUMBER(J30),J30/H35,) -> 0 | N30: 8 | R30: =IF(ISNUMBER(P30),P30/N35,) -> 0
B31: 9 | F31: =IF(ISNUMBER(D31),D31/B35,) -> 0 | H31: 9 | L31: =IF(ISNUMBER(J31),J31/H35,) -> 0 | N31: 9 | R31: =IF(ISNUMBER(P31),P31/N35,) -> 0
B32: 10 | F32: =IF(ISNUMBER(D32),D32/B35,) -> 0 | H32: 10 | L32: =IF(ISNUMBER(J32),J32/H35,) -> 0 | N32: 10 | R32: =IF(ISNUMBER(P32),P32/N35,) -> 0
B33: e1RM | C33: Average Intensity | E33: =IFERROR(IF(COUNT(F23:F32)>0,AVERAGEIF(F23:F32,">0"),0),) -> 0 | H33: e1RM | I33: Average Intensity | K33: =IFERROR(IF(COUNT(L23:L32)>0,AVERAGEIF(L23:L32,">0"),0),) -> 0 | N33: e1RM | O33: Average Intensity | P33: =IFERROR(IF(COUNT(R23:R32)>0,AVERAGEIF(R23:R32,">0"),0),) -> 0 | Q33: sRPE | R33: =IFERROR(Q37*R37,"")
B35: =IFERROR(ROUNDUP(B37/(0.0005*C37^2-0.0342*C37+1.034),0),) -> 0 | C35: nReps | D35: =SUM(C23:C32) -> 0 | E35: Volume | F35: =SUM(C23*D23,C24*D24,C25*D25,C26*D26,C27*D27,C28*D28,C29*D29,C30*D30,C31*D31,C32*D32) -> 0 | H35: =IFERROR(ROUNDUP(H37/(0.0005*I37^2-0.0342*I37+1.034),0),) -> 0 | I35: nReps | J35: =SUM(I23:I32) -> 0 | K35: Volume | L35: =SUM(I23*J23,I24*J24,I25*J25,I26*J26,I27*J27,I28*J28,I29*J29,I30*J30,I31*J31,I32*J32) -> 0 | N35: =IFERROR(ROUNDUP(N37/(0.0005*O37^2-0.0342*O37+1.034),0),) -> 0 | O35: nReps | P35: =SUM(O23:O32) -> 0 | Q35: Volume | R35: =SUM(O23*P23,O24*P24,O25*P25,O26*P26,O27*P27,O28*P28,O29*P29,O30*P30,O31*P31,O32*P32) -> 0
B37: =OFFSET(D22,MATCH(MAX(D23:D32),D23:D32,0),0) -> #N/A | C37: =OFFSET(C22,MATCH(MAX(D23:D32),D23:D32,0),0)+(10-OFFSET(E22,MATCH(MAX(D23:D32),D23:D32,0),0)) -> #N/A | H37: =OFFSET(J22,MATCH(MAX(J23:J32),J23:J32,0),0) -> #N/A | I37: =OFFSET(I22,MATCH(MAX(J23:J32),J23:J32,0),0)+(10-OFFSET(K22,MATCH(MAX(J23:J32),J23:J32,0),0)) -> #N/A | N37: =OFFSET(P22,MATCH(MAX(P23:P32),P23:P32,0),0) -> #N/A | O37: =OFFSET(O22,MATCH(MAX(P23:P32),P23:P32,0),0)+(10-OFFSET(Q22,MATCH(MAX(P23:P32),P23:P32,0),0)) -> #N/A | Q37: =IFERROR(AVERAGE(AVERAGE(E23:E32),AVERAGE(K23:K32),AVERAGE(Q23:Q32)),"") | R37: =COUNTIF(C23:C32,">0")+COUNTIF(I23:I32,">0")+COUNTIF(O23:O32,">0") -> 0
B39: Day 2
B43: 1 | C43: ='Training Plan'!F74 -> 0 | H43: 2 | I43: ='Training Plan'!F82 -> 0 | N43: 3 | O43: ='Training Plan'!F90 -> 0
B45: Sets x Reps @RPE / % | D45: ='Training Plan'!F75 -> 0 | H45: Sets x Reps @RPE / % | J45: ='Training Plan'!F83 -> 0 | N45: Sets x Reps @RPE / % | P45: ='Training Plan'!F91 -> 0
B50: Rest Periods | D50: ='Training Plan'!G80 -> 0 | H50: Rest Periods | J50: ='Training Plan'!G88 -> 0 | N50: Rest Periods | P50: ='Training Plan'!G96 -> 0
B52: Sets | C52: Reps | D52: Weight | E52: RPE | F52: Relative Intensity | H52: Sets | I52: Reps | J52: Weight | K52: RPE | L52: Relative Intensity | N52: Sets | O52: Reps | P52: Weight | Q52: RPE | R52: Relative Intensity
B53: 1 | F53: =IF(ISNUMBER(D53),D53/B65,) -> 0 | H53: 1 | L53: =IF(ISNUMBER(J53),J53/H65,) -> 0 | N53: 1 | R53: =IF(ISNUMBER(P53),P53/N65,) -> 0
B54: 2 | F54: =IF(ISNUMBER(D54),D54/B65,) -> 0 | H54: 2 | L54: =IF(ISNUMBER(J54),J54/H65,) -> 0 | N54: 2 | R54: =IF(ISNUMBER(P54),P54/N65,) -> 0
B55: 3 | F55: =IF(ISNUMBER(D55),D55/B65,) -> 0 | H55: 3 | L55: =IF(ISNUMBER(J55),J55/H65,) -> 0 | N55: 3 | R55: =IF(ISNUMBER(P55),P55/N65,) -> 0
B56: 4 | F56: =IF(ISNUMBER(D56),D56/B65,) -> 0 | H56: 4 | L56: =IF(ISNUMBER(J56),J56/H65,) -> 0 | N56: 4 | R56: =IF(ISNUMBER(P56),P56/N65,) -> 0
B57: 5 | F57: =IF(ISNUMBER(D57),D57/B65,) -> 0 | H57: 5 | L57: =IF(ISNUMBER(J57),J57/H65,) -> 0 | N57: 5 | R57: =IF(ISNUMBER(P57),P57/N65,) -> 0
B58: 6 | F58: =IF(ISNUMBER(D58),D58/B65,) -> 0 | H58: 6 | L58: =IF(ISNUMBER(J58),J58/H65,) -> 0 | N58: 6 | R58: =IF(ISNUMBER(P58),P58/N65,) -> 0
B59: 7 | F59: =IF(ISNUMBER(D59),D59/B65,) -> 0 | H59: 7 | L59: =IF(ISNUMBER(J59),J59/H65,) -> 0 | N59: 7 | R59: =IF(ISNUMBER(P59),P59/N65,) -> 0
B60: 8 | F60: =IF(ISNUMBER(D60),D60/B65,) -> 0 | H60: 8 | L60: =IF(ISNUMBER(J60),J60/H65,) -> 0 | N60: 8 | R60: =IF(ISNUMBER(P60),P60/N65,) -> 0
B61: 9 | F61: =IF(ISNUMBER(D61),D61/B65,) -> 0 | H61: 9 | L61: =IF(ISNUMBER(J61),J61/H65,) -> 0 | N61: 9 | R61: =IF(ISNUMBER(P61),P61/N65,) -> 0
B62: 10 | F62: =IF(ISNUMBER(D62),D62/B65,) -> 0 | H62: 10 | L62: =IF(ISNUMBER(J62),J62/H65,) -> 0 | N62: 10 | R62: =IF(ISNUMBER(P62),P62/N65,) -> 0
B63: e1RM | C63: Average Intensity | E63: =IFERROR(IF(COUNT(F53:F62)>0,AVERAGEIF(F53:F62,">0"),0),) -> 0 | H63: e1RM | I63: Average Intensity | K63: =IFERROR(IF(COUNT(L53:L62)>0,AVERAGEIF(L53:L62,">0"),0),) -> 0 | N63: e1RM | O63: Average Intensity | P63: =IFERROR(IF(COUNT(R53:R62)>0,AVERAGEIF(R53:R62,">0"),0),) -> 0 | Q63: sRPE | R63: =IFERROR(Q67*R67,"")
B65: =IFERROR(ROUNDUP(B67/(0.0005*C67^2-0.0342*C67+1.034),0),) -> 0 | C65: nReps | D65: =SUM(C53:C62) -> 0 | E65: Volume | F65: =SUM(C53*D53,C54*D54,C55*D55,C56*D56,C57*D57,C58*D58,C59*D59,C60*D60,C61*D61,C62*D62) -> 0 | H65: =IFERROR(ROUNDUP(H67/(0.0005*I67^2-0.0342*I67+1.034),0),) -> 0 | I65: nReps | J65: =SUM(I53:I62) -> 0 | K65: Volume | L65: =SUM(I53*J53,I54*J54,I55*J55,I56*J56,I57*J57,I58*J58,I59*J59,I60*J60,I61*J61,I62*J62) -> 0 | N65: =IFERROR(ROUNDUP(N67/(0.0005*O67^2-0.0342*O67+1.034),0),) -> 0 | O65: nReps | P65: =SUM(O53:O62) -> 0 | Q65: Volume | R65: =SUM(O53*P53,O54*P54,O55*P55,O56*P56,O57*P57,O58*P58,O59*P59,O60*P60,O61*P61,O62*P62) -> 0
B67: =OFFSET(D52,MATCH(MAX(D53:D62),D53:D62,0),0) -> #N/A | C67: =OFFSET(C52,MATCH(MAX(D53:D62),D53:D62,0),0)+(10-OFFSET(E52,MATCH(MAX(D53:D62),D53:D62,0),0)) -> #N/A | H67: =OFFSET(J52,MATCH(MAX(J53:J62),J53:J62,0),0) -> #N/A | I67: =OFFSET(I52,MATCH(MAX(J53:J62),J53:J62,0),0)+(10-OFFSET(K52,MATCH(MAX(J53:J62),J53:J62,0),0)) -> #N/A | N67: =OFFSET(P52,MATCH(MAX(P53:P62),P53:P62,0),0) -> #N/A | O67: =OFFSET(O52,MATCH(MAX(P53:P62),P53:P62,0),0)+(10-OFFSET(Q52,MATCH(MAX(P53:P62),P53:P62,0),0)) -> #N/A | Q67: =IFERROR(AVERAGE(AVERAGE(E53:E62),AVERAGE(K53:K62),AVERAGE(Q53:Q62)),"") | R67: =COUNTIF(C53:C62,">0")+COUNTIF(I53:I62,">0")+COUNTIF(O53:O62,">0") -> 0
B69: General Physical Prepardness (GPP)
C73: ='Training Plan'!I73 -> 0 | F73: ='Training Plan'!I77 -> 0 | I73: ='Training Plan'!I81 -> 0 | L73: ='Training Plan'!I85 -> 0 | O73: ='Training Plan'!I89 -> 0
C75: ='Training Plan'!I74 -> 0 | F75: ='Training Plan'!I78 -> 0 | I75: ='Training Plan'!I82 -> 0 | L75: ='Training Plan'!I86 -> 0 | O75: ='Training Plan'!I90 -> 0
C78: Log | F78: Log | I78: Log | L78: Log | O78: Log
B84: Day 3
B88: 1 | C88: ='Training Plan'!L74 -> 0 | H88: 2 | I88: ='Training Plan'!L82 -> 0 | N88: 3 | O88: ='Training Plan'!L90 -> 0
B90: Sets x Reps @RPE / % | D90: ='Training Plan'!L75 -> 0 | H90: Sets x Reps @RPE / % | J90: ='Training Plan'!L83 -> 0 | N90: Sets x Reps @RPE / % | P90: ='Training Plan'!L91 -> 0
B95: Rest Periods | D95: ='Training Plan'!M80 -> 0 | H95: Rest Periods | J95: ='Training Plan'!M88 -> 0 | N95: Rest Periods | P95: ='Training Plan'!M96 -> 0
B97: Sets | C97: Reps | D97: Weight | E97: RPE | F97: Relative Intensity | H97: Sets | I97: Reps | J97: Weight | K97: RPE | L97: Relative Intensity | N97: Sets | O97: Reps | P97: Weight | Q97: RPE | R97: Relative Intensity
B98: 1 | F98: =IF(ISNUMBER(D98),D98/B110,) -> 0 | H98: 1 | L98: =IF(ISNUMBER(J98),J98/H110,) -> 0 | N98: 1 | R98: =IF(ISNUMBER(P98),P98/N110,) -> 0
B99: 2 | F99: =IF(ISNUMBER(D99),D99/B110,) -> 0 | H99: 2 | L99: =IF(ISNUMBER(J99),J99/H110,) -> 0 | N99: 2 | R99: =IF(ISNUMBER(P99),P99/N110,) -> 0
B100: 3 | F100: =IF(ISNUMBER(D100),D100/B110,) -> 0 | H100: 3 | L100: =IF(ISNUMBER(J100),J100/H110,) -> 0 | N100: 3 | R100: =IF(ISNUMBER(P100),P100/N110,) -> 0
B101: 4 | F101: =IF(ISNUMBER(D101),D101/B110,) -> 0 | H101: 4 | L101: =IF(ISNUMBER(J101),J101/H110,) -> 0 | N101: 4 | R101: =IF(ISNUMBER(P101),P101/N110,) -> 0
B102: 5 | F102: =IF(ISNUMBER(D102),D102/B110,) -> 0 | H102: 5 | L102: =IF(ISNUMBER(J102),J102/H110,) -> 0 | N102: 5 | R102: =IF(ISNUMBER(P102),P102/N110,) -> 0
B103: 6 | F103: =IF(ISNUMBER(D103),D103/B110,) -> 0 | H103: 6 | L103: =IF(ISNUMBER(J103),J103/H110,) -> 0 | N103: 6 | R103: =IF(ISNUMBER(P103),P103/N110,) -> 0
B104: 7 | F104: =IF(ISNUMBER(D104),D104/B110,) -> 0 | H104: 7 | L104: =IF(ISNUMBER(J104),J104/H110,) -> 0 | N104: 7 | R104: =IF(ISNUMBER(P104),P104/N110,) -> 0
B105: 8 | F105: =IF(ISNUMBER(D105),D105/B110,) -> 0 | H105: 8 | L105: =IF(ISNUMBER(J105),J105/H110,) -> 0 | N105: 8 | R105: =IF(ISNUMBER(P105),P105/N110,) -> 0
B106: 9 | F106: =IF(ISNUMBER(D106),D106/B110,) -> 0 | H106: 9 | L106: =IF(ISNUMBER(J106),J106/H110,) -> 0 | N106: 9 | R106: =IF(ISNUMBER(P106),P106/N110,) -> 0
B107: 10 | F107: =IF(ISNUMBER(D107),D107/B110,) -> 0 | H107: 10 | L107: =IF(ISNUMBER(J107),J107/H110,) -> 0 | N107: 10 | R107: =IF(ISNUMBER(P107),P107/N110,) -> 0
B108: e1RM | C108: Average Intensity | E108: =IFERROR(IF(COUNT(F98:F107)>0,AVERAGEIF(F98:F107,">0"),0),) -> 0 | H108: e1RM | I108: Average Intensity | K108: =IFERROR(IF(COUNT(L98:L107)>0,AVERAGEIF(L98:L107,">0"),0),) -> 0 | N108: e1RM | O108: Average Intensity | P108: =IFERROR(IF(COUNT(R98:R107)>0,AVERAGEIF(R98:R107,">0"),0),) -> 0 | Q108: sRPE | R108: =IFERROR(Q112*R112,"")
B110: =IFERROR(ROUNDUP(B112/(0.0005*C112^2-0.0342*C112+1.034),0),) -> 0 | C110: nReps | D110: =SUM(C98:C107) -> 0 | E110: Volume | F110: =SUM(C98*D98,C99*D99,C100*D100,C101*D101,C102*D102,C103*D103,C104*D104,C105*D105,C106*D106,C107*D107) -> 0 | H110: =IFERROR(ROUNDUP(H112/(0.0005*I112^2-0.0342*I112+1.034),0),) -> 0 | I110: nReps | J110: =SUM(I98:I107) -> 0 | K110: Volume | L110: =SUM(I98*J98,I99*J99,I100*J100,I101*J101,I102*J102,I103*J103,I104*J104,I105*J105,I106*J106,I107*J107) -> 0 | N110: =IFERROR(ROUNDUP(N112/(0.0005*O112^2-0.0342*O112+1.034),0),) -> 0 | O110: nReps | P110: =SUM(O98:O107) -> 0 | Q110: Volume | R110: =SUM(O98*P98,O99*P99,O100*P100,O101*P101,O102*P102,O103*P103,O104*P104,O105*P105,O106*P106,O107*P107) -> 0
B112: =OFFSET(D97,MATCH(MAX(D98:D107),D98:D107,0),0) -> #N/A | C112: =OFFSET(C97,MATCH(MAX(D98:D107),D98:D107,0),0)+(10-OFFSET(E97,MATCH(MAX(D98:D107),D98:D107,0),0)) -> #N/A | H112: =OFFSET(J97,MATCH(MAX(J98:J107),J98:J107,0),0) -> #N/A | I112: =OFFSET(I97,MATCH(MAX(J98:J107),J98:J107,0),0)+(10-OFFSET(K97,MATCH(MAX(J98:J107),J98:J107,0),0)) -> #N/A | N112: =OFFSET(P97,MATCH(MAX(P98:P107),P98:P107,0),0) -> #N/A | O112: =OFFSET(O97,MATCH(MAX(P98:P107),P98:P107,0),0)+(10-OFFSET(Q97,MATCH(MAX(P98:P107),P98:P107,0),0)) -> #N/A | Q112: =IFERROR(AVERAGE(AVERAGE(E98:E107),AVERAGE(K98:K107),AVERAGE(Q98:Q107)),"") | R112: =COUNTIF(C98:C107,">0")+COUNTIF(I98:I107,">0")+COUNTIF(O98:O107,">0") -> 0
B114: Day 4
B118: 1 | C118: ='Training Plan'!O74 -> 0 | H118: 2 | I118: ='Training Plan'!O82 -> 0 | N118: 3 | O118: ='Training Plan'!O90 -> 0
B120: Sets x Reps @RPE / % | D120: ='Training Plan'!O75 -> 0 | H120: Sets x Reps @RPE / % | J120: ='Training Plan'!O83 -> 0 | N120: Sets x Reps @RPE / % | P120: ='Training Plan'!O91 -> 0
B125: Rest Periods | D125: ='Training Plan'!P80 -> 0 | H125: Rest Periods | J125: ='Training Plan'!P88 -> 0 | N125: Rest Periods | P125: ='Training Plan'!P96 -> 0
B127: Sets | C127: Reps | D127: Weight | E127: RPE | F127: Relative Intensity | H127: Sets | I127: Reps | J127: Weight | K127: RPE | L127: Relative Intensity | N127: Sets | O127: Reps | P127: Weight | Q127: RPE | R127: Relative Intensity
B128: 1 | F128: =IF(ISNUMBER(D128),D128/B140,) -> 0 | H128: 1 | L128: =IF(ISNUMBER(J128),J128/H140,) -> 0 | N128: 1 | R128: =IF(ISNUMBER(P128),P128/N140,) -> 0
B129: 2 | F129: =IF(ISNUMBER(D129),D129/B140,) -> 0 | H129: 2 | L129: =IF(ISNUMBER(J129),J129/H140,) -> 0 | N129: 2 | R129: =IF(ISNUMBER(P129),P129/N140,) -> 0
B130: 3 | F130: =IF(ISNUMBER(D130),D130/B140,) -> 0 | H130: 3 | L130: =IF(ISNUMBER(J130),J130/H140,) -> 0 | N130: 3 | R130: =IF(ISNUMBER(P130),P130/N140,) -> 0
B131: 4 | F131: =IF(ISNUMBER(D131),D131/B140,) -> 0 | H131: 4 | L131: =IF(ISNUMBER(J131),J131/H140,) -> 0 | N131: 4 | R131: =IF(ISNUMBER(P131),P131/N140,) -> 0
B132: 5 | F132: =IF(ISNUMBER(D132),D132/B140,) -> 0 | H132: 5 | L132: =IF(ISNUMBER(J132),J132/H140,) -> 0 | N132: 5 | R132: =IF(ISNUMBER(P132),P132/N140,) -> 0
B133: 6 | F133: =IF(ISNUMBER(D133),D133/B140,) -> 0 | H133: 6 | L133: =IF(ISNUMBER(J133),J133/H140,) -> 0 | N133: 6 | R133: =IF(ISNUMBER(P133),P133/N140,) -> 0
B134: 7 | F134: =IF(ISNUMBER(D134),D134/B140,) -> 0 | H134: 7 | L134: =IF(ISNUMBER(J134),J134/H140,) -> 0 | N134: 7 | R134: =IF(ISNUMBER(P134),P134/N140,) -> 0
B135: 8 | F135: =IF(ISNUMBER(D135),D135/B140,) -> 0 | H135: 8 | L135: =IF(ISNUMBER(J135),J135/H140,) -> 0 | N135: 8 | R135: =IF(ISNUMBER(P135),P135/N140,) -> 0
B136: 9 | F136: =IF(ISNUMBER(D136),D136/B140,) -> 0 | H136: 9 | L136: =IF(ISNUMBER(J136),J136/H140,) -> 0 | N136: 9 | R136: =IF(ISNUMBER(P136),P136/N140,) -> 0
B137: 10 | F137: =IF(ISNUMBER(D137),D137/B140,) -> 0 | H137: 10 | L137: =IF(ISNUMBER(J137),J137/H140,) -> 0 | N137: 10 | R137: =IF(ISNUMBER(P137),P137/N140,) -> 0
B138: e1RM | C138: Average Intensity | E138: =IFERROR(IF(COUNT(F128:F137)>0,AVERAGEIF(F128:F137,">0"),0),) -> 0 | H138: e1RM | I138: Average Intensity | K138: =IFERROR(IF(COUNT(L128:L137)>0,AVERAGEIF(L128:L137,">0"),0),) -> 0 | N138: e1RM | O138: Average Intensity | P138: =IFERROR(IF(COUNT(R128:R137)>0,AVERAGEIF(R128:R137,">0"),0),) -> 0 | Q138: sRPE | R138: =IFERROR(Q142*R142,"")
B140: =IFERROR(ROUNDUP(B142/(0.0005*C142^2-0.0342*C142+1.034),0),) -> 0 | C140: nReps | D140: =SUM(C128:C137) -> 0 | E140: Volume | F140: =SUM(C128*D128,C129*D129,C130*D130,C131*D131,C132*D132,C133*D133,C134*D134,C135*D135,C136*D136,C137*D137) -> 0 | H140: =IFERROR(ROUNDUP(H142/(0.0005*I142^2-0.0342*I142+1.034),0),) -> 0 | I140: nReps | J140: =SUM(I128:I137) -> 0 | K140: Volume | L140: =SUM(I128*J128,I129*J129,I130*J130,I131*J131,I132*J132,I133*J133,I134*J134,I135*J135,I136*J136,I137*J137) -> 0 | N140: =IFERROR(ROUNDUP(N142/(0.0005*O142^2-0.0342*O142+1.034),0),) -> 0 | O140: nReps | P140: =SUM(O128:O137) -> 0 | Q140: Volume | R140: =SUM(O128*P128,O129*P129,O130*P130,O131*P131,O132*P132,O133*P133,O134*P134,O135*P135,O136*P136,O137*P137) -> 0
B142: =OFFSET(D127,MATCH(MAX(D128:D137),D128:D137,0),0) -> #N/A | C142: =OFFSET(C127,MATCH(MAX(D128:D137),D128:D137,0),0)+(10-OFFSET(E127,MATCH(MAX(D128:D137),D128:D137,0),0)) -> #N/A | H142: =OFFSET(J127,MATCH(MAX(J128:J137),J128:J137,0),0) -> #N/A | I142: =OFFSET(I127,MATCH(MAX(J128:J137),J128:J137,0),0)+(10-OFFSET(K127,MATCH(MAX(J128:J137),J128:J137,0),0)) -> #N/A | N142: =OFFSET(P127,MATCH(MAX(P128:P137),P128:P137,0),0) -> #N/A | O142: =OFFSET(O127,MATCH(MAX(P128:P137),P128:P137,0),0)+(10-OFFSET(Q127,MATCH(MAX(P128:P137),P128:P137,0),0)) -> #N/A | Q142: =IFERROR(AVERAGE(AVERAGE(E128:E137),AVERAGE(K128:K137),AVERAGE(Q128:Q137)),"") | R142: =COUNTIF(C128:C137,">0")+COUNTIF(I128:I137,">0")+COUNTIF(O128:O137,">0") -> 0
B144: Fatigue Assessement & Comments and Observations
C148: Sleep Quality | E148: Calorie Intake | G148: Perceived Recovery | I148: Perceived Stress | K148: Bodyweight (kg) | M148: Comments and Observations
B150: Day 1 | C150: Moderate (5h ; little disruptions) | E150: Maintenance Phase | G150: Well Recovered (little fatigued) | I150: Some Stress in the Day
B152: Day 2 | C152: Very Well (8h+ ; no disruptions) | E152: Maintenance Phase | G152: Well Recovered (little fatigued) | I152: Some Stress in the Day
B154: Day 3 | C154: Very Well (8h+ ; no disruptions) | E154: Maintenance Phase | G154: Well Recovered (little fatigued) | I154: Some Stress in the Day
B156: Day 4 | C156: Very Well (8h+ ; no disruptions) | E156: Maintenance Phase | G156: Well Recovered (little fatigued) | I156: Some Stress in the Day
B158: Day 5 | C158: Very Well (8h+ ; no disruptions) | E158: Maintenance Phase | G158: Well Recovered (little fatigued) | I158: Some Stress in the Day
B160: Day 6 | C160: Very Well (8h+ ; no disruptions) | E160: Maintenance Phase | G160: Well Recovered (little fatigued) | I160: Some Stress in the Day
B162: Day 7 | C162: Very Well (8h+ ; no disruptions) | E162: Maintenance Phase | G162: Well Recovered (little fatigued) | I162: Some Stress in the Day
G176: Sleep Quality
H177: Very Well (8h+ ; no disruptions) | I177: 0.2
H178: Well (6/7h ; weak disruptions) | I178: 0.4
H179: Moderate (5h ; little disruptions) | I179: 0.6 | M179: sleep | N179: calorie | O179: recovery | P179: stress
H180: Poor (4h ; some disruptions) | I180: 0.8 | L180: 1 | M180: =IF(C150="","",VLOOKUP(C150,H177:I181,2,0)) -> 0.6 | N180: =IF(E150="","",VLOOKUP(E150,H184:I188,2,0)) -> 0.3 | O180: =IF(G150="","",VLOOKUP(G150,H191:I195,2,0)) -> 0.2 | P180: =IF(I150="","",VLOOKUP(I150,H198:I202,2,0)) -> 0.4
H181: Very Poor (-3h ; lot of disruptions) | I181: 1 | L181: 2 | M181: =IF(C152="","",VLOOKUP(C152,H177:I181,2,0)) -> 0.2 | N181: =IF(E152="","",VLOOKUP(E152,H184:I188,2,0)) -> 0.3 | O181: =IF(G152="","",VLOOKUP(G152,H191:I195,2,0)) -> 0.2 | P181: =IF(I152="","",VLOOKUP(I152,H198:I202,2,0)) -> 0.4
L182: 3 | M182: =IF(C154="","",VLOOKUP(C154,H177:I181,2,0)) -> 0.2 | N182: =IF(E154="","",VLOOKUP(E154,H184:I188,2,0)) -> 0.3 | O182: =IF(G154="","",VLOOKUP(G154,H191:I195,2,0)) -> 0.2 | P182: =IF(I154="","",VLOOKUP(I154,H198:I202,2,0)) -> 0.4
G183: Calorie Intake | L183: 4 | M183: =IF(C156="","",VLOOKUP(C156,H177:I181,2,0)) -> 0.2 | N183: =IF(E156="","",VLOOKUP(E156,H184:I188,2,0)) -> 0.3 | O183: =IF(G156="","",VLOOKUP(G156,H191:I195,2,0)) -> 0.2 | P183: =IF(I156="","",VLOOKUP(I156,H198:I202,2,0)) -> 0.4
H184: Surplus of 600 kcals or more | I184: 0.1 | L184: 5 | M184: =IF(C158="","",VLOOKUP(C158,H177:I181,2,0)) -> 0.2 | N184: =IF(E158="","",VLOOKUP(E158,H184:I188,2,0)) -> 0.3 | O184: =IF(G158="","",VLOOKUP(G158,H191:I195,2,0)) -> 0.2 | P184: =IF(I158="","",VLOOKUP(I158,H198:I202,2,0)) -> 0.4
H185: Surplus of 250/500 kcals | I185: 0.2 | L185: 6 | M185: =IF(C160="","",VLOOKUP(C160,H177:I181,2,0)) -> 0.2 | N185: =IF(E160="","",VLOOKUP(E160,H184:I188,2,0)) -> 0.3 | O185: =IF(G160="","",VLOOKUP(G160,H191:I195,2,0)) -> 0.2 | P185: =IF(I160="","",VLOOKUP(I160,H198:I202,2,0)) -> 0.4
H186: Maintenance Phase | I186: 0.3 | L186: 7 | M186: =IF(C162="","",VLOOKUP(C162,H177:I181,2,0)) -> 0.2 | N186: =IF(E162="","",VLOOKUP(E162,H184:I188,2,0)) -> 0.3 | O186: =IF(G162="","",VLOOKUP(G162,H191:I195,2,0)) -> 0.2 | P186: =IF(I162="","",VLOOKUP(I162,H198:I202,2,0)) -> 0.4
H187: Deficit of 250/500 kcals | I187: 0.4
H188: Deficit of 600 kcals or more | I188: 0.5
G190: Perceived Recovery | N190: =IFERROR(AVERAGE(K150:L163),"0,0 kg") -> 0,0 kg
...

Sheet Week 4
C3: ='Training Plan'!B99 -> 0 | E3: Week 4 Training Log
B9: Day 1
B13: 1 | C13: ='Training Plan'!C103 -> 0 | H13: 2 | I13: ='Training Plan'!C111 -> 0 | N13: 3 | O13: ='Training Plan'!C119 -> 0
B15: Sets x Reps @RPE / % | D15: ='Training Plan'!C104 -> 0 | H15: Sets x Reps @RPE / % | J15: ='Training Plan'!C112 -> 0 | N15: Sets x Reps @RPE / % | P15: ='Training Plan'!C120 -> 0
B20: Rest Periods | D20: ='Training Plan'!D109 -> 0 | H20: Rest Periods | J20: ='Training Plan'!D117 -> 0 | N20: Rest Periods | P20: ='Training Plan'!D125 -> 0
B22: Sets | C22: Reps | D22: Weight | E22: RPE | F22: Relative Intensity | H22: Sets | I22: Reps | J22: Weight | K22: RPE | L22: Relative Intensity | N22: Sets | O22: Reps | P22: Weight | Q22: RPE | R22: Relative Intensity
B23: 1 | F23: =IF(ISNUMBER(D23),D23/B35,) -> 0 | H23: 1 | L23: =IF(ISNUMBER(J23),J23/H35,) -> 0 | N23: 1 | R23: =IF(ISNUMBER(P23),P23/N35,) -> 0
B24: 2 | F24: =IF(ISNUMBER(D24),D24/B35,) -> 0 | H24: 2 | L24: =IF(ISNUMBER(J24),J24/H35,) -> 0 | N24: 2 | R24: =IF(ISNUMBER(P24),P24/N35,) -> 0
B25: 3 | F25: =IF(ISNUMBER(D25),D25/B35,) -> 0 | H25: 3 | L25: =IF(ISNUMBER(J25),J25/H35,) -> 0 | N25: 3 | R25: =IF(ISNUMBER(P25),P25/N35,) -> 0
B26: 4 | F26: =IF(ISNUMBER(D26),D26/B35,) -> 0 | H26: 4 | L26: =IF(ISNUMBER(J26),J26/H35,) -> 0 | N26: 4 | R26: =IF(ISNUMBER(P26),P26/N35,) -> 0
B27: 5 | F27: =IF(ISNUMBER(D27),D27/B35,) -> 0 | H27: 5 | L27: =IF(ISNUMBER(J27),J27/H35,) -> 0 | N27: 5 | R27: =IF(ISNUMBER(P27),P27/N35,) -> 0
B28: 6 | F28: =IF(ISNUMBER(D28),D28/B35,) -> 0 | H28: 6 | L28: =IF(ISNUMBER(J28),J28/H35,) -> 0 | N28: 6 | R28: =IF(ISNUMBER(P28),P28/N35,) -> 0
B29: 7 | F29: =IF(ISNUMBER(D29),D29/B35,) -> 0 | H29: 7 | L29: =IF(ISNUMBER(J29),J29/H35,) -> 0 | N29: 7 | R29: =IF(ISNUMBER(P29),P29/N35,) -> 0
B30: 8 | F30: =IF(ISNUMBER(D30),D30/B35,) -> 0 | H30: 8 | L30: =IF(ISNUMBER(J30),J30/H35,) -> 0 | N30: 8 | R30: =IF(ISNUMBER(P30),P30/N35,) -> 0
B31: 9 | F31: =IF(ISNUMBER(D31),D31/B35,) -> 0 | H31: 9 | L31: =IF(ISNUMBER(J31),J31/H35,) -> 0 | N31: 9 | R31: =IF(ISNUMBER(P31),P31/N35,) -> 0
B32: 10 | F32: =IF(ISNUMBER(D32),D32/B35,) -> 0 | H32: 10 | L32: =IF(ISNUMBER(J32),J32/H35,) -> 0 | N32: 10 | R32: =IF(ISNUMBER(P32),P32/N35,) -> 0
B33: e1RM | C33: Average Intensity | E33: =IFERROR(IF(COUNT(F23:F32)>0,AVERAGEIF(F23:F32,">0"),0),) -> 0 | H33: e1RM | I33: Average Intensity | K33: =IFERROR(IF(COUNT(L23:L32)>0,AVERAGEIF(L23:L32,">0"),0),) -> 0 | N33: e1RM | O33: Average Intensity | P33: =IFERROR(IF(COUNT(R23:R32)>0,AVERAGEIF(R23:R32,">0"),0),) -> 0 | Q33: sRPE | R33: =IFERROR(Q37*R37,"")
B35: =IFERROR(ROUNDUP(B37/(0.0005*C37^2-0.0342*C37+1.034),0),) -> 0 | C35: nReps | D35: =SUM(C23:C32) -> 0 | E35: Volume | F35: =SUM(C23*D23,C24*D24,C25*D25,C26*D26,C27*D27,C28*D28,C29*D29,C30*D30,C31*D31,C32*D32) -> 0 | H35: =IFERROR(ROUNDUP(H37/(0.0005*I37^2-0.0342*I37+1.034),0),) -> 0 | I35: nReps | J35: =SUM(I23:I32) -> 0 | K35: Volume | L35: =SUM(I23*J23,I24*J24,I25*J25,I26*J26,I27*J27,I28*J28,I29*J29,I30*J30,I31*J31,I32*J32) -> 0 | N35: =IFERROR(ROUNDUP(N37/(0.0005*O37^2-0.0342*O37+1.034),0),) -> 0 | O35: nReps | P35: =SUM(O23:O32) -> 0 | Q35: Volume | R35: =SUM(O23*P23,O24*P24,O25*P25,O26*P26,O27*P27,O28*P28,O29*P29,O30*P30,O31*P31,O32*P32) -> 0
B37: =OFFSET(D22,MATCH(MAX(D23:D32),D23:D32,0),0) -> #N/A | C37: =OFFSET(C22,MATCH(MAX(D23:D32),D23:D32,0),0)+(10-OFFSET(E22,MATCH(MAX(D23:D32),D23:D32,0),0)) -> #N/A | H37: =OFFSET(J22,MATCH(MAX(J23:J32),J23:J32,0),0) -> #N/A | I37: =OFFSET(I22,MATCH(MAX(J23:J32),J23:J32,0),0)+(10-OFFSET(K22,MATCH(MAX(J23:J32),J23:J32,0),0)) -> #N/A | N37: =OFFSET(P22,MATCH(MAX(P23:P32),P23:P32,0),0) -> #N/A | O37: =OFFSET(O22,MATCH(MAX(P23:P32),P23:P32,0),0)+(10-OFFSET(Q22,MATCH(MAX(P23:P32),P23:P32,0),0)) -> #N/A | Q37: =IFERROR(AVERAGE(AVERAGE(E23:E32),AVERAGE(K23:K32),AVERAGE(Q23:Q32)),"") | R37: =COUNTIF(C23:C32,">0")+COUNTIF(I23:I32,">0")+COUNTIF(O23:O32,">0") -> 0
B39: Day 2
B43: 1 | C43: ='Training Plan'!F103 -> 0 | H43: 2 | I43: ='Training Plan'!F111 -> 0 | N43: 3 | O43: ='Training Plan'!F119 -> 0
B45: Sets x Reps @RPE / % | D45: ='Training Plan'!F104 -> 0 | H45: Sets x Reps @RPE / % | J45: ='Training Plan'!F112 -> 0 | N45: Sets x Reps @RPE / % | P45: ='Training Plan'!F120 -> 0
B50: Rest Periods | D50: ='Training Plan'!G109 -> 0 | H50: Rest Periods | J50: ='Training Plan'!G117 -> 0 | N50: Rest Periods | P50: ='Training Plan'!G125 -> 0
B52: Sets | C52: Reps | D52: Weight | E52: RPE | F52: Relative Intensity | H52: Sets | I52: Reps | J52: Weight | K52: RPE | L52: Relative Intensity | N52: Sets | O52: Reps | P52: Weight | Q52: RPE | R52: Relative Intensity
B53: 1 | F53: =IF(ISNUMBER(D53),D53/B65,) -> 0 | H53: 1 | L53: =IF(ISNUMBER(J53),J53/H65,) -> 0 | N53: 1 | R53: =IF(ISNUMBER(P53),P53/N65,) -> 0
B54: 2 | F54: =IF(ISNUMBER(D54),D54/B65,) -> 0 | H54: 2 | L54: =IF(ISNUMBER(J54),J54/H65,) -> 0 | N54: 2 | R54: =IF(ISNUMBER(P54),P54/N65,) -> 0
B55: 3 | F55: =IF(ISNUMBER(D55),D55/B65,) -> 0 | H55: 3 | L55: =IF(ISNUMBER(J55),J55/H65,) -> 0 | N55: 3 | R55: =IF(ISNUMBER(P55),P55/N65,) -> 0
B56: 4 | F56: =IF(ISNUMBER(D56),D56/B65,) -> 0 | H56: 4 | L56: =IF(ISNUMBER(J56),J56/H65,) -> 0 | N56: 4 | R56: =IF(ISNUMBER(P56),P56/N65,) -> 0
B57: 5 | F57: =IF(ISNUMBER(D57),D57/B65,) -> 0 | H57: 5 | L57: =IF(ISNUMBER(J57),J57/H65,) -> 0 | N57: 5 | R57: =IF(ISNUMBER(P57),P57/N65,) -> 0
B58: 6 | F58: =IF(ISNUMBER(D58),D58/B65,) -> 0 | H58: 6 | L58: =IF(ISNUMBER(J58),J58/H65,) -> 0 | N58: 6 | R58: =IF(ISNUMBER(P58),P58/N65,) -> 0
B59: 7 | F59: =IF(ISNUMBER(D59),D59/B65,) -> 0 | H59: 7 | L59: =IF(ISNUMBER(J59),J59/H65,) -> 0 | N59: 7 | R59: =IF(ISNUMBER(P59),P59/N65,) -> 0
B60: 8 | F60: =IF(ISNUMBER(D60),D60/B65,) -> 0 | H60: 8 | L60: =IF(ISNUMBER(J60),J60/H65,) -> 0 | N60: 8 | R60: =IF(ISNUMBER(P60),P60/N65,) -> 0
B61: 9 | F61: =IF(ISNUMBER(D61),D61/B65,) -> 0 | H61: 9 | L61: =IF(ISNUMBER(J61),J61/H65,) -> 0 | N61: 9 | R61: =IF(ISNUMBER(P61),P61/N65,) -> 0
B62: 10 | F62: =IF(ISNUMBER(D62),D62/B65,) -> 0 | H62: 10 | L62: =IF(ISNUMBER(J62),J62/H65,) -> 0 | N62: 10 | R62: =IF(ISNUMBER(P62),P62/N65,) -> 0
B63: e1RM | C63: Average Intensity | E63: =IFERROR(IF(COUNT(F53:F62)>0,AVERAGEIF(F53:F62,">0"),0),) -> 0 | H63: e1RM | I63: Average Intensity | K63: =IFERROR(IF(COUNT(L53:L62)>0,AVERAGEIF(L53:L62,">0"),0),) -> 0 | N63: e1RM | O63: Average Intensity | P63: =IFERROR(IF(COUNT(R53:R62)>0,AVERAGEIF(R53:R62,">0"),0),) -> 0 | Q63: sRPE | R63: =IFERROR(Q67*R67,"")
B65: =IFERROR(ROUNDUP(B67/(0.0005*C67^2-0.0342*C67+1.034),0),) -> 0 | C65: nReps | D65: =SUM(C53:C62) -> 0 | E65: Volume | F65: =SUM(C53*D53,C54*D54,C55*D55,C56*D56,C57*D57,C58*D58,C59*D59,C60*D60,C61*D61,C62*D62) -> 0 | H65: =IFERROR(ROUNDUP(H67/(0.0005*I67^2-0.0342*I67+1.034),0),) -> 0 | I65: nReps | J65: =SUM(I53:I62) -> 0 | K65: Volume | L65: =SUM(I53*J53,I54*J54,I55*J55,I56*J56,I57*J57,I58*J58,I59*J59,I60*J60,I61*J61,I62*J62) -> 0 | N65: =IFERROR(ROUNDUP(N67/(0.0005*O67^2-0.0342*O67+1.034),0),) -> 0 | O65: nReps | P65: =SUM(O53:O62) -> 0 | Q65: Volume | R65: =SUM(O53*P53,O54*P54,O55*P55,O56*P56,O57*P57,O58*P58,O59*P59,O60*P60,O61*P61,O62*P62) -> 0
B67: =OFFSET(D52,MATCH(MAX(D53:D62),D53:D62,0),0) -> #N/A | C67: =OFFSET(C52,MATCH(MAX(D53:D62),D53:D62,0),0)+(10-OFFSET(E52,MATCH(MAX(D53:D62),D53:D62,0),0)) -> #N/A | H67: =OFFSET(J52,MATCH(MAX(J53:J62),J53:J62,0),0) -> #N/A | I67: =OFFSET(I52,MATCH(MAX(J53:J62),J53:J62,0),0)+(10-OFFSET(K52,MATCH(MAX(J53:J62),J53:J62,0),0)) -> #N/A | N67: =OFFSET(P52,MATCH(MAX(P53:P62),P53:P62,0),0) -> #N/A | O67: =OFFSET(O52,MATCH(MAX(P53:P62),P53:P62,0),0)+(10-OFFSET(Q52,MATCH(MAX(P53:P62),P53:P62,0),0)) -> #N/A | Q67: =IFERROR(AVERAGE(AVERAGE(E53:E62),AVERAGE(K53:K62),AVERAGE(Q53:Q62)),"") | R67: =COUNTIF(C53:C62,">0")+COUNTIF(I53:I62,">0")+COUNTIF(O53:O62,">0") -> 0
B69: General Physical Prepardness (GPP)
C73: ='Training Plan'!I102 -> 0 | F73: ='Training Plan'!I106 -> 0 | I73: ='Training Plan'!I110 -> 0 | L73: ='Training Plan'!I114 -> 0 | O73: ='Training Plan'!I118 -> 0
C75: ='Training Plan'!I103 -> 0 | F75: ='Training Plan'!I107 -> 0 | I75: ='Training Plan'!I111 -> 0 | L75: ='Training Plan'!I115 -> 0 | O75: ='Training Plan'!I119 -> 0
C78: Log | F78: Log | I78: Log | L78: Log | O78: Log
B84: Day 3
B88: 1 | C88: ='Training Plan'!L103 -> 0 | H88: 2 | I88: ='Training Plan'!L111 -> 0 | N88: 3 | O88: ='Training Plan'!L119 -> 0
B90: Sets x Reps @RPE / % | D90: ='Training Plan'!L104 -> 0 | H90: Sets x Reps @RPE / % | J90: ='Training Plan'!L112 -> 0 | N90: Sets x Reps @RPE / % | P90: ='Training Plan'!L120 -> 0
B95: Rest Periods | D95: ='Training Plan'!M109 -> 0 | H95: Rest Periods | J95: ='Training Plan'!M117 -> 0 | N95: Rest Periods | P95: ='Training Plan'!M125 -> 0
B97: Sets | C97: Reps | D97: Weight | E97: RPE | F97: Relative Intensity | H97: Sets | I97: Reps | J97: Weight | K97: RPE | L97: Relative Intensity | N97: Sets | O97: Reps | P97: Weight | Q97: RPE | R97: Relative Intensity
B98: 1 | F98: =IF(ISNUMBER(D98),D98/B110,) -> 0 | H98: 1 | L98: =IF(ISNUMBER(J98),J98/H110,) -> 0 | N98: 1 | R98: =IF(ISNUMBER(P98),P98/N110,) -> 0
B99: 2 | F99: =IF(ISNUMBER(D99),D99/B110,) -> 0 | H99: 2 | L99: =IF(ISNUMBER(J99),J99/H110,) -> 0 | N99: 2 | R99: =IF(ISNUMBER(P99),P99/N110,) -> 0
B100: 3 | F100: =IF(ISNUMBER(D100),D100/B110,) -> 0 | H100: 3 | L100: =IF(ISNUMBER(J100),J100/H110,) -> 0 | N100: 3 | R100: =IF(ISNUMBER(P100),P100/N110,) -> 0
B101: 4 | F101: =IF(ISNUMBER(D101),D101/B110,) -> 0 | H101: 4 | L101: =IF(ISNUMBER(J101),J101/H110,) -> 0 | N101: 4 | R101: =IF(ISNUMBER(P101),P101/N110,) -> 0
B102: 5 | F102: =IF(ISNUMBER(D102),D102/B110,) -> 0 | H102: 5 | L102: =IF(ISNUMBER(J102),J102/H110,) -> 0 | N102: 5 | R102: =IF(ISNUMBER(P102),P102/N110,) -> 0
B103: 6 | F103: =IF(ISNUMBER(D103),D103/B110,) -> 0 | H103: 6 | L103: =IF(ISNUMBER(J103),J103/H110,) -> 0 | N103: 6 | R103: =IF(ISNUMBER(P103),P103/N110,) -> 0
B104: 7 | F104: =IF(ISNUMBER(D104),D104/B110,) -> 0 | H104: 7 | L104: =IF(ISNUMBER(J104),J104/H110,) -> 0 | N104: 7 | R104: =IF(ISNUMBER(P104),P104/N110,) -> 0
B105: 8 | F105: =IF(ISNUMBER(D105),D105/B110,) -> 0 | H105: 8 | L105: =IF(ISNUMBER(J105),J105/H110,) -> 0 | N105: 8 | R105: =IF(ISNUMBER(P105),P105/N110,) -> 0
B106: 9 | F106: =IF(ISNUMBER(D106),D106/B110,) -> 0 | H106: 9 | L106: =IF(ISNUMBER(J106),J106/H110,) -> 0 | N106: 9 | R106: =IF(ISNUMBER(P106),P106/N110,) -> 0
B107: 10 | F107: =IF(ISNUMBER(D107),D107/B110,) -> 0 | H107: 10 | L107: =IF(ISNUMBER(J107),J107/H110,) -> 0 | N107: 10 | R107: =IF(ISNUMBER(P107),P107/N110,) -> 0
B108: e1RM | C108: Average Intensity | E108: =IFERROR(IF(COUNT(F98:F107)>0,AVERAGEIF(F98:F107,">0"),0),) -> 0 | H108: e1RM | I108: Average Intensity | K108: =IFERROR(IF(COUNT(L98:L107)>0,AVERAGEIF(L98:L107,">0"),0),) -> 0 | N108: e1RM | O108: Average Intensity | P108: =IFERROR(IF(COUNT(R98:R107)>0,AVERAGEIF(R98:R107,">0"),0),) -> 0 | Q108: sRPE | R108: =IFERROR(Q112*R112,"")
B110: =IFERROR(ROUNDUP(B112/(0.0005*C112^2-0.0342*C112+1.034),0),) -> 0 | C110: nReps | D110: =SUM(C98:C107) -> 0 | E110: Volume | F110: =SUM(C98*D98,C99*D99,C100*D100,C101*D101,C102*D102,C103*D103,C104*D104,C105*D105,C106*D106,C107*D107) -> 0 | H110: =IFERROR(ROUNDUP(H112/(0.0005*I112^2-0.0342*I112+1.034),0),) -> 0 | I110: nReps | J110: =SUM(I98:I107) -> 0 | K110: Volume | L110: =SUM(I98*J98,I99*J99,I100*J100,I101*J101,I102*J102,I103*J103,I104*J104,I105*J105,I106*J106,I107*J107) -> 0 | N110: =IFERROR(ROUNDUP(N112/(0.0005*O112^2-0.0342*O112+1.034),0),) -> 0 | O110: nReps | P110: =SUM(O98:O107) -> 0 | Q110: Volume | R110: =SUM(O98*P98,O99*P99,O100*P100,O101*P101,O102*P102,O103*P103,O104*P104,O105*P105,O106*P106,O107*P107) -> 0
B112: =OFFSET(D97,MATCH(MAX(D98:D107),D98:D107,0),0) -> #N/A | C112: =OFFSET(C97,MATCH(MAX(D98:D107),D98:D107,0),0)+(10-OFFSET(E97,MATCH(MAX(D98:D107),D98:D107,0),0)) -> #N/A | H112: =OFFSET(J97,MATCH(MAX(J98:J107),J98:J107,0),0) -> #N/A | I112: =OFFSET(I97,MATCH(MAX(J98:J107),J98:J107,0),0)+(10-OFFSET(K97,MATCH(MAX(J98:J107),J98:J107,0),0)) -> #N/A | N112: =OFFSET(P97,MATCH(MAX(P98:P107),P98:P107,0),0) -> #N/A | O112: =OFFSET(O97,MATCH(MAX(P98:P107),P98:P107,0),0)+(10-OFFSET(Q97,MATCH(MAX(P98:P107),P98:P107,0),0)) -> #N/A | Q112: =IFERROR(AVERAGE(AVERAGE(E98:E107),AVERAGE(K98:K107),AVERAGE(Q98:Q107)),"") | R112: =COUNTIF(C98:C107,">0")+COUNTIF(I98:I107,">0")+COUNTIF(O98:O107,">0") -> 0
B114: Day 4
B118: 1 | C118: ='Training Plan'!O103 -> 0 | H118: 2 | I118: ='Training Plan'!O111 -> 0 | N118: 3 | O118: ='Training Plan'!O119 -> 0
B120: Sets x Reps @RPE / % | D120: ='Training Plan'!O104 -> 0 | H120: Sets x Reps @RPE / % | J120: ='Training Plan'!O112 -> 0 | N120: Sets x Reps @RPE / % | P120: ='Training Plan'!O120 -> 0
B125: Rest Periods | D125: ='Training Plan'!P109 -> 0 | H125: Rest Periods | J125: ='Training Plan'!P117 -> 0 | N125: Rest Periods | P125: ='Training Plan'!P125 -> 0
B127: Sets | C127: Reps | D127: Weight | E127: RPE | F127: Relative Intensity | H127: Sets | I127: Reps | J127: Weight | K127: RPE | L127: Relative Intensity | N127: Sets | O127: Reps | P127: Weight | Q127: RPE | R127: Relative Intensity
B128: 1 | F128: =IF(ISNUMBER(D128),D128/B140,) -> 0 | H128: 1 | L128: =IF(ISNUMBER(J128),J128/H140,) -> 0 | N128: 1 | R128: =IF(ISNUMBER(P128),P128/N140,) -> 0
B129: 2 | F129: =IF(ISNUMBER(D129),D129/B140,) -> 0 | H129: 2 | L129: =IF(ISNUMBER(J129),J129/H140,) -> 0 | N129: 2 | R129: =IF(ISNUMBER(P129),P129/N140,) -> 0
B130: 3 | F130: =IF(ISNUMBER(D130),D130/B140,) -> 0 | H130: 3 | L130: =IF(ISNUMBER(J130),J130/H140,) -> 0 | N130: 3 | R130: =IF(ISNUMBER(P130),P130/N140,) -> 0
B131: 4 | F131: =IF(ISNUMBER(D131),D131/B140,) -> 0 | H131: 4 | L131: =IF(ISNUMBER(J131),J131/H140,) -> 0 | N131: 4 | R131: =IF(ISNUMBER(P131),P131/N140,) -> 0
B132: 5 | F132: =IF(ISNUMBER(D132),D132/B140,) -> 0 | H132: 5 | L132: =IF(ISNUMBER(J132),J132/H140,) -> 0 | N132: 5 | R132: =IF(ISNUMBER(P132),P132/N140,) -> 0
B133: 6 | F133: =IF(ISNUMBER(D133),D133/B140,) -> 0 | H133: 6 | L133: =IF(ISNUMBER(J133),J133/H140,) -> 0 | N133: 6 | R133: =IF(ISNUMBER(P133),P133/N140,) -> 0
B134: 7 | F134: =IF(ISNUMBER(D134),D134/B140,) -> 0 | H134: 7 | L134: =IF(ISNUMBER(J134),J134/H140,) -> 0 | N134: 7 | R134: =IF(ISNUMBER(P134),P134/N140,) -> 0
B135: 8 | F135: =IF(ISNUMBER(D135),D135/B140,) -> 0 | H135: 8 | L135: =IF(ISNUMBER(J135),J135/H140,) -> 0 | N135: 8 | R135: =IF(ISNUMBER(P135),P135/N140,) -> 0
B136: 9 | F136: =IF(ISNUMBER(D136),D136/B140,) -> 0 | H136: 9 | L136: =IF(ISNUMBER(J136),J136/H140,) -> 0 | N136: 9 | R136: =IF(ISNUMBER(P136),P136/N140,) -> 0
B137: 10 | F137: =IF(ISNUMBER(D137),D137/B140,) -> 0 | H137: 10 | L137: =IF(ISNUMBER(J137),J137/H140,) -> 0 | N137: 10 | R137: =IF(ISNUMBER(P137),P137/N140,) -> 0
B138: e1RM | C138: Average Intensity | E138: =IFERROR(IF(COUNT(F128:F137)>0,AVERAGEIF(F128:F137,">0"),0),) -> 0 | H138: e1RM | I138: Average Intensity | K138: =IFERROR(IF(COUNT(L128:L137)>0,AVERAGEIF(L128:L137,">0"),0),) -> 0 | N138: e1RM | O138: Average Intensity | P138: =IFERROR(IF(COUNT(R128:R137)>0,AVERAGEIF(R128:R137,">0"),0),) -> 0 | Q138: sRPE | R138: =IFERROR(Q142*R142,"")
B140: =IFERROR(ROUNDUP(B142/(0.0005*C142^2-0.0342*C142+1.034),0),) -> 0 | C140: nReps | D140: =SUM(C128:C137) -> 0 | E140: Volume | F140: =SUM(C128*D128,C129*D129,C130*D130,C131*D131,C132*D132,C133*D133,C134*D134,C135*D135,C136*D136,C137*D137) -> 0 | H140: =IFERROR(ROUNDUP(H142/(0.0005*I142^2-0.0342*I142+1.034),0),) -> 0 | I140: nReps | J140: =SUM(I128:I137) -> 0 | K140: Volume | L140: =SUM(I128*J128,I129*J129,I130*J130,I131*J131,I132*J132,I133*J133,I134*J134,I135*J135,I136*J136,I137*J137) -> 0 | N140: =IFERROR(ROUNDUP(N142/(0.0005*O142^2-0.0342*O142+1.034),0),) -> 0 | O140: nReps | P140: =SUM(O128:O137) -> 0 | Q140: Volume | R140: =SUM(O128*P128,O129*P129,O130*P130,O131*P131,O132*P132,O133*P133,O134*P134,O135*P135,O136*P136,O137*P137) -> 0
B142: =OFFSET(D127,MATCH(MAX(D128:D137),D128:D137,0),0) -> #N/A | C142: =OFFSET(C127,MATCH(MAX(D128:D137),D128:D137,0),0)+(10-OFFSET(E127,MATCH(MAX(D128:D137),D128:D137,0),0)) -> #N/A | H142: =OFFSET(J127,MATCH(MAX(J128:J137),J128:J137,0),0) -> #N/A | I142: =OFFSET(I127,MATCH(MAX(J128:J137),J128:J137,0),0)+(10-OFFSET(K127,MATCH(MAX(J128:J137),J128:J137,0),0)) -> #N/A | N142: =OFFSET(P127,MATCH(MAX(P128:P137),P128:P137,0),0) -> #N/A | O142: =OFFSET(O127,MATCH(MAX(P128:P137),P128:P137,0),0)+(10-OFFSET(Q127,MATCH(MAX(P128:P137),P128:P137,0),0)) -> #N/A | Q142: =IFERROR(AVERAGE(AVERAGE(E128:E137),AVERAGE(K128:K137),AVERAGE(Q128:Q137)),"") | R142: =COUNTIF(C128:C137,">0")+COUNTIF(I128:I137,">0")+COUNTIF(O128:O137,">0") -> 0
B144: Fatigue Assessement & Comments and Observations
C148: Sleep Quality | E148: Calorie Intake | G148: Perceived Recovery | I148: Perceived Stress | K148: Bodyweight (kg) | M148: Comments and Observations
B150: Day 1 | C150: Moderate (5h ; little disruptions) | E150: Maintenance Phase | G150: Well Recovered (little fatigued) | I150: Some Stress in the Day
B152: Day 2 | C152: Very Well (8h+ ; no disruptions) | E152: Maintenance Phase | G152: Well Recovered (little fatigued) | I152: Some Stress in the Day
B154: Day 3 | C154: Very Well (8h+ ; no disruptions) | E154: Maintenance Phase | G154: Well Recovered (little fatigued) | I154: Some Stress in the Day
B156: Day 4 | C156: Very Well (8h+ ; no disruptions) | E156: Maintenance Phase | G156: Well Recovered (little fatigued) | I156: Some Stress in the Day
B158: Day 5 | C158: Very Well (8h+ ; no disruptions) | E158: Maintenance Phase | G158: Well Recovered (little fatigued) | I158: Some Stress in the Day
B160: Day 6 | C160: Very Well (8h+ ; no disruptions) | E160: Maintenance Phase | G160: Well Recovered (little fatigued) | I160: Some Stress in the Day
B162: Day 7 | C162: Very Well (8h+ ; no disruptions) | E162: Maintenance Phase | G162: Well Recovered (little fatigued) | I162: Some Stress in the Day
G176: Sleep Quality
H177: Very Well (8h+ ; no disruptions) | I177: 0.2
H178: Well (6/7h ; weak disruptions) | I178: 0.4
H179: Moderate (5h ; little disruptions) | I179: 0.6 | M179: sleep | N179: calorie | O179: recovery | P179: stress
H180: Poor (4h ; some disruptions) | I180: 0.8 | L180: 1 | M180: =IF(C150="","",VLOOKUP(C150,H177:I181,2,0)) -> 0.6 | N180: =IF(E150="","",VLOOKUP(E150,H184:I188,2,0)) -> 0.3 | O180: =IF(G150="","",VLOOKUP(G150,H191:I195,2,0)) -> 0.2 | P180: =IF(I150="","",VLOOKUP(I150,H198:I202,2,0)) -> 0.4
H181: Very Poor (-3h ; lot of disruptions) | I181: 1 | L181: 2 | M181: =IF(C152="","",VLOOKUP(C152,H177:I181,2,0)) -> 0.2 | N181: =IF(E152="","",VLOOKUP(E152,H184:I188,2,0)) -> 0.3 | O181: =IF(G152="","",VLOOKUP(G152,H191:I195,2,0)) -> 0.2 | P181: =IF(I152="","",VLOOKUP(I152,H198:I202,2,0)) -> 0.4
L182: 3 | M182: =IF(C154="","",VLOOKUP(C154,H177:I181,2,0)) -> 0.2 | N182: =IF(E154="","",VLOOKUP(E154,H184:I188,2,0)) -> 0.3 | O182: =IF(G154="","",VLOOKUP(G154,H191:I195,2,0)) -> 0.2 | P182: =IF(I154="","",VLOOKUP(I154,H198:I202,2,0)) -> 0.4
G183: Calorie Intake | L183: 4 | M183: =IF(C156="","",VLOOKUP(C156,H177:I181,2,0)) -> 0.2 | N183: =IF(E156="","",VLOOKUP(E156,H184:I188,2,0)) -> 0.3 | O183: =IF(G156="","",VLOOKUP(G156,H191:I195,2,0)) -> 0.2 | P183: =IF(I156="","",VLOOKUP(I156,H198:I202,2,0)) -> 0.4
H184: Surplus of 600 kcals or more | I184: 0.1 | L184: 5 | M184: =IF(C158="","",VLOOKUP(C158,H177:I181,2,0)) -> 0.2 | N184: =IF(E158="","",VLOOKUP(E158,H184:I188,2,0)) -> 0.3 | O184: =IF(G158="","",VLOOKUP(G158,H191:I195,2,0)) -> 0.2 | P184: =IF(I158="","",VLOOKUP(I158,H198:I202,2,0)) -> 0.4
H185: Surplus of 250/500 kcals | I185: 0.2 | L185: 6 | M185: =IF(C160="","",VLOOKUP(C160,H177:I181,2,0)) -> 0.2 | N185: =IF(E160="","",VLOOKUP(E160,H184:I188,2,0)) -> 0.3 | O185: =IF(G160="","",VLOOKUP(G160,H191:I195,2,0)) -> 0.2 | P185: =IF(I160="","",VLOOKUP(I160,H198:I202,2,0)) -> 0.4
H186: Maintenance Phase | I186: 0.3 | L186: 7 | M186: =IF(C162="","",VLOOKUP(C162,H177:I181,2,0)) -> 0.2 | N186: =IF(E162="","",VLOOKUP(E162,H184:I188,2,0)) -> 0.3 | O186: =IF(G162="","",VLOOKUP(G162,H191:I195,2,0)) -> 0.2 | P186: =IF(I162="","",VLOOKUP(I162,H198:I202,2,0)) -> 0.4
H187: Deficit of 250/500 kcals | I187: 0.4
H188: Deficit of 600 kcals or more | I188: 0.5
G190: Perceived Recovery | N190: =IFERROR(AVERAGE(K150:L163),"0,0 kg") -> 0,0 kg
...

Sheet Week 5
C3: ='Training Plan'!B128 -> 0 | E3: Week 5 Training Log
B9: Day 1
B13: 1 | C13: ='Training Plan'!C132 -> 0 | H13: 2 | I13: ='Training Plan'!C140 -> 0 | N13: 3 | O13: ='Training Plan'!C148 -> 0
B15: Sets x Reps @RPE / % | D15: ='Training Plan'!C133 -> 0 | H15: Sets x Reps @RPE / % | J15: ='Training Plan'!C141 -> 0 | N15: Sets x Reps @RPE / % | P15: ='Training Plan'!C149 -> 0
B20: Rest Periods | D20: ='Training Plan'!D138 -> 0 | H20: Rest Periods | J20: ='Training Plan'!D146 -> 0 | N20: Rest Periods | P20: ='Training Plan'!D154 -> 0
B22: Sets | C22: Reps | D22: Weight | E22: RPE | F22: Relative Intensity | H22: Sets | I22: Reps | J22: Weight | K22: RPE | L22: Relative Intensity | N22: Sets | O22: Reps | P22: Weight | Q22: RPE | R22: Relative Intensity
B23: 1 | F23: =IF(ISNUMBER(D23),D23/B35,) -> 0 | H23: 1 | L23: =IF(ISNUMBER(J23),J23/H35,) -> 0 | N23: 1 | R23: =IF(ISNUMBER(P23),P23/N35,) -> 0
B24: 2 | F24: =IF(ISNUMBER(D24),D24/B35,) -> 0 | H24: 2 | L24: =IF(ISNUMBER(J24),J24/H35,) -> 0 | N24: 2 | R24: =IF(ISNUMBER(P24),P24/N35,) -> 0
B25: 3 | F25: =IF(ISNUMBER(D25),D25/B35,) -> 0 | H25: 3 | L25: =IF(ISNUMBER(J25),J25/H35,) -> 0 | N25: 3 | R25: =IF(ISNUMBER(P25),P25/N35,) -> 0
B26: 4 | F26: =IF(ISNUMBER(D26),D26/B35,) -> 0 | H26: 4 | L26: =IF(ISNUMBER(J26),J26/H35,) -> 0 | N26: 4 | R26: =IF(ISNUMBER(P26),P26/N35,) -> 0
B27: 5 | F27: =IF(ISNUMBER(D27),D27/B35,) -> 0 | H27: 5 | L27: =IF(ISNUMBER(J27),J27/H35,) -> 0 | N27: 5 | R27: =IF(ISNUMBER(P27),P27/N35,) -> 0
B28: 6 | F28: =IF(ISNUMBER(D28),D28/B35,) -> 0 | H28: 6 | L28: =IF(ISNUMBER(J28),J28/H35,) -> 0 | N28: 6 | R28: =IF(ISNUMBER(P28),P28/N35,) -> 0
B29: 7 | F29: =IF(ISNUMBER(D29),D29/B35,) -> 0 | H29: 7 | L29: =IF(ISNUMBER(J29),J29/H35,) -> 0 | N29: 7 | R29: =IF(ISNUMBER(P29),P29/N35,) -> 0
B30: 8 | F30: =IF(ISNUMBER(D30),D30/B35,) -> 0 | H30: 8 | L30: =IF(ISNUMBER(J30),J30/H35,) -> 0 | N30: 8 | R30: =IF(ISNUMBER(P30),P30/N35,) -> 0
B31: 9 | F31: =IF(ISNUMBER(D31),D31/B35,) -> 0 | H31: 9 | L31: =IF(ISNUMBER(J31),J31/H35,) -> 0 | N31: 9 | R31: =IF(ISNUMBER(P31),P31/N35,) -> 0
B32: 10 | F32: =IF(ISNUMBER(D32),D32/B35,) -> 0 | H32: 10 | L32: =IF(ISNUMBER(J32),J32/H35,) -> 0 | N32: 10 | R32: =IF(ISNUMBER(P32),P32/N35,) -> 0
B33: e1RM | C33: Average Intensity | E33: =IFERROR(IF(COUNT(F23:F32)>0,AVERAGEIF(F23:F32,">0"),0),) -> 0 | H33: e1RM | I33: Average Intensity | K33: =IFERROR(IF(COUNT(L23:L32)>0,AVERAGEIF(L23:L32,">0"),0),) -> 0 | N33: e1RM | O33: Average Intensity | P33: =IFERROR(IF(COUNT(R23:R32)>0,AVERAGEIF(R23:R32,">0"),0),) -> 0 | Q33: sRPE | R33: =IFERROR(Q37*R37,"")
B35: =IFERROR(ROUNDUP(B37/(0.0005*C37^2-0.0342*C37+1.034),0),) -> 0 | C35: nReps | D35: =SUM(C23:C32) -> 0 | E35: Volume | F35: =SUM(C23*D23,C24*D24,C25*D25,C26*D26,C27*D27,C28*D28,C29*D29,C30*D30,C31*D31,C32*D32) -> 0 | H35: =IFERROR(ROUNDUP(H37/(0.0005*I37^2-0.0342*I37+1.034),0),) -> 0 | I35: nReps | J35: =SUM(I23:I32) -> 0 | K35: Volume | L35: =SUM(I23*J23,I24*J24,I25*J25,I26*J26,I27*J27,I28*J28,I29*J29,I30*J30,I31*J31,I32*J32) -> 0 | N35: =IFERROR(ROUNDUP(N37/(0.0005*O37^2-0.0342*O37+1.034),0),) -> 0 | O35: nReps | P35: =SUM(O23:O32) -> 0 | Q35: Volume | R35: =SUM(O23*P23,O24*P24,O25*P25,O26*P26,O27*P27,O28*P28,O29*P29,O30*P30,O31*P31,O32*P32) -> 0
B37: =OFFSET(D22,MATCH(MAX(D23:D32),D23:D32,0),0) -> #N/A | C37: =OFFSET(C22,MATCH(MAX(D23:D32),D23:D32,0),0)+(10-OFFSET(E22,MATCH(MAX(D23:D32),D23:D32,0),0)) -> #N/A | H37: =OFFSET(J22,MATCH(MAX(J23:J32),J23:J32,0),0) -> #N/A | I37: =OFFSET(I22,MATCH(MAX(J23:J32),J23:J32,0),0)+(10-OFFSET(K22,MATCH(MAX(J23:J32),J23:J32,0),0)) -> #N/A | N37: =OFFSET(P22,MATCH(MAX(P23:P32),P23:P32,0),0) -> #N/A | O37: =OFFSET(O22,MATCH(MAX(P23:P32),P23:P32,0),0)+(10-OFFSET(Q22,MATCH(MAX(P23:P32),P23:P32,0),0)) -> #N/A | Q37: =IFERROR(AVERAGE(AVERAGE(E23:E32),AVERAGE(K23:K32),AVERAGE(Q23:Q32)),"") | R37: =COUNTIF(C23:C32,">0")+COUNTIF(I23:I32,">0")+COUNTIF(O23:O32,">0") -> 0
B39: Day 2
B43: 1 | C43: ='Training Plan'!F132 -> 0 | H43: 2 | I43: ='Training Plan'!F140 -> 0 | N43: 3 | O43: ='Training Plan'!F148 -> 0
B45: Sets x Reps @RPE / % | D45: ='Training Plan'!F133 -> 0 | H45: Sets x Reps @RPE / % | J45: ='Training Plan'!F141 -> 0 | N45: Sets x Reps @RPE / % | P45: ='Training Plan'!F149 -> 0
B50: Rest Periods | D50: ='Training Plan'!G138 -> 0 | H50: Rest Periods | J50: ='Training Plan'!G146 -> 0 | N50: Rest Periods | P50: ='Training Plan'!G154 -> 0
B52: Sets | C52: Reps | D52: Weight | E52: RPE | F52: Relative Intensity | H52: Sets | I52: Reps | J52: Weight | K52: RPE | L52: Relative Intensity | N52: Sets | O52: Reps | P52: Weight | Q52: RPE | R52: Relative Intensity
B53: 1 | F53: =IF(ISNUMBER(D53),D53/B65,) -> 0 | H53: 1 | L53: =IF(ISNUMBER(J53),J53/H65,) -> 0 | N53: 1 | R53: =IF(ISNUMBER(P53),P53/N65,) -> 0
B54: 2 | F54: =IF(ISNUMBER(D54),D54/B65,) -> 0 | H54: 2 | L54: =IF(ISNUMBER(J54),J54/H65,) -> 0 | N54: 2 | R54: =IF(ISNUMBER(P54),P54/N65,) -> 0
B55: 3 | F55: =IF(ISNUMBER(D55),D55/B65,) -> 0 | H55: 3 | L55: =IF(ISNUMBER(J55),J55/H65,) -> 0 | N55: 3 | R55: =IF(ISNUMBER(P55),P55/N65,) -> 0
B56: 4 | F56: =IF(ISNUMBER(D56),D56/B65,) -> 0 | H56: 4 | L56: =IF(ISNUMBER(J56),J56/H65,) -> 0 | N56: 4 | R56: =IF(ISNUMBER(P56),P56/N65,) -> 0
B57: 5 | F57: =IF(ISNUMBER(D57),D57/B65,) -> 0 | H57: 5 | L57: =IF(ISNUMBER(J57),J57/H65,) -> 0 | N57: 5 | R57: =IF(ISNUMBER(P57),P57/N65,) -> 0
B58: 6 | F58: =IF(ISNUMBER(D58),D58/B65,) -> 0 | H58: 6 | L58: =IF(ISNUMBER(J58),J58/H65,) -> 0 | N58: 6 | R58: =IF(ISNUMBER(P58),P58/N65,) -> 0
B59: 7 | F59: =IF(ISNUMBER(D59),D59/B65,) -> 0 | H59: 7 | L59: =IF(ISNUMBER(J59),J59/H65,) -> 0 | N59: 7 | R59: =IF(ISNUMBER(P59),P59/N65,) -> 0
B60: 8 | F60: =IF(ISNUMBER(D60),D60/B65,) -> 0 | H60: 8 | L60: =IF(ISNUMBER(J60),J60/H65,) -> 0 | N60: 8 | R60: =IF(ISNUMBER(P60),P60/N65,) -> 0
B61: 9 | F61: =IF(ISNUMBER(D61),D61/B65,) -> 0 | H61: 9 | L61: =IF(ISNUMBER(J61),J61/H65,) -> 0 | N61: 9 | R61: =IF(ISNUMBER(P61),P61/N65,) -> 0
B62: 10 | F62: =IF(ISNUMBER(D62),D62/B65,) -> 0 | H62: 10 | L62: =IF(ISNUMBER(J62),J62/H65,) -> 0 | N62: 10 | R62: =IF(ISNUMBER(P62),P62/N65,) -> 0
B63: e1RM | C63: Average Intensity | E63: =IFERROR(IF(COUNT(F53:F62)>0,AVERAGEIF(F53:F62,">0"),0),) -> 0 | H63: e1RM | I63: Average Intensity | K63: =IFERROR(IF(COUNT(L53:L62)>0,AVERAGEIF(L53:L62,">0"),0),) -> 0 | N63: e1RM | O63: Average Intensity | P63: =IFERROR(IF(COUNT(R53:R62)>0,AVERAGEIF(R53:R62,">0"),0),) -> 0 | Q63: sRPE | R63: =IFERROR(Q67*R67,"")
B65: =IFERROR(ROUNDUP(B67/(0.0005*C67^2-0.0342*C67+1.034),0),) -> 0 | C65: nReps | D65: =SUM(C53:C62) -> 0 | E65: Volume | F65: =SUM(C53*D53,C54*D54,C55*D55,C56*D56,C57*D57,C58*D58,C59*D59,C60*D60,C61*D61,C62*D62) -> 0 | H65: =IFERROR(ROUNDUP(H67/(0.0005*I67^2-0.0342*I67+1.034),0),) -> 0 | I65: nReps | J65: =SUM(I53:I62) -> 0 | K65: Volume | L65: =SUM(I53*J53,I54*J54,I55*J55,I56*J56,I57*J57,I58*J58,I59*J59,I60*J60,I61*J61,I62*J62) -> 0 | N65: =IFERROR(ROUNDUP(N67/(0.0005*O67^2-0.0342*O67+1.034),0),) -> 0 | O65: nReps | P65: =SUM(O53:O62) -> 0 | Q65: Volume | R65: =SUM(O53*P53,O54*P54,O55*P55,O56*P56,O57*P57,O58*P58,O59*P59,O60*P60,O61*P61,O62*P62) -> 0
B67: =OFFSET(D52,MATCH(MAX(D53:D62),D53:D62,0),0) -> #N/A | C67: =OFFSET(C52,MATCH(MAX(D53:D62),D53:D62,0),0)+(10-OFFSET(E52,MATCH(MAX(D53:D62),D53:D62,0),0)) -> #N/A | H67: =OFFSET(J52,MATCH(MAX(J53:J62),J53:J62,0),0) -> #N/A | I67: =OFFSET(I52,MATCH(MAX(J53:J62),J53:J62,0),0)+(10-OFFSET(K52,MATCH(MAX(J53:J62),J53:J62,0),0)) -> #N/A | N67: =OFFSET(P52,MATCH(MAX(P53:P62),P53:P62,0),0) -> #N/A | O67: =OFFSET(O52,MATCH(MAX(P53:P62),P53:P62,0),0)+(10-OFFSET(Q52,MATCH(MAX(P53:P62),P53:P62,0),0)) -> #N/A | Q67: =IFERROR(AVERAGE(AVERAGE(E53:E62),AVERAGE(K53:K62),AVERAGE(Q53:Q62)),"") | R67: =COUNTIF(C53:C62,">0")+COUNTIF(I53:I62,">0")+COUNTIF(O53:O62,">0") -> 0
B69: General Physical Prepardness (GPP)
C73: ='Training Plan'!I131 -> 0 | F73: ='Training Plan'!I135 -> 0 | I73: ='Training Plan'!I139 -> 0 | L73: ='Training Plan'!I143 -> 0 | O73: ='Training Plan'!I147 -> 0
C75: ='Training Plan'!I132 -> 0 | F75: ='Training Plan'!I136 -> 0 | I75: ='Training Plan'!I140 -> 0 | L75: ='Training Plan'!I144 -> 0 | O75: ='Training Plan'!I148 -> 0
C78: Log | F78: Log | I78: Log | L78: Log | O78: Log
B84: Day 3
B88: 1 | C88: ='Training Plan'!L132 -> 0 | H88: 2 | I88: ='Training Plan'!L140 -> 0 | N88: 3 | O88: ='Training Plan'!L148 -> 0
B90: Sets x Reps @RPE / % | D90: ='Training Plan'!L133 -> 0 | H90: Sets x Reps @RPE / % | J90: ='Training Plan'!L141 -> 0 | N90: Sets x Reps @RPE / % | P90: ='Training Plan'!L149 -> 0
B95: Rest Periods | D95: ='Training Plan'!M138 -> 0 | H95: Rest Periods | J95: ='Training Plan'!M146 -> 0 | N95: Rest Periods | P95: ='Training Plan'!M154 -> 0
B97: Sets | C97: Reps | D97: Weight | E97: RPE | F97: Relative Intensity | H97: Sets | I97: Reps | J97: Weight | K97: RPE | L97: Relative Intensity | N97: Sets | O97: Reps | P97: Weight | Q97: RPE | R97: Relative Intensity
B98: 1 | F98: =IF(ISNUMBER(D98),D98/B110,) -> 0 | H98: 1 | L98: =IF(ISNUMBER(J98),J98/H110,) -> 0 | N98: 1 | R98: =IF(ISNUMBER(P98),P98/N110,) -> 0
B99: 2 | F99: =IF(ISNUMBER(D99),D99/B110,) -> 0 | H99: 2 | L99: =IF(ISNUMBER(J99),J99/H110,) -> 0 | N99: 2 | R99: =IF(ISNUMBER(P99),P99/N110,) -> 0
B100: 3 | F100: =IF(ISNUMBER(D100),D100/B110,) -> 0 | H100: 3 | L100: =IF(ISNUMBER(J100),J100/H110,) -> 0 | N100: 3 | R100: =IF(ISNUMBER(P100),P100/N110,) -> 0
B101: 4 | F101: =IF(ISNUMBER(D101),D101/B110,) -> 0 | H101: 4 | L101: =IF(ISNUMBER(J101),J101/H110,) -> 0 | N101: 4 | R101: =IF(ISNUMBER(P101),P101/N110,) -> 0
B102: 5 | F102: =IF(ISNUMBER(D102),D102/B110,) -> 0 | H102: 5 | L102: =IF(ISNUMBER(J102),J102/H110,) -> 0 | N102: 5 | R102: =IF(ISNUMBER(P102),P102/N110,) -> 0
B103: 6 | F103: =IF(ISNUMBER(D103),D103/B110,) -> 0 | H103: 6 | L103: =IF(ISNUMBER(J103),J103/H110,) -> 0 | N103: 6 | R103: =IF(ISNUMBER(P103),P103/N110,) -> 0
B104: 7 | F104: =IF(ISNUMBER(D104),D104/B110,) -> 0 | H104: 7 | L104: =IF(ISNUMBER(J104),J104/H110,) -> 0 | N104: 7 | R104: =IF(ISNUMBER(P104),P104/N110,) -> 0
B105: 8 | F105: =IF(ISNUMBER(D105),D105/B110,) -> 0 | H105: 8 | L105: =IF(ISNUMBER(J105),J105/H110,) -> 0 | N105: 8 | R105: =IF(ISNUMBER(P105),P105/N110,) -> 0
B106: 9 | F106: =IF(ISNUMBER(D106),D106/B110,) -> 0 | H106: 9 | L106: =IF(ISNUMBER(J106),J106/H110,) -> 0 | N106: 9 | R106: =IF(ISNUMBER(P106),P106/N110,) -> 0
B107: 10 | F107: =IF(ISNUMBER(D107),D107/B110,) -> 0 | H107: 10 | L107: =IF(ISNUMBER(J107),J107/H110,) -> 0 | N107: 10 | R107: =IF(ISNUMBER(P107),P107/N110,) -> 0
B108: e1RM | C108: Average Intensity | E108: =IFERROR(IF(COUNT(F98:F107)>0,AVERAGEIF(F98:F107,">0"),0),) -> 0 | H108: e1RM | I108: Average Intensity | K108: =IFERROR(IF(COUNT(L98:L107)>0,AVERAGEIF(L98:L107,">0"),0),) -> 0 | N108: e1RM | O108: Average Intensity | P108: =IFERROR(IF(COUNT(R98:R107)>0,AVERAGEIF(R98:R107,">0"),0),) -> 0 | Q108: sRPE | R108: =IFERROR(Q112*R112,"")
B110: =IFERROR(ROUNDUP(B112/(0.0005*C112^2-0.0342*C112+1.034),0),) -> 0 | C110: nReps | D110: =SUM(C98:C107) -> 0 | E110: Volume | F110: =SUM(C98*D98,C99*D99,C100*D100,C101*D101,C102*D102,C103*D103,C104*D104,C105*D105,C106*D106,C107*D107) -> 0 | H110: =IFERROR(ROUNDUP(H112/(0.0005*I112^2-0.0342*I112+1.034),0),) -> 0 | I110: nReps | J110: =SUM(I98:I107) -> 0 | K110: Volume | L110: =SUM(I98*J98,I99*J99,I100*J100,I101*J101,I102*J102,I103*J103,I104*J104,I105*J105,I106*J106,I107*J107) -> 0 | N110: =IFERROR(ROUNDUP(N112/(0.0005*O112^2-0.0342*O112+1.034),0),) -> 0 | O110: nReps | P110: =SUM(O98:O107) -> 0 | Q110: Volume | R110: =SUM(O98*P98,O99*P99,O100*P100,O101*P101,O102*P102,O103*P103,O104*P104,O105*P105,O106*P106,O107*P107) -> 0
B112: =OFFSET(D97,MATCH(MAX(D98:D107),D98:D107,0),0) -> #N/A | C112: =OFFSET(C97,MATCH(MAX(D98:D107),D98:D107,0),0)+(10-OFFSET(E97,MATCH(MAX(D98:D107),D98:D107,0),0)) -> #N/A | H112: =OFFSET(J97,MATCH(MAX(J98:J107),J98:J107,0),0) -> #N/A | I112: =OFFSET(I97,MATCH(MAX(J98:J107),J98:J107,0),0)+(10-OFFSET(K97,MATCH(MAX(J98:J107),J98:J107,0),0)) -> #N/A | N112: =OFFSET(P97,MATCH(MAX(P98:P107),P98:P107,0),0) -> #N/A | O112: =OFFSET(O97,MATCH(MAX(P98:P107),P98:P107,0),0)+(10-OFFSET(Q97,MATCH(MAX(P98:P107),P98:P107,0),0)) -> #N/A | Q112: =IFERROR(AVERAGE(AVERAGE(E98:E107),AVERAGE(K98:K107),AVERAGE(Q98:Q107)),"") | R112: =COUNTIF(C98:C107,">0")+COUNTIF(I98:I107,">0")+COUNTIF(O98:O107,">0") -> 0
B114: Day 4
B118: 1 | C118: ='Training Plan'!O132 -> 0 | H118: 2 | I118: ='Training Plan'!O140 -> 0 | N118: 3 | O118: ='Training Plan'!O148 -> 0
B120: Sets x Reps @RPE / % | D120: ='Training Plan'!O133 -> 0 | H120: Sets x Reps @RPE / % | J120: ='Training Plan'!O141 -> 0 | N120: Sets x Reps @RPE / % | P120: ='Training Plan'!O149 -> 0
B125: Rest Periods | D125: ='Training Plan'!P138 -> 0 | H125: Rest Periods | J125: ='Training Plan'!P146 -> 0 | N125: Rest Periods | P125: ='Training Plan'!P154 -> 0
B127: Sets | C127: Reps | D127: Weight | E127: RPE | F127: Relative Intensity | H127: Sets | I127: Reps | J127: Weight | K127: RPE | L127: Relative Intensity | N127: Sets | O127: Reps | P127: Weight | Q127: RPE | R127: Relative Intensity
B128: 1 | F128: =IF(ISNUMBER(D128),D128/B140,) -> 0 | H128: 1 | L128: =IF(ISNUMBER(J128),J128/H140,) -> 0 | N128: 1 | R128: =IF(ISNUMBER(P128),P128/N140,) -> 0
B129: 2 | F129: =IF(ISNUMBER(D129),D129/B140,) -> 0 | H129: 2 | L129: =IF(ISNUMBER(J129),J129/H140,) -> 0 | N129: 2 | R129: =IF(ISNUMBER(P129),P129/N140,) -> 0
B130: 3 | F130: =IF(ISNUMBER(D130),D130/B140,) -> 0 | H130: 3 | L130: =IF(ISNUMBER(J130),J130/H140,) -> 0 | N130: 3 | R130: =IF(ISNUMBER(P130),P130/N140,) -> 0
B131: 4 | F131: =IF(ISNUMBER(D131),D131/B140,) -> 0 | H131: 4 | L131: =IF(ISNUMBER(J131),J131/H140,) -> 0 | N131: 4 | R131: =IF(ISNUMBER(P131),P131/N140,) -> 0
B132: 5 | F132: =IF(ISNUMBER(D132),D132/B140,) -> 0 | H132: 5 | L132: =IF(ISNUMBER(J132),J132/H140,) -> 0 | N132: 5 | R132: =IF(ISNUMBER(P132),P132/N140,) -> 0
B133: 6 | F133: =IF(ISNUMBER(D133),D133/B140,) -> 0 | H133: 6 | L133: =IF(ISNUMBER(J133),J133/H140,) -> 0 | N133: 6 | R133: =IF(ISNUMBER(P133),P133/N140,) -> 0
B134: 7 | F134: =IF(ISNUMBER(D134),D134/B140,) -> 0 | H134: 7 | L134: =IF(ISNUMBER(J134),J134/H140,) -> 0 | N134: 7 | R134: =IF(ISNUMBER(P134),P134/N140,) -> 0
B135: 8 | F135: =IF(ISNUMBER(D135),D135/B140,) -> 0 | H135: 8 | L135: =IF(ISNUMBER(J135),J135/H140,) -> 0 | N135: 8 | R135: =IF(ISNUMBER(P135),P135/N140,) -> 0
B136: 9 | F136: =IF(ISNUMBER(D136),D136/B140,) -> 0 | H136: 9 | L136: =IF(ISNUMBER(J136),J136/H140,) -> 0 | N136: 9 | R136: =IF(ISNUMBER(P136),P136/N140,) -> 0
B137: 10 | F137: =IF(ISNUMBER(D137),D137/B140,) -> 0 | H137: 10 | L137: =IF(ISNUMBER(J137),J137/H140,) -> 0 | N137: 10 | R137: =IF(ISNUMBER(P137),P137/N140,) -> 0
B138: e1RM | C138: Average Intensity | E138: =IFERROR(IF(COUNT(F128:F137)>0,AVERAGEIF(F128:F137,">0"),0),) -> 0 | H138: e1RM | I138: Average Intensity | K138: =IFERROR(IF(COUNT(L128:L137)>0,AVERAGEIF(L128:L137,">0"),0),) -> 0 | N138: e1RM | O138: Average Intensity | P138: =IFERROR(IF(COUNT(R128:R137)>0,AVERAGEIF(R128:R137,">0"),0),) -> 0 | Q138: sRPE | R138: =IFERROR(Q142*R142,"")
B140: =IFERROR(ROUNDUP(B142/(0.0005*C142^2-0.0342*C142+1.034),0),) -> 0 | C140: nReps | D140: =SUM(C128:C137) -> 0 | E140: Volume | F140: =SUM(C128*D128,C129*D129,C130*D130,C131*D131,C132*D132,C133*D133,C134*D134,C135*D135,C136*D136,C137*D137) -> 0 | H140: =IFERROR(ROUNDUP(H142/(0.0005*I142^2-0.0342*I142+1.034),0),) -> 0 | I140: nReps | J140: =SUM(I128:I137) -> 0 | K140: Volume | L140: =SUM(I128*J128,I129*J129,I130*J130,I131*J131,I132*J132,I133*J133,I134*J134,I135*J135,I136*J136,I137*J137) -> 0 | N140: =IFERROR(ROUNDUP(N142/(0.0005*O142^2-0.0342*O142+1.034),0),) -> 0 | O140: nReps | P140: =SUM(O128:O137) -> 0 | Q140: Volume | R140: =SUM(O128*P128,O129*P129,O130*P130,O131*P131,O132*P132,O133*P133,O134*P134,O135*P135,O136*P136,O137*P137) -> 0
B142: =OFFSET(D127,MATCH(MAX(D128:D137),D128:D137,0),0) -> #N/A | C142: =OFFSET(C127,MATCH(MAX(D128:D137),D128:D137,0),0)+(10-OFFSET(E127,MATCH(MAX(D128:D137),D128:D137,0),0)) -> #N/A | H142: =OFFSET(J127,MATCH(MAX(J128:J137),J128:J137,0),0) -> #N/A | I142: =OFFSET(I127,MATCH(MAX(J128:J137),J128:J137,0),0)+(10-OFFSET(K127,MATCH(MAX(J128:J137),J128:J137,0),0)) -> #N/A | N142: =OFFSET(P127,MATCH(MAX(P128:P137),P128:P137,0),0) -> #N/A | O142: =OFFSET(O127,MATCH(MAX(P128:P137),P128:P137,0),0)+(10-OFFSET(Q127,MATCH(MAX(P128:P137),P128:P137,0),0)) -> #N/A | Q142: =IFERROR(AVERAGE(AVERAGE(E128:E137),AVERAGE(K128:K137),AVERAGE(Q128:Q137)),"") | R142: =COUNTIF(C128:C137,">0")+COUNTIF(I128:I137,">0")+COUNTIF(O128:O137,">0") -> 0
B144: Fatigue Assessement & Comments and Observations
C148: Sleep Quality | E148: Calorie Intake | G148: Perceived Recovery | I148: Perceived Stress | K148: Bodyweight (kg) | M148: Comments and Observations
B150: Day 1 | C150: Moderate (5h ; little disruptions) | E150: Maintenance Phase | G150: Well Recovered (little fatigued) | I150: Some Stress in the Day
B152: Day 2 | C152: Very Well (8h+ ; no disruptions) | E152: Maintenance Phase | G152: Well Recovered (little fatigued) | I152: Some Stress in the Day
B154: Day 3 | C154: Very Well (8h+ ; no disruptions) | E154: Maintenance Phase | G154: Well Recovered (little fatigued) | I154: Some Stress in the Day
B156: Day 4 | C156: Very Well (8h+ ; no disruptions) | E156: Maintenance Phase | G156: Well Recovered (little fatigued) | I156: Some Stress in the Day
B158: Day 5 | C158: Very Well (8h+ ; no disruptions) | E158: Maintenance Phase | G158: Well Recovered (little fatigued) | I158: Some Stress in the Day
B160: Day 6 | C160: Very Well (8h+ ; no disruptions) | E160: Maintenance Phase | G160: Well Recovered (little fatigued) | I160: Some Stress in the Day
B162: Day 7 | C162: Very Well (8h+ ; no disruptions) | E162: Maintenance Phase | G162: Well Recovered (little fatigued) | I162: Some Stress in the Day
G176: Sleep Quality
H177: Very Well (8h+ ; no disruptions) | I177: 0.2
H178: Well (6/7h ; weak disruptions) | I178: 0.4
H179: Moderate (5h ; little disruptions) | I179: 0.6 | M179: sleep | N179: calorie | O179: recovery | P179: stress
H180: Poor (4h ; some disruptions) | I180: 0.8 | L180: 1 | M180: =IF(C150="","",VLOOKUP(C150,H177:I181,2,0)) -> 0.6 | N180: =IF(E150="","",VLOOKUP(E150,H184:I188,2,0)) -> 0.3 | O180: =IF(G150="","",VLOOKUP(G150,H191:I195,2,0)) -> 0.2 | P180: =IF(I150="","",VLOOKUP(I150,H198:I202,2,0)) -> 0.4
H181: Very Poor (-3h ; lot of disruptions) | I181: 1 | L181: 2 | M181: =IF(C152="","",VLOOKUP(C152,H177:I181,2,0)) -> 0.2 | N181: =IF(E152="","",VLOOKUP(E152,H184:I188,2,0)) -> 0.3 | O181: =IF(G152="","",VLOOKUP(G152,H191:I195,2,0)) -> 0.2 | P181: =IF(I152="","",VLOOKUP(I152,H198:I202,2,0)) -> 0.4
L182: 3 | M182: =IF(C154="","",VLOOKUP(C154,H177:I181,2,0)) -> 0.2 | N182: =IF(E154="","",VLOOKUP(E154,H184:I188,2,0)) -> 0.3 | O182: =IF(G154="","",VLOOKUP(G154,H191:I195,2,0)) -> 0.2 | P182: =IF(I154="","",VLOOKUP(I154,H198:I202,2,0)) -> 0.4
G183: Calorie Intake | L183: 4 | M183: =IF(C156="","",VLOOKUP(C156,H177:I181,2,0)) -> 0.2 | N183: =IF(E156="","",VLOOKUP(E156,H184:I188,2,0)) -> 0.3 | O183: =IF(G156="","",VLOOKUP(G156,H191:I195,2,0)) -> 0.2 | P183: =IF(I156="","",VLOOKUP(I156,H198:I202,2,0)) -> 0.4
H184: Surplus of 600 kcals or more | I184: 0.1 | L184: 5 | M184: =IF(C158="","",VLOOKUP(C158,H177:I181,2,0)) -> 0.2 | N184: =IF(E158="","",VLOOKUP(E158,H184:I188,2,0)) -> 0.3 | O184: =IF(G158="","",VLOOKUP(G158,H191:I195,2,0)) -> 0.2 | P184: =IF(I158="","",VLOOKUP(I158,H198:I202,2,0)) -> 0.4
H185: Surplus of 250/500 kcals | I185: 0.2 | L185: 6 | M185: =IF(C160="","",VLOOKUP(C160,H177:I181,2,0)) -> 0.2 | N185: =IF(E160="","",VLOOKUP(E160,H184:I188,2,0)) -> 0.3 | O185: =IF(G160="","",VLOOKUP(G160,H191:I195,2,0)) -> 0.2 | P185: =IF(I160="","",VLOOKUP(I160,H198:I202,2,0)) -> 0.4
H186: Maintenance Phase | I186: 0.3 | L186: 7 | M186: =IF(C162="","",VLOOKUP(C162,H177:I181,2,0)) -> 0.2 | N186: =IF(E162="","",VLOOKUP(E162,H184:I188,2,0)) -> 0.3 | O186: =IF(G162="","",VLOOKUP(G162,H191:I195,2,0)) -> 0.2 | P186: =IF(I162="","",VLOOKUP(I162,H198:I202,2,0)) -> 0.4
H187: Deficit of 250/500 kcals | I187: 0.4
H188: Deficit of 600 kcals or more | I188: 0.5
G190: Perceived Recovery | N190: =IFERROR(AVERAGE(K150:L163),"0,0 kg") -> 0,0 kg
...

Sheet Week 6
C3: ='Training Plan'!B157 -> 0 | E3: Week 6 Training Log
B9: Day 1
B13: 1 | C13: ='Training Plan'!C161 -> 0 | H13: 2 | I13: ='Training Plan'!C169 -> 0 | N13: 3 | O13: ='Training Plan'!C177 -> 0
B15: Sets x Reps @RPE / % | D15: ='Training Plan'!C162 -> 0 | H15: Sets x Reps @RPE / % | J15: ='Training Plan'!C170 -> 0 | N15: Sets x Reps @RPE / % | P15: ='Training Plan'!C178 -> 0
B20: Rest Periods | D20: ='Training Plan'!D167 -> 0 | H20: Rest Periods | J20: ='Training Plan'!D175 -> 0 | N20: Rest Periods | P20: ='Training Plan'!D183 -> 0
B22: Sets | C22: Reps | D22: Weight | E22: RPE | F22: Relative Intensity | H22: Sets | I22: Reps | J22: Weight | K22: RPE | L22: Relative Intensity | N22: Sets | O22: Reps | P22: Weight | Q22: RPE | R22: Relative Intensity
B23: 1 | F23: =IF(ISNUMBER(D23),D23/B35,) -> 0 | H23: 1 | L23: =IF(ISNUMBER(J23),J23/H35,) -> 0 | N23: 1 | R23: =IF(ISNUMBER(P23),P23/N35,) -> 0
B24: 2 | F24: =IF(ISNUMBER(D24),D24/B35,) -> 0 | H24: 2 | L24: =IF(ISNUMBER(J24),J24/H35,) -> 0 | N24: 2 | R24: =IF(ISNUMBER(P24),P24/N35,) -> 0
B25: 3 | F25: =IF(ISNUMBER(D25),D25/B35,) -> 0 | H25: 3 | L25: =IF(ISNUMBER(J25),J25/H35,) -> 0 | N25: 3 | R25: =IF(ISNUMBER(P25),P25/N35,) -> 0
B26: 4 | F26: =IF(ISNUMBER(D26),D26/B35,) -> 0 | H26: 4 | L26: =IF(ISNUMBER(J26),J26/H35,) -> 0 | N26: 4 | R26: =IF(ISNUMBER(P26),P26/N35,) -> 0
B27: 5 | F27: =IF(ISNUMBER(D27),D27/B35,) -> 0 | H27: 5 | L27: =IF(ISNUMBER(J27),J27/H35,) -> 0 | N27: 5 | R27: =IF(ISNUMBER(P27),P27/N35,) -> 0
B28: 6 | F28: =IF(ISNUMBER(D28),D28/B35,) -> 0 | H28: 6 | L28: =IF(ISNUMBER(J28),J28/H35,) -> 0 | N28: 6 | R28: =IF(ISNUMBER(P28),P28/N35,) -> 0
B29: 7 | F29: =IF(ISNUMBER(D29),D29/B35,) -> 0 | H29: 7 | L29: =IF(ISNUMBER(J29),J29/H35,) -> 0 | N29: 7 | R29: =IF(ISNUMBER(P29),P29/N35,) -> 0
B30: 8 | F30: =IF(ISNUMBER(D30),D30/B35,) -> 0 | H30: 8 | L30: =IF(ISNUMBER(J30),J30/H35,) -> 0 | N30: 8 | R30: =IF(ISNUMBER(P30),P30/N35,) -> 0
B31: 9 | F31: =IF(ISNUMBER(D31),D31/B35,) -> 0 | H31: 9 | L31: =IF(ISNUMBER(J31),J31/H35,) -> 0 | N31: 9 | R31: =IF(ISNUMBER(P31),P31/N35,) -> 0
B32: 10 | F32: =IF(ISNUMBER(D32),D32/B35,) -> 0 | H32: 10 | L32: =IF(ISNUMBER(J32),J32/H35,) -> 0 | N32: 10 | R32: =IF(ISNUMBER(P32),P32/N35,) -> 0
B33: e1RM | C33: Average Intensity | E33: =IFERROR(IF(COUNT(F23:F32)>0,AVERAGEIF(F23:F32,">0"),0),) -> 0 | H33: e1RM | I33: Average Intensity | K33: =IFERROR(IF(COUNT(L23:L32)>0,AVERAGEIF(L23:L32,">0"),0),) -> 0 | N33: e1RM | O33: Average Intensity | P33: =IFERROR(IF(COUNT(R23:R32)>0,AVERAGEIF(R23:R32,">0"),0),) -> 0 | Q33: sRPE | R33: =IFERROR(Q37*R37,"")
B35: =IFERROR(ROUNDUP(B37/(0.0005*C37^2-0.0342*C37+1.034),0),) -> 0 | C35: nReps | D35: =SUM(C23:C32) -> 0 | E35: Volume | F35: =SUM(C23*D23,C24*D24,C25*D25,C26*D26,C27*D27,C28*D28,C29*D29,C30*D30,C31*D31,C32*D32) -> 0 | H35: =IFERROR(ROUNDUP(H37/(0.0005*I37^2-0.0342*I37+1.034),0),) -> 0 | I35: nReps | J35: =SUM(I23:I32) -> 0 | K35: Volume | L35: =SUM(I23*J23,I24*J24,I25*J25,I26*J26,I27*J27,I28*J28,I29*J29,I30*J30,I31*J31,I32*J32) -> 0 | N35: =IFERROR(ROUNDUP(N37/(0.0005*O37^2-0.0342*O37+1.034),0),) -> 0 | O35: nReps | P35: =SUM(O23:O32) -> 0 | Q35: Volume | R35: =SUM(O23*P23,O24*P24,O25*P25,O26*P26,O27*P27,O28*P28,O29*P29,O30*P30,O31*P31,O32*P32) -> 0
B37: =OFFSET(D22,MATCH(MAX(D23:D32),D23:D32,0),0) -> #N/A | C37: =OFFSET(C22,MATCH(MAX(D23:D32),D23:D32,0),0)+(10-OFFSET(E22,MATCH(MAX(D23:D32),D23:D32,0),0)) -> #N/A | H37: =OFFSET(J22,MATCH(MAX(J23:J32),J23:J32,0),0) -> #N/A | I37: =OFFSET(I22,MATCH(MAX(J23:J32),J23:J32,0),0)+(10-OFFSET(K22,MATCH(MAX(J23:J32),J23:J32,0),0)) -> #N/A | N37: =OFFSET(P22,MATCH(MAX(P23:P32),P23:P32,0),0) -> #N/A | O37: =OFFSET(O22,MATCH(MAX(P23:P32),P23:P32,0),0)+(10-OFFSET(Q22,MATCH(MAX(P23:P32),P23:P32,0),0)) -> #N/A | Q37: =IFERROR(AVERAGE(AVERAGE(E23:E32),AVERAGE(K23:K32),AVERAGE(Q23:Q32)),"") | R37: =COUNTIF(C23:C32,">0")+COUNTIF(I23:I32,">0")+COUNTIF(O23:O32,">0") -> 0
B39: Day 2
B43: 1 | C43: ='Training Plan'!F161 -> 0 | H43: 2 | I43: ='Training Plan'!F169 -> 0 | N43: 3 | O43: ='Training Plan'!F177 -> 0
B45: Sets x Reps @RPE / % | D45: ='Training Plan'!F162 -> 0 | H45: Sets x Reps @RPE / % | J45: ='Training Plan'!F170 -> 0 | N45: Sets x Reps @RPE / % | P45: ='Training Plan'!F178 -> 0
B50: Rest Periods | D50: ='Training Plan'!G167 -> 0 | H50: Rest Periods | J50: ='Training Plan'!G175 -> 0 | N50: Rest Periods | P50: ='Training Plan'!G183 -> 0
B52: Sets | C52: Reps | D52: Weight | E52: RPE | F52: Relative Intensity | H52: Sets | I52: Reps | J52: Weight | K52: RPE | L52: Relative Intensity | N52: Sets | O52: Reps | P52: Weight | Q52: RPE | R52: Relative Intensity
B53: 1 | F53: =IF(ISNUMBER(D53),D53/B65,) -> 0 | H53: 1 | L53: =IF(ISNUMBER(J53),J53/H65,) -> 0 | N53: 1 | R53: =IF(ISNUMBER(P53),P53/N65,) -> 0
B54: 2 | F54: =IF(ISNUMBER(D54),D54/B65,) -> 0 | H54: 2 | L54: =IF(ISNUMBER(J54),J54/H65,) -> 0 | N54: 2 | R54: =IF(ISNUMBER(P54),P54/N65,) -> 0
B55: 3 | F55: =IF(ISNUMBER(D55),D55/B65,) -> 0 | H55: 3 | L55: =IF(ISNUMBER(J55),J55/H65,) -> 0 | N55: 3 | R55: =IF(ISNUMBER(P55),P55/N65,) -> 0
B56: 4 | F56: =IF(ISNUMBER(D56),D56/B65,) -> 0 | H56: 4 | L56: =IF(ISNUMBER(J56),J56/H65,) -> 0 | N56: 4 | R56: =IF(ISNUMBER(P56),P56/N65,) -> 0
B57: 5 | F57: =IF(ISNUMBER(D57),D57/B65,) -> 0 | H57: 5 | L57: =IF(ISNUMBER(J57),J57/H65,) -> 0 | N57: 5 | R57: =IF(ISNUMBER(P57),P57/N65,) -> 0
B58: 6 | F58: =IF(ISNUMBER(D58),D58/B65,) -> 0 | H58: 6 | L58: =IF(ISNUMBER(J58),J58/H65,) -> 0 | N58: 6 | R58: =IF(ISNUMBER(P58),P58/N65,) -> 0
B59: 7 | F59: =IF(ISNUMBER(D59),D59/B65,) -> 0 | H59: 7 | L59: =IF(ISNUMBER(J59),J59/H65,) -> 0 | N59: 7 | R59: =IF(ISNUMBER(P59),P59/N65,) -> 0
B60: 8 | F60: =IF(ISNUMBER(D60),D60/B65,) -> 0 | H60: 8 | L60: =IF(ISNUMBER(J60),J60/H65,) -> 0 | N60: 8 | R60: =IF(ISNUMBER(P60),P60/N65,) -> 0
B61: 9 | F61: =IF(ISNUMBER(D61),D61/B65,) -> 0 | H61: 9 | L61: =IF(ISNUMBER(J61),J61/H65,) -> 0 | N61: 9 | R61: =IF(ISNUMBER(P61),P61/N65,) -> 0
B62: 10 | F62: =IF(ISNUMBER(D62),D62/B65,) -> 0 | H62: 10 | L62: =IF(ISNUMBER(J62),J62/H65,) -> 0 | N62: 10 | R62: =IF(ISNUMBER(P62),P62/N65,) -> 0
B63: e1RM | C63: Average Intensity | E63: =IFERROR(IF(COUNT(F53:F62)>0,AVERAGEIF(F53:F62,">0"),0),) -> 0 | H63: e1RM | I63: Average Intensity | K63: =IFERROR(IF(COUNT(L53:L62)>0,AVERAGEIF(L53:L62,">0"),0),) -> 0 | N63: e1RM | O63: Average Intensity | P63: =IFERROR(IF(COUNT(R53:R62)>0,AVERAGEIF(R53:R62,">0"),0),) -> 0 | Q63: sRPE | R63: =IFERROR(Q67*R67,"")
B65: =IFERROR(ROUNDUP(B67/(0.0005*C67^2-0.0342*C67+1.034),0),) -> 0 | C65: nReps | D65: =SUM(C53:C62) -> 0 | E65: Volume | F65: =SUM(C53*D53,C54*D54,C55*D55,C56*D56,C57*D57,C58*D58,C59*D59,C60*D60,C61*D61,C62*D62) -> 0 | H65: =IFERROR(ROUNDUP(H67/(0.0005*I67^2-0.0342*I67+1.034),0),) -> 0 | I65: nReps | J65: =SUM(I53:I62) -> 0 | K65: Volume | L65: =SUM(I53*J53,I54*J54,I55*J55,I56*J56,I57*J57,I58*J58,I59*J59,I60*J60,I61*J61,I62*J62) -> 0 | N65: =IFERROR(ROUNDUP(N67/(0.0005*O67^2-0.0342*O67+1.034),0),) -> 0 | O65: nReps | P65: =SUM(O53:O62) -> 0 | Q65: Volume | R65: =SUM(O53*P53,O54*P54,O55*P55,O56*P56,O57*P57,O58*P58,O59*P59,O60*P60,O61*P61,O62*P62) -> 0
B67: =OFFSET(D52,MATCH(MAX(D53:D62),D53:D62,0),0) -> #N/A | C67: =OFFSET(C52,MATCH(MAX(D53:D62),D53:D62,0),0)+(10-OFFSET(E52,MATCH(MAX(D53:D62),D53:D62,0),0)) -> #N/A | H67: =OFFSET(J52,MATCH(MAX(J53:J62),J53:J62,0),0) -> #N/A | I67: =OFFSET(I52,MATCH(MAX(J53:J62),J53:J62,0),0)+(10-OFFSET(K52,MATCH(MAX(J53:J62),J53:J62,0),0)) -> #N/A | N67: =OFFSET(P52,MATCH(MAX(P53:P62),P53:P62,0),0) -> #N/A | O67: =OFFSET(O52,MATCH(MAX(P53:P62),P53:P62,0),0)+(10-OFFSET(Q52,MATCH(MAX(P53:P62),P53:P62,0),0)) -> #N/A | Q67: =IFERROR(AVERAGE(AVERAGE(E53:E62),AVERAGE(K53:K62),AVERAGE(Q53:Q62)),"") | R67: =COUNTIF(C53:C62,">0")+COUNTIF(I53:I62,">0")+COUNTIF(O53:O62,">0") -> 0
B69: General Physical Prepardness (GPP)
C73: ='Training Plan'!I160 -> 0 | F73: ='Training Plan'!I164 -> 0 | I73: ='Training Plan'!I168 -> 0 | L73: ='Training Plan'!I172 -> 0 | O73: ='Training Plan'!I176 -> 0
C75: ='Training Plan'!I161 -> 0 | F75: ='Training Plan'!I165 -> 0 | I75: ='Training Plan'!I169 -> 0 | L75: ='Training Plan'!I173 -> 0 | O75: ='Training Plan'!I177 -> 0
C78: Log | F78: Log | I78: Log | L78: Log | O78: Log
B84: Day 3
B88: 1 | C88: ='Training Plan'!L161 -> 0 | H88: 2 | I88: ='Training Plan'!L169 -> 0 | N88: 3 | O88: ='Training Plan'!L177 -> 0
B90: Sets x Reps @RPE / % | D90: ='Training Plan'!L162 -> 0 | H90: Sets x Reps @RPE / % | J90: ='Training Plan'!L170 -> 0 | N90: Sets x Reps @RPE / % | P90: ='Training Plan'!L178 -> 0
B95: Rest Periods | D95: ='Training Plan'!M167 -> 0 | H95: Rest Periods | J95: ='Training Plan'!M175 -> 0 | N95: Rest Periods | P95: ='Training Plan'!M183 -> 0
B97: Sets | C97: Reps | D97: Weight | E97: RPE | F97: Relative Intensity | H97: Sets | I97: Reps | J97: Weight | K97: RPE | L97: Relative Intensity | N97: Sets | O97: Reps | P97: Weight | Q97: RPE | R97: Relative Intensity
B98: 1 | F98: =IF(ISNUMBER(D98),D98/B110,) -> 0 | H98: 1 | L98: =IF(ISNUMBER(J98),J98/H110,) -> 0 | N98: 1 | R98: =IF(ISNUMBER(P98),P98/N110,) -> 0
B99: 2 | F99: =IF(ISNUMBER(D99),D99/B110,) -> 0 | H99: 2 | L99: =IF(ISNUMBER(J99),J99/H110,) -> 0 | N99: 2 | R99: =IF(ISNUMBER(P99),P99/N110,) -> 0
B100: 3 | F100: =IF(ISNUMBER(D100),D100/B110,) -> 0 | H100: 3 | L100: =IF(ISNUMBER(J100),J100/H110,) -> 0 | N100: 3 | R100: =IF(ISNUMBER(P100),P100/N110,) -> 0
B101: 4 | F101: =IF(ISNUMBER(D101),D101/B110,) -> 0 | H101: 4 | L101: =IF(ISNUMBER(J101),J101/H110,) -> 0 | N101: 4 | R101: =IF(ISNUMBER(P101),P101/N110,) -> 0
B102: 5 | F102: =IF(ISNUMBER(D102),D102/B110,) -> 0 | H102: 5 | L102: =IF(ISNUMBER(J102),J102/H110,) -> 0 | N102: 5 | R102: =IF(ISNUMBER(P102),P102/N110,) -> 0
B103: 6 | F103: =IF(ISNUMBER(D103),D103/B110,) -> 0 | H103: 6 | L103: =IF(ISNUMBER(J103),J103/H110,) -> 0 | N103: 6 | R103: =IF(ISNUMBER(P103),P103/N110,) -> 0
B104: 7 | F104: =IF(ISNUMBER(D104),D104/B110,) -> 0 | H104: 7 | L104: =IF(ISNUMBER(J104),J104/H110,) -> 0 | N104: 7 | R104: =IF(ISNUMBER(P104),P104/N110,) -> 0
B105: 8 | F105: =IF(ISNUMBER(D105),D105/B110,) -> 0 | H105: 8 | L105: =IF(ISNUMBER(J105),J105/H110,) -> 0 | N105: 8 | R105: =IF(ISNUMBER(P105),P105/N110,) -> 0
B106: 9 | F106: =IF(ISNUMBER(D106),D106/B110,) -> 0 | H106: 9 | L106: =IF(ISNUMBER(J106),J106/H110,) -> 0 | N106: 9 | R106: =IF(ISNUMBER(P106),P106/N110,) -> 0
B107: 10 | F107: =IF(ISNUMBER(D107),D107/B110,) -> 0 | H107: 10 | L107: =IF(ISNUMBER(J107),J107/H110,) -> 0 | N107: 10 | R107: =IF(ISNUMBER(P107),P107/N110,) -> 0
B108: e1RM | C108: Average Intensity | E108: =IFERROR(IF(COUNT(F98:F107)>0,AVERAGEIF(F98:F107,">0"),0),) -> 0 | H108: e1RM | I108: Average Intensity | K108: =IFERROR(IF(COUNT(L98:L107)>0,AVERAGEIF(L98:L107,">0"),0),) -> 0 | N108: e1RM | O108: Average Intensity | P108: =IFERROR(IF(COUNT(R98:R107)>0,AVERAGEIF(R98:R107,">0"),0),) -> 0 | Q108: sRPE | R108: =IFERROR(Q112*R112,"")
B110: =IFERROR(ROUNDUP(B112/(0.0005*C112^2-0.0342*C112+1.034),0),) -> 0 | C110: nReps | D110: =SUM(C98:C107) -> 0 | E110: Volume | F110: =SUM(C98*D98,C99*D99,C100*D100,C101*D101,C102*D102,C103*D103,C104*D104,C105*D105,C106*D106,C107*D107) -> 0 | H110: =IFERROR(ROUNDUP(H112/(0.0005*I112^2-0.0342*I112+1.034),0),) -> 0 | I110: nReps | J110: =SUM(I98:I107) -> 0 | K110: Volume | L110: =SUM(I98*J98,I99*J99,I100*J100,I101*J101,I102*J102,I103*J103,I104*J104,I105*J105,I106*J106,I107*J107) -> 0 | N110: =IFERROR(ROUNDUP(N112/(0.0005*O112^2-0.0342*O112+1.034),0),) -> 0 | O110: nReps | P110: =SUM(O98:O107) -> 0 | Q110: Volume | R110: =SUM(O98*P98,O99*P99,O100*P100,O101*P101,O102*P102,O103*P103,O104*P104,O105*P105,O106*P106,O107*P107) -> 0
B112: =OFFSET(D97,MATCH(MAX(D98:D107),D98:D107,0),0) -> #N/A | C112: =OFFSET(C97,MATCH(MAX(D98:D107),D98:D107,0),0)+(10-OFFSET(E97,MATCH(MAX(D98:D107),D98:D107,0),0)) -> #N/A | H112: =OFFSET(J97,MATCH(MAX(J98:J107),J98:J107,0),0) -> #N/A | I112: =OFFSET(I97,MATCH(MAX(J98:J107),J98:J107,0),0)+(10-OFFSET(K97,MATCH(MAX(J98:J107),J98:J107,0),0)) -> #N/A | N112: =OFFSET(P97,MATCH(MAX(P98:P107),P98:P107,0),0) -> #N/A | O112: =OFFSET(O97,MATCH(MAX(P98:P107),P98:P107,0),0)+(10-OFFSET(Q97,MATCH(MAX(P98:P107),P98:P107,0),0)) -> #N/A | Q112: =IFERROR(AVERAGE(AVERAGE(E98:E107),AVERAGE(K98:K107),AVERAGE(Q98:Q107)),"") | R112: =COUNTIF(C98:C107,">0")+COUNTIF(I98:I107,">0")+COUNTIF(O98:O107,">0") -> 0
B114: Day 4
B118: 1 | C118: ='Training Plan'!O161 -> 0 | H118: 2 | I118: ='Training Plan'!O169 -> 0 | N118: 3 | O118: ='Training Plan'!O177 -> 0
B120: Sets x Reps @RPE / % | D120: ='Training Plan'!O162 -> 0 | H120: Sets x Reps @RPE / % | J120: ='Training Plan'!O170 -> 0 | N120: Sets x Reps @RPE / % | P120: ='Training Plan'!O178 -> 0
B125: Rest Periods | D125: ='Training Plan'!P167 -> 0 | H125: Rest Periods | J125: ='Training Plan'!P175 -> 0 | N125: Rest Periods | P125: ='Training Plan'!P183 -> 0
B127: Sets | C127: Reps | D127: Weight | E127: RPE | F127: Relative Intensity | H127: Sets | I127: Reps | J127: Weight | K127: RPE | L127: Relative Intensity | N127: Sets | O127: Reps | P127: Weight | Q127: RPE | R127: Relative Intensity
B128: 1 | F128: =IF(ISNUMBER(D128),D128/B140,) -> 0 | H128: 1 | L128: =IF(ISNUMBER(J128),J128/H140,) -> 0 | N128: 1 | R128: =IF(ISNUMBER(P128),P128/N140,) -> 0
B129: 2 | F129: =IF(ISNUMBER(D129),D129/B140,) -> 0 | H129: 2 | L129: =IF(ISNUMBER(J129),J129/H140,) -> 0 | N129: 2 | R129: =IF(ISNUMBER(P129),P129/N140,) -> 0
B130: 3 | F130: =IF(ISNUMBER(D130),D130/B140,) -> 0 | H130: 3 | L130: =IF(ISNUMBER(J130),J130/H140,) -> 0 | N130: 3 | R130: =IF(ISNUMBER(P130),P130/N140,) -> 0
B131: 4 | F131: =IF(ISNUMBER(D131),D131/B140,) -> 0 | H131: 4 | L131: =IF(ISNUMBER(J131),J131/H140,) -> 0 | N131: 4 | R131: =IF(ISNUMBER(P131),P131/N140,) -> 0
B132: 5 | F132: =IF(ISNUMBER(D132),D132/B140,) -> 0 | H132: 5 | L132: =IF(ISNUMBER(J132),J132/H140,) -> 0 | N132: 5 | R132: =IF(ISNUMBER(P132),P132/N140,) -> 0
B133: 6 | F133: =IF(ISNUMBER(D133),D133/B140,) -> 0 | H133: 6 | L133: =IF(ISNUMBER(J133),J133/H140,) -> 0 | N133: 6 | R133: =IF(ISNUMBER(P133),P133/N140,) -> 0
B134: 7 | F134: =IF(ISNUMBER(D134),D134/B140,) -> 0 | H134: 7 | L134: =IF(ISNUMBER(J134),J134/H140,) -> 0 | N134: 7 | R134: =IF(ISNUMBER(P134),P134/N140,) -> 0
B135: 8 | F135: =IF(ISNUMBER(D135),D135/B140,) -> 0 | H135: 8 | L135: =IF(ISNUMBER(J135),J135/H140,) -> 0 | N135: 8 | R135: =IF(ISNUMBER(P135),P135/N140,) -> 0
B136: 9 | F136: =IF(ISNUMBER(D136),D136/B140,) -> 0 | H136: 9 | L136: =IF(ISNUMBER(J136),J136/H140,) -> 0 | N136: 9 | R136: =IF(ISNUMBER(P136),P136/N140,) -> 0
B137: 10 | F137: =IF(ISNUMBER(D137),D137/B140,) -> 0 | H137: 10 | L137: =IF(ISNUMBER(J137),J137/H140,) -> 0 | N137: 10 | R137: =IF(ISNUMBER(P137),P137/N140,) -> 0
B138: e1RM | C138: Average Intensity | E138: =IFERROR(IF(COUNT(F128:F137)>0,AVERAGEIF(F128:F137,">0"),0),) -> 0 | H138: e1RM | I138: Average Intensity | K138: =IFERROR(IF(COUNT(L128:L137)>0,AVERAGEIF(L128:L137,">0"),0),) -> 0 | N138: e1RM | O138: Average Intensity | P138: =IFERROR(IF(COUNT(R128:R137)>0,AVERAGEIF(R128:R137,">0"),0),) -> 0 | Q138: sRPE | R138: =IFERROR(Q142*R142,"")
B140: =IFERROR(ROUNDUP(B142/(0.0005*C142^2-0.0342*C142+1.034),0),) -> 0 | C140: nReps | D140: =SUM(C128:C137) -> 0 | E140: Volume | F140: =SUM(C128*D128,C129*D129,C130*D130,C131*D131,C132*D132,C133*D133,C134*D134,C135*D135,C136*D136,C137*D137) -> 0 | H140: =IFERROR(ROUNDUP(H142/(0.0005*I142^2-0.0342*I142+1.034),0),) -> 0 | I140: nReps | J140: =SUM(I128:I137) -> 0 | K140: Volume | L140: =SUM(I128*J128,I129*J129,I130*J130,I131*J131,I132*J132,I133*J133,I134*J134,I135*J135,I136*J136,I137*J137) -> 0 | N140: =IFERROR(ROUNDUP(N142/(0.0005*O142^2-0.0342*O142+1.034),0),) -> 0 | O140: nReps | P140: =SUM(O128:O137) -> 0 | Q140: Volume | R140: =SUM(O128*P128,O129*P129,O130*P130,O131*P131,O132*P132,O133*P133,O134*P134,O135*P135,O136*P136,O137*P137) -> 0
B142: =OFFSET(D127,MATCH(MAX(D128:D137),D128:D137,0),0) -> #N/A | C142: =OFFSET(C127,MATCH(MAX(D128:D137),D128:D137,0),0)+(10-OFFSET(E127,MATCH(MAX(D128:D137),D128:D137,0),0)) -> #N/A | H142: =OFFSET(J127,MATCH(MAX(J128:J137),J128:J137,0),0) -> #N/A | I142: =OFFSET(I127,MATCH(MAX(J128:J137),J128:J137,0),0)+(10-OFFSET(K127,MATCH(MAX(J128:J137),J128:J137,0),0)) -> #N/A | N142: =OFFSET(P127,MATCH(MAX(P128:P137),P128:P137,0),0) -> #N/A | O142: =OFFSET(O127,MATCH(MAX(P128:P137),P128:P137,0),0)+(10-OFFSET(Q127,MATCH(MAX(P128:P137),P128:P137,0),0)) -> #N/A | Q142: =IFERROR(AVERAGE(AVERAGE(E128:E137),AVERAGE(K128:K137),AVERAGE(Q128:Q137)),"") | R142: =COUNTIF(C128:C137,">0")+COUNTIF(I128:I137,">0")+COUNTIF(O128:O137,">0") -> 0
B144: Fatigue Assessement & Comments and Observations
C148: Sleep Quality | E148: Calorie Intake | G148: Perceived Recovery | I148: Perceived Stress | K148: Bodyweight (kg) | M148: Comments and Observations
B150: Day 1 | C150: Moderate (5h ; little disruptions) | E150: Maintenance Phase | G150: Well Recovered (little fatigued) | I150: Some Stress in the Day
B152: Day 2 | C152: Very Well (8h+ ; no disruptions) | E152: Maintenance Phase | G152: Well Recovered (little fatigued) | I152: Some Stress in the Day
B154: Day 3 | C154: Very Well (8h+ ; no disruptions) | E154: Maintenance Phase | G154: Well Recovered (little fatigued) | I154: Some Stress in the Day
B156: Day 4 | C156: Very Well (8h+ ; no disruptions) | E156: Maintenance Phase | G156: Well Recovered (little fatigued) | I156: Some Stress in the Day
B158: Day 5 | C158: Very Well (8h+ ; no disruptions) | E158: Maintenance Phase | G158: Well Recovered (little fatigued) | I158: Some Stress in the Day
B160: Day 6 | C160: Very Well (8h+ ; no disruptions) | E160: Maintenance Phase | G160: Well Recovered (little fatigued) | I160: Some Stress in the Day
B162: Day 7 | C162: Very Well (8h+ ; no disruptions) | E162: Maintenance Phase | G162: Well Recovered (little fatigued) | I162: Some Stress in the Day
G176: Sleep Quality
H177: Very Well (8h+ ; no disruptions) | I177: 0.2
H178: Well (6/7h ; weak disruptions) | I178: 0.4
H179: Moderate (5h ; little disruptions) | I179: 0.6 | M179: sleep | N179: calorie | O179: recovery | P179: stress
H180: Poor (4h ; some disruptions) | I180: 0.8 | L180: 1 | M180: =IF(C150="","",VLOOKUP(C150,H177:I181,2,0)) -> 0.6 | N180: =IF(E150="","",VLOOKUP(E150,H184:I188,2,0)) -> 0.3 | O180: =IF(G150="","",VLOOKUP(G150,H191:I195,2,0)) -> 0.2 | P180: =IF(I150="","",VLOOKUP(I150,H198:I202,2,0)) -> 0.4
H181: Very Poor (-3h ; lot of disruptions) | I181: 1 | L181: 2 | M181: =IF(C152="","",VLOOKUP(C152,H177:I181,2,0)) -> 0.2 | N181: =IF(E152="","",VLOOKUP(E152,H184:I188,2,0)) -> 0.3 | O181: =IF(G152="","",VLOOKUP(G152,H191:I195,2,0)) -> 0.2 | P181: =IF(I152="","",VLOOKUP(I152,H198:I202,2,0)) -> 0.4
L182: 3 | M182: =IF(C154="","",VLOOKUP(C154,H177:I181,2,0)) -> 0.2 | N182: =IF(E154="","",VLOOKUP(E154,H184:I188,2,0)) -> 0.3 | O182: =IF(G154="","",VLOOKUP(G154,H191:I195,2,0)) -> 0.2 | P182: =IF(I154="","",VLOOKUP(I154,H198:I202,2,0)) -> 0.4
G183: Calorie Intake | L183: 4 | M183: =IF(C156="","",VLOOKUP(C156,H177:I181,2,0)) -> 0.2 | N183: =IF(E156="","",VLOOKUP(E156,H184:I188,2,0)) -> 0.3 | O183: =IF(G156="","",VLOOKUP(G156,H191:I195,2,0)) -> 0.2 | P183: =IF(I156="","",VLOOKUP(I156,H198:I202,2,0)) -> 0.4
H184: Surplus of 600 kcals or more | I184: 0.1 | L184: 5 | M184: =IF(C158="","",VLOOKUP(C158,H177:I181,2,0)) -> 0.2 | N184: =IF(E158="","",VLOOKUP(E158,H184:I188,2,0)) -> 0.3 | O184: =IF(G158="","",VLOOKUP(G158,H191:I195,2,0)) -> 0.2 | P184: =IF(I158="","",VLOOKUP(I158,H198:I202,2,0)) -> 0.4
H185: Surplus of 250/500 kcals | I185: 0.2 | L185: 6 | M185: =IF(C160="","",VLOOKUP(C160,H177:I181,2,0)) -> 0.2 | N185: =IF(E160="","",VLOOKUP(E160,H184:I188,2,0)) -> 0.3 | O185: =IF(G160="","",VLOOKUP(G160,H191:I195,2,0)) -> 0.2 | P185: =IF(I160="","",VLOOKUP(I160,H198:I202,2,0)) -> 0.4
H186: Maintenance Phase | I186: 0.3 | L186: 7 | M186: =IF(C162="","",VLOOKUP(C162,H177:I181,2,0)) -> 0.2 | N186: =IF(E162="","",VLOOKUP(E162,H184:I188,2,0)) -> 0.3 | O186: =IF(G162="","",VLOOKUP(G162,H191:I195,2,0)) -> 0.2 | P186: =IF(I162="","",VLOOKUP(I162,H198:I202,2,0)) -> 0.4
H187: Deficit of 250/500 kcals | I187: 0.4
H188: Deficit of 600 kcals or more | I188: 0.5
G190: Perceived Recovery | N190: =IFERROR(AVERAGE(K150:L163),"0,0 kg") -> 0,0 kg
...

Sheet Week 7
C3: ='Training Plan'!B186 -> 0 | E3: Week 7 Training Log
B9: Day 1
B13: 1 | C13: ='Training Plan'!C190 -> 0 | H13: 2 | I13: ='Training Plan'!C198 -> 0 | N13: 3 | O13: ='Training Plan'!C206 -> 0
B15: Sets x Reps @RPE / % | D15: ='Training Plan'!C191 -> 0 | H15: Sets x Reps @RPE / % | J15: ='Training Plan'!C199 -> 0 | N15: Sets x Reps @RPE / % | P15: ='Training Plan'!C207 -> 0
B20: Rest Periods | D20: ='Training Plan'!D196 -> 0 | H20: Rest Periods | J20: ='Training Plan'!D204 -> 0 | N20: Rest Periods | P20: ='Training Plan'!D212 -> 0
B22: Sets | C22: Reps | D22: Weight | E22: RPE | F22: Relative Intensity | H22: Sets | I22: Reps | J22: Weight | K22: RPE | L22: Relative Intensity | N22: Sets | O22: Reps | P22: Weight | Q22: RPE | R22: Relative Intensity
B23: 1 | F23: =IF(ISNUMBER(D23),D23/B35,) -> 0 | H23: 1 | L23: =IF(ISNUMBER(J23),J23/H35,) -> 0 | N23: 1 | R23: =IF(ISNUMBER(P23),P23/N35,) -> 0
B24: 2 | F24: =IF(ISNUMBER(D24),D24/B35,) -> 0 | H24: 2 | L24: =IF(ISNUMBER(J24),J24/H35,) -> 0 | N24: 2 | R24: =IF(ISNUMBER(P24),P24/N35,) -> 0
B25: 3 | F25: =IF(ISNUMBER(D25),D25/B35,) -> 0 | H25: 3 | L25: =IF(ISNUMBER(J25),J25/H35,) -> 0 | N25: 3 | R25: =IF(ISNUMBER(P25),P25/N35,) -> 0
B26: 4 | F26: =IF(ISNUMBER(D26),D26/B35,) -> 0 | H26: 4 | L26: =IF(ISNUMBER(J26),J26/H35,) -> 0 | N26: 4 | R26: =IF(ISNUMBER(P26),P26/N35,) -> 0
B27: 5 | F27: =IF(ISNUMBER(D27),D27/B35,) -> 0 | H27: 5 | L27: =IF(ISNUMBER(J27),J27/H35,) -> 0 | N27: 5 | R27: =IF(ISNUMBER(P27),P27/N35,) -> 0
B28: 6 | F28: =IF(ISNUMBER(D28),D28/B35,) -> 0 | H28: 6 | L28: =IF(ISNUMBER(J28),J28/H35,) -> 0 | N28: 6 | R28: =IF(ISNUMBER(P28),P28/N35,) -> 0
B29: 7 | F29: =IF(ISNUMBER(D29),D29/B35,) -> 0 | H29: 7 | L29: =IF(ISNUMBER(J29),J29/H35,) -> 0 | N29: 7 | R29: =IF(ISNUMBER(P29),P29/N35,) -> 0
B30: 8 | F30: =IF(ISNUMBER(D30),D30/B35,) -> 0 | H30: 8 | L30: =IF(ISNUMBER(J30),J30/H35,) -> 0 | N30: 8 | R30: =IF(ISNUMBER(P30),P30/N35,) -> 0
B31: 9 | F31: =IF(ISNUMBER(D31),D31/B35,) -> 0 | H31: 9 | L31: =IF(ISNUMBER(J31),J31/H35,) -> 0 | N31: 9 | R31: =IF(ISNUMBER(P31),P31/N35,) -> 0
B32: 10 | F32: =IF(ISNUMBER(D32),D32/B35,) -> 0 | H32: 10 | L32: =IF(ISNUMBER(J32),J32/H35,) -> 0 | N32: 10 | R32: =IF(ISNUMBER(P32),P32/N35,) -> 0
B33: e1RM | C33: Average Intensity | E33: =IFERROR(IF(COUNT(F23:F32)>0,AVERAGEIF(F23:F32,">0"),0),) -> 0 | H33: e1RM | I33: Average Intensity | K33: =IFERROR(IF(COUNT(L23:L32)>0,AVERAGEIF(L23:L32,">0"),0),) -> 0 | N33: e1RM | O33: Average Intensity | P33: =IFERROR(IF(COUNT(R23:R32)>0,AVERAGEIF(R23:R32,">0"),0),) -> 0 | Q33: sRPE | R33: =IFERROR(Q37*R37,"")
B35: =IFERROR(ROUNDUP(B37/(0.0005*C37^2-0.0342*C37+1.034),0),) -> 0 | C35: nReps | D35: =SUM(C23:C32) -> 0 | E35: Volume | F35: =SUM(C23*D23,C24*D24,C25*D25,C26*D26,C27*D27,C28*D28,C29*D29,C30*D30,C31*D31,C32*D32) -> 0 | H35: =IFERROR(ROUNDUP(H37/(0.0005*I37^2-0.0342*I37+1.034),0),) -> 0 | I35: nReps | J35: =SUM(I23:I32) -> 0 | K35: Volume | L35: =SUM(I23*J23,I24*J24,I25*J25,I26*J26,I27*J27,I28*J28,I29*J29,I30*J30,I31*J31,I32*J32) -> 0 | N35: =IFERROR(ROUNDUP(N37/(0.0005*O37^2-0.0342*O37+1.034),0),) -> 0 | O35: nReps | P35: =SUM(O23:O32) -> 0 | Q35: Volume | R35: =SUM(O23*P23,O24*P24,O25*P25,O26*P26,O27*P27,O28*P28,O29*P29,O30*P30,O31*P31,O32*P32) -> 0
B37: =OFFSET(D22,MATCH(MAX(D23:D32),D23:D32,0),0) -> #N/A | C37: =OFFSET(C22,MATCH(MAX(D23:D32),D23:D32,0),0)+(10-OFFSET(E22,MATCH(MAX(D23:D32),D23:D32,0),0)) -> #N/A | H37: =OFFSET(J22,MATCH(MAX(J23:J32),J23:J32,0),0) -> #N/A | I37: =OFFSET(I22,MATCH(MAX(J23:J32),J23:J32,0),0)+(10-OFFSET(K22,MATCH(MAX(J23:J32),J23:J32,0),0)) -> #N/A | N37: =OFFSET(P22,MATCH(MAX(P23:P32),P23:P32,0),0) -> #N/A | O37: =OFFSET(O22,MATCH(MAX(P23:P32),P23:P32,0),0)+(10-OFFSET(Q22,MATCH(MAX(P23:P32),P23:P32,0),0)) -> #N/A | Q37: =IFERROR(AVERAGE(AVERAGE(E23:E32),AVERAGE(K23:K32),AVERAGE(Q23:Q32)),"") | R37: =COUNTIF(C23:C32,">0")+COUNTIF(I23:I32,">0")+COUNTIF(O23:O32,">0") -> 0
B39: Day 2
B43: 1 | C43: ='Training Plan'!F190 -> 0 | H43: 2 | I43: ='Training Plan'!F198 -> 0 | N43: 3 | O43: ='Training Plan'!F206 -> 0
B45: Sets x Reps @RPE / % | D45: ='Training Plan'!F191 -> 0 | H45: Sets x Reps @RPE / % | J45: ='Training Plan'!F199 -> 0 | N45: Sets x Reps @RPE / % | P45: ='Training Plan'!F207 -> 0
B50: Rest Periods | D50: ='Training Plan'!G196 -> 0 | H50: Rest Periods | J50: ='Training Plan'!G204 -> 0 | N50: Rest Periods | P50: ='Training Plan'!G212 -> 0
B52: Sets | C52: Reps | D52: Weight | E52: RPE | F52: Relative Intensity | H52: Sets | I52: Reps | J52: Weight | K52: RPE | L52: Relative Intensity | N52: Sets | O52: Reps | P52: Weight | Q52: RPE | R52: Relative Intensity
B53: 1 | F53: =IF(ISNUMBER(D53),D53/B65,) -> 0 | H53: 1 | L53: =IF(ISNUMBER(J53),J53/H65,) -> 0 | N53: 1 | R53: =IF(ISNUMBER(P53),P53/N65,) -> 0
B54: 2 | F54: =IF(ISNUMBER(D54),D54/B65,) -> 0 | H54: 2 | L54: =IF(ISNUMBER(J54),J54/H65,) -> 0 | N54: 2 | R54: =IF(ISNUMBER(P54),P54/N65,) -> 0
B55: 3 | F55: =IF(ISNUMBER(D55),D55/B65,) -> 0 | H55: 3 | L55: =IF(ISNUMBER(J55),J55/H65,) -> 0 | N55: 3 | R55: =IF(ISNUMBER(P55),P55/N65,) -> 0
B56: 4 | F56: =IF(ISNUMBER(D56),D56/B65,) -> 0 | H56: 4 | L56: =IF(ISNUMBER(J56),J56/H65,) -> 0 | N56: 4 | R56: =IF(ISNUMBER(P56),P56/N65,) -> 0
B57: 5 | F57: =IF(ISNUMBER(D57),D57/B65,) -> 0 | H57: 5 | L57: =IF(ISNUMBER(J57),J57/H65,) -> 0 | N57: 5 | R57: =IF(ISNUMBER(P57),P57/N65,) -> 0
B58: 6 | F58: =IF(ISNUMBER(D58),D58/B65,) -> 0 | H58: 6 | L58: =IF(ISNUMBER(J58),J58/H65,) -> 0 | N58: 6 | R58: =IF(ISNUMBER(P58),P58/N65,) -> 0
B59: 7 | F59: =IF(ISNUMBER(D59),D59/B65,) -> 0 | H59: 7 | L59: =IF(ISNUMBER(J59),J59/H65,) -> 0 | N59: 7 | R59: =IF(ISNUMBER(P59),P59/N65,) -> 0
B60: 8 | F60: =IF(ISNUMBER(D60),D60/B65,) -> 0 | H60: 8 | L60: =IF(ISNUMBER(J60),J60/H65,) -> 0 | N60: 8 | R60: =IF(ISNUMBER(P60),P60/N65,) -> 0
B61: 9 | F61: =IF(ISNUMBER(D61),D61/B65,) -> 0 | H61: 9 | L61: =IF(ISNUMBER(J61),J61/H65,) -> 0 | N61: 9 | R61: =IF(ISNUMBER(P61),P61/N65,) -> 0
B62: 10 | F62: =IF(ISNUMBER(D62),D62/B65,) -> 0 | H62: 10 | L62: =IF(ISNUMBER(J62),J62/H65,) -> 0 | N62: 10 | R62: =IF(ISNUMBER(P62),P62/N65,) -> 0
B63: e1RM | C63: Average Intensity | E63: =IFERROR(IF(COUNT(F53:F62)>0,AVERAGEIF(F53:F62,">0"),0),) -> 0 | H63: e1RM | I63: Average Intensity | K63: =IFERROR(IF(COUNT(L53:L62)>0,AVERAGEIF(L53:L62,">0"),0),) -> 0 | N63: e1RM | O63: Average Intensity | P63: =IFERROR(IF(COUNT(R53:R62)>0,AVERAGEIF(R53:R62,">0"),0),) -> 0 | Q63: sRPE | R63: =IFERROR(Q67*R67,"")
B65: =IFERROR(ROUNDUP(B67/(0.0005*C67^2-0.0342*C67+1.034),0),) -> 0 | C65: nReps | D65: =SUM(C53:C62) -> 0 | E65: Volume | F65: =SUM(C53*D53,C54*D54,C55*D55,C56*D56,C57*D57,C58*D58,C59*D59,C60*D60,C61*D61,C62*D62) -> 0 | H65: =IFERROR(ROUNDUP(H67/(0.0005*I67^2-0.0342*I67+1.034),0),) -> 0 | I65: nReps | J65: =SUM(I53:I62) -> 0 | K65: Volume | L65: =SUM(I53*J53,I54*J54,I55*J55,I56*J56,I57*J57,I58*J58,I59*J59,I60*J60,I61*J61,I62*J62) -> 0 | N65: =IFERROR(ROUNDUP(N67/(0.0005*O67^2-0.0342*O67+1.034),0),) -> 0 | O65: nReps | P65: =SUM(O53:O62) -> 0 | Q65: Volume | R65: =SUM(O53*P53,O54*P54,O55*P55,O56*P56,O57*P57,O58*P58,O59*P59,O60*P60,O61*P61,O62*P62) -> 0
B67: =OFFSET(D52,MATCH(MAX(D53:D62),D53:D62,0),0) -> #N/A | C67: =OFFSET(C52,MATCH(MAX(D53:D62),D53:D62,0),0)+(10-OFFSET(E52,MATCH(MAX(D53:D62),D53:D62,0),0)) -> #N/A | H67: =OFFSET(J52,MATCH(MAX(J53:J62),J53:J62,0),0) -> #N/A | I67: =OFFSET(I52,MATCH(MAX(J53:J62),J53:J62,0),0)+(10-OFFSET(K52,MATCH(MAX(J53:J62),J53:J62,0),0)) -> #N/A | N67: =OFFSET(P52,MATCH(MAX(P53:P62),P53:P62,0),0) -> #N/A | O67: =OFFSET(O52,MATCH(MAX(P53:P62),P53:P62,0),0)+(10-OFFSET(Q52,MATCH(MAX(P53:P62),P53:P62,0),0)) -> #N/A | Q67: =IFERROR(AVERAGE(AVERAGE(E53:E62),AVERAGE(K53:K62),AVERAGE(Q53:Q62)),"") | R67: =COUNTIF(C53:C62,">0")+COUNTIF(I53:I62,">0")+COUNTIF(O53:O62,">0") -> 0
B69: General Physical Prepardness (GPP)
C73: ='Training Plan'!I189 -> 0 | F73: ='Training Plan'!I193 -> 0 | I73: ='Training Plan'!I197 -> 0 | L73: ='Training Plan'!I201 -> 0 | O73: ='Training Plan'!I205 -> 0
C75: ='Training Plan'!I190 -> 0 | F75: ='Training Plan'!I194 -> 0 | I75: ='Training Plan'!I198 -> 0 | L75: ='Training Plan'!I202 -> 0 | O75: ='Training Plan'!I206 -> 0
C78: Log | F78: Log | I78: Log | L78: Log | O78: Log
B84: Day 3
B88: 1 | C88: ='Training Plan'!L190 -> 0 | H88: 2 | I88: ='Training Plan'!L198 -> 0 | N88: 3 | O88: ='Training Plan'!L206 -> 0
B90: Sets x Reps @RPE / % | D90: ='Training Plan'!L191 -> 0 | H90: Sets x Reps @RPE / % | J90: ='Training Plan'!L199 -> 0 | N90: Sets x Reps @RPE / % | P90: ='Training Plan'!L207 -> 0
B95: Rest Periods | D95: ='Training Plan'!M196 -> 0 | H95: Rest Periods | J95: ='Training Plan'!M204 -> 0 | N95: Rest Periods | P95: ='Training Plan'!M212 -> 0
B97: Sets | C97: Reps | D97: Weight | E97: RPE | F97: Relative Intensity | H97: Sets | I97: Reps | J97: Weight | K97: RPE | L97: Relative Intensity | N97: Sets | O97: Reps | P97: Weight | Q97: RPE | R97: Relative Intensity
B98: 1 | F98: =IF(ISNUMBER(D98),D98/B110,) -> 0 | H98: 1 | L98: =IF(ISNUMBER(J98),J98/H110,) -> 0 | N98: 1 | R98: =IF(ISNUMBER(P98),P98/N110,) -> 0
B99: 2 | F99: =IF(ISNUMBER(D99),D99/B110,) -> 0 | H99: 2 | L99: =IF(ISNUMBER(J99),J99/H110,) -> 0 | N99: 2 | R99: =IF(ISNUMBER(P99),P99/N110,) -> 0
B100: 3 | F100: =IF(ISNUMBER(D100),D100/B110,) -> 0 | H100: 3 | L100: =IF(ISNUMBER(J100),J100/H110,) -> 0 | N100: 3 | R100: =IF(ISNUMBER(P100),P100/N110,) -> 0
B101: 4 | F101: =IF(ISNUMBER(D101),D101/B110,) -> 0 | H101: 4 | L101: =IF(ISNUMBER(J101),J101/H110,) -> 0 | N101: 4 | R101: =IF(ISNUMBER(P101),P101/N110,) -> 0
B102: 5 | F102: =IF(ISNUMBER(D102),D102/B110,) -> 0 | H102: 5 | L102: =IF(ISNUMBER(J102),J102/H110,) -> 0 | N102: 5 | R102: =IF(ISNUMBER(P102),P102/N110,) -> 0
B103: 6 | F103: =IF(ISNUMBER(D103),D103/B110,) -> 0 | H103: 6 | L103: =IF(ISNUMBER(J103),J103/H110,) -> 0 | N103: 6 | R103: =IF(ISNUMBER(P103),P103/N110,) -> 0
B104: 7 | F104: =IF(ISNUMBER(D104),D104/B110,) -> 0 | H104: 7 | L104: =IF(ISNUMBER(J104),J104/H110,) -> 0 | N104: 7 | R104: =IF(ISNUMBER(P104),P104/N110,) -> 0
B105: 8 | F105: =IF(ISNUMBER(D105),D105/B110,) -> 0 | H105: 8 | L105: =IF(ISNUMBER(J105),J105/H110,) -> 0 | N105: 8 | R105: =IF(ISNUMBER(P105),P105/N110,) -> 0
B106: 9 | F106: =IF(ISNUMBER(D106),D106/B110,) -> 0 | H106: 9 | L106: =IF(ISNUMBER(J106),J106/H110,) -> 0 | N106: 9 | R106: =IF(ISNUMBER(P106),P106/N110,) -> 0
B107: 10 | F107: =IF(ISNUMBER(D107),D107/B110,) -> 0 | H107: 10 | L107: =IF(ISNUMBER(J107),J107/H110,) -> 0 | N107: 10 | R107: =IF(ISNUMBER(P107),P107/N110,) -> 0
B108: e1RM | C108: Average Intensity | E108: =IFERROR(IF(COUNT(F98:F107)>0,AVERAGEIF(F98:F107,">0"),0),) -> 0 | H108: e1RM | I108: Average Intensity | K108: =IFERROR(IF(COUNT(L98:L107)>0,AVERAGEIF(L98:L107,">0"),0),) -> 0 | N108: e1RM | O108: Average Intensity | P108: =IFERROR(IF(COUNT(R98:R107)>0,AVERAGEIF(R98:R107,">0"),0),) -> 0 | Q108: sRPE | R108: =IFERROR(Q112*R112,"")
B110: =IFERROR(ROUNDUP(B112/(0.0005*C112^2-0.0342*C112+1.034),0),) -> 0 | C110: nReps | D110: =SUM(C98:C107) -> 0 | E110: Volume | F110: =SUM(C98*D98,C99*D99,C100*D100,C101*D101,C102*D102,C103*D103,C104*D104,C105*D105,C106*D106,C107*D107) -> 0 | H110: =IFERROR(ROUNDUP(H112/(0.0005*I112^2-0.0342*I112+1.034),0),) -> 0 | I110: nReps | J110: =SUM(I98:I107) -> 0 | K110: Volume | L110: =SUM(I98*J98,I99*J99,I100*J100,I101*J101,I102*J102,I103*J103,I104*J104,I105*J105,I106*J106,I107*J107) -> 0 | N110: =IFERROR(ROUNDUP(N112/(0.0005*O112^2-0.0342*O112+1.034),0),) -> 0 | O110: nReps | P110: =SUM(O98:O107) -> 0 | Q110: Volume | R110: =SUM(O98*P98,O99*P99,O100*P100,O101*P101,O102*P102,O103*P103,O104*P104,O105*P105,O106*P106,O107*P107) -> 0
B112: =OFFSET(D97,MATCH(MAX(D98:D107),D98:D107,0),0) -> #N/A | C112: =OFFSET(C97,MATCH(MAX(D98:D107),D98:D107,0),0)+(10-OFFSET(E97,MATCH(MAX(D98:D107),D98:D107,0),0)) -> #N/A | H112: =OFFSET(J97,MATCH(MAX(J98:J107),J98:J107,0),0) -> #N/A | I112: =OFFSET(I97,MATCH(MAX(J98:J107),J98:J107,0),0)+(10-OFFSET(K97,MATCH(MAX(J98:J107),J98:J107,0),0)) -> #N/A | N112: =OFFSET(P97,MATCH(MAX(P98:P107),P98:P107,0),0) -> #N/A | O112: =OFFSET(O97,MATCH(MAX(P98:P107),P98:P107,0),0)+(10-OFFSET(Q97,MATCH(MAX(P98:P107),P98:P107,0),0)) -> #N/A | Q112: =IFERROR(AVERAGE(AVERAGE(E98:E107),AVERAGE(K98:K107),AVERAGE(Q98:Q107)),"") | R112: =COUNTIF(C98:C107,">0")+COUNTIF(I98:I107,">0")+COUNTIF(O98:O107,">0") -> 0
B114: Day 4
B118: 1 | C118: ='Training Plan'!O190 -> 0 | H118: 2 | I118: ='Training Plan'!O198 -> 0 | N118: 3 | O118: ='Training Plan'!O206 -> 0
B120: Sets x Reps @RPE / % | D120: ='Training Plan'!O191 -> 0 | H120: Sets x Reps @RPE / % | J120: ='Training Plan'!O199 -> 0 | N120: Sets x Reps @RPE / % | P120: ='Training Plan'!O207 -> 0
B125: Rest Periods | D125: ='Training Plan'!P196 -> 0 | H125: Rest Periods | J125: ='Training Plan'!P204 -> 0 | N125: Rest Periods | P125: ='Training Plan'!P212 -> 0
B127: Sets | C127: Reps | D127: Weight | E127: RPE | F127: Relative Intensity | H127: Sets | I127: Reps | J127: Weight | K127: RPE | L127: Relative Intensity | N127: Sets | O127: Reps | P127: Weight | Q127: RPE | R127: Relative Intensity
B128: 1 | F128: =IF(ISNUMBER(D128),D128/B140,) -> 0 | H128: 1 | L128: =IF(ISNUMBER(J128),J128/H140,) -> 0 | N128: 1 | R128: =IF(ISNUMBER(P128),P128/N140,) -> 0
B129: 2 | F129: =IF(ISNUMBER(D129),D129/B140,) -> 0 | H129: 2 | L129: =IF(ISNUMBER(J129),J129/H140,) -> 0 | N129: 2 | R129: =IF(ISNUMBER(P129),P129/N140,) -> 0
B130: 3 | F130: =IF(ISNUMBER(D130),D130/B140,) -> 0 | H130: 3 | L130: =IF(ISNUMBER(J130),J130/H140,) -> 0 | N130: 3 | R130: =IF(ISNUMBER(P130),P130/N140,) -> 0
B131: 4 | F131: =IF(ISNUMBER(D131),D131/B140,) -> 0 | H131: 4 | L131: =IF(ISNUMBER(J131),J131/H140,) -> 0 | N131: 4 | R131: =IF(ISNUMBER(P131),P131/N140,) -> 0
B132: 5 | F132: =IF(ISNUMBER(D132),D132/B140,) -> 0 | H132: 5 | L132: =IF(ISNUMBER(J132),J132/H140,) -> 0 | N132: 5 | R132: =IF(ISNUMBER(P132),P132/N140,) -> 0
B133: 6 | F133: =IF(ISNUMBER(D133),D133/B140,) -> 0 | H133: 6 | L133: =IF(ISNUMBER(J133),J133/H140,) -> 0 | N133: 6 | R133: =IF(ISNUMBER(P133),P133/N140,) -> 0
B134: 7 | F134: =IF(ISNUMBER(D134),D134/B140,) -> 0 | H134: 7 | L134: =IF(ISNUMBER(J134),J134/H140,) -> 0 | N134: 7 | R134: =IF(ISNUMBER(P134),P134/N140,) -> 0
B135: 8 | F135: =IF(ISNUMBER(D135),D135/B140,) -> 0 | H135: 8 | L135: =IF(ISNUMBER(J135),J135/H140,) -> 0 | N135: 8 | R135: =IF(ISNUMBER(P135),P135/N140,) -> 0
B136: 9 | F136: =IF(ISNUMBER(D136),D136/B140,) -> 0 | H136: 9 | L136: =IF(ISNUMBER(J136),J136/H140,) -> 0 | N136: 9 | R136: =IF(ISNUMBER(P136),P136/N140,) -> 0
B137: 10 | F137: =IF(ISNUMBER(D137),D137/B140,) -> 0 | H137: 10 | L137: =IF(ISNUMBER(J137),J137/H140,) -> 0 | N137: 10 | R137: =IF(ISNUMBER(P137),P137/N140,) -> 0
B138: e1RM | C138: Average Intensity | E138: =IFERROR(IF(COUNT(F128:F137)>0,AVERAGEIF(F128:F137,">0"),0),) -> 0 | H138: e1RM | I138: Average Intensity | K138: =IFERROR(IF(COUNT(L128:L137)>0,AVERAGEIF(L128:L137,">0"),0),) -> 0 | N138: e1RM | O138: Average Intensity | P138: =IFERROR(IF(COUNT(R128:R137)>0,AVERAGEIF(R128:R137,">0"),0),) -> 0 | Q138: sRPE | R138: =IFERROR(Q142*R142,"")
B140: =IFERROR(ROUNDUP(B142/(0.0005*C142^2-0.0342*C142+1.034),0),) -> 0 | C140: nReps | D140: =SUM(C128:C137) -> 0 | E140: Volume | F140: =SUM(C128*D128,C129*D129,C130*D130,C131*D131,C132*D132,C133*D133,C134*D134,C135*D135,C136*D136,C137*D137) -> 0 | H140: =IFERROR(ROUNDUP(H142/(0.0005*I142^2-0.0342*I142+1.034),0),) -> 0 | I140: nReps | J140: =SUM(I128:I137) -> 0 | K140: Volume | L140: =SUM(I128*J128,I129*J129,I130*J130,I131*J131,I132*J132,I133*J133,I134*J134,I135*J135,I136*J136,I137*J137) -> 0 | N140: =IFERROR(ROUNDUP(N142/(0.0005*O142^2-0.0342*O142+1.034),0),) -> 0 | O140: nReps | P140: =SUM(O128:O137) -> 0 | Q140: Volume | R140: =SUM(O128*P128,O129*P129,O130*P130,O131*P131,O132*P132,O133*P133,O134*P134,O135*P135,O136*P136,O137*P137) -> 0
B142: =OFFSET(D127,MATCH(MAX(D128:D137),D128:D137,0),0) -> #N/A | C142: =OFFSET(C127,MATCH(MAX(D128:D137),D128:D137,0),0)+(10-OFFSET(E127,MATCH(MAX(D128:D137),D128:D137,0),0)) -> #N/A | H142: =OFFSET(J127,MATCH(MAX(J128:J137),J128:J137,0),0) -> #N/A | I142: =OFFSET(I127,MATCH(MAX(J128:J137),J128:J137,0),0)+(10-OFFSET(K127,MATCH(MAX(J128:J137),J128:J137,0),0)) -> #N/A | N142: =OFFSET(P127,MATCH(MAX(P128:P137),P128:P137,0),0) -> #N/A | O142: =OFFSET(O127,MATCH(MAX(P128:P137),P128:P137,0),0)+(10-OFFSET(Q127,MATCH(MAX(P128:P137),P128:P137,0),0)) -> #N/A | Q142: =IFERROR(AVERAGE(AVERAGE(E128:E137),AVERAGE(K128:K137),AVERAGE(Q128:Q137)),"") | R142: =COUNTIF(C128:C137,">0")+COUNTIF(I128:I137,">0")+COUNTIF(O128:O137,">0") -> 0
B144: Fatigue Assessement & Comments and Observations
C148: Sleep Quality | E148: Calorie Intake | G148: Perceived Recovery | I148: Perceived Stress | K148: Bodyweight (kg) | M148: Comments and Observations
B150: Day 1 | C150: Moderate (5h ; little disruptions) | E150: Maintenance Phase | G150: Well Recovered (little fatigued) | I150: Some Stress in the Day
B152: Day 2 | C152: Very Well (8h+ ; no disruptions) | E152: Maintenance Phase | G152: Well Recovered (little fatigued) | I152: Some Stress in the Day
B154: Day 3 | C154: Very Well (8h+ ; no disruptions) | E154: Deficit of 600 kcals or more | G154: Poorly Recovered (high fatigue) | I154: A lot of Stress in the Day
B156: Day 4 | C156: Very Well (8h+ ; no disruptions) | E156: Maintenance Phase | G156: Well Recovered (little fatigued) | I156: Some Stress in the Day
B158: Day 5 | C158: Very Well (8h+ ; no disruptions) | E158: Surplus of 600 kcals or more | G158: Well Recovered (little fatigued) | I158: High Stress Day
B160: Day 6 | C160: Very Well (8h+ ; no disruptions) | E160: Maintenance Phase | G160: Well Recovered (little fatigued) | I160: Some Stress in the Day
B162: Day 7 | C162: Very Well (8h+ ; no disruptions) | E162: Maintenance Phase | G162: Well Recovered (little fatigued) | I162: Some Stress in the Day
G176: Sleep Quality
H177: Very Well (8h+ ; no disruptions) | I177: 0.2
H178: Well (6/7h ; weak disruptions) | I178: 0.4
H179: Moderate (5h ; little disruptions) | I179: 0.6 | M179: sleep | N179: calorie | O179: recovery | P179: stress
H180: Poor (4h ; some disruptions) | I180: 0.8 | L180: 1 | M180: =IF(C150="","",VLOOKUP(C150,H177:I181,2,0)) -> 0.6 | N180: =IF(E150="","",VLOOKUP(E150,H184:I188,2,0)) -> 0.3 | O180: =IF(G150="","",VLOOKUP(G150,H191:I195,2,0)) -> 0.2 | P180: =IF(I150="","",VLOOKUP(I150,H198:I202,2,0)) -> 0.4
H181: Very Poor (-3h ; lot of disruptions) | I181: 1 | L181: 2 | M181: =IF(C152="","",VLOOKUP(C152,H177:I181,2,0)) -> 0.2 | N181: =IF(E152="","",VLOOKUP(E152,H184:I188,2,0)) -> 0.3 | O181: =IF(G152="","",VLOOKUP(G152,H191:I195,2,0)) -> 0.2 | P181: =IF(I152="","",VLOOKUP(I152,H198:I202,2,0)) -> 0.4
L182: 3 | M182: =IF(C154="","",VLOOKUP(C154,H177:I181,2,0)) -> 0.2 | N182: =IF(E154="","",VLOOKUP(E154,H184:I188,2,0)) -> 0.5 | O182: =IF(G154="","",VLOOKUP(G154,H191:I195,2,0)) -> 0.5 | P182: =IF(I154="","",VLOOKUP(I154,H198:I202,2,0)) -> 0.8
G183: Calorie Intake | L183: 4 | M183: =IF(C156="","",VLOOKUP(C156,H177:I181,2,0)) -> 0.2 | N183: =IF(E156="","",VLOOKUP(E156,H184:I188,2,0)) -> 0.3 | O183: =IF(G156="","",VLOOKUP(G156,H191:I195,2,0)) -> 0.2 | P183: =IF(I156="","",VLOOKUP(I156,H198:I202,2,0)) -> 0.4
H184: Surplus of 600 kcals or more | I184: 0.1 | L184: 5 | M184: =IF(C158="","",VLOOKUP(C158,H177:I181,2,0)) -> 0.2 | N184: =IF(E158="","",VLOOKUP(E158,H184:I188,2,0)) -> 0.1 | O184: =IF(G158="","",VLOOKUP(G158,H191:I195,2,0)) -> 0.2 | P184: =IF(I158="","",VLOOKUP(I158,H198:I202,2,0)) -> 1
H185: Surplus of 250/500 kcals | I185: 0.2 | L185: 6 | M185: =IF(C160="","",VLOOKUP(C160,H177:I181,2,0)) -> 0.2 | N185: =IF(E160="","",VLOOKUP(E160,H184:I188,2,0)) -> 0.3 | O185: =IF(G160="","",VLOOKUP(G160,H191:I195,2,0)) -> 0.2 | P185: =IF(I160="","",VLOOKUP(I160,H198:I202,2,0)) -> 0.4
H186: Maintenance Phase | I186: 0.3 | L186: 7 | M186: =IF(C162="","",VLOOKUP(C162,H177:I181,2,0)) -> 0.2 | N186: =IF(E162="","",VLOOKUP(E162,H184:I188,2,0)) -> 0.3 | O186: =IF(G162="","",VLOOKUP(G162,H191:I195,2,0)) -> 0.2 | P186: =IF(I162="","",VLOOKUP(I162,H198:I202,2,0)) -> 0.4
H187: Deficit of 250/500 kcals | I187: 0.4
H188: Deficit of 600 kcals or more | I188: 0.5
G190: Perceived Recovery | N190: =IFERROR(AVERAGE(K150:L163),"0,0 kg") -> 0,0 kg
...

Sheet Data Tracker
A3: Data Tracker
B7: ='Training Plan'!B12 -> 0 | F7: Week 1
B11: Analysis | M11: Analysis per Lift
B13: Exercise Name | E13: nSets | F13: nReps | G13: Volume | H13: Average Rep Range | I13: Average Intensity | J13: Average RPE | K13: e1RM | M13: Exercise Name | O13: nSets | P13: nReps | Q13: Volume | R13: Average Rep Range | S13: Average Intensity | T13: Average RPE | U13: Exposures | V13: Comp e1RM
B15: =IF('Week 1'!C13="","",'Week 1'!C13) -> Competition Squat | E15: =COUNTIF('Week 1'!C23:C32,">0") -> 1 | F15: =IF('Week 1'!D35=0,,'Week 1'!D35) -> 1 | G15: =IF('Week 1'!F35=0,,'Week 1'!F35) -> 100 | H15: =IFERROR(AVERAGE('Week 1'!C23:C32),0) -> 1 | I15: =IF('Week 1'!E33=0,,'Week 1'!E33) -> 0.71428571 | J15: =IFERROR(AVERAGE('Week 1'!E23:E32),0) -> 0 | K15: =IF('Week 1'!B35=0,,'Week 1'!B35) -> 140 | M15: Squat | O15: =SUMPRODUCT((NOT(ISERROR(FIND(M15,B15:D26))))*(E15:E26)) -> 2 | P15: =SUMPRODUCT((NOT(ISERROR(FIND(M15,B15:D26))))*(F15:F26)) -> 2 | Q15: =SUMPRODUCT((NOT(ISERROR(FIND(M15,B15:D26))))*(G15:G26)) -> 250 | R15: =IFERROR(SUMPRODUCT((NOT(ISERROR(FIND(M15,B15:D26))))*((H15:H26)/U15)),) -> 1 | S15: =IFERROR(SUMPRODUCT((NOT(ISERROR(FIND(M15,B15:D26))))*((I15:I26)/U15)),) -> 0.71599453 | T15: =IFERROR(SUMPRODUCT((NOT(ISERROR(FIND(M15,B15:D26))))*((J15:J26)/U15)),) -> 0 | U15: =COUNTIF(B15:D26,"*Squat*") -> 2 | V15: =SUMPRODUCT((NOT(ISERROR(FIND("Competition Squat",B15:D26))))*(K15:K26)) -> 349
B16: =IF('Week 1'!I13="","",'Week 1'!I13) -> 0 | E16: =COUNTIF('Week 1'!I23:I32,">0") -> 0 | F16: =IF('Week 1'!J35=0,,'Week 1'!J35) -> 0 | G16: =IF('Week 1'!L35=0,,'Week 1'!L35) -> 0 | H16: =IFERROR(AVERAGE('Week 1'!I23:I32),0) -> 0 | I16: =IF('Week 1'!K33=0,,'Week 1'!K33) -> 0 | J16: =IFERROR(AVERAGE('Week 1'!K23:K32),0) -> 0 | K16: =IF('Week 1'!H35=0,,'Week 1'!H35) -> 0 | M16: Bench | O16: =SUMPRODUCT((NOT(ISERROR(FIND(M16,B15:D26))))*(E15:E26)) -> 0 | P16: =SUMPRODUCT((NOT(ISERROR(FIND(M16,B15:D26))))*(F15:F26)) -> 0 | Q16: =SUMPRODUCT((NOT(ISERROR(FIND(M16,B15:D26))))*(G15:G26)) -> 0 | R16: =IFERROR(SUMPRODUCT((NOT(ISERROR(FIND(M16,B15:D26))))*(H15:H26)/U16),) -> 0 | S16: =IFERROR(SUMPRODUCT((NOT(ISERROR(FIND(M16,B15:D26))))*(I15:I26)/U16),) -> 0 | T16: =IFERROR(SUMPRODUCT((NOT(ISERROR(FIND(M16,B15:D26))))*(J15:J26)/U16),) -> 0 | U16: =COUNTIF(B15:D26,"*Bench*") -> 0 | V16: =SUMPRODUCT((NOT(ISERROR(FIND("Competition Bench",B15:D26))))*(K15:K26)) -> 0
B17: =IF('Week 1'!O13="","",'Week 1'!O13) -> 0 | E17: =COUNTIF('Week 1'!O23:O32,">0") -> 0 | F17: =IF('Week 1'!P35=0,,'Week 1'!P35) -> 0 | G17: =IF('Week 1'!R35=0,,'Week 1'!R35) -> 0 | H17: =IFERROR(AVERAGE('Week 1'!O23:O32),0) -> 0 | I17: =IF('Week 1'!P33=0,,'Week 1'!P33) -> 0 | J17: =IFERROR(AVERAGE('Week 1'!Q23:Q32),0) -> 0 | K17: =IF('Week 1'!N35=0,,'Week 1'!N35) -> 0 | M17: Deadlift | O17: =SUMPRODUCT((NOT(ISERROR(FIND(M17,B15:D26))))*(E15:E26)) -> 0 | P17: =SUMPRODUCT((NOT(ISERROR(FIND(M17,B15:D26))))*(F15:F26)) -> 0 | Q17: =SUMPRODUCT((NOT(ISERROR(FIND(M17,B15:D26))))*(G15:G26)) -> 0 | R17: =IFERROR(SUMPRODUCT((NOT(ISERROR(FIND(M17,B15:D26))))*(H15:H26)/U17),) -> 0 | S17: =IFERROR(SUMPRODUCT((NOT(ISERROR(FIND(M17,B15:D26))))*(I15:I26)/U17),) -> 0 | T17: =IFERROR(SUMPRODUCT((NOT(ISERROR(FIND(M17,B15:D26))))*(J15:J26)/U17),) -> 0 | U17: =COUNTIF(B15:D26,"*Deadlift*") -> 0 | V17: =SUMPRODUCT((NOT(ISERROR(FIND("Competition Deadlift",B15:D26))))*(K15:K26)) -> 0
B18: =IF('Week 1'!C43="","",'Week 1'!C43) -> Competition Squat | E18: =COUNTIF('Week 1'!C53:C62,">0") -> 1 | F18: =IF('Week 1'!D65=0,,'Week 1'!D65) -> 1 | G18: =IF('Week 1'!F65=0,,'Week 1'!F65) -> 150 | H18: =IFERROR(AVERAGE('Week 1'!C53:C62),0) -> 1 | I18: =IF('Week 1'!E63=0,,'Week 1'!E63) -> 0.71770335 | J18: =IFERROR(AVERAGE('Week 1'!E53:E62),0) -> 0 | K18: =IF('Week 1'!B65=0,,'Week 1'!B65) -> 209 | M18: Total/Average | O18: =SUM(O15:O17) -> 2 | P18: =SUM(P15:P17) -> 2 | Q18: =SUM(Q15:Q17) -> 250 | R18: =AVERAGE(R15:R17) -> 0.33333333 | S18: =AVERAGE(S15:S17) -> 0.23866484 | T18: =AVERAGE(T15:T17) -> 0 | U18: =SUM(U15:U17) -> 2 | V18: =SUM(V15:V17) -> 349
B19: =IF('Week 1'!I43="","",'Week 1'!I43) -> 0 | E19: =COUNTIF('Week 1'!I53:I62,">0") -> 0 | F19: =IF('Week 1'!J65=0,,'Week 1'!J65) -> 0 | G19: =IF('Week 1'!L65=0,,'Week 1'!L65) -> 0 | H19: =IFERROR(AVERAGE('Week 1'!I53:I62),0) -> 0 | I19: =IF('Week 1'!K63=0,,'Week 1'!K63) -> 0 | J19: =IFERROR(AVERAGE('Week 1'!K53:K62),0) -> 0 | K19: =IF('Week 1'!H65=0,,'Week 1'!H65) -> 0
B20: =IF('Week 1'!O43="","",'Week 1'!O43) -> 0 | E20: =COUNTIF('Week 1'!O53:O62,">0") -> 0 | F20: =IF('Week 1'!P65=0,,'Week 1'!P65) -> 0 | G20: =IF('Week 1'!R65=0,,'Week 1'!R65) -> 0 | H20: =IFERROR(AVERAGE('Week 1'!O53:O62),0) -> 0 | I20: =IF('Week 1'!P63=0,,'Week 1'!P63) -> 0 | J20: =IFERROR(AVERAGE('Week 1'!Q53:Q62),0) -> 0 | K20: =IF('Week 1'!N65=0,,'Week 1'!N65) -> 0 | M20: Comments & Observations
B21: =IF('Week 1'!C88="","",'Week 1'!C88) -> 0 | E21: =COUNTIF('Week 1'!C98:C107,">0") -> 0 | F21: =IF('Week 1'!D110=0,,'Week 1'!D110) -> 0 | G21: =IF('Week 1'!F110=0,,'Week 1'!F110) -> 0 | H21: =IFERROR(AVERAGE('Week 1'!C98:C107),0) -> 0 | I21: =IF('Week 1'!E108=0,,'Week 1'!E108) -> 0 | J21: =IFERROR(AVERAGE('Week 1'!E98:E107),0) -> 0 | K21: =IF('Week 1'!B110=0,,'Week 1'!B110) -> 0
B22: =IF('Week 1'!I88="","",'Week 1'!I88) -> 0 | E22: =COUNTIF('Week 1'!I98:I107,">0") -> 0 | F22: =IF('Week 1'!J110=0,,'Week 1'!J110) -> 0 | G22: =IF('Week 1'!L110=0,,'Week 1'!L110) -> 0 | H22: =IFERROR(AVERAGE('Week 1'!I98:I107),0) -> 0 | I22: =IF('Week 1'!K108=0,,'Week 1'!K108) -> 0 | J22: =IFERROR(AVERAGE('Week 1'!K98:K107),0) -> 0 | K22: =IF('Week 1'!H110=0,,'Week 1'!H110) -> 0
B23: =IF('Week 1'!O88="","",'Week 1'!O88) -> 0 | E23: =COUNTIF('Week 1'!O98:O107,">0") -> 0 | F23: =IF('Week 1'!P110=0,,'Week 1'!P110) -> 0 | G23: =IF('Week 1'!R110=0,,'Week 1'!R110) -> 0 | H23: =IFERROR(AVERAGE('Week 1'!O98:O107),0) -> 0 | I23: =IF('Week 1'!P108=0,,'Week 1'!P108) -> 0 | J23: =IFERROR(AVERAGE('Week 1'!Q98:Q107),0) -> 0 | K23: =IF('Week 1'!N110=0,,'Week 1'!N110) -> 0
B24: =IF('Week 1'!C118="","",'Week 1'!C118) -> 0 | E24: =COUNTIF('Week 1'!C128:C137,">0") -> 0 | F24: =IF('Week 1'!D140=0,,'Week 1'!D140) -> 0 | G24: =IF('Week 1'!F140=0,,'Week 1'!F140) -> 0 | H24: =IFERROR(AVERAGE('Week 1'!C128:C137),0) -> 0 | I24: =IF('Week 1'!E138=0,,'Week 1'!E138) -> 0 | J24: =IFERROR(AVERAGE('Week 1'!E128:E137),0) -> 0 | K24: =IF('Week 1'!B140=0,,'Week 1'!B140) -> 0
B25: =IF('Week 1'!I118="","",'Week 1'!I118) -> 0 | E25: =COUNTIF('Week 1'!I128:I137,">0") -> 0 | F25: =IF('Week 1'!J140=0,,'Week 1'!J140) -> 0 | G25: =IF('Week 1'!L140=0,,'Week 1'!L140) -> 0 | H25: =IFERROR(AVERAGE('Week 1'!I128:I137),0) -> 0 | I25: =IF('Week 1'!K138=0,,'Week 1'!K138) -> 0 | J25: =IFERROR(AVERAGE('Week 1'!K128:K137),0) -> 0 | K25: =IF('Week 1'!H140=0,,'Week 1'!H140) -> 0
B26: =IF('Week 1'!O118="","",'Week 1'!O118) -> 0 | E26: =COUNTIF('Week 1'!O128:O137,">0") -> 0 | F26: =IF('Week 1'!P140=0,,'Week 1'!P140) -> 0 | G26: =IF('Week 1'!R140=0,,'Week 1'!R140) -> 0 | H26: =IFERROR(AVERAGE('Week 1'!O128:O137),0) -> 0 | I26: =IF('Week 1'!P138=0,,'Week 1'!P138) -> 0 | J26: =IFERROR(AVERAGE('Week 1'!Q128:Q137),0) -> 0 | K26: =IF('Week 1'!N140=0,,'Week 1'!N140) -> 0
B29: ='Training Plan'!B41 -> 0 | F29: Week 2
B33: Analysis | M33: Analysis per Lift
B35: Exercise Name | E35: nSets | F35: nReps | G35: Volume | H35: Average Rep Range | I35: Average Intensity | J35: Average RPE | K35: e1RM | M35: Exercise Name | O35: nSets | P35: nReps | Q35: Volume | R35: Average Rep Range | S35: Average Intensity | T35: Average RPE | U35: Exposures | V35: Comp e1RM
B37: =IF('Week 2'!C13="","",'Week 2'!C13) -> 0 | E37: =COUNTIF('Week 2'!C23:C32,">0") -> 0 | F37: =IF('Week 2'!D35=0,,'Week 2'!D35) -> 0 | G37: =IF('Week 2'!F35=0,,'Week 2'!F35) -> 0 | H37: =IFERROR(AVERAGE('Week 2'!C23:C32),0) -> 0 | I37: =IF('Week 2'!E33=0,,'Week 2'!E33) -> 0 | J37: =IFERROR(AVERAGE('Week 2'!E23:E32),0) -> 0 | K37: =IF('Week 2'!B35=0,,'Week 2'!B35) -> 0 | M37: Squat | O37: =SUMPRODUCT((NOT(ISERROR(FIND(M37,B37:D48))))*(E37:E48)) -> 0 | P37: =SUMPRODUCT((NOT(ISERROR(FIND(M37,B37:D48))))*(F37:F48)) -> 0 | Q37: =SUMPRODUCT((NOT(ISERROR(FIND(M37,B37:D48))))*(G37:G48)) -> 0 | R37: =IFERROR(SUMPRODUCT((NOT(ISERROR(FIND(M37,B37:D48))))*((H37:H48)/U37)),) -> 0 | S37: =IFERROR(SUMPRODUCT((NOT(ISERROR(FIND(M37,B37:D48))))*((I37:I48)/U37)),) -> 0 | T37: =IFERROR(SUMPRODUCT((NOT(ISERROR(FIND(M37,B37:D48))))*((J37:J48)/U37)),) -> 0 | U37: =COUNTIF(B37:D48,"*Squat*") -> 0 | V37: =SUMPRODUCT((NOT(ISERROR(FIND("Competition Squat",B37:D48))))*(K37:K48)) -> 0
B38: =IF('Week 2'!I13="","",'Week 2'!I13) -> 0 | E38: =COUNTIF('Week 2'!I23:I32,">0") -> 0 | F38: =IF('Week 2'!J35=0,,'Week 2'!J35) -> 0 | G38: =IF('Week 2'!L35=0,,'Week 2'!L35) -> 0 | H38: =IFERROR(AVERAGE('Week 2'!I23:I32),0) -> 0 | I38: =IF('Week 2'!K33=0,,'Week 2'!K33) -> 0 | J38: =IFERROR(AVERAGE('Week 2'!K23:K32),0) -> 0 | K38: =IF('Week 2'!H35=0,,'Week 2'!H35) -> 0 | M38: Bench | O38: =SUMPRODUCT((NOT(ISERROR(FIND(M38,B37:D48))))*(E37:E48)) -> 0 | P38: =SUMPRODUCT((NOT(ISERROR(FIND(M38,B37:D48))))*(F37:F48)) -> 0 | Q38: =SUMPRODUCT((NOT(ISERROR(FIND(M38,B37:D48))))*(G37:G48)) -> 0 | R38: =IFERROR(SUMPRODUCT((NOT(ISERROR(FIND(M38,B37:D48))))*(H37:H48)/U38),) -> 0 | S38: =IFERROR(SUMPRODUCT((NOT(ISERROR(FIND(M38,B37:D48))))*(I37:I48)/U38),) -> 0 | T38: =IFERROR(SUMPRODUCT((NOT(ISERROR(FIND(M38,B37:D48))))*(J37:J48)/U38),) -> 0 | U38: =COUNTIF(B37:D48,"*Bench*") -> 0 | V38: =SUMPRODUCT((NOT(ISERROR(FIND("Competition Bench",B37:D48))))*(K37:K48)) -> 0
B39: =IF('Week 2'!O13="","",'Week 2'!O13) -> 0 | E39: =COUNTIF('Week 2'!O23:O32,">0") -> 0 | F39: =IF('Week 2'!P35=0,,'Week 2'!P35) -> 0 | G39: =IF('Week 2'!R35=0,,'Week 2'!R35) -> 0 | H39: =IFERROR(AVERAGE('Week 2'!O23:O32),0) -> 0 | I39: =IF('Week 2'!P33=0,,'Week 2'!P33) -> 0 | J39: =IFERROR(AVERAGE('Week 2'!Q23:Q32),0) -> 0 | K39: =IF('Week 2'!N35=0,,'Week 2'!N35) -> 0 | M39: Deadlift | O39: =SUMPRODUCT((NOT(ISERROR(FIND(M39,B37:D48))))*(E37:E48)) -> 0 | P39: =SUMPRODUCT((NOT(ISERROR(FIND(M39,B37:D48))))*(F37:F48)) -> 0 | Q39: =SUMPRODUCT((NOT(ISERROR(FIND(M39,B37:D48))))*(G37:G48)) -> 0 | R39: =IFERROR(SUMPRODUCT((NOT(ISERROR(FIND(M39,B37:D48))))*(H37:H48)/U39),) -> 0 | S39: =IFERROR(SUMPRODUCT((NOT(ISERROR(FIND(M39,B37:D48))))*(I37:I48)/U39),) -> 0 | T39: =IFERROR(SUMPRODUCT((NOT(ISERROR(FIND(M39,B37:D48))))*(J37:J48)/U39),) -> 0 | U39: =COUNTIF(B37:D48,"*Deadlift*") -> 0 | V39: =SUMPRODUCT((NOT(ISERROR(FIND("Competition Deadlift",B37:D48))))*(K37:K48)) -> 0
B40: =IF('Week 2'!C43="","",'Week 2'!C43) -> 0 | E40: =COUNTIF('Week 2'!C53:C62,">0") -> 0 | F40: =IF('Week 2'!D65=0,,'Week 2'!D65) -> 0 | G40: =IF('Week 2'!F65=0,,'Week 2'!F65) -> 0 | H40: =IFERROR(AVERAGE('Week 2'!C53:C62),0) -> 0 | I40: =IF('Week 2'!E63=0,,'Week 2'!E63) -> 0 | J40: =IFERROR(AVERAGE('Week 2'!E53:E62),0) -> 0 | K40: =IF('Week 2'!B65=0,,'Week 2'!B65) -> 0 | M40: Total/Average | O40: =SUM(O37:O39) -> 0 | P40: =SUM(P37:P39) -> 0 | Q40: =SUM(Q37:Q39) -> 0 | R40: =AVERAGE(R37:R39) -> 0 | S40: =AVERAGE(S37:S39) -> 0 | T40: =AVERAGE(T37:T39) -> 0 | U40: =SUM(U37:U39) -> 0 | V40: =SUM(V37:V39) -> 0
B41: =IF('Week 2'!I43="","",'Week 2'!I43) -> 0 | E41: =COUNTIF('Week 2'!I53:I62,">0") -> 0 | F41: =IF('Week 2'!J65=0,,'Week 2'!J65) -> 0 | G41: =IF('Week 2'!L65=0,,'Week 2'!L65) -> 0 | H41: =IFERROR(AVERAGE('Week 2'!I53:I62),0) -> 0 | I41: =IF('Week 2'!K63=0,,'Week 2'!K63) -> 0 | J41: =IFERROR(AVERAGE('Week 2'!K53:K62),0) -> 0 | K41: =IF('Week 2'!H65=0,,'Week 2'!H65) -> 0
B42: =IF('Week 2'!O43="","",'Week 2'!O43) -> 0 | E42: =COUNTIF('Week 2'!O53:O62,">0") -> 0 | F42: =IF('Week 2'!P65=0,,'Week 2'!P65) -> 0 | G42: =IF('Week 2'!R65=0,,'Week 2'!R65) -> 0 | H42: =IFERROR(AVERAGE('Week 2'!O53:O62),0) -> 0 | I42: =IF('Week 2'!P63=0,,'Week 2'!P63) -> 0 | J42: =IFERROR(AVERAGE('Week 2'!Q53:Q62),0) -> 0 | K42: =IF('Week 2'!N65=0,,'Week 2'!N65) -> 0 | M42: Comments & Observations
B43: =IF('Week 2'!C88="","",'Week 2'!C88) -> 0 | E43: =COUNTIF('Week 2'!C98:C107,">0") -> 0 | F43: =IF('Week 2'!D110=0,,'Week 2'!D110) -> 0 | G43: =IF('Week 2'!F110=0,,'Week 2'!F110) -> 0 | H43: =IFERROR(AVERAGE('Week 2'!C98:C107),0) -> 0 | I43: =IF('Week 2'!E108=0,,'Week 2'!E108) -> 0 | J43: =IFERROR(AVERAGE('Week 2'!E98:E107),0) -> 0 | K43: =IF('Week 2'!B110=0,,'Week 2'!B110) -> 0
B44: =IF('Week 2'!I88="","",'Week 2'!I88) -> 0 | E44: =COUNTIF('Week 2'!I98:I107,">0") -> 0 | F44: =IF('Week 2'!J110=0,,'Week 2'!J110) -> 0 | G44: =IF('Week 2'!L110=0,,'Week 2'!L110) -> 0 | H44: =IFERROR(AVERAGE('Week 2'!I98:I107),0) -> 0 | I44: =IF('Week 2'!K108=0,,'Week 2'!K108) -> 0 | J44: =IFERROR(AVERAGE('Week 2'!K98:K107),0) -> 0 | K44: =IF('Week 2'!H110=0,,'Week 2'!H110) -> 0
B45: =IF('Week 2'!O88="","",'Week 2'!O88) -> 0 | E45: =COUNTIF('Week 2'!O98:O107,">0") -> 0 | F45: =IF('Week 2'!P110=0,,'Week 2'!P110) -> 0 | G45: =IF('Week 2'!R110=0,,'Week 2'!R110) -> 0 | H45: =IFERROR(AVERAGE('Week 2'!O98:O107),0) -> 0 | I45: =IF('Week 2'!P108=0,,'Week 2'!P108) -> 0 | J45: =IFERROR(AVERAGE('Week 2'!Q98:Q107),0) -> 0 | K45: =IF('Week 2'!N110=0,,'Week 2'!N110) -> 0
B46: =IF('Week 2'!C118="","",'Week 2'!C118) -> 0 | E46: =COUNTIF('Week 2'!C128:C137,">0") -> 0 | F46: =IF('Week 2'!D140=0,,'Week 2'!D140) -> 0 | G46: =IF('Week 2'!F140=0,,'Week 2'!F140) -> 0 | H46: =IFERROR(AVERAGE('Week 2'!C128:C137),0) -> 0 | I46: =IF('Week 2'!E138=0,,'Week 2'!E138) -> 0 | J46: =IFERROR(AVERAGE('Week 2'!E128:E137),0) -> 0 | K46: =IF('Week 2'!B140=0,,'Week 2'!B140) -> 0
B47: =IF('Week 2'!I118="","",'Week 2'!I118) -> 0 | E47: =COUNTIF('Week 2'!I128:I137,">0") -> 0 | F47: =IF('Week 2'!J140=0,,'Week 2'!J140) -> 0 | G47: =IF('Week 2'!L140=0,,'Week 2'!L140) -> 0 | H47: =IFERROR(AVERAGE('Week 2'!I128:I137),0) -> 0 | I47: =IF('Week 2'!K138=0,,'Week 2'!K138) -> 0 | J47: =IFERROR(AVERAGE('Week 2'!K128:K137),0) -> 0 | K47: =IF('Week 2'!H140=0,,'Week 2'!H140) -> 0
B48: =IF('Week 2'!O118="","",'Week 2'!O118) -> 0 | E48: =COUNTIF('Week 2'!O128:O137,">0") -> 0 | F48: =IF('Week 2'!P140=0,,'Week 2'!P140) -> 0 | G48: =IF('Week 2'!R140=0,,'Week 2'!R140) -> 0 | H48: =IFERROR(AVERAGE('Week 2'!O128:O137),0) -> 0 | I48: =IF('Week 2'!P138=0,,'Week 2'!P138) -> 0 | J48: =IFERROR(AVERAGE('Week 2'!Q128:Q137),0) -> 0 | K48: =IF('Week 2'!N140=0,,'Week 2'!N140) -> 0
B51: ='Training Plan'!B70 -> 0 | F51: Week 3
B55: Analysis | M55: Analysis per Lift
B57: Exercise Name | E57: nSets | F57: nReps | G57: Volume | H57: Average Rep Range | I57: Average Intensity | J57: Average RPE | K57: e1RM | M57: Exercise Name | O57: nSets | P57: nReps | Q57: Volume | R57: Average Rep Range | S57: Average Intensity | T57: Average RPE | U57: Exposures | V57: Comp e1RM
B59: =IF('Week 3'!C13="","",'Week 3'!C13) -> 0 | E59: =COUNTIF('Week 3'!C23:C32,">0") -> 0 | F59: =IF('Week 3'!D35=0,,'Week 3'!D35) -> 0 | G59: =IF('Week 3'!F35=0,,'Week 3'!F35) -> 0 | H59: =IFERROR(AVERAGE('Week 3'!C23:C32),0) -> 0 | I59: =IF('Week 3'!E33=0,,'Week 3'!E33) -> 0 | J59: =IFERROR(AVERAGE('Week 3'!E23:E32),0) -> 0 | K59: =IF('Week 3'!B35=0,,'Week 3'!B35) -> 0 | M59: Squat | O59: =SUMPRODUCT((NOT(ISERROR(FIND(M59,B59:D70))))*(E59:E70)) -> 0 | P59: =SUMPRODUCT((NOT(ISERROR(FIND(M59,B59:D70))))*(F59:F70)) -> 0 | Q59: =SUMPRODUCT((NOT(ISERROR(FIND(M59,B59:D70))))*(G59:G70)) -> 0 | R59: =IFERROR(SUMPRODUCT((NOT(ISERROR(FIND(M59,B59:D70))))*((H59:H70)/U59)),) -> 0 | S59: =IFERROR(SUMPRODUCT((NOT(ISERROR(FIND(M59,B59:D70))))*((I59:I70)/U59)),) -> 0 | T59: =IFERROR(SUMPRODUCT((NOT(ISERROR(FIND(M59,B59:D70))))*((J59:J70)/U59)),) -> 0 | U59: =COUNTIF(B59:D70,"*Squat*") -> 0 | V59: =SUMPRODUCT((NOT(ISERROR(FIND("Competition Squat",B59:D70))))*(K59:K70)) -> 0
B60: =IF('Week 3'!I13="","",'Week 3'!I13) -> 0 | E60: =COUNTIF('Week 3'!I23:I32,">0") -> 0 | F60: =IF('Week 3'!J35=0,,'Week 3'!J35) -> 0 | G60: =IF('Week 3'!L35=0,,'Week 3'!L35) -> 0 | H60: =IFERROR(AVERAGE('Week 3'!I23:I32),0) -> 0 | I60: =IF('Week 3'!K33=0,,'Week 3'!K33) -> 0 | J60: =IFERROR(AVERAGE('Week 3'!K23:K32),0) -> 0 | K60: =IF('Week 3'!H35=0,,'Week 3'!H35) -> 0 | M60: Bench | O60: =SUMPRODUCT((NOT(ISERROR(FIND(M60,B59:D70))))*(E59:E70)) -> 0 | P60: =SUMPRODUCT((NOT(ISERROR(FIND(M60,B59:D70))))*(F59:F70)) -> 0 | Q60: =SUMPRODUCT((NOT(ISERROR(FIND(M60,B59:D70))))*(G59:G70)) -> 0 | R60: =IFERROR(SUMPRODUCT((NOT(ISERROR(FIND(M60,B59:D70))))*(H59:H70)/U60),) -> 0 | S60: =IFERROR(SUMPRODUCT((NOT(ISERROR(FIND(M60,B59:D70))))*(I59:I70)/U60),) -> 0 | T60: =IFERROR(SUMPRODUCT((NOT(ISERROR(FIND(M60,B59:D70))))*(J59:J70)/U60),) -> 0 | U60: =COUNTIF(B59:D70,"*Bench*") -> 0 | V60: =SUMPRODUCT((NOT(ISERROR(FIND("Competition Bench",B59:D70))))*(K59:K70)) -> 0
B61: =IF('Week 3'!O13="","",'Week 3'!O13) -> 0 | E61: =COUNTIF('Week 3'!O23:O32,">0") -> 0 | F61: =IF('Week 3'!P35=0,,'Week 3'!P35) -> 0 | G61: =IF('Week 3'!R35=0,,'Week 3'!R35) -> 0 | H61: =IFERROR(AVERAGE('Week 3'!O23:O32),0) -> 0 | I61: =IF('Week 3'!P33=0,,'Week 3'!P33) -> 0 | J61: =IFERROR(AVERAGE('Week 3'!Q23:Q32),0) -> 0 | K61: =IF('Week 3'!N35=0,,'Week 3'!N35) -> 0 | M61: Deadlift | O61: =SUMPRODUCT((NOT(ISERROR(FIND(M61,B59:D70))))*(E59:E70)) -> 0 | P61: =SUMPRODUCT((NOT(ISERROR(FIND(M61,B59:D70))))*(F59:F70)) -> 0 | Q61: =SUMPRODUCT((NOT(ISERROR(FIND(M61,B59:D70))))*(G59:G70)) -> 0 | R61: =IFERROR(SUMPRODUCT((NOT(ISERROR(FIND(M61,B59:D70))))*(H59:H70)/U61),) -> 0 | S61: =IFERROR(SUMPRODUCT((NOT(ISERROR(FIND(M61,B59:D70))))*(I59:I70)/U61),) -> 0 | T61: =IFERROR(SUMPRODUCT((NOT(ISERROR(FIND(M61,B59:D70))))*(J59:J70)/U61),) -> 0 | U61: =COUNTIF(B59:D70,"*Deadlift*") -> 0 | V61: =SUMPRODUCT((NOT(ISERROR(FIND("Competition Deadlift",B59:D70))))*(K59:K70)) -> 0
B62: =IF('Week 3'!C43="","",'Week 3'!C43) -> 0 | E62: =COUNTIF('Week 3'!C53:C62,">0") -> 0 | F62: =IF('Week 3'!D65=0,,'Week 3'!D65) -> 0 | G62: =IF('Week 3'!F65=0,,'Week 3'!F65) -> 0 | H62: =IFERROR(AVERAGE('Week 3'!C53:C62),0) -> 0 | I62: =IF('Week 3'!E63=0,,'Week 3'!E63) -> 0 | J62: =IFERROR(AVERAGE('Week 3'!E53:E62),0) -> 0 | K62: =IF('Week 3'!B65=0,,'Week 3'!B65) -> 0 | M62: Total/Average | O62: =SUM(O59:O61) -> 0 | P62: =SUM(P59:P61) -> 0 | Q62: =SUM(Q59:Q61) -> 0 | R62: =AVERAGE(R59:R61) -> 0 | S62: =AVERAGE(S59:S61) -> 0 | T62: =AVERAGE(T59:T61) -> 0 | U62: =SUM(U59:U61) -> 0 | V62: =SUM(V59:V61) -> 0
B63: =IF('Week 3'!I43="","",'Week 3'!I43) -> 0 | E63: =COUNTIF('Week 3'!I53:I62,">0") -> 0 | F63: =IF('Week 3'!J65=0,,'Week 3'!J65) -> 0 | G63: =IF('Week 3'!L65=0,,'Week 3'!L65) -> 0 | H63: =IFERROR(AVERAGE('Week 3'!I53:I62),0) -> 0 | I63: =IF('Week 3'!K63=0,,'Week 3'!K63) -> 0 | J63: =IFERROR(AVERAGE('Week 3'!K53:K62),0) -> 0 | K63: =IF('Week 3'!H65=0,,'Week 3'!H65) -> 0
B64: =IF('Week 3'!O43="","",'Week 3'!O43) -> 0 | E64: =COUNTIF('Week 3'!O53:O62,">0") -> 0 | F64: =IF('Week 3'!P65=0,,'Week 3'!P65) -> 0 | G64: =IF('Week 3'!R65=0,,'Week 3'!R65) -> 0 | H64: =IFERROR(AVERAGE('Week 3'!O53:O62),0) -> 0 | I64: =IF('Week 3'!P63=0,,'Week 3'!P63) -> 0 | J64: =IFERROR(AVERAGE('Week 3'!Q53:Q62),0) -> 0 | K64: =IF('Week 3'!N65=0,,'Week 3'!N65) -> 0 | M64: Comments & Observations
B65: =IF('Week 3'!C88="","",'Week 3'!C88) -> 0 | E65: =COUNTIF('Week 3'!C98:C107,">0") -> 0 | F65: =IF('Week 3'!D110=0,,'Week 3'!D110) -> 0 | G65: =IF('Week 3'!F110=0,,'Week 3'!F110) -> 0 | H65: =IFERROR(AVERAGE('Week 3'!C98:C107),0) -> 0 | I65: =IF('Week 3'!E108=0,,'Week 3'!E108) -> 0 | J65: =IFERROR(AVERAGE('Week 3'!E98:E107),0) -> 0 | K65: =IF('Week 3'!B110=0,,'Week 3'!B110) -> 0
B66: =IF('Week 3'!I88="","",'Week 3'!I88) -> 0 | E66: =COUNTIF('Week 3'!I98:I107,">0") -> 0 | F66: =IF('Week 3'!J110=0,,'Week 3'!J110) -> 0 | G66: =IF('Week 3'!L110=0,,'Week 3'!L110) -> 0 | H66: =IFERROR(AVERAGE('Week 3'!I98:I107),0) -> 0 | I66: =IF('Week 3'!K108=0,,'Week 3'!K108) -> 0 | J66: =IFERROR(AVERAGE('Week 3'!K98:K107),0) -> 0 | K66: =IF('Week 3'!H110=0,,'Week 3'!H110) -> 0
B67: =IF('Week 3'!O88="","",'Week 3'!O88) -> 0 | E67: =COUNTIF('Week 3'!O98:O107,">0") -> 0 | F67: =IF('Week 3'!P110=0,,'Week 3'!P110) -> 0 | G67: =IF('Week 3'!R110=0,,'Week 3'!R110) -> 0 | H67: =IFERROR(AVERAGE('Week 3'!O98:O107),0) -> 0 | I67: =IF('Week 3'!P108=0,,'Week 3'!P108) -> 0 | J67: =IFERROR(AVERAGE('Week 3'!Q98:Q107),0) -> 0 | K67: =IF('Week 3'!N110=0,,'Week 3'!N110) -> 0
B68: =IF('Week 3'!C118="","",'Week 3'!C118) -> 0 | E68: =COUNTIF('Week 3'!C128:C137,">0") -> 0 | F68: =IF('Week 3'!D140=0,,'Week 3'!D140) -> 0 | G68: =IF('Week 3'!F140=0,,'Week 3'!F140) -> 0 | H68: =IFERROR(AVERAGE('Week 3'!C128:C137),0) -> 0 | I68: =IF('Week 3'!E138=0,,'Week 3'!E138) -> 0 | J68: =IFERROR(AVERAGE('Week 3'!E128:E137),0) -> 0 | K68: =IF('Week 3'!B140=0,,'Week 3'!B140) -> 0
B69: =IF('Week 3'!I118="","",'Week 3'!I118) -> 0 | E69: =COUNTIF('Week 3'!I128:I137,">0") -> 0 | F69: =IF('Week 3'!J140=0,,'Week 3'!J140) -> 0 | G69: =IF('Week 3'!L140=0,,'Week 3'!L140) -> 0 | H69: =IFERROR(AVERAGE('Week 3'!I128:I137),0) -> 0 | I69: =IF('Week 3'!K138=0,,'Week 3'!K138) -> 0 | J69: =IFERROR(AVERAGE('Week 3'!K128:K137),0) -> 0 | K69: =IF('Week 3'!H140=0,,'Week 3'!H140) -> 0
B70: =IF('Week 3'!O118="","",'Week 3'!O118) -> 0 | E70: =COUNTIF('Week 3'!O128:O137,">0") -> 0 | F70: =IF('Week 3'!P140=0,,'Week 3'!P140) -> 0 | G70: =IF('Week 3'!R140=0,,'Week 3'!R140) -> 0 | H70: =IFERROR(AVERAGE('Week 3'!O128:O137),0) -> 0 | I70: =IF('Week 3'!P138=0,,'Week 3'!P138) -> 0 | J70: =IFERROR(AVERAGE('Week 3'!Q128:Q137),0) -> 0 | K70: =IF('Week 3'!N140=0,,'Week 3'!N140) -> 0
B73: ='Training Plan'!B99 -> 0 | F73: Week 4
B77: Analysis | M77: Analysis per Lift
B79: Exercise Name | E79: nSets | F79: nReps | G79: Volume | H79: Average Rep Range | I79: Average Intensity | J79: Average RPE | K79: e1RM | M79: Exercise Name | O79: nSets | P79: nReps | Q79: Volume | R79: Average Rep Range | S79: Average Intensity | T79: Average RPE | U79: Exposures | V79: Comp e1RM
B81: =IF('Week 4'!C13="","",'Week 4'!C13) -> 0 | E81: =COUNTIF('Week 4'!C23:C32,">0") -> 0 | F81: =IF('Week 4'!D35=0,,'Week 4'!D35) -> 0 | G81: =IF('Week 4'!F35=0,,'Week 4'!F35) -> 0 | H81: =IFERROR(AVERAGE('Week 4'!C23:C32),0) -> 0 | I81: =IF('Week 4'!E33=0,,'Week 4'!E33) -> 0 | J81: =IFERROR(AVERAGE('Week 4'!E23:E32),0) -> 0 | K81: =IF('Week 4'!B35=0,,'Week 4'!B35) -> 0 | M81: Squat | O81: =SUMPRODUCT((NOT(ISERROR(FIND(M81,B81:D92))))*(E81:E92)) -> 0 | P81: =SUMPRODUCT((NOT(ISERROR(FIND(M81,B81:D92))))*(F81:F92)) -> 0 | Q81: =SUMPRODUCT((NOT(ISERROR(FIND(M81,B81:D92))))*(G81:G92)) -> 0 | R81: =IFERROR(SUMPRODUCT((NOT(ISERROR(FIND(M81,B81:D92))))*((H81:H92)/U81)),) -> 0 | S81: =IFERROR(SUMPRODUCT((NOT(ISERROR(FIND(M81,B81:D92))))*((I81:I92)/U81)),) -> 0 | T81: =IFERROR(SUMPRODUCT((NOT(ISERROR(FIND(M81,B81:D92))))*((J81:J92)/U81)),) -> 0 | U81: =COUNTIF(B81:D92,"*Squat*") -> 0 | V81: =SUMPRODUCT((NOT(ISERROR(FIND("Competition Squat",B81:D92))))*(K81:K92)) -> 0
B82: =IF('Week 4'!I13="","",'Week 4'!I13) -> 0 | E82: =COUNTIF('Week 4'!I23:I32,">0") -> 0 | F82: =IF('Week 4'!J35=0,,'Week 4'!J35) -> 0 | G82: =IF('Week 4'!L35=0,,'Week 4'!L35) -> 0 | H82: =IFERROR(AVERAGE('Week 4'!I23:I32),0) -> 0 | I82: =IF('Week 4'!K33=0,,'Week 4'!K33) -> 0 | J82: =IFERROR(AVERAGE('Week 4'!K23:K32),0) -> 0 | K82: =IF('Week 4'!H35=0,,'Week 4'!H35) -> 0 | M82: Bench | O82: =SUMPRODUCT((NOT(ISERROR(FIND(M82,B81:D92))))*(E81:E92)) -> 0 | P82: =SUMPRODUCT((NOT(ISERROR(FIND(M82,B81:D92))))*(F81:F92)) -> 0 | Q82: =SUMPRODUCT((NOT(ISERROR(FIND(M82,B81:D92))))*(G81:G92)) -> 0 | R82: =IFERROR(SUMPRODUCT((NOT(ISERROR(FIND(M82,B81:D92))))*(H81:H92)/U82),) -> 0 | S82: =IFERROR(SUMPRODUCT((NOT(ISERROR(FIND(M82,B81:D92))))*(I81:I92)/U82),) -> 0 | T82: =IFERROR(SUMPRODUCT((NOT(ISERROR(FIND(M82,B81:D92))))*(J81:J92)/U82),) -> 0 | U82: =COUNTIF(B81:D92,"*Bench*") -> 0 | V82: =SUMPRODUCT((NOT(ISERROR(FIND("Competition Bench",B81:D92))))*(K81:K92)) -> 0
