Workbook

Sheet Training Plan
A3: Define Time To Peak - Developmental Block - StrengthDevelopment©2019
A4: 02.09.19 - 13.10.19
B7: Training Plan Overview
B12: Low Stress | C12: Day 1 | F12: Day 2 | I12: GPP | L12: Day 3 | O12: Day 4
B15: Week 1 | C15: Exercise 1 | F15: Exercise 1 | I15: Bike | L15: Exercise 1 | O15: Exercise 1
C16: Competition Squat | F16: Competition Deadlift | I16: 25min Steady State @6 RPE | L16: Squat, No Sleeves | O16: 6-0-0 Deadlift
C17: ▪ 5@6 RPE ▪ 5@7 RPE ▪ 5@8 RPE | F17: ▪ 5@5 RPE ▪ 5@6 RPE ▪ 5@7 RPE | L17: ▪ 4@7 RPE ▪ 4@8 RPE ▪ 4@9 RPE | O17: ▪ 2@7 RPE ▪ 2@8 RPE ▪ 2@9 RPE
I19: Chest Supported Row
I20: 7min AMRAP
C22: Rest Periods | D22: 4-6min | F22: Rest Periods | G22: 4-6min | L22: Rest Periods | M22: 4-6min | O22: Rest Periods | P22: 4-5min
C23: Exercise 2 | F23: Exercise 2 | I23: Ab Wheel | L23: Exercise 2 | O23: Exercise 2
C24: Competition Bench | F24: 2ct Paused Bench | I24: 7min AMRAP | L24: Low Spoto Bench (1ct) | O24: Soft Pause Bench
C25: ▪ 6@6 RPE ▪ 6@7 RPE ▪ 6@8 RPE | F25: ▪ 4@7 RPE ▪ 4@8 RPE ▪ 4@9 RPE | L25: ▪ 4@7 RPE ▪ 4@8 RPE ▪ 4@9 RPE | O25: ▪ 4@7 RPE ▪ 4@8 RPE ▪ 4@9 RPE
I27: Biceps s/s Triceps
I28: 4 x 10/12 @8 RPE
C30: Rest Periods | D30: 4-5min | F30: Rest Periods | G30: 4-5min | L30: Rest Periods | M30: 4-5min | O30: Rest Periods | P30: 4-5min
C31: Exercise 3 | F31: Exercise 3 | L31: Exercise 3 | O31: Exercise 3
C32: Strict Pendlay Row | F32: 3-0-3 Squat | L32: TnG Feet-Up Bench | O32: Romanian Deadlift
C33: ▪ 10@6 RPE ▪ 10@8 RPE | F33: ▪ 8@7 RPE ▪ 8@8 RPE ▪ 8@9 RPE | L33: ▪ 8@7 RPE ▪ 8@8 RPE ▪ 8@9 RPE | O33: ▪ 10@7 RPE ▪ 10@8 RPE ▪ 10@9 RPE
I35: Other(s)
C38: Rest Periods | D38: 3-4min | F38: Rest Periods | G38: 3-4min | L38: Rest Periods | M38: 3-4min | O38: Rest Periods | P38: 3-4min
B41: Developmental | C41: Day 1 | F41: Day 2 | I41: GPP | L41: Day 3 | O41: Day 4
B44: Week 2 | C44: Exercise 1 | F44: Exercise 1 | I44: Bike | L44: Exercise 1 | O44: Exercise 1
C45: Competition Squat | F45: Competition Deadlift | I45: 25min Steady State @6 RPE | L45: Squat, No Sleeves | O45: 6-0-0 Deadlift
C46: ▪ 1@8 RPE ▪ 5 x 5@-19% from 1@8 | F46: ▪ 1@8 RPE ▪ 5 x 5@-19% from 1@8 | L46: ▪ 4@7 RPE ▪ 4@8 RPE ▪ 4@9 RPE ▪ 1/4 x 4@-7% from 4@9 (Fatigue Stop) | O46: ▪ 2@7 RPE ▪ 2@8 RPE ▪ 2@9 RPE ▪ 4 x 2@7 RPE
I48: Chest Supported Row
I49: 7min AMRAP
C51: Rest Periods | D51: 4-6min | F51: Rest Periods | G51: 4-6min | L51: Rest Periods | M51: 4-6min | O51: Rest Periods | P51: 4-5min
C52: Exercise 2 | F52: Exercise 2 | I52: Ab Wheel | L52: Exercise 2 | O52: Exercise 2
C53: Competition Bench | F53: 2ct Paused Bench | I53: 7min AMRAP | L53: Low Spoto Bench (1ct) | O53: Soft Pause Bench
C54: ▪ 1@8 RPE ▪ 4 x 5@-19% of 1@8 | F54: ▪ 4@6 RPE ▪ 4@7 RPE ▪ 2 x 4@8 RPE | L54: ▪ 4@7 RPE ▪ 4@8 RPE ▪ 4@9 RPE ▪ 1/4 x 4@-7% from 4@9 (Fatigue Stop) | O54: ▪ 4@7 RPE ▪ 4@8 RPE ▪ 4@9 RPE ▪ 1/4 x 4@-7% from 4@9 (Fatigue Stop)
I56: Biceps s/s Triceps
I57: 4 x 10/12 @8 RPE
C59: Rest Periods | D59: 4-5min | F59: Rest Periods | G59: 4-5min | L59: Rest Periods | M59: 4-5min | O59: Rest Periods | P59: 4-5min
C60: Exercise 3 | F60: Exercise 3 | L60: Exercise 3 | O60: Exercise 3
C61: Strict Pendlay Row | F61: 3-0-3 Hack Squat | L61: TnG Feet-Up Bench | O61: Romanian Deadlift
C62: ▪ 10@6 RPE ▪ 3 x 10@8 RPE | F62: ▪ 8@7 RPE ▪ 8@8 RPE ▪ 8@9 RPE ▪ 8@-5% of 8@9 | L62: ▪ 8@6 RPE ▪ 8@7 RPE ▪ 2 x 8@8 RPE | O62: ▪ 10@7 RPE ▪ 10@8 RPE ▪ 10@9 RPE ▪ 10@-5% of 10@9
I64: Other(s)
C67: Rest Periods | D67: 3-4min | F67: Rest Periods | G67: 3-4min | L67: Rest Periods | M67: 3-4min | O67: Rest Periods | P67: 3-4min
B70: Developmental | C70: Day 1 | F70: Day 2 | I70: GPP | L70: Day 3 | O70: Day 4
...

Sheet Calculators
A3: Calculators
D7: RPE Chart (by default)
D9: Reps | E9: 1 | F9: 2 | G9: 3 | H9: 4 | I9: 5 | J9: 6 | K9: 7 | L9: 8 | M9: 9 | N9: 10 | AA9: RPE Chart (by default) | AL9: =AA9 -> RPE Chart (by default)
D10: RPE 10 | AA10: =G17*1 -> 0 | AB10: =G17*0.955 -> 0 | AC10: =G17*0.922 -> 0 | AD10: =G17*0.892 -> 0 | AE10: =G17*0.863 -> 0 | AF10: =G17*0.837 -> 0 | AG10: =G17*0.811 -> 0 | AH10: =G17*0.786 -> 0 | AI10: =G17*0.762 -> 0 | AJ10: =G17*0.739 -> 0 | AL10: =D53 -> Custom RPE Chart (Squat)
D11: RPE 9,5 | AA11: =G17*0.978 -> 0 | AB11: =G17*0.939 -> 0 | AC11: =G17*0.907 -> 0 | AD11: =G17*0.878 -> 0 | AE11: =G17*0.85 -> 0 | AF11: =G17*0.824 -> 0 | AG11: =G17*0.799 -> 0 | AH11: =G17*0.774 -> 0 | AI11: =G17*0.751 -> 0 | AJ11: =G17*0.723 -> 0 | AL11: =H53 -> Custom RPE Chart (Bench)
D12: RPE 9 | AA12: =G17*0.955 -> 0 | AB12: =G17*0.922 -> 0 | AC12: =G17*0.892 -> 0 | AD12: =G17*0.863 -> 0 | AE12: =G17*0.837 -> 0 | AF12: =G17*0.811 -> 0 | AG12: =G17*0.786 -> 0 | AH12: =G17*0.762 -> 0 | AI12: =G17*0.739 -> 0 | AJ12: =G17*0.707 -> 0 | AL12: =L53 -> Custom RPE Chart (Deadlift)
D13: RPE 8,5 | AA13: =G17*0.939 -> 0 | AB13: =G17*0.907 -> 0 | AC13: =G17*0.878 -> 0 | AD13: =G17*0.85 -> 0 | AE13: =G17*0.824 -> 0 | AF13: =G17*0.799 -> 0 | AG13: =G17*0.774 -> 0 | AH13: =G17*0.751 -> 0 | AI13: =G17*0.723 -> 0 | AJ13: =G17*0.694 -> 0
D14: RPE 8 | AA14: =G17*0.922 -> 0 | AB14: =G17*0.892 -> 0 | AC14: =G17*0.863 -> 0 | AD14: =G17*0.837 -> 0 | AE14: =G17*0.811 -> 0 | AF14: =G17*0.786 -> 0 | AG14: =G17*0.762 -> 0 | AH14: =G17*0.739 -> 0 | AI14: =G17*0.707 -> 0 | AJ14: =G17*0.68 -> 0
D15: e1RM | E15: =IF(D7=AL9,MAX(E10/1,E11/0.978,E12/0.955,E13/0.939,E14/0.922),IF(D7=AL10,MAX(E10/1,E11/AVERAGE(F57:F58),E12/F58,E13/AVERAGE(F58:F59),E14/F59),IF(D7=AL11,MAX(E10/1,E11/AVERAGE(J57:J58),E12/J58,E13/AVERAGE(J58:J59),E14/J59),IF(D7=AL12,MAX(E10/1,E11/AVERAGE(N57:N58),E12/N58,E13/AVERAGE(N58:N59),E14/N59))))) -> 0 | F15: =IF(D7=AL9,MAX(F10/0.955,F11/0.939,F12/0.922,F13/0.907,F14/0.892),IF(D7=AL10,MAX(F10/F58,F11/AVERAGE(F58:F59),F12/F59,F13/AVERAGE(F59:F60),F14/F60),IF(D7=AL11,MAX(F10/J58,F11/AVERAGE(J58:J59),F12/J59,F13/AVERAGE(J59:J60),F14/J60),IF(D7=AL12,MAX(F10/N58,F11/AVERAGE(N58:N59),F12/N59,F13/AVERAGE(N59:N60),F14/N60))))) -> 0 | G15: =IF(D7=AL9,MAX(G10/0.922,G11/0.907,G12/0.892,G13/0.878,G14/0.863),IF(D7=AL10,MAX(G10/F59,G11/AVERAGE(F59:F60),G12/F60,G13/AVERAGE(F60:F61),G14/F61),IF(D7=AL11,MAX(G10/J59,G11/AVERAGE(J59:J60),G12/J60,G13/AVERAGE(J60:J61),G14/J61),IF(D7=AL12,MAX(G10/N59,G11/AVERAGE(N59:N60),G12/N60,G13/AVERAGE(N60:N61),G14/N61))))) -> 0 | H15: =IF(D7=AL9,MAX(H10/0.892,H11/0.878,H12/0.863,H13/0.85,H14/0.837),IF(D7=AL10,MAX(H10/F60,H11/AVERAGE(F60:F61),H12/F61,H13/AVERAGE(F61:F62),H14/F62),IF(D7=AL11,MAX(H10/J60,H11/AVERAGE(J60:J61),H12/J61,H13/AVERAGE(J61:J62),H14/J62),IF(D7=AL12,MAX(H10/N60,H11/AVERAGE(N60:N61),H12/N61,H13/AVERAGE(N61:N62),H14/N62))))) -> 0 | I15: =IF(D7=AL9,MAX(I10/0.863,I11/0.85,I12/0.837,I13/0.824,I14/0.811),IF(D7=AL10,MAX(I10/F61,I11/AVERAGE(F61:F62),I12/F62,I13/AVERAGE(F62:F63),I14/F63),IF(D7=AL11,MAX(I10/J61,I11/AVERAGE(J61:J62),I12/J62,I13/AVERAGE(J62:J63),I14/J63),IF(D7=AL12,MAX(I10/N61,I11/AVERAGE(N61:N62),I12/N62,I13/AVERAGE(N62:N63),I14/N63))))) -> 0 | J15: =IF(D7=AL9,MAX(J10/0.837,J11/0.824,J12/0.811,J13/0.799,J14/0.786),IF(D7=AL10,MAX(J10/F62,J11/AVERAGE(F62:F63),J12/F63,J13/AVERAGE(F63:F64),J14/F64),IF(D7=AL11,MAX(J10/J62,J11/AVERAGE(J62:J63),J12/J63,J13/AVERAGE(J63:J64),J14/J64),IF(D7=AL12,MAX(J10/N62,J11/AVERAGE(N62:N63),J12/N63,J13/AVERAGE(N63:N64),J14/N64))))) -> 0 | K15: =IF(D7=AL9,MAX(K10/0.811,K11/0.799,K12/0.786,K13/0.774,K14/0.762),IF(D7=AL10,MAX(K10/F63,K11/AVERAGE(F63:F64),K12/F64,K13/AVERAGE(F64:F65),K14/F65),IF(D7=AL11,MAX(K10/J63,K11/AVERAGE(J63:J64),K12/J64,K13/AVERAGE(J64:J65),K14/J65),IF(D7=AL12,MAX(K10/N63,K11/AVERAGE(N63:N64),K12/N64,K13/AVERAGE(N64:N65),K14/N65))))) -> 0 | L15: =IF(D7=AL9,MAX(L10/0.786,L11/0.774,L12/0.762,L13/0.751,L14/0.739),IF(D7=AL10,MAX(L10/F64,L11/AVERAGE(F64:F65),L12/F65,L13/AVERAGE(F65:F66),L14/F66),IF(D7=AL11,MAX(L10/J64,L11/AVERAGE(J64:J65),L12/J65,L13/AVERAGE(J65:J66),L14/J66),IF(D7=AL12,MAX(L10/N64,L11/AVERAGE(N64:N65),L12/N65,L13/AVERAGE(N65:N66),L14/N66))))) -> 0 | M15: =IF(D7=AL9,MAX(M10/0.762,M11/0.751,M12/0.739,M13/0.723,M14/0.707),IF(D7=AL10,MAX(M10/F65,M11/AVERAGE(F65:F66),M12/F66,M13/AVERAGE(F66:F67),M14/F67),IF(D7=AL11,MAX(M10/J65,M11/AVERAGE(J65:J66),M12/J66,M13/AVERAGE(J66:J67),M14/J67),IF(D7=AL12,MAX(M10/N65,M11/AVERAGE(N65:N66),M12/N66,M13/AVERAGE(N66:N67),M14/N67))))) -> 0 | N15: =IF(D7=AL9,MAX(N10/0.739,N11/0.723,N12/0.707,N13/0.694,N14/0.68),IF(D7=AL10,MAX(N10/F66,N11/AVERAGE(F66:F67),N12/F67,N13/AVERAGE(F67:F68),N14/F68),IF(D7=AL11,MAX(N10/J66,N11/AVERAGE(J66:J67),N12/J67,N13/AVERAGE(J67:J68),N14/J68),IF(D7=AL12,MAX(N10/N66,N11/AVERAGE(N66:N67),N12/N67,N13/AVERAGE(N67:N68),N14/N68))))) -> 0 | AA15: =G17*0.907 -> 0 | AB15: =G17*0.878 -> 0 | AC15: =G17*0.85 -> 0 | AD15: =G17*0.824 -> 0 | AE15: =G17*0.799 -> 0 | AF15: =G17*0.774 -> 0 | AG15: =G17*0.751 -> 0 | AH15: =G17*0.723 -> 0 | AI15: =G17*0.694 -> 0 | AJ15: =G17*0.667 -> 0
AA16: =G17*0.892 -> 0 | AB16: =G17*0.863 -> 0 | AC16: =G17*0.837 -> 0 | AD16: =G17*0.811 -> 0 | AE16: =G17*0.786 -> 0 | AF16: =G17*0.762 -> 0 | AG16: =G17*0.739 -> 0 | AH16: =G17*0.707 -> 0 | AI16: =G17*0.68 -> 0 | AJ16: =G17*0.653 -> 0
F17: e1RM : | G17: =MAX(E15:N15) -> 0 | I17: Back-off : | L17: =J17-L18 -> 0 | AA17: =G17*0.878 -> 0 | AB17: =G17*0.85 -> 0 | AC17: =G17*0.824 -> 0 | AD17: =G17*0.799 -> 0 | AE17: =G17*0.774 -> 0 | AF17: =G17*0.751 -> 0 | AG17: =G17*0.723 -> 0 | AH17: =G17*0.694 -> 0 | AI17: =G17*0.667 -> 0 | AJ17: =G17*0.64 -> 0
J18: Weight | K18: Percentage | L18: =J17*K17 -> 0 | AA18: =G17*0.863 -> 0 | AB18: =G17*0.837 -> 0 | AC18: =G17*0.811 -> 0 | AD18: =G17*0.786 -> 0 | AE18: =G17*0.762 -> 0 | AF18: =G17*0.739 -> 0 | AG18: =G17*0.707 -> 0 | AH18: =G17*0.68 -> 0 | AI18: =G17*0.653 -> 0 | AJ18: =G17*0.627 -> 0
AA19: =D53 -> Custom RPE Chart (Squat)
D20: Rep(s) | E20: 1 | F20: 2 | G20: 3 | H20: 4 | I20: 5 | J20: 6 | K20: 7 | L20: 8 | M20: 9 | N20: 10 | AA20: =G17 -> 0 | AB20: =AA20*F58 -> 0 | AC20: =AA20*F59 -> 0 | AD20: =AA20*F60 -> 0 | AE20: =AA20*F61 -> 0 | AF20: =AA20*F62 -> 0 | AG20: =AA20*F63 -> 0 | AH20: =AA20*F64 -> 0 | AI20: =AA20*F65 -> 0 | AJ20: =AA20*F66 -> 0 | AK20: =AA20*F67 -> 0 | AL20: =AA20*F68 -> 0 | AM20: =AA20*F69 -> 0 | AN20: =AA20*F70 -> 0 | AO20: =AA20*F71 -> 0
D21: RPE 10 | E21: =IF(D7=AL9,AA10,IF(D7=AL10,AA20,IF(D7=AL11,Z32,IF(D7=AL12,Z44,0)))) -> 0 | F21: =IF(D7=AL9,AB10,IF(D7=AL10,AB20,IF(D7=AL11,AA32,IF(D7=AL12,AA44,0)))) -> 0 | G21: =IF(D7=AL9,AC10,IF(D7=AL10,AC20,IF(D7=AL11,AB32,IF(D7=AL12,AB44,0)))) -> 0 | H21: =IF(D7=AL9,AD10,IF(D7=AL10,AD20,IF(D7=AL11,AC32,IF(D7=AL12,AC44,0)))) -> 0 | I21: =IF(D7=AL9,AE10,IF(D7=AL10,AE20,IF(D7=AL11,AD32,IF(D7=AL12,AD44,0)))) -> 0 | J21: =IF(D7=AL9,AF10,IF(D7=AL10,AF20,IF(D7=AL11,AE32,IF(D7=AL12,AE44,0)))) -> 0 | K21: =IF(D7=AL9,AG10,IF(D7=AL10,AG20,IF(D7=AL11,AF32,IF(D7=AL12,AF44,0)))) -> 0 | L21: =IF(D7=AL9,AH10,IF(D7=AL10,AH20,IF(D7=AL11,AG32,IF(D7=AL12,AG44,0)))) -> 0 | M21: =IF(D7=AL9,AI10,IF(D7=AL10,AI20,IF(D7=AL11,AH32,IF(D7=AL12,AH44,0)))) -> 0 | N21: =IF(D7=AL9,AJ10,IF(D7=AL10,AJ20,IF(D7=AL11,AI32,IF(D7=AL12,AI44,0)))) -> 0 | AA21: =AVERAGE(AA20,AA22) -> 0 | AB21: =AVERAGE(AB20,AB22) -> 0 | AC21: =AVERAGE(AC20,AC22) -> 0 | AD21: =AVERAGE(AD20,AD22) -> 0 | AE21: =AVERAGE(AE20,AE22) -> 0 | AF21: =AVERAGE(AF20,AF22) -> 0 | AG21: =AVERAGE(AG20,AG22) -> 0 | AH21: =AVERAGE(AH20,AH22) -> 0 | ... AJ21: =AVERAGE(AJ20,AJ22) -> 0
D22: RPE 9,5 | E22: =IF(D7=AL9,AA11,IF(D7=AL10,AA21,IF(D7=AL11,Z33,IF(D7=AL12,Z45,0)))) -> 0 | F22: =IF(D7=AL9,AB11,IF(D7=AL10,AB21,IF(D7=AL11,AA33,IF(D7=AL12,AA45,0)))) -> 0 | G22: =IF(D7=AL9,AC11,IF(D7=AL10,AC21,IF(D7=AL11,AB33,IF(D7=AL12,AB45,0)))) -> 0 | H22: =IF(D7=AL9,AD11,IF(D7=AL10,AD21,IF(D7=AL11,AC33,IF(D7=AL12,AC45,0)))) -> 0 | I22: =IF(D7=AL9,AE11,IF(D7=AL10,AE21,IF(D7=AL11,AD33,IF(D7=AL12,AD45,0)))) -> 0 | J22: =IF(D7=AL9,AF11,IF(D7=AL10,AF21,IF(D7=AL11,AE33,IF(D7=AL12,AE45,0)))) -> 0 | K22: =IF(D7=AL9,AG11,IF(D7=AL10,AG21,IF(D7=AL11,AF33,IF(D7=AL12,AF45,0)))) -> 0 | L22: =IF(D7=AL9,AH11,IF(D7=AL10,AH21,IF(D7=AL11,AG33,IF(D7=AL12,AG45,0)))) -> 0 | M22: =IF(D7=AL9,AI11,IF(D7=AL10,AI21,IF(D7=AL11,AH33,IF(D7=AL12,AH45,0)))) -> 0 | N22: =IF(D7=AL9,AJ11,IF(D7=AL10,AJ21,IF(D7=AL11,AI33,IF(D7=AL12,AI45,0)))) -> 0 | AA22: =AB20 -> 0 | AB22: =AC20 -> 0 | AC22: =AD20 -> 0 | AD22: =AE20 -> 0 | AE22: =AF20 -> 0 | AF22: =AG20 -> 0 | AG22: =AH20 -> 0 | AH22: =AI20 -> 0 | ... AJ22: =AK20 -> 0
D23: RPE 9 | E23: =IF(D7=AL9,AA12,IF(D7=AL10,AA22,IF(D7=AL11,Z34,IF(D7=AL12,Z46,0)))) -> 0 | F23: =IF(D7=AL9,AB12,IF(D7=AL10,AB22,IF(D7=AL11,AA34,IF(D7=AL12,AA46,0)))) -> 0 | G23: =IF(D7=AL9,AC12,IF(D7=AL10,AC22,IF(D7=AL11,AB34,IF(D7=AL12,AB46,0)))) -> 0 | H23: =IF(D7=AL9,AD12,IF(D7=AL10,AD22,IF(D7=AL11,AC34,IF(D7=AL12,AC46,0)))) -> 0 | I23: =IF(D7=AL9,AE12,IF(D7=AL10,AE22,IF(D7=AL11,AD34,IF(D7=AL12,AD46,0)))) -> 0 | J23: =IF(D7=AL9,AF12,IF(D7=AL10,AF22,IF(D7=AL11,AE34,IF(D7=AL12,AE46,0)))) -> 0 | K23: =IF(D7=AL9,AG12,IF(D7=AL10,AG22,IF(D7=AL11,AF34,IF(D7=AL12,AF46,0)))) -> 0 | L23: =IF(D7=AL9,AH12,IF(D7=AL10,AH22,IF(D7=AL11,AG34,IF(D7=AL12,AG46,0)))) -> 0 | M23: =IF(D7=AL9,AI12,IF(D7=AL10,AI22,IF(D7=AL11,AH34,IF(D7=AL12,AH46,0)))) -> 0 | N23: =IF(D7=AL9,AJ12,IF(D7=AL10,AJ22,IF(D7=AL11,AI34,IF(D7=AL12,AI46,0)))) -> 0 | AA23: =AVERAGE(AA22,AA24) -> 0 | AB23: =AVERAGE(AB22,AB24) -> 0 | AC23: =AVERAGE(AC22,AC24) -> 0 | AD23: =AVERAGE(AD22,AD24) -> 0 | AE23: =AVERAGE(AE22,AE24) -> 0 | AF23: =AVERAGE(AF22,AF24) -> 0 | AG23: =AVERAGE(AG22,AG24) -> 0 | AH23: =AVERAGE(AH22,AH24) -> 0 | ... AJ23: =AVERAGE(AJ22,AJ24) -> 0
D24: RPE 8,5 | E24: =IF(D7=AL9,AA13,IF(D7=AL10,AA23,IF(D7=AL11,Z35,IF(D7=AL12,Z47,0)))) -> 0 | F24: =IF(D7=AL9,AB13,IF(D7=AL10,AB23,IF(D7=AL11,AA35,IF(D7=AL12,AA47,0)))) -> 0 | G24: =IF(D7=AL9,AC13,IF(D7=AL10,AC23,IF(D7=AL11,AB35,IF(D7=AL12,AB47,0)))) -> 0 | H24: =IF(D7=AL9,AD13,IF(D7=AL10,AD23,IF(D7=AL11,AC35,IF(D7=AL12,AC47,0)))) -> 0 | I24: =IF(D7=AL9,AE13,IF(D7=AL10,AE23,IF(D7=AL11,AD35,IF(D7=AL12,AD47,0)))) -> 0 | J24: =IF(D7=AL9,AF13,IF(D7=AL10,AF23,IF(D7=AL11,AE35,IF(D7=AL12,AE47,0)))) -> 0 | K24: =IF(D7=AL9,AG13,IF(D7=AL10,AG23,IF(D7=AL11,AF35,IF(D7=AL12,AF47,0)))) -> 0 | L24: =IF(D7=AL9,AH13,IF(D7=AL10,AH23,IF(D7=AL11,AG35,IF(D7=AL12,AG47,0)))) -> 0 | M24: =IF(D7=AL9,AI13,IF(D7=AL10,AI23,IF(D7=AL11,AH35,IF(D7=AL12,AH47,0)))) -> 0 | N24: =IF(D7=AL9,AJ13,IF(D7=AL10,AJ23,IF(D7=AL11,AI35,IF(D7=AL12,AI47,0)))) -> 0 | AA24: =AC20 -> 0 | AB24: =AD20 -> 0 | AC24: =AE20 -> 0 | AD24: =AF20 -> 0 | AE24: =AG20 -> 0 | AF24: =AH20 -> 0 | AG24: =AI20 -> 0 | AH24: =AJ20 -> 0 | ... AJ24: =AL20 -> 0
D25: RPE 8 | E25: =IF(D7=AL9,AA14,IF(D7=AL10,AA24,IF(D7=AL11,Z36,IF(D7=AL12,Z48,0)))) -> 0 | F25: =IF(D7=AL9,AB14,IF(D7=AL10,AB24,IF(D7=AL11,AA36,IF(D7=AL12,AA48,0)))) -> 0 | G25: =IF(D7=AL9,AC14,IF(D7=AL10,AC24,IF(D7=AL11,AB36,IF(D7=AL12,AB48,0)))) -> 0 | H25: =IF(D7=AL9,AD14,IF(D7=AL10,AD24,IF(D7=AL11,AC36,IF(D7=AL12,AC48,0)))) -> 0 | I25: =IF(D7=AL9,AE14,IF(D7=AL10,AE24,IF(D7=AL11,AD36,IF(D7=AL12,AD48,0)))) -> 0 | J25: =IF(D7=AL9,AF14,IF(D7=AL10,AF24,IF(D7=AL11,AE36,IF(D7=AL12,AE48,0)))) -> 0 | K25: =IF(D7=AL9,AG14,IF(D7=AL10,AG24,IF(D7=AL11,AF36,IF(D7=AL12,AF48,0)))) -> 0 | L25: =IF(D7=AL9,AH14,IF(D7=AL10,AH24,IF(D7=AL11,AG36,IF(D7=AL12,AG48,0)))) -> 0 | M25: =IF(D7=AL9,AI14,IF(D7=AL10,AI24,IF(D7=AL11,AH36,IF(D7=AL12,AH48,0)))) -> 0 | N25: =IF(D7=AL9,AJ14,IF(D7=AL10,AJ24,IF(D7=AL11,AI36,IF(D7=AL12,AI48,0)))) -> 0 | AA25: =AVERAGE(AA24,AA26) -> 0 | AB25: =AVERAGE(AB24,AB26) -> 0 | AC25: =AVERAGE(AC24,AC26) -> 0 | AD25: =AVERAGE(AD24,AD26) -> 0 | AE25: =AVERAGE(AE24,AE26) -> 0 | AF25: =AVERAGE(AF24,AF26) -> 0 | AG25: =AVERAGE(AG24,AG26) -> 0 | AH25: =AVERAGE(AH24,AH26) -> 0 | ... AJ25: =AVERAGE(AJ24,AJ26) -> 0
D26: RPE 7,5 | E26: =IF(D7=AL9,AA15,IF(D7=AL10,AA25,IF(D7=AL11,Z37,IF(D7=AL12,Z49,0)))) -> 0 | F26: =IF(D7=AL9,AB15,IF(D7=AL10,AB25,IF(D7=AL11,AA37,IF(D7=AL12,AA49,0)))) -> 0 | G26: =IF(D7=AL9,AC15,IF(D7=AL10,AC25,IF(D7=AL11,AB37,IF(D7=AL12,AB49,0)))) -> 0 | H26: =IF(D7=AL9,AD15,IF(D7=AL10,AD25,IF(D7=AL11,AC37,IF(D7=AL12,AC49,0)))) -> 0 | I26: =IF(D7=AL9,AE15,IF(D7=AL10,AE25,IF(D7=AL11,AD37,IF(D7=AL12,AD49,0)))) -> 0 | J26: =IF(D7=AL9,AF15,IF(D7=AL10,AF25,IF(D7=AL11,AE37,IF(D7=AL12,AE49,0)))) -> 0 | K26: =IF(D7=AL9,AG15,IF(D7=AL10,AG25,IF(D7=AL11,AF37,IF(D7=AL12,AF49,0)))) -> 0 | L26: =IF(D7=AL9,AH15,IF(D7=AL10,AH25,IF(D7=AL11,AG37,IF(D7=AL12,AG49,0)))) -> 0 | M26: =IF(D7=AL9,AI15,IF(D7=AL10,AI25,IF(D7=AL11,AH37,IF(D7=AL12,AH49,0)))) -> 0 | N26: =IF(D7=AL9,AJ15,IF(D7=AL10,AJ25,IF(D7=AL11,AI37,IF(D7=AL12,AI49,0)))) -> 0 | AA26: =AD20 -> 0 | AB26: =AE20 -> 0 | AC26: =AF20 -> 0 | AD26: =AG20 -> 0 | AE26: =AH20 -> 0 | AF26: =AI20 -> 0 | AG26: =AJ20 -> 0 | AH26: =AK20 -> 0 | ... AJ26: =AM20 -> 0
D27: RPE 7 | E27: =IF(D7=AL9,AA16,IF(D7=AL10,AA26,IF(D7=AL11,Z38,IF(D7=AL12,Z50,0)))) -> 0 | F27: =IF(D7=AL9,AB16,IF(D7=AL10,AB26,IF(D7=AL11,AA38,IF(D7=AL12,AA50,0)))) -> 0 | G27: =IF(D7=AL9,AC16,IF(D7=AL10,AC26,IF(D7=AL11,AB38,IF(D7=AL12,AB50,0)))) -> 0 | H27: =IF(D7=AL9,AD16,IF(D7=AL10,AD26,IF(D7=AL11,AC38,IF(D7=AL12,AC50,0)))) -> 0 | I27: =IF(D7=AL9,AE16,IF(D7=AL10,AE26,IF(D7=AL11,AD38,IF(D7=AL12,AD50,0)))) -> 0 | J27: =IF(D7=AL9,AF16,IF(D7=AL10,AF26,IF(D7=AL11,AE38,IF(D7=AL12,AE50,0)))) -> 0 | K27: =IF(D7=AL9,AG16,IF(D7=AL10,AG26,IF(D7=AL11,AF38,IF(D7=AL12,AF50,0)))) -> 0 | L27: =IF(D7=AL9,AH16,IF(D7=AL10,AH26,IF(D7=AL11,AG38,IF(D7=AL12,AG50,0)))) -> 0 | M27: =IF(D7=AL9,AI16,IF(D7=AL10,AI26,IF(D7=AL11,AH38,IF(D7=AL12,AH50,0)))) -> 0 | N27: =IF(D7=AL9,AJ16,IF(D7=AL10,AJ26,IF(D7=AL11,AI38,IF(D7=AL12,AI50,0)))) -> 0 | AA27: =AVERAGE(AA26,AA28) -> 0 | AB27: =AVERAGE(AB28,AB26) -> 0 | AC27: =AVERAGE(AC26,AC28) -> 0 | AD27: =AVERAGE(AD26,AD28) -> 0 | AE27: =AVERAGE(AE26,AE28) -> 0 | AF27: =AVERAGE(AF26,AF28) -> 0 | AG27: =AVERAGE(AG26,AG28) -> 0 | AH27: =AVERAGE(AH26,AH28) -> 0 | AI27: =AVERAGE(AI26,AI28) -> 0 | AJ27: =AVERAGE(AJ26,AJ28) -> 0
D28: RPE 6,5 | E28: =IF(D7=AL9,AA17,IF(D7=AL10,AA27,IF(D7=AL11,Z39,IF(D7=AL12,Z51,0)))) -> 0 | F28: =IF(D7=AL9,AB17,IF(D7=AL10,AB27,IF(D7=AL11,AA39,IF(D7=AL12,AA51,0)))) -> 0 | G28: =IF(D7=AL9,AC17,IF(D7=AL10,AC27,IF(D7=AL11,AB39,IF(D7=AL12,AB51,0)))) -> 0 | H28: =IF(D7=AL9,AD17,IF(D7=AL10,AD27,IF(D7=AL11,AC39,IF(D7=AL12,AC51,0)))) -> 0 | I28: =IF(D7=AL9,AE17,IF(D7=AL10,AE27,IF(D7=AL11,AD39,IF(D7=AL12,AD51,0)))) -> 0 | J28: =IF(D7=AL9,AF17,IF(D7=AL10,AF27,IF(D7=AL11,AE39,IF(D7=AL12,AE51,0)))) -> 0 | K28: =IF(D7=AL9,AG17,IF(D7=AL10,AG27,IF(D7=AL11,AF39,IF(D7=AL12,AF51,0)))) -> 0 | L28: =IF(D7=AL9,AH17,IF(D7=AL10,AH27,IF(D7=AL11,AG39,IF(D7=AL12,AG51,0)))) -> 0 | M28: =IF(D7=AL9,AI17,IF(D7=AL10,AI27,IF(D7=AL11,AH39,IF(D7=AL12,AH51,0)))) -> 0 | N28: =IF(D7=AL9,AJ17,IF(D7=AL10,AJ27,IF(D7=AL11,AI39,IF(D7=AL12,AI51,0)))) -> 0 | AA28: =AE20 -> 0 | AB28: =AF20 -> 0 | AC28: =AG20 -> 0 | AD28: =AH20 -> 0 | AE28: =AI20 -> 0 | AF28: =AJ20 -> 0 | AG28: =AK20 -> 0 | AH28: =AL20 -> 0 | ... AJ28: =AN20 -> 0
D29: RPE 6 | E29: =IF(D7=AL9,AA18,IF(D7=AL10,AA28,IF(D7=AL11,Z40,IF(D7=AL12,Z52,0)))) -> 0 | F29: =IF(D7=AL9,AB18,IF(D7=AL10,AB28,IF(D7=AL11,AA40,IF(D7=AL12,AA52,0)))) -> 0 | G29: =IF(D7=AL9,AC18,IF(D7=AL10,AC28,IF(D7=AL11,AB40,IF(D7=AL12,AB52,0)))) -> 0 | H29: =IF(D7=AL9,AD18,IF(D7=AL10,AD28,IF(D7=AL11,AC40,IF(D7=AL12,AC52,0)))) -> 0 | I29: =IF(D7=AL9,AE18,IF(D7=AL10,AE28,IF(D7=AL11,AD40,IF(D7=AL12,AD52,0)))) -> 0 | J29: =IF(D7=AL9,AF18,IF(D7=AL10,AF28,IF(D7=AL11,AE40,IF(D7=AL12,AE52,0)))) -> 0 | K29: =IF(D7=AL9,AG18,IF(D7=AL10,AG28,IF(D7=AL11,AF40,IF(D7=AL12,AF52,0)))) -> 0 | L29: =IF(D7=AL9,AH18,IF(D7=AL10,AH28,IF(D7=AL11,AG40,IF(D7=AL12,AG52,0)))) -> 0 | M29: =IF(D7=AL9,AI18,IF(D7=AL10,AI28,IF(D7=AL11,AH40,IF(D7=AL12,AH52,0)))) -> 0 | N29: =IF(D7=AL9,AJ18,IF(D7=AL10,AJ28,IF(D7=AL11,AI40,IF(D7=AL12,AI52,0)))) -> 0
C31: Reps @RPE | E31: Fatigue Stops | H31: Reps @RPE | J31: Fatigue Stops | M31: Wilks Points Calculator | Z31: =H53 -> Custom RPE Chart (Bench)
E32: 0.05 | F32: 0.07 | J32: 0.05 | K32: 0.07 | Z32: =G17 -> 0 | AA32: =Z32*J58 -> 0 | AB32: =Z32*J59 -> 0 | AC32: =Z32*J60 -> 0 | AD32: =Z32*J61 -> 0 | AE32: =Z32*J62 -> 0 | AF32: =Z32*J63 -> 0 | AG32: =Z32*J64 -> 0 | AH32: =Z32*J65 -> 0 | AI32: =Z32*J66 -> 0 | AJ32: =Z32*J67 -> 0 | AK32: =Z32*J68 -> 0 | AL32: =Z32*J69 -> 0 | AM32: =Z32*J70 -> 0 | AN32: =Z32*J71 -> 0
C33: 1 @RPE 9 | D33: =E23 -> 0 | E33: =D33-(D33*E32) -> 0 | F33: =D33-(D33*F32) -> 0 | H33: 6 @RPE 9 | I33: =J23 -> 0 | J33: =I33-(I33*J32) -> 0 | K33: =I33-(I33*K32) -> 0 | M33: You are : | Z33: =AVERAGE(Z32,Z34) -> 0 | AA33: =AVERAGE(AA34,AA32) -> 0 | AB33: =AVERAGE(AB32,AB34) -> 0 | AC33: =AVERAGE(AC32,AC34) -> 0 | AD33: =AVERAGE(AD32,AD34) -> 0 | AE33: =AVERAGE(AE32,AE34) -> 0 | AF33: =AVERAGE(AF32,AF34) -> 0 | AG33: =AVERAGE(AG34,AG32) -> 0 | AH33: =AVERAGE(AH32,AH34) -> 0 | AI33: =AVERAGE(AI32,AI34) -> 0
C34: 1 @RPE 8 | D34: =E25 -> 0 | H34: 6 @RPE 8 | I34: =J25 -> 0 | Z34: =AA32 -> 0 | AA34: =AB32 -> 0 | AB34: =AC32 -> 0 | AC34: =AD32 -> 0 | AD34: =AE32 -> 0 | AE34: =AF32 -> 0 | AF34: =AG32 -> 0 | AG34: =AH32 -> 0 | ... AI34: =AJ32 -> 0
C35: 1 @RPE 7 | D35: =E27 -> 0 | H35: 6 @RPE 7 | I35: =J27 -> 0 | M35: Bodyweight : | Z35: =AVERAGE(Z34,Z36) -> 0 | AA35: =AVERAGE(AA34,AA36) -> 0 | AB35: =AVERAGE(AB34,AB36) -> 0 | AC35: =AVERAGE(AC34,AC36) -> 0 | AD35: =AVERAGE(AD34,AD36) -> 0 | AE35: =AVERAGE(AE34,AE36) -> 0 | AF35: =AVERAGE(AF34,AF36) -> 0 | AG35: =AVERAGE(AG36,AG34) -> 0 | AH35: =AVERAGE(AH34,AH36) -> 0 | AI35: =AVERAGE(AI34,AI36) -> 0
Z36: =AB32 -> 0 | AA36: =AC32 -> 0 | AB36: =AD32 -> 0 | AC36: =AE32 -> 0 | AD36: =AF32 -> 0 | AE36: =AG32 -> 0 | AF36: =AH32 -> 0 | AG36: =AI32 -> 0 | ... AI36: =AK32 -> 0
C37: 2 @RPE 9 | D37: =F23 -> 0 | E37: =D37-(D37*E32) -> 0 | F37: =D37-(D37*F32) -> 0 | H37: 7 @RPE 9 | I37: =K23 -> 0 | J37: =I37-(I37*J32) -> 0 | K37: =I37-(I37*K32) -> 0 | M37: Total Lifted Weight : | Z37: =AVERAGE(Z36,Z38) -> 0 | AA37: =AVERAGE(AA36,AA38) -> 0 | AB37: =AVERAGE(AB36,AB38) -> 0 | AC37: =AVERAGE(AC36,AC38) -> 0 | AD37: =AVERAGE(AD36,AD38) -> 0 | AE37: =AVERAGE(AE36,AE38) -> 0 | AF37: =AVERAGE(AF36,AF38) -> 0 | AG37: =AVERAGE(AG38,AG36) -> 0 | AH37: =AVERAGE(AH36,AH38) -> 0 | AI37: =AVERAGE(AI36,AI38) -> 0
C38: 2 @RPE 8 | D38: =F25 -> 0 | H38: 7 @RPE 8 | I38: =K25 -> 0 | Z38: =AC32 -> 0 | AA38: =AD32 -> 0 | AB38: =AE32 -> 0 | AC38: =AF32 -> 0 | AD38: =AG32 -> 0 | AE38: =AH32 -> 0 | AF38: =AI32 -> 0 | AG38: =AJ32 -> 0 | ... AI38: =AL32 -> 0
C39: 2 @RPE 7 | D39: =F27 -> 0 | H39: 7 @RPE 7 | I39: =K27 -> 0 | M39: =IF(O33=S40,O37*500/(-216.0475144+16.2606339*O35-0.002388645*O35^2-0.00113732*O35^3+0.00000701863*O35^4-0.00000001291*O35^5),O37*500/(594.31747775582-27.23842536447*O35+0.82112226871*O35^2-0.00930733913*O35^3+0.00004731582*O35^4-0.00000009054*O35^5)) -> 0 | Z39: =AVERAGE(Z38,Z40) -> 0 | AA39: =AVERAGE(AA38,AA40) -> 0 | AB39: =AVERAGE(AB38,AB40) -> 0 | AC39: =AVERAGE(AC38,AC40) -> 0 | AD39: =AVERAGE(AD38,AD40) -> 0 | AE39: =AVERAGE(AE38,AE40) -> 0 | AF39: =AVERAGE(AF38,AF40) -> 0 | AG39: =AVERAGE(AG38,AG40) -> 0 | ... AI39: =AVERAGE(AI38,AI40) -> 0
S40: Man | Z40: =AD32 -> 0 | AA40: =AE32 -> 0 | AB40: =AF32 -> 0 | AC40: =AG32 -> 0 | AD40: =AH32 -> 0 | AE40: =AI32 -> 0 | AF40: =AJ32 -> 0 | AG40: =AK32 -> 0 | ... AI40: =AM32 -> 0
C41: 3 @RPE 9 | D41: =G23 -> 0 | E41: =D41-(D41*E32) -> 0 | F41: =D41-(D41*F32) -> 0 | H41: 8 @RPE 9 | I41: =L23 -> 0 | J41: =I41-(I41*J32) -> 0 | K41: =I41-(I41*K32) -> 0
C42: 3 @RPE 8 | D42: =G25 -> 0 | H42: 8 @RPE 8 | I42: =L25 -> 0 | M42: IPF Points Calculator (Classic 3-Lift)
C43: 3 @RPE 7 | D43: =G27 -> 0 | H43: 8 @RPE 7 | I43: =L27 -> 0 | Z43: =L53 -> Custom RPE Chart (Deadlift)
M44: You are : | Z44: =G17 -> 0 | AA44: =Z44*N58 -> 0 | AB44: =Z44*N59 -> 0 | AC44: =Z44*N60 -> 0 | AD44: =Z44*N61 -> 0 | AE44: =Z44*N62 -> 0 | AF44: =Z44*N63 -> 0 | AG44: =Z44*N64 -> 0 | AH44: =Z44*N65 -> 0 | AI44: =Z44*N66 -> 0 | AJ44: =Z44*N67 -> 0 | AK44: =Z44*N68 -> 0 | AL44: =Z44*N69 -> 0 | AM44: =Z44*N70 -> 0 | AN44: =Z44*N71 -> 0
C45: 4 @RPE 9 | D45: =H23 -> 0 | E45: =D45-(D45*E32) -> 0 | F45: =D45-(D45*F32) -> 0 | H45: 9 @RPE 9 | I45: =M23 -> 0 | J45: =I45-(I45*J32) -> 0 | K45: =I45-(I45*K32) -> 0 | Z45: =AVERAGE(Z44,Z46) -> 0 | AA45: =AVERAGE(AA44,AA46) -> 0 | AB45: =AVERAGE(AB44,AB46) -> 0 | AC45: =AVERAGE(AC44,AC46) -> 0 | AD45: =AVERAGE(AD44,AD46) -> 0 | AE45: =AVERAGE(AE44,AE46) -> 0 | AF45: =AVERAGE(AF44,AF46) -> 0 | AG45: =AVERAGE(AG44,AG46) -> 0 | ... AI45: =AVERAGE(AI44,AI46) -> 0
C46: 4 @RPE 8 | D46: =H25 -> 0 | H46: 9 @RPE 8 | I46: =M25 -> 0 | M46: Bodyweight : | Z46: =AA44 -> 0 | AA46: =AB44 -> 0 | AB46: =AC44 -> 0 | AC46: =AD44 -> 0 | AD46: =AE44 -> 0 | AE46: =AF44 -> 0 | AF46: =AG44 -> 0 | AG46: =AH44 -> 0 | ... AI46: =AJ44 -> 0
C47: 4 @RPE 7 | D47: =H27 -> 0 | H47: 9 @RPE 7 | I47: =M27 -> 0 | Z47: =AVERAGE(Z46,Z48) -> 0 | AA47: =AVERAGE(AA46,AA48) -> 0 | AB47: =AVERAGE(AB46,AB48) -> 0 | AC47: =AVERAGE(AC46,AC48) -> 0 | AD47: =AVERAGE(AD46,AD48) -> 0 | AE47: =AVERAGE(AE46,AE48) -> 0 | AF47: =AVERAGE(AF46,AF48) -> 0 | AG47: =AVERAGE(AG46,AG48) -> 0 | ... AI47: =AVERAGE(AI46,AI48) -> 0
...

Sheet Week 1
E3: Week 1 Training Log | P3: ='Training Plan'!B12 -> Low Stress
B9: Day 1
B13: 1 | C13: Competition Squat | H13: 2 | I13: Competition Bench | N13: 3 | O13: Strict Pendlay Row
B15: Sets x Reps @RPE / % | D15: ▪ 5@6 RPE ▪ 5@7 RPE ▪ 5@8 RPE | H15: Sets x Reps @RPE / % | J15: ▪ 6@6 RPE ▪ 6@7 RPE ▪ 6@8 RPE | N15: Sets x Reps @RPE / % | P15: ▪ 10@6 RPE ▪ 10@8 RPE
B20: Rest Periods | D20: 4-6min | H20: Rest Periods | J20: 4-5min | N20: Rest Periods | P20: 3-4min
B22: Sets | C22: Reps | D22: Weight | E22: RPE | F22: Relative Intensity | H22: Sets | I22: Reps | J22: Weight | K22: RPE | L22: Relative Intensity | N22: Sets | O22: Reps | P22: Weight | Q22: RPE | R22: Relative Intensity
B23: 1 | C23: 5 | D23: 150 | E23: 6 | F23: 0.76530612 | H23: 1 | I23: 5 | J23: 90 | K23: 5 | L23: 0.66666667 | N23: 1 | O23: 10 | P23: 85 | Q23: 6 | R23: 0.65384615
B24: 2 | C24: 5 | D24: 155 | E24: 7 | F24: 0.79081633 | H24: 2 | I24: 5 | J24: 100 | K24: 5 | L24: 0.74074074 | N24: 2 | O24: 10 | P24: 90 | Q24: 8 | R24: 0.69230769
B25: 3 | C25: 5 | D25: 160 | E25: 8 | F25: 0.81632653 | H25: 3 | I25: 6 | J25: 110 | K25: 9 | L25: 0.81481481 | N25: 3 | R25: 0
B26: 4 | F26: 0 | H26: 4 | L26: 0 | N26: 4 | R26: 0
B27: 5 | F27: 0 | H27: 5 | L27: 0 | N27: 5 | R27: 0
B28: 6 | F28: 0 | H28: 6 | L28: 0 | N28: 6 | R28: 0
B29: 7 | F29: 0 | H29: 7 | L29: 0 | N29: 7 | R29: 0
B30: 8 | F30: 0 | H30: 8 | L30: 0 | N30: 8 | R30: 0
B31: 9 | F31: 0 | H31: 9 | L31: 0 | N31: 9 | R31: 0
B32: 10 | F32: 0 | H32: 10 | L32: 0 | N32: 10 | R32: 0
B33: e1RM | C33: Average Intensity | E33: 0.79081633 | H33: e1RM | I33: Average Intensity | K33: 0.74074074 | N33: e1RM | O33: Average Intensity | P33: 0.67307692 | Q33: sRPE | R33: 345.66667
B35: 196 | C35: nReps | D35: 15 | E35: Volume | F35: 2325 | H35: 135 | I35: nReps | J35: 16 | K35: Volume | L35: 1610 | N35: 130 | O35: nReps | P35: 20 | Q35: Volume | R35: 1750
B37: 160 | C37: 7 | H37: 110 | I37: 7 | N37: 90 | O37: 12 | Q37: 6.7777778 | R37: 51
B39: Day 2
B43: 1 | C43: Competition Deadlift | H43: 2 | I43: 2ct Paused Bench | N43: 3 | O43: 3-0-3 Squat
B45: Sets x Reps @RPE / % | D45: ▪ 5@5 RPE ▪ 5@6 RPE ▪ 5@7 RPE | H45: Sets x Reps @RPE / % | J45: ▪ 4@7 RPE ▪ 4@8 RPE ▪ 4@9 RPE | N45: Sets x Reps @RPE / % | P45: ▪ 8@7 RPE ▪ 8@8 RPE ▪ 8@9 RPE
B50: Rest Periods | D50: 4-6min | H50: Rest Periods | J50: 4-5min | N50: Rest Periods | P50: 3-4min
B52: Sets | C52: Reps | D52: Weight | E52: RPE | F52: Relative Intensity | H52: Sets | I52: Reps | J52: Weight | K52: RPE | L52: Relative Intensity | N52: Sets | O52: Reps | P52: Weight | Q52: RPE | R52: Relative Intensity
B53: 1 | C53: 5 | D53: 200 | E53: 2 | F53: 0.67340067 | H53: 1 | I53: 4 | J53: 100 | K53: 7 | L53: 0.83333333 | N53: 1 | O53: 8 | P53: 100 | Q53: 8 | R53: 0.63694268
B54: 2 | C54: 5 | D54: 210 | E54: 3 | F54: 0.70707071 | H54: 2 | I54: 4 | J54: 102.5 | K54: 8 | L54: 0.85416667 | N54: 2 | O54: 8 | P54: 100 | Q54: 8 | R54: 0.63694268
B55: 3 | C55: 5 | D55: 220 | E55: 5 | F55: 0.74074074 | H55: 3 | I55: 4 | J55: 105 | K55: 9 | L55: 0.875 | N55: 3 | O55: 8 | P55: 120 | Q55: 9 | R55: 0.76433121
B56: 4 | F56: 0 | H56: 4 | L56: 0 | N56: 4 | R56: 0
B57: 5 | F57: 0 | H57: 5 | L57: 0 | N57: 5 | R57: 0
B58: 6 | F58: 0 | H58: 6 | L58: 0 | N58: 6 | R58: 0
B59: 7 | F59: 0 | H59: 7 | L59: 0 | N59: 7 | R59: 0
B60: 8 | F60: 0 | H60: 8 | L60: 0 | N60: 8 | R60: 0
B61: 9 | F61: 0 | H61: 9 | L61: 0 | N61: 9 | R61: 0
B62: 10 | F62: 0 | H62: 10 | L62: 0 | N62: 10 | R62: 0
B63: e1RM | C63: Average Intensity | E63: 0.70707071 | H63: e1RM | I63: Average Intensity | K63: 0.85416667 | N63: e1RM | O63: Average Intensity | P63: 0.67940552 | Q63: sRPE | R63: 334.33333
B65: 297 | C65: nReps | D65: 15 | E65: Volume | F65: 3150 | H65: 120 | I65: nReps | J65: 12 | K65: Volume | L65: 1230 | N65: 157 | O65: nReps | P65: 24 | Q65: Volume | R65: 2560
B67: 220 | C67: 10 | H67: 105 | I67: 5 | N67: 120 | O67: 9 | Q67: 6.5555556 | R67: 51
B69: General Physical Prepardness (GPP)
C73: Bike | F73: Chest Supported Row | I73: Ab Wheel | L73: Biceps s/s Triceps | O73: 0
C75: 25min Steady State @6 RPE | F75: 7min AMRAP | I75: 7min AMRAP | L75: 4 x 10/12 @8 RPE | O75: 0
...

Sheet Week 2
E3: Week 2 Training Log | P3: ='Training Plan'!B41 -> Developmental
B9: Day 1
B13: 1 | C13: Competition Squat | H13: 2 | I13: Competition Bench | N13: 3 | O13: Strict Pendlay Row
B15: Sets x Reps @RPE / % | D15: ▪ 1@8 RPE ▪ 5 x 5@-19% from 1@8 | H15: Sets x Reps @RPE / % | J15: ▪ 1@8 RPE ▪ 4 x 5@-19% of 1@8 | N15: Sets x Reps @RPE / % | P15: ▪ 10@6 RPE ▪ 3 x 10@8 RPE
B20: Rest Periods | D20: 4-6min | H20: Rest Periods | J20: 4-5min | N20: Rest Periods | P20: 3-4min
B22: Sets | C22: Reps | D22: Weight | E22: RPE | F22: Relative Intensity | H22: Sets | I22: Reps | J22: Weight | K22: RPE | L22: Relative Intensity | N22: Sets | O22: Reps | P22: Weight | Q22: RPE | R22: Relative Intensity
B23: 1 | C23: 1 | D23: 195 | E23: 7 | F23: 0.90277778 | H23: 1 | I23: 1 | J23: 130 | K23: 7.5 | L23: 0.91549296 | N23: 1 | O23: 10 | P23: 80 | Q23: 6 | R23: 0.61538462
B24: 2 | C24: 5 | D24: 155 | E24: 6 | F24: 0.71759259 | H24: 2 | I24: 5 | J24: 105 | K24: 6 | L24: 0.73943662 | N24: 2 | O24: 10 | P24: 90 | Q24: 8 | R24: 0.69230769
B25: 3 | C25: 5 | D25: 155 | E25: 6 | F25: 0.71759259 | H25: 3 | I25: 5 | J25: 105 | K25: 6 | L25: 0.73943662 | N25: 3 | O25: 10 | P25: 90 | Q25: 8 | R25: 0.69230769
B26: 4 | C26: 5 | D26: 155 | E26: 7 | F26: 0.71759259 | H26: 4 | I26: 5 | J26: 105 | K26: 7 | L26: 0.73943662 | N26: 4 | O26: 10 | P26: 90 | Q26: 8 | R26: 0.69230769
B27: 5 | C27: 5 | D27: 155 | E27: 7 | F27: 0.71759259 | H27: 5 | I27: 5 | J27: 105 | K27: 8 | L27: 0.73943662 | N27: 5 | R27: 0
B28: 6 | C28: 5 | D28: 160 | E28: 7 | F28: 0.74074074 | H28: 6 | L28: 0 | N28: 6 | R28: 0
B29: 7 | F29: 0 | H29: 7 | L29: 0 | N29: 7 | R29: 0
B30: 8 | F30: 0 | H30: 8 | L30: 0 | N30: 8 | R30: 0
B31: 9 | F31: 0 | H31: 9 | L31: 0 | N31: 9 | R31: 0
B32: 10 | F32: 0 | H32: 10 | L32: 0 | N32: 10 | R32: 0
B33: e1RM | C33: Average Intensity | E33: 0.75231481 | H33: e1RM | I33: Average Intensity | K33: 0.77464789 | N33: e1RM | O33: Average Intensity | P33: 0.67307692 | Q33: sRPE | R33: 610.93333
B35: 216 | C35: nReps | D35: 26 | E35: Volume | F35: 4095 | H35: 142 | I35: nReps | J35: 21 | K35: Volume | L35: 2230 | N35: 130 | O35: nReps | P35: 40 | Q35: Volume | R35: 3500
B37: 195 | C37: 4 | H37: 130 | I37: 3.5 | N37: 90 | O37: 12 | Q37: 7.0222222 | R37: 87
B39: Day 2
B43: 1 | C43: Competition Deadlift | H43: 2 | I43: 2ct Paused Bench | N43: 3 | O43: 3-0-3 Hack Squat
B45: Sets x Reps @RPE / % | D45: ▪ 1@8 RPE ▪ 5 x 5@-19% from 1@8 | H45: Sets x Reps @RPE / % | J45: ▪ 4@6 RPE ▪ 4@7 RPE ▪ 2 x 4@8 RPE | N45: Sets x Reps @RPE / % | P45: ▪ 8@7 RPE ▪ 8@8 RPE ▪ 8@9 RPE ▪ 8@-5% of 8@9
B50: Rest Periods | D50: 4-6min | H50: Rest Periods | J50: 4-5min | N50: Rest Periods | P50: 3-4min
B52: Sets | C52: Reps | D52: Weight | E52: RPE | F52: Relative Intensity | H52: Sets | I52: Reps | J52: Weight | K52: RPE | L52: Relative Intensity | N52: Sets | O52: Reps | P52: Weight | Q52: RPE | R52: Relative Intensity
B53: 1 | C53: 1 | D53: 250 | E53: 6 | F53: 0.87412587 | H53: 1 | I53: 4 | J53: 100 | K53: 6 | L53: 0.78125 | N53: 1 | O53: 8 | P53: 120 | Q53: 6 | R53: 0.49382716
B54: 2 | C54: 5 | D54: 205 | E54: 4 | F54: 0.71678322 | H54: 2 | I54: 4 | J54: 102.5 | K54: 7 | L54: 0.80078125 | N54: 2 | O54: 8 | P54: 160 | Q54: 7 | R54: 0.65843621
B55: 3 | C55: 5 | D55: 205 | E55: 4 | F55: 0.71678322 | H55: 3 | I55: 4 | J55: 110 | K55: 8.5 | L55: 0.859375 | N55: 3 | O55: 8 | P55: 180 | Q55: 8 | R55: 0.74074074
B56: 4 | C56: 5 | D56: 205 | E56: 4 | F56: 0.71678322 | H56: 4 | I56: 4 | J56: 110 | K56: 9 | L56: 0.859375 | N56: 4 | O56: 8 | P56: 170 | Q56: 7 | R56: 0.69958848
B57: 5 | C57: 5 | D57: 205 | E57: 4 | F57: 0.71678322 | H57: 5 | L57: 0 | N57: 5 | R57: 0
B58: 6 | C58: 5 | D58: 205 | E58: 5 | F58: 0.71678322 | H58: 6 | L58: 0 | N58: 6 | R58: 0
B59: 7 | F59: 0 | H59: 7 | L59: 0 | N59: 7 | R59: 0
B60: 8 | F60: 0 | H60: 8 | L60: 0 | N60: 8 | R60: 0
B61: 9 | F61: 0 | H61: 9 | L61: 0 | N61: 9 | R61: 0
B62: 10 | F62: 0 | H62: 10 | L62: 0 | N62: 10 | R62: 0
B63: e1RM | C63: Average Intensity | E63: 0.74300699 | H63: e1RM | I63: Average Intensity | K63: 0.82519531 | N63: e1RM | O63: Average Intensity | P63: 0.64814815 | Q63: sRPE | R63: 471.75
B65: 286 | C65: nReps | D65: 26 | E65: Volume | F65: 5375 | H65: 128 | I65: nReps | J65: 16 | K65: Volume | L65: 1690 | N65: 243 | O65: nReps | P65: 32 | Q65: Volume | R65: 5040
B67: 250 | C67: 5 | H67: 110 | I67: 5.5 | N67: 180 | O67: 10 | Q67: 6.375 | R67: 74
B69: General Physical Prepardness (GPP)
C73: Bike | F73: Chest Supported Row | I73: Ab Wheel | L73: Biceps s/s Triceps | O73: 0
C75: 25min Steady State @6 RPE | F75: 7min AMRAP | I75: 7min AMRAP | L75: 4 x 10/12 @8 RPE | O75: 0
...

Sheet Week 3
E3: Week 3 Training Log | P3: ='Training Plan'!B70 -> Developmental
B9: Day 1
P12: Day 2
B13: 1 | C13: Competition Squat | H13: 2 | I13: Competition Bench | N13: 3 | O13: Strict Pendlay Row
B15: Sets x Reps @RPE / % | D15: ▪ 1@8 RPE ▪ 5 x 5@-19% from 1@8 | H15: Sets x Reps @RPE / % | J15: ▪ 1@8 RPE ▪ 4 x 5@-19% of 1@8 | N15: Sets x Reps @RPE / % | P15: ▪ 10@6 RPE ▪ 3 x 10@8 RPE
B20: Rest Periods | D20: 4-6min | H20: Rest Periods | J20: 4-5min | N20: Rest Periods | P20: 3-4min
B22: Sets | C22: Reps | D22: Weight | E22: RPE | F22: Relative Intensity | H22: Sets | I22: Reps | J22: Weight | K22: RPE | L22: Relative Intensity | N22: Sets | O22: Reps | P22: Weight | Q22: RPE | R22: Relative Intensity
B23: 1 | C23: 1 | D23: 200 | E23: 8.5 | F23: 0.9478673 | H23: 1 | I23: 1 | J23: 140 | K23: 9.5 | L23: 0.97902098 | N23: 1 | O23: 10 | P23: 80 | Q23: 6 | R23: 0.55555556
B24: 2 | C24: 5 | D24: 162.5 | E24: 6 | F24: 0.77014218 | H24: 2 | I24: 5 | J24: 107.5 | K24: 7 | L24: 0.75174825 | N24: 2 | O24: 10 | P24: 100 | Q24: 8 | R24: 0.69444444
B25: 3 | C25: 5 | D25: 162.5 | E25: 7 | F25: 0.77014218 | H25: 3 | I25: 5 | J25: 107.5 | K25: 7 | L25: 0.75174825 | N25: 3 | O25: 10 | P25: 100 | Q25: 9 | R25: 0.69444444
B26: 4 | C26: 5 | D26: 162.5 | E26: 7 | F26: 0.77014218 | H26: 4 | I26: 5 | J26: 107.5 | K26: 7 | L26: 0.75174825 | N26: 4 | O26: 10 | P26: 100 | Q26: 9 | R26: 0.69444444
B27: 5 | C27: 5 | D27: 162.5 | E27: 8 | F27: 0.77014218 | H27: 5 | I27: 5 | J27: 107.5 | K27: 7 | L27: 0.75174825 | N27: 5 | R27: 0
B28: 6 | C28: 5 | D28: 162.5 | E28: 8.5 | F28: 0.77014218 | H28: 6 | L28: 0 | N28: 6 | R28: 0
B29: 7 | F29: 0 | H29: 7 | L29: 0 | N29: 7 | R29: 0
B30: 8 | F30: 0 | H30: 8 | L30: 0 | N30: 8 | R30: 0
B31: 9 | F31: 0 | H31: 9 | L31: 0 | N31: 9 | R31: 0
B32: 10 | F32: 0 | H32: 10 | L32: 0 | N32: 10 | R32: 0
B33: e1RM | C33: Average Intensity | E33: 0.79976303 | H33: e1RM | I33: Average Intensity | K33: 0.7972028 | N33: e1RM | O33: Average Intensity | P33: 0.65972222 | Q33: sRPE | R33: 667
B35: 211 | C35: nReps | D35: 26 | E35: Volume | F35: 4262.5 | H35: 143 | I35: nReps | J35: 21 | K35: Volume | L35: 2290 | N35: 144 | O35: nReps | P35: 40 | Q35: Volume | R35: 3800
B37: 200 | C37: 2.5 | H37: 140 | I37: 1.5 | N37: 100 | O37: 12 | Q37: 7.6666667 | R37: 87
B39: Day 2
J42: 1ct
B43: 1 | C43: Competition Deadlift | H43: 2 | I43: 2ct Paused Bench | N43: 3 | O43: Romanian Deadlift
B45: Sets x Reps @RPE / % | D45: ▪ 1@8 RPE ▪ 5 x 5@-19% from 1@8 | H45: Sets x Reps @RPE / % | J45: ▪ 4@6 RPE ▪ 4@7 RPE ▪ 2 x 4@8 RPE | N45: Sets x Reps @RPE / % | P45: ▪ 10@7 RPE ▪ 10@8 RPE ▪ 10@9 RPE ▪ 10@-5% of 10@9
B50: Rest Periods | D50: 4-6min | H50: Rest Periods | J50: 4-5min | N50: Rest Periods | P50: 3-4min
B52: Sets | C52: Reps | D52: Weight | E52: RPE | F52: Relative Intensity | H52: Sets | I52: Reps | J52: Weight | K52: RPE | L52: Relative Intensity | N52: Sets | O52: Reps | P52: Weight | Q52: RPE | R52: Relative Intensity
B53: 1 | C53: 1 | D53: 257.5 | E53: 8.5 | F53: 0.9501845 | H53: 1 | I53: 4 | J53: 100 | K53: 7 | L53: 0.72463768 | N53: 1 | O53: 10 | P53: 140 | Q53: 7 | R53: 0.55776892
B54: 2 | C54: 5 | D54: 210 | E54: 7 | F54: 0.77490775 | H54: 2 | I54: 4 | J54: 110 | K54: 8 | L54: 0.79710145 | N54: 2 | O54: 10 | P54: 160 | Q54: 8 | R54: 0.6374502
B55: 3 | C55: 5 | D55: 210 | E55: 7 | F55: 0.77490775 | H55: 3 | I55: 4 | J55: 120 | K55: 9 | L55: 0.86956522 | N55: 3 | O55: 10 | P55: 180 | Q55: 9 | R55: 0.71713147
B56: 4 | C56: 5 | D56: 210 | E56: 7 | F56: 0.77490775 | H56: 4 | I56: 4 | J56: 110 | K56: 9 | L56: 0.79710145 | N56: 4 | O56: 10 | P56: 150 | Q56: 8 | R56: 0.59760956
B57: 5 | C57: 5 | D57: 210 | E57: 7 | F57: 0.77490775 | H57: 5 | L57: 0 | N57: 5 | R57: 0
B58: 6 | C58: 5 | D58: 210 | E58: 8 | F58: 0.77490775 | H58: 6 | L58: 0 | N58: 6 | R58: 0
B59: 7 | F59: 0 | H59: 7 | L59: 0 | N59: 7 | R59: 0
B60: 8 | F60: 0 | H60: 8 | L60: 0 | N60: 8 | R60: 0
B61: 9 | F61: 0 | H61: 9 | L61: 0 | N61: 9 | R61: 0
B62: 10 | F62: 0 | H62: 10 | L62: 0 | N62: 10 | R62: 0
B63: e1RM | C63: Average Intensity | E63: 0.80412054 | H63: e1RM | I63: Average Intensity | K63: 0.79710145 | N63: e1RM | O63: Average Intensity | P63: 0.62749004 | Q63: sRPE | R63: 646.88889
B65: 271 | C65: nReps | D65: 26 | E65: Volume | F65: 5507.5 | H65: 138 | I65: nReps | J65: 16 | K65: Volume | L65: 1760 | N65: 251 | O65: nReps | P65: 40 | Q65: Volume | R65: 6300
B67: 257.5 | C67: 2.5 | H67: 120 | I67: 5 | N67: 180 | O67: 11 | Q67: 7.8888889 | R67: 82
B69: General Physical Prepardness (GPP)
...

Sheet Week 4
E3: Week 4 Training Log | P3: ='Training Plan'!B99 -> Developmental
B9: Day 1
B13: 1 | C13: Competition Squat | H13: 2 | I13: Competition Bench | N13: 3 | O13: Strict Pendlay Row
B15: Sets x Reps @RPE / % | D15: ▪ 1@8 RPE ▪ 5 x 5@-19% from 1@8 | H15: Sets x Reps @RPE / % | J15: ▪ 1@8 RPE ▪ 4 x 5@-19% of 1@8 | N15: Sets x Reps @RPE / % | P15: ▪ 10@6 RPE ▪ 3 x 10@8 RPE
B20: Rest Periods | D20: 4-6min | H20: Rest Periods | J20: 4-5min | N20: Rest Periods | P20: 3-4min
B22: Sets | C22: Reps | D22: Weight | E22: RPE | F22: Relative Intensity | H22: Sets | I22: Reps | J22: Weight | K22: RPE | L22: Relative Intensity | N22: Sets | O22: Reps | P22: Weight | Q22: RPE | R22: Relative Intensity
B23: 1 | C23: 1 | D23: 200 | E23: 7.5 | F23: 0.91743119 | H23: 1 | I23: 1 | J23: 135 | K23: 8.5 | L23: 0.95070423 | N23: 1 | O23: 10 | P23: 80 | Q23: 4 | R23: 0.53691275
B24: 2 | C24: 5 | D24: 160 | E24: 6 | F24: 0.73394495 | H24: 2 | I24: 5 | J24: 105 | K24: 6 | L24: 0.73943662 | N24: 2 | O24: 10 | P24: 100 | Q24: 7 | R24: 0.67114094
B25: 3 | C25: 5 | D25: 160 | E25: 6 | F25: 0.73394495 | H25: 3 | I25: 5 | J25: 105 | K25: 6 | L25: 0.73943662 | N25: 3 | O25: 10 | P25: 100 | Q25: 7 | R25: 0.67114094
B26: 4 | C26: 5 | D26: 160 | E26: 7 | F26: 0.73394495 | H26: 4 | I26: 5 | J26: 105 | K26: 7 | L26: 0.73943662 | N26: 4 | O26: 10 | P26: 100 | Q26: 8 | R26: 0.67114094
B27: 5 | C27: 5 | D27: 170 | E27: 7 | F27: 0.77981651 | H27: 5 | I27: 5 | J27: 105 | K27: 7 | L27: 0.73943662 | N27: 5 | R27: 0
B28: 6 | C28: 5 | D28: 170 | E28: 7.5 | F28: 0.77981651 | H28: 6 | L28: 0 | N28: 6 | R28: 0
B29: 7 | F29: 0 | H29: 7 | L29: 0 | N29: 7 | R29: 0
B30: 8 | F30: 0 | H30: 8 | L30: 0 | N30: 8 | R30: 0
B31: 9 | F31: 0 | H31: 9 | L31: 0 | N31: 9 | R31: 0
B32: 10 | F32: 0 | H32: 10 | L32: 0 | N32: 10 | R32: 0
B33: e1RM | C33: Average Intensity | E33: 0.77981651 | H33: e1RM | I33: Average Intensity | K33: 0.78169014 | N33: e1RM | O33: Average Intensity | P33: 0.63758389 | Q33: sRPE | R33: 586.76667
B35: 218 | C35: nReps | D35: 26 | E35: Volume | F35: 4300 | H35: 142 | I35: nReps | J35: 21 | K35: Volume | L35: 2235 | N35: 149 | O35: nReps | P35: 40 | Q35: Volume | R35: 3800
B37: 200 | C37: 3.5 | H37: 135 | I37: 2.5 | N37: 100 | O37: 13 | Q37: 6.7444444 | R37: 87
B39: Day 2
B43: 1 | C43: Competition Deadlift | H43: 2 | I43: 2ct Paused Bench | N43: 3 | O43: Romanian Deadlift
B45: Sets x Reps @RPE / % | D45: ▪ 1@8 RPE ▪ 5 x 5@-19% from 1@8 | H45: Sets x Reps @RPE / % | J45: ▪ 4@6 RPE ▪ 4@7 RPE ▪ 2 x 4@8 RPE | N45: Sets x Reps @RPE / % | P45: ▪ 10@7 RPE ▪ 10@8 RPE ▪ 10@9 RPE ▪ 10@-5% of 10@9
B50: Rest Periods | D50: 4-6min | H50: Rest Periods | J50: 4-5min | N50: Rest Periods | P50: 3-4min
B52: Sets | C52: Reps | D52: Weight | E52: RPE | F52: Relative Intensity | H52: Sets | I52: Reps | J52: Weight | K52: RPE | L52: Relative Intensity | N52: Sets | O52: Reps | P52: Weight | Q52: RPE | R52: Relative Intensity
B53: 1 | C53: 1 | D53: 255 | E53: 8 | F53: 0.93406593 | H53: 1 | I53: 4 | J53: 105 | K53: 7 | L53: 0.80152672 | N53: 1 | O53: 10 | P53: 160 | Q53: 7 | R53: 0.6557377
B54: 2 | C54: 5 | D54: 220 | E54: 7 | F54: 0.80586081 | H54: 2 | I54: 4 | J54: 110 | K54: 7.5 | L54: 0.83969466 | N54: 2 | O54: 10 | P54: 170 | Q54: 8 | R54: 0.69672131
B55: 3 | C55: 5 | D55: 220 | E55: 7.5 | F55: 0.80586081 | H55: 3 | I55: 4 | J55: 112.5 | K55: 8.5 | L55: 0.85877863 | N55: 3 | O55: 8 | P55: 190 | Q55: 9.5 | R55: 0.77868852
B56: 4 | C56: 5 | D56: 220 | E56: 7 | F56: 0.80586081 | H56: 4 | I56: 4 | J56: 112.5 | K56: 9 | L56: 0.85877863 | N56: 4 | R56: 0
B57: 5 | C57: 5 | D57: 220 | E57: 7 | F57: 0.80586081 | H57: 5 | L57: 0 | N57: 5 | R57: 0
B58: 6 | C58: 5 | D58: 220 | E58: 7 | F58: 0.80586081 | H58: 6 | L58: 0 | N58: 6 | R58: 0
B59: 7 | F59: 0 | H59: 7 | L59: 0 | N59: 7 | R59: 0
B60: 8 | F60: 0 | H60: 8 | L60: 0 | N60: 8 | R60: 0
B61: 9 | F61: 0 | H61: 9 | L61: 0 | N61: 9 | R61: 0
B62: 10 | F62: 0 | H62: 10 | L62: 0 | N62: 10 | R62: 0
B63: e1RM | C63: Average Intensity | E63: 0.82722833 | H63: e1RM | I63: Average Intensity | K63: 0.83969466 | N63: e1RM | O63: Average Intensity | P63: 0.71038251 | Q63: sRPE | R63: 546.38889
B65: 273 | C65: nReps | D65: 26 | E65: Volume | F65: 5755 | H65: 131 | I65: nReps | J65: 16 | K65: Volume | L65: 1760 | N65: 244 | O65: nReps | P65: 28 | Q65: Volume | R65: 4820
B67: 255 | C67: 3 | H67: 112.5 | I67: 5.5 | N67: 190 | O67: 8.5 | Q67: 7.8055556 | R67: 70
B69: General Physical Prepardness (GPP)
C73: Bike | F73: Chest Supported Row | I73: Ab Wheel | L73: Biceps s/s Triceps | O73: 0
C75: 30min Steady State @6 RPE | F75: 8min AMRAP | I75: 8min AMRAP | L75: 6 x 10/12 @8 RPE | O75: 0
...

Sheet Week 5
E3: Week 5 Training Log | P3: ='Training Plan'!B128 -> Developmental
B9: Day 1
B13: 1 | C13: Competition Squat | H13: 2 | I13: Competition Bench | N13: 3 | O13: Strict Pendlay Row
B15: Sets x Reps @RPE / % | D15: ▪ 1@8 RPE ▪ 5 x 5@-19% from 1@8 | H15: Sets x Reps @RPE / % | J15: ▪ 1@8 RPE ▪ 4 x 5@-19% of 1@8 | N15: Sets x Reps @RPE / % | P15: ▪ 10@6 RPE ▪ 3 x 10@8 RPE
B20: Rest Periods | D20: 40-45min | H20: Rest Periods | J20: 30-35min | N20: Rest Periods | P20: 20min
B22: Sets | C22: Reps | D22: Weight | E22: RPE | F22: Relative Intensity | H22: Sets | I22: Reps | J22: Weight | K22: RPE | L22: Relative Intensity | N22: Sets | O22: Reps | P22: Weight | Q22: RPE | R22: Relative Intensity
B23: 1 | C23: 1 | D23: 210 | E23: 7 | F23: 0.90517241 | H23: 1 | I23: 1 | J23: 132.5 | K23: 8.5 | L23: 0.94642857 | N23: 1 | O23: 10 | P23: 90 | Q23: 6 | R23: 0.56603774
B24: 2 | C24: 5 | D24: 170 | E24: 6 | F24: 0.73275862 | H24: 2 | I24: 5 | J24: 110 | K24: 7.5 | L24: 0.78571429 | N24: 2 | O24: 10 | P24: 100 | Q24: 7 | R24: 0.62893082
B25: 3 | C25: 5 | D25: 170 | E25: 6 | F25: 0.73275862 | H25: 3 | I25: 5 | J25: 110 | K25: 7.5 | L25: 0.78571429 | N25: 3 | O25: 10 | P25: 100 | Q25: 7 | R25: 0.62893082
B26: 4 | C26: 5 | D26: 170 | E26: 7 | F26: 0.73275862 | H26: 4 | I26: 5 | J26: 110 | K26: 7 | L26: 0.78571429 | N26: 4 | O26: 10 | P26: 110 | Q26: 8 | R26: 0.6918239
B27: 5 | C27: 5 | D27: 170 | E27: 7 | F27: 0.73275862 | H27: 5 | I27: 5 | J27: 110 | K27: 8 | L27: 0.78571429 | N27: 5 | R27: 0
B28: 6 | C28: 5 | D28: 170 | E28: 7.5 | F28: 0.73275862 | H28: 6 | L28: 0 | N28: 6 | R28: 0
B29: 7 | F29: 0 | H29: 7 | L29: 0 | N29: 7 | R29: 0
B30: 8 | F30: 0 | H30: 8 | L30: 0 | N30: 8 | R30: 0
B31: 9 | F31: 0 | H31: 9 | L31: 0 | N31: 9 | R31: 0
B32: 10 | F32: 0 | H32: 10 | L32: 0 | N32: 10 | R32: 0
B33: e1RM | C33: Average Intensity | E33: 0.76149425 | H33: e1RM | I33: Average Intensity | K33: 0.81785714 | N33: e1RM | O33: Average Intensity | P33: 0.62893082 | Q33: sRPE | R33: 622.05
B35: 232 | C35: nReps | D35: 26 | E35: Volume | F35: 4460 | H35: 140 | I35: nReps | J35: 21 | K35: Volume | L35: 2332.5 | N35: 159 | O35: nReps | P35: 40 | Q35: Volume | R35: 4000
B37: 210 | C37: 4 | H37: 132.5 | I37: 2.5 | N37: 110 | O37: 12 | Q37: 7.15 | R37: 87
B39: Day 2
B43: 1 | C43: Competition Deadlift | H43: 2 | I43: 2ct Paused Bench | N43: 3 | O43: Romanian Deadlift
B45: Sets x Reps @RPE / % | D45: ▪ 1@8 RPE ▪ 5 x 5@-19% from 1@8 | H45: Sets x Reps @RPE / % | J45: ▪ 4@6 RPE ▪ 4@7 RPE ▪ 2 x 4@8 RPE | N45: Sets x Reps @RPE / % | P45: ▪ 10@7 RPE ▪ 10@8 RPE ▪ 10@9 RPE ▪ 10@-5% of 10@9
B50: Rest Periods | D50: 40-45min | H50: Rest Periods | J50: 20-25min | N50: Rest Periods | P50: 20-25min
B52: Sets | C52: Reps | D52: Weight | E52: RPE | F52: Relative Intensity | H52: Sets | I52: Reps | J52: Weight | K52: RPE | L52: Relative Intensity | N52: Sets | O52: Reps | P52: Weight | Q52: RPE | R52: Relative Intensity
B53: 1 | C53: 1 | D53: 262.5 | E53: 8 | F53: 0.9341637 | H53: 1 | I53: 4 | J53: 102.5 | K53: 6 | L53: 0.74275362 | N53: 1 | O53: 10 | P53: 160 | Q53: 7 | R53: 0.6374502
B54: 2 | C54: 5 | D54: 220 | E54: 6 | F54: 0.78291815 | H54: 2 | I54: 4 | J54: 112.5 | K54: 7.5 | L54: 0.81521739 | N54: 2 | O54: 10 | P54: 170 | Q54: 8 | R54: 0.67729084
B55: 3 | C55: 5 | D55: 220 | E55: 6.5 | F55: 0.78291815 | H55: 3 | I55: 4 | J55: 120 | K55: 9 | L55: 0.86956522 | N55: 3 | O55: 10 | P55: 180 | Q55: 9 | R55: 0.71713147
B56: 4 | C56: 5 | D56: 220 | E56: 7 | F56: 0.78291815 | H56: 4 | I56: 4 | J56: 110 | K56: 8.5 | L56: 0.79710145 | N56: 4 | O56: 10 | P56: 160 | Q56: 8 | R56: 0.6374502
B57: 5 | C57: 5 | D57: 220 | E57: 7 | F57: 0.78291815 | H57: 5 | L57: 0 | N57: 5 | R57: 0
B58: 6 | C58: 5 | D58: 220 | E58: 8 | F58: 0.78291815 | H58: 6 | L58: 0 | N58: 6 | R58: 0
B59: 7 | F59: 0 | H59: 7 | L59: 0 | N59: 7 | R59: 0
B60: 8 | F60: 0 | H60: 8 | L60: 0 | N60: 8 | R60: 0
B61: 9 | F61: 0 | H61: 9 | L61: 0 | N61: 9 | R61: 0
B62: 10 | F62: 0 | H62: 10 | L62: 0 | N62: 10 | R62: 0
B63: e1RM | C63: Average Intensity | E63: 0.80812574 | H63: e1RM | I63: Average Intensity | K63: 0.80615942 | N63: e1RM | O63: Average Intensity | P63: 0.66733068 | Q63: sRPE | R63: 624.11111
B65: 281 | C65: nReps | D65: 26 | E65: Volume | F65: 5762.5 | H65: 138 | I65: nReps | J65: 16 | K65: Volume | L65: 1780 | N65: 251 | O65: nReps | P65: 40 | Q65: Volume | R65: 6700
B67: 262.5 | C67: 3 | H67: 120 | I67: 5 | N67: 180 | O67: 11 | Q67: 7.6111111 | R67: 82
B69: General Physical Prepardness (GPP)
C73: Bike | F73: Chest Supported Row | I73: Ab Wheel | L73: Biceps s/s Triceps | O73: 0
C75: 30min Steady State @6 RPE | F75: 8min AMRAP | I75: 8min AMRAP | L75: 6 x 10/12 @8 RPE | O75: 0
...

Sheet Week 6
E3: Week 6 Training Log | P3: ='Training Plan'!B157 -> Pivot
B9: Day 1
B13: 1 | C13: ='Training Plan'!C161 -> Competition Deadlift | H13: 2 | I13: ='Training Plan'!C169 -> 5ct Paused Bench | N13: 3 | O13: ='Training Plan'!C177 -> Chest Supported Row
B15: Sets x Reps @RPE / % | D15: ='Training Plan'!C162 -> ▪ 1@8 RPE ▪ 4-0-0 Tempo : 3 x 4@67% e1RM | H15: Sets x Reps @RPE / % | J15: ='Training Plan'!C170 -> ▪ 1@8 RPE ▪ 4@8 RPE ▪ 4@9 RPE | N15: Sets x Reps @RPE / % | P15: ='Training Plan'!C178 -> ▪ 3 x 10@8 RPE
B20: Rest Periods | D20: ='Training Plan'!D167 -> 3-5min | H20: Rest Periods | J20: ='Training Plan'!D175 -> 3-5min | N20: Rest Periods | P20: ='Training Plan'!D183 -> 3min
B22: Sets | C22: Reps | D22: Weight | E22: RPE | F22: Relative Intensity | H22: Sets | I22: Reps | J22: Weight | K22: RPE | L22: Relative Intensity | N22: Sets | O22: Reps | P22: Weight | Q22: RPE | R22: Relative Intensity
B23: 1 | C23: 1 | D23: 262.5 | E23: 8 | F23: =IF(ISNUMBER(D23),D23/B35,) -> 0.9341637 | H23: 1 | I23: 1 | J23: 130 | K23: 9 | L23: =IF(ISNUMBER(J23),J23/H35,) -> 0.96296296 | N23: 1 | O23: 10 | P23: 160 | Q23: 8 | R23: =IF(ISNUMBER(P23),P23/N35,) -> 0.69264069
B24: 2 | C24: 4 | D24: 180 | E24: 3 | F24: =IF(ISNUMBER(D24),D24/B35,) -> 0.6405694 | H24: 2 | I24: 4 | J24: 105 | K24: 8 | L24: =IF(ISNUMBER(J24),J24/H35,) -> 0.77777778 | N24: 2 | O24: 10 | P24: 160 | Q24: 8.5 | R24: =IF(ISNUMBER(P24),P24/N35,) -> 0.69264069
B25: 3 | C25: 4 | D25: 180 | E25: 4 | F25: =IF(ISNUMBER(D25),D25/B35,) -> 0.6405694 | H25: 3 | I25: 4 | J25: 110 | K25: 9 | L25: =IF(ISNUMBER(J25),J25/H35,) -> 0.81481481 | N25: 3 | O25: 10 | P25: 160 | Q25: 9 | R25: =IF(ISNUMBER(P25),P25/N35,) -> 0.69264069
B26: 4 | C26: 4 | D26: 180 | E26: 4 | F26: =IF(ISNUMBER(D26),D26/B35,) -> 0.6405694 | H26: 4 | L26: =IF(ISNUMBER(J26),J26/H35,) -> 0 | N26: 4 | R26: =IF(ISNUMBER(P26),P26/N35,) -> 0
B27: 5 | F27: =IF(ISNUMBER(D27),D27/B35,) -> 0 | H27: 5 | L27: =IF(ISNUMBER(J27),J27/H35,) -> 0 | N27: 5 | R27: =IF(ISNUMBER(P27),P27/N35,) -> 0
B28: 6 | F28: =IF(ISNUMBER(D28),D28/B35,) -> 0 | H28: 6 | L28: =IF(ISNUMBER(J28),J28/H35,) -> 0 | N28: 6 | R28: =IF(ISNUMBER(P28),P28/N35,) -> 0
B29: 7 | F29: =IF(ISNUMBER(D29),D29/B35,) -> 0 | H29: 7 | L29: =IF(ISNUMBER(J29),J29/H35,) -> 0 | N29: 7 | R29: =IF(ISNUMBER(P29),P29/N35,) -> 0
B30: 8 | F30: =IF(ISNUMBER(D30),D30/B35,) -> 0 | H30: 8 | L30: =IF(ISNUMBER(J30),J30/H35,) -> 0 | N30: 8 | R30: =IF(ISNUMBER(P30),P30/N35,) -> 0
B31: 9 | F31: =IF(ISNUMBER(D31),D31/B35,) -> 0 | H31: 9 | L31: =IF(ISNUMBER(J31),J31/H35,) -> 0 | N31: 9 | R31: =IF(ISNUMBER(P31),P31/N35,) -> 0
B32: 10 | F32: =IF(ISNUMBER(D32),D32/B35,) -> 0 | H32: 10 | L32: =IF(ISNUMBER(J32),J32/H35,) -> 0 | N32: 10 | R32: =IF(ISNUMBER(P32),P32/N35,) -> 0
B33: e1RM | C33: Average Intensity | E33: =IFERROR(IF(COUNT(F23:F32)>0,AVERAGEIF(F23:F32,">0"),0),) -> 0.71396797 | H33: e1RM | I33: Average Intensity | K33: =IFERROR(IF(COUNT(L23:L32)>0,AVERAGEIF(L23:L32,">0"),0),) -> 0.85185185 | N33: e1RM | O33: Average Intensity | P33: =IFERROR(IF(COUNT(R23:R32)>0,AVERAGEIF(R23:R32,">0"),0),) -> 0.69264069 | Q33: sRPE | R33: =IFERROR(Q37*R37,"") -> 379.88889
B35: =IFERROR(ROUNDUP(B37/(0.0005*C37^2-0.0342*C37+1.034),0),) -> 281 | C35: nReps | D35: =SUM(C23:C32) -> 13 | E35: Volume | F35: =SUM(C23*D23,C24*D24,C25*D25,C26*D26,C27*D27,C28*D28,C29*D29,C30*D30,C31*D31,C32*D32) -> 2422.5 | H35: =IFERROR(ROUNDUP(H37/(0.0005*I37^2-0.0342*I37+1.034),0),) -> 135 | I35: nReps | J35: =SUM(I23:I32) -> 9 | K35: Volume | L35: =SUM(I23*J23,I24*J24,I25*J25,I26*J26,I27*J27,I28*J28,I29*J29,I30*J30,I31*J31,I32*J32) -> 990 | N35: =IFERROR(ROUNDUP(N37/(0.0005*O37^2-0.0342*O37+1.034),0),) -> 231 | O35: nReps | P35: =SUM(O23:O32) -> 30 | Q35: Volume | R35: =SUM(O23*P23,O24*P24,O25*P25,O26*P26,O27*P27,O28*P28,O29*P29,O30*P30,O31*P31,O32*P32) -> 4800
B37: =IFERROR(OFFSET(D22,MATCH(MAX(D23:D32),D23:D32,0),0),"") -> 262.5 | C37: =IFERROR(OFFSET(C22,MATCH(MAX(D23:D32),D23:D32,0),0)+(10-OFFSET(E22,MATCH(MAX(D23:D32),D23:D32,0),0)),"") -> 3 | H37: =IFERROR(OFFSET(J22,MATCH(MAX(J23:J32),J23:J32,0),0),"") -> 130 | I37: =IFERROR(OFFSET(I22,MATCH(MAX(J23:J32),J23:J32,0),0)+(10-OFFSET(K22,MATCH(MAX(J23:J32),J23:J32,0),0)),"") -> 2 | N37: =IFERROR(OFFSET(P22,MATCH(MAX(P23:P32),P23:P32,0),0),"") -> 160 | O37: =IFERROR(OFFSET(O22,MATCH(MAX(P23:P32),P23:P32,0),0)+(10-OFFSET(Q22,MATCH(MAX(P23:P32),P23:P32,0),0)),"") -> 12 | Q37: =IFERROR(AVERAGE(AVERAGE(E23:E32),AVERAGE(K23:K32),AVERAGE(Q23:Q32)),"") -> 7.3055556 | R37: =SUM(C23:C32,I23:I32,O23:O32) -> 52
B39: Day 2
B43: 1 | C43: ='Training Plan'!F161 -> Competition Squat | H43: 2 | I43: ='Training Plan'!F169 -> SSB Goodmorning | N43: 3 | O43: ='Training Plan'!F177 -> Dumbbell Bench
B45: Sets x Reps @RPE / % | D45: ='Training Plan'!F162 -> ▪ 1@8 RPE ▪ 18-12-10 Squat : 1@8 RPE ▪ 2-0-0 SSB Squat : 2 x 4@7 RPE | H45: Sets x Reps @RPE / % | J45: ='Training Plan'!F170 -> ▪ 5@6 RPE ▪ 5@7 RPE ▪ 5@8 RPE | N45: Sets x Reps @RPE / % | P45: ='Training Plan'!F178 -> ▪ AMRAP @50kg ▪ 2 x 10 @-17% of AMRAP
B50: Rest Periods | D50: ='Training Plan'!G167 -> 3-5min | H50: Rest Periods | J50: ='Training Plan'!G175 -> 3-5min | N50: Rest Periods | P50: ='Training Plan'!G183 -> 3-4min
B52: Sets | C52: Reps | D52: Weight | E52: RPE | F52: Relative Intensity | H52: Sets | I52: Reps | J52: Weight | K52: RPE | L52: Relative Intensity | N52: Sets | O52: Reps | P52: Weight | Q52: RPE | R52: Relative Intensity
B53: 1 | C53: 1 | D53: 217.5 | E53: 8 | F53: =IF(ISNUMBER(D53),D53/B65,) -> 0.93347639 | H53: 1 | I53: 5 | J53: 105 | K53: 7 | L53: =IF(ISNUMBER(J53),J53/H65,) -> 0.78947368 | N53: 1 | O53: 3 | P53: 52.5 | Q53: 9.5 | R53: =IF(ISNUMBER(P53),P53/N65,) -> 0.90517241
B54: 2 | C54: 1 | D54: 100 | E54: 8 | F54: =IF(ISNUMBER(D54),D54/B65,) -> 0.42918455 | H54: 2 | I54: 5 | J54: 105 | K54: 7 | L54: =IF(ISNUMBER(J54),J54/H65,) -> 0.78947368 | N54: 2 | O54: 10 | P54: 42 | Q54: 7 | R54: =IF(ISNUMBER(P54),P54/N65,) -> 0.72413793
B55: 3 | C55: 4 | D55: 145 | E55: 7 | F55: =IF(ISNUMBER(D55),D55/B65,) -> 0.6223176 | H55: 3 | I55: 5 | J55: 105 | K55: 7 | L55: =IF(ISNUMBER(J55),J55/H65,) -> 0.78947368 | N55: 3 | O55: 10 | P55: 42 | Q55: 7 | R55: =IF(ISNUMBER(P55),P55/N65,) -> 0.72413793
B56: 4 | C56: 4 | D56: 165 | E56: 8.5 | F56: =IF(ISNUMBER(D56),D56/B65,) -> 0.70815451 | H56: 4 | L56: =IF(ISNUMBER(J56),J56/H65,) -> 0 | N56: 4 | R56: =IF(ISNUMBER(P56),P56/N65,) -> 0
B57: 5 | F57: =IF(ISNUMBER(D57),D57/B65,) -> 0 | H57: 5 | L57: =IF(ISNUMBER(J57),J57/H65,) -> 0 | N57: 5 | R57: =IF(ISNUMBER(P57),P57/N65,) -> 0
B58: 6 | F58: =IF(ISNUMBER(D58),D58/B65,) -> 0 | H58: 6 | L58: =IF(ISNUMBER(J58),J58/H65,) -> 0 | N58: 6 | R58: =IF(ISNUMBER(P58),P58/N65,) -> 0
B59: 7 | F59: =IF(ISNUMBER(D59),D59/B65,) -> 0 | H59: 7 | L59: =IF(ISNUMBER(J59),J59/H65,) -> 0 | N59: 7 | R59: =IF(ISNUMBER(P59),P59/N65,) -> 0
B60: 8 | F60: =IF(ISNUMBER(D60),D60/B65,) -> 0 | H60: 8 | L60: =IF(ISNUMBER(J60),J60/H65,) -> 0 | N60: 8 | R60: =IF(ISNUMBER(P60),P60/N65,) -> 0
B61: 9 | F61: =IF(ISNUMBER(D61),D61/B65,) -> 0 | H61: 9 | L61: =IF(ISNUMBER(J61),J61/H65,) -> 0 | N61: 9 | R61: =IF(ISNUMBER(P61),P61/N65,) -> 0
B62: 10 | F62: =IF(ISNUMBER(D62),D62/B65,) -> 0 | H62: 10 | L62: =IF(ISNUMBER(J62),J62/H65,) -> 0 | N62: 10 | R62: =IF(ISNUMBER(P62),P62/N65,) -> 0
B63: e1RM | C63: Average Intensity | E63: =IFERROR(IF(COUNT(F53:F62)>0,AVERAGEIF(F53:F62,">0"),0),) -> 0.67328326 | H63: e1RM | I63: Average Intensity | K63: =IFERROR(IF(COUNT(L53:L62)>0,AVERAGEIF(L53:L62,">0"),0),) -> 0.78947368 | N63: e1RM | O63: Average Intensity | P63: =IFERROR(IF(COUNT(R53:R62)>0,AVERAGEIF(R53:R62,">0"),0),) -> 0.78448276 | Q63: sRPE | R63: =IFERROR(Q67*R67,"") -> 363.33333
B65: =IFERROR(ROUNDUP(B67/(0.0005*C67^2-0.0342*C67+1.034),0),) -> 233 | C65: nReps | D65: =SUM(C53:C62) -> 10 | E65: Volume | F65: =SUM(C53*D53,C54*D54,C55*D55,C56*D56,C57*D57,C58*D58,C59*D59,C60*D60,C61*D61,C62*D62) -> 1557.5 | H65: =IFERROR(ROUNDUP(H67/(0.0005*I67^2-0.0342*I67+1.034),0),) -> 133 | I65: nReps | J65: =SUM(I53:I62) -> 15 | K65: Volume | L65: =SUM(I53*J53,I54*J54,I55*J55,I56*J56,I57*J57,I58*J58,I59*J59,I60*J60,I61*J61,I62*J62) -> 1575 | N65: =IFERROR(ROUNDUP(N67/(0.0005*O67^2-0.0342*O67+1.034),0),) -> 58 | O65: nReps | P65: =SUM(O53:O62) -> 23 | Q65: Volume | R65: =SUM(O53*P53,O54*P54,O55*P55,O56*P56,O57*P57,O58*P58,O59*P59,O60*P60,O61*P61,O62*P62) -> 997.5
B67: =IFERROR(OFFSET(D52,MATCH(MAX(D53:D62),D53:D62,0),0),"") -> 217.5 | C67: =IFERROR(OFFSET(C52,MATCH(MAX(D53:D62),D53:D62,0),0)+(10-OFFSET(E52,MATCH(MAX(D53:D62),D53:D62,0),0)),"") -> 3 | H67: =IFERROR(OFFSET(J52,MATCH(MAX(J53:J62),J53:J62,0),0),"") -> 105 | I67: =IFERROR(OFFSET(I52,MATCH(MAX(J53:J62),J53:J62,0),0)+(10-OFFSET(K52,MATCH(MAX(J53:J62),J53:J62,0),0)),"") -> 8 | N67: =IFERROR(OFFSET(P52,MATCH(MAX(P53:P62),P53:P62,0),0),"") -> 52.5 | O67: =IFERROR(OFFSET(O52,MATCH(MAX(P53:P62),P53:P62,0),0)+(10-OFFSET(Q52,MATCH(MAX(P53:P62),P53:P62,0),0)),"") -> 3.5 | Q67: =IFERROR(AVERAGE(AVERAGE(E53:E62),AVERAGE(K53:K62),AVERAGE(Q53:Q62)),"") -> 7.5694444 | R67: =SUM(C53:C62,I53:I62,O53:O62) -> 48
B69: General Physical Prepardness (GPP)
C73: ='Training Plan'!I160 -> Assault Bike | F73: ='Training Plan'!I164 -> Ab Wheel | I73: ='Training Plan'!I168 -> Biceps s/s Triceps | L73: ='Training Plan'!I172 -> 0 | O73: ='Training Plan'!I176 -> 0
C75: ='Training Plan'!I161 -> 20min Steady State @6 RPE | F75: ='Training Plan'!I165 -> 3 x 10@8 RPE | I75: ='Training Plan'!I169 -> 4 x 10/12@8 RPE | L75: ='Training Plan'!I173 -> 0 | O75: ='Training Plan'!I177 -> 0
...

Sheet Week 7
E3: Week 7 Training Log | P3: ='Training Plan'!B186 -> 0
B9: Day 1
B13: 1 | C13: ='Training Plan'!C190 -> 0 | H13: 2 | I13: ='Training Plan'!C198 -> 0 | N13: 3 | O13: ='Training Plan'!C206 -> 0
B15: Sets x Reps @RPE / % | D15: ='Training Plan'!C191 -> 0 | H15: Sets x Reps @RPE / % | J15: ='Training Plan'!C199 -> 0 | N15: Sets x Reps @RPE / % | P15: ='Training Plan'!C207 -> 0
B20: Rest Periods | D20: ='Training Plan'!D196 -> 0 | H20: Rest Periods | J20: ='Training Plan'!D204 -> 0 | N20: Rest Periods | P20: ='Training Plan'!D212 -> 0
B22: Sets | C22: Reps | D22: Weight | E22: RPE | F22: Relative Intensity | H22: Sets | I22: Reps | J22: Weight | K22: RPE | L22: Relative Intensity | N22: Sets | O22: Reps | P22: Weight | Q22: RPE | R22: Relative Intensity
B23: 1 | F23: =IF(ISNUMBER(D23),D23/B35,) -> 0 | H23: 1 | L23: =IF(ISNUMBER(J23),J23/H35,) -> 0 | N23: 1 | R23: =IF(ISNUMBER(P23),P23/N35,) -> 0
B24: 2 | F24: =IF(ISNUMBER(D24),D24/B35,) -> 0 | H24: 2 | L24: =IF(ISNUMBER(J24),J24/H35,) -> 0 | N24: 2 | R24: =IF(ISNUMBER(P24),P24/N35,) -> 0
B25: 3 | F25: =IF(ISNUMBER(D25),D25/B35,) -> 0 | H25: 3 | L25: =IF(ISNUMBER(J25),J25/H35,) -> 0 | N25: 3 | R25: =IF(ISNUMBER(P25),P25/N35,) -> 0
B26: 4 | F26: =IF(ISNUMBER(D26),D26/B35,) -> 0 | H26: 4 | L26: =IF(ISNUMBER(J26),J26/H35,) -> 0 | N26: 4 | R26: =IF(ISNUMBER(P26),P26/N35,) -> 0
B27: 5 | F27: =IF(ISNUMBER(D27),D27/B35,) -> 0 | H27: 5 | L27: =IF(ISNUMBER(J27),J27/H35,) -> 0 | N27: 5 | R27: =IF(ISNUMBER(P27),P27/N35,) -> 0
B28: 6 | F28: =IF(ISNUMBER(D28),D28/B35,) -> 0 | H28: 6 | L28: =IF(ISNUMBER(J28),J28/H35,) -> 0 | N28: 6 | R28: =IF(ISNUMBER(P28),P28/N35,) -> 0
B29: 7 | F29: =IF(ISNUMBER(D29),D29/B35,) -> 0 | H29: 7 | L29: =IF(ISNUMBER(J29),J29/H35,) -> 0 | N29: 7 | R29: =IF(ISNUMBER(P29),P29/N35,) -> 0
B30: 8 | F30: =IF(ISNUMBER(D30),D30/B35,) -> 0 | H30: 8 | L30: =IF(ISNUMBER(J30),J30/H35,) -> 0 | N30: 8 | R30: =IF(ISNUMBER(P30),P30/N35,) -> 0
B31: 9 | F31: =IF(ISNUMBER(D31),D31/B35,) -> 0 | H31: 9 | L31: =IF(ISNUMBER(J31),J31/H35,) -> 0 | N31: 9 | R31: =IF(ISNUMBER(P31),P31/N35,) -> 0
B32: 10 | F32: =IF(ISNUMBER(D32),D32/B35,) -> 0 | H32: 10 | L32: =IF(ISNUMBER(J32),J32/H35,) -> 0 | N32: 10 | R32: =IF(ISNUMBER(P32),P32/N35,) -> 0
B33: e1RM | C33: Average Intensity | E33: =IFERROR(IF(COUNT(F23:F32)>0,AVERAGEIF(F23:F32,">0"),0),) -> 0 | H33: e1RM | I33: Average Intensity | K33: =IFERROR(IF(COUNT(L23:L32)>0,AVERAGEIF(L23:L32,">0"),0),) -> 0 | N33: e1RM | O33: Average Intensity | P33: =IFERROR(IF(COUNT(R23:R32)>0,AVERAGEIF(R23:R32,">0"),0),) -> 0 | Q33: sRPE | R33: =IFERROR(Q37*R37,"")
