Workbook

Sheet Training Plan
F4: Start Date - End Date
N6: Lifts | O6: e1RM (kg)
B7: Training Plan Overview | N7: Squat
N8: Bench
N9: Deadlift
N10: Press | O10: optional
B14: Week 1 | C14: Day 1 | F14: Day 2 | I14: GPP | L14: Day 3 | O14: Day 4
B29: Week 2 | C29: Day 1 | F29: Day 2 | I29: GPP | L29: Day 3 | O29: Day 4
B44: Week 3 | C44: Day 1 | F44: Day 2 | I44: GPP | L44: Day 3 | O44: Day 4
B59: Week 4 | C59: Day 1 | F59: Day 2 | I59: GPP | L59: Day 3 | O59: Day 4
B74: Week 5 | C74: Day 1 | F74: Day 2 | I74: GPP | L74: Day 3 | O74: Day 4

Sheet Calculators
C3: Reps | D3: 1 | E3: 2 | F3: 3 | G3: 4 | H3: 5 | I3: 6 | J3: 7 | K3: 8 | L3: 9 | M3: 10
C4: RPE 10
C5: RPE 9,5
C6: RPE 9 | O6: Estimate 1RM
C7: RPE 8,5
C8: RPE 8
C9: e1RM | D9: =MAX(D4/1,D5/0.978,D6/0.955,D7/0.939,D8/0.922) -> 0 | E9: =MAX(E4/0.955,E5/0.939,E6/0.922,E7/0.907,E8/0.892) -> 0 | F9: =MAX(F4/0.922,F5/0.907,F6/0.892,F7/0.878,F8/0.863) -> 0 | G9: =MAX(G4/0.892,G5/0.878,G6/0.863,G7/0.85,G8/0.837) -> 0 | H9: =MAX(H4/0.863,H5/0.85,H6/0.837,H7/0.824,H8/0.811) -> 0 | I9: =MAX(I4/0.837,I5/0.824,I6/0.811,I7/0.799,I8/0.786) -> 0 | J9: =MAX(J4/0.811,J5/0.799,J6/0.786,J7/0.774,J8/0.762) -> 0 | K9: =MAX(K4/0.786,K5/0.774,K6/0.762,K7/0.751,K8/0.739) -> 0 | L9: =MAX(L4/0.762,L5/0.751,L6/0.739,L7/0.723,L8/0.707) -> 0 | M9: =MAX(M4/0.739,M5/0.723,M6/0.707,M7/0.694,M8/0.68) -> 0
E11: e1RM : | F11: =MAX(D9:M9) -> 0 | H11: Percentage Calculator : | L11: =J11*K11 -> 0
J12: Enter a Weight | K12: Enter a Percentage
C14: Reps | D14: 1 | E14: 2 | F14: 3 | G14: 4 | H14: 5 | I14: 6 | J14: 7 | K14: 8 | L14: 9 | M14: 10
C15: RPE 10 | D15: =F11*1 -> 0 | E15: =F11*0.955 -> 0 | F15: =F11*0.922 -> 0 | G15: =F11*0.892 -> 0 | H15: =F11*0.863 -> 0 | I15: =F11*0.837 -> 0 | J15: =F11*0.811 -> 0 | K15: =F11*0.786 -> 0 | L15: =F11*0.762 -> 0 | M15: =F11*0.739 -> 0
C16: RPE 9,5 | D16: =F11*0.978 -> 0 | E16: =F11*0.939 -> 0 | F16: =F11*0.907 -> 0 | G16: =F11*0.878 -> 0 | H16: =F11*0.85 -> 0 | I16: =F11*0.824 -> 0 | J16: =F11*0.799 -> 0 | K16: =F11*0.774 -> 0 | L16: =F11*0.751 -> 0 | M16: =F11*0.723 -> 0
C17: RPE 9 | D17: =F11*0.955 -> 0 | E17: =F11*0.922 -> 0 | F17: =F11*0.892 -> 0 | G17: =F11*0.863 -> 0 | H17: =F11*0.837 -> 0 | I17: =F11*0.811 -> 0 | J17: =F11*0.786 -> 0 | K17: =F11*0.762 -> 0 | L17: =F11*0.739 -> 0 | M17: =F11*0.707 -> 0
C18: RPE 8,5 | D18: =F11*0.939 -> 0 | E18: =F11*0.907 -> 0 | F18: =F11*0.878 -> 0 | G18: =F11*0.85 -> 0 | H18: =F11*0.824 -> 0 | I18: =F11*0.799 -> 0 | J18: =F11*0.774 -> 0 | K18: =F11*0.751 -> 0 | L18: =F11*0.723 -> 0 | M18: =F11*0.694 -> 0 | O18: RPE Calculator
C19: RPE 8 | D19: =F11*0.922 -> 0 | E19: =F11*0.892 -> 0 | F19: =F11*0.863 -> 0 | G19: =F11*0.837 -> 0 | H19: =F11*0.811 -> 0 | I19: =F11*0.786 -> 0 | J19: =F11*0.762 -> 0 | K19: =F11*0.739 -> 0 | L19: =F11*0.707 -> 0 | M19: =F11*0.68 -> 0
C20: RPE 7,5 | D20: =F11*0.907 -> 0 | E20: =F11*0.878 -> 0 | F20: =F11*0.85 -> 0 | G20: =F11*0.824 -> 0 | H20: =F11*0.799 -> 0 | I20: =F11*0.774 -> 0 | J20: =F11*0.751 -> 0 | K20: =F11*0.723 -> 0 | L20: =F11*0.694 -> 0 | M20: =F11*0.667 -> 0
C21: RPE 7 | D21: =F11*0.892 -> 0 | E21: =F11*0.863 -> 0 | F21: =F11*0.837 -> 0 | G21: =F11*0.811 -> 0 | H21: =F11*0.786 -> 0 | I21: =F11*0.762 -> 0 | J21: =F11*0.739 -> 0 | K21: =F11*0.707 -> 0 | L21: =F11*0.68 -> 0 | M21: =F11*0.653 -> 0
C22: RPE 6,5 | D22: =F11*0.878 -> 0 | E22: =F11*0.85 -> 0 | F22: =F11*0.824 -> 0 | G22: =F11*0.799 -> 0 | H22: =F11*0.774 -> 0 | I22: =F11*0.751 -> 0 | J22: =F11*0.723 -> 0 | K22: =F11*0.694 -> 0 | L22: =F11*0.667 -> 0 | M22: =F11*0.64 -> 0
C23: RPE 6 | D23: =F11*0.863 -> 0 | E23: =F11*0.837 -> 0 | F23: =F11*0.811 -> 0 | G23: =F11*0.786 -> 0 | H23: =F11*0.762 -> 0 | I23: =F11*0.739 -> 0 | J23: =F11*0.707 -> 0 | K23: =F11*0.68 -> 0 | L23: =F11*0.653 -> 0 | M23: =F11*0.627 -> 0
C25: Reps @RPE | E25: Drop with Fatigue | H25: Reps @RPE | J25: Drop with Fatigue
E26: 0.03 | F26: 0.05 | J26: 0.03 | K26: 0.05
C27: 1 @RPE 9 | D27: =D17 -> 0 | E27: =D27-(D27*E26) -> 0 | F27: =D27-(D27*F26) -> 0 | H27: 6 @RPE 9 | I27: =I17 -> 0 | J27: =I27-(I27*J26) -> 0 | K27: =I27-(I27*K26) -> 0
C28: 1 @RPE 8 | D28: =D19 -> 0 | H28: 6 @RPE 8 | I28: =I19 -> 0
C29: 1 @RPE 7 | D29: =D21 -> 0 | H29: 6 @RPE 7 | I29: =I21 -> 0
M30: Wilks Points Calculator
C31: 2 @RPE 9 | D31: =E17 -> 0 | E31: =D31-(D31*E26) -> 0 | F31: =D31-(D31*F26) -> 0 | H31: 7 @RPE 9 | I31: =J17 -> 0 | J31: =I31-(I31*J26) -> 0 | K31: =I31-(I31*K26) -> 0
C32: 2 @RPE 8 | D32: =E19 -> 0 | H32: 7 @RPE 8 | I32: =J19 -> 0 | M32: You are :
C33: 2 @RPE 7 | D33: =E21 -> 0 | H33: 7 @RPE 7 | I33: =J21 -> 0
M34: Bodyweight : | S34: Man
C35: 3 @RPE 9 | D35: =F17 -> 0 | E35: =D35-(D35*E26) -> 0 | F35: =D35-(D35*F26) -> 0 | H35: 8 @RPE 9 | I35: =K17 -> 0 | J35: =I35-(I35*J26) -> 0 | K35: =I35-(I35*K26) -> 0
C36: 3 @RPE 8 | D36: =F19 -> 0 | H36: 8 @RPE 8 | I36: =K19 -> 0 | M36: Total Lifted Weight :
C37: 3 @RPE 7 | D37: =F21 -> 0 | H37: 8 @RPE 7 | I37: =K21 -> 0
M38: =IF(O32=S34,O36*500/(-216.0475144+16.2606339*O34-0.002388645*O34^2-0.00113732*O34^3+0.00000701863*O34^4-0.00000001291*O34^5),O36*500/(594.31747775582-27.23842536447*O34+0.82112226871*O34^2-0.00930733913*O34^3+0.00004731582*O34^4-0.00000009054*O34^5)) -> 0
C39: 4 @RPE 9 | D39: =G17 -> 0 | E39: =D39-(D39*E26) -> 0 | F39: =D39-(D39*F26) -> 0 | H39: 9 @RPE 9 | I39: =L17 -> 0 | J39: =I39-(I39*J26) -> 0 | K39: =I39-(I39*K26) -> 0
C40: 4 @RPE 8 | D40: =G19 -> 0 | H40: 9 @RPE 8 | I40: =L19 -> 0
C41: 4 @RPE 7 | D41: =G21 -> 0 | H41: 9 @RPE 7 | I41: =L21 -> 0
C43: 5 @RPE 9 | D43: =H17 -> 0 | E43: =D43-(D43*E26) -> 0 | F43: =D43-(D43*F26) -> 0 | H43: 10 @RPE 9 | I43: =M17 -> 0 | J43: =I43-(I43*J26) -> 0 | K43: =I43-(I43*K26) -> 0
C44: 5 @RPE 8 | D44: =H19 -> 0 | H44: 10 @RPE 8 | I44: =M19 -> 0
C45: 5 @RPE 7 | D45: =H21 -> 0 | H45: 10 @RPE 7 | I45: =M21 -> 0

Sheet Guidelines & Data Collection
G3: Nutritional Guidelines
G4: Maintenance Phase
N6: Fat Loss Phase | O6: =E7-(E7*0.09) -> 0
C7: Current Maintenance Kcals : | G7: Macronutrients Repartition | K7: Current Weight (kg) : | N7: Maintenance Phase | O7: =E7 -> 0
N8: Weight Gain Phase | O8: =E7*1.08 -> 0
C9: Calorie Needs | E9: =LOOKUP(G4,N6:O8) -> 0 | G9: Protein | H9: =IF(E9=O6,P11,IF(E9=O8,P13,P12)) -> 0 | I9: =IF(H9=0,O27,IF(H9=P11,N23,IF(H9=P12,O23,P23))) -> Undefined | K9: =IF(G4=N6,"Max Recommended Weight Loss",IF(G4=N7,"Maintain the Current Weight",IF(G4=N8,"Max Recommended Weight Gain"))) -> Maintain the Current Weight | N9: =IF(G4=N6,M7-(M7*1.04),IF(G4=N7,"-",IF(G4=N8,M7-(M7*0.97)))) -> -
G10: Carb | H10: =IF(E9=O6,P15,IF(E9=O8,P17,P16)) -> 0 | I10: =IF(H10=0,O27,IF(H10=P15,N24,IF(H10=P16,O24,P24))) -> Undefined | K10: Recommended Target Weight | N10: =IF(G4=N6,M7*0.96,IF(G4=N7,M7,IF(G4=N8,M7*1.03))) -> 0 | R10: 3
G11: Fat | H11: =IF(E9=O6,P19,IF(E9=O8,P21,P20)) -> 0 | I11: =IF(H11=0,O27,IF(H11=P19,N25,IF(H11=P20,O25,P25))) -> Undefined | N11: Fat Loss Protein | P11: =(E9*0.24)/4 -> 0 | R11: 4
K12: =IF(G4=N6,"Optimal Loss per Week",IF(G4=N7,"No Loss or Weight Gain",IF(G4=N8,"Optimal Gain per Week (kg)"))) -> No Loss or Weight Gain | M12: =IF(G4=N6,N9/5,IF(G4=N8,N9/5,IF(G4=N7,M7*0))) -> 0 | N12: Maintenance Protein | P12: =(E9*0.195)/4 -> 0 | R12: 5
P13: =(E9*0.19)/4 -> 0
C15: Choose Number of meals per day : | E15: 3 | N15: Fat Loss Carbs | P15: =(E9*0.57)/4 -> 0 | R15: Evening
C16: When did you get the most hungry? | E16: Morning | N16: Maintenance Carbs | P16: =(E9*0.59)/4 -> 0 | R16: Morning
N17: Weight Gain Carbs | P17: =(E9*0.58)/4 -> 0
E18: Calories & Macronutrients Distribution
N19: Fat Loss Lipids | P19: =(E9*0.19)/9 -> 0 | R19: M 3 | S19: =E9*0.4 -> 0
N20: Maintenance Lipids | P20: =(E9*0.215)/9 -> 0 | R20: MD 3 | S20: =E9*0.3 -> 0
D21: Meal 1 | G21: Meal 2 | J21: Meal 3 | N21: Weight Gain Lipids | P21: =(E9*0.23)/9 -> 0 | R21: E 3 | S21: =E9*0.3 -> 0
D22: Kcals | E22: =IF(E15=R10,IF(E16=R15,S21,S19),IF(E15=R11,IF(E16=R15,S25,S23),IF(E15=R12,IF(E16=R15,S30,S28)))) -> 0 | G22: Kcals | H22: =IF(E15=R10,S20,IF(E15=R11,S25,IF(E15=R12,S29,S29))) -> 0 | J22: Kcals | K22: =IF(E15=R10,IF(E16=R15,S19,S21),IF(E15=R11,IF(E16=R15,S23,S25),IF(E15=R12,IF(E16=R15,S28,S30)))) -> 0
D23: Protein | E23: =IF(E15=R10,IF(E16=R15,H9*0.3,H9*0.4),IF(E15=R11,IF(E16=R15,H9*0.27,H9*0.34),IF(E15=R12,IF(E16=R15,H9*0.25,H9*0.3)))) -> 0 | G23: Protein | H23: =IF(E15=R10,IF(E16=R15,H9*0.3,H9*0.3),IF(E15=R11,IF(E16=R15,H9*0.25,H9*0.25),IF(E15=R12,IF(E16=R15,H9*0.25,H9*0.25)))) -> 0 | J23: Protein | K23: =IF(E15=R10,IF(E16=R15,H9*0.4,H9*0.3),IF(E15=R11,IF(E16=R15,H9*0.34,H9*0.27),IF(E15=R12,IF(E16=R15,H9*0.3,H9*0.25)))) -> 0 | N23: 0.24 | O23: 0.195 | P23: 0.19 | R23: M 4 | S23: =E9*0.34 -> 0
D24: Carb | E24: =IF(E15=R10,IF(E16=R15,H10*0.3,H10*0.4),IF(E15=R11,IF(E16=R15,H10*0.27,H10*0.34),IF(E15=R12,IF(E16=R15,H10*0.25,H10*0.3)))) -> 0 | G24: Carb | H24: =IF(E15=R10,IF(E16=R15,H10*0.3,H10*0.3),IF(E15=R11,IF(E16=R15,H10*0.25,H10*0.25),IF(E15=R12,IF(E16=R15,H10*0.25,H10*0.25)))) -> 0 | J24: Carb | K24: =IF(E15=R10,IF(E16=R15,H10*0.4,H10*0.3),IF(E15=R11,IF(E16=R15,H10*0.34,H10*0.27),IF(E15=R12,IF(E16=R15,H10*0.3,H10*0.25)))) -> 0 | N24: 0.57 | O24: 0.59 | P24: 0.58 | R24: MD 4 | S24: =E9*0.27 -> 0
D25: Fat | E25: =IF(E15=R10,IF(E16=R15,H11*0.3,H11*0.4),IF(E15=R11,IF(E16=R15,H11*0.27,H11*0.34),IF(E15=R12,IF(E16=R15,H11*0.25,H11*0.3)))) -> 0 | G25: Fat | H25: =IF(E15=R10,IF(E16=R15,H11*0.3,H11*0.3),IF(E15=R11,IF(E16=R15,H11*0.25,H11*0.25),IF(E15=R12,IF(E16=R15,H11*0.25,H11*0.25)))) -> 0 | J25: Fat | K25: =IF(E15=R10,IF(E16=R15,H11*0.4,H11*0.3),IF(E15=R11,IF(E16=R15,H11*0.34,H11*0.27),IF(E15=R12,IF(E16=R15,H11*0.3,H11*0.25)))) -> 0 | N25: 0.19 | O25: 0.215 | P25: 0.23 | R25: MD 4 | S25: =E9*0.25 -> 0
R26: C1 | S26: =E9*0.14 -> 0
E27: Meal 4 | H27: Meal 5 | O27: Undefined
E28: Kcals | F28: =IF(E15=R11,IF(E16=R15,S26,S26),IF(E15=R12,IF(E16=R16,S31,S32),0)) -> 0 | H28: Kcals | I28: =IF(E15=R12,IF(E16=R15,S31,S32),0) -> 0 | R28: M 5 | S28: =E9*0.3 -> 0
E29: Protein | F29: =IF(E15=R11,H9*0.14,IF(E15=R12,IF(E16=R15,H9*0.08,H9*0.12),0)) -> 0 | H29: Protein | I29: =IF(E15=R12,IF(E16=R15,H9*0.12,H9*0.08),0) -> 0 | R29: MD 5 | S29: =E9*0.25 -> 0
E30: Carb | F30: =IF(E15=R11,H10*0.14,IF(E15=R12,IF(E16=R15,H10*0.08,H10*0.12),0)) -> 0 | H30: Carb | I30: =IF(E15=R12,IF(E16=R15,H10*0.12,H10*0.08),0) -> 0 | R30: E 5 | S30: =E9*0.25 -> 0
E31: Fat | F31: =IF(E15=R11,H11*0.14,IF(E15=R12,IF(E16=R15,H11*0.08,H11*0.12),0)) -> 0 | H31: Fat | I31: =IF(E15=R12,IF(E16=R15,H11*0.12,H11*0.08),0) -> 0 | R31: C1 | S31: =E9*0.12 -> 0
R32: C2 | S32: =E9*0.08 -> 0
G34: Data Collection
C37: Weight | D37: Progression (kg) | H37: Average Time / Day (h) | J37: Quality | M37: Average Calorie Intake
B38: Week 0 | C38: =IF(M7=0,"",M7) | D38: =IF(C38=0,0,IF(C38<M7,C38-M7,IF(C38>M7,C38-M7,0))) -> 0 | G38: Week 0 | L38: Week 0
B39: Week 1 | D39: =IF(C39=0,0,IF(C39<C38,C39-C38,IF(C39>C38,C39-C38,0))) -> 0 | G39: Week 1 | L39: Week 1
B40: Week 2 | D40: =IF(C40=0,0,IF(C40<C39,C40-C39,IF(C40>C39,C40-C39,0))) -> 0 | G40: Week 2 | L40: Week 2
B41: Week 3 | D41: =IF(C41=0,0,IF(C41<C40,C41-C40,IF(C41>C40,C41-C40,0))) -> 0 | G41: Week 3 | L41: Week 3
B42: Week 4 | D42: =IF(C42=0,0,IF(C42<C41,C42-C41,IF(C42>C41,C42-C41,0))) -> 0 | G42: Week 4 | L42: Week 4
B43: About Weight | G43: About Sleep | L43: About Calorie Intake

Sheet Data Tracker
H3: Data Tracker
B9: Week 1 - Analysis | I9: Week 1 - Analysis per Lift (for Powerlifting)
B11: Exercise Name | D11: Volume | E11: Tonnage | F11: Average Intensity | G11: e1RM | I11: Exercise Name | K11: Volume | L11: Tonnage | M11: Average Intensity | N11: Competition e1RM
B13: =IF('Week 1'!C14="","-",'Week 1'!C14) -> squat | D13: =IF('Week 1'!D36=0,"-",'Week 1'!D36) -> 5 | E13: =IF('Week 1'!F36=0,"-",'Week 1'!F36) -> 10 | F13: =IF('Week 1'!E34=0,"-",'Week 1'!E34) -> 0.58823529 | G13: =IF('Week 1'!B36=0,"-",'Week 1'!B36) -> 17 | I13: Squat | K13: =SUMPRODUCT((B11:C36="*"&squat&"*")*(D11:D36)) -> #NAME?
B15: =IF('Week 1'!I14="","-",'Week 1'!I14) -> - | D15: =IF('Week 1'!J36=0,"-",'Week 1'!J36) -> - | E15: =IF('Week 1'!L36=0,"-",'Week 1'!L36) -> - | F15: =IF('Week 1'!K34=0,"-",'Week 1'!K34) -> - | G15: =IF('Week 1'!H36=0,"-",'Week 1'!H36) -> - | I15: Bench
B17: =IF('Week 1'!O14="","-",'Week 1'!O14) -> - | D17: =IF('Week 1'!P36=0,"-",'Week 1'!P36) -> - | E17: =IF('Week 1'!R36=0,"-",'Week 1'!R36) -> - | F17: =IF('Week 1'!Q34=0,"-",'Week 1'!Q34) -> - | G17: =IF('Week 1'!N36=0,"-",'Week 1'!N36) -> - | I17: Deadlift
B19: =IF('Week 1'!C45="","-",'Week 1'!C45) -> - | D19: =IF('Week 1'!D67=0,"-",'Week 1'!D67) -> - | E19: =IF('Week 1'!F67=0,"-",'Week 1'!F67) -> - | F19: =IF('Week 1'!E65=0,"-",'Week 1'!E65) -> - | G19: =IF('Week 1'!B67=0,"-",'Week 1'!B67) -> -
B21: =IF('Week 1'!I45="","-",'Week 1'!I45) -> - | D21: =IF('Week 1'!J67=0,"-",'Week 1'!J67) -> - | E21: =IF('Week 1'!L67=0,"-",'Week 1'!L67) -> - | F21: =IF('Week 1'!K65=0,"-",'Week 1'!K65) -> - | G21: =IF('Week 1'!H67=0,"-",'Week 1'!H67) -> -
B23: =IF('Week 1'!O45="","-",'Week 1'!O45) -> - | D23: =IF('Week 1'!P67=0,"-",'Week 1'!P67) -> - | E23: =IF('Week 1'!R67=0,"-",'Week 1'!R67) -> - | F23: =IF('Week 1'!Q65=0,"-",'Week 1'!Q65) -> - | G23: =IF('Week 1'!N67=0,"-",'Week 1'!N67) -> -
B25: =IF('Week 1'!C93="","-",'Week 1'!C93) -> - | D25: =IF('Week 1'!D115=0,"-",'Week 1'!D115) -> - | E25: =IF('Week 1'!F115=0,"-",'Week 1'!F115) -> - | F25: =IF('Week 1'!E113=0,"-",'Week 1'!E113) -> - | G25: =IF('Week 1'!B115=0,"-",'Week 1'!B115) -> -
B27: =IF('Week 1'!I93="","-",'Week 1'!I93) -> - | D27: =IF('Week 1'!J115=0,"-",'Week 1'!J115) -> - | E27: =IF('Week 1'!L115=0,"-",'Week 1'!L115) -> - | F27: =IF('Week 1'!K113=0,"-",'Week 1'!K113) -> - | G27: =IF('Week 1'!H115=0,"-",'Week 1'!H115) -> -
B29: =IF('Week 1'!O93="","-",'Week 1'!O93) -> - | D29: =IF('Week 1'!P115=0,"-",'Week 1'!P115) -> - | E29: =IF('Week 1'!R115=0,"-",'Week 1'!R115) -> - | F29: =IF('Week 1'!Q113=0,"-",'Week 1'!Q113) -> - | G29: =IF('Week 1'!N115=0,"-",'Week 1'!N115) -> -
B31: =IF('Week 1'!C124="","-",'Week 1'!C124) -> - | D31: =IF('Week 1'!D146=0,"-",'Week 1'!D146) -> - | E31: =IF('Week 1'!F146=0,"-",'Week 1'!F146) -> - | F31: =IF('Week 1'!E144=0,"-",'Week 1'!E144) -> - | G31: =IF('Week 1'!B146=0,"-",'Week 1'!B146) -> -
B33: =IF('Week 1'!I124="","-",'Week 1'!I124) -> - | D33: =IF('Week 1'!J146=0,"-",'Week 1'!J146) -> - | E33: =IF('Week 1'!L146=0,"-",'Week 1'!L146) -> - | F33: =IF('Week 1'!K144=0,"-",'Week 1'!K144) -> - | G33: =IF('Week 1'!H146=0,"-",'Week 1'!H146) -> -
B35: =IF('Week 1'!O124="","-",'Week 1'!O124) -> - | D35: =IF('Week 1'!P146=0,"-",'Week 1'!P146) -> - | E35: =IF('Week 1'!R146=0,"-",'Week 1'!R146) -> - | F35: =IF('Week 1'!Q144=0,"-",'Week 1'!Q144) -> - | G35: =IF('Week 1'!N146=0,"-",'Week 1'!N146) -> -
C37: Totals | D37: =SUM(D13:D36) -> 5 | E37: =SUM(E13:E36) -> 10 | F37: =IFERROR(AVERAGE(F13:F36),"0%") -> 0.58823529

Sheet Week 1
C3: Week 1 Training Log
B10: Day 1
B14: 1 | C14: squat | H14: 2 | N14: 3
B23: Sets | C23: Reps | D23: Weight | E23: RPE | F23: Relative Intensity | H23: Sets | I23: Reps | J23: Weight | K23: RPE | L23: Relative Intensity | N23: Sets | O23: Reps | P23: Weight | Q23: RPE | R23: Relative Intensity
B24: 1 | C24: 5 | D24: 10 | F24: =IF(ISNUMBER(D24),D24/B36,"-") -> 0.58823529 | H24: 1 | L24: =IF(ISNUMBER(J24),J24/H36,"-") -> - | N24: 1 | R24: =IF(ISNUMBER(P24),P24/N36,"-") -> -
B25: 2 | F25: =IF(ISNUMBER(D25),D25/B36,"-") -> - | H25: 2 | L25: =IF(ISNUMBER(J25),J25/H36,"-") -> - | N25: 2 | R25: =IF(ISNUMBER(P25),P25/N36,"-") -> -
B26: 3 | F26: =IF(ISNUMBER(D26),D26/B36,"-") -> - | H26: 3 | L26: =IF(ISNUMBER(J26),J26/H36,"-") -> - | N26: 3 | R26: =IF(ISNUMBER(P26),P26/N36,"-") -> -
B27: 4 | F27: =IF(ISNUMBER(D27),D27/B36,"-") -> - | H27: 4 | L27: =IF(ISNUMBER(J27),J27/H36,"-") -> - | N27: 4 | R27: =IF(ISNUMBER(P27),P27/N36,"-") -> -
B28: 5 | F28: =IF(ISNUMBER(D28),D28/B36,"-") -> - | H28: 5 | L28: =IF(ISNUMBER(J28),J28/H36,"-") -> - | N28: 5 | R28: =IF(ISNUMBER(P28),P28/N36,"-") -> -
B29: 6 | F29: =IF(ISNUMBER(D29),D29/B36,"-") -> - | H29: 6 | L29: =IF(ISNUMBER(J29),J29/H36,"-") -> - | N29: 6 | R29: =IF(ISNUMBER(P29),P29/N36,"-") -> -
B30: 7 | F30: =IF(ISNUMBER(D30),D30/B36,"-") -> - | H30: 7 | L30: =IF(ISNUMBER(J30),J30/H36,"-") -> - | N30: 7 | R30: =IF(ISNUMBER(P30),P30/N36,"-") -> -
B31: 8 | F31: =IF(ISNUMBER(D31),D31/B36,"-") -> - | H31: 8 | L31: =IF(ISNUMBER(J31),J31/H36,"-") -> - | N31: 8 | R31: =IF(ISNUMBER(P31),P31/N36,"-") -> -
B32: 9 | F32: =IF(ISNUMBER(D32),D32/B36,"-") -> - | H32: 9 | L32: =IF(ISNUMBER(J32),J32/H36,"-") -> - | N32: 9 | R32: =IF(ISNUMBER(P32),P32/N36,"-") -> -
B33: 10 | F33: =IF(ISNUMBER(D33),D33/B36,"-") -> - | H33: 10 | L33: =IF(ISNUMBER(J33),J33/H36,"-") -> - | N33: 10 | R33: =IF(ISNUMBER(P33),P33/N36,"-") -> -
B34: e1RM | C34: Average Intensity | E34: =IFERROR(AVERAGE(F24:F33),"-") -> 0.58823529 | H34: e1RM | I34: Average Intensity | K34: =IFERROR(AVERAGE(L24:L33),"-") -> - | N34: e1RM | O34: Average Intensity | Q34: =IFERROR(AVERAGE(R24:R33),"-") -> -
B36: =IFERROR(ROUNDUP(B38/(0.0005*C38^2-0.0342*C38+1.025),0),"-") -> 17 | C36: Volume | D36: =SUM(C24:C33) -> 5 | E36: Tonnage | F36: =SUM(D24:D33) -> 10 | H36: =IFERROR(ROUNDUP(H38/(0.0005*I38^2-0.0342*I38+1.025),0),"-") -> - | I36: Volume | J36: =SUM(I24:I33) -> 0 | K36: Tonnage | L36: =SUM(J24:J33) -> 0 | N36: =IFERROR(ROUNDUP(N38/(0.0005*O38^2-0.0342*O38+1.025),0),"-") -> - | O36: Volume | P36: =SUM(O24:O33) -> 0 | Q36: Tonnage | R36: =SUM(P24:P33) -> 0
B38: =OFFSET(D23,MATCH(MAX(D24:D33),D24:D33,0),0) -> 10 | C38: =OFFSET(C23,MATCH(MAX(D24:D33),D24:D33,0),0)+(10-OFFSET(E23,MATCH(MAX(D24:D33),D24:D33,0),0)) -> 15 | H38: =OFFSET(J23,MATCH(MAX(J24:J33),J24:J33,0),0) -> #N/A | I38: =OFFSET(I23,MATCH(MAX(J24:J33),J24:J33,0),0)+(10-OFFSET(K23,MATCH(MAX(J24:J33),J24:J33,0),0)) -> #N/A | N38: =OFFSET(P23,MATCH(MAX(P24:P33),P24:P33,0),0) -> #N/A | O38: =OFFSET(O23,MATCH(MAX(P24:P33),P24:P33,0),0)+(10-OFFSET(Q23,MATCH(MAX(P24:P33),P24:P33,0),0)) -> #N/A
B41: Day 2
B45: 1 | H45: 2 | N45: 3
B54: Sets | C54: Reps | D54: Weight | E54: RPE | F54: Relative Intensity | H54: Sets | I54: Reps | J54: Weight | K54: RPE | L54: Relative Intensity | N54: Sets | O54: Reps | P54: Weight | Q54: RPE | R54: Relative Intensity
B55: 1 | F55: =IF(ISNUMBER(D55),D55/B67,"-") -> - | H55: 1 | L55: =IF(ISNUMBER(J55),J55/H67,"-") -> - | N55: 1 | R55: =IF(ISNUMBER(P55),P55/N67,"-") -> -
B56: 2 | F56: =IF(ISNUMBER(D56),D56/B67,"-") -> - | H56: 2 | L56: =IF(ISNUMBER(J56),J56/H67,"-") -> - | N56: 2 | R56: =IF(ISNUMBER(P56),P56/N67,"-") -> -
B57: 3 | F57: =IF(ISNUMBER(D57),D57/B67,"-") -> - | H57: 3 | L57: =IF(ISNUMBER(J57),J57/H67,"-") -> - | N57: 3 | R57: =IF(ISNUMBER(P57),P57/N67,"-") -> -
B58: 4 | F58: =IF(ISNUMBER(D58),D58/B67,"-") -> - | H58: 4 | L58: =IF(ISNUMBER(J58),J58/H67,"-") -> - | N58: 4 | R58: =IF(ISNUMBER(P58),P58/N67,"-") -> -
B59: 5 | F59: =IF(ISNUMBER(D59),D59/B67,"-") -> - | H59: 5 | L59: =IF(ISNUMBER(J59),J59/H67,"-") -> - | N59: 5 | R59: =IF(ISNUMBER(P59),P59/N67,"-") -> -
B60: 6 | F60: =IF(ISNUMBER(D60),D60/B67,"-") -> - | H60: 6 | L60: =IF(ISNUMBER(J60),J60/H67,"-") -> - | N60: 6 | R60: =IF(ISNUMBER(P60),P60/N67,"-") -> -
B61: 7 | F61: =IF(ISNUMBER(D61),D61/B67,"-") -> - | H61: 7 | L61: =IF(ISNUMBER(J61),J61/H67,"-") -> - | N61: 7 | R61: =IF(ISNUMBER(P61),P61/N67,"-") -> -
B62: 8 | F62: =IF(ISNUMBER(D62),D62/B67,"-") -> - | H62: 8 | L62: =IF(ISNUMBER(J62),J62/H67,"-") -> - | N62: 8 | R62: =IF(ISNUMBER(P62),P62/N67,"-") -> -
B63: 9 | F63: =IF(ISNUMBER(D63),D63/B67,"-") -> - | H63: 9 | L63: =IF(ISNUMBER(J63),J63/H67,"-") -> - | N63: 9 | R63: =IF(ISNUMBER(P63),P63/N67,"-") -> -
B64: 10 | F64: =IF(ISNUMBER(D64),D64/B67,"-") -> - | H64: 10 | L64: =IF(ISNUMBER(J64),J64/H67,"-") -> - | N64: 10 | R64: =IF(ISNUMBER(P64),P64/N67,"-") -> -
B65: e1RM | C65: Average Intensity | E65: =IFERROR(AVERAGE(F55:F64),"-") -> - | H65: e1RM | I65: Average Intensity | K65: =IFERROR(AVERAGE(L55:L64),"-") -> - | N65: e1RM | O65: Average Intensity | Q65: =IFERROR(AVERAGE(R55:R64),"-") -> -
B67: =IFERROR(ROUNDUP(B69/(0.0005*C69^2-0.0342*C69+1.025),0),"-") -> - | C67: Volume | D67: =SUM(C55:C64) -> 0 | E67: Tonnage | F67: =SUM(D55:D64) -> 0 | H67: =IFERROR(ROUNDUP(H69/(0.0005*I69^2-0.0342*I69+1.025),0),"-") -> - | I67: Volume | J67: =SUM(I55:I64) -> 0 | K67: Tonnage | L67: =SUM(J55:J64) -> 0 | N67: =IFERROR(ROUNDUP(N69/(0.0005*O69^2-0.0342*O69+1.025),0),"-") -> - | O67: Volume | P67: =SUM(O55:O64) -> 0 | Q67: Tonnage | R67: =SUM(P55:P64) -> 0
B69: =OFFSET(D54,MATCH(MAX(D55:D64),D55:D64,0),0) -> #N/A | C69: =OFFSET(C54,MATCH(MAX(D55:D64),D55:D64,0),0)+(10-OFFSET(E54,MATCH(MAX(D55:D64),D55:D64,0),0)) -> #N/A | H69: =OFFSET(J54,MATCH(MAX(J55:J64),J55:J64,0),0) -> #N/A | I69: =OFFSET(I54,MATCH(MAX(J55:J64),J55:J64,0),0)+(10-OFFSET(K54,MATCH(MAX(J55:J64),J55:J64,0),0)) -> #N/A | N69: =OFFSET(P54,MATCH(MAX(P55:P64),P55:P64,0),0) -> #N/A | O69: =OFFSET(O54,MATCH(MAX(P55:P64),P55:P64,0),0)+(10-OFFSET(Q54,MATCH(MAX(P55:P64),P55:P64,0),0)) -> #N/A
B72: General Physical Prepardness (GPP)
C82: Log | F82: Log | I82: Log | L82: Log | O82: Log
B89: Day 3
B93: 1 | H93: 2 | N93: 3
B102: Sets | C102: Reps | D102: Weight | E102: RPE | F102: Relative Intensity | H102: Sets | I102: Reps | J102: Weight | K102: RPE | L102: Relative Intensity | N102: Sets | O102: Reps | P102: Weight | Q102: RPE | R102: Relative Intensity
B103: 1 | F103: =IF(ISNUMBER(D103),D103/B115,"-") -> - | H103: 1 | L103: =IF(ISNUMBER(J103),J103/H115,"-") -> - | N103: 1 | R103: =IF(ISNUMBER(P103),P103/N115,"-") -> -
B104: 2 | F104: =IF(ISNUMBER(D104),D104/B115,"-") -> - | H104: 2 | L104: =IF(ISNUMBER(J104),J104/H115,"-") -> - | N104: 2 | R104: =IF(ISNUMBER(P104),P104/N115,"-") -> -
...
