Workbook

Sheet Training Plan
B3: 7 Weeks / 5 Days + GPP / 3 Exercises (StrengthDevelopment©2019)
B4: Start Date - End Date
B7: Training Plan Overview
C12: Day 1 | F12: Day 2 | I12: Day 3 | L12: Day 4 | O12: Day 5
B15: Week 1 | C15: Exercise 1 | F15: Exercise 1 | I15: Exercise 1 | L15: Exercise 1 | O15: Exercise 1
C16: Competition Squat
C22: Rest Periods | F22: Rest Periods | I22: Rest Periods | L22: Rest Periods | O22: Rest Periods
C23: Exercise 2 | F23: Exercise 2 | I23: Exercise 2 | L23: Exercise 2 | O23: Exercise 2
C24: Competition Bench
C30: Rest Periods | F30: Rest Periods | I30: Rest Periods | L30: Rest Periods | O30: Rest Periods
C31: Exercise 3 | F31: Exercise 3 | I31: Exercise 3 | L31: Exercise 3 | O31: Exercise 3
C32: Competition Deadlift
C38: Rest Periods | F38: Rest Periods | I38: Rest Periods | L38: Rest Periods | O38: Rest Periods
C39: General Physical Prepardness (GPP)
C47: Day 1 | F47: Day 2 | I47: Day 3 | L47: Day 4 | O47: Day 5
B50: Week 2 | C50: Exercise 1 | F50: Exercise 1 | I50: Exercise 1 | L50: Exercise 1 | O50: Exercise 1
C51: Competition Squat
C57: Rest Periods | F57: Rest Periods | I57: Rest Periods | L57: Rest Periods | O57: Rest Periods
C58: Exercise 2 | F58: Exercise 2 | I58: Exercise 2 | L58: Exercise 2 | O58: Exercise 2
C59: Competition Bench
C65: Rest Periods | F65: Rest Periods | I65: Rest Periods | L65: Rest Periods | O65: Rest Periods
C66: Exercise 3 | F66: Exercise 3 | I66: Exercise 3 | L66: Exercise 3 | O66: Exercise 3
C67: Competition Deadlift
C73: Rest Periods | F73: Rest Periods | I73: Rest Periods | L73: Rest Periods | O73: Rest Periods
C74: General Physical Prepardness (GPP)
C82: Day 1 | F82: Day 2 | I82: Day 3 | L82: Day 4 | O82: Day 5
B85: Week 3 | C85: Exercise 1 | F85: Exercise 1 | I85: Exercise 1 | L85: Exercise 1 | O85: Exercise 1
C86: Competition Squat | F86: Competition Squat
C92: Rest Periods | F92: Rest Periods | I92: Rest Periods | L92: Rest Periods | O92: Rest Periods
C93: Exercise 2 | F93: Exercise 2 | I93: Exercise 2 | L93: Exercise 2 | O93: Exercise 2
C94: Competition Bench | F94: Competition Bench
C100: Rest Periods | F100: Rest Periods | I100: Rest Periods | L100: Rest Periods | O100: Rest Periods
C101: Exercise 3 | F101: Exercise 3 | I101: Exercise 3 | L101: Exercise 3 | O101: Exercise 3
C102: Competition Deadlift | F102: Competition Deadlift
C108: Rest Periods | F108: Rest Periods | I108: Rest Periods | L108: Rest Periods | O108: Rest Periods
C109: General Physical Prepardness (GPP)
C117: Day 1 | F117: Day 2 | I117: Day 3 | L117: Day 4 | O117: Day 5
B120: Week 4 | C120: Exercise 1 | F120: Exercise 1 | I120: Exercise 1 | L120: Exercise 1 | O120: Exercise 1
C121: Competition Squat
C127: Rest Periods | F127: Rest Periods | I127: Rest Periods | L127: Rest Periods | O127: Rest Periods
C128: Exercise 2 | F128: Exercise 2 | I128: Exercise 2 | L128: Exercise 2 | O128: Exercise 2
C129: Competition Bench
C135: Rest Periods | F135: Rest Periods | I135: Rest Periods | L135: Rest Periods | O135: Rest Periods
C136: Exercise 3 | F136: Exercise 3 | I136: Exercise 3 | L136: Exercise 3 | O136: Exercise 3
C137: Competition Deadlift
C143: Rest Periods | F143: Rest Periods | I143: Rest Periods | L143: Rest Periods | O143: Rest Periods
C144: General Physical Prepardness (GPP)
C152: Day 1 | F152: Day 2 | I152: Day 3 | L152: Day 4 | O152: Day 5
B155: Week 5 | C155: Exercise 1 | F155: Exercise 1 | I155: Exercise 1 | L155: Exercise 1 | O155: Exercise 1
C156: Competition Squat | F156: Competition Squat
C162: Rest Periods | F162: Rest Periods | I162: Rest Periods | L162: Rest Periods | O162: Rest Periods
C163: Exercise 2 | F163: Exercise 2 | I163: Exercise 2 | L163: Exercise 2 | O163: Exercise 2
C164: Competition Bench | F164: Competition Bench
C170: Rest Periods | F170: Rest Periods | I170: Rest Periods | L170: Rest Periods | O170: Rest Periods
C171: Exercise 3 | F171: Exercise 3 | I171: Exercise 3 | L171: Exercise 3 | O171: Exercise 3
C172: Competition Deadlift | F172: Competition Deadlift
C178: Rest Periods | F178: Rest Periods | I178: Rest Periods | L178: Rest Periods | O178: Rest Periods
C179: General Physical Prepardness (GPP)
C187: Day 1 | F187: Day 2 | I187: Day 3 | L187: Day 4 | O187: Day 5
B190: Week 6 | C190: Exercise 1 | F190: Exercise 1 | I190: Exercise 1 | L190: Exercise 1 | O190: Exercise 1
C197: Rest Periods | F197: Rest Periods | I197: Rest Periods | L197: Rest Periods | O197: Rest Periods
C198: Exercise 2 | F198: Exercise 2 | I198: Exercise 2 | L198: Exercise 2 | O198: Exercise 2
C205: Rest Periods | F205: Rest Periods | I205: Rest Periods | L205: Rest Periods | O205: Rest Periods
C206: Exercise 3 | F206: Exercise 3 | I206: Exercise 3 | L206: Exercise 3 | O206: Exercise 3
C213: Rest Periods | F213: Rest Periods | I213: Rest Periods | L213: Rest Periods | O213: Rest Periods
C214: General Physical Prepardness (GPP)
C222: Day 1 | F222: Day 2 | I222: Day 3 | L222: Day 4 | O222: Day 5
B225: Week 7 | C225: Exercise 1 | F225: Exercise 1 | I225: Exercise 1 | L225: Exercise 1 | O225: Exercise 1
C232: Rest Periods | F232: Rest Periods | I232: Rest Periods | L232: Rest Periods | O232: Rest Periods
C233: Exercise 2 | F233: Exercise 2 | I233: Exercise 2 | L233: Exercise 2 | O233: Exercise 2
C240: Rest Periods | F240: Rest Periods | I240: Rest Periods | L240: Rest Periods | O240: Rest Periods
C241: Exercise 3 | F241: Exercise 3 | I241: Exercise 3 | L241: Exercise 3 | O241: Exercise 3
C248: Rest Periods | F248: Rest Periods | I248: Rest Periods | L248: Rest Periods | O248: Rest Periods
C249: General Physical Prepardness (GPP)

Sheet Indications & Informations
A3: Important Indications
C7: Exercices | G7: Indications
Z13: ='Training Plan'!C51 -> Competition Squat
Z14: ='Training Plan'!C59 -> Competition Bench
Z15: ='Training Plan'!C67 -> Competition Deadlift
Z16: ='Training Plan'!F51 -> 0
Z17: ='Training Plan'!F59 -> 0
Z18: ='Training Plan'!F67 -> 0
Z19: ='Training Plan'!I51 -> 0
Z20: ='Training Plan'!I59 -> 0
Z21: ='Training Plan'!I67 -> 0
Z22: ='Training Plan'!L51 -> 0
Z23: ='Training Plan'!L59 -> 0
Z24: ='Training Plan'!L67 -> 0
Z25: ='Training Plan'!O51 -> 0
Z26: ='Training Plan'!O59 -> 0
Z27: ='Training Plan'!O67 -> 0
C48: Informations
F52: Table des RPE (Rating of Perceived Exertion ou Taux d'Effort Perçu)
F54: RPE 5,5 | G54: Trop facile pour compter comme une vrai série
F56: RPE 6 | G56: Assez facile (comme une charge d'échauffement) / 4 reps en réserve
F58: RPE 6,5 | G58: Un peu trop lourd pour de l'échauffement? | Z58: Besoin d'aide? Sélectionnez le sujet qui vous intéresse dans la liste déroulante.
F60: RPE 7 | G60: Rapide et facile comme un opener / 3 reps en réserve
F62: RPE 7,5 | G62: Peut-être 3 reps en réserve ou un peu plus de charge sur la barre
F64: RPE 8 | G64: 2 reps en réserve
F66: RPE 8,5 | G66: Peut-être 2 reps en réserve ou un peu plus de charge sur la barre
F68: RPE 9 | G68: 1 rep en réserve
F70: RPE 9,5 | G70: Peut-être 1 rep en réserve ou un peu plus de charge sur la barre
F72: RPE 10 | G72: Effort maximal (RM)
E76: Cliquez ici pour sélectionner dans la liste déroulante | Z76: Progresser avec les RPEs est assez simple, la progression se fait de façon linéaire ou ondulatoire. Evidemment, il est possible d'autoréguler la charge, le plus important étant de ne pas dépasser ou être en dessous des RPEs programmés (overshoot/undershoot). La progression se fait essentiellement par l'exploitation de l’estimated 1RM (e1RM), c'est-à-dire l'estimation de votre 1RM sur un exercice donné à un moment donné de votre block. La tendance générale de la courbe de votre e1RM doit être vers la hausse, autrement dit, votre e1RM doit augmenter de semaine en semaine, si ce n'est pas le cas durant une certaine période (entre 2/4 semaines), une révision de votre planification doit être faite. Venons-en au vif du sujet : comment gérer sa progression? En général, il faut que l'écart entre le RPE planifié et celui réaliser à l'entrainement soit de 1. C'est-à-dire que si j'ai 4 répétitions @9 RPE de planifié, le RPE à l'entrainement doit être compris entre 8,5 et 9,5. Dans le cas où le RPE est de 8,5 (undershoot), j'augmente la charge de 1 à 3% pour la semaine d'après. Dans le cas où le RPE est de 9,5 (overshoot), je garde la même charge la semaine d'après et j'essaie d'être au bon RPE. Dans le cas, ou j'overshoot ou j'undershoot beaucoup trop (1+ RPE), je baisse/augmente la charge de 3 à 5%. Si je suis au bon RPE, j'augmente la charge de 1 à 2% la semaine d'après. Semaine 1 -1 RPE ou + -0,5 RPE Bon RPE +0,5 RPE +1 RPE ou + Semaine 2 +3/5% +1/3% +1/2% -1/3% -3/5%
E78: =IF(E76=T79,Z58,IF(E76=T80,Z76,IF(E76=T81,Z94,IF(E76=T82,Z111,)))) -> Besoin d'aide? Sélectionnez le sujet qui vous intéresse dans la liste déroulante.
T79: Cliquez ici pour sélectionner dans la liste déroulante
T80: Comment progresser avec l'utilisation du RPE?
T81: GPP (General Physical Prepardness ou Préparation Physique Générale)
T82: Concernant l'échauffement
Z94: Le but ici est d'augmenter/maintenir sa condition physique, sa capacité de travail et faire quelques exercices d'assistances qui n'interfèrent pas trop avec la récupération. Concernant le cardio, la table des RPE est : RPE 6 : Plus ennuyant que dure, peut tenir une conversation avec des phrases entières. RPE 7 : Effort facile, peut seulement parler en courtes phrases. RPE 8 : Effort modéré, ne peut pas parler confortablement. RPE 9 : Effort intense, effort quasiment maximal. RPE 10 : Effort maximal, très dure voire impossible à maintenir. Concernant le type d'exercices d'assistances, c'est essentiellement destiné à travailler le haut du dos, le tronc et les bras. Aucuns exercices n'est meilleur qu'un autre, le choix se fait en fonction de l’athlète (ses préférences, ses antécédents etc..). En général, le mieux est de choisir des exercices peu traumatisant pour la bas du dos (rowing machine, tractions etc..); pour le tronc, dans l'ordre de préférence : Ab Wheel, Gainage ventral, Enroulement de bassin, Crunch etc..; pour les bras : biceps curl (haltères, barres, poulies), Extensions triceps etc..
Z111: L’échauffement a pour but de vous préparer à la tâche physique à venir. Il comprend des éléments généraux et spécifiques. Un échauffement général est une activité différente de celle que vous ferez pour votre entraînement (comme faire 5 minutes de cardio facile avant de commencer vos squats). Cependant, dans le cadre de l’entrainement en force, je ne recommande aucun échauffement général particulier, à condition que vous puissiez démarrer l'échauffement spécifique sans aucun problème. Je ne recommande pas non plus la pratique de mobilité/automassages (ou alors de façon légère et occasionnelle si vous en ressentez le besoin). La pratique d’étirements dynamiques est préférable. Un échauffement spécifique est très similaire ou identique à l'activité à venir et utilise une intensité croissante. Par exemple, effectuer des squats d’abord avec la barre vide, puis ajouter progressivement de la charge jusqu'à atteindre votre charge de travail. La recommandation est de faire autant de séries barre à vide qu'il n'en faut pour que vous vous sentiez prêt mentalement et physiquement avant de charger votre barre petit à petit. Prenons l'exemple d'un athlète dont la programmation dit : 5 reps @6RPE; 5 reps @7RPE; 3 x 5 reps @8RPE. Pour cet athlète, les charges seront 5@6 @100kg; 5@7 @107,5kg et 5@8 @115kg. Il fera donc 2-5 séries barre à vide ; 5 reps @40kg ; 5 reps @70kg ; 5 reps @85kg puis sa première séries de 5 reps @6RPE @100kg.

Sheet Calculators
A3: Calculators
D7: RPE Chart (by default)
D9: Reps | E9: 1 | F9: 2 | G9: 3 | H9: 4 | I9: 5 | J9: 6 | K9: 7 | L9: 8 | M9: 9 | N9: 10 | AA9: RPE Chart (by default) | AL9: =AA9 -> RPE Chart (by default)
D10: RPE 10 | AA10: =G17*1 -> 0 | AB10: =G17*0.955 -> 0 | AC10: =G17*0.922 -> 0 | AD10: =G17*0.892 -> 0 | AE10: =G17*0.863 -> 0 | AF10: =G17*0.837 -> 0 | AG10: =G17*0.811 -> 0 | AH10: =G17*0.786 -> 0 | AI10: =G17*0.762 -> 0 | AJ10: =G17*0.739 -> 0 | AL10: =D53 -> Custom RPE Chart (Squat)
D11: RPE 9,5 | AA11: =G17*0.978 -> 0 | AB11: =G17*0.939 -> 0 | AC11: =G17*0.907 -> 0 | AD11: =G17*0.878 -> 0 | AE11: =G17*0.85 -> 0 | AF11: =G17*0.824 -> 0 | AG11: =G17*0.799 -> 0 | AH11: =G17*0.774 -> 0 | AI11: =G17*0.751 -> 0 | AJ11: =G17*0.723 -> 0 | AL11: =H53 -> Custom RPE Chart (Bench)
D12: RPE 9 | AA12: =G17*0.955 -> 0 | AB12: =G17*0.922 -> 0 | AC12: =G17*0.892 -> 0 | AD12: =G17*0.863 -> 0 | AE12: =G17*0.837 -> 0 | AF12: =G17*0.811 -> 0 | AG12: =G17*0.786 -> 0 | AH12: =G17*0.762 -> 0 | AI12: =G17*0.739 -> 0 | AJ12: =G17*0.707 -> 0 | AL12: =L53 -> Custom RPE Chart (Deadlift)
D13: RPE 8,5 | AA13: =G17*0.939 -> 0 | AB13: =G17*0.907 -> 0 | AC13: =G17*0.878 -> 0 | AD13: =G17*0.85 -> 0 | AE13: =G17*0.824 -> 0 | AF13: =G17*0.799 -> 0 | AG13: =G17*0.774 -> 0 | AH13: =G17*0.751 -> 0 | AI13: =G17*0.723 -> 0 | AJ13: =G17*0.694 -> 0
D14: RPE 8 | AA14: =G17*0.922 -> 0 | AB14: =G17*0.892 -> 0 | AC14: =G17*0.863 -> 0 | AD14: =G17*0.837 -> 0 | AE14: =G17*0.811 -> 0 | AF14: =G17*0.786 -> 0 | AG14: =G17*0.762 -> 0 | AH14: =G17*0.739 -> 0 | AI14: =G17*0.707 -> 0 | AJ14: =G17*0.68 -> 0
D15: e1RM | E15: =IF(D7=AL9,MAX(E10/1,E11/0.978,E12/0.955,E13/0.939,E14/0.922),IF(D7=AL10,MAX(E10/1,E11/AVERAGE(F57:F58),E12/F58,E13/AVERAGE(F58:F59),E14/F59),IF(D7=AL11,MAX(E10/1,E11/AVERAGE(J57:J58),E12/J58,E13/AVERAGE(J58:J59),E14/J59),IF(D7=AL12,MAX(E10/1,E11/AVERAGE(N57:N58),E12/N58,E13/AVERAGE(N58:N59),E14/N59))))) -> 0 | F15: =IF(D7=AL9,MAX(F10/0.955,F11/0.939,F12/0.922,F13/0.907,F14/0.892),IF(D7=AL10,MAX(F10/F58,F11/AVERAGE(F58:F59),F12/F59,F13/AVERAGE(F59:F60),F14/F60),IF(D7=AL11,MAX(F10/J58,F11/AVERAGE(J58:J59),F12/J59,F13/AVERAGE(J59:J60),F14/J60),IF(D7=AL12,MAX(F10/N58,F11/AVERAGE(N58:N59),F12/N59,F13/AVERAGE(N59:N60),F14/N60))))) -> 0 | G15: =IF(D7=AL9,MAX(G10/0.922,G11/0.907,G12/0.892,G13/0.878,G14/0.863),IF(D7=AL10,MAX(G10/F59,G11/AVERAGE(F59:F60),G12/F60,G13/AVERAGE(F60:F61),G14/F61),IF(D7=AL11,MAX(G10/J59,G11/AVERAGE(J59:J60),G12/J60,G13/AVERAGE(J60:J61),G14/J61),IF(D7=AL12,MAX(G10/N59,G11/AVERAGE(N59:N60),G12/N60,G13/AVERAGE(N60:N61),G14/N61))))) -> 0 | H15: =IF(D7=AL9,MAX(H10/0.892,H11/0.878,H12/0.863,H13/0.85,H14/0.837),IF(D7=AL10,MAX(H10/F60,H11/AVERAGE(F60:F61),H12/F61,H13/AVERAGE(F61:F62),H14/F62),IF(D7=AL11,MAX(H10/J60,H11/AVERAGE(J60:J61),H12/J61,H13/AVERAGE(J61:J62),H14/J62),IF(D7=AL12,MAX(H10/N60,H11/AVERAGE(N60:N61),H12/N61,H13/AVERAGE(N61:N62),H14/N62))))) -> 0 | I15: =IF(D7=AL9,MAX(I10/0.863,I11/0.85,I12/0.837,I13/0.824,I14/0.811),IF(D7=AL10,MAX(I10/F61,I11/AVERAGE(F61:F62),I12/F62,I13/AVERAGE(F62:F63),I14/F63),IF(D7=AL11,MAX(I10/J61,I11/AVERAGE(J61:J62),I12/J62,I13/AVERAGE(J62:J63),I14/J63),IF(D7=AL12,MAX(I10/N61,I11/AVERAGE(N61:N62),I12/N62,I13/AVERAGE(N62:N63),I14/N63))))) -> 0 | J15: =IF(D7=AL9,MAX(J10/0.837,J11/0.824,J12/0.811,J13/0.799,J14/0.786),IF(D7=AL10,MAX(J10/F62,J11/AVERAGE(F62:F63),J12/F63,J13/AVERAGE(F63:F64),J14/F64),IF(D7=AL11,MAX(J10/J62,J11/AVERAGE(J62:J63),J12/J63,J13/AVERAGE(J63:J64),J14/J64),IF(D7=AL12,MAX(J10/N62,J11/AVERAGE(N62:N63),J12/N63,J13/AVERAGE(N63:N64),J14/N64))))) -> 0 | K15: =IF(D7=AL9,MAX(K10/0.811,K11/0.799,K12/0.786,K13/0.774,K14/0.762),IF(D7=AL10,MAX(K10/F63,K11/AVERAGE(F63:F64),K12/F64,K13/AVERAGE(F64:F65),K14/F65),IF(D7=AL11,MAX(K10/J63,K11/AVERAGE(J63:J64),K12/J64,K13/AVERAGE(J64:J65),K14/J65),IF(D7=AL12,MAX(K10/N63,K11/AVERAGE(N63:N64),K12/N64,K13/AVERAGE(N64:N65),K14/N65))))) -> 0 | L15: =IF(D7=AL9,MAX(L10/0.786,L11/0.774,L12/0.762,L13/0.751,L14/0.739),IF(D7=AL10,MAX(L10/F64,L11/AVERAGE(F64:F65),L12/F65,L13/AVERAGE(F65:F66),L14/F66),IF(D7=AL11,MAX(L10/J64,L11/AVERAGE(J64:J65),L12/J65,L13/AVERAGE(J65:J66),L14/J66),IF(D7=AL12,MAX(L10/N64,L11/AVERAGE(N64:N65),L12/N65,L13/AVERAGE(N65:N66),L14/N66))))) -> 0 | M15: =IF(D7=AL9,MAX(M10/0.762,M11/0.751,M12/0.739,M13/0.723,M14/0.707),IF(D7=AL10,MAX(M10/F65,M11/AVERAGE(F65:F66),M12/F66,M13/AVERAGE(F66:F67),M14/F67),IF(D7=AL11,MAX(M10/J65,M11/AVERAGE(J65:J66),M12/J66,M13/AVERAGE(J66:J67),M14/J67),IF(D7=AL12,MAX(M10/N65,M11/AVERAGE(N65:N66),M12/N66,M13/AVERAGE(N66:N67),M14/N67))))) -> 0 | N15: =IF(D7=AL9,MAX(N10/0.739,N11/0.723,N12/0.707,N13/0.694,N14/0.68),IF(D7=AL10,MAX(N10/F66,N11/AVERAGE(F66:F67),N12/F67,N13/AVERAGE(F67:F68),N14/F68),IF(D7=AL11,MAX(N10/J66,N11/AVERAGE(J66:J67),N12/J67,N13/AVERAGE(J67:J68),N14/J68),IF(D7=AL12,MAX(N10/N66,N11/AVERAGE(N66:N67),N12/N67,N13/AVERAGE(N67:N68),N14/N68))))) -> 0 | AA15: =G17*0.907 -> 0 | AB15: =G17*0.878 -> 0 | AC15: =G17*0.85 -> 0 | AD15: =G17*0.824 -> 0 | AE15: =G17*0.799 -> 0 | AF15: =G17*0.774 -> 0 | AG15: =G17*0.751 -> 0 | AH15: =G17*0.723 -> 0 | AI15: =G17*0.694 -> 0 | AJ15: =G17*0.667 -> 0
AA16: =G17*0.892 -> 0 | AB16: =G17*0.863 -> 0 | AC16: =G17*0.837 -> 0 | AD16: =G17*0.811 -> 0 | AE16: =G17*0.786 -> 0 | AF16: =G17*0.762 -> 0 | AG16: =G17*0.739 -> 0 | AH16: =G17*0.707 -> 0 | AI16: =G17*0.68 -> 0 | AJ16: =G17*0.653 -> 0
F17: e1RM : | G17: =MAX(E15:N15) -> 0 | I17: Back-off Calculator | M17: =K17-M18 -> 0 | AA17: =G17*0.878 -> 0 | AB17: =G17*0.85 -> 0 | AC17: =G17*0.824 -> 0 | AD17: =G17*0.799 -> 0 | AE17: =G17*0.774 -> 0 | AF17: =G17*0.751 -> 0 | AG17: =G17*0.723 -> 0 | AH17: =G17*0.694 -> 0 | AI17: =G17*0.667 -> 0 | AJ17: =G17*0.64 -> 0
K18: Weight | L18: Percentage | M18: =K17*L17 -> 0 | AA18: =G17*0.863 -> 0 | AB18: =G17*0.837 -> 0 | AC18: =G17*0.811 -> 0 | AD18: =G17*0.786 -> 0 | AE18: =G17*0.762 -> 0 | AF18: =G17*0.739 -> 0 | AG18: =G17*0.707 -> 0 | AH18: =G17*0.68 -> 0 | AI18: =G17*0.653 -> 0 | AJ18: =G17*0.627 -> 0
AA19: =D53 -> Custom RPE Chart (Squat)
D20: Rep(s) | E20: 1 | F20: 2 | G20: 3 | H20: 4 | I20: 5 | J20: 6 | K20: 7 | L20: 8 | M20: 9 | N20: 10 | AA20: =G17 -> 0 | AB20: =AA20*F58 -> 0 | AC20: =AA20*F59 -> 0 | AD20: =AA20*F60 -> 0 | AE20: =AA20*F61 -> 0 | AF20: =AA20*F62 -> 0 | AG20: =AA20*F63 -> 0 | AH20: =AA20*F64 -> 0 | AI20: =AA20*F65 -> 0 | AJ20: =AA20*F66 -> 0 | AK20: =AA20*F67 -> 0 | AL20: =AA20*F68 -> 0 | AM20: =AA20*F69 -> 0 | AN20: =AA20*F70 -> 0 | AO20: =AA20*F71 -> 0
D21: RPE 10 | E21: =IF(D7=AL9,AA10,IF(D7=AL10,AA20,IF(D7=AL11,Z32,IF(D7=AL12,Z44,0)))) -> 0 | F21: =IF(D7=AL9,AB10,IF(D7=AL10,AB20,IF(D7=AL11,AA32,IF(D7=AL12,AA44,0)))) -> 0 | G21: =IF(D7=AL9,AC10,IF(D7=AL10,AC20,IF(D7=AL11,AB32,IF(D7=AL12,AB44,0)))) -> 0 | H21: =IF(D7=AL9,AD10,IF(D7=AL10,AD20,IF(D7=AL11,AC32,IF(D7=AL12,AC44,0)))) -> 0 | I21: =IF(D7=AL9,AE10,IF(D7=AL10,AE20,IF(D7=AL11,AD32,IF(D7=AL12,AD44,0)))) -> 0 | J21: =IF(D7=AL9,AF10,IF(D7=AL10,AF20,IF(D7=AL11,AE32,IF(D7=AL12,AE44,0)))) -> 0 | K21: =IF(D7=AL9,AG10,IF(D7=AL10,AG20,IF(D7=AL11,AF32,IF(D7=AL12,AF44,0)))) -> 0 | L21: =IF(D7=AL9,AH10,IF(D7=AL10,AH20,IF(D7=AL11,AG32,IF(D7=AL12,AG44,0)))) -> 0 | M21: =IF(D7=AL9,AI10,IF(D7=AL10,AI20,IF(D7=AL11,AH32,IF(D7=AL12,AH44,0)))) -> 0 | N21: =IF(D7=AL9,AJ10,IF(D7=AL10,AJ20,IF(D7=AL11,AI32,IF(D7=AL12,AI44,0)))) -> 0 | AA21: =AVERAGE(AA20,AA22) -> 0 | AB21: =AVERAGE(AB20,AB22) -> 0 | AC21: =AVERAGE(AC20,AC22) -> 0 | AD21: =AVERAGE(AD20,AD22) -> 0 | AE21: =AVERAGE(AE20,AE22) -> 0 | AF21: =AVERAGE(AF20,AF22) -> 0 | AG21: =AVERAGE(AG20,AG22) -> 0 | AH21: =AVERAGE(AH20,AH22) -> 0 | ... AJ21: =AVERAGE(AJ20,AJ22) -> 0
D22: RPE 9,5 | E22: =IF(D7=AL9,AA11,IF(D7=AL10,AA21,IF(D7=AL11,Z33,IF(D7=AL12,Z45,0)))) -> 0 | F22: =IF(D7=AL9,AB11,IF(D7=AL10,AB21,IF(D7=AL11,AA33,IF(D7=AL12,AA45,0)))) -> 0 | G22: =IF(D7=AL9,AC11,IF(D7=AL10,AC21,IF(D7=AL11,AB33,IF(D7=AL12,AB45,0)))) -> 0 | H22: =IF(D7=AL9,AD11,IF(D7=AL10,AD21,IF(D7=AL11,AC33,IF(D7=AL12,AC45,0)))) -> 0 | I22: =IF(D7=AL9,AE11,IF(D7=AL10,AE21,IF(D7=AL11,AD33,IF(D7=AL12,AD45,0)))) -> 0 | J22: =IF(D7=AL9,AF11,IF(D7=AL10,AF21,IF(D7=AL11,AE33,IF(D7=AL12,AE45,0)))) -> 0 | K22: =IF(D7=AL9,AG11,IF(D7=AL10,AG21,IF(D7=AL11,AF33,IF(D7=AL12,AF45,0)))) -> 0 | L22: =IF(D7=AL9,AH11,IF(D7=AL10,AH21,IF(D7=AL11,AG33,IF(D7=AL12,AG45,0)))) -> 0 | M22: =IF(D7=AL9,AI11,IF(D7=AL10,AI21,IF(D7=AL11,AH33,IF(D7=AL12,AH45,0)))) -> 0 | N22: =IF(D7=AL9,AJ11,IF(D7=AL10,AJ21,IF(D7=AL11,AI33,IF(D7=AL12,AI45,0)))) -> 0 | AA22: =AB20 -> 0 | AB22: =AC20 -> 0 | AC22: =AD20 -> 0 | AD22: =AE20 -> 0 | AE22: =AF20 -> 0 | AF22: =AG20 -> 0 | AG22: =AH20 -> 0 | AH22: =AI20 -> 0 | ... AJ22: =AK20 -> 0
D23: RPE 9 | E23: =IF(D7=AL9,AA12,IF(D7=AL10,AA22,IF(D7=AL11,Z34,IF(D7=AL12,Z46,0)))) -> 0 | F23: =IF(D7=AL9,AB12,IF(D7=AL10,AB22,IF(D7=AL11,AA34,IF(D7=AL12,AA46,0)))) -> 0 | G23: =IF(D7=AL9,AC12,IF(D7=AL10,AC22,IF(D7=AL11,AB34,IF(D7=AL12,AB46,0)))) -> 0 | H23: =IF(D7=AL9,AD12,IF(D7=AL10,AD22,IF(D7=AL11,AC34,IF(D7=AL12,AC46,0)))) -> 0 | I23: =IF(D7=AL9,AE12,IF(D7=AL10,AE22,IF(D7=AL11,AD34,IF(D7=AL12,AD46,0)))) -> 0 | J23: =IF(D7=AL9,AF12,IF(D7=AL10,AF22,IF(D7=AL11,AE34,IF(D7=AL12,AE46,0)))) -> 0 | K23: =IF(D7=AL9,AG12,IF(D7=AL10,AG22,IF(D7=AL11,AF34,IF(D7=AL12,AF46,0)))) -> 0 | L23: =IF(D7=AL9,AH12,IF(D7=AL10,AH22,IF(D7=AL11,AG34,IF(D7=AL12,AG46,0)))) -> 0 | M23: =IF(D7=AL9,AI12,IF(D7=AL10,AI22,IF(D7=AL11,AH34,IF(D7=AL12,AH46,0)))) -> 0 | N23: =IF(D7=AL9,AJ12,IF(D7=AL10,AJ22,IF(D7=AL11,AI34,IF(D7=AL12,AI46,0)))) -> 0 | AA23: =AVERAGE(AA22,AA24) -> 0 | AB23: =AVERAGE(AB22,AB24) -> 0 | AC23: =AVERAGE(AC22,AC24) -> 0 | AD23: =AVERAGE(AD22,AD24) -> 0 | AE23: =AVERAGE(AE22,AE24) -> 0 | AF23: =AVERAGE(AF22,AF24) -> 0 | AG23: =AVERAGE(AG22,AG24) -> 0 | AH23: =AVERAGE(AH22,AH24) -> 0 | ... AJ23: =AVERAGE(AJ22,AJ24) -> 0
D24: RPE 8,5 | E24: =IF(D7=AL9,AA13,IF(D7=AL10,AA23,IF(D7=AL11,Z35,IF(D7=AL12,Z47,0)))) -> 0 | F24: =IF(D7=AL9,AB13,IF(D7=AL10,AB23,IF(D7=AL11,AA35,IF(D7=AL12,AA47,0)))) -> 0 | G24: =IF(D7=AL9,AC13,IF(D7=AL10,AC23,IF(D7=AL11,AB35,IF(D7=AL12,AB47,0)))) -> 0 | H24: =IF(D7=AL9,AD13,IF(D7=AL10,AD23,IF(D7=AL11,AC35,IF(D7=AL12,AC47,0)))) -> 0 | I24: =IF(D7=AL9,AE13,IF(D7=AL10,AE23,IF(D7=AL11,AD35,IF(D7=AL12,AD47,0)))) -> 0 | J24: =IF(D7=AL9,AF13,IF(D7=AL10,AF23,IF(D7=AL11,AE35,IF(D7=AL12,AE47,0)))) -> 0 | K24: =IF(D7=AL9,AG13,IF(D7=AL10,AG23,IF(D7=AL11,AF35,IF(D7=AL12,AF47,0)))) -> 0 | L24: =IF(D7=AL9,AH13,IF(D7=AL10,AH23,IF(D7=AL11,AG35,IF(D7=AL12,AG47,0)))) -> 0 | M24: =IF(D7=AL9,AI13,IF(D7=AL10,AI23,IF(D7=AL11,AH35,IF(D7=AL12,AH47,0)))) -> 0 | N24: =IF(D7=AL9,AJ13,IF(D7=AL10,AJ23,IF(D7=AL11,AI35,IF(D7=AL12,AI47,0)))) -> 0 | AA24: =AC20 -> 0 | AB24: =AD20 -> 0 | AC24: =AE20 -> 0 | AD24: =AF20 -> 0 | AE24: =AG20 -> 0 | AF24: =AH20 -> 0 | AG24: =AI20 -> 0 | AH24: =AJ20 -> 0 | ... AJ24: =AL20 -> 0
D25: RPE 8 | E25: =IF(D7=AL9,AA14,IF(D7=AL10,AA24,IF(D7=AL11,Z36,IF(D7=AL12,Z48,0)))) -> 0 | F25: =IF(D7=AL9,AB14,IF(D7=AL10,AB24,IF(D7=AL11,AA36,IF(D7=AL12,AA48,0)))) -> 0 | G25: =IF(D7=AL9,AC14,IF(D7=AL10,AC24,IF(D7=AL11,AB36,IF(D7=AL12,AB48,0)))) -> 0 | H25: =IF(D7=AL9,AD14,IF(D7=AL10,AD24,IF(D7=AL11,AC36,IF(D7=AL12,AC48,0)))) -> 0 | I25: =IF(D7=AL9,AE14,IF(D7=AL10,AE24,IF(D7=AL11,AD36,IF(D7=AL12,AD48,0)))) -> 0 | J25: =IF(D7=AL9,AF14,IF(D7=AL10,AF24,IF(D7=AL11,AE36,IF(D7=AL12,AE48,0)))) -> 0 | K25: =IF(D7=AL9,AG14,IF(D7=AL10,AG24,IF(D7=AL11,AF36,IF(D7=AL12,AF48,0)))) -> 0 | L25: =IF(D7=AL9,AH14,IF(D7=AL10,AH24,IF(D7=AL11,AG36,IF(D7=AL12,AG48,0)))) -> 0 | M25: =IF(D7=AL9,AI14,IF(D7=AL10,AI24,IF(D7=AL11,AH36,IF(D7=AL12,AH48,0)))) -> 0 | N25: =IF(D7=AL9,AJ14,IF(D7=AL10,AJ24,IF(D7=AL11,AI36,IF(D7=AL12,AI48,0)))) -> 0 | AA25: =AVERAGE(AA24,AA26) -> 0 | AB25: =AVERAGE(AB24,AB26) -> 0 | AC25: =AVERAGE(AC24,AC26) -> 0 | AD25: =AVERAGE(AD24,AD26) -> 0 | AE25: =AVERAGE(AE24,AE26) -> 0 | AF25: =AVERAGE(AF24,AF26) -> 0 | AG25: =AVERAGE(AG24,AG26) -> 0 | AH25: =AVERAGE(AH24,AH26) -> 0 | ... AJ25: =AVERAGE(AJ24,AJ26) -> 0
D26: RPE 7,5 | E26: =IF(D7=AL9,AA15,IF(D7=AL10,AA25,IF(D7=AL11,Z37,IF(D7=AL12,Z49,0)))) -> 0 | F26: =IF(D7=AL9,AB15,IF(D7=AL10,AB25,IF(D7=AL11,AA37,IF(D7=AL12,AA49,0)))) -> 0 | G26: =IF(D7=AL9,AC15,IF(D7=AL10,AC25,IF(D7=AL11,AB37,IF(D7=AL12,AB49,0)))) -> 0 | H26: =IF(D7=AL9,AD15,IF(D7=AL10,AD25,IF(D7=AL11,AC37,IF(D7=AL12,AC49,0)))) -> 0 | I26: =IF(D7=AL9,AE15,IF(D7=AL10,AE25,IF(D7=AL11,AD37,IF(D7=AL12,AD49,0)))) -> 0 | J26: =IF(D7=AL9,AF15,IF(D7=AL10,AF25,IF(D7=AL11,AE37,IF(D7=AL12,AE49,0)))) -> 0 | K26: =IF(D7=AL9,AG15,IF(D7=AL10,AG25,IF(D7=AL11,AF37,IF(D7=AL12,AF49,0)))) -> 0 | L26: =IF(D7=AL9,AH15,IF(D7=AL10,AH25,IF(D7=AL11,AG37,IF(D7=AL12,AG49,0)))) -> 0 | M26: =IF(D7=AL9,AI15,IF(D7=AL10,AI25,IF(D7=AL11,AH37,IF(D7=AL12,AH49,0)))) -> 0 | N26: =IF(D7=AL9,AJ15,IF(D7=AL10,AJ25,IF(D7=AL11,AI37,IF(D7=AL12,AI49,0)))) -> 0 | AA26: =AD20 -> 0 | AB26: =AE20 -> 0 | AC26: =AF20 -> 0 | AD26: =AG20 -> 0 | AE26: =AH20 -> 0 | AF26: =AI20 -> 0 | AG26: =AJ20 -> 0 | AH26: =AK20 -> 0 | ... AJ26: =AM20 -> 0
D27: RPE 7 | E27: =IF(D7=AL9,AA16,IF(D7=AL10,AA26,IF(D7=AL11,Z38,IF(D7=AL12,Z50,0)))) -> 0 | F27: =IF(D7=AL9,AB16,IF(D7=AL10,AB26,IF(D7=AL11,AA38,IF(D7=AL12,AA50,0)))) -> 0 | G27: =IF(D7=AL9,AC16,IF(D7=AL10,AC26,IF(D7=AL11,AB38,IF(D7=AL12,AB50,0)))) -> 0 | H27: =IF(D7=AL9,AD16,IF(D7=AL10,AD26,IF(D7=AL11,AC38,IF(D7=AL12,AC50,0)))) -> 0 | I27: =IF(D7=AL9,AE16,IF(D7=AL10,AE26,IF(D7=AL11,AD38,IF(D7=AL12,AD50,0)))) -> 0 | J27: =IF(D7=AL9,AF16,IF(D7=AL10,AF26,IF(D7=AL11,AE38,IF(D7=AL12,AE50,0)))) -> 0 | K27: =IF(D7=AL9,AG16,IF(D7=AL10,AG26,IF(D7=AL11,AF38,IF(D7=AL12,AF50,0)))) -> 0 | L27: =IF(D7=AL9,AH16,IF(D7=AL10,AH26,IF(D7=AL11,AG38,IF(D7=AL12,AG50,0)))) -> 0 | M27: =IF(D7=AL9,AI16,IF(D7=AL10,AI26,IF(D7=AL11,AH38,IF(D7=AL12,AH50,0)))) -> 0 | N27: =IF(D7=AL9,AJ16,IF(D7=AL10,AJ26,IF(D7=AL11,AI38,IF(D7=AL12,AI50,0)))) -> 0 | AA27: =AVERAGE(AA26,AA28) -> 0 | AB27: =AVERAGE(AB28,AB26) -> 0 | AC27: =AVERAGE(AC26,AC28) -> 0 | AD27: =AVERAGE(AD26,AD28) -> 0 | AE27: =AVERAGE(AE26,AE28) -> 0 | AF27: =AVERAGE(AF26,AF28) -> 0 | AG27: =AVERAGE(AG26,AG28) -> 0 | AH27: =AVERAGE(AH26,AH28) -> 0 | AI27: =AVERAGE(AI26,AI28) -> 0 | AJ27: =AVERAGE(AJ26,AJ28) -> 0
D28: RPE 6,5 | E28: =IF(D7=AL9,AA17,IF(D7=AL10,AA27,IF(D7=AL11,Z39,IF(D7=AL12,Z51,0)))) -> 0 | F28: =IF(D7=AL9,AB17,IF(D7=AL10,AB27,IF(D7=AL11,AA39,IF(D7=AL12,AA51,0)))) -> 0 | G28: =IF(D7=AL9,AC17,IF(D7=AL10,AC27,IF(D7=AL11,AB39,IF(D7=AL12,AB51,0)))) -> 0 | H28: =IF(D7=AL9,AD17,IF(D7=AL10,AD27,IF(D7=AL11,AC39,IF(D7=AL12,AC51,0)))) -> 0 | I28: =IF(D7=AL9,AE17,IF(D7=AL10,AE27,IF(D7=AL11,AD39,IF(D7=AL12,AD51,0)))) -> 0 | J28: =IF(D7=AL9,AF17,IF(D7=AL10,AF27,IF(D7=AL11,AE39,IF(D7=AL12,AE51,0)))) -> 0 | K28: =IF(D7=AL9,AG17,IF(D7=AL10,AG27,IF(D7=AL11,AF39,IF(D7=AL12,AF51,0)))) -> 0 | L28: =IF(D7=AL9,AH17,IF(D7=AL10,AH27,IF(D7=AL11,AG39,IF(D7=AL12,AG51,0)))) -> 0 | M28: =IF(D7=AL9,AI17,IF(D7=AL10,AI27,IF(D7=AL11,AH39,IF(D7=AL12,AH51,0)))) -> 0 | N28: =IF(D7=AL9,AJ17,IF(D7=AL10,AJ27,IF(D7=AL11,AI39,IF(D7=AL12,AI51,0)))) -> 0 | AA28: =AE20 -> 0 | AB28: =AF20 -> 0 | AC28: =AG20 -> 0 | AD28: =AH20 -> 0 | AE28: =AI20 -> 0 | AF28: =AJ20 -> 0 | AG28: =AK20 -> 0 | AH28: =AL20 -> 0 | ... AJ28: =AN20 -> 0
D29: RPE 6 | E29: =IF(D7=AL9,AA18,IF(D7=AL10,AA28,IF(D7=AL11,Z40,IF(D7=AL12,Z52,0)))) -> 0 | F29: =IF(D7=AL9,AB18,IF(D7=AL10,AB28,IF(D7=AL11,AA40,IF(D7=AL12,AA52,0)))) -> 0 | G29: =IF(D7=AL9,AC18,IF(D7=AL10,AC28,IF(D7=AL11,AB40,IF(D7=AL12,AB52,0)))) -> 0 | H29: =IF(D7=AL9,AD18,IF(D7=AL10,AD28,IF(D7=AL11,AC40,IF(D7=AL12,AC52,0)))) -> 0 | I29: =IF(D7=AL9,AE18,IF(D7=AL10,AE28,IF(D7=AL11,AD40,IF(D7=AL12,AD52,0)))) -> 0 | J29: =IF(D7=AL9,AF18,IF(D7=AL10,AF28,IF(D7=AL11,AE40,IF(D7=AL12,AE52,0)))) -> 0 | K29: =IF(D7=AL9,AG18,IF(D7=AL10,AG28,IF(D7=AL11,AF40,IF(D7=AL12,AF52,0)))) -> 0 | L29: =IF(D7=AL9,AH18,IF(D7=AL10,AH28,IF(D7=AL11,AG40,IF(D7=AL12,AG52,0)))) -> 0 | M29: =IF(D7=AL9,AI18,IF(D7=AL10,AI28,IF(D7=AL11,AH40,IF(D7=AL12,AH52,0)))) -> 0 | N29: =IF(D7=AL9,AJ18,IF(D7=AL10,AJ28,IF(D7=AL11,AI40,IF(D7=AL12,AI52,0)))) -> 0
C31: Reps @RPE | E31: Fatigue Stops | H31: Reps @RPE | J31: Fatigue Stops | M31: Wilks Points Calculator | Z31: =H53 -> Custom RPE Chart (Bench)
E32: 0.05 | F32: 0.07 | J32: 0.05 | K32: 0.07 | Z32: =G17 -> 0 | AA32: =Z32*J58 -> 0 | AB32: =Z32*J59 -> 0 | AC32: =Z32*J60 -> 0 | AD32: =Z32*J61 -> 0 | AE32: =Z32*J62 -> 0 | AF32: =Z32*J63 -> 0 | AG32: =Z32*J64 -> 0 | AH32: =Z32*J65 -> 0 | AI32: =Z32*J66 -> 0 | AJ32: =Z32*J67 -> 0 | AK32: =Z32*J68 -> 0 | AL32: =Z32*J69 -> 0 | AM32: =Z32*J70 -> 0 | AN32: =Z32*J71 -> 0
C33: 1 @RPE 9 | D33: =E23 -> 0 | E33: =D33-(D33*E32) -> 0 | F33: =D33-(D33*F32) -> 0 | H33: 6 @RPE 9 | I33: =J23 -> 0 | J33: =I33-(I33*J32) -> 0 | K33: =I33-(I33*K32) -> 0 | M33: You are : | Z33: =AVERAGE(Z32,Z34) -> 0 | AA33: =AVERAGE(AA34,AA32) -> 0 | AB33: =AVERAGE(AB32,AB34) -> 0 | AC33: =AVERAGE(AC32,AC34) -> 0 | AD33: =AVERAGE(AD32,AD34) -> 0 | AE33: =AVERAGE(AE32,AE34) -> 0 | AF33: =AVERAGE(AF32,AF34) -> 0 | AG33: =AVERAGE(AG34,AG32) -> 0 | AH33: =AVERAGE(AH32,AH34) -> 0 | AI33: =AVERAGE(AI32,AI34) -> 0
C34: 1 @RPE 8 | D34: =E25 -> 0 | H34: 6 @RPE 8 | I34: =J25 -> 0 | Z34: =AA32 -> 0 | AA34: =AB32 -> 0 | AB34: =AC32 -> 0 | AC34: =AD32 -> 0 | AD34: =AE32 -> 0 | AE34: =AF32 -> 0 | AF34: =AG32 -> 0 | AG34: =AH32 -> 0 | ... AI34: =AJ32 -> 0
C35: 1 @RPE 7 | D35: =E27 -> 0 | H35: 6 @RPE 7 | I35: =J27 -> 0 | M35: Bodyweight : | Z35: =AVERAGE(Z34,Z36) -> 0 | AA35: =AVERAGE(AA34,AA36) -> 0 | AB35: =AVERAGE(AB34,AB36) -> 0 | AC35: =AVERAGE(AC34,AC36) -> 0 | AD35: =AVERAGE(AD34,AD36) -> 0 | AE35: =AVERAGE(AE34,AE36) -> 0 | AF35: =AVERAGE(AF34,AF36) -> 0 | AG35: =AVERAGE(AG36,AG34) -> 0 | AH35: =AVERAGE(AH34,AH36) -> 0 | AI35: =AVERAGE(AI34,AI36) -> 0
Z36: =AB32 -> 0 | AA36: =AC32 -> 0 | AB36: =AD32 -> 0 | AC36: =AE32 -> 0 | AD36: =AF32 -> 0 | AE36: =AG32 -> 0 | AF36: =AH32 -> 0 | AG36: =AI32 -> 0 | ... AI36: =AK32 -> 0
C37: 2 @RPE 9 | D37: =F23 -> 0 | E37: =D37-(D37*E32) -> 0 | F37: =D37-(D37*F32) -> 0 | H37: 7 @RPE 9 | I37: =K23 -> 0 | J37: =I37-(I37*J32) -> 0 | K37: =I37-(I37*K32) -> 0 | M37: Total Lifted Weight : | Z37: =AVERAGE(Z36,Z38) -> 0 | AA37: =AVERAGE(AA36,AA38) -> 0 | AB37: =AVERAGE(AB36,AB38) -> 0 | AC37: =AVERAGE(AC36,AC38) -> 0 | AD37: =AVERAGE(AD36,AD38) -> 0 | AE37: =AVERAGE(AE36,AE38) -> 0 | AF37: =AVERAGE(AF36,AF38) -> 0 | AG37: =AVERAGE(AG38,AG36) -> 0 | AH37: =AVERAGE(AH36,AH38) -> 0 | AI37: =AVERAGE(AI36,AI38) -> 0
C38: 2 @RPE 8 | D38: =F25 -> 0 | H38: 7 @RPE 8 | I38: =K25 -> 0 | Z38: =AC32 -> 0 | AA38: =AD32 -> 0 | AB38: =AE32 -> 0 | AC38: =AF32 -> 0 | AD38: =AG32 -> 0 | AE38: =AH32 -> 0 | AF38: =AI32 -> 0 | AG38: =AJ32 -> 0 | ... AI38: =AL32 -> 0
C39: 2 @RPE 7 | D39: =F27 -> 0 | H39: 7 @RPE 7 | I39: =K27 -> 0 | M39: =IF(O33=S40,O37*500/(-216.0475144+16.2606339*O35-0.002388645*O35^2-0.00113732*O35^3+0.00000701863*O35^4-0.00000001291*O35^5),O37*500/(594.31747775582-27.23842536447*O35+0.82112226871*O35^2-0.00930733913*O35^3+0.00004731582*O35^4-0.00000009054*O35^5)) -> 0 | Z39: =AVERAGE(Z38,Z40) -> 0 | AA39: =AVERAGE(AA38,AA40) -> 0 | AB39: =AVERAGE(AB38,AB40) -> 0 | AC39: =AVERAGE(AC38,AC40) -> 0 | AD39: =AVERAGE(AD38,AD40) -> 0 | AE39: =AVERAGE(AE38,AE40) -> 0 | AF39: =AVERAGE(AF38,AF40) -> 0 | AG39: =AVERAGE(AG38,AG40) -> 0 | ... AI39: =AVERAGE(AI38,AI40) -> 0
S40: Man | Z40: =AD32 -> 0 | AA40: =AE32 -> 0 | AB40: =AF32 -> 0 | AC40: =AG32 -> 0 | AD40: =AH32 -> 0 | AE40: =AI32 -> 0 | AF40: =AJ32 -> 0 | AG40: =AK32 -> 0 | ... AI40: =AM32 -> 0
C41: 3 @RPE 9 | D41: =G23 -> 0 | E41: =D41-(D41*E32) -> 0 | F41: =D41-(D41*F32) -> 0 | H41: 8 @RPE 9 | I41: =L23 -> 0 | J41: =I41-(I41*J32) -> 0 | K41: =I41-(I41*K32) -> 0
C42: 3 @RPE 8 | D42: =G25 -> 0 | H42: 8 @RPE 8 | I42: =L25 -> 0 | M42: IPF Points Calculator (Classic 3-Lift)
C43: 3 @RPE 7 | D43: =G27 -> 0 | H43: 8 @RPE 7 | I43: =L27 -> 0 | Z43: =L53 -> Custom RPE Chart (Deadlift)
M44: You are : | Z44: =G17 -> 0 | AA44: =Z44*N58 -> 0 | AB44: =Z44*N59 -> 0 | AC44: =Z44*N60 -> 0 | AD44: =Z44*N61 -> 0 | AE44: =Z44*N62 -> 0 | AF44: =Z44*N63 -> 0 | AG44: =Z44*N64 -> 0 | AH44: =Z44*N65 -> 0 | AI44: =Z44*N66 -> 0 | AJ44: =Z44*N67 -> 0 | AK44: =Z44*N68 -> 0 | AL44: =Z44*N69 -> 0 | AM44: =Z44*N70 -> 0 | AN44: =Z44*N71 -> 0
C45: 4 @RPE 9 | D45: =H23 -> 0 | E45: =D45-(D45*E32) -> 0 | F45: =D45-(D45*F32) -> 0 | H45: 9 @RPE 9 | I45: =M23 -> 0 | J45: =I45-(I45*J32) -> 0 | K45: =I45-(I45*K32) -> 0 | Z45: =AVERAGE(Z44,Z46) -> 0 | AA45: =AVERAGE(AA44,AA46) -> 0 | AB45: =AVERAGE(AB44,AB46) -> 0 | AC45: =AVERAGE(AC44,AC46) -> 0 | AD45: =AVERAGE(AD44,AD46) -> 0 | AE45: =AVERAGE(AE44,AE46) -> 0 | AF45: =AVERAGE(AF44,AF46) -> 0 | AG45: =AVERAGE(AG44,AG46) -> 0 | ... AI45: =AVERAGE(AI44,AI46) -> 0
C46: 4 @RPE 8 | D46: =H25 -> 0 | H46: 9 @RPE 8 | I46: =M25 -> 0 | M46: Bodyweight : | Z46: =AA44 -> 0 | AA46: =AB44 -> 0 | AB46: =AC44 -> 0 | AC46: =AD44 -> 0 | AD46: =AE44 -> 0 | AE46: =AF44 -> 0 | AF46: =AG44 -> 0 | AG46: =AH44 -> 0 | ... AI46: =AJ44 -> 0
C47: 4 @RPE 7 | D47: =H27 -> 0 | H47: 9 @RPE 7 | I47: =M27 -> 0 | Z47: =AVERAGE(Z46,Z48) -> 0 | AA47: =AVERAGE(AA46,AA48) -> 0 | AB47: =AVERAGE(AB46,AB48) -> 0 | AC47: =AVERAGE(AC46,AC48) -> 0 | AD47: =AVERAGE(AD46,AD48) -> 0 | AE47: =AVERAGE(AE46,AE48) -> 0 | AF47: =AVERAGE(AF46,AF48) -> 0 | AG47: =AVERAGE(AG46,AG48) -> 0 | ... AI47: =AVERAGE(AI46,AI48) -> 0
M48: Total Lifted Weight : | Z48: =AB44 -> 0 | AA48: =AC44 -> 0 | AB48: =AD44 -> 0 | AC48: =AE44 -> 0 | AD48: =AF44 -> 0 | AE48: =AG44 -> 0 | AF48: =AH44 -> 0 | AG48: =AI44 -> 0 | ... AI48: =AK44 -> 0
C49: 5 @RPE 9 | D49: =I23 -> 0 | E49: =D49-(D49*E32) -> 0 | F49: =D49-(D49*F32) -> 0 | H49: 10 @RPE 9 | I49: =N23 -> 0 | J49: =I49-(I49*J32) -> 0 | K49: =I49-(I49*K32) -> 0 | Z49: =AVERAGE(Z48,Z50) -> 0 | AA49: =AVERAGE(AA48,AA50) -> 0 | AB49: =AVERAGE(AB48,AB50) -> 0 | AC49: =AVERAGE(AC48,AC50) -> 0 | AD49: =AVERAGE(AD48,AD50) -> 0 | AE49: =AVERAGE(AE48,AE50) -> 0 | AF49: =AVERAGE(AF48,AF50) -> 0 | AG49: =AVERAGE(AG48,AG50) -> 0 | ... AI49: =AVERAGE(AI48,AI50) -> 0
C50: 5 @RPE 8 | D50: =I25 -> 0 | H50: 10 @RPE 8 | I50: =N25 -> 0 | M50: =IFERROR(IF(O44=S51,500+100*(O48-(125.1435*LN(O46)-228.03))/(34.5246*LN(O46)-86.8301),500+100*(O48-(310.67*LN(O46)-857.785))/(53.216*LN(O46)-147.0835)),"0,00 Points") -> 0,00 Points | Z50: =AC44 -> 0 | AA50: =AD44 -> 0 | AB50: =AE44 -> 0 | AC50: =AF44 -> 0 | AD50: =AG44 -> 0 | AE50: =AH44 -> 0 | AF50: =AI44 -> 0 | AG50: =AJ44 -> 0 | ... AI50: =AL44 -> 0
C51: 5 @RPE 7 | D51: =I27 -> 0 | H51: 10 @RPE 7 | I51: =N27 -> 0 | Z51: =AVERAGE(Z50,Z52) -> 0 | AA51: =AVERAGE(AA50,AA52) -> 0 | AB51: =AVERAGE(AB50,AB52) -> 0 | AC51: =AVERAGE(AC50,AC52) -> 0 | AD51: =AVERAGE(AD50,AD52) -> 0 | AE51: =AVERAGE(AE50,AE52) -> 0 | AF51: =AVERAGE(AF50,AF52) -> 0 | AG51: =AVERAGE(AG50,AG52) -> 0 | ... AI51: =AVERAGE(AI50,AI52) -> 0
Z52: =AD44 -> 0 | AA52: =AE44 -> 0 | AB52: =AF44 -> 0 | AC52: =AG44 -> 0 | AD52: =AH44 -> 0 | AE52: =AI44 -> 0 | AF52: =AJ44 -> 0 | AG52: =AK44 -> 0 | ... AI52: =AM44 -> 0
D53: Custom RPE Chart (Squat) | H53: Custom RPE Chart (Bench) | L53: Custom RPE Chart (Deadlift)
D55: RM's | E55: Enter your RM's (in kg) | F55: Percentages of 1RM | H55: RM's | I55: Enter your RM's (in kg) | J55: Percentages of 1RM | L55: RM's | M55: Enter your RM's (in kg) | N55: Percentages of 1RM
D57: 1RM | F57: =IFERROR((100*E57/E57)/100,"0%") -> 0% | H57: 1RM | J57: =IFERROR((100*I57/I57)/100,"0%") -> 0% | L57: 1RM | N57: =IFERROR((100*M57/M57)/100,"0%") -> 0%
D58: 2RM | F58: =IFERROR((100*E58/E57)/100,"0%") -> 0% | H58: 2RM | J58: =IFERROR((100*I58/I57)/100,"0%") -> 0% | L58: 2RM | N58: =IFERROR((100*M58/M57)/100,"0%") -> 0%
D59: 3RM | F59: =IFERROR((100*E59/E57)/100,"0%") -> 0% | H59: 3RM | J59: =IFERROR((100*I59/I57)/100,"0%") -> 0% | L59: 3RM | N59: =IFERROR((100*M59/M57)/100,"0%") -> 0%
D60: 4RM | F60: =IFERROR((100*E60/E57)/100,"0%") -> 0% | H60: 4RM | J60: =IFERROR((100*I60/I57)/100,"0%") -> 0% | L60: 4RM | N60: =IFERROR((100*M60/M57)/100,"0%") -> 0%
D61: 5RM | F61: =IFERROR((100*E61/E57)/100,"0%") -> 0% | H61: 5RM | J61: =IFERROR((100*I61/I57)/100,"0%") -> 0% | L61: 5RM | N61: =IFERROR((100*M61/M57)/100,"0%") -> 0%
D62: 6RM | F62: =IFERROR((100*E62/E57)/100,"0%") -> 0% | H62: 6RM | J62: =IFERROR((100*I62/I57)/100,"0%") -> 0% | L62: 6RM | N62: =IFERROR((100*M62/M57)/100,"0%") -> 0%
D63: 7RM | F63: =IFERROR((100*E63/E57)/100,"0%") -> 0% | H63: 7RM | J63: =IFERROR((100*I63/I57)/100,"0%") -> 0% | L63: 7RM | N63: =IFERROR((100*M63/M57)/100,"0%") -> 0%
D64: 8RM | F64: =IFERROR((100*E64/E57)/100,"0%") -> 0% | H64: 8RM | J64: =IFERROR((100*I64/I57)/100,"0%") -> 0% | L64: 8RM | N64: =IFERROR((100*M64/M57)/100,"0%") -> 0%
D65: 9RM | F65: =IFERROR((100*E65/E57)/100,"0%") -> 0% | H65: 9RM | J65: =IFERROR((100*I65/I57)/100,"0%") -> 0% | L65: 9RM | N65: =IFERROR((100*M65/M57)/100,"0%") -> 0%
D66: 10RM | F66: =IFERROR((100*E66/E57)/100,"0%") -> 0% | H66: 10RM | J66: =IFERROR((100*I66/I57)/100,"0%") -> 0% | L66: 10RM | N66: =IFERROR((100*M66/M57)/100,"0%") -> 0%
D67: 11RM | F67: =IFERROR((100*E67/E57)/100,"0%") -> 0% | H67: 11RM | J67: =IFERROR((100*I67/I57)/100,"0%") -> 0% | L67: 11RM | N67: =IFERROR((100*M67/M57)/100,"0%") -> 0%
D68: 12RM | F68: =IFERROR((100*E68/E57)/100,"0%") -> 0% | H68: 12RM | J68: =IFERROR((100*I68/I57)/100,"0%") -> 0% | L68: 12RM | N68: =IFERROR((100*M68/M57)/100,"0%") -> 0%
D69: 13RM | F69: =IFERROR((100*E69/E57)/100,"0%") -> 0% | H69: 13RM | J69: =IFERROR((100*I69/I57)/100,"0%") -> 0% | L69: 13RM | N69: =IFERROR((100*M69/M57)/100,"0%") -> 0%
D70: 14RM | F70: =IFERROR((100*E70/E57)/100,"0%") -> 0% | H70: 14RM | J70: =IFERROR((100*I70/I57)/100,"0%") -> 0% | L70: 14RM | N70: =IFERROR((100*M70/M57)/100,"0%") -> 0%
D71: 15RM | F71: =IFERROR((100*E71/E57)/100,"0%") -> 0% | H71: 15RM | J71: =IFERROR((100*I71/I57)/100,"0%") -> 0% | L71: 15RM | N71: =IFERROR((100*M71/M57)/100,"0%") -> 0%

Sheet Week 1
C3: ='Training Plan'!B12 -> 0 | E3: Week 1 Training Log
B9: Day 1
B13: 1 | C13: ='Training Plan'!C16 -> Competition Squat | H13: 2 | I13: ='Training Plan'!C24 -> Competition Bench | N13: 3 | O13: ='Training Plan'!C32 -> Competition Deadlift
B15: Sets x Reps @RPE / % | D15: ='Training Plan'!C17 -> 0 | H15: Sets x Reps @RPE / % | J15: ='Training Plan'!C25 -> 0 | N15: Sets x Reps @RPE / % | P15: ='Training Plan'!C33 -> 0
B20: Rest Periods | D20: ='Training Plan'!D22 -> 0 | H20: Rest Periods | J20: ='Training Plan'!D30 -> 0 | N20: Rest Periods | P20: ='Training Plan'!D38 -> 0
B22: Sets | C22: Reps | D22: Weight | E22: RPE | F22: Relative Intensity | H22: Sets | I22: Reps | J22: Weight | K22: RPE | L22: Relative Intensity | N22: Sets | O22: Reps | P22: Weight | Q22: RPE | R22: Relative Intensity
B23: 1 | C23: 1 | D23: 150 | F23: =IF(ISNUMBER(D23),D23/B35,) -> 0.71770335 | H23: 1 | I23: 1 | J23: 100 | L23: =IF(ISNUMBER(J23),J23/H35,) -> 0.71428571 | N23: 1 | O23: 1 | P23: 200 | R23: =IF(ISNUMBER(P23),P23/N35,) -> 0.71684588
B24: 2 | F24: =IF(ISNUMBER(D24),D24/B35,) -> 0 | H24: 2 | L24: =IF(ISNUMBER(J24),J24/H35,) -> 0 | N24: 2 | R24: =IF(ISNUMBER(P24),P24/N35,) -> 0
B25: 3 | F25: =IF(ISNUMBER(D25),D25/B35,) -> 0 | H25: 3 | L25: =IF(ISNUMBER(J25),J25/H35,) -> 0 | N25: 3 | R25: =IF(ISNUMBER(P25),P25/N35,) -> 0
B26: 4 | F26: =IF(ISNUMBER(D26),D26/B35,) -> 0 | H26: 4 | L26: =IF(ISNUMBER(J26),J26/H35,) -> 0 | N26: 4 | R26: =IF(ISNUMBER(P26),P26/N35,) -> 0
B27: 5 | F27: =IF(ISNUMBER(D27),D27/B35,) -> 0 | H27: 5 | L27: =IF(ISNUMBER(J27),J27/H35,) -> 0 | N27: 5 | R27: =IF(ISNUMBER(P27),P27/N35,) -> 0
B28: 6 | F28: =IF(ISNUMBER(D28),D28/B35,) -> 0 | H28: 6 | L28: =IF(ISNUMBER(J28),J28/H35,) -> 0 | N28: 6 | R28: =IF(ISNUMBER(P28),P28/N35,) -> 0
B29: 7 | F29: =IF(ISNUMBER(D29),D29/B35,) -> 0 | H29: 7 | L29: =IF(ISNUMBER(J29),J29/H35,) -> 0 | N29: 7 | R29: =IF(ISNUMBER(P29),P29/N35,) -> 0
B30: 8 | F30: =IF(ISNUMBER(D30),D30/B35,) -> 0 | H30: 8 | L30: =IF(ISNUMBER(J30),J30/H35,) -> 0 | N30: 8 | R30: =IF(ISNUMBER(P30),P30/N35,) -> 0
B31: 9 | F31: =IF(ISNUMBER(D31),D31/B35,) -> 0 | H31: 9 | L31: =IF(ISNUMBER(J31),J31/H35,) -> 0 | N31: 9 | R31: =IF(ISNUMBER(P31),P31/N35,) -> 0
B32: 10 | F32: =IF(ISNUMBER(D32),D32/B35,) -> 0 | H32: 10 | L32: =IF(ISNUMBER(J32),J32/H35,) -> 0 | N32: 10 | R32: =IF(ISNUMBER(P32),P32/N35,) -> 0
B33: e1RM | C33: Average Intensity | E33: =IFERROR(IF(COUNT(F23:F32)>0,AVERAGEIF(F23:F32,">0"),0),) -> 0.71770335 | H33: e1RM | I33: Average Intensity | K33: =IFERROR(IF(COUNT(L23:L32)>0,AVERAGEIF(L23:L32,">0"),0),) -> 0.71428571 | N33: e1RM | O33: Average Intensity | P33: =IFERROR(IF(COUNT(R23:R32)>0,AVERAGEIF(R23:R32,">0"),0),) -> 0.71684588 | Q33: sRPE | R33: =IFERROR(Q37*R37,"")
B35: =IFERROR(ROUNDUP(B37/(0.0005*C37^2-0.0342*C37+1.034),0),) -> 209 | C35: nReps | D35: =SUM(C23:C32) -> 1 | E35: Volume | F35: =SUM(C23*D23,C24*D24,C25*D25,C26*D26,C27*D27,C28*D28,C29*D29,C30*D30,C31*D31,C32*D32) -> 150 | H35: =IFERROR(ROUNDUP(H37/(0.0005*I37^2-0.0342*I37+1.034),0),) -> 140 | I35: nReps | J35: =SUM(I23:I32) -> 1 | K35: Volume | L35: =SUM(I23*J23,I24*J24,I25*J25,I26*J26,I27*J27,I28*J28,I29*J29,I30*J30,I31*J31,I32*J32) -> 100 | N35: =IFERROR(ROUNDUP(N37/(0.0005*O37^2-0.0342*O37+1.034),0),) -> 279 | O35: nReps | P35: =SUM(O23:O32) -> 1 | Q35: Volume | R35: =SUM(O23*P23,O24*P24,O25*P25,O26*P26,O27*P27,O28*P28,O29*P29,O30*P30,O31*P31,O32*P32) -> 200
B37: =IFERROR(OFFSET(D22,MATCH(MAX(D23:D32),D23:D32,0),0),"") -> 150 | C37: =IFERROR(OFFSET(C22,MATCH(MAX(D23:D32),D23:D32,0),0)+(10-OFFSET(E22,MATCH(MAX(D23:D32),D23:D32,0),0)),"") -> 11 | H37: =IFERROR(OFFSET(J22,MATCH(MAX(J23:J32),J23:J32,0),0),"") -> 100 | I37: =IFERROR(OFFSET(I22,MATCH(MAX(J23:J32),J23:J32,0),0)+(10-OFFSET(K22,MATCH(MAX(J23:J32),J23:J32,0),0)),"") -> 11 | N37: =IFERROR(OFFSET(P22,MATCH(MAX(P23:P32),P23:P32,0),0),"") -> 200 | O37: =IFERROR(OFFSET(O22,MATCH(MAX(P23:P32),P23:P32,0),0)+(10-OFFSET(Q22,MATCH(MAX(P23:P32),P23:P32,0),0)),"") -> 11 | Q37: =IFERROR(AVERAGE(AVERAGE(E23:E32),AVERAGE(K23:K32),AVERAGE(Q23:Q32)),"") | R37: =SUM(C23:C32,I23:I32,O23:O32) -> 3
B39: Day 2
B43: 1 | C43: ='Training Plan'!F16 -> 0 | H43: 2 | I43: ='Training Plan'!F24 -> 0 | N43: 3 | O43: ='Training Plan'!F32 -> 0
B45: Sets x Reps @RPE / % | D45: ='Training Plan'!F17 -> 0 | H45: Sets x Reps @RPE / % | J45: ='Training Plan'!F25 -> 0 | N45: Sets x Reps @RPE / % | P45: ='Training Plan'!F33 -> 0
B50: Rest Periods | D50: ='Training Plan'!G22 -> 0 | H50: Rest Periods | J50: ='Training Plan'!G30 -> 0 | N50: Rest Periods | P50: ='Training Plan'!G38 -> 0
B52: Sets | C52: Reps | D52: Weight | E52: RPE | F52: Relative Intensity | H52: Sets | I52: Reps | J52: Weight | K52: RPE | L52: Relative Intensity | N52: Sets | O52: Reps | P52: Weight | Q52: RPE | R52: Relative Intensity
B53: 1 | F53: =IF(ISNUMBER(D53),D53/B65,) -> 0 | H53: 1 | L53: =IF(ISNUMBER(J53),J53/H65,) -> 0 | N53: 1 | R53: =IF(ISNUMBER(P53),P53/N65,) -> 0
B54: 2 | F54: =IF(ISNUMBER(D54),D54/B65,) -> 0 | H54: 2 | L54: =IF(ISNUMBER(J54),J54/H65,) -> 0 | N54: 2 | R54: =IF(ISNUMBER(P54),P54/N65,) -> 0
B55: 3 | F55: =IF(ISNUMBER(D55),D55/B65,) -> 0 | H55: 3 | L55: =IF(ISNUMBER(J55),J55/H65,) -> 0 | N55: 3 | R55: =IF(ISNUMBER(P55),P55/N65,) -> 0
B56: 4 | F56: =IF(ISNUMBER(D56),D56/B65,) -> 0 | H56: 4 | L56: =IF(ISNUMBER(J56),J56/H65,) -> 0 | N56: 4 | R56: =IF(ISNUMBER(P56),P56/N65,) -> 0
B57: 5 | F57: =IF(ISNUMBER(D57),D57/B65,) -> 0 | H57: 5 | L57: =IF(ISNUMBER(J57),J57/H65,) -> 0 | N57: 5 | R57: =IF(ISNUMBER(P57),P57/N65,) -> 0
B58: 6 | F58: =IF(ISNUMBER(D58),D58/B65,) -> 0 | H58: 6 | L58: =IF(ISNUMBER(J58),J58/H65,) -> 0 | N58: 6 | R58: =IF(ISNUMBER(P58),P58/N65,) -> 0
B59: 7 | F59: =IF(ISNUMBER(D59),D59/B65,) -> 0 | H59: 7 | L59: =IF(ISNUMBER(J59),J59/H65,) -> 0 | N59: 7 | R59: =IF(ISNUMBER(P59),P59/N65,) -> 0
B60: 8 | F60: =IF(ISNUMBER(D60),D60/B65,) -> 0 | H60: 8 | L60: =IF(ISNUMBER(J60),J60/H65,) -> 0 | N60: 8 | R60: =IF(ISNUMBER(P60),P60/N65,) -> 0
B61: 9 | F61: =IF(ISNUMBER(D61),D61/B65,) -> 0 | H61: 9 | L61: =IF(ISNUMBER(J61),J61/H65,) -> 0 | N61: 9 | R61: =IF(ISNUMBER(P61),P61/N65,) -> 0
B62: 10 | F62: =IF(ISNUMBER(D62),D62/B65,) -> 0 | H62: 10 | L62: =IF(ISNUMBER(J62),J62/H65,) -> 0 | N62: 10 | R62: =IF(ISNUMBER(P62),P62/N65,) -> 0
B63: e1RM | C63: Average Intensity | E63: =IFERROR(IF(COUNT(F53:F62)>0,AVERAGEIF(F53:F62,">0"),0),) -> 0 | H63: e1RM | I63: Average Intensity | K63: =IFERROR(IF(COUNT(L53:L62)>0,AVERAGEIF(L53:L62,">0"),0),) -> 0 | N63: e1RM | O63: Average Intensity | P63: =IFERROR(IF(COUNT(R53:R62)>0,AVERAGEIF(R53:R62,">0"),0),) -> 0 | Q63: sRPE | R63: =IFERROR(Q67*R67,"")
B65: =IFERROR(ROUNDUP(B67/(0.0005*C67^2-0.0342*C67+1.034),0),) -> 0 | C65: nReps | D65: =SUM(C53:C62) -> 0 | E65: Volume | F65: =SUM(C53*D53,C54*D54,C55*D55,C56*D56,C57*D57,C58*D58,C59*D59,C60*D60,C61*D61,C62*D62) -> 0 | H65: =IFERROR(ROUNDUP(H67/(0.0005*I67^2-0.0342*I67+1.034),0),) -> 0 | I65: nReps | J65: =SUM(I53:I62) -> 0 | K65: Volume | L65: =SUM(I53*J53,I54*J54,I55*J55,I56*J56,I57*J57,I58*J58,I59*J59,I60*J60,I61*J61,I62*J62) -> 0 | N65: =IFERROR(ROUNDUP(N67/(0.0005*O67^2-0.0342*O67+1.034),0),) -> 0 | O65: nReps | P65: =SUM(O53:O62) -> 0 | Q65: Volume | R65: =SUM(O53*P53,O54*P54,O55*P55,O56*P56,O57*P57,O58*P58,O59*P59,O60*P60,O61*P61,O62*P62) -> 0
B67: =IFERROR(OFFSET(D52,MATCH(MAX(D53:D62),D53:D62,0),0),"") | C67: =IFERROR(OFFSET(C52,MATCH(MAX(D53:D62),D53:D62,0),0)+(10-OFFSET(E52,MATCH(MAX(D53:D62),D53:D62,0),0)),"") | H67: =IFERROR(OFFSET(J52,MATCH(MAX(J53:J62),J53:J62,0),0),"") | I67: =IFERROR(OFFSET(I52,MATCH(MAX(J53:J62),J53:J62,0),0)+(10-OFFSET(K52,MATCH(MAX(J53:J62),J53:J62,0),0)),"") | N67: =IFERROR(OFFSET(P52,MATCH(MAX(P53:P62),P53:P62,0),0),"") | O67: =IFERROR(OFFSET(O52,MATCH(MAX(P53:P62),P53:P62,0),0)+(10-OFFSET(Q52,MATCH(MAX(P53:P62),P53:P62,0),0)),"") | Q67: =IFERROR(AVERAGE(AVERAGE(E53:E62),AVERAGE(K53:K62),AVERAGE(Q53:Q62)),"") | R67: =SUM(C53:C62,I53:I62,O53:O62) -> 0
B69: Day 3
B73: 1 | C73: ='Training Plan'!I16 -> 0 | H73: 2 | I73: ='Training Plan'!I24 -> 0 | N73: 3 | O73: ='Training Plan'!I32 -> 0
B75: Sets x Reps @RPE / % | D75: ='Training Plan'!I17 -> 0 | H75: Sets x Reps @RPE / % | J75: ='Training Plan'!I25 -> 0 | N75: Sets x Reps @RPE / % | P75: ='Training Plan'!I33 -> 0
B80: Rest Periods | D80: ='Training Plan'!J22 -> 0 | H80: Rest Periods | J80: ='Training Plan'!J30 -> 0 | N80: Rest Periods | P80: ='Training Plan'!J38 -> 0
B82: Sets | C82: Reps | D82: Weight | E82: RPE | F82: Relative Intensity | H82: Sets | I82: Reps | J82: Weight | K82: RPE | L82: Relative Intensity | N82: Sets | O82: Reps | P82: Weight | Q82: RPE | R82: Relative Intensity
B83: 1 | F83: =IF(ISNUMBER(D83),D83/B95,) -> 0 | H83: 1 | L83: =IF(ISNUMBER(J83),J83/H95,) -> 0 | N83: 1 | R83: =IF(ISNUMBER(P83),P83/N95,) -> 0
B84: 2 | F84: =IF(ISNUMBER(D84),D84/B95,) -> 0 | H84: 2 | L84: =IF(ISNUMBER(J84),J84/H95,) -> 0 | N84: 2 | R84: =IF(ISNUMBER(P84),P84/N95,) -> 0
B85: 3 | F85: =IF(ISNUMBER(D85),D85/B95,) -> 0 | H85: 3 | L85: =IF(ISNUMBER(J85),J85/H95,) -> 0 | N85: 3 | R85: =IF(ISNUMBER(P85),P85/N95,) -> 0
B86: 4 | F86: =IF(ISNUMBER(D86),D86/B95,) -> 0 | H86: 4 | L86: =IF(ISNUMBER(J86),J86/H95,) -> 0 | N86: 4 | R86: =IF(ISNUMBER(P86),P86/N95,) -> 0
B87: 5 | F87: =IF(ISNUMBER(D87),D87/B95,) -> 0 | H87: 5 | L87: =IF(ISNUMBER(J87),J87/H95,) -> 0 | N87: 5 | R87: =IF(ISNUMBER(P87),P87/N95,) -> 0
B88: 6 | F88: =IF(ISNUMBER(D88),D88/B95,) -> 0 | H88: 6 | L88: =IF(ISNUMBER(J88),J88/H95,) -> 0 | N88: 6 | R88: =IF(ISNUMBER(P88),P88/N95,) -> 0
B89: 7 | F89: =IF(ISNUMBER(D89),D89/B95,) -> 0 | H89: 7 | L89: =IF(ISNUMBER(J89),J89/H95,) -> 0 | N89: 7 | R89: =IF(ISNUMBER(P89),P89/N95,) -> 0
B90: 8 | F90: =IF(ISNUMBER(D90),D90/B95,) -> 0 | H90: 8 | L90: =IF(ISNUMBER(J90),J90/H95,) -> 0 | N90: 8 | R90: =IF(ISNUMBER(P90),P90/N95,) -> 0
B91: 9 | F91: =IF(ISNUMBER(D91),D91/B95,) -> 0 | H91: 9 | L91: =IF(ISNUMBER(J91),J91/H95,) -> 0 | N91: 9 | R91: =IF(ISNUMBER(P91),P91/N95,) -> 0
B92: 10 | F92: =IF(ISNUMBER(D92),D92/B95,) -> 0 | H92: 10 | L92: =IF(ISNUMBER(J92),J92/H95,) -> 0 | N92: 10 | R92: =IF(ISNUMBER(P92),P92/N95,) -> 0
B93: e1RM | C93: Average Intensity | E93: =IFERROR(IF(COUNT(F83:F92)>0,AVERAGEIF(F83:F92,">0"),0),) -> 0 | H93: e1RM | I93: Average Intensity | K93: =IFERROR(IF(COUNT(L83:L92)>0,AVERAGEIF(L83:L92,">0"),0),) -> 0 | N93: e1RM | O93: Average Intensity | P93: =IFERROR(IF(COUNT(R83:R92)>0,AVERAGEIF(R83:R92,">0"),0),) -> 0 | Q93: sRPE | R93: =IFERROR(Q97*R97,"")
B95: =IFERROR(ROUNDUP(B97/(0.0005*C97^2-0.0342*C97+1.034),0),) -> 0 | C95: nReps | D95: =SUM(C83:C92) -> 0 | E95: Volume | F95: =SUM(C83*D83,C84*D84,C85*D85,C86*D86,C87*D87,C88*D88,C89*D89,C90*D90,C91*D91,C92*D92) -> 0 | H95: =IFERROR(ROUNDUP(H97/(0.0005*I97^2-0.0342*I97+1.034),0),) -> 0 | I95: nReps | J95: =SUM(I83:I92) -> 0 | K95: Volume | L95: =SUM(I83*J83,I84*J84,I85*J85,I86*J86,I87*J87,I88*J88,I89*J89,I90*J90,I91*J91,I92*J92) -> 0 | N95: =IFERROR(ROUNDUP(N97/(0.0005*O97^2-0.0342*O97+1.034),0),) -> 0 | O95: nReps | P95: =SUM(O83:O92) -> 0 | Q95: Volume | R95: =SUM(O83*P83,O84*P84,O85*P85,O86*P86,O87*P87,O88*P88,O89*P89,O90*P90,O91*P91,O92*P92) -> 0
B97: =IFERROR(OFFSET(D82,MATCH(MAX(D83:D92),D83:D92,0),0),"") | C97: =IFERROR(OFFSET(C82,MATCH(MAX(D83:D92),D83:D92,0),0)+(10-OFFSET(E82,MATCH(MAX(D83:D92),D83:D92,0),0)),"") | H97: =IFERROR(OFFSET(J82,MATCH(MAX(J83:J92),J83:J92,0),0),"") | I97: =IFERROR(OFFSET(I82,MATCH(MAX(J83:J92),J83:J92,0),0)+(10-OFFSET(K82,MATCH(MAX(J83:J92),J83:J92,0),0)),"") | N97: =IFERROR(OFFSET(P82,MATCH(MAX(P83:P92),P83:P92,0),0),"") | O97: =IFERROR(OFFSET(O82,MATCH(MAX(P83:P92),P83:P92,0),0)+(10-OFFSET(Q82,MATCH(MAX(P83:P92),P83:P92,0),0)),"") | Q97: =IFERROR(AVERAGE(AVERAGE(E83:E92),AVERAGE(K83:K92),AVERAGE(Q83:Q92)),"") | R97: =SUM(C83:C92,I83:I92,O83:O92) -> 0
B99: Day 4
B103: 1 | C103: ='Training Plan'!L16 -> 0 | H103: 2 | I103: ='Training Plan'!L24 -> 0 | N103: 3 | O103: ='Training Plan'!L32 -> 0
B105: Sets x Reps @RPE / % | D105: ='Training Plan'!L17 -> 0 | H105: Sets x Reps @RPE / % | J105: ='Training Plan'!L25 -> 0 | N105: Sets x Reps @RPE / % | P105: ='Training Plan'!L33 -> 0
B110: Rest Periods | D110: ='Training Plan'!M22 -> 0 | H110: Rest Periods | J110: ='Training Plan'!M30 -> 0 | N110: Rest Periods | P110: ='Training Plan'!M38 -> 0
B112: Sets | C112: Reps | D112: Weight | E112: RPE | F112: Relative Intensity | H112: Sets | I112: Reps | J112: Weight | K112: RPE | L112: Relative Intensity | N112: Sets | O112: Reps | P112: Weight | Q112: RPE | R112: Relative Intensity
B113: 1 | F113: =IF(ISNUMBER(D113),D113/B125,) -> 0 | H113: 1 | L113: =IF(ISNUMBER(J113),J113/H125,) -> 0 | N113: 1 | R113: =IF(ISNUMBER(P113),P113/N125,) -> 0
B114: 2 | F114: =IF(ISNUMBER(D114),D114/B125,) -> 0 | H114: 2 | L114: =IF(ISNUMBER(J114),J114/H125,) -> 0 | N114: 2 | R114: =IF(ISNUMBER(P114),P114/N125,) -> 0
B115: 3 | F115: =IF(ISNUMBER(D115),D115/B125,) -> 0 | H115: 3 | L115: =IF(ISNUMBER(J115),J115/H125,) -> 0 | N115: 3 | R115: =IF(ISNUMBER(P115),P115/N125,) -> 0
B116: 4 | F116: =IF(ISNUMBER(D116),D116/B125,) -> 0 | H116: 4 | L116: =IF(ISNUMBER(J116),J116/H125,) -> 0 | N116: 4 | R116: =IF(ISNUMBER(P116),P116/N125,) -> 0
B117: 5 | F117: =IF(ISNUMBER(D117),D117/B125,) -> 0 | H117: 5 | L117: =IF(ISNUMBER(J117),J117/H125,) -> 0 | N117: 5 | R117: =IF(ISNUMBER(P117),P117/N125,) -> 0
B118: 6 | F118: =IF(ISNUMBER(D118),D118/B125,) -> 0 | H118: 6 | L118: =IF(ISNUMBER(J118),J118/H125,) -> 0 | N118: 6 | R118: =IF(ISNUMBER(P118),P118/N125,) -> 0
B119: 7 | F119: =IF(ISNUMBER(D119),D119/B125,) -> 0 | H119: 7 | L119: =IF(ISNUMBER(J119),J119/H125,) -> 0 | N119: 7 | R119: =IF(ISNUMBER(P119),P119/N125,) -> 0
B120: 8 | F120: =IF(ISNUMBER(D120),D120/B125,) -> 0 | H120: 8 | L120: =IF(ISNUMBER(J120),J120/H125,) -> 0 | N120: 8 | R120: =IF(ISNUMBER(P120),P120/N125,) -> 0
B121: 9 | F121: =IF(ISNUMBER(D121),D121/B125,) -> 0 | H121: 9 | L121: =IF(ISNUMBER(J121),J121/H125,) -> 0 | N121: 9 | R121: =IF(ISNUMBER(P121),P121/N125,) -> 0
B122: 10 | F122: =IF(ISNUMBER(D122),D122/B125,) -> 0 | H122: 10 | L122: =IF(ISNUMBER(J122),J122/H125,) -> 0 | N122: 10 | R122: =IF(ISNUMBER(P122),P122/N125,) -> 0
B123: e1RM | C123: Average Intensity | E123: =IFERROR(IF(COUNT(F113:F122)>0,AVERAGEIF(F113:F122,">0"),0),) -> 0 | H123: e1RM | I123: Average Intensity | K123: =IFERROR(IF(COUNT(L113:L122)>0,AVERAGEIF(L113:L122,">0"),0),) -> 0 | N123: e1RM | O123: Average Intensity | P123: =IFERROR(IF(COUNT(R113:R122)>0,AVERAGEIF(R113:R122,">0"),0),) -> 0 | Q123: sRPE | R123: =IFERROR(Q127*R127,"")
B125: =IFERROR(ROUNDUP(B127/(0.0005*C127^2-0.0342*C127+1.034),0),) -> 0 | C125: nReps | D125: =SUM(C113:C122) -> 0 | E125: Volume | F125: =SUM(C113*D113,C114*D114,C115*D115,C116*D116,C117*D117,C118*D118,C119*D119,C120*D120,C121*D121,C122*D122) -> 0 | H125: =IFERROR(ROUNDUP(H127/(0.0005*I127^2-0.0342*I127+1.034),0),) -> 0 | I125: nReps | J125: =SUM(I113:I122) -> 0 | K125: Volume | L125: =SUM(I113*J113,I114*J114,I115*J115,I116*J116,I117*J117,I118*J118,I119*J119,I120*J120,I121*J121,I122*J122) -> 0 | N125: =IFERROR(ROUNDUP(N127/(0.0005*O127^2-0.0342*O127+1.034),0),) -> 0 | O125: nReps | P125: =SUM(O113:O122) -> 0 | Q125: Volume | R125: =SUM(O113*P113,O114*P114,O115*P115,O116*P116,O117*P117,O118*P118,O119*P119,O120*P120,O121*P121,O122*P122) -> 0
B127: =IFERROR(OFFSET(D112,MATCH(MAX(D113:D122),D113:D122,0),0),"") | C127: =IFERROR(OFFSET(C112,MATCH(MAX(D113:D122),D113:D122,0),0)+(10-OFFSET(E112,MATCH(MAX(D113:D122),D113:D122,0),0)),"") | H127: =IFERROR(OFFSET(J112,MATCH(MAX(J113:J122),J113:J122,0),0),"") | I127: =IFERROR(OFFSET(I112,MATCH(MAX(J113:J122),J113:J122,0),0)+(10-OFFSET(K112,MATCH(MAX(J113:J122),J113:J122,0),0)),"") | N127: =IFERROR(OFFSET(P112,MATCH(MAX(P113:P122),P113:P122,0),0),"") | O127: =IFERROR(OFFSET(O112,MATCH(MAX(P113:P122),P113:P122,0),0)+(10-OFFSET(Q112,MATCH(MAX(P113:P122),P113:P122,0),0)),"") | Q127: =IFERROR(AVERAGE(AVERAGE(E113:E122),AVERAGE(K113:K122),AVERAGE(Q113:Q122)),"") | R127: =SUM(C113:C122,I113:I122,O113:O122) -> 0
B129: Day 5
B133: 1 | C133: ='Training Plan'!O16 -> 0 | H133: 2 | I133: ='Training Plan'!O24 -> 0 | N133: 3 | O133: ='Training Plan'!O32 -> 0
B135: Sets x Reps @RPE / % | D135: ='Training Plan'!O17 -> 0 | H135: Sets x Reps @RPE / % | J135: ='Training Plan'!O25 -> 0 | N135: Sets x Reps @RPE / % | P135: ='Training Plan'!O33 -> 0
B140: Rest Periods | D140: ='Training Plan'!P22 -> 0 | H140: Rest Periods | J140: ='Training Plan'!P30 -> 0 | N140: Rest Periods | P140: ='Training Plan'!P38 -> 0
B142: Sets | C142: Reps | D142: Weight | E142: RPE | F142: Relative Intensity | H142: Sets | I142: Reps | J142: Weight | K142: RPE | L142: Relative Intensity | N142: Sets | O142: Reps | P142: Weight | Q142: RPE | R142: Relative Intensity
B143: 1 | F143: =IF(ISNUMBER(D143),D143/B155,) -> 0 | H143: 1 | L143: =IF(ISNUMBER(J143),J143/H155,) -> 0 | N143: 1 | R143: =IF(ISNUMBER(P143),P143/N155,) -> 0
B144: 2 | F144: =IF(ISNUMBER(D144),D144/B155,) -> 0 | H144: 2 | L144: =IF(ISNUMBER(J144),J144/H155,) -> 0 | N144: 2 | R144: =IF(ISNUMBER(P144),P144/N155,) -> 0
B145: 3 | F145: =IF(ISNUMBER(D145),D145/B155,) -> 0 | H145: 3 | L145: =IF(ISNUMBER(J145),J145/H155,) -> 0 | N145: 3 | R145: =IF(ISNUMBER(P145),P145/N155,) -> 0
B146: 4 | F146: =IF(ISNUMBER(D146),D146/B155,) -> 0 | H146: 4 | L146: =IF(ISNUMBER(J146),J146/H155,) -> 0 | N146: 4 | R146: =IF(ISNUMBER(P146),P146/N155,) -> 0
B147: 5 | F147: =IF(ISNUMBER(D147),D147/B155,) -> 0 | H147: 5 | L147: =IF(ISNUMBER(J147),J147/H155,) -> 0 | N147: 5 | R147: =IF(ISNUMBER(P147),P147/N155,) -> 0
B148: 6 | F148: =IF(ISNUMBER(D148),D148/B155,) -> 0 | H148: 6 | L148: =IF(ISNUMBER(J148),J148/H155,) -> 0 | N148: 6 | R148: =IF(ISNUMBER(P148),P148/N155,) -> 0
B149: 7 | F149: =IF(ISNUMBER(D149),D149/B155,) -> 0 | H149: 7 | L149: =IF(ISNUMBER(J149),J149/H155,) -> 0 | N149: 7 | R149: =IF(ISNUMBER(P149),P149/N155,) -> 0
B150: 8 | F150: =IF(ISNUMBER(D150),D150/B155,) -> 0 | H150: 8 | L150: =IF(ISNUMBER(J150),J150/H155,) -> 0 | N150: 8 | R150: =IF(ISNUMBER(P150),P150/N155,) -> 0
B151: 9 | F151: =IF(ISNUMBER(D151),D151/B155,) -> 0 | H151: 9 | L151: =IF(ISNUMBER(J151),J151/H155,) -> 0 | N151: 9 | R151: =IF(ISNUMBER(P151),P151/N155,) -> 0
B152: 10 | F152: =IF(ISNUMBER(D152),D152/B155,) -> 0 | H152: 10 | L152: =IF(ISNUMBER(J152),J152/H155,) -> 0 | N152: 10 | R152: =IF(ISNUMBER(P152),P152/N155,) -> 0
B153: e1RM | C153: Average Intensity | E153: =IFERROR(IF(COUNT(F143:F152)>0,AVERAGEIF(F143:F152,">0"),0),) -> 0 | H153: e1RM | I153: Average Intensity | K153: =IFERROR(IF(COUNT(L143:L152)>0,AVERAGEIF(L143:L152,">0"),0),) -> 0 | N153: e1RM | O153: Average Intensity | P153: =IFERROR(IF(COUNT(R143:R152)>0,AVERAGEIF(R143:R152,">0"),0),) -> 0 | Q153: sRPE | R153: =IFERROR(Q157*R157,"")
B155: =IFERROR(ROUNDUP(B157/(0.0005*C157^2-0.0342*C157+1.034),0),) -> 0 | C155: nReps | D155: =SUM(C143:C152) -> 0 | E155: Volume | F155: =SUM(C143*D143,C144*D144,C145*D145,C146*D146,C147*D147,C148*D148,C149*D149,C150*D150,C151*D151,C152*D152) -> 0 | H155: =IFERROR(ROUNDUP(H157/(0.0005*I157^2-0.0342*I157+1.034),0),) -> 0 | I155: nReps | J155: =SUM(I143:I152) -> 0 | K155: Volume | L155: =SUM(I143*J143,I144*J144,I145*J145,I146*J146,I147*J147,I148*J148,I149*J149,I150*J150,I151*J151,I152*J152) -> 0 | N155: =IFERROR(ROUNDUP(N157/(0.0005*O157^2-0.0342*O157+1.034),0),) -> 0 | O155: nReps | P155: =SUM(O143:O152) -> 0 | Q155: Volume | R155: =SUM(O143*P143,O144*P144,O145*P145,O146*P146,O147*P147,O148*P148,O149*P149,O150*P150,O151*P151,O152*P152) -> 0
B157: =IFERROR(OFFSET(D142,MATCH(MAX(D143:D152),D143:D152,0),0),"") | C157: =IFERROR(OFFSET(C142,MATCH(MAX(D143:D152),D143:D152,0),0)+(10-OFFSET(E142,MATCH(MAX(D143:D152),D143:D152,0),0)),"") | H157: =IFERROR(OFFSET(J142,MATCH(MAX(J143:J152),J143:J152,0),0),"") | I157: =IFERROR(OFFSET(I142,MATCH(MAX(J143:J152),J143:J152,0),0)+(10-OFFSET(K142,MATCH(MAX(J143:J152),J143:J152,0),0)),"") | N157: =IFERROR(OFFSET(P142,MATCH(MAX(P143:P152),P143:P152,0),0),"") | O157: =IFERROR(OFFSET(O142,MATCH(MAX(P143:P152),P143:P152,0),0)+(10-OFFSET(Q142,MATCH(MAX(P143:P152),P143:P152,0),0)),"") | Q157: =IFERROR(AVERAGE(AVERAGE(E143:E152),AVERAGE(K143:K152),AVERAGE(Q143:Q152)),"") | R157: =SUM(C143:C152,I143:I152,O143:O152) -> 0
B159: General Physical Prepardness (GPP)
C163: ='Training Plan'!C41 -> 0 | F163: ='Training Plan'!F41 -> 0 | I163: ='Training Plan'!I41 -> 0 | L163: ='Training Plan'!L41 -> 0 | O163: ='Training Plan'!O41 -> 0
C165: ='Training Plan'!C42 -> 0 | F165: ='Training Plan'!F42 -> 0 | I165: ='Training Plan'!I42 -> 0 | L165: ='Training Plan'!L42 -> 0 | O165: ='Training Plan'!O42 -> 0
C168: Log | F168: Log | I168: Log | L168: Log | O168: Log
B174: Fatigue Assessement & Comments and Observations
C178: Sleep Quality | E178: Calorie Intake | G178: Perceived Recovery | I178: Perceived Stress | K178: Bodyweight (kg) | M178: Comments and Observations
B180: Day 1
B182: Day 2
B184: Day 3
...

Sheet Week 2
C3: ='Training Plan'!B47 -> 0 | E3: Week 2 Training Log
B9: Day 1
B13: 1 | C13: ='Training Plan'!C51 -> Competition Squat | H13: 2 | I13: ='Training Plan'!C59 -> Competition Bench | N13: 3 | O13: ='Training Plan'!C67 -> Competition Deadlift
B15: Sets x Reps @RPE / % | D15: ='Training Plan'!C52 -> 0 | H15: Sets x Reps @RPE / % | J15: ='Training Plan'!C60 -> 0 | N15: Sets x Reps @RPE / % | P15: ='Training Plan'!C68 -> 0
B20: Rest Periods | D20: ='Training Plan'!D57 -> 0 | H20: Rest Periods | J20: ='Training Plan'!D65 -> 0 | N20: Rest Periods | P20: ='Training Plan'!D73 -> 0
B22: Sets | C22: Reps | D22: Weight | E22: RPE | F22: Relative Intensity | H22: Sets | I22: Reps | J22: Weight | K22: RPE | L22: Relative Intensity | N22: Sets | O22: Reps | P22: Weight | Q22: RPE | R22: Relative Intensity
B23: 1 | C23: 1 | D23: 160 | F23: =IF(ISNUMBER(D23),D23/B35,) -> 0.71748879 | H23: 1 | I23: 1 | J23: 110 | L23: =IF(ISNUMBER(J23),J23/H35,) -> 0.71428571 | N23: 1 | O23: 1 | P23: 210 | R23: =IF(ISNUMBER(P23),P23/N35,) -> 0.71672355
B24: 2 | F24: =IF(ISNUMBER(D24),D24/B35,) -> 0 | H24: 2 | L24: =IF(ISNUMBER(J24),J24/H35,) -> 0 | N24: 2 | R24: =IF(ISNUMBER(P24),P24/N35,) -> 0
B25: 3 | F25: =IF(ISNUMBER(D25),D25/B35,) -> 0 | H25: 3 | L25: =IF(ISNUMBER(J25),J25/H35,) -> 0 | N25: 3 | R25: =IF(ISNUMBER(P25),P25/N35,) -> 0
B26: 4 | F26: =IF(ISNUMBER(D26),D26/B35,) -> 0 | H26: 4 | L26: =IF(ISNUMBER(J26),J26/H35,) -> 0 | N26: 4 | R26: =IF(ISNUMBER(P26),P26/N35,) -> 0
B27: 5 | F27: =IF(ISNUMBER(D27),D27/B35,) -> 0 | H27: 5 | L27: =IF(ISNUMBER(J27),J27/H35,) -> 0 | N27: 5 | R27: =IF(ISNUMBER(P27),P27/N35,) -> 0
B28: 6 | F28: =IF(ISNUMBER(D28),D28/B35,) -> 0 | H28: 6 | L28: =IF(ISNUMBER(J28),J28/H35,) -> 0 | N28: 6 | R28: =IF(ISNUMBER(P28),P28/N35,) -> 0
B29: 7 | F29: =IF(ISNUMBER(D29),D29/B35,) -> 0 | H29: 7 | L29: =IF(ISNUMBER(J29),J29/H35,) -> 0 | N29: 7 | R29: =IF(ISNUMBER(P29),P29/N35,) -> 0
B30: 8 | F30: =IF(ISNUMBER(D30),D30/B35,) -> 0 | H30: 8 | L30: =IF(ISNUMBER(J30),J30/H35,) -> 0 | N30: 8 | R30: =IF(ISNUMBER(P30),P30/N35,) -> 0
B31: 9 | F31: =IF(ISNUMBER(D31),D31/B35,) -> 0 | H31: 9 | L31: =IF(ISNUMBER(J31),J31/H35,) -> 0 | N31: 9 | R31: =IF(ISNUMBER(P31),P31/N35,) -> 0
B32: 10 | F32: =IF(ISNUMBER(D32),D32/B35,) -> 0 | H32: 10 | L32: =IF(ISNUMBER(J32),J32/H35,) -> 0 | N32: 10 | R32: =IF(ISNUMBER(P32),P32/N35,) -> 0
B33: e1RM | C33: Average Intensity | E33: =IFERROR(IF(COUNT(F23:F32)>0,AVERAGEIF(F23:F32,">0"),0),) -> 0.71748879 | H33: e1RM | I33: Average Intensity | K33: =IFERROR(IF(COUNT(L23:L32)>0,AVERAGEIF(L23:L32,">0"),0),) -> 0.71428571 | N33: e1RM | O33: Average Intensity | P33: =IFERROR(IF(COUNT(R23:R32)>0,AVERAGEIF(R23:R32,">0"),0),) -> 0.71672355 | Q33: sRPE | R33: =IFERROR(Q37*R37,"")
B35: =IFERROR(ROUNDUP(B37/(0.0005*C37^2-0.0342*C37+1.034),0),) -> 223 | C35: nReps | D35: =SUM(C23:C32) -> 1 | E35: Volume | F35: =SUM(C23*D23,C24*D24,C25*D25,C26*D26,C27*D27,C28*D28,C29*D29,C30*D30,C31*D31,C32*D32) -> 160 | H35: =IFERROR(ROUNDUP(H37/(0.0005*I37^2-0.0342*I37+1.034),0),) -> 154 | I35: nReps | J35: =SUM(I23:I32) -> 1 | K35: Volume | L35: =SUM(I23*J23,I24*J24,I25*J25,I26*J26,I27*J27,I28*J28,I29*J29,I30*J30,I31*J31,I32*J32) -> 110 | N35: =IFERROR(ROUNDUP(N37/(0.0005*O37^2-0.0342*O37+1.034),0),) -> 293 | O35: nReps | P35: =SUM(O23:O32) -> 1 | Q35: Volume | R35: =SUM(O23*P23,O24*P24,O25*P25,O26*P26,O27*P27,O28*P28,O29*P29,O30*P30,O31*P31,O32*P32) -> 210
B37: =IFERROR(OFFSET(D22,MATCH(MAX(D23:D32),D23:D32,0),0),"") -> 160 | C37: =IFERROR(OFFSET(C22,MATCH(MAX(D23:D32),D23:D32,0),0)+(10-OFFSET(E22,MATCH(MAX(D23:D32),D23:D32,0),0)),"") -> 11 | H37: =IFERROR(OFFSET(J22,MATCH(MAX(J23:J32),J23:J32,0),0),"") -> 110 | I37: =IFERROR(OFFSET(I22,MATCH(MAX(J23:J32),J23:J32,0),0)+(10-OFFSET(K22,MATCH(MAX(J23:J32),J23:J32,0),0)),"") -> 11 | N37: =IFERROR(OFFSET(P22,MATCH(MAX(P23:P32),P23:P32,0),0),"") -> 210 | O37: =IFERROR(OFFSET(O22,MATCH(MAX(P23:P32),P23:P32,0),0)+(10-OFFSET(Q22,MATCH(MAX(P23:P32),P23:P32,0),0)),"") -> 11 | Q37: =IFERROR(AVERAGE(AVERAGE(E23:E32),AVERAGE(K23:K32),AVERAGE(Q23:Q32)),"") | R37: =SUM(C23:C32,I23:I32,O23:O32) -> 3
B39: Day 2
B43: 1 | C43: ='Training Plan'!F51 -> 0 | H43: 2 | I43: ='Training Plan'!F59 -> 0 | N43: 3 | O43: ='Training Plan'!F67 -> 0
B45: Sets x Reps @RPE / % | D45: ='Training Plan'!F52 -> 0 | H45: Sets x Reps @RPE / % | J45: ='Training Plan'!F60 -> 0 | N45: Sets x Reps @RPE / % | P45: ='Training Plan'!F68 -> 0
B50: Rest Periods | D50: ='Training Plan'!G57 -> 0 | H50: Rest Periods | J50: ='Training Plan'!G65 -> 0 | N50: Rest Periods | P50: ='Training Plan'!G73 -> 0
B52: Sets | C52: Reps | D52: Weight | E52: RPE | F52: Relative Intensity | H52: Sets | I52: Reps | J52: Weight | K52: RPE | L52: Relative Intensity | N52: Sets | O52: Reps | P52: Weight | Q52: RPE | R52: Relative Intensity
B53: 1 | F53: =IF(ISNUMBER(D53),D53/B65,) -> 0 | H53: 1 | L53: =IF(ISNUMBER(J53),J53/H65,) -> 0 | N53: 1 | R53: =IF(ISNUMBER(P53),P53/N65,) -> 0
B54: 2 | F54: =IF(ISNUMBER(D54),D54/B65,) -> 0 | H54: 2 | L54: =IF(ISNUMBER(J54),J54/H65,) -> 0 | N54: 2 | R54: =IF(ISNUMBER(P54),P54/N65,) -> 0
B55: 3 | F55: =IF(ISNUMBER(D55),D55/B65,) -> 0 | H55: 3 | L55: =IF(ISNUMBER(J55),J55/H65,) -> 0 | N55: 3 | R55: =IF(ISNUMBER(P55),P55/N65,) -> 0
B56: 4 | F56: =IF(ISNUMBER(D56),D56/B65,) -> 0 | H56: 4 | L56: =IF(ISNUMBER(J56),J56/H65,) -> 0 | N56: 4 | R56: =IF(ISNUMBER(P56),P56/N65,) -> 0
B57: 5 | F57: =IF(ISNUMBER(D57),D57/B65,) -> 0 | H57: 5 | L57: =IF(ISNUMBER(J57),J57/H65,) -> 0 | N57: 5 | R57: =IF(ISNUMBER(P57),P57/N65,) -> 0
B58: 6 | F58: =IF(ISNUMBER(D58),D58/B65,) -> 0 | H58: 6 | L58: =IF(ISNUMBER(J58),J58/H65,) -> 0 | N58: 6 | R58: =IF(ISNUMBER(P58),P58/N65,) -> 0
B59: 7 | F59: =IF(ISNUMBER(D59),D59/B65,) -> 0 | H59: 7 | L59: =IF(ISNUMBER(J59),J59/H65,) -> 0 | N59: 7 | R59: =IF(ISNUMBER(P59),P59/N65,) -> 0
B60: 8 | F60: =IF(ISNUMBER(D60),D60/B65,) -> 0 | H60: 8 | L60: =IF(ISNUMBER(J60),J60/H65,) -> 0 | N60: 8 | R60: =IF(ISNUMBER(P60),P60/N65,) -> 0
B61: 9 | F61: =IF(ISNUMBER(D61),D61/B65,) -> 0 | H61: 9 | L61: =IF(ISNUMBER(J61),J61/H65,) -> 0 | N61: 9 | R61: =IF(ISNUMBER(P61),P61/N65,) -> 0
B62: 10 | F62: =IF(ISNUMBER(D62),D62/B65,) -> 0 | H62: 10 | L62: =IF(ISNUMBER(J62),J62/H65,) -> 0 | N62: 10 | R62: =IF(ISNUMBER(P62),P62/N65,) -> 0
B63: e1RM | C63: Average Intensity | E63: =IFERROR(IF(COUNT(F53:F62)>0,AVERAGEIF(F53:F62,">0"),0),) -> 0 | H63: e1RM | I63: Average Intensity | K63: =IFERROR(IF(COUNT(L53:L62)>0,AVERAGEIF(L53:L62,">0"),0),) -> 0 | N63: e1RM | O63: Average Intensity | P63: =IFERROR(IF(COUNT(R53:R62)>0,AVERAGEIF(R53:R62,">0"),0),) -> 0 | Q63: sRPE | R63: =IFERROR(Q67*R67,"")
B65: =IFERROR(ROUNDUP(B67/(0.0005*C67^2-0.0342*C67+1.034),0),) -> 0 | C65: nReps | D65: =SUM(C53:C62) -> 0 | E65: Volume | F65: =SUM(C53*D53,C54*D54,C55*D55,C56*D56,C57*D57,C58*D58,C59*D59,C60*D60,C61*D61,C62*D62) -> 0 | H65: =IFERROR(ROUNDUP(H67/(0.0005*I67^2-0.0342*I67+1.034),0),) -> 0 | I65: nReps | J65: =SUM(I53:I62) -> 0 | K65: Volume | L65: =SUM(I53*J53,I54*J54,I55*J55,I56*J56,I57*J57,I58*J58,I59*J59,I60*J60,I61*J61,I62*J62) -> 0 | N65: =IFERROR(ROUNDUP(N67/(0.0005*O67^2-0.0342*O67+1.034),0),) -> 0 | O65: nReps | P65: =SUM(O53:O62) -> 0 | Q65: Volume | R65: =SUM(O53*P53,O54*P54,O55*P55,O56*P56,O57*P57,O58*P58,O59*P59,O60*P60,O61*P61,O62*P62) -> 0
B67: =IFERROR(OFFSET(D52,MATCH(MAX(D53:D62),D53:D62,0),0),"") | C67: =IFERROR(OFFSET(C52,MATCH(MAX(D53:D62),D53:D62,0),0)+(10-OFFSET(E52,MATCH(MAX(D53:D62),D53:D62,0),0)),"") | H67: =IFERROR(OFFSET(J52,MATCH(MAX(J53:J62),J53:J62,0),0),"") | I67: =IFERROR(OFFSET(I52,MATCH(MAX(J53:J62),J53:J62,0),0)+(10-OFFSET(K52,MATCH(MAX(J53:J62),J53:J62,0),0)),"") | N67: =IFERROR(OFFSET(P52,MATCH(MAX(P53:P62),P53:P62,0),0),"") | O67: =IFERROR(OFFSET(O52,MATCH(MAX(P53:P62),P53:P62,0),0)+(10-OFFSET(Q52,MATCH(MAX(P53:P62),P53:P62,0),0)),"") | Q67: =IFERROR(AVERAGE(AVERAGE(E53:E62),AVERAGE(K53:K62),AVERAGE(Q53:Q62)),"") | R67: =SUM(C53:C62,I53:I62,O53:O62) -> 0
B69: Day 3
B73: 1 | C73: ='Training Plan'!I51 -> 0 | H73: 2 | I73: ='Training Plan'!I59 -> 0 | N73: 3 | O73: ='Training Plan'!I67 -> 0
B75: Sets x Reps @RPE / % | D75: ='Training Plan'!I52 -> 0 | H75: Sets x Reps @RPE / % | J75: ='Training Plan'!I60 -> 0 | N75: Sets x Reps @RPE / % | P75: ='Training Plan'!I68 -> 0
B80: Rest Periods | D80: ='Training Plan'!J57 -> 0 | H80: Rest Periods | J80: ='Training Plan'!J65 -> 0 | N80: Rest Periods | P80: ='Training Plan'!J73 -> 0
B82: Sets | C82: Reps | D82: Weight | E82: RPE | F82: Relative Intensity | H82: Sets | I82: Reps | J82: Weight | K82: RPE | L82: Relative Intensity | N82: Sets | O82: Reps | P82: Weight | Q82: RPE | R82: Relative Intensity
B83: 1 | F83: =IF(ISNUMBER(D83),D83/B95,) -> 0 | H83: 1 | L83: =IF(ISNUMBER(J83),J83/H95,) -> 0 | N83: 1 | R83: =IF(ISNUMBER(P83),P83/N95,) -> 0
B84: 2 | F84: =IF(ISNUMBER(D84),D84/B95,) -> 0 | H84: 2 | L84: =IF(ISNUMBER(J84),J84/H95,) -> 0 | N84: 2 | R84: =IF(ISNUMBER(P84),P84/N95,) -> 0
B85: 3 | F85: =IF(ISNUMBER(D85),D85/B95,) -> 0 | H85: 3 | L85: =IF(ISNUMBER(J85),J85/H95,) -> 0 | N85: 3 | R85: =IF(ISNUMBER(P85),P85/N95,) -> 0
B86: 4 | F86: =IF(ISNUMBER(D86),D86/B95,) -> 0 | H86: 4 | L86: =IF(ISNUMBER(J86),J86/H95,) -> 0 | N86: 4 | R86: =IF(ISNUMBER(P86),P86/N95,) -> 0
B87: 5 | F87: =IF(ISNUMBER(D87),D87/B95,) -> 0 | H87: 5 | L87: =IF(ISNUMBER(J87),J87/H95,) -> 0 | N87: 5 | R87: =IF(ISNUMBER(P87),P87/N95,) -> 0
B88: 6 | F88: =IF(ISNUMBER(D88),D88/B95,) -> 0 | H88: 6 | L88: =IF(ISNUMBER(J88),J88/H95,) -> 0 | N88: 6 | R88: =IF(ISNUMBER(P88),P88/N95,) -> 0
B89: 7 | F89: =IF(ISNUMBER(D89),D89/B95,) -> 0 | H89: 7 | L89: =IF(ISNUMBER(J89),J89/H95,) -> 0 | N89: 7 | R89: =IF(ISNUMBER(P89),P89/N95,) -> 0
B90: 8 | F90: =IF(ISNUMBER(D90),D90/B95,) -> 0 | H90: 8 | L90: =IF(ISNUMBER(J90),J90/H95,) -> 0 | N90: 8 | R90: =IF(ISNUMBER(P90),P90/N95,) -> 0
B91: 9 | F91: =IF(ISNUMBER(D91),D91/B95,) -> 0 | H91: 9 | L91: =IF(ISNUMBER(J91),J91/H95,) -> 0 | N91: 9 | R91: =IF(ISNUMBER(P91),P91/N95,) -> 0
B92: 10 | F92: =IF(ISNUMBER(D92),D92/B95,) -> 0 | H92: 10 | L92: =IF(ISNUMBER(J92),J92/H95,) -> 0 | N92: 10 | R92: =IF(ISNUMBER(P92),P92/N95,) -> 0
B93: e1RM | C93: Average Intensity | E93: =IFERROR(IF(COUNT(F83:F92)>0,AVERAGEIF(F83:F92,">0"),0),) -> 0 | H93: e1RM | I93: Average Intensity | K93: =IFERROR(IF(COUNT(L83:L92)>0,AVERAGEIF(L83:L92,">0"),0),) -> 0 | N93: e1RM | O93: Average Intensity | P93: =IFERROR(IF(COUNT(R83:R92)>0,AVERAGEIF(R83:R92,">0"),0),) -> 0 | Q93: sRPE | R93: =IFERROR(Q97*R97,"")
B95: =IFERROR(ROUNDUP(B97/(0.0005*C97^2-0.0342*C97+1.034),0),) -> 0 | C95: nReps | D95: =SUM(C83:C92) -> 0 | E95: Volume | F95: =SUM(C83*D83,C84*D84,C85*D85,C86*D86,C87*D87,C88*D88,C89*D89,C90*D90,C91*D91,C92*D92) -> 0 | H95: =IFERROR(ROUNDUP(H97/(0.0005*I97^2-0.0342*I97+1.034),0),) -> 0 | I95: nReps | J95: =SUM(I83:I92) -> 0 | K95: Volume | L95: =SUM(I83*J83,I84*J84,I85*J85,I86*J86,I87*J87,I88*J88,I89*J89,I90*J90,I91*J91,I92*J92) -> 0 | N95: =IFERROR(ROUNDUP(N97/(0.0005*O97^2-0.0342*O97+1.034),0),) -> 0 | O95: nReps | P95: =SUM(O83:O92) -> 0 | Q95: Volume | R95: =SUM(O83*P83,O84*P84,O85*P85,O86*P86,O87*P87,O88*P88,O89*P89,O90*P90,O91*P91,O92*P92) -> 0
B97: =IFERROR(OFFSET(D82,MATCH(MAX(D83:D92),D83:D92,0),0),"") | C97: =IFERROR(OFFSET(C82,MATCH(MAX(D83:D92),D83:D92,0),0)+(10-OFFSET(E82,MATCH(MAX(D83:D92),D83:D92,0),0)),"") | H97: =IFERROR(OFFSET(J82,MATCH(MAX(J83:J92),J83:J92,0),0),"") | I97: =IFERROR(OFFSET(I82,MATCH(MAX(J83:J92),J83:J92,0),0)+(10-OFFSET(K82,MATCH(MAX(J83:J92),J83:J92,0),0)),"") | N97: =IFERROR(OFFSET(P82,MATCH(MAX(P83:P92),P83:P92,0),0),"") | O97: =IFERROR(OFFSET(O82,MATCH(MAX(P83:P92),P83:P92,0),0)+(10-OFFSET(Q82,MATCH(MAX(P83:P92),P83:P92,0),0)),"") | Q97: =IFERROR(AVERAGE(AVERAGE(E83:E92),AVERAGE(K83:K92),AVERAGE(Q83:Q92)),"") | R97: =SUM(C83:C92,I83:I92,O83:O92) -> 0
B99: Day 4
B103: 1 | C103: ='Training Plan'!L51 -> 0 | H103: 2 | I103: ='Training Plan'!L59 -> 0 | N103: 3 | O103: ='Training Plan'!L67 -> 0
B105: Sets x Reps @RPE / % | D105: ='Training Plan'!L52 -> 0 | H105: Sets x Reps @RPE / % | J105: ='Training Plan'!L60 -> 0 | N105: Sets x Reps @RPE / % | P105: ='Training Plan'!L68 -> 0
B110: Rest Periods | D110: ='Training Plan'!M57 -> 0 | H110: Rest Periods | J110: ='Training Plan'!M65 -> 0 | N110: Rest Periods | P110: ='Training Plan'!M73 -> 0
B112: Sets | C112: Reps | D112: Weight | E112: RPE | F112: Relative Intensity | H112: Sets | I112: Reps | J112: Weight | K112: RPE | L112: Relative Intensity | N112: Sets | O112: Reps | P112: Weight | Q112: RPE | R112: Relative Intensity
B113: 1 | F113: =IF(ISNUMBER(D113),D113/B125,) -> 0 | H113: 1 | L113: =IF(ISNUMBER(J113),J113/H125,) -> 0 | N113: 1 | R113: =IF(ISNUMBER(P113),P113/N125,) -> 0
B114: 2 | F114: =IF(ISNUMBER(D114),D114/B125,) -> 0 | H114: 2 | L114: =IF(ISNUMBER(J114),J114/H125,) -> 0 | N114: 2 | R114: =IF(ISNUMBER(P114),P114/N125,) -> 0
B115: 3 | F115: =IF(ISNUMBER(D115),D115/B125,) -> 0 | H115: 3 | L115: =IF(ISNUMBER(J115),J115/H125,) -> 0 | N115: 3 | R115: =IF(ISNUMBER(P115),P115/N125,) -> 0
B116: 4 | F116: =IF(ISNUMBER(D116),D116/B125,) -> 0 | H116: 4 | L116: =IF(ISNUMBER(J116),J116/H125,) -> 0 | N116: 4 | R116: =IF(ISNUMBER(P116),P116/N125,) -> 0
B117: 5 | F117: =IF(ISNUMBER(D117),D117/B125,) -> 0 | H117: 5 | L117: =IF(ISNUMBER(J117),J117/H125,) -> 0 | N117: 5 | R117: =IF(ISNUMBER(P117),P117/N125,) -> 0
B118: 6 | F118: =IF(ISNUMBER(D118),D118/B125,) -> 0 | H118: 6 | L118: =IF(ISNUMBER(J118),J118/H125,) -> 0 | N118: 6 | R118: =IF(ISNUMBER(P118),P118/N125,) -> 0
B119: 7 | F119: =IF(ISNUMBER(D119),D119/B125,) -> 0 | H119: 7 | L119: =IF(ISNUMBER(J119),J119/H125,) -> 0 | N119: 7 | R119: =IF(ISNUMBER(P119),P119/N125,) -> 0
B120: 8 | F120: =IF(ISNUMBER(D120),D120/B125,) -> 0 | H120: 8 | L120: =IF(ISNUMBER(J120),J120/H125,) -> 0 | N120: 8 | R120: =IF(ISNUMBER(P120),P120/N125,) -> 0
B121: 9 | F121: =IF(ISNUMBER(D121),D121/B125,) -> 0 | H121: 9 | L121: =IF(ISNUMBER(J121),J121/H125,) -> 0 | N121: 9 | R121: =IF(ISNUMBER(P121),P121/N125,) -> 0
B122: 10 | F122: =IF(ISNUMBER(D122),D122/B125,) -> 0 | H122: 10 | L122: =IF(ISNUMBER(J122),J122/H125,) -> 0 | N122: 10 | R122: =IF(ISNUMBER(P122),P122/N125,) -> 0
B123: e1RM | C123: Average Intensity | E123: =IFERROR(IF(COUNT(F113:F122)>0,AVERAGEIF(F113:F122,">0"),0),) -> 0 | H123: e1RM | I123: Average Intensity | K123: =IFERROR(IF(COUNT(L113:L122)>0,AVERAGEIF(L113:L122,">0"),0),) -> 0 | N123: e1RM | O123: Average Intensity | P123: =IFERROR(IF(COUNT(R113:R122)>0,AVERAGEIF(R113:R122,">0"),0),) -> 0 | Q123: sRPE | R123: =IFERROR(Q127*R127,"")
B125: =IFERROR(ROUNDUP(B127/(0.0005*C127^2-0.0342*C127+1.034),0),) -> 0 | C125: nReps | D125: =SUM(C113:C122) -> 0 | E125: Volume | F125: =SUM(C113*D113,C114*D114,C115*D115,C116*D116,C117*D117,C118*D118,C119*D119,C120*D120,C121*D121,C122*D122) -> 0 | H125: =IFERROR(ROUNDUP(H127/(0.0005*I127^2-0.0342*I127+1.034),0),) -> 0 | I125: nReps | J125: =SUM(I113:I122) -> 0 | K125: Volume | L125: =SUM(I113*J113,I114*J114,I115*J115,I116*J116,I117*J117,I118*J118,I119*J119,I120*J120,I121*J121,I122*J122) -> 0 | N125: =IFERROR(ROUNDUP(N127/(0.0005*O127^2-0.0342*O127+1.034),0),) -> 0 | O125: nReps | P125: =SUM(O113:O122) -> 0 | Q125: Volume | R125: =SUM(O113*P113,O114*P114,O115*P115,O116*P116,O117*P117,O118*P118,O119*P119,O120*P120,O121*P121,O122*P122) -> 0
B127: =IFERROR(OFFSET(D112,MATCH(MAX(D113:D122),D113:D122,0),0),"") | C127: =IFERROR(OFFSET(C112,MATCH(MAX(D113:D122),D113:D122,0),0)+(10-OFFSET(E112,MATCH(MAX(D113:D122),D113:D122,0),0)),"") | H127: =IFERROR(OFFSET(J112,MATCH(MAX(J113:J122),J113:J122,0),0),"") | I127: =IFERROR(OFFSET(I112,MATCH(MAX(J113:J122),J113:J122,0),0)+(10-OFFSET(K112,MATCH(MAX(J113:J122),J113:J122,0),0)),"") | N127: =IFERROR(OFFSET(P112,MATCH(MAX(P113:P122),P113:P122,0),0),"") | O127: =IFERROR(OFFSET(O112,MATCH(MAX(P113:P122),P113:P122,0),0)+(10-OFFSET(Q112,MATCH(MAX(P113:P122),P113:P122,0),0)),"") | Q127: =IFERROR(AVERAGE(AVERAGE(E113:E122),AVERAGE(K113:K122),AVERAGE(Q113:Q122)),"") | R127: =SUM(C113:C122,I113:I122,O113:O122) -> 0
B129: Day 5
B133: 1 | C133: ='Training Plan'!O51 -> 0 | H133: 2 | I133: ='Training Plan'!O59 -> 0 | N133: 3 | O133: ='Training Plan'!O67 -> 0
B135: Sets x Reps @RPE / % | D135: ='Training Plan'!O52 -> 0 | H135: Sets x Reps @RPE / % | J135: ='Training Plan'!O60 -> 0 | N135: Sets x Reps @RPE / % | P135: ='Training Plan'!O68 -> 0
B140: Rest Periods | D140: ='Training Plan'!P57 -> 0 | H140: Rest Periods | J140: ='Training Plan'!P65 -> 0 | N140: Rest Periods | P140: ='Training Plan'!P73 -> 0
B142: Sets | C142: Reps | D142: Weight | E142: RPE | F142: Relative Intensity | H142: Sets | I142: Reps | J142: Weight | K142: RPE | L142: Relative Intensity | N142: Sets | O142: Reps | P142: Weight | Q142: RPE | R142: Relative Intensity
B143: 1 | F143: =IF(ISNUMBER(D143),D143/B155,) -> 0 | H143: 1 | L143: =IF(ISNUMBER(J143),J143/H155,) -> 0 | N143: 1 | R143: =IF(ISNUMBER(P143),P143/N155,) -> 0
B144: 2 | F144: =IF(ISNUMBER(D144),D144/B155,) -> 0 | H144: 2 | L144: =IF(ISNUMBER(J144),J144/H155,) -> 0 | N144: 2 | R144: =IF(ISNUMBER(P144),P144/N155,) -> 0
B145: 3 | F145: =IF(ISNUMBER(D145),D145/B155,) -> 0 | H145: 3 | L145: =IF(ISNUMBER(J145),J145/H155,) -> 0 | N145: 3 | R145: =IF(ISNUMBER(P145),P145/N155,) -> 0
B146: 4 | F146: =IF(ISNUMBER(D146),D146/B155,) -> 0 | H146: 4 | L146: =IF(ISNUMBER(J146),J146/H155,) -> 0 | N146: 4 | R146: =IF(ISNUMBER(P146),P146/N155,) -> 0
B147: 5 | F147: =IF(ISNUMBER(D147),D147/B155,) -> 0 | H147: 5 | L147: =IF(ISNUMBER(J147),J147/H155,) -> 0 | N147: 5 | R147: =IF(ISNUMBER(P147),P147/N155,) -> 0
B148: 6 | F148: =IF(ISNUMBER(D148),D148/B155,) -> 0 | H148: 6 | L148: =IF(ISNUMBER(J148),J148/H155,) -> 0 | N148: 6 | R148: =IF(ISNUMBER(P148),P148/N155,) -> 0
B149: 7 | F149: =IF(ISNUMBER(D149),D149/B155,) -> 0 | H149: 7 | L149: =IF(ISNUMBER(J149),J149/H155,) -> 0 | N149: 7 | R149: =IF(ISNUMBER(P149),P149/N155,) -> 0
B150: 8 | F150: =IF(ISNUMBER(D150),D150/B155,) -> 0 | H150: 8 | L150: =IF(ISNUMBER(J150),J150/H155,) -> 0 | N150: 8 | R150: =IF(ISNUMBER(P150),P150/N155,) -> 0
B151: 9 | F151: =IF(ISNUMBER(D151),D151/B155,) -> 0 | H151: 9 | L151: =IF(ISNUMBER(J151),J151/H155,) -> 0 | N151: 9 | R151: =IF(ISNUMBER(P151),P151/N155,) -> 0
B152: 10 | F152: =IF(ISNUMBER(D152),D152/B155,) -> 0 | H152: 10 | L152: =IF(ISNUMBER(J152),J152/H155,) -> 0 | N152: 10 | R152: =IF(ISNUMBER(P152),P152/N155,) -> 0
B153: e1RM | C153: Average Intensity | E153: =IFERROR(IF(COUNT(F143:F152)>0,AVERAGEIF(F143:F152,">0"),0),) -> 0 | H153: e1RM | I153: Average Intensity | K153: =IFERROR(IF(COUNT(L143:L152)>0,AVERAGEIF(L143:L152,">0"),0),) -> 0 | N153: e1RM | O153: Average Intensity | P153: =IFERROR(IF(COUNT(R143:R152)>0,AVERAGEIF(R143:R152,">0"),0),) -> 0 | Q153: sRPE | R153: =IFERROR(Q157*R157,"")
B155: =IFERROR(ROUNDUP(B157/(0.0005*C157^2-0.0342*C157+1.034),0),) -> 0 | C155: nReps | D155: =SUM(C143:C152) -> 0 | E155: Volume | F155: =SUM(C143*D143,C144*D144,C145*D145,C146*D146,C147*D147,C148*D148,C149*D149,C150*D150,C151*D151,C152*D152) -> 0 | H155: =IFERROR(ROUNDUP(H157/(0.0005*I157^2-0.0342*I157+1.034),0),) -> 0 | I155: nReps | J155: =SUM(I143:I152) -> 0 | K155: Volume | L155: =SUM(I143*J143,I144*J144,I145*J145,I146*J146,I147*J147,I148*J148,I149*J149,I150*J150,I151*J151,I152*J152) -> 0 | N155: =IFERROR(ROUNDUP(N157/(0.0005*O157^2-0.0342*O157+1.034),0),) -> 0 | O155: nReps | P155: =SUM(O143:O152) -> 0 | Q155: Volume | R155: =SUM(O143*P143,O144*P144,O145*P145,O146*P146,O147*P147,O148*P148,O149*P149,O150*P150,O151*P151,O152*P152) -> 0
B157: =IFERROR(OFFSET(D142,MATCH(MAX(D143:D152),D143:D152,0),0),"") | C157: =IFERROR(OFFSET(C142,MATCH(MAX(D143:D152),D143:D152,0),0)+(10-OFFSET(E142,MATCH(MAX(D143:D152),D143:D152,0),0)),"") | H157: =IFERROR(OFFSET(J142,MATCH(MAX(J143:J152),J143:J152,0),0),"") | I157: =IFERROR(OFFSET(I142,MATCH(MAX(J143:J152),J143:J152,0),0)+(10-OFFSET(K142,MATCH(MAX(J143:J152),J143:J152,0),0)),"") | N157: =IFERROR(OFFSET(P142,MATCH(MAX(P143:P152),P143:P152,0),0),"") | O157: =IFERROR(OFFSET(O142,MATCH(MAX(P143:P152),P143:P152,0),0)+(10-OFFSET(Q142,MATCH(MAX(P143:P152),P143:P152,0),0)),"") | Q157: =IFERROR(AVERAGE(AVERAGE(E143:E152),AVERAGE(K143:K152),AVERAGE(Q143:Q152)),"") | R157: =SUM(C143:C152,I143:I152,O143:O152) -> 0
B159: General Physical Prepardness (GPP)
C163: ='Training Plan'!C76 -> 0 | F163: ='Training Plan'!F76 -> 0 | I163: ='Training Plan'!I76 -> 0 | L163: ='Training Plan'!L76 -> 0 | O163: ='Training Plan'!O76 -> 0
C165: ='Training Plan'!C77 -> 0 | F165: ='Training Plan'!F77 -> 0 | I165: ='Training Plan'!I77 -> 0 | L165: ='Training Plan'!L77 -> 0 | O165: ='Training Plan'!O77 -> 0
C168: Log | F168: Log | I168: Log | L168: Log | O168: Log
B174: Fatigue Assessement & Comments and Observations
C178: Sleep Quality | E178: Calorie Intake | G178: Perceived Recovery | I178: Perceived Stress | K178: Bodyweight (kg) | M178: Comments and Observations
B180: Day 1
B182: Day 2
B184: Day 3
...

Sheet Week 3
C3: ='Training Plan'!B82 -> 0 | E3: Week 3 Training Log
B9: Day 1
B13: 1 | C13: ='Training Plan'!C86 -> Competition Squat | H13: 2 | I13: ='Training Plan'!C94 -> Competition Bench | N13: 3 | O13: ='Training Plan'!C102 -> Competition Deadlift
B15: Sets x Reps @RPE / % | D15: ='Training Plan'!C87 -> 0 | H15: Sets x Reps @RPE / % | J15: ='Training Plan'!C95 -> 0 | N15: Sets x Reps @RPE / % | P15: ='Training Plan'!C103 -> 0
B20: Rest Periods | D20: ='Training Plan'!D92 -> 0 | H20: Rest Periods | J20: ='Training Plan'!D100 -> 0 | N20: Rest Periods | P20: ='Training Plan'!D108 -> 0
B22: Sets | C22: Reps | D22: Weight | E22: RPE | F22: Relative Intensity | H22: Sets | I22: Reps | J22: Weight | K22: RPE | L22: Relative Intensity | N22: Sets | O22: Reps | P22: Weight | Q22: RPE | R22: Relative Intensity
B23: 1 | C23: 1 | D23: 170 | F23: =IF(ISNUMBER(D23),D23/B35,) -> 0.71729958 | H23: 1 | I23: 1 | J23: 120 | L23: =IF(ISNUMBER(J23),J23/H35,) -> 0.71428571 | N23: 1 | O23: 1 | P23: 220 | R23: =IF(ISNUMBER(P23),P23/N35,) -> 0.71661238
B24: 2 | F24: =IF(ISNUMBER(D24),D24/B35,) -> 0 | H24: 2 | L24: =IF(ISNUMBER(J24),J24/H35,) -> 0 | N24: 2 | R24: =IF(ISNUMBER(P24),P24/N35,) -> 0
B25: 3 | F25: =IF(ISNUMBER(D25),D25/B35,) -> 0 | H25: 3 | L25: =IF(ISNUMBER(J25),J25/H35,) -> 0 | N25: 3 | R25: =IF(ISNUMBER(P25),P25/N35,) -> 0
B26: 4 | F26: =IF(ISNUMBER(D26),D26/B35,) -> 0 | H26: 4 | L26: =IF(ISNUMBER(J26),J26/H35,) -> 0 | N26: 4 | R26: =IF(ISNUMBER(P26),P26/N35,) -> 0
B27: 5 | F27: =IF(ISNUMBER(D27),D27/B35,) -> 0 | H27: 5 | L27: =IF(ISNUMBER(J27),J27/H35,) -> 0 | N27: 5 | R27: =IF(ISNUMBER(P27),P27/N35,) -> 0
B28: 6 | F28: =IF(ISNUMBER(D28),D28/B35,) -> 0 | H28: 6 | L28: =IF(ISNUMBER(J28),J28/H35,) -> 0 | N28: 6 | R28: =IF(ISNUMBER(P28),P28/N35,) -> 0
B29: 7 | F29: =IF(ISNUMBER(D29),D29/B35,) -> 0 | H29: 7 | L29: =IF(ISNUMBER(J29),J29/H35,) -> 0 | N29: 7 | R29: =IF(ISNUMBER(P29),P29/N35,) -> 0
B30: 8 | F30: =IF(ISNUMBER(D30),D30/B35,) -> 0 | H30: 8 | L30: =IF(ISNUMBER(J30),J30/H35,) -> 0 | N30: 8 | R30: =IF(ISNUMBER(P30),P30/N35,) -> 0
B31: 9 | F31: =IF(ISNUMBER(D31),D31/B35,) -> 0 | H31: 9 | L31: =IF(ISNUMBER(J31),J31/H35,) -> 0 | N31: 9 | R31: =IF(ISNUMBER(P31),P31/N35,) -> 0
B32: 10 | F32: =IF(ISNUMBER(D32),D32/B35,) -> 0 | H32: 10 | L32: =IF(ISNUMBER(J32),J32/H35,) -> 0 | N32: 10 | R32: =IF(ISNUMBER(P32),P32/N35,) -> 0
B33: e1RM | C33: Average Intensity | E33: =IFERROR(IF(COUNT(F23:F32)>0,AVERAGEIF(F23:F32,">0"),0),) -> 0.71729958 | H33: e1RM | I33: Average Intensity | K33: =IFERROR(IF(COUNT(L23:L32)>0,AVERAGEIF(L23:L32,">0"),0),) -> 0.71428571 | N33: e1RM | O33: Average Intensity | P33: =IFERROR(IF(COUNT(R23:R32)>0,AVERAGEIF(R23:R32,">0"),0),) -> 0.71661238 | Q33: sRPE | R33: =IFERROR(Q37*R37,"")
B35: =IFERROR(ROUNDUP(B37/(0.0005*C37^2-0.0342*C37+1.034),0),) -> 237 | C35: nReps | D35: =SUM(C23:C32) -> 1 | E35: Volume | F35: =SUM(C23*D23,C24*D24,C25*D25,C26*D26,C27*D27,C28*D28,C29*D29,C30*D30,C31*D31,C32*D32) -> 170 | H35: =IFERROR(ROUNDUP(H37/(0.0005*I37^2-0.0342*I37+1.034),0),) -> 168 | I35: nReps | J35: =SUM(I23:I32) -> 1 | K35: Volume | L35: =SUM(I23*J23,I24*J24,I25*J25,I26*J26,I27*J27,I28*J28,I29*J29,I30*J30,I31*J31,I32*J32) -> 120 | N35: =IFERROR(ROUNDUP(N37/(0.0005*O37^2-0.0342*O37+1.034),0),) -> 307 | O35: nReps | P35: =SUM(O23:O32) -> 1 | Q35: Volume | R35: =SUM(O23*P23,O24*P24,O25*P25,O26*P26,O27*P27,O28*P28,O29*P29,O30*P30,O31*P31,O32*P32) -> 220
B37: =IFERROR(OFFSET(D22,MATCH(MAX(D23:D32),D23:D32,0),0),"") -> 170 | C37: =IFERROR(OFFSET(C22,MATCH(MAX(D23:D32),D23:D32,0),0)+(10-OFFSET(E22,MATCH(MAX(D23:D32),D23:D32,0),0)),"") -> 11 | H37: =IFERROR(OFFSET(J22,MATCH(MAX(J23:J32),J23:J32,0),0),"") -> 120 | I37: =IFERROR(OFFSET(I22,MATCH(MAX(J23:J32),J23:J32,0),0)+(10-OFFSET(K22,MATCH(MAX(J23:J32),J23:J32,0),0)),"") -> 11 | N37: =IFERROR(OFFSET(P22,MATCH(MAX(P23:P32),P23:P32,0),0),"") -> 220 | O37: =IFERROR(OFFSET(O22,MATCH(MAX(P23:P32),P23:P32,0),0)+(10-OFFSET(Q22,MATCH(MAX(P23:P32),P23:P32,0),0)),"") -> 11 | Q37: =IFERROR(AVERAGE(AVERAGE(E23:E32),AVERAGE(K23:K32),AVERAGE(Q23:Q32)),"") | R37: =SUM(C23:C32,I23:I32,O23:O32) -> 3
B39: Day 2
B43: 1 | C43: ='Training Plan'!F86 -> Competition Squat | H43: 2 | I43: ='Training Plan'!F94 -> Competition Bench | N43: 3 | O43: ='Training Plan'!F102 -> Competition Deadlift
B45: Sets x Reps @RPE / % | D45: ='Training Plan'!F87 -> 0 | H45: Sets x Reps @RPE / % | J45: ='Training Plan'!F95 -> 0 | N45: Sets x Reps @RPE / % | P45: ='Training Plan'!F103 -> 0
B50: Rest Periods | D50: ='Training Plan'!G92 -> 0 | H50: Rest Periods | J50: ='Training Plan'!G100 -> 0 | N50: Rest Periods | P50: ='Training Plan'!G108 -> 0
B52: Sets | C52: Reps | D52: Weight | E52: RPE | F52: Relative Intensity | H52: Sets | I52: Reps | J52: Weight | K52: RPE | L52: Relative Intensity | N52: Sets | O52: Reps | P52: Weight | Q52: RPE | R52: Relative Intensity
B53: 1 | C53: 1 | D53: 150 | F53: =IF(ISNUMBER(D53),D53/B65,) -> 0.71770335 | H53: 1 | L53: =IF(ISNUMBER(J53),J53/H65,) -> 0 | N53: 1 | R53: =IF(ISNUMBER(P53),P53/N65,) -> 0
B54: 2 | F54: =IF(ISNUMBER(D54),D54/B65,) -> 0 | H54: 2 | L54: =IF(ISNUMBER(J54),J54/H65,) -> 0 | N54: 2 | R54: =IF(ISNUMBER(P54),P54/N65,) -> 0
B55: 3 | F55: =IF(ISNUMBER(D55),D55/B65,) -> 0 | H55: 3 | L55: =IF(ISNUMBER(J55),J55/H65,) -> 0 | N55: 3 | R55: =IF(ISNUMBER(P55),P55/N65,) -> 0
B56: 4 | F56: =IF(ISNUMBER(D56),D56/B65,) -> 0 | H56: 4 | L56: =IF(ISNUMBER(J56),J56/H65,) -> 0 | N56: 4 | R56: =IF(ISNUMBER(P56),P56/N65,) -> 0
B57: 5 | F57: =IF(ISNUMBER(D57),D57/B65,) -> 0 | H57: 5 | L57: =IF(ISNUMBER(J57),J57/H65,) -> 0 | N57: 5 | R57: =IF(ISNUMBER(P57),P57/N65,) -> 0
B58: 6 | F58: =IF(ISNUMBER(D58),D58/B65,) -> 0 | H58: 6 | L58: =IF(ISNUMBER(J58),J58/H65,) -> 0 | N58: 6 | R58: =IF(ISNUMBER(P58),P58/N65,) -> 0
B59: 7 | F59: =IF(ISNUMBER(D59),D59/B65,) -> 0 | H59: 7 | L59: =IF(ISNUMBER(J59),J59/H65,) -> 0 | N59: 7 | R59: =IF(ISNUMBER(P59),P59/N65,) -> 0
B60: 8 | F60: =IF(ISNUMBER(D60),D60/B65,) -> 0 | H60: 8 | L60: =IF(ISNUMBER(J60),J60/H65,) -> 0 | N60: 8 | R60: =IF(ISNUMBER(P60),P60/N65,) -> 0
B61: 9 | F61: =IF(ISNUMBER(D61),D61/B65,) -> 0 | H61: 9 | L61: =IF(ISNUMBER(J61),J61/H65,) -> 0 | N61: 9 | R61: =IF(ISNUMBER(P61),P61/N65,) -> 0
B62: 10 | F62: =IF(ISNUMBER(D62),D62/B65,) -> 0 | H62: 10 | L62: =IF(ISNUMBER(J62),J62/H65,) -> 0 | N62: 10 | R62: =IF(ISNUMBER(P62),P62/N65,) -> 0
B63: e1RM | C63: Average Intensity | E63: =IFERROR(IF(COUNT(F53:F62)>0,AVERAGEIF(F53:F62,">0"),0),) -> 0.71770335 | H63: e1RM | I63: Average Intensity | K63: =IFERROR(IF(COUNT(L53:L62)>0,AVERAGEIF(L53:L62,">0"),0),) -> 0 | N63: e1RM | O63: Average Intensity | P63: =IFERROR(IF(COUNT(R53:R62)>0,AVERAGEIF(R53:R62,">0"),0),) -> 0 | Q63: sRPE | R63: =IFERROR(Q67*R67,"")
B65: =IFERROR(ROUNDUP(B67/(0.0005*C67^2-0.0342*C67+1.034),0),) -> 209 | C65: nReps | D65: =SUM(C53:C62) -> 1 | E65: Volume | F65: =SUM(C53*D53,C54*D54,C55*D55,C56*D56,C57*D57,C58*D58,C59*D59,C60*D60,C61*D61,C62*D62) -> 150 | H65: =IFERROR(ROUNDUP(H67/(0.0005*I67^2-0.0342*I67+1.034),0),) -> 0 | I65: nReps | J65: =SUM(I53:I62) -> 0 | K65: Volume | L65: =SUM(I53*J53,I54*J54,I55*J55,I56*J56,I57*J57,I58*J58,I59*J59,I60*J60,I61*J61,I62*J62) -> 0 | N65: =IFERROR(ROUNDUP(N67/(0.0005*O67^2-0.0342*O67+1.034),0),) -> 0 | O65: nReps | P65: =SUM(O53:O62) -> 0 | Q65: Volume | R65: =SUM(O53*P53,O54*P54,O55*P55,O56*P56,O57*P57,O58*P58,O59*P59,O60*P60,O61*P61,O62*P62) -> 0
B67: =IFERROR(OFFSET(D52,MATCH(MAX(D53:D62),D53:D62,0),0),"") -> 150 | C67: =IFERROR(OFFSET(C52,MATCH(MAX(D53:D62),D53:D62,0),0)+(10-OFFSET(E52,MATCH(MAX(D53:D62),D53:D62,0),0)),"") -> 11 | H67: =IFERROR(OFFSET(J52,MATCH(MAX(J53:J62),J53:J62,0),0),"") | I67: =IFERROR(OFFSET(I52,MATCH(MAX(J53:J62),J53:J62,0),0)+(10-OFFSET(K52,MATCH(MAX(J53:J62),J53:J62,0),0)),"") | N67: =IFERROR(OFFSET(P52,MATCH(MAX(P53:P62),P53:P62,0),0),"") | O67: =IFERROR(OFFSET(O52,MATCH(MAX(P53:P62),P53:P62,0),0)+(10-OFFSET(Q52,MATCH(MAX(P53:P62),P53:P62,0),0)),"") | Q67: =IFERROR(AVERAGE(AVERAGE(E53:E62),AVERAGE(K53:K62),AVERAGE(Q53:Q62)),"") | R67: =SUM(C53:C62,I53:I62,O53:O62) -> 1
B69: Day 3
B73: 1 | C73: ='Training Plan'!I86 -> 0 | H73: 2 | I73: ='Training Plan'!I94 -> 0 | N73: 3 | O73: ='Training Plan'!I102 -> 0
B75: Sets x Reps @RPE / % | D75: ='Training Plan'!I87 -> 0 | H75: Sets x Reps @RPE / % | J75: ='Training Plan'!I95 -> 0 | N75: Sets x Reps @RPE / % | P75: ='Training Plan'!I103 -> 0
B80: Rest Periods | D80: ='Training Plan'!J92 -> 0 | H80: Rest Periods | J80: ='Training Plan'!J100 -> 0 | N80: Rest Periods | P80: ='Training Plan'!J108 -> 0
B82: Sets | C82: Reps | D82: Weight | E82: RPE | F82: Relative Intensity | H82: Sets | I82: Reps | J82: Weight | K82: RPE | L82: Relative Intensity | N82: Sets | O82: Reps | P82: Weight | Q82: RPE | R82: Relative Intensity
B83: 1 | F83: =IF(ISNUMBER(D83),D83/B95,) -> 0 | H83: 1 | L83: =IF(ISNUMBER(J83),J83/H95,) -> 0 | N83: 1 | R83: =IF(ISNUMBER(P83),P83/N95,) -> 0
B84: 2 | F84: =IF(ISNUMBER(D84),D84/B95,) -> 0 | H84: 2 | L84: =IF(ISNUMBER(J84),J84/H95,) -> 0 | N84: 2 | R84: =IF(ISNUMBER(P84),P84/N95,) -> 0
B85: 3 | F85: =IF(ISNUMBER(D85),D85/B95,) -> 0 | H85: 3 | L85: =IF(ISNUMBER(J85),J85/H95,) -> 0 | N85: 3 | R85: =IF(ISNUMBER(P85),P85/N95,) -> 0
B86: 4 | F86: =IF(ISNUMBER(D86),D86/B95,) -> 0 | H86: 4 | L86: =IF(ISNUMBER(J86),J86/H95,) -> 0 | N86: 4 | R86: =IF(ISNUMBER(P86),P86/N95,) -> 0
B87: 5 | F87: =IF(ISNUMBER(D87),D87/B95,) -> 0 | H87: 5 | L87: =IF(ISNUMBER(J87),J87/H95,) -> 0 | N87: 5 | R87: =IF(ISNUMBER(P87),P87/N95,) -> 0
B88: 6 | F88: =IF(ISNUMBER(D88),D88/B95,) -> 0 | H88: 6 | L88: =IF(ISNUMBER(J88),J88/H95,) -> 0 | N88: 6 | R88: =IF(ISNUMBER(P88),P88/N95,) -> 0
B89: 7 | F89: =IF(ISNUMBER(D89),D89/B95,) -> 0 | H89: 7 | L89: =IF(ISNUMBER(J89),J89/H95,) -> 0 | N89: 7 | R89: =IF(ISNUMBER(P89),P89/N95,) -> 0
B90: 8 | F90: =IF(ISNUMBER(D90),D90/B95,) -> 0 | H90: 8 | L90: =IF(ISNUMBER(J90),J90/H95,) -> 0 | N90: 8 | R90: =IF(ISNUMBER(P90),P90/N95,) -> 0
B91: 9 | F91: =IF(ISNUMBER(D91),D91/B95,) -> 0 | H91: 9 | L91: =IF(ISNUMBER(J91),J91/H95,) -> 0 | N91: 9 | R91: =IF(ISNUMBER(P91),P91/N95,) -> 0
B92: 10 | F92: =IF(ISNUMBER(D92),D92/B95,) -> 0 | H92: 10 | L92: =IF(ISNUMBER(J92),J92/H95,) -> 0 | N92: 10 | R92: =IF(ISNUMBER(P92),P92/N95,) -> 0
B93: e1RM | C93: Average Intensity | E93: =IFERROR(IF(COUNT(F83:F92)>0,AVERAGEIF(F83:F92,">0"),0),) -> 0 | H93: e1RM | I93: Average Intensity | K93: =IFERROR(IF(COUNT(L83:L92)>0,AVERAGEIF(L83:L92,">0"),0),) -> 0 | N93: e1RM | O93: Average Intensity | P93: =IFERROR(IF(COUNT(R83:R92)>0,AVERAGEIF(R83:R92,">0"),0),) -> 0 | Q93: sRPE | R93: =IFERROR(Q97*R97,"")
B95: =IFERROR(ROUNDUP(B97/(0.0005*C97^2-0.0342*C97+1.034),0),) -> 0 | C95: nReps | D95: =SUM(C83:C92) -> 0 | E95: Volume | F95: =SUM(C83*D83,C84*D84,C85*D85,C86*D86,C87*D87,C88*D88,C89*D89,C90*D90,C91*D91,C92*D92) -> 0 | H95: =IFERROR(ROUNDUP(H97/(0.0005*I97^2-0.0342*I97+1.034),0),) -> 0 | I95: nReps | J95: =SUM(I83:I92) -> 0 | K95: Volume | L95: =SUM(I83*J83,I84*J84,I85*J85,I86*J86,I87*J87,I88*J88,I89*J89,I90*J90,I91*J91,I92*J92) -> 0 | N95: =IFERROR(ROUNDUP(N97/(0.0005*O97^2-0.0342*O97+1.034),0),) -> 0 | O95: nReps | P95: =SUM(O83:O92) -> 0 | Q95: Volume | R95: =SUM(O83*P83,O84*P84,O85*P85,O86*P86,O87*P87,O88*P88,O89*P89,O90*P90,O91*P91,O92*P92) -> 0
B97: =IFERROR(OFFSET(D82,MATCH(MAX(D83:D92),D83:D92,0),0),"") | C97: =IFERROR(OFFSET(C82,MATCH(MAX(D83:D92),D83:D92,0),0)+(10-OFFSET(E82,MATCH(MAX(D83:D92),D83:D92,0),0)),"") | H97: =IFERROR(OFFSET(J82,MATCH(MAX(J83:J92),J83:J92,0),0),"") | I97: =IFERROR(OFFSET(I82,MATCH(MAX(J83:J92),J83:J92,0),0)+(10-OFFSET(K82,MATCH(MAX(J83:J92),J83:J92,0),0)),"") | N97: =IFERROR(OFFSET(P82,MATCH(MAX(P83:P92),P83:P92,0),0),"") | O97: =IFERROR(OFFSET(O82,MATCH(MAX(P83:P92),P83:P92,0),0)+(10-OFFSET(Q82,MATCH(MAX(P83:P92),P83:P92,0),0)),"") | Q97: =IFERROR(AVERAGE(AVERAGE(E83:E92),AVERAGE(K83:K92),AVERAGE(Q83:Q92)),"") | R97: =SUM(C83:C92,I83:I92,O83:O92) -> 0
B99: Day 4
B103: 1 | C103: ='Training Plan'!L86 -> 0 | H103: 2 | I103: ='Training Plan'!L94 -> 0 | N103: 3 | O103: ='Training Plan'!L102 -> 0
B105: Sets x Reps @RPE / % | D105: ='Training Plan'!L87 -> 0 | H105: Sets x Reps @RPE / % | J105: ='Training Plan'!L95 -> 0 | N105: Sets x Reps @RPE / % | P105: ='Training Plan'!L103 -> 0
B110: Rest Periods | D110: ='Training Plan'!M92 -> 0 | H110: Rest Periods | J110: ='Training Plan'!M100 -> 0 | N110: Rest Periods | P110: ='Training Plan'!M108 -> 0
B112: Sets | C112: Reps | D112: Weight | E112: RPE | F112: Relative Intensity | H112: Sets | I112: Reps | J112: Weight | K112: RPE | L112: Relative Intensity | N112: Sets | O112: Reps | P112: Weight | Q112: RPE | R112: Relative Intensity
B113: 1 | F113: =IF(ISNUMBER(D113),D113/B125,) -> 0 | H113: 1 | L113: =IF(ISNUMBER(J113),J113/H125,) -> 0 | N113: 1 | R113: =IF(ISNUMBER(P113),P113/N125,) -> 0
B114: 2 | F114: =IF(ISNUMBER(D114),D114/B125,) -> 0 | H114: 2 | L114: =IF(ISNUMBER(J114),J114/H125,) -> 0 | N114: 2 | R114: =IF(ISNUMBER(P114),P114/N125,) -> 0
B115: 3 | F115: =IF(ISNUMBER(D115),D115/B125,) -> 0 | H115: 3 | L115: =IF(ISNUMBER(J115),J115/H125,) -> 0 | N115: 3 | R115: =IF(ISNUMBER(P115),P115/N125,) -> 0
B116: 4 | F116: =IF(ISNUMBER(D116),D116/B125,) -> 0 | H116: 4 | L116: =IF(ISNUMBER(J116),J116/H125,) -> 0 | N116: 4 | R116: =IF(ISNUMBER(P116),P116/N125,) -> 0
B117: 5 | F117: =IF(ISNUMBER(D117),D117/B125,) -> 0 | H117: 5 | L117: =IF(ISNUMBER(J117),J117/H125,) -> 0 | N117: 5 | R117: =IF(ISNUMBER(P117),P117/N125,) -> 0
B118: 6 | F118: =IF(ISNUMBER(D118),D118/B125,) -> 0 | H118: 6 | L118: =IF(ISNUMBER(J118),J118/H125,) -> 0 | N118: 6 | R118: =IF(ISNUMBER(P118),P118/N125,) -> 0
B119: 7 | F119: =IF(ISNUMBER(D119),D119/B125,) -> 0 | H119: 7 | L119: =IF(ISNUMBER(J119),J119/H125,) -> 0 | N119: 7 | R119: =IF(ISNUMBER(P119),P119/N125,) -> 0
B120: 8 | F120: =IF(ISNUMBER(D120),D120/B125,) -> 0 | H120: 8 | L120: =IF(ISNUMBER(J120),J120/H125,) -> 0 | N120: 8 | R120: =IF(ISNUMBER(P120),P120/N125,) -> 0
B121: 9 | F121: =IF(ISNUMBER(D121),D121/B125,) -> 0 | H121: 9 | L121: =IF(ISNUMBER(J121),J121/H125,) -> 0 | N121: 9 | R121: =IF(ISNUMBER(P121),P121/N125,) -> 0
B122: 10 | F122: =IF(ISNUMBER(D122),D122/B125,) -> 0 | H122: 10 | L122: =IF(ISNUMBER(J122),J122/H125,) -> 0 | N122: 10 | R122: =IF(ISNUMBER(P122),P122/N125,) -> 0
B123: e1RM | C123: Average Intensity | E123: =IFERROR(IF(COUNT(F113:F122)>0,AVERAGEIF(F113:F122,">0"),0),) -> 0 | H123: e1RM | I123: Average Intensity | K123: =IFERROR(IF(COUNT(L113:L122)>0,AVERAGEIF(L113:L122,">0"),0),) -> 0 | N123: e1RM | O123: Average Intensity | P123: =IFERROR(IF(COUNT(R113:R122)>0,AVERAGEIF(R113:R122,">0"),0),) -> 0 | Q123: sRPE | R123: =IFERROR(Q127*R127,"")
B125: =IFERROR(ROUNDUP(B127/(0.0005*C127^2-0.0342*C127+1.034),0),) -> 0 | C125: nReps | D125: =SUM(C113:C122) -> 0 | E125: Volume | F125: =SUM(C113*D113,C114*D114,C115*D115,C116*D116,C117*D117,C118*D118,C119*D119,C120*D120,C121*D121,C122*D122) -> 0 | H125: =IFERROR(ROUNDUP(H127/(0.0005*I127^2-0.0342*I127+1.034),0),) -> 0 | I125: nReps | J125: =SUM(I113:I122) -> 0 | K125: Volume | L125: =SUM(I113*J113,I114*J114,I115*J115,I116*J116,I117*J117,I118*J118,I119*J119,I120*J120,I121*J121,I122*J122) -> 0 | N125: =IFERROR(ROUNDUP(N127/(0.0005*O127^2-0.0342*O127+1.034),0),) -> 0 | O125: nReps | P125: =SUM(O113:O122) -> 0 | Q125: Volume | R125: =SUM(O113*P113,O114*P114,O115*P115,O116*P116,O117*P117,O118*P118,O119*P119,O120*P120,O121*P121,O122*P122) -> 0
B127: =IFERROR(OFFSET(D112,MATCH(MAX(D113:D122),D113:D122,0),0),"") | C127: =IFERROR(OFFSET(C112,MATCH(MAX(D113:D122),D113:D122,0),0)+(10-OFFSET(E112,MATCH(MAX(D113:D122),D113:D122,0),0)),"") | H127: =IFERROR(OFFSET(J112,MATCH(MAX(J113:J122),J113:J122,0),0),"") | I127: =IFERROR(OFFSET(I112,MATCH(MAX(J113:J122),J113:J122,0),0)+(10-OFFSET(K112,MATCH(MAX(J113:J122),J113:J122,0),0)),"") | N127: =IFERROR(OFFSET(P112,MATCH(MAX(P113:P122),P113:P122,0),0),"") | O127: =IFERROR(OFFSET(O112,MATCH(MAX(P113:P122),P113:P122,0),0)+(10-OFFSET(Q112,MATCH(MAX(P113:P122),P113:P122,0),0)),"") | Q127: =IFERROR(AVERAGE(AVERAGE(E113:E122),AVERAGE(K113:K122),AVERAGE(Q113:Q122)),"") | R127: =SUM(C113:C122,I113:I122,O113:O122) -> 0
B129: Day 5
B133: 1 | C133: ='Training Plan'!O86 -> 0 | H133: 2 | I133: ='Training Plan'!O94 -> 0 | N133: 3 | O133: ='Training Plan'!O102 -> 0
B135: Sets x Reps @RPE / % | D135: ='Training Plan'!O87 -> 0 | H135: Sets x Reps @RPE / % | J135: ='Training Plan'!O95 -> 0 | N135: Sets x Reps @RPE / % | P135: ='Training Plan'!O103 -> 0
B140: Rest Periods | D140: ='Training Plan'!P92 -> 0 | H140: Rest Periods | J140: ='Training Plan'!P100 -> 0 | N140: Rest Periods | P140: ='Training Plan'!P108 -> 0
B142: Sets | C142: Reps | D142: Weight | E142: RPE | F142: Relative Intensity | H142: Sets | I142: Reps | J142: Weight | K142: RPE | L142: Relative Intensity | N142: Sets | O142: Reps | P142: Weight | Q142: RPE | R142: Relative Intensity
B143: 1 | F143: =IF(ISNUMBER(D143),D143/B155,) -> 0 | H143: 1 | L143: =IF(ISNUMBER(J143),J143/H155,) -> 0 | N143: 1 | R143: =IF(ISNUMBER(P143),P143/N155,) -> 0
B144: 2 | F144: =IF(ISNUMBER(D144),D144/B155,) -> 0 | H144: 2 | L144: =IF(ISNUMBER(J144),J144/H155,) -> 0 | N144: 2 | R144: =IF(ISNUMBER(P144),P144/N155,) -> 0
B145: 3 | F145: =IF(ISNUMBER(D145),D145/B155,) -> 0 | H145: 3 | L145: =IF(ISNUMBER(J145),J145/H155,) -> 0 | N145: 3 | R145: =IF(ISNUMBER(P145),P145/N155,) -> 0
B146: 4 | F146: =IF(ISNUMBER(D146),D146/B155,) -> 0 | H146: 4 | L146: =IF(ISNUMBER(J146),J146/H155,) -> 0 | N146: 4 | R146: =IF(ISNUMBER(P146),P146/N155,) -> 0
B147: 5 | F147: =IF(ISNUMBER(D147),D147/B155,) -> 0 | H147: 5 | L147: =IF(ISNUMBER(J147),J147/H155,) -> 0 | N147: 5 | R147: =IF(ISNUMBER(P147),P147/N155,) -> 0
B148: 6 | F148: =IF(ISNUMBER(D148),D148/B155,) -> 0 | H148: 6 | L148: =IF(ISNUMBER(J148),J148/H155,) -> 0 | N148: 6 | R148: =IF(ISNUMBER(P148),P148/N155,) -> 0
B149: 7 | F149: =IF(ISNUMBER(D149),D149/B155,) -> 0 | H149: 7 | L149: =IF(ISNUMBER(J149),J149/H155,) -> 0 | N149: 7 | R149: =IF(ISNUMBER(P149),P149/N155,) -> 0
B150: 8 | F150: =IF(ISNUMBER(D150),D150/B155,) -> 0 | H150: 8 | L150: =IF(ISNUMBER(J150),J150/H155,) -> 0 | N150: 8 | R150: =IF(ISNUMBER(P150),P150/N155,) -> 0
B151: 9 | F151: =IF(ISNUMBER(D151),D151/B155,) -> 0 | H151: 9 | L151: =IF(ISNUMBER(J151),J151/H155,) -> 0 | N151: 9 | R151: =IF(ISNUMBER(P151),P151/N155,) -> 0
B152: 10 | F152: =IF(ISNUMBER(D152),D152/B155,) -> 0 | H152: 10 | L152: =IF(ISNUMBER(J152),J152/H155,) -> 0 | N152: 10 | R152: =IF(ISNUMBER(P152),P152/N155,) -> 0
B153: e1RM | C153: Average Intensity | E153: =IFERROR(IF(COUNT(F143:F152)>0,AVERAGEIF(F143:F152,">0"),0),) -> 0 | H153: e1RM | I153: Average Intensity | K153: =IFERROR(IF(COUNT(L143:L152)>0,AVERAGEIF(L143:L152,">0"),0),) -> 0 | N153: e1RM | O153: Average Intensity | P153: =IFERROR(IF(COUNT(R143:R152)>0,AVERAGEIF(R143:R152,">0"),0),) -> 0 | Q153: sRPE | R153: =IFERROR(Q157*R157,"")
B155: =IFERROR(ROUNDUP(B157/(0.0005*C157^2-0.0342*C157+1.034),0),) -> 0 | C155: nReps | D155: =SUM(C143:C152) -> 0 | E155: Volume | F155: =SUM(C143*D143,C144*D144,C145*D145,C146*D146,C147*D147,C148*D148,C149*D149,C150*D150,C151*D151,C152*D152) -> 0 | H155: =IFERROR(ROUNDUP(H157/(0.0005*I157^2-0.0342*I157+1.034),0),) -> 0 | I155: nReps | J155: =SUM(I143:I152) -> 0 | K155: Volume | L155: =SUM(I143*J143,I144*J144,I145*J145,I146*J146,I147*J147,I148*J148,I149*J149,I150*J150,I151*J151,I152*J152) -> 0 | N155: =IFERROR(ROUNDUP(N157/(0.0005*O157^2-0.0342*O157+1.034),0),) -> 0 | O155: nReps | P155: =SUM(O143:O152) -> 0 | Q155: Volume | R155: =SUM(O143*P143,O144*P144,O145*P145,O146*P146,O147*P147,O148*P148,O149*P149,O150*P150,O151*P151,O152*P152) -> 0
B157: =IFERROR(OFFSET(D142,MATCH(MAX(D143:D152),D143:D152,0),0),"") | C157: =IFERROR(OFFSET(C142,MATCH(MAX(D143:D152),D143:D152,0),0)+(10-OFFSET(E142,MATCH(MAX(D143:D152),D143:D152,0),0)),"") | H157: =IFERROR(OFFSET(J142,MATCH(MAX(J143:J152),J143:J152,0),0),"") | I157: =IFERROR(OFFSET(I142,MATCH(MAX(J143:J152),J143:J152,0),0)+(10-OFFSET(K142,MATCH(MAX(J143:J152),J143:J152,0),0)),"") | N157: =IFERROR(OFFSET(P142,MATCH(MAX(P143:P152),P143:P152,0),0),"") | O157: =IFERROR(OFFSET(O142,MATCH(MAX(P143:P152),P143:P152,0),0)+(10-OFFSET(Q142,MATCH(MAX(P143:P152),P143:P152,0),0)),"") | Q157: =IFERROR(AVERAGE(AVERAGE(E143:E152),AVERAGE(K143:K152),AVERAGE(Q143:Q152)),"") | R157: =SUM(C143:C152,I143:I152,O143:O152) -> 0
B159: General Physical Prepardness (GPP)
C163: ='Training Plan'!C111 -> 0 | F163: ='Training Plan'!F111 -> 0 | I163: ='Training Plan'!I111 -> 0 | L163: ='Training Plan'!L111 -> 0 | O163: ='Training Plan'!O111 -> 0
C165: ='Training Plan'!C112 -> 0 | F165: ='Training Plan'!F112 -> 0 | I165: ='Training Plan'!I112 -> 0 | L165: ='Training Plan'!L112 -> 0 | O165: ='Training Plan'!O112 -> 0
C168: Log | F168: Log | I168: Log | L168: Log | O168: Log
B174: Fatigue Assessement & Comments and Observations
C178: Sleep Quality | E178: Calorie Intake | G178: Perceived Recovery | I178: Perceived Stress | K178: Bodyweight (kg) | M178: Comments and Observations
B180: Day 1
B182: Day 2
B184: Day 3
...

Sheet Week 4
C3: ='Training Plan'!B117 -> 0 | E3: Week 4 Training Log
B9: Day 1
B13: 1 | C13: ='Training Plan'!C121 -> Competition Squat | H13: 2 | I13: ='Training Plan'!C129 -> Competition Bench | N13: 3 | O13: ='Training Plan'!C137 -> Competition Deadlift
B15: Sets x Reps @RPE / % | D15: ='Training Plan'!C122 -> 0 | H15: Sets x Reps @RPE / % | J15: ='Training Plan'!C130 -> 0 | N15: Sets x Reps @RPE / % | P15: ='Training Plan'!C138 -> 0
B20: Rest Periods | D20: ='Training Plan'!D127 -> 0 | H20: Rest Periods | J20: ='Training Plan'!D135 -> 0 | N20: Rest Periods | P20: ='Training Plan'!D143 -> 0
B22: Sets | C22: Reps | D22: Weight | E22: RPE | F22: Relative Intensity | H22: Sets | I22: Reps | J22: Weight | K22: RPE | L22: Relative Intensity | N22: Sets | O22: Reps | P22: Weight | Q22: RPE | R22: Relative Intensity
B23: 1 | C23: 1 | D23: 165 | F23: =IF(ISNUMBER(D23),D23/B35,) -> 0.7173913 | H23: 1 | I23: 1 | J23: 115 | L23: =IF(ISNUMBER(J23),J23/H35,) -> 0.71428571 | N23: 1 | O23: 1 | P23: 215 | R23: =IF(ISNUMBER(P23),P23/N35,) -> 0.71666667
B24: 2 | F24: =IF(ISNUMBER(D24),D24/B35,) -> 0 | H24: 2 | L24: =IF(ISNUMBER(J24),J24/H35,) -> 0 | N24: 2 | R24: =IF(ISNUMBER(P24),P24/N35,) -> 0
B25: 3 | F25: =IF(ISNUMBER(D25),D25/B35,) -> 0 | H25: 3 | L25: =IF(ISNUMBER(J25),J25/H35,) -> 0 | N25: 3 | R25: =IF(ISNUMBER(P25),P25/N35,) -> 0
B26: 4 | F26: =IF(ISNUMBER(D26),D26/B35,) -> 0 | H26: 4 | L26: =IF(ISNUMBER(J26),J26/H35,) -> 0 | N26: 4 | R26: =IF(ISNUMBER(P26),P26/N35,) -> 0
B27: 5 | F27: =IF(ISNUMBER(D27),D27/B35,) -> 0 | H27: 5 | L27: =IF(ISNUMBER(J27),J27/H35,) -> 0 | N27: 5 | R27: =IF(ISNUMBER(P27),P27/N35,) -> 0
B28: 6 | F28: =IF(ISNUMBER(D28),D28/B35,) -> 0 | H28: 6 | L28: =IF(ISNUMBER(J28),J28/H35,) -> 0 | N28: 6 | R28: =IF(ISNUMBER(P28),P28/N35,) -> 0
B29: 7 | F29: =IF(ISNUMBER(D29),D29/B35,) -> 0 | H29: 7 | L29: =IF(ISNUMBER(J29),J29/H35,) -> 0 | N29: 7 | R29: =IF(ISNUMBER(P29),P29/N35,) -> 0
B30: 8 | F30: =IF(ISNUMBER(D30),D30/B35,) -> 0 | H30: 8 | L30: =IF(ISNUMBER(J30),J30/H35,) -> 0 | N30: 8 | R30: =IF(ISNUMBER(P30),P30/N35,) -> 0
B31: 9 | F31: =IF(ISNUMBER(D31),D31/B35,) -> 0 | H31: 9 | L31: =IF(ISNUMBER(J31),J31/H35,) -> 0 | N31: 9 | R31: =IF(ISNUMBER(P31),P31/N35,) -> 0
B32: 10 | F32: =IF(ISNUMBER(D32),D32/B35,) -> 0 | H32: 10 | L32: =IF(ISNUMBER(J32),J32/H35,) -> 0 | N32: 10 | R32: =IF(ISNUMBER(P32),P32/N35,) -> 0
B33: e1RM | C33: Average Intensity | E33: =IFERROR(IF(COUNT(F23:F32)>0,AVERAGEIF(F23:F32,">0"),0),) -> 0.7173913 | H33: e1RM | I33: Average Intensity | K33: =IFERROR(IF(COUNT(L23:L32)>0,AVERAGEIF(L23:L32,">0"),0),) -> 0.71428571 | N33: e1RM | O33: Average Intensity | P33: =IFERROR(IF(COUNT(R23:R32)>0,AVERAGEIF(R23:R32,">0"),0),) -> 0.71666667 | Q33: sRPE | R33: =IFERROR(Q37*R37,"")
B35: =IFERROR(ROUNDUP(B37/(0.0005*C37^2-0.0342*C37+1.034),0),) -> 230 | C35: nReps | D35: =SUM(C23:C32) -> 1 | E35: Volume | F35: =SUM(C23*D23,C24*D24,C25*D25,C26*D26,C27*D27,C28*D28,C29*D29,C30*D30,C31*D31,C32*D32) -> 165 | H35: =IFERROR(ROUNDUP(H37/(0.0005*I37^2-0.0342*I37+1.034),0),) -> 161 | I35: nReps | J35: =SUM(I23:I32) -> 1 | K35: Volume | L35: =SUM(I23*J23,I24*J24,I25*J25,I26*J26,I27*J27,I28*J28,I29*J29,I30*J30,I31*J31,I32*J32) -> 115 | N35: =IFERROR(ROUNDUP(N37/(0.0005*O37^2-0.0342*O37+1.034),0),) -> 300 | O35: nReps | P35: =SUM(O23:O32) -> 1 | Q35: Volume | R35: =SUM(O23*P23,O24*P24,O25*P25,O26*P26,O27*P27,O28*P28,O29*P29,O30*P30,O31*P31,O32*P32) -> 215
B37: =IFERROR(OFFSET(D22,MATCH(MAX(D23:D32),D23:D32,0),0),"") -> 165 | C37: =IFERROR(OFFSET(C22,MATCH(MAX(D23:D32),D23:D32,0),0)+(10-OFFSET(E22,MATCH(MAX(D23:D32),D23:D32,0),0)),"") -> 11 | H37: =IFERROR(OFFSET(J22,MATCH(MAX(J23:J32),J23:J32,0),0),"") -> 115 | I37: =IFERROR(OFFSET(I22,MATCH(MAX(J23:J32),J23:J32,0),0)+(10-OFFSET(K22,MATCH(MAX(J23:J32),J23:J32,0),0)),"") -> 11 | N37: =IFERROR(OFFSET(P22,MATCH(MAX(P23:P32),P23:P32,0),0),"") -> 215 | O37: =IFERROR(OFFSET(O22,MATCH(MAX(P23:P32),P23:P32,0),0)+(10-OFFSET(Q22,MATCH(MAX(P23:P32),P23:P32,0),0)),"") -> 11 | Q37: =IFERROR(AVERAGE(AVERAGE(E23:E32),AVERAGE(K23:K32),AVERAGE(Q23:Q32)),"") | R37: =SUM(C23:C32,I23:I32,O23:O32) -> 3
B39: Day 2
B43: 1 | C43: ='Training Plan'!F121 -> 0 | H43: 2 | I43: ='Training Plan'!F129 -> 0 | N43: 3 | O43: ='Training Plan'!F137 -> 0
B45: Sets x Reps @RPE / % | D45: ='Training Plan'!F122 -> 0 | H45: Sets x Reps @RPE / % | J45: ='Training Plan'!F130 -> 0 | N45: Sets x Reps @RPE / % | P45: ='Training Plan'!F138 -> 0
B50: Rest Periods | D50: ='Training Plan'!G127 -> 0 | H50: Rest Periods | J50: ='Training Plan'!G135 -> 0 | N50: Rest Periods | P50: ='Training Plan'!G143 -> 0
B52: Sets | C52: Reps | D52: Weight | E52: RPE | F52: Relative Intensity | H52: Sets | I52: Reps | J52: Weight | K52: RPE | L52: Relative Intensity | N52: Sets | O52: Reps | P52: Weight | Q52: RPE | R52: Relative Intensity
B53: 1 | F53: =IF(ISNUMBER(D53),D53/B65,) -> 0 | H53: 1 | L53: =IF(ISNUMBER(J53),J53/H65,) -> 0 | N53: 1 | R53: =IF(ISNUMBER(P53),P53/N65,) -> 0
B54: 2 | F54: =IF(ISNUMBER(D54),D54/B65,) -> 0 | H54: 2 | L54: =IF(ISNUMBER(J54),J54/H65,) -> 0 | N54: 2 | R54: =IF(ISNUMBER(P54),P54/N65,) -> 0
B55: 3 | F55: =IF(ISNUMBER(D55),D55/B65,) -> 0 | H55: 3 | L55: =IF(ISNUMBER(J55),J55/H65,) -> 0 | N55: 3 | R55: =IF(ISNUMBER(P55),P55/N65,) -> 0
B56: 4 | F56: =IF(ISNUMBER(D56),D56/B65,) -> 0 | H56: 4 | L56: =IF(ISNUMBER(J56),J56/H65,) -> 0 | N56: 4 | R56: =IF(ISNUMBER(P56),P56/N65,) -> 0
B57: 5 | F57: =IF(ISNUMBER(D57),D57/B65,) -> 0 | H57: 5 | L57: =IF(ISNUMBER(J57),J57/H65,) -> 0 | N57: 5 | R57: =IF(ISNUMBER(P57),P57/N65,) -> 0
B58: 6 | F58: =IF(ISNUMBER(D58),D58/B65,) -> 0 | H58: 6 | L58: =IF(ISNUMBER(J58),J58/H65,) -> 0 | N58: 6 | R58: =IF(ISNUMBER(P58),P58/N65,) -> 0
B59: 7 | F59: =IF(ISNUMBER(D59),D59/B65,) -> 0 | H59: 7 | L59: =IF(ISNUMBER(J59),J59/H65,) -> 0 | N59: 7 | R59: =IF(ISNUMBER(P59),P59/N65,) -> 0
B60: 8 | F60: =IF(ISNUMBER(D60),D60/B65,) -> 0 | H60: 8 | L60: =IF(ISNUMBER(J60),J60/H65,) -> 0 | N60: 8 | R60: =IF(ISNUMBER(P60),P60/N65,) -> 0
B61: 9 | F61: =IF(ISNUMBER(D61),D61/B65,) -> 0 | H61: 9 | L61: =IF(ISNUMBER(J61),J61/H65,) -> 0 | N61: 9 | R61: =IF(ISNUMBER(P61),P61/N65,) -> 0
B62: 10 | F62: =IF(ISNUMBER(D62),D62/B65,) -> 0 | H62: 10 | L62: =IF(ISNUMBER(J62),J62/H65,) -> 0 | N62: 10 | R62: =IF(ISNUMBER(P62),P62/N65,) -> 0
B63: e1RM | C63: Average Intensity | E63: =IFERROR(IF(COUNT(F53:F62)>0,AVERAGEIF(F53:F62,">0"),0),) -> 0 | H63: e1RM | I63: Average Intensity | K63: =IFERROR(IF(COUNT(L53:L62)>0,AVERAGEIF(L53:L62,">0"),0),) -> 0 | N63: e1RM | O63: Average Intensity | P63: =IFERROR(IF(COUNT(R53:R62)>0,AVERAGEIF(R53:R62,">0"),0),) -> 0 | Q63: sRPE | R63: =IFERROR(Q67*R67,"")
B65: =IFERROR(ROUNDUP(B67/(0.0005*C67^2-0.0342*C67+1.034),0),) -> 0 | C65: nReps | D65: =SUM(C53:C62) -> 0 | E65: Volume | F65: =SUM(C53*D53,C54*D54,C55*D55,C56*D56,C57*D57,C58*D58,C59*D59,C60*D60,C61*D61,C62*D62) -> 0 | H65: =IFERROR(ROUNDUP(H67/(0.0005*I67^2-0.0342*I67+1.034),0),) -> 0 | I65: nReps | J65: =SUM(I53:I62) -> 0 | K65: Volume | L65: =SUM(I53*J53,I54*J54,I55*J55,I56*J56,I57*J57,I58*J58,I59*J59,I60*J60,I61*J61,I62*J62) -> 0 | N65: =IFERROR(ROUNDUP(N67/(0.0005*O67^2-0.0342*O67+1.034),0),) -> 0 | O65: nReps | P65: =SUM(O53:O62) -> 0 | Q65: Volume | R65: =SUM(O53*P53,O54*P54,O55*P55,O56*P56,O57*P57,O58*P58,O59*P59,O60*P60,O61*P61,O62*P62) -> 0
B67: =IFERROR(OFFSET(D52,MATCH(MAX(D53:D62),D53:D62,0),0),"") | C67: =IFERROR(OFFSET(C52,MATCH(MAX(D53:D62),D53:D62,0),0)+(10-OFFSET(E52,MATCH(MAX(D53:D62),D53:D62,0),0)),"") | H67: =IFERROR(OFFSET(J52,MATCH(MAX(J53:J62),J53:J62,0),0),"") | I67: =IFERROR(OFFSET(I52,MATCH(MAX(J53:J62),J53:J62,0),0)+(10-OFFSET(K52,MATCH(MAX(J53:J62),J53:J62,0),0)),"") | N67: =IFERROR(OFFSET(P52,MATCH(MAX(P53:P62),P53:P62,0),0),"") | O67: =IFERROR(OFFSET(O52,MATCH(MAX(P53:P62),P53:P62,0),0)+(10-OFFSET(Q52,MATCH(MAX(P53:P62),P53:P62,0),0)),"") | Q67: =IFERROR(AVERAGE(AVERAGE(E53:E62),AVERAGE(K53:K62),AVERAGE(Q53:Q62)),"") | R67: =SUM(C53:C62,I53:I62,O53:O62) -> 0
B69: Day 3
B73: 1 | C73: ='Training Plan'!I121 -> 0 | H73: 2 | I73: ='Training Plan'!I129 -> 0 | N73: 3 | O73: ='Training Plan'!I137 -> 0
B75: Sets x Reps @RPE / % | D75: ='Training Plan'!I122 -> 0 | H75: Sets x Reps @RPE / % | J75: ='Training Plan'!I130 -> 0 | N75: Sets x Reps @RPE / % | P75: ='Training Plan'!I138 -> 0
B80: Rest Periods | D80: ='Training Plan'!J127 -> 0 | H80: Rest Periods | J80: ='Training Plan'!J135 -> 0 | N80: Rest Periods | P80: ='Training Plan'!J143 -> 0
B82: Sets | C82: Reps | D82: Weight | E82: RPE | F82: Relative Intensity | H82: Sets | I82: Reps | J82: Weight | K82: RPE | L82: Relative Intensity | N82: Sets | O82: Reps | P82: Weight | Q82: RPE | R82: Relative Intensity
B83: 1 | F83: =IF(ISNUMBER(D83),D83/B95,) -> 0 | H83: 1 | L83: =IF(ISNUMBER(J83),J83/H95,) -> 0 | N83: 1 | R83: =IF(ISNUMBER(P83),P83/N95,) -> 0
B84: 2 | F84: =IF(ISNUMBER(D84),D84/B95,) -> 0 | H84: 2 | L84: =IF(ISNUMBER(J84),J84/H95,) -> 0 | N84: 2 | R84: =IF(ISNUMBER(P84),P84/N95,) -> 0
B85: 3 | F85: =IF(ISNUMBER(D85),D85/B95,) -> 0 | H85: 3 | L85: =IF(ISNUMBER(J85),J85/H95,) -> 0 | N85: 3 | R85: =IF(ISNUMBER(P85),P85/N95,) -> 0
B86: 4 | F86: =IF(ISNUMBER(D86),D86/B95,) -> 0 | H86: 4 | L86: =IF(ISNUMBER(J86),J86/H95,) -> 0 | N86: 4 | R86: =IF(ISNUMBER(P86),P86/N95,) -> 0
B87: 5 | F87: =IF(ISNUMBER(D87),D87/B95,) -> 0 | H87: 5 | L87: =IF(ISNUMBER(J87),J87/H95,) -> 0 | N87: 5 | R87: =IF(ISNUMBER(P87),P87/N95,) -> 0
B88: 6 | F88: =IF(ISNUMBER(D88),D88/B95,) -> 0 | H88: 6 | L88: =IF(ISNUMBER(J88),J88/H95,) -> 0 | N88: 6 | R88: =IF(ISNUMBER(P88),P88/N95,) -> 0
B89: 7 | F89: =IF(ISNUMBER(D89),D89/B95,) -> 0 | H89: 7 | L89: =IF(ISNUMBER(J89),J89/H95,) -> 0 | N89: 7 | R89: =IF(ISNUMBER(P89),P89/N95,) -> 0
B90: 8 | F90: =IF(ISNUMBER(D90),D90/B95,) -> 0 | H90: 8 | L90: =IF(ISNUMBER(J90),J90/H95,) -> 0 | N90: 8 | R90: =IF(ISNUMBER(P90),P90/N95,) -> 0
B91: 9 | F91: =IF(ISNUMBER(D91),D91/B95,) -> 0 | H91: 9 | L91: =IF(ISNUMBER(J91),J91/H95,) -> 0 | N91: 9 | R91: =IF(ISNUMBER(P91),P91/N95,) -> 0
B92: 10 | F92: =IF(ISNUMBER(D92),D92/B95,) -> 0 | H92: 10 | L92: =IF(ISNUMBER(J92),J92/H95,) -> 0 | N92: 10 | R92: =IF(ISNUMBER(P92),P92/N95,) -> 0
B93: e1RM | C93: Average Intensity | E93: =IFERROR(IF(COUNT(F83:F92)>0,AVERAGEIF(F83:F92,">0"),0),) -> 0 | H93: e1RM | I93: Average Intensity | K93: =IFERROR(IF(COUNT(L83:L92)>0,AVERAGEIF(L83:L92,">0"),0),) -> 0 | N93: e1RM | O93: Average Intensity | P93: =IFERROR(IF(COUNT(R83:R92)>0,AVERAGEIF(R83:R92,">0"),0),) -> 0 | Q93: sRPE | R93: =IFERROR(Q97*R97,"")
B95: =IFERROR(ROUNDUP(B97/(0.0005*C97^2-0.0342*C97+1.034),0),) -> 0 | C95: nReps | D95: =SUM(C83:C92) -> 0 | E95: Volume | F95: =SUM(C83*D83,C84*D84,C85*D85,C86*D86,C87*D87,C88*D88,C89*D89,C90*D90,C91*D91,C92*D92) -> 0 | H95: =IFERROR(ROUNDUP(H97/(0.0005*I97^2-0.0342*I97+1.034),0),) -> 0 | I95: nReps | J95: =SUM(I83:I92) -> 0 | K95: Volume | L95: =SUM(I83*J83,I84*J84,I85*J85,I86*J86,I87*J87,I88*J88,I89*J89,I90*J90,I91*J91,I92*J92) -> 0 | N95: =IFERROR(ROUNDUP(N97/(0.0005*O97^2-0.0342*O97+1.034),0),) -> 0 | O95: nReps | P95: =SUM(O83:O92) -> 0 | Q95: Volume | R95: =SUM(O83*P83,O84*P84,O85*P85,O86*P86,O87*P87,O88*P88,O89*P89,O90*P90,O91*P91,O92*P92) -> 0
B97: =IFERROR(OFFSET(D82,MATCH(MAX(D83:D92),D83:D92,0),0),"") | C97: =IFERROR(OFFSET(C82,MATCH(MAX(D83:D92),D83:D92,0),0)+(10-OFFSET(E82,MATCH(MAX(D83:D92),D83:D92,0),0)),"") | H97: =IFERROR(OFFSET(J82,MATCH(MAX(J83:J92),J83:J92,0),0),"") | I97: =IFERROR(OFFSET(I82,MATCH(MAX(J83:J92),J83:J92,0),0)+(10-OFFSET(K82,MATCH(MAX(J83:J92),J83:J92,0),0)),"") | N97: =IFERROR(OFFSET(P82,MATCH(MAX(P83:P92),P83:P92,0),0),"") | O97: =IFERROR(OFFSET(O82,MATCH(MAX(P83:P92),P83:P92,0),0)+(10-OFFSET(Q82,MATCH(MAX(P83:P92),P83:P92,0),0)),"") | Q97: =IFERROR(AVERAGE(AVERAGE(E83:E92),AVERAGE(K83:K92),AVERAGE(Q83:Q92)),"") | R97: =SUM(C83:C92,I83:I92,O83:O92) -> 0
B99: Day 4
B103: 1 | C103: ='Training Plan'!L121 -> 0 | H103: 2 | I103: ='Training Plan'!L129 -> 0 | N103: 3 | O103: ='Training Plan'!L137 -> 0
B105: Sets x Reps @RPE / % | D105: ='Training Plan'!L122 -> 0 | H105: Sets x Reps @RPE / % | J105: ='Training Plan'!L130 -> 0 | N105: Sets x Reps @RPE / % | P105: ='Training Plan'!L138 -> 0
B110: Rest Periods | D110: ='Training Plan'!M127 -> 0 | H110: Rest Periods | J110: ='Training Plan'!M135 -> 0 | N110: Rest Periods | P110: ='Training Plan'!M143 -> 0
B112: Sets | C112: Reps | D112: Weight | E112: RPE | F112: Relative Intensity | H112: Sets | I112: Reps | J112: Weight | K112: RPE | L112: Relative Intensity | N112: Sets | O112: Reps | P112: Weight | Q112: RPE | R112: Relative Intensity
B113: 1 | F113: =IF(ISNUMBER(D113),D113/B125,) -> 0 | H113: 1 | L113: =IF(ISNUMBER(J113),J113/H125,) -> 0 | N113: 1 | R113: =IF(ISNUMBER(P113),P113/N125,) -> 0
B114: 2 | F114: =IF(ISNUMBER(D114),D114/B125,) -> 0 | H114: 2 | L114: =IF(ISNUMBER(J114),J114/H125,) -> 0 | N114: 2 | R114: =IF(ISNUMBER(P114),P114/N125,) -> 0
B115: 3 | F115: =IF(ISNUMBER(D115),D115/B125,) -> 0 | H115: 3 | L115: =IF(ISNUMBER(J115),J115/H125,) -> 0 | N115: 3 | R115: =IF(ISNUMBER(P115),P115/N125,) -> 0
B116: 4 | F116: =IF(ISNUMBER(D116),D116/B125,) -> 0 | H116: 4 | L116: =IF(ISNUMBER(J116),J116/H125,) -> 0 | N116: 4 | R116: =IF(ISNUMBER(P116),P116/N125,) -> 0
B117: 5 | F117: =IF(ISNUMBER(D117),D117/B125,) -> 0 | H117: 5 | L117: =IF(ISNUMBER(J117),J117/H125,) -> 0 | N117: 5 | R117: =IF(ISNUMBER(P117),P117/N125,) -> 0
B118: 6 | F118: =IF(ISNUMBER(D118),D118/B125,) -> 0 | H118: 6 | L118: =IF(ISNUMBER(J118),J118/H125,) -> 0 | N118: 6 | R118: =IF(ISNUMBER(P118),P118/N125,) -> 0
B119: 7 | F119: =IF(ISNUMBER(D119),D119/B125,) -> 0 | H119: 7 | L119: =IF(ISNUMBER(J119),J119/H125,) -> 0 | N119: 7 | R119: =IF(ISNUMBER(P119),P119/N125,) -> 0
B120: 8 | F120: =IF(ISNUMBER(D120),D120/B125,) -> 0 | H120: 8 | L120: =IF(ISNUMBER(J120),J120/H125,) -> 0 | N120: 8 | R120: =IF(ISNUMBER(P120),P120/N125,) -> 0
B121: 9 | F121: =IF(ISNUMBER(D121),D121/B125,) -> 0 | H121: 9 | L121: =IF(ISNUMBER(J121),J121/H125,) -> 0 | N121: 9 | R121: =IF(ISNUMBER(P121),P121/N125,) -> 0
B122: 10 | F122: =IF(ISNUMBER(D122),D122/B125,) -> 0 | H122: 10 | L122: =IF(ISNUMBER(J122),J122/H125,) -> 0 | N122: 10 | R122: =IF(ISNUMBER(P122),P122/N125,) -> 0
B123: e1RM | C123: Average Intensity | E123: =IFERROR(IF(COUNT(F113:F122)>0,AVERAGEIF(F113:F122,">0"),0),) -> 0 | H123: e1RM | I123: Average Intensity | K123: =IFERROR(IF(COUNT(L113:L122)>0,AVERAGEIF(L113:L122,">0"),0),) -> 0 | N123: e1RM | O123: Average Intensity | P123: =IFERROR(IF(COUNT(R113:R122)>0,AVERAGEIF(R113:R122,">0"),0),) -> 0 | Q123: sRPE | R123: =IFERROR(Q127*R127,"")
B125: =IFERROR(ROUNDUP(B127/(0.0005*C127^2-0.0342*C127+1.034),0),) -> 0 | C125: nReps | D125: =SUM(C113:C122) -> 0 | E125: Volume | F125: =SUM(C113*D113,C114*D114,C115*D115,C116*D116,C117*D117,C118*D118,C119*D119,C120*D120,C121*D121,C122*D122) -> 0 | H125: =IFERROR(ROUNDUP(H127/(0.0005*I127^2-0.0342*I127+1.034),0),) -> 0 | I125: nReps | J125: =SUM(I113:I122) -> 0 | K125: Volume | L125: =SUM(I113*J113,I114*J114,I115*J115,I116*J116,I117*J117,I118*J118,I119*J119,I120*J120,I121*J121,I122*J122) -> 0 | N125: =IFERROR(ROUNDUP(N127/(0.0005*O127^2-0.0342*O127+1.034),0),) -> 0 | O125: nReps | P125: =SUM(O113:O122) -> 0 | Q125: Volume | R125: =SUM(O113*P113,O114*P114,O115*P115,O116*P116,O117*P117,O118*P118,O119*P119,O120*P120,O121*P121,O122*P122) -> 0
B127: =IFERROR(OFFSET(D112,MATCH(MAX(D113:D122),D113:D122,0),0),"") | C127: =IFERROR(OFFSET(C112,MATCH(MAX(D113:D122),D113:D122,0),0)+(10-OFFSET(E112,MATCH(MAX(D113:D122),D113:D122,0),0)),"") | H127: =IFERROR(OFFSET(J112,MATCH(MAX(J113:J122),J113:J122,0),0),"") | I127: =IFERROR(OFFSET(I112,MATCH(MAX(J113:J122),J113:J122,0),0)+(10-OFFSET(K112,MATCH(MAX(J113:J122),J113:J122,0),0)),"") | N127: =IFERROR(OFFSET(P112,MATCH(MAX(P113:P122),P113:P122,0),0),"") | O127: =IFERROR(OFFSET(O112,MATCH(MAX(P113:P122),P113:P122,0),0)+(10-OFFSET(Q112,MATCH(MAX(P113:P122),P113:P122,0),0)),"") | Q127: =IFERROR(AVERAGE(AVERAGE(E113:E122),AVERAGE(K113:K122),AVERAGE(Q113:Q122)),"") | R127: =SUM(C113:C122,I113:I122,O113:O122) -> 0
B129: Day 5
B133: 1 | C133: ='Training Plan'!O121 -> 0 | H133: 2 | I133: ='Training Plan'!O129 -> 0 | N133: 3 | O133: ='Training Plan'!O137 -> 0
B135: Sets x Reps @RPE / % | D135: ='Training Plan'!O122 -> 0 | H135: Sets x Reps @RPE / % | J135: ='Training Plan'!O130 -> 0 | N135: Sets x Reps @RPE / % | P135: ='Training Plan'!O138 -> 0
B140: Rest Periods | D140: ='Training Plan'!P127 -> 0 | H140: Rest Periods | J140: ='Training Plan'!P135 -> 0 | N140: Rest Periods | P140: ='Training Plan'!P143 -> 0
B142: Sets | C142: Reps | D142: Weight | E142: RPE | F142: Relative Intensity | H142: Sets | I142: Reps | J142: Weight | K142: RPE | L142: Relative Intensity | N142: Sets | O142: Reps | P142: Weight | Q142: RPE | R142: Relative Intensity
B143: 1 | F143: =IF(ISNUMBER(D143),D143/B155,) -> 0 | H143: 1 | L143: =IF(ISNUMBER(J143),J143/H155,) -> 0 | N143: 1 | R143: =IF(ISNUMBER(P143),P143/N155,) -> 0
B144: 2 | F144: =IF(ISNUMBER(D144),D144/B155,) -> 0 | H144: 2 | L144: =IF(ISNUMBER(J144),J144/H155,) -> 0 | N144: 2 | R144: =IF(ISNUMBER(P144),P144/N155,) -> 0
B145: 3 | F145: =IF(ISNUMBER(D145),D145/B155,) -> 0 | H145: 3 | L145: =IF(ISNUMBER(J145),J145/H155,) -> 0 | N145: 3 | R145: =IF(ISNUMBER(P145),P145/N155,) -> 0
B146: 4 | F146: =IF(ISNUMBER(D146),D146/B155,) -> 0 | H146: 4 | L146: =IF(ISNUMBER(J146),J146/H155,) -> 0 | N146: 4 | R146: =IF(ISNUMBER(P146),P146/N155,) -> 0
B147: 5 | F147: =IF(ISNUMBER(D147),D147/B155,) -> 0 | H147: 5 | L147: =IF(ISNUMBER(J147),J147/H155,) -> 0 | N147: 5 | R147: =IF(ISNUMBER(P147),P147/N155,) -> 0
B148: 6 | F148: =IF(ISNUMBER(D148),D148/B155,) -> 0 | H148: 6 | L148: =IF(ISNUMBER(J148),J148/H155,) -> 0 | N148: 6 | R148: =IF(ISNUMBER(P148),P148/N155,) -> 0
B149: 7 | F149: =IF(ISNUMBER(D149),D149/B155,) -> 0 | H149: 7 | L149: =IF(ISNUMBER(J149),J149/H155,) -> 0 | N149: 7 | R149: =IF(ISNUMBER(P149),P149/N155,) -> 0
B150: 8 | F150: =IF(ISNUMBER(D150),D150/B155,) -> 0 | H150: 8 | L150: =IF(ISNUMBER(J150),J150/H155,) -> 0 | N150: 8 | R150: =IF(ISNUMBER(P150),P150/N155,) -> 0
B151: 9 | F151: =IF(ISNUMBER(D151),D151/B155,) -> 0 | H151: 9 | L151: =IF(ISNUMBER(J151),J151/H155,) -> 0 | N151: 9 | R151: =IF(ISNUMBER(P151),P151/N155,) -> 0
B152: 10 | F152: =IF(ISNUMBER(D152),D152/B155,) -> 0 | H152: 10 | L152: =IF(ISNUMBER(J152),J152/H155,) -> 0 | N152: 10 | R152: =IF(ISNUMBER(P152),P152/N155,) -> 0
B153: e1RM | C153: Average Intensity | E153: =IFERROR(IF(COUNT(F143:F152)>0,AVERAGEIF(F143:F152,">0"),0),) -> 0 | H153: e1RM | I153: Average Intensity | K153: =IFERROR(IF(COUNT(L143:L152)>0,AVERAGEIF(L143:L152,">0"),0),) -> 0 | N153: e1RM | O153: Average Intensity | P153: =IFERROR(IF(COUNT(R143:R152)>0,AVERAGEIF(R143:R152,">0"),0),) -> 0 | Q153: sRPE | R153: =IFERROR(Q157*R157,"")
B155: =IFERROR(ROUNDUP(B157/(0.0005*C157^2-0.0342*C157+1.034),0),) -> 0 | C155: nReps | D155: =SUM(C143:C152) -> 0 | E155: Volume | F155: =SUM(C143*D143,C144*D144,C145*D145,C146*D146,C147*D147,C148*D148,C149*D149,C150*D150,C151*D151,C152*D152) -> 0 | H155: =IFERROR(ROUNDUP(H157/(0.0005*I157^2-0.0342*I157+1.034),0),) -> 0 | I155: nReps | J155: =SUM(I143:I152) -> 0 | K155: Volume | L155: =SUM(I143*J143,I144*J144,I145*J145,I146*J146,I147*J147,I148*J148,I149*J149,I150*J150,I151*J151,I152*J152) -> 0 | N155: =IFERROR(ROUNDUP(N157/(0.0005*O157^2-0.0342*O157+1.034),0),) -> 0 | O155: nReps | P155: =SUM(O143:O152) -> 0 | Q155: Volume | R155: =SUM(O143*P143,O144*P144,O145*P145,O146*P146,O147*P147,O148*P148,O149*P149,O150*P150,O151*P151,O152*P152) -> 0
B157: =IFERROR(OFFSET(D142,MATCH(MAX(D143:D152),D143:D152,0),0),"") | C157: =IFERROR(OFFSET(C142,MATCH(MAX(D143:D152),D143:D152,0),0)+(10-OFFSET(E142,MATCH(MAX(D143:D152),D143:D152,0),0)),"") | H157: =IFERROR(OFFSET(J142,MATCH(MAX(J143:J152),J143:J152,0),0),"") | I157: =IFERROR(OFFSET(I142,MATCH(MAX(J143:J152),J143:J152,0),0)+(10-OFFSET(K142,MATCH(MAX(J143:J152),J143:J152,0),0)),"") | N157: =IFERROR(OFFSET(P142,MATCH(MAX(P143:P152),P143:P152,0),0),"") | O157: =IFERROR(OFFSET(O142,MATCH(MAX(P143:P152),P143:P152,0),0)+(10-OFFSET(Q142,MATCH(MAX(P143:P152),P143:P152,0),0)),"") | Q157: =IFERROR(AVERAGE(AVERAGE(E143:E152),AVERAGE(K143:K152),AVERAGE(Q143:Q152)),"") | R157: =SUM(C143:C152,I143:I152,O143:O152) -> 0
B159: General Physical Prepardness (GPP)
C163: ='Training Plan'!C146 -> 0 | F163: ='Training Plan'!F146 -> 0 | I163: ='Training Plan'!I146 -> 0 | L163: ='Training Plan'!L146 -> 0 | O163: ='Training Plan'!O146 -> 0
C165: ='Training Plan'!C147 -> 0 | F165: ='Training Plan'!F147 -> 0 | I165: ='Training Plan'!I147 -> 0 | L165: ='Training Plan'!L147 -> 0 | O165: ='Training Plan'!O147 -> 0
C168: Log | F168: Log | I168: Log | L168: Log | O168: Log
B174: Fatigue Assessement & Comments and Observations
C178: Sleep Quality | E178: Calorie Intake | G178: Perceived Recovery | I178: Perceived Stress | K178: Bodyweight (kg) | M178: Comments and Observations
B180: Day 1
B182: Day 2
B184: Day 3
...

Sheet Week 5
C3: ='Training Plan'!B152 -> 0 | E3: Week 5 Training Log
B9: Day 1
B13: 1 | C13: ='Training Plan'!C156 -> Competition Squat | H13: 2 | I13: ='Training Plan'!C164 -> Competition Bench | N13: 3 | O13: ='Training Plan'!C172 -> Competition Deadlift
B15: Sets x Reps @RPE / % | D15: ='Training Plan'!C157 -> 0 | H15: Sets x Reps @RPE / % | J15: ='Training Plan'!C165 -> 0 | N15: Sets x Reps @RPE / % | P15: ='Training Plan'!C173 -> 0
B20: Rest Periods | D20: ='Training Plan'!D162 -> 0 | H20: Rest Periods | J20: ='Training Plan'!D170 -> 0 | N20: Rest Periods | P20: ='Training Plan'!D178 -> 0
B22: Sets | C22: Reps | D22: Weight | E22: RPE | F22: Relative Intensity | H22: Sets | I22: Reps | J22: Weight | K22: RPE | L22: Relative Intensity | N22: Sets | O22: Reps | P22: Weight | Q22: RPE | R22: Relative Intensity
B23: 1 | C23: 1 | D23: 170 | F23: =IF(ISNUMBER(D23),D23/B35,) -> 0.71729958 | H23: 1 | I23: 1 | J23: 120 | L23: =IF(ISNUMBER(J23),J23/H35,) -> 0.71428571 | N23: 1 | O23: 1 | P23: 220 | R23: =IF(ISNUMBER(P23),P23/N35,) -> 0.71661238
B24: 2 | F24: =IF(ISNUMBER(D24),D24/B35,) -> 0 | H24: 2 | L24: =IF(ISNUMBER(J24),J24/H35,) -> 0 | N24: 2 | R24: =IF(ISNUMBER(P24),P24/N35,) -> 0
B25: 3 | F25: =IF(ISNUMBER(D25),D25/B35,) -> 0 | H25: 3 | L25: =IF(ISNUMBER(J25),J25/H35,) -> 0 | N25: 3 | R25: =IF(ISNUMBER(P25),P25/N35,) -> 0
B26: 4 | F26: =IF(ISNUMBER(D26),D26/B35,) -> 0 | H26: 4 | L26: =IF(ISNUMBER(J26),J26/H35,) -> 0 | N26: 4 | R26: =IF(ISNUMBER(P26),P26/N35,) -> 0
B27: 5 | F27: =IF(ISNUMBER(D27),D27/B35,) -> 0 | H27: 5 | L27: =IF(ISNUMBER(J27),J27/H35,) -> 0 | N27: 5 | R27: =IF(ISNUMBER(P27),P27/N35,) -> 0
B28: 6 | F28: =IF(ISNUMBER(D28),D28/B35,) -> 0 | H28: 6 | L28: =IF(ISNUMBER(J28),J28/H35,) -> 0 | N28: 6 | R28: =IF(ISNUMBER(P28),P28/N35,) -> 0
B29: 7 | F29: =IF(ISNUMBER(D29),D29/B35,) -> 0 | H29: 7 | L29: =IF(ISNUMBER(J29),J29/H35,) -> 0 | N29: 7 | R29: =IF(ISNUMBER(P29),P29/N35,) -> 0
B30: 8 | F30: =IF(ISNUMBER(D30),D30/B35,) -> 0 | H30: 8 | L30: =IF(ISNUMBER(J30),J30/H35,) -> 0 | N30: 8 | R30: =IF(ISNUMBER(P30),P30/N35,) -> 0
B31: 9 | F31: =IF(ISNUMBER(D31),D31/B35,) -> 0 | H31: 9 | L31: =IF(ISNUMBER(J31),J31/H35,) -> 0 | N31: 9 | R31: =IF(ISNUMBER(P31),P31/N35,) -> 0
B32: 10 | F32: =IF(ISNUMBER(D32),D32/B35,) -> 0 | H32: 10 | L32: =IF(ISNUMBER(J32),J32/H35,) -> 0 | N32: 10 | R32: =IF(ISNUMBER(P32),P32/N35,) -> 0
B33: e1RM | C33: Average Intensity | E33: =IFERROR(IF(COUNT(F23:F32)>0,AVERAGEIF(F23:F32,">0"),0),) -> 0.71729958 | H33: e1RM | I33: Average Intensity | K33: =IFERROR(IF(COUNT(L23:L32)>0,AVERAGEIF(L23:L32,">0"),0),) -> 0.71428571 | N33: e1RM | O33: Average Intensity | P33: =IFERROR(IF(COUNT(R23:R32)>0,AVERAGEIF(R23:R32,">0"),0),) -> 0.71661238 | Q33: sRPE | R33: =IFERROR(Q37*R37,"")
B35: =IFERROR(ROUNDUP(B37/(0.0005*C37^2-0.0342*C37+1.034),0),) -> 237 | C35: nReps | D35: =SUM(C23:C32) -> 1 | E35: Volume | F35: =SUM(C23*D23,C24*D24,C25*D25,C26*D26,C27*D27,C28*D28,C29*D29,C30*D30,C31*D31,C32*D32) -> 170 | H35: =IFERROR(ROUNDUP(H37/(0.0005*I37^2-0.0342*I37+1.034),0),) -> 168 | I35: nReps | J35: =SUM(I23:I32) -> 1 | K35: Volume | L35: =SUM(I23*J23,I24*J24,I25*J25,I26*J26,I27*J27,I28*J28,I29*J29,I30*J30,I31*J31,I32*J32) -> 120 | N35: =IFERROR(ROUNDUP(N37/(0.0005*O37^2-0.0342*O37+1.034),0),) -> 307 | O35: nReps | P35: =SUM(O23:O32) -> 1 | Q35: Volume | R35: =SUM(O23*P23,O24*P24,O25*P25,O26*P26,O27*P27,O28*P28,O29*P29,O30*P30,O31*P31,O32*P32) -> 220
B37: =IFERROR(OFFSET(D22,MATCH(MAX(D23:D32),D23:D32,0),0),"") -> 170 | C37: =IFERROR(OFFSET(C22,MATCH(MAX(D23:D32),D23:D32,0),0)+(10-OFFSET(E22,MATCH(MAX(D23:D32),D23:D32,0),0)),"") -> 11 | H37: =IFERROR(OFFSET(J22,MATCH(MAX(J23:J32),J23:J32,0),0),"") -> 120 | I37: =IFERROR(OFFSET(I22,MATCH(MAX(J23:J32),J23:J32,0),0)+(10-OFFSET(K22,MATCH(MAX(J23:J32),J23:J32,0),0)),"") -> 11 | N37: =IFERROR(OFFSET(P22,MATCH(MAX(P23:P32),P23:P32,0),0),"") -> 220 | O37: =IFERROR(OFFSET(O22,MATCH(MAX(P23:P32),P23:P32,0),0)+(10-OFFSET(Q22,MATCH(MAX(P23:P32),P23:P32,0),0)),"") -> 11 | Q37: =IFERROR(AVERAGE(AVERAGE(E23:E32),AVERAGE(K23:K32),AVERAGE(Q23:Q32)),"") | R37: =SUM(C23:C32,I23:I32,O23:O32) -> 3
B39: Day 2
B43: 1 | C43: ='Training Plan'!F156 -> Competition Squat | H43: 2 | I43: ='Training Plan'!F164 -> Competition Bench | N43: 3 | O43: ='Training Plan'!F172 -> Competition Deadlift
B45: Sets x Reps @RPE / % | D45: ='Training Plan'!F157 -> 0 | H45: Sets x Reps @RPE / % | J45: ='Training Plan'!F165 -> 0 | N45: Sets x Reps @RPE / % | P45: ='Training Plan'!F173 -> 0
B50: Rest Periods | D50: ='Training Plan'!G162 -> 0 | H50: Rest Periods | J50: ='Training Plan'!G170 -> 0 | N50: Rest Periods | P50: ='Training Plan'!G178 -> 0
B52: Sets | C52: Reps | D52: Weight | E52: RPE | F52: Relative Intensity | H52: Sets | I52: Reps | J52: Weight | K52: RPE | L52: Relative Intensity | N52: Sets | O52: Reps | P52: Weight | Q52: RPE | R52: Relative Intensity
B53: 1 | F53: =IF(ISNUMBER(D53),D53/B65,) -> 0 | H53: 1 | L53: =IF(ISNUMBER(J53),J53/H65,) -> 0 | N53: 1 | R53: =IF(ISNUMBER(P53),P53/N65,) -> 0
B54: 2 | F54: =IF(ISNUMBER(D54),D54/B65,) -> 0 | H54: 2 | L54: =IF(ISNUMBER(J54),J54/H65,) -> 0 | N54: 2 | R54: =IF(ISNUMBER(P54),P54/N65,) -> 0
B55: 3 | F55: =IF(ISNUMBER(D55),D55/B65,) -> 0 | H55: 3 | L55: =IF(ISNUMBER(J55),J55/H65,) -> 0 | N55: 3 | R55: =IF(ISNUMBER(P55),P55/N65,) -> 0
B56: 4 | F56: =IF(ISNUMBER(D56),D56/B65,) -> 0 | H56: 4 | L56: =IF(ISNUMBER(J56),J56/H65,) -> 0 | N56: 4 | R56: =IF(ISNUMBER(P56),P56/N65,) -> 0
B57: 5 | F57: =IF(ISNUMBER(D57),D57/B65,) -> 0 | H57: 5 | L57: =IF(ISNUMBER(J57),J57/H65,) -> 0 | N57: 5 | R57: =IF(ISNUMBER(P57),P57/N65,) -> 0
B58: 6 | F58: =IF(ISNUMBER(D58),D58/B65,) -> 0 | H58: 6 | L58: =IF(ISNUMBER(J58),J58/H65,) -> 0 | N58: 6 | R58: =IF(ISNUMBER(P58),P58/N65,) -> 0
B59: 7 | F59: =IF(ISNUMBER(D59),D59/B65,) -> 0 | H59: 7 | L59: =IF(ISNUMBER(J59),J59/H65,) -> 0 | N59: 7 | R59: =IF(ISNUMBER(P59),P59/N65,) -> 0
B60: 8 | F60: =IF(ISNUMBER(D60),D60/B65,) -> 0 | H60: 8 | L60: =IF(ISNUMBER(J60),J60/H65,) -> 0 | N60: 8 | R60: =IF(ISNUMBER(P60),P60/N65,) -> 0
B61: 9 | F61: =IF(ISNUMBER(D61),D61/B65,) -> 0 | H61: 9 | L61: =IF(ISNUMBER(J61),J61/H65,) -> 0 | N61: 9 | R61: =IF(ISNUMBER(P61),P61/N65,) -> 0
B62: 10 | F62: =IF(ISNUMBER(D62),D62/B65,) -> 0 | H62: 10 | L62: =IF(ISNUMBER(J62),J62/H65,) -> 0 | N62: 10 | R62: =IF(ISNUMBER(P62),P62/N65,) -> 0
B63: e1RM | C63: Average Intensity | E63: =IFERROR(IF(COUNT(F53:F62)>0,AVERAGEIF(F53:F62,">0"),0),) -> 0 | H63: e1RM | I63: Average Intensity | K63: =IFERROR(IF(COUNT(L53:L62)>0,AVERAGEIF(L53:L62,">0"),0),) -> 0 | N63: e1RM | O63: Average Intensity | P63: =IFERROR(IF(COUNT(R53:R62)>0,AVERAGEIF(R53:R62,">0"),0),) -> 0 | Q63: sRPE | R63: =IFERROR(Q67*R67,"")
B65: =IFERROR(ROUNDUP(B67/(0.0005*C67^2-0.0342*C67+1.034),0),) -> 0 | C65: nReps | D65: =SUM(C53:C62) -> 0 | E65: Volume | F65: =SUM(C53*D53,C54*D54,C55*D55,C56*D56,C57*D57,C58*D58,C59*D59,C60*D60,C61*D61,C62*D62) -> 0 | H65: =IFERROR(ROUNDUP(H67/(0.0005*I67^2-0.0342*I67+1.034),0),) -> 0 | I65: nReps | J65: =SUM(I53:I62) -> 0 | K65: Volume | L65: =SUM(I53*J53,I54*J54,I55*J55,I56*J56,I57*J57,I58*J58,I59*J59,I60*J60,I61*J61,I62*J62) -> 0 | N65: =IFERROR(ROUNDUP(N67/(0.0005*O67^2-0.0342*O67+1.034),0),) -> 0 | O65: nReps | P65: =SUM(O53:O62) -> 0 | Q65: Volume | R65: =SUM(O53*P53,O54*P54,O55*P55,O56*P56,O57*P57,O58*P58,O59*P59,O60*P60,O61*P61,O62*P62) -> 0
B67: =IFERROR(OFFSET(D52,MATCH(MAX(D53:D62),D53:D62,0),0),"") | C67: =IFERROR(OFFSET(C52,MATCH(MAX(D53:D62),D53:D62,0),0)+(10-OFFSET(E52,MATCH(MAX(D53:D62),D53:D62,0),0)),"") | H67: =IFERROR(OFFSET(J52,MATCH(MAX(J53:J62),J53:J62,0),0),"") | I67: =IFERROR(OFFSET(I52,MATCH(MAX(J53:J62),J53:J62,0),0)+(10-OFFSET(K52,MATCH(MAX(J53:J62),J53:J62,0),0)),"") | N67: =IFERROR(OFFSET(P52,MATCH(MAX(P53:P62),P53:P62,0),0),"") | O67: =IFERROR(OFFSET(O52,MATCH(MAX(P53:P62),P53:P62,0),0)+(10-OFFSET(Q52,MATCH(MAX(P53:P62),P53:P62,0),0)),"") | Q67: =IFERROR(AVERAGE(AVERAGE(E53:E62),AVERAGE(K53:K62),AVERAGE(Q53:Q62)),"") | R67: =SUM(C53:C62,I53:I62,O53:O62) -> 0
B69: Day 3
B73: 1 | C73: ='Training Plan'!I156 -> 0 | H73: 2 | I73: ='Training Plan'!I164 -> 0 | N73: 3 | O73: ='Training Plan'!I172 -> 0
B75: Sets x Reps @RPE / % | D75: ='Training Plan'!I157 -> 0 | H75: Sets x Reps @RPE / % | J75: ='Training Plan'!I165 -> 0 | N75: Sets x Reps @RPE / % | P75: ='Training Plan'!I173 -> 0
B80: Rest Periods | D80: ='Training Plan'!J162 -> 0 | H80: Rest Periods | J80: ='Training Plan'!J170 -> 0 | N80: Rest Periods | P80: ='Training Plan'!J178 -> 0
B82: Sets | C82: Reps | D82: Weight | E82: RPE | F82: Relative Intensity | H82: Sets | I82: Reps | J82: Weight | K82: RPE | L82: Relative Intensity | N82: Sets | O82: Reps | P82: Weight | Q82: RPE | R82: Relative Intensity
B83: 1 | F83: =IF(ISNUMBER(D83),D83/B95,) -> 0 | H83: 1 | L83: =IF(ISNUMBER(J83),J83/H95,) -> 0 | N83: 1 | R83: =IF(ISNUMBER(P83),P83/N95,) -> 0
B84: 2 | F84: =IF(ISNUMBER(D84),D84/B95,) -> 0 | H84: 2 | L84: =IF(ISNUMBER(J84),J84/H95,) -> 0 | N84: 2 | R84: =IF(ISNUMBER(P84),P84/N95,) -> 0
B85: 3 | F85: =IF(ISNUMBER(D85),D85/B95,) -> 0 | H85: 3 | L85: =IF(ISNUMBER(J85),J85/H95,) -> 0 | N85: 3 | R85: =IF(ISNUMBER(P85),P85/N95,) -> 0
B86: 4 | F86: =IF(ISNUMBER(D86),D86/B95,) -> 0 | H86: 4 | L86: =IF(ISNUMBER(J86),J86/H95,) -> 0 | N86: 4 | R86: =IF(ISNUMBER(P86),P86/N95,) -> 0
B87: 5 | F87: =IF(ISNUMBER(D87),D87/B95,) -> 0 | H87: 5 | L87: =IF(ISNUMBER(J87),J87/H95,) -> 0 | N87: 5 | R87: =IF(ISNUMBER(P87),P87/N95,) -> 0
B88: 6 | F88: =IF(ISNUMBER(D88),D88/B95,) -> 0 | H88: 6 | L88: =IF(ISNUMBER(J88),J88/H95,) -> 0 | N88: 6 | R88: =IF(ISNUMBER(P88),P88/N95,) -> 0
B89: 7 | F89: =IF(ISNUMBER(D89),D89/B95,) -> 0 | H89: 7 | L89: =IF(ISNUMBER(J89),J89/H95,) -> 0 | N89: 7 | R89: =IF(ISNUMBER(P89),P89/N95,) -> 0
B90: 8 | F90: =IF(ISNUMBER(D90),D90/B95,) -> 0 | H90: 8 | L90: =IF(ISNUMBER(J90),J90/H95,) -> 0 | N90: 8 | R90: =IF(ISNUMBER(P90),P90/N95,) -> 0
B91: 9 | F91: =IF(ISNUMBER(D91),D91/B95,) -> 0 | H91: 9 | L91: =IF(ISNUMBER(J91),J91/H95,) -> 0 | N91: 9 | R91: =IF(ISNUMBER(P91),P91/N95,) -> 0
B92: 10 | F92: =IF(ISNUMBER(D92),D92/B95,) -> 0 | H92: 10 | L92: =IF(ISNUMBER(J92),J92/H95,) -> 0 | N92: 10 | R92: =IF(ISNUMBER(P92),P92/N95,) -> 0
B93: e1RM | C93: Average Intensity | E93: =IFERROR(IF(COUNT(F83:F92)>0,AVERAGEIF(F83:F92,">0"),0),) -> 0 | H93: e1RM | I93: Average Intensity | K93: =IFERROR(IF(COUNT(L83:L92)>0,AVERAGEIF(L83:L92,">0"),0),) -> 0 | N93: e1RM | O93: Average Intensity | P93: =IFERROR(IF(COUNT(R83:R92)>0,AVERAGEIF(R83:R92,">0"),0),) -> 0 | Q93: sRPE | R93: =IFERROR(Q97*R97,"")
B95: =IFERROR(ROUNDUP(B97/(0.0005*C97^2-0.0342*C97+1.034),0),) -> 0 | C95: nReps | D95: =SUM(C83:C92) -> 0 | E95: Volume | F95: =SUM(C83*D83,C84*D84,C85*D85,C86*D86,C87*D87,C88*D88,C89*D89,C90*D90,C91*D91,C92*D92) -> 0 | H95: =IFERROR(ROUNDUP(H97/(0.0005*I97^2-0.0342*I97+1.034),0),) -> 0 | I95: nReps | J95: =SUM(I83:I92) -> 0 | K95: Volume | L95: =SUM(I83*J83,I84*J84,I85*J85,I86*J86,I87*J87,I88*J88,I89*J89,I90*J90,I91*J91,I92*J92) -> 0 | N95: =IFERROR(ROUNDUP(N97/(0.0005*O97^2-0.0342*O97+1.034),0),) -> 0 | O95: nReps | P95: =SUM(O83:O92) -> 0 | Q95: Volume | R95: =SUM(O83*P83,O84*P84,O85*P85,O86*P86,O87*P87,O88*P88,O89*P89,O90*P90,O91*P91,O92*P92) -> 0
B97: =IFERROR(OFFSET(D82,MATCH(MAX(D83:D92),D83:D92,0),0),"") | C97: =IFERROR(OFFSET(C82,MATCH(MAX(D83:D92),D83:D92,0),0)+(10-OFFSET(E82,MATCH(MAX(D83:D92),D83:D92,0),0)),"") | H97: =IFERROR(OFFSET(J82,MATCH(MAX(J83:J92),J83:J92,0),0),"") | I97: =IFERROR(OFFSET(I82,MATCH(MAX(J83:J92),J83:J92,0),0)+(10-OFFSET(K82,MATCH(MAX(J83:J92),J83:J92,0),0)),"") | N97: =IFERROR(OFFSET(P82,MATCH(MAX(P83:P92),P83:P92,0),0),"") | O97: =IFERROR(OFFSET(O82,MATCH(MAX(P83:P92),P83:P92,0),0)+(10-OFFSET(Q82,MATCH(MAX(P83:P92),P83:P92,0),0)),"") | Q97: =IFERROR(AVERAGE(AVERAGE(E83:E92),AVERAGE(K83:K92),AVERAGE(Q83:Q92)),"") | R97: =SUM(C83:C92,I83:I92,O83:O92) -> 0
B99: Day 4
B103: 1 | C103: ='Training Plan'!L156 -> 0 | H103: 2 | I103: ='Training Plan'!L164 -> 0 | N103: 3 | O103: ='Training Plan'!L172 -> 0
B105: Sets x Reps @RPE / % | D105: ='Training Plan'!L157 -> 0 | H105: Sets x Reps @RPE / % | J105: ='Training Plan'!L165 -> 0 | N105: Sets x Reps @RPE / % | P105: ='Training Plan'!L173 -> 0
B110: Rest Periods | D110: ='Training Plan'!M162 -> 0 | H110: Rest Periods | J110: ='Training Plan'!M170 -> 0 | N110: Rest Periods | P110: ='Training Plan'!M178 -> 0
B112: Sets | C112: Reps | D112: Weight | E112: RPE | F112: Relative Intensity | H112: Sets | I112: Reps | J112: Weight | K112: RPE | L112: Relative Intensity | N112: Sets | O112: Reps | P112: Weight | Q112: RPE | R112: Relative Intensity
B113: 1 | F113: =IF(ISNUMBER(D113),D113/B125,) -> 0 | H113: 1 | L113: =IF(ISNUMBER(J113),J113/H125,) -> 0 | N113: 1 | R113: =IF(ISNUMBER(P113),P113/N125,) -> 0
B114: 2 | F114: =IF(ISNUMBER(D114),D114/B125,) -> 0 | H114: 2 | L114: =IF(ISNUMBER(J114),J114/H125,) -> 0 | N114: 2 | R114: =IF(ISNUMBER(P114),P114/N125,) -> 0
B115: 3 | F115: =IF(ISNUMBER(D115),D115/B125,) -> 0 | H115: 3 | L115: =IF(ISNUMBER(J115),J115/H125,) -> 0 | N115: 3 | R115: =IF(ISNUMBER(P115),P115/N125,) -> 0
B116: 4 | F116: =IF(ISNUMBER(D116),D116/B125,) -> 0 | H116: 4 | L116: =IF(ISNUMBER(J116),J116/H125,) -> 0 | N116: 4 | R116: =IF(ISNUMBER(P116),P116/N125,) -> 0
B117: 5 | F117: =IF(ISNUMBER(D117),D117/B125,) -> 0 | H117: 5 | L117: =IF(ISNUMBER(J117),J117/H125,) -> 0 | N117: 5 | R117: =IF(ISNUMBER(P117),P117/N125,) -> 0
B118: 6 | F118: =IF(ISNUMBER(D118),D118/B125,) -> 0 | H118: 6 | L118: =IF(ISNUMBER(J118),J118/H125,) -> 0 | N118: 6 | R118: =IF(ISNUMBER(P118),P118/N125,) -> 0
B119: 7 | F119: =IF(ISNUMBER(D119),D119/B125,) -> 0 | H119: 7 | L119: =IF(ISNUMBER(J119),J119/H125,) -> 0 | N119: 7 | R119: =IF(ISNUMBER(P119),P119/N125,) -> 0
B120: 8 | F120: =IF(ISNUMBER(D120),D120/B125,) -> 0 | H120: 8 | L120: =IF(ISNUMBER(J120),J120/H125,) -> 0 | N120: 8 | R120: =IF(ISNUMBER(P120),P120/N125,) -> 0
B121: 9 | F121: =IF(ISNUMBER(D121),D121/B125,) -> 0 | H121: 9 | L121: =IF(ISNUMBER(J121),J121/H125,) -> 0 | N121: 9 | R121: =IF(ISNUMBER(P121),P121/N125,) -> 0
B122: 10 | F122: =IF(ISNUMBER(D122),D122/B125,) -> 0 | H122: 10 | L122: =IF(ISNUMBER(J122),J122/H125,) -> 0 | N122: 10 | R122: =IF(ISNUMBER(P122),P122/N125,) -> 0
B123: e1RM | C123: Average Intensity | E123: =IFERROR(IF(COUNT(F113:F122)>0,AVERAGEIF(F113:F122,">0"),0),) -> 0 | H123: e1RM | I123: Average Intensity | K123: =IFERROR(IF(COUNT(L113:L122)>0,AVERAGEIF(L113:L122,">0"),0),) -> 0 | N123: e1RM | O123: Average Intensity | P123: =IFERROR(IF(COUNT(R113:R122)>0,AVERAGEIF(R113:R122,">0"),0),) -> 0 | Q123: sRPE | R123: =IFERROR(Q127*R127,"")
B125: =IFERROR(ROUNDUP(B127/(0.0005*C127^2-0.0342*C127+1.034),0),) -> 0 | C125: nReps | D125: =SUM(C113:C122) -> 0 | E125: Volume | F125: =SUM(C113*D113,C114*D114,C115*D115,C116*D116,C117*D117,C118*D118,C119*D119,C120*D120,C121*D121,C122*D122) -> 0 | H125: =IFERROR(ROUNDUP(H127/(0.0005*I127^2-0.0342*I127+1.034),0),) -> 0 | I125: nReps | J125: =SUM(I113:I122) -> 0 | K125: Volume | L125: =SUM(I113*J113,I114*J114,I115*J115,I116*J116,I117*J117,I118*J118,I119*J119,I120*J120,I121*J121,I122*J122) -> 0 | N125: =IFERROR(ROUNDUP(N127/(0.0005*O127^2-0.0342*O127+1.034),0),) -> 0 | O125: nReps | P125: =SUM(O113:O122) -> 0 | Q125: Volume | R125: =SUM(O113*P113,O114*P114,O115*P115,O116*P116,O117*P117,O118*P118,O119*P119,O120*P120,O121*P121,O122*P122) -> 0
B127: =IFERROR(OFFSET(D112,MATCH(MAX(D113:D122),D113:D122,0),0),"") | C127: =IFERROR(OFFSET(C112,MATCH(MAX(D113:D122),D113:D122,0),0)+(10-OFFSET(E112,MATCH(MAX(D113:D122),D113:D122,0),0)),"") | H127: =IFERROR(OFFSET(J112,MATCH(MAX(J113:J122),J113:J122,0),0),"") | I127: =IFERROR(OFFSET(I112,MATCH(MAX(J113:J122),J113:J122,0),0)+(10-OFFSET(K112,MATCH(MAX(J113:J122),J113:J122,0),0)),"") | N127: =IFERROR(OFFSET(P112,MATCH(MAX(P113:P122),P113:P122,0),0),"") | O127: =IFERROR(OFFSET(O112,MATCH(MAX(P113:P122),P113:P122,0),0)+(10-OFFSET(Q112,MATCH(MAX(P113:P122),P113:P122,0),0)),"") | Q127: =IFERROR(AVERAGE(AVERAGE(E113:E122),AVERAGE(K113:K122),AVERAGE(Q113:Q122)),"") | R127: =SUM(C113:C122,I113:I122,O113:O122) -> 0
B129: Day 5
B133: 1 | C133: ='Training Plan'!O156 -> 0 | H133: 2 | I133: ='Training Plan'!O164 -> 0 | N133: 3 | O133: ='Training Plan'!O172 -> 0
B135: Sets x Reps @RPE / % | D135: ='Training Plan'!O157 -> 0 | H135: Sets x Reps @RPE / % | J135: ='Training Plan'!O165 -> 0 | N135: Sets x Reps @RPE / % | P135: ='Training Plan'!O173 -> 0
B140: Rest Periods | D140: ='Training Plan'!P162 -> 0 | H140: Rest Periods | J140: ='Training Plan'!P170 -> 0 | N140: Rest Periods | P140: ='Training Plan'!P178 -> 0
B142: Sets | C142: Reps | D142: Weight | E142: RPE | F142: Relative Intensity | H142: Sets | I142: Reps | J142: Weight | K142: RPE | L142: Relative Intensity | N142: Sets | O142: Reps | P142: Weight | Q142: RPE | R142: Relative Intensity
B143: 1 | F143: =IF(ISNUMBER(D143),D143/B155,) -> 0 | H143: 1 | L143: =IF(ISNUMBER(J143),J143/H155,) -> 0 | N143: 1 | R143: =IF(ISNUMBER(P143),P143/N155,) -> 0
B144: 2 | F144: =IF(ISNUMBER(D144),D144/B155,) -> 0 | H144: 2 | L144: =IF(ISNUMBER(J144),J144/H155,) -> 0 | N144: 2 | R144: =IF(ISNUMBER(P144),P144/N155,) -> 0
B145: 3 | F145: =IF(ISNUMBER(D145),D145/B155,) -> 0 | H145: 3 | L145: =IF(ISNUMBER(J145),J145/H155,) -> 0 | N145: 3 | R145: =IF(ISNUMBER(P145),P145/N155,) -> 0
B146: 4 | F146: =IF(ISNUMBER(D146),D146/B155,) -> 0 | H146: 4 | L146: =IF(ISNUMBER(J146),J146/H155,) -> 0 | N146: 4 | R146: =IF(ISNUMBER(P146),P146/N155,) -> 0
B147: 5 | F147: =IF(ISNUMBER(D147),D147/B155,) -> 0 | H147: 5 | L147: =IF(ISNUMBER(J147),J147/H155,) -> 0 | N147: 5 | R147: =IF(ISNUMBER(P147),P147/N155,) -> 0
B148: 6 | F148: =IF(ISNUMBER(D148),D148/B155,) -> 0 | H148: 6 | L148: =IF(ISNUMBER(J148),J148/H155,) -> 0 | N148: 6 | R148: =IF(ISNUMBER(P148),P148/N155,) -> 0
B149: 7 | F149: =IF(ISNUMBER(D149),D149/B155,) -> 0 | H149: 7 | L149: =IF(ISNUMBER(J149),J149/H155,) -> 0 | N149: 7 | R149: =IF(ISNUMBER(P149),P149/N155,) -> 0
B150: 8 | F150: =IF(ISNUMBER(D150),D150/B155,) -> 0 | H150: 8 | L150: =IF(ISNUMBER(J150),J150/H155,) -> 0 | N150: 8 | R150: =IF(ISNUMBER(P150),P150/N155,) -> 0
B151: 9 | F151: =IF(ISNUMBER(D151),D151/B155,) -> 0 | H151: 9 | L151: =IF(ISNUMBER(J151),J151/H155,) -> 0 | N151: 9 | R151: =IF(ISNUMBER(P151),P151/N155,) -> 0
B152: 10 | F152: =IF(ISNUMBER(D152),D152/B155,) -> 0 | H152: 10 | L152: =IF(ISNUMBER(J152),J152/H155,) -> 0 | N152: 10 | R152: =IF(ISNUMBER(P152),P152/N155,) -> 0
B153: e1RM | C153: Average Intensity | E153: =IFERROR(IF(COUNT(F143:F152)>0,AVERAGEIF(F143:F152,">0"),0),) -> 0 | H153: e1RM | I153: Average Intensity | K153: =IFERROR(IF(COUNT(L143:L152)>0,AVERAGEIF(L143:L152,">0"),0),) -> 0 | N153: e1RM | O153: Average Intensity | P153: =IFERROR(IF(COUNT(R143:R152)>0,AVERAGEIF(R143:R152,">0"),0),) -> 0 | Q153: sRPE | R153: =IFERROR(Q157*R157,"")
B155: =IFERROR(ROUNDUP(B157/(0.0005*C157^2-0.0342*C157+1.034),0),) -> 0 | C155: nReps | D155: =SUM(C143:C152) -> 0 | E155: Volume | F155: =SUM(C143*D143,C144*D144,C145*D145,C146*D146,C147*D147,C148*D148,C149*D149,C150*D150,C151*D151,C152*D152) -> 0 | H155: =IFERROR(ROUNDUP(H157/(0.0005*I157^2-0.0342*I157+1.034),0),) -> 0 | I155: nReps | J155: =SUM(I143:I152) -> 0 | K155: Volume | L155: =SUM(I143*J143,I144*J144,I145*J145,I146*J146,I147*J147,I148*J148,I149*J149,I150*J150,I151*J151,I152*J152) -> 0 | N155: =IFERROR(ROUNDUP(N157/(0.0005*O157^2-0.0342*O157+1.034),0),) -> 0 | O155: nReps | P155: =SUM(O143:O152) -> 0 | Q155: Volume | R155: =SUM(O143*P143,O144*P144,O145*P145,O146*P146,O147*P147,O148*P148,O149*P149,O150*P150,O151*P151,O152*P152) -> 0
B157: =IFERROR(OFFSET(D142,MATCH(MAX(D143:D152),D143:D152,0),0),"") | C157: =IFERROR(OFFSET(C142,MATCH(MAX(D143:D152),D143:D152,0),0)+(10-OFFSET(E142,MATCH(MAX(D143:D152),D143:D152,0),0)),"") | H157: =IFERROR(OFFSET(J142,MATCH(MAX(J143:J152),J143:J152,0),0),"") | I157: =IFERROR(OFFSET(I142,MATCH(MAX(J143:J152),J143:J152,0),0)+(10-OFFSET(K142,MATCH(MAX(J143:J152),J143:J152,0),0)),"") | N157: =IFERROR(OFFSET(P142,MATCH(MAX(P143:P152),P143:P152,0),0),"") | O157: =IFERROR(OFFSET(O142,MATCH(MAX(P143:P152),P143:P152,0),0)+(10-OFFSET(Q142,MATCH(MAX(P143:P152),P143:P152,0),0)),"") | Q157: =IFERROR(AVERAGE(AVERAGE(E143:E152),AVERAGE(K143:K152),AVERAGE(Q143:Q152)),"") | R157: =SUM(C143:C152,I143:I152,O143:O152) -> 0
B159: General Physical Prepardness (GPP)
C163: ='Training Plan'!C146 -> 0 | F163: ='Training Plan'!F146 -> 0 | I163: ='Training Plan'!I146 -> 0 | L163: ='Training Plan'!L146 -> 0 | O163: ='Training Plan'!O146 -> 0
C165: ='Training Plan'!C147 -> 0 | F165: ='Training Plan'!F147 -> 0 | I165: ='Training Plan'!I147 -> 0 | L165: ='Training Plan'!L147 -> 0 | O165: ='Training Plan'!O147 -> 0
C168: Log | F168: Log | I168: Log | L168: Log | O168: Log
B174: Fatigue Assessement & Comments and Observations
C178: Sleep Quality | E178: Calorie Intake | G178: Perceived Recovery | I178: Perceived Stress | K178: Bodyweight (kg) | M178: Comments and Observations
B180: Day 1
B182: Day 2
B184: Day 3
...

Sheet Week 6
C3: ='Training Plan'!B187 -> 0 | E3: Week 6 Training Log
B9: Day 1
B13: 1 | C13: ='Training Plan'!C191 -> 0 | H13: 2 | I13: ='Training Plan'!C199 -> 0 | N13: 3 | O13: ='Training Plan'!C207 -> 0
B15: Sets x Reps @RPE / % | D15: ='Training Plan'!C192 -> 0 | H15: Sets x Reps @RPE / % | J15: ='Training Plan'!C200 -> 0 | N15: Sets x Reps @RPE / % | P15: ='Training Plan'!C208 -> 0
B20: Rest Periods | D20: ='Training Plan'!D197 -> 0 | H20: Rest Periods | J20: ='Training Plan'!D205 -> 0 | N20: Rest Periods | P20: ='Training Plan'!D213 -> 0
B22: Sets | C22: Reps | D22: Weight | E22: RPE | F22: Relative Intensity | H22: Sets | I22: Reps | J22: Weight | K22: RPE | L22: Relative Intensity | N22: Sets | O22: Reps | P22: Weight | Q22: RPE | R22: Relative Intensity
B23: 1 | F23: =IF(ISNUMBER(D23),D23/B35,) -> 0 | H23: 1 | L23: =IF(ISNUMBER(J23),J23/H35,) -> 0 | N23: 1 | R23: =IF(ISNUMBER(P23),P23/N35,) -> 0
B24: 2 | F24: =IF(ISNUMBER(D24),D24/B35,) -> 0 | H24: 2 | L24: =IF(ISNUMBER(J24),J24/H35,) -> 0 | N24: 2 | R24: =IF(ISNUMBER(P24),P24/N35,) -> 0
B25: 3 | F25: =IF(ISNUMBER(D25),D25/B35,) -> 0 | H25: 3 | L25: =IF(ISNUMBER(J25),J25/H35,) -> 0 | N25: 3 | R25: =IF(ISNUMBER(P25),P25/N35,) -> 0
B26: 4 | F26: =IF(ISNUMBER(D26),D26/B35,) -> 0 | H26: 4 | L26: =IF(ISNUMBER(J26),J26/H35,) -> 0 | N26: 4 | R26: =IF(ISNUMBER(P26),P26/N35,) -> 0
B27: 5 | F27: =IF(ISNUMBER(D27),D27/B35,) -> 0 | H27: 5 | L27: =IF(ISNUMBER(J27),J27/H35,) -> 0 | N27: 5 | R27: =IF(ISNUMBER(P27),P27/N35,) -> 0
B28: 6 | F28: =IF(ISNUMBER(D28),D28/B35,) -> 0 | H28: 6 | L28: =IF(ISNUMBER(J28),J28/H35,) -> 0 | N28: 6 | R28: =IF(ISNUMBER(P28),P28/N35,) -> 0
B29: 7 | F29: =IF(ISNUMBER(D29),D29/B35,) -> 0 | H29: 7 | L29: =IF(ISNUMBER(J29),J29/H35,) -> 0 | N29: 7 | R29: =IF(ISNUMBER(P29),P29/N35,) -> 0
B30: 8 | F30: =IF(ISNUMBER(D30),D30/B35,) -> 0 | H30: 8 | L30: =IF(ISNUMBER(J30),J30/H35,) -> 0 | N30: 8 | R30: =IF(ISNUMBER(P30),P30/N35,) -> 0
B31: 9 | F31: =IF(ISNUMBER(D31),D31/B35,) -> 0 | H31: 9 | L31: =IF(ISNUMBER(J31),J31/H35,) -> 0 | N31: 9 | R31: =IF(ISNUMBER(P31),P31/N35,) -> 0
B32: 10 | F32: =IF(ISNUMBER(D32),D32/B35,) -> 0 | H32: 10 | L32: =IF(ISNUMBER(J32),J32/H35,) -> 0 | N32: 10 | R32: =IF(ISNUMBER(P32),P32/N35,) -> 0
B33: e1RM | C33: Average Intensity | E33: =IFERROR(IF(COUNT(F23:F32)>0,AVERAGEIF(F23:F32,">0"),0),) -> 0 | H33: e1RM | I33: Average Intensity | K33: =IFERROR(IF(COUNT(L23:L32)>0,AVERAGEIF(L23:L32,">0"),0),) -> 0 | N33: e1RM | O33: Average Intensity | P33: =IFERROR(IF(COUNT(R23:R32)>0,AVERAGEIF(R23:R32,">0"),0),) -> 0 | Q33: sRPE | R33: =IFERROR(Q37*R37,"")
B35: =IFERROR(ROUNDUP(B37/(0.0005*C37^2-0.0342*C37+1.034),0),) -> 0 | C35: nReps | D35: =SUM(C23:C32) -> 0 | E35: Volume | F35: =SUM(C23*D23,C24*D24,C25*D25,C26*D26,C27*D27,C28*D28,C29*D29,C30*D30,C31*D31,C32*D32) -> 0 | H35: =IFERROR(ROUNDUP(H37/(0.0005*I37^2-0.0342*I37+1.034),0),) -> 0 | I35: nReps | J35: =SUM(I23:I32) -> 0 | K35: Volume | L35: =SUM(I23*J23,I24*J24,I25*J25,I26*J26,I27*J27,I28*J28,I29*J29,I30*J30,I31*J31,I32*J32) -> 0 | N35: =IFERROR(ROUNDUP(N37/(0.0005*O37^2-0.0342*O37+1.034),0),) -> 0 | O35: nReps | P35: =SUM(O23:O32) -> 0 | Q35: Volume | R35: =SUM(O23*P23,O24*P24,O25*P25,O26*P26,O27*P27,O28*P28,O29*P29,O30*P30,O31*P31,O32*P32) -> 0
B37: =IFERROR(OFFSET(D22,MATCH(MAX(D23:D32),D23:D32,0),0),"") | C37: =IFERROR(OFFSET(C22,MATCH(MAX(D23:D32),D23:D32,0),0)+(10-OFFSET(E22,MATCH(MAX(D23:D32),D23:D32,0),0)),"") | H37: =IFERROR(OFFSET(J22,MATCH(MAX(J23:J32),J23:J32,0),0),"") | I37: =IFERROR(OFFSET(I22,MATCH(MAX(J23:J32),J23:J32,0),0)+(10-OFFSET(K22,MATCH(MAX(J23:J32),J23:J32,0),0)),"") | N37: =IFERROR(OFFSET(P22,MATCH(MAX(P23:P32),P23:P32,0),0),"") | O37: =IFERROR(OFFSET(O22,MATCH(MAX(P23:P32),P23:P32,0),0)+(10-OFFSET(Q22,MATCH(MAX(P23:P32),P23:P32,0),0)),"") | Q37: =IFERROR(AVERAGE(AVERAGE(E23:E32),AVERAGE(K23:K32),AVERAGE(Q23:Q32)),"") | R37: =SUM(C23:C32,I23:I32,O23:O32) -> 0
B39: Day 2
B43: 1 | C43: ='Training Plan'!F191 -> 0 | H43: 2 | I43: ='Training Plan'!F199 -> 0 | N43: 3 | O43: ='Training Plan'!F207 -> 0
B45: Sets x Reps @RPE / % | D45: ='Training Plan'!F192 -> 0 | H45: Sets x Reps @RPE / % | J45: ='Training Plan'!F200 -> 0 | N45: Sets x Reps @RPE / % | P45: ='Training Plan'!F208 -> 0
B50: Rest Periods | D50: ='Training Plan'!G197 -> 0 | H50: Rest Periods | J50: ='Training Plan'!G205 -> 0 | N50: Rest Periods | P50: ='Training Plan'!G213 -> 0
B52: Sets | C52: Reps | D52: Weight | E52: RPE | F52: Relative Intensity | H52: Sets | I52: Reps | J52: Weight | K52: RPE | L52: Relative Intensity | N52: Sets | O52: Reps | P52: Weight | Q52: RPE | R52: Relative Intensity
B53: 1 | F53: =IF(ISNUMBER(D53),D53/B65,) -> 0 | H53: 1 | L53: =IF(ISNUMBER(J53),J53/H65,) -> 0 | N53: 1 | R53: =IF(ISNUMBER(P53),P53/N65,) -> 0
B54: 2 | F54: =IF(ISNUMBER(D54),D54/B65,) -> 0 | H54: 2 | L54: =IF(ISNUMBER(J54),J54/H65,) -> 0 | N54: 2 | R54: =IF(ISNUMBER(P54),P54/N65,) -> 0
B55: 3 | F55: =IF(ISNUMBER(D55),D55/B65,) -> 0 | H55: 3 | L55: =IF(ISNUMBER(J55),J55/H65,) -> 0 | N55: 3 | R55: =IF(ISNUMBER(P55),P55/N65,) -> 0
B56: 4 | F56: =IF(ISNUMBER(D56),D56/B65,) -> 0 | H56: 4 | L56: =IF(ISNUMBER(J56),J56/H65,) -> 0 | N56: 4 | R56: =IF(ISNUMBER(P56),P56/N65,) -> 0
B57: 5 | F57: =IF(ISNUMBER(D57),D57/B65,) -> 0 | H57: 5 | L57: =IF(ISNUMBER(J57),J57/H65,) -> 0 | N57: 5 | R57: =IF(ISNUMBER(P57),P57/N65,) -> 0
B58: 6 | F58: =IF(ISNUMBER(D58),D58/B65,) -> 0 | H58: 6 | L58: =IF(ISNUMBER(J58),J58/H65,) -> 0 | N58: 6 | R58: =IF(ISNUMBER(P58),P58/N65,) -> 0
B59: 7 | F59: =IF(ISNUMBER(D59),D59/B65,) -> 0 | H59: 7 | L59: =IF(ISNUMBER(J59),J59/H65,) -> 0 | N59: 7 | R59: =IF(ISNUMBER(P59),P59/N65,) -> 0
B60: 8 | F60: =IF(ISNUMBER(D60),D60/B65,) -> 0 | H60: 8 | L60: =IF(ISNUMBER(J60),J60/H65,) -> 0 | N60: 8 | R60: =IF(ISNUMBER(P60),P60/N65,) -> 0
B61: 9 | F61: =IF(ISNUMBER(D61),D61/B65,) -> 0 | H61: 9 | L61: =IF(ISNUMBER(J61),J61/H65,) -> 0 | N61: 9 | R61: =IF(ISNUMBER(P61),P61/N65,) -> 0
B62: 10 | F62: =IF(ISNUMBER(D62),D62/B65,) -> 0 | H62: 10 | L62: =IF(ISNUMBER(J62),J62/H65,) -> 0 | N62: 10 | R62: =IF(ISNUMBER(P62),P62/N65,) -> 0
B63: e1RM | C63: Average Intensity | E63: =IFERROR(IF(COUNT(F53:F62)>0,AVERAGEIF(F53:F62,">0"),0),) -> 0 | H63: e1RM | I63: Average Intensity | K63: =IFERROR(IF(COUNT(L53:L62)>0,AVERAGEIF(L53:L62,">0"),0),) -> 0 | N63: e1RM | O63: Average Intensity | P63: =IFERROR(IF(COUNT(R53:R62)>0,AVERAGEIF(R53:R62,">0"),0),) -> 0 | Q63: sRPE | R63: =IFERROR(Q67*R67,"")
B65: =IFERROR(ROUNDUP(B67/(0.0005*C67^2-0.0342*C67+1.034),0),) -> 0 | C65: nReps | D65: =SUM(C53:C62) -> 0 | E65: Volume | F65: =SUM(C53*D53,C54*D54,C55*D55,C56*D56,C57*D57,C58*D58,C59*D59,C60*D60,C61*D61,C62*D62) -> 0 | H65: =IFERROR(ROUNDUP(H67/(0.0005*I67^2-0.0342*I67+1.034),0),) -> 0 | I65: nReps | J65: =SUM(I53:I62) -> 0 | K65: Volume | L65: =SUM(I53*J53,I54*J54,I55*J55,I56*J56,I57*J57,I58*J58,I59*J59,I60*J60,I61*J61,I62*J62) -> 0 | N65: =IFERROR(ROUNDUP(N67/(0.0005*O67^2-0.0342*O67+1.034),0),) -> 0 | O65: nReps | P65: =SUM(O53:O62) -> 0 | Q65: Volume | R65: =SUM(O53*P53,O54*P54,O55*P55,O56*P56,O57*P57,O58*P58,O59*P59,O60*P60,O61*P61,O62*P62) -> 0
B67: =IFERROR(OFFSET(D52,MATCH(MAX(D53:D62),D53:D62,0),0),"") | C67: =IFERROR(OFFSET(C52,MATCH(MAX(D53:D62),D53:D62,0),0)+(10-OFFSET(E52,MATCH(MAX(D53:D62),D53:D62,0),0)),"") | H67: =IFERROR(OFFSET(J52,MATCH(MAX(J53:J62),J53:J62,0),0),"") | I67: =IFERROR(OFFSET(I52,MATCH(MAX(J53:J62),J53:J62,0),0)+(10-OFFSET(K52,MATCH(MAX(J53:J62),J53:J62,0),0)),"") | N67: =IFERROR(OFFSET(P52,MATCH(MAX(P53:P62),P53:P62,0),0),"") | O67: =IFERROR(OFFSET(O52,MATCH(MAX(P53:P62),P53:P62,0),0)+(10-OFFSET(Q52,MATCH(MAX(P53:P62),P53:P62,0),0)),"") | Q67: =IFERROR(AVERAGE(AVERAGE(E53:E62),AVERAGE(K53:K62),AVERAGE(Q53:Q62)),"") | R67: =SUM(C53:C62,I53:I62,O53:O62) -> 0
B69: Day 3
B73: 1 | C73: ='Training Plan'!I191 -> 0 | H73: 2 | I73: ='Training Plan'!I199 -> 0 | N73: 3 | O73: ='Training Plan'!I207 -> 0
B75: Sets x Reps @RPE / % | D75: ='Training Plan'!I192 -> 0 | H75: Sets x Reps @RPE / % | J75: ='Training Plan'!I200 -> 0 | N75: Sets x Reps @RPE / % | P75: ='Training Plan'!I208 -> 0
B80: Rest Periods | D80: ='Training Plan'!J197 -> 0 | H80: Rest Periods | J80: ='Training Plan'!J205 -> 0 | N80: Rest Periods | P80: ='Training Plan'!J213 -> 0
B82: Sets | C82: Reps | D82: Weight | E82: RPE | F82: Relative Intensity | H82: Sets | I82: Reps | J82: Weight | K82: RPE | L82: Relative Intensity | N82: Sets | O82: Reps | P82: Weight | Q82: RPE | R82: Relative Intensity
B83: 1 | F83: =IF(ISNUMBER(D83),D83/B95,) -> 0 | H83: 1 | L83: =IF(ISNUMBER(J83),J83/H95,) -> 0 | N83: 1 | R83: =IF(ISNUMBER(P83),P83/N95,) -> 0
B84: 2 | F84: =IF(ISNUMBER(D84),D84/B95,) -> 0 | H84: 2 | L84: =IF(ISNUMBER(J84),J84/H95,) -> 0 | N84: 2 | R84: =IF(ISNUMBER(P84),P84/N95,) -> 0
B85: 3 | F85: =IF(ISNUMBER(D85),D85/B95,) -> 0 | H85: 3 | L85: =IF(ISNUMBER(J85),J85/H95,) -> 0 | N85: 3 | R85: =IF(ISNUMBER(P85),P85/N95,) -> 0
B86: 4 | F86: =IF(ISNUMBER(D86),D86/B95,) -> 0 | H86: 4 | L86: =IF(ISNUMBER(J86),J86/H95,) -> 0 | N86: 4 | R86: =IF(ISNUMBER(P86),P86/N95,) -> 0
B87: 5 | F87: =IF(ISNUMBER(D87),D87/B95,) -> 0 | H87: 5 | L87: =IF(ISNUMBER(J87),J87/H95,) -> 0 | N87: 5 | R87: =IF(ISNUMBER(P87),P87/N95,) -> 0
B88: 6 | F88: =IF(ISNUMBER(D88),D88/B95,) -> 0 | H88: 6 | L88: =IF(ISNUMBER(J88),J88/H95,) -> 0 | N88: 6 | R88: =IF(ISNUMBER(P88),P88/N95,) -> 0
B89: 7 | F89: =IF(ISNUMBER(D89),D89/B95,) -> 0 | H89: 7 | L89: =IF(ISNUMBER(J89),J89/H95,) -> 0 | N89: 7 | R89: =IF(ISNUMBER(P89),P89/N95,) -> 0
B90: 8 | F90: =IF(ISNUMBER(D90),D90/B95,) -> 0 | H90: 8 | L90: =IF(ISNUMBER(J90),J90/H95,) -> 0 | N90: 8 | R90: =IF(ISNUMBER(P90),P90/N95,) -> 0
B91: 9 | F91: =IF(ISNUMBER(D91),D91/B95,) -> 0 | H91: 9 | L91: =IF(ISNUMBER(J91),J91/H95,) -> 0 | N91: 9 | R91: =IF(ISNUMBER(P91),P91/N95,) -> 0
B92: 10 | F92: =IF(ISNUMBER(D92),D92/B95,) -> 0 | H92: 10 | L92: =IF(ISNUMBER(J92),J92/H95,) -> 0 | N92: 10 | R92: =IF(ISNUMBER(P92),P92/N95,) -> 0
B93: e1RM | C93: Average Intensity | E93: =IFERROR(IF(COUNT(F83:F92)>0,AVERAGEIF(F83:F92,">0"),0),) -> 0 | H93: e1RM | I93: Average Intensity | K93: =IFERROR(IF(COUNT(L83:L92)>0,AVERAGEIF(L83:L92,">0"),0),) -> 0 | N93: e1RM | O93: Average Intensity | P93: =IFERROR(IF(COUNT(R83:R92)>0,AVERAGEIF(R83:R92,">0"),0),) -> 0 | Q93: sRPE | R93: =IFERROR(Q97*R97,"")
B95: =IFERROR(ROUNDUP(B97/(0.0005*C97^2-0.0342*C97+1.034),0),) -> 0 | C95: nReps | D95: =SUM(C83:C92) -> 0 | E95: Volume | F95: =SUM(C83*D83,C84*D84,C85*D85,C86*D86,C87*D87,C88*D88,C89*D89,C90*D90,C91*D91,C92*D92) -> 0 | H95: =IFERROR(ROUNDUP(H97/(0.0005*I97^2-0.0342*I97+1.034),0),) -> 0 | I95: nReps | J95: =SUM(I83:I92) -> 0 | K95: Volume | L95: =SUM(I83*J83,I84*J84,I85*J85,I86*J86,I87*J87,I88*J88,I89*J89,I90*J90,I91*J91,I92*J92) -> 0 | N95: =IFERROR(ROUNDUP(N97/(0.0005*O97^2-0.0342*O97+1.034),0),) -> 0 | O95: nReps | P95: =SUM(O83:O92) -> 0 | Q95: Volume | R95: =SUM(O83*P83,O84*P84,O85*P85,O86*P86,O87*P87,O88*P88,O89*P89,O90*P90,O91*P91,O92*P92) -> 0
B97: =IFERROR(OFFSET(D82,MATCH(MAX(D83:D92),D83:D92,0),0),"") | C97: =IFERROR(OFFSET(C82,MATCH(MAX(D83:D92),D83:D92,0),0)+(10-OFFSET(E82,MATCH(MAX(D83:D92),D83:D92,0),0)),"") | H97: =IFERROR(OFFSET(J82,MATCH(MAX(J83:J92),J83:J92,0),0),"") | I97: =IFERROR(OFFSET(I82,MATCH(MAX(J83:J92),J83:J92,0),0)+(10-OFFSET(K82,MATCH(MAX(J83:J92),J83:J92,0),0)),"") | N97: =IFERROR(OFFSET(P82,MATCH(MAX(P83:P92),P83:P92,0),0),"") | O97: =IFERROR(OFFSET(O82,MATCH(MAX(P83:P92),P83:P92,0),0)+(10-OFFSET(Q82,MATCH(MAX(P83:P92),P83:P92,0),0)),"") | Q97: =IFERROR(AVERAGE(AVERAGE(E83:E92),AVERAGE(K83:K92),AVERAGE(Q83:Q92)),"") | R97: =SUM(C83:C92,I83:I92,O83:O92) -> 0
B99: Day 4
B103: 1 | C103: ='Training Plan'!L191 -> 0 | H103: 2 | I103: ='Training Plan'!L199 -> 0 | N103: 3 | O103: ='Training Plan'!L207 -> 0
B105: Sets x Reps @RPE / % | D105: ='Training Plan'!L192 -> 0 | H105: Sets x Reps @RPE / % | J105: ='Training Plan'!L200 -> 0 | N105: Sets x Reps @RPE / % | P105: ='Training Plan'!L208 -> 0
B110: Rest Periods | D110: ='Training Plan'!M197 -> 0 | H110: Rest Periods | J110: ='Training Plan'!M205 -> 0 | N110: Rest Periods | P110: ='Training Plan'!M213 -> 0
B112: Sets | C112: Reps | D112: Weight | E112: RPE | F112: Relative Intensity | H112: Sets | I112: Reps | J112: Weight | K112: RPE | L112: Relative Intensity | N112: Sets | O112: Reps | P112: Weight | Q112: RPE | R112: Relative Intensity
B113: 1 | F113: =IF(ISNUMBER(D113),D113/B125,) -> 0 | H113: 1 | L113: =IF(ISNUMBER(J113),J113/H125,) -> 0 | N113: 1 | R113: =IF(ISNUMBER(P113),P113/N125,) -> 0
B114: 2 | F114: =IF(ISNUMBER(D114),D114/B125,) -> 0 | H114: 2 | L114: =IF(ISNUMBER(J114),J114/H125,) -> 0 | N114: 2 | R114: =IF(ISNUMBER(P114),P114/N125,) -> 0
B115: 3 | F115: =IF(ISNUMBER(D115),D115/B125,) -> 0 | H115: 3 | L115: =IF(ISNUMBER(J115),J115/H125,) -> 0 | N115: 3 | R115: =IF(ISNUMBER(P115),P115/N125,) -> 0
B116: 4 | F116: =IF(ISNUMBER(D116),D116/B125,) -> 0 | H116: 4 | L116: =IF(ISNUMBER(J116),J116/H125,) -> 0 | N116: 4 | R116: =IF(ISNUMBER(P116),P116/N125,) -> 0
B117: 5 | F117: =IF(ISNUMBER(D117),D117/B125,) -> 0 | H117: 5 | L117: =IF(ISNUMBER(J117),J117/H125,) -> 0 | N117: 5 | R117: =IF(ISNUMBER(P117),P117/N125,) -> 0
B118: 6 | F118: =IF(ISNUMBER(D118),D118/B125,) -> 0 | H118: 6 | L118: =IF(ISNUMBER(J118),J118/H125,) -> 0 | N118: 6 | R118: =IF(ISNUMBER(P118),P118/N125,) -> 0
B119: 7 | F119: =IF(ISNUMBER(D119),D119/B125,) -> 0 | H119: 7 | L119: =IF(ISNUMBER(J119),J119/H125,) -> 0 | N119: 7 | R119: =IF(ISNUMBER(P119),P119/N125,) -> 0
B120: 8 | F120: =IF(ISNUMBER(D120),D120/B125,) -> 0 | H120: 8 | L120: =IF(ISNUMBER(J120),J120/H125,) -> 0 | N120: 8 | R120: =IF(ISNUMBER(P120),P120/N125,) -> 0
B121: 9 | F121: =IF(ISNUMBER(D121),D121/B125,) -> 0 | H121: 9 | L121: =IF(ISNUMBER(J121),J121/H125,) -> 0 | N121: 9 | R121: =IF(ISNUMBER(P121),P121/N125,) -> 0
B122: 10 | F122: =IF(ISNUMBER(D122),D122/B125,) -> 0 | H122: 10 | L122: =IF(ISNUMBER(J122),J122/H125,) -> 0 | N122: 10 | R122: =IF(ISNUMBER(P122),P122/N125,) -> 0
B123: e1RM | C123: Average Intensity | E123: =IFERROR(IF(COUNT(F113:F122)>0,AVERAGEIF(F113:F122,">0"),0),) -> 0 | H123: e1RM | I123: Average Intensity | K123: =IFERROR(IF(COUNT(L113:L122)>0,AVERAGEIF(L113:L122,">0"),0),) -> 0 | N123: e1RM | O123: Average Intensity | P123: =IFERROR(IF(COUNT(R113:R122)>0,AVERAGEIF(R113:R122,">0"),0),) -> 0 | Q123: sRPE | R123: =IFERROR(Q127*R127,"")
B125: =IFERROR(ROUNDUP(B127/(0.0005*C127^2-0.0342*C127+1.034),0),) -> 0 | C125: nReps | D125: =SUM(C113:C122) -> 0 | E125: Volume | F125: =SUM(C113*D113,C114*D114,C115*D115,C116*D116,C117*D117,C118*D118,C119*D119,C120*D120,C121*D121,C122*D122) -> 0 | H125: =IFERROR(ROUNDUP(H127/(0.0005*I127^2-0.0342*I127+1.034),0),) -> 0 | I125: nReps | J125: =SUM(I113:I122) -> 0 | K125: Volume | L125: =SUM(I113*J113,I114*J114,I115*J115,I116*J116,I117*J117,I118*J118,I119*J119,I120*J120,I121*J121,I122*J122) -> 0 | N125: =IFERROR(ROUNDUP(N127/(0.0005*O127^2-0.0342*O127+1.034),0),) -> 0 | O125: nReps | P125: =SUM(O113:O122) -> 0 | Q125: Volume | R125: =SUM(O113*P113,O114*P114,O115*P115,O116*P116,O117*P117,O118*P118,O119*P119,O120*P120,O121*P121,O122*P122) -> 0
B127: =IFERROR(OFFSET(D112,MATCH(MAX(D113:D122),D113:D122,0),0),"") | C127: =IFERROR(OFFSET(C112,MATCH(MAX(D113:D122),D113:D122,0),0)+(10-OFFSET(E112,MATCH(MAX(D113:D122),D113:D122,0),0)),"") | H127: =IFERROR(OFFSET(J112,MATCH(MAX(J113:J122),J113:J122,0),0),"") | I127: =IFERROR(OFFSET(I112,MATCH(MAX(J113:J122),J113:J122,0),0)+(10-OFFSET(K112,MATCH(MAX(J113:J122),J113:J122,0),0)),"") | N127: =IFERROR(OFFSET(P112,MATCH(MAX(P113:P122),P113:P122,0),0),"") | O127: =IFERROR(OFFSET(O112,MATCH(MAX(P113:P122),P113:P122,0),0)+(10-OFFSET(Q112,MATCH(MAX(P113:P122),P113:P122,0),0)),"") | Q127: =IFERROR(AVERAGE(AVERAGE(E113:E122),AVERAGE(K113:K122),AVERAGE(Q113:Q122)),"") | R127: =SUM(C113:C122,I113:I122,O113:O122) -> 0
B129: Day 5
B133: 1 | C133: ='Training Plan'!O191 -> 0 | H133: 2 | I133: ='Training Plan'!O199 -> 0 | N133: 3 | O133: ='Training Plan'!O207 -> 0
B135: Sets x Reps @RPE / % | D135: ='Training Plan'!O192 -> 0 | H135: Sets x Reps @RPE / % | J135: ='Training Plan'!O200 -> 0 | N135: Sets x Reps @RPE / % | P135: ='Training Plan'!O208 -> 0
B140: Rest Periods | D140: ='Training Plan'!P197 -> 0 | H140: Rest Periods | J140: ='Training Plan'!P205 -> 0 | N140: Rest Periods | P140: ='Training Plan'!P213 -> 0
B142: Sets | C142: Reps | D142: Weight | E142: RPE | F142: Relative Intensity | H142: Sets | I142: Reps | J142: Weight | K142: RPE | L142: Relative Intensity | N142: Sets | O142: Reps | P142: Weight | Q142: RPE | R142: Relative Intensity
B143: 1 | F143: =IF(ISNUMBER(D143),D143/B155,) -> 0 | H143: 1 | L143: =IF(ISNUMBER(J143),J143/H155,) -> 0 | N143: 1 | R143: =IF(ISNUMBER(P143),P143/N155,) -> 0
B144: 2 | F144: =IF(ISNUMBER(D144),D144/B155,) -> 0 | H144: 2 | L144: =IF(ISNUMBER(J144),J144/H155,) -> 0 | N144: 2 | R144: =IF(ISNUMBER(P144),P144/N155,) -> 0
B145: 3 | F145: =IF(ISNUMBER(D145),D145/B155,) -> 0 | H145: 3 | L145: =IF(ISNUMBER(J145),J145/H155,) -> 0 | N145: 3 | R145: =IF(ISNUMBER(P145),P145/N155,) -> 0
B146: 4 | F146: =IF(ISNUMBER(D146),D146/B155,) -> 0 | H146: 4 | L146: =IF(ISNUMBER(J146),J146/H155,) -> 0 | N146: 4 | R146: =IF(ISNUMBER(P146),P146/N155,) -> 0
B147: 5 | F147: =IF(ISNUMBER(D147),D147/B155,) -> 0 | H147: 5 | L147: =IF(ISNUMBER(J147),J147/H155,) -> 0 | N147: 5 | R147: =IF(ISNUMBER(P147),P147/N155,) -> 0
B148: 6 | F148: =IF(ISNUMBER(D148),D148/B155,) -> 0 | H148: 6 | L148: =IF(ISNUMBER(J148),J148/H155,) -> 0 | N148: 6 | R148: =IF(ISNUMBER(P148),P148/N155,) -> 0
B149: 7 | F149: =IF(ISNUMBER(D149),D149/B155,) -> 0 | H149: 7 | L149: =IF(ISNUMBER(J149),J149/H155,) -> 0 | N149: 7 | R149: =IF(ISNUMBER(P149),P149/N155,) -> 0
B150: 8 | F150: =IF(ISNUMBER(D150),D150/B155,) -> 0 | H150: 8 | L150: =IF(ISNUMBER(J150),J150/H155,) -> 0 | N150: 8 | R150: =IF(ISNUMBER(P150),P150/N155,) -> 0
B151: 9 | F151: =IF(ISNUMBER(D151),D151/B155,) -> 0 | H151: 9 | L151: =IF(ISNUMBER(J151),J151/H155,) -> 0 | N151: 9 | R151: =IF(ISNUMBER(P151),P151/N155,) -> 0
B152: 10 | F152: =IF(ISNUMBER(D152),D152/B155,) -> 0 | H152: 10 | L152: =IF(ISNUMBER(J152),J152/H155,) -> 0 | N152: 10 | R152: =IF(ISNUMBER(P152),P152/N155,) -> 0
B153: e1RM | C153: Average Intensity | E153: =IFERROR(IF(COUNT(F143:F152)>0,AVERAGEIF(F143:F152,">0"),0),) -> 0 | H153: e1RM | I153: Average Intensity | K153: =IFERROR(IF(COUNT(L143:L152)>0,AVERAGEIF(L143:L152,">0"),0),) -> 0 | N153: e1RM | O153: Average Intensity | P153: =IFERROR(IF(COUNT(R143:R152)>0,AVERAGEIF(R143:R152,">0"),0),) -> 0 | Q153: sRPE | R153: =IFERROR(Q157*R157,"")
B155: =IFERROR(ROUNDUP(B157/(0.0005*C157^2-0.0342*C157+1.034),0),) -> 0 | C155: nReps | D155: =SUM(C143:C152) -> 0 | E155: Volume | F155: =SUM(C143*D143,C144*D144,C145*D145,C146*D146,C147*D147,C148*D148,C149*D149,C150*D150,C151*D151,C152*D152) -> 0 | H155: =IFERROR(ROUNDUP(H157/(0.0005*I157^2-0.0342*I157+1.034),0),) -> 0 | I155: nReps | J155: =SUM(I143:I152) -> 0 | K155: Volume | L155: =SUM(I143*J143,I144*J144,I145*J145,I146*J146,I147*J147,I148*J148,I149*J149,I150*J150,I151*J151,I152*J152) -> 0 | N155: =IFERROR(ROUNDUP(N157/(0.0005*O157^2-0.0342*O157+1.034),0),) -> 0 | O155: nReps | P155: =SUM(O143:O152) -> 0 | Q155: Volume | R155: =SUM(O143*P143,O144*P144,O145*P145,O146*P146,O147*P147,O148*P148,O149*P149,O150*P150,O151*P151,O152*P152) -> 0
B157: =IFERROR(OFFSET(D142,MATCH(MAX(D143:D152),D143:D152,0),0),"") | C157: =IFERROR(OFFSET(C142,MATCH(MAX(D143:D152),D143:D152,0),0)+(10-OFFSET(E142,MATCH(MAX(D143:D152),D143:D152,0),0)),"") | H157: =IFERROR(OFFSET(J142,MATCH(MAX(J143:J152),J143:J152,0),0),"") | I157: =IFERROR(OFFSET(I142,MATCH(MAX(J143:J152),J143:J152,0),0)+(10-OFFSET(K142,MATCH(MAX(J143:J152),J143:J152,0),0)),"") | N157: =IFERROR(OFFSET(P142,MATCH(MAX(P143:P152),P143:P152,0),0),"") | O157: =IFERROR(OFFSET(O142,MATCH(MAX(P143:P152),P143:P152,0),0)+(10-OFFSET(Q142,MATCH(MAX(P143:P152),P143:P152,0),0)),"") | Q157: =IFERROR(AVERAGE(AVERAGE(E143:E152),AVERAGE(K143:K152),AVERAGE(Q143:Q152)),"") | R157: =SUM(C143:C152,I143:I152,O143:O152) -> 0
B159: General Physical Prepardness (GPP)
C163: ='Training Plan'!C216 -> 0 | F163: ='Training Plan'!F216 -> 0 | I163: ='Training Plan'!I216 -> 0 | L163: ='Training Plan'!L216 -> 0 | O163: ='Training Plan'!O216 -> 0
C165: ='Training Plan'!C217 -> 0 | F165: ='Training Plan'!F217 -> 0 | I165: ='Training Plan'!I217 -> 0 | L165: ='Training Plan'!L217 -> 0 | O165: ='Training Plan'!O217 -> 0
C168: Log | F168: Log | I168: Log | L168: Log | O168: Log
B174: Fatigue Assessement & Comments and Observations
C178: Sleep Quality | E178: Calorie Intake | G178: Perceived Recovery | I178: Perceived Stress | K178: Bodyweight (kg) | M178: Comments and Observations
B180: Day 1
B182: Day 2
B184: Day 3
...

Sheet Week 7
C3: ='Training Plan'!B222 -> 0 | E3: Week 7 Training Log
B9: Day 1
B13: 1 | C13: ='Training Plan'!C226 -> 0 | H13: 2 | I13: ='Training Plan'!C234 -> 0 | N13: 3 | O13: ='Training Plan'!C242 -> 0
B15: Sets x Reps @RPE / % | D15: ='Training Plan'!C227 -> 0 | H15: Sets x Reps @RPE / % | J15: ='Training Plan'!C235 -> 0 | N15: Sets x Reps @RPE / % | P15: ='Training Plan'!C243 -> 0
B20: Rest Periods | D20: ='Training Plan'!D232 -> 0 | H20: Rest Periods | J20: ='Training Plan'!D240 -> 0 | N20: Rest Periods | P20: ='Training Plan'!D248 -> 0
B22: Sets | C22: Reps | D22: Weight | E22: RPE | F22: Relative Intensity | H22: Sets | I22: Reps | J22: Weight | K22: RPE | L22: Relative Intensity | N22: Sets | O22: Reps | P22: Weight | Q22: RPE | R22: Relative Intensity
B23: 1 | F23: =IF(ISNUMBER(D23),D23/B35,) -> 0 | H23: 1 | L23: =IF(ISNUMBER(J23),J23/H35,) -> 0 | N23: 1 | R23: =IF(ISNUMBER(P23),P23/N35,) -> 0
B24: 2 | F24: =IF(ISNUMBER(D24),D24/B35,) -> 0 | H24: 2 | L24: =IF(ISNUMBER(J24),J24/H35,) -> 0 | N24: 2 | R24: =IF(ISNUMBER(P24),P24/N35,) -> 0
B25: 3 | F25: =IF(ISNUMBER(D25),D25/B35,) -> 0 | H25: 3 | L25: =IF(ISNUMBER(J25),J25/H35,) -> 0 | N25: 3 | R25: =IF(ISNUMBER(P25),P25/N35,) -> 0
B26: 4 | F26: =IF(ISNUMBER(D26),D26/B35,) -> 0 | H26: 4 | L26: =IF(ISNUMBER(J26),J26/H35,) -> 0 | N26: 4 | R26: =IF(ISNUMBER(P26),P26/N35,) -> 0
B27: 5 | F27: =IF(ISNUMBER(D27),D27/B35,) -> 0 | H27: 5 | L27: =IF(ISNUMBER(J27),J27/H35,) -> 0 | N27: 5 | R27: =IF(ISNUMBER(P27),P27/N35,) -> 0
B28: 6 | F28: =IF(ISNUMBER(D28),D28/B35,) -> 0 | H28: 6 | L28: =IF(ISNUMBER(J28),J28/H35,) -> 0 | N28: 6 | R28: =IF(ISNUMBER(P28),P28/N35,) -> 0
B29: 7 | F29: =IF(ISNUMBER(D29),D29/B35,) -> 0 | H29: 7 | L29: =IF(ISNUMBER(J29),J29/H35,) -> 0 | N29: 7 | R29: =IF(ISNUMBER(P29),P29/N35,) -> 0
B30: 8 | F30: =IF(ISNUMBER(D30),D30/B35,) -> 0 | H30: 8 | L30: =IF(ISNUMBER(J30),J30/H35,) -> 0 | N30: 8 | R30: =IF(ISNUMBER(P30),P30/N35,) -> 0
B31: 9 | F31: =IF(ISNUMBER(D31),D31/B35,) -> 0 | H31: 9 | L31: =IF(ISNUMBER(J31),J31/H35,) -> 0 | N31: 9 | R31: =IF(ISNUMBER(P31),P31/N35,) -> 0
B32: 10 | F32: =IF(ISNUMBER(D32),D32/B35,) -> 0 | H32: 10 | L32: =IF(ISNUMBER(J32),J32/H35,) -> 0 | N32: 10 | R32: =IF(ISNUMBER(P32),P32/N35,) -> 0
B33: e1RM | C33: Average Intensity | E33: =IFERROR(IF(COUNT(F23:F32)>0,AVERAGEIF(F23:F32,">0"),0),) -> 0 | H33: e1RM | I33: Average Intensity | K33: =IFERROR(IF(COUNT(L23:L32)>0,AVERAGEIF(L23:L32,">0"),0),) -> 0 | N33: e1RM | O33: Average Intensity | P33: =IFERROR(IF(COUNT(R23:R32)>0,AVERAGEIF(R23:R32,">0"),0),) -> 0 | Q33: sRPE | R33: =IFERROR(Q37*R37,"")
B35: =IFERROR(ROUNDUP(B37/(0.0005*C37^2-0.0342*C37+1.034),0),) -> 0 | C35: nReps | D35: =SUM(C23:C32) -> 0 | E35: Volume | F35: =SUM(C23*D23,C24*D24,C25*D25,C26*D26,C27*D27,C28*D28,C29*D29,C30*D30,C31*D31,C32*D32) -> 0 | H35: =IFERROR(ROUNDUP(H37/(0.0005*I37^2-0.0342*I37+1.034),0),) -> 0 | I35: nReps | J35: =SUM(I23:I32) -> 0 | K35: Volume | L35: =SUM(I23*J23,I24*J24,I25*J25,I26*J26,I27*J27,I28*J28,I29*J29,I30*J30,I31*J31,I32*J32) -> 0 | N35: =IFERROR(ROUNDUP(N37/(0.0005*O37^2-0.0342*O37+1.034),0),) -> 0 | O35: nReps | P35: =SUM(O23:O32) -> 0 | Q35: Volume | R35: =SUM(O23*P23,O24*P24,O25*P25,O26*P26,O27*P27,O28*P28,O29*P29,O30*P30,O31*P31,O32*P32) -> 0
B37: =IFERROR(OFFSET(D22,MATCH(MAX(D23:D32),D23:D32,0),0),"") | C37: =IFERROR(OFFSET(C22,MATCH(MAX(D23:D32),D23:D32,0),0)+(10-OFFSET(E22,MATCH(MAX(D23:D32),D23:D32,0),0)),"") | H37: =IFERROR(OFFSET(J22,MATCH(MAX(J23:J32),J23:J32,0),0),"") | I37: =IFERROR(OFFSET(I22,MATCH(MAX(J23:J32),J23:J32,0),0)+(10-OFFSET(K22,MATCH(MAX(J23:J32),J23:J32,0),0)),"") | N37: =IFERROR(OFFSET(P22,MATCH(MAX(P23:P32),P23:P32,0),0),"") | O37: =IFERROR(OFFSET(O22,MATCH(MAX(P23:P32),P23:P32,0),0)+(10-OFFSET(Q22,MATCH(MAX(P23:P32),P23:P32,0),0)),"") | Q37: =IFERROR(AVERAGE(AVERAGE(E23:E32),AVERAGE(K23:K32),AVERAGE(Q23:Q32)),"") | R37: =SUM(C23:C32,I23:I32,O23:O32) -> 0
B39: Day 2
B43: 1 | C43: ='Training Plan'!F226 -> 0 | H43: 2 | I43: ='Training Plan'!F234 -> 0 | N43: 3 | O43: ='Training Plan'!F242 -> 0
B45: Sets x Reps @RPE / % | D45: ='Training Plan'!F227 -> 0 | H45: Sets x Reps @RPE / % | J45: ='Training Plan'!F235 -> 0 | N45: Sets x Reps @RPE / % | P45: ='Training Plan'!F243 -> 0
B50: Rest Periods | D50: ='Training Plan'!G232 -> 0 | H50: Rest Periods | J50: ='Training Plan'!G240 -> 0 | N50: Rest Periods | P50: ='Training Plan'!G248 -> 0
B52: Sets | C52: Reps | D52: Weight | E52: RPE | F52: Relative Intensity | H52: Sets | I52: Reps | J52: Weight | K52: RPE | L52: Relative Intensity | N52: Sets | O52: Reps | P52: Weight | Q52: RPE | R52: Relative Intensity
B53: 1 | F53: =IF(ISNUMBER(D53),D53/B65,) -> 0 | H53: 1 | L53: =IF(ISNUMBER(J53),J53/H65,) -> 0 | N53: 1 | R53: =IF(ISNUMBER(P53),P53/N65,) -> 0
B54: 2 | F54: =IF(ISNUMBER(D54),D54/B65,) -> 0 | H54: 2 | L54: =IF(ISNUMBER(J54),J54/H65,) -> 0 | N54: 2 | R54: =IF(ISNUMBER(P54),P54/N65,) -> 0
B55: 3 | F55: =IF(ISNUMBER(D55),D55/B65,) -> 0 | H55: 3 | L55: =IF(ISNUMBER(J55),J55/H65,) -> 0 | N55: 3 | R55: =IF(ISNUMBER(P55),P55/N65,) -> 0
B56: 4 | F56: =IF(ISNUMBER(D56),D56/B65,) -> 0 | H56: 4 | L56: =IF(ISNUMBER(J56),J56/H65,) -> 0 | N56: 4 | R56: =IF(ISNUMBER(P56),P56/N65,) -> 0
B57: 5 | F57: =IF(ISNUMBER(D57),D57/B65,) -> 0 | H57: 5 | L57: =IF(ISNUMBER(J57),J57/H65,) -> 0 | N57: 5 | R57: =IF(ISNUMBER(P57),P57/N65,) -> 0
B58: 6 | F58: =IF(ISNUMBER(D58),D58/B65,) -> 0 | H58: 6 | L58: =IF(ISNUMBER(J58),J58/H65,) -> 0 | N58: 6 | R58: =IF(ISNUMBER(P58),P58/N65,) -> 0
B59: 7 | F59: =IF(ISNUMBER(D59),D59/B65,) -> 0 | H59: 7 | L59: =IF(ISNUMBER(J59),J59/H65,) -> 0 | N59: 7 | R59: =IF(ISNUMBER(P59),P59/N65,) -> 0
B60: 8 | F60: =IF(ISNUMBER(D60),D60/B65,) -> 0 | H60: 8 | L60: =IF(ISNUMBER(J60),J60/H65,) -> 0 | N60: 8 | R60: =IF(ISNUMBER(P60),P60/N65,) -> 0
B61: 9 | F61: =IF(ISNUMBER(D61),D61/B65,) -> 0 | H61: 9 | L61: =IF(ISNUMBER(J61),J61/H65,) -> 0 | N61: 9 | R61: =IF(ISNUMBER(P61),P61/N65,) -> 0
B62: 10 | F62: =IF(ISNUMBER(D62),D62/B65,) -> 0 | H62: 10 | L62: =IF(ISNUMBER(J62),J62/H65,) -> 0 | N62: 10 | R62: =IF(ISNUMBER(P62),P62/N65,) -> 0
B63: e1RM | C63: Average Intensity | E63: =IFERROR(IF(COUNT(F53:F62)>0,AVERAGEIF(F53:F62,">0"),0),) -> 0 | H63: e1RM | I63: Average Intensity | K63: =IFERROR(IF(COUNT(L53:L62)>0,AVERAGEIF(L53:L62,">0"),0),) -> 0 | N63: e1RM | O63: Average Intensity | P63: =IFERROR(IF(COUNT(R53:R62)>0,AVERAGEIF(R53:R62,">0"),0),) -> 0 | Q63: sRPE | R63: =IFERROR(Q67*R67,"")
B65: =IFERROR(ROUNDUP(B67/(0.0005*C67^2-0.0342*C67+1.034),0),) -> 0 | C65: nReps | D65: =SUM(C53:C62) -> 0 | E65: Volume | F65: =SUM(C53*D53,C54*D54,C55*D55,C56*D56,C57*D57,C58*D58,C59*D59,C60*D60,C61*D61,C62*D62) -> 0 | H65: =IFERROR(ROUNDUP(H67/(0.0005*I67^2-0.0342*I67+1.034),0),) -> 0 | I65: nReps | J65: =SUM(I53:I62) -> 0 | K65: Volume | L65: =SUM(I53*J53,I54*J54,I55*J55,I56*J56,I57*J57,I58*J58,I59*J59,I60*J60,I61*J61,I62*J62) -> 0 | N65: =IFERROR(ROUNDUP(N67/(0.0005*O67^2-0.0342*O67+1.034),0),) -> 0 | O65: nReps | P65: =SUM(O53:O62) -> 0 | Q65: Volume | R65: =SUM(O53*P53,O54*P54,O55*P55,O56*P56,O57*P57,O58*P58,O59*P59,O60*P60,O61*P61,O62*P62) -> 0
B67: =IFERROR(OFFSET(D52,MATCH(MAX(D53:D62),D53:D62,0),0),"") | C67: =IFERROR(OFFSET(C52,MATCH(MAX(D53:D62),D53:D62,0),0)+(10-OFFSET(E52,MATCH(MAX(D53:D62),D53:D62,0),0)),"") | H67: =IFERROR(OFFSET(J52,MATCH(MAX(J53:J62),J53:J62,0),0),"") | I67: =IFERROR(OFFSET(I52,MATCH(MAX(J53:J62),J53:J62,0),0)+(10-OFFSET(K52,MATCH(MAX(J53:J62),J53:J62,0),0)),"") | N67: =IFERROR(OFFSET(P52,MATCH(MAX(P53:P62),P53:P62,0),0),"") | O67: =IFERROR(OFFSET(O52,MATCH(MAX(P53:P62),P53:P62,0),0)+(10-OFFSET(Q52,MATCH(MAX(P53:P62),P53:P62,0),0)),"") | Q67: =IFERROR(AVERAGE(AVERAGE(E53:E62),AVERAGE(K53:K62),AVERAGE(Q53:Q62)),"") | R67: =SUM(C53:C62,I53:I62,O53:O62) -> 0
B69: Day 3
B73: 1 | C73: ='Training Plan'!I226 -> 0 | H73: 2 | I73: ='Training Plan'!I234 -> 0 | N73: 3 | O73: ='Training Plan'!I242 -> 0
B75: Sets x Reps @RPE / % | D75: ='Training Plan'!I227 -> 0 | H75: Sets x Reps @RPE / % | J75: ='Training Plan'!I235 -> 0 | N75: Sets x Reps @RPE / % | P75: ='Training Plan'!I243 -> 0
B80: Rest Periods | D80: ='Training Plan'!J232 -> 0 | H80: Rest Periods | J80: ='Training Plan'!J240 -> 0 | N80: Rest Periods | P80: ='Training Plan'!J248 -> 0
B82: Sets | C82: Reps | D82: Weight | E82: RPE | F82: Relative Intensity | H82: Sets | I82: Reps | J82: Weight | K82: RPE | L82: Relative Intensity | N82: Sets | O82: Reps | P82: Weight | Q82: RPE | R82: Relative Intensity
B83: 1 | F83: =IF(ISNUMBER(D83),D83/B95,) -> 0 | H83: 1 | L83: =IF(ISNUMBER(J83),J83/H95,) -> 0 | N83: 1 | R83: =IF(ISNUMBER(P83),P83/N95,) -> 0
B84: 2 | F84: =IF(ISNUMBER(D84),D84/B95,) -> 0 | H84: 2 | L84: =IF(ISNUMBER(J84),J84/H95,) -> 0 | N84: 2 | R84: =IF(ISNUMBER(P84),P84/N95,) -> 0
B85: 3 | F85: =IF(ISNUMBER(D85),D85/B95,) -> 0 | H85: 3 | L85: =IF(ISNUMBER(J85),J85/H95,) -> 0 | N85: 3 | R85: =IF(ISNUMBER(P85),P85/N95,) -> 0
B86: 4 | F86: =IF(ISNUMBER(D86),D86/B95,) -> 0 | H86: 4 | L86: =IF(ISNUMBER(J86),J86/H95,) -> 0 | N86: 4 | R86: =IF(ISNUMBER(P86),P86/N95,) -> 0
B87: 5 | F87: =IF(ISNUMBER(D87),D87/B95,) -> 0 | H87: 5 | L87: =IF(ISNUMBER(J87),J87/H95,) -> 0 | N87: 5 | R87: =IF(ISNUMBER(P87),P87/N95,) -> 0
B88: 6 | F88: =IF(ISNUMBER(D88),D88/B95,) -> 0 | H88: 6 | L88: =IF(ISNUMBER(J88),J88/H95,) -> 0 | N88: 6 | R88: =IF(ISNUMBER(P88),P88/N95,) -> 0
B89: 7 | F89: =IF(ISNUMBER(D89),D89/B95,) -> 0 | H89: 7 | L89: =IF(ISNUMBER(J89),J89/H95,) -> 0 | N89: 7 | R89: =IF(ISNUMBER(P89),P89/N95,) -> 0
B90: 8 | F90: =IF(ISNUMBER(D90),D90/B95,) -> 0 | H90: 8 | L90: =IF(ISNUMBER(J90),J90/H95,) -> 0 | N90: 8 | R90: =IF(ISNUMBER(P90),P90/N95,) -> 0
B91: 9 | F91: =IF(ISNUMBER(D91),D91/B95,) -> 0 | H91: 9 | L91: =IF(ISNUMBER(J91),J91/H95,) -> 0 | N91: 9 | R91: =IF(ISNUMBER(P91),P91/N95,) -> 0
B92: 10 | F92: =IF(ISNUMBER(D92),D92/B95,) -> 0 | H92: 10 | L92: =IF(ISNUMBER(J92),J92/H95,) -> 0 | N92: 10 | R92: =IF(ISNUMBER(P92),P92/N95,) -> 0
B93: e1RM | C93: Average Intensity | E93: =IFERROR(IF(COUNT(F83:F92)>0,AVERAGEIF(F83:F92,">0"),0),) -> 0 | H93: e1RM | I93: Average Intensity | K93: =IFERROR(IF(COUNT(L83:L92)>0,AVERAGEIF(L83:L92,">0"),0),) -> 0 | N93: e1RM | O93: Average Intensity | P93: =IFERROR(IF(COUNT(R83:R92)>0,AVERAGEIF(R83:R92,">0"),0),) -> 0 | Q93: sRPE | R93: =IFERROR(Q97*R97,"")
B95: =IFERROR(ROUNDUP(B97/(0.0005*C97^2-0.0342*C97+1.034),0),) -> 0 | C95: nReps | D95: =SUM(C83:C92) -> 0 | E95: Volume | F95: =SUM(C83*D83,C84*D84,C85*D85,C86*D86,C87*D87,C88*D88,C89*D89,C90*D90,C91*D91,C92*D92) -> 0 | H95: =IFERROR(ROUNDUP(H97/(0.0005*I97^2-0.0342*I97+1.034),0),) -> 0 | I95: nReps | J95: =SUM(I83:I92) -> 0 | K95: Volume | L95: =SUM(I83*J83,I84*J84,I85*J85,I86*J86,I87*J87,I88*J88,I89*J89,I90*J90,I91*J91,I92*J92) -> 0 | N95: =IFERROR(ROUNDUP(N97/(0.0005*O97^2-0.0342*O97+1.034),0),) -> 0 | O95: nReps | P95: =SUM(O83:O92) -> 0 | Q95: Volume | R95: =SUM(O83*P83,O84*P84,O85*P85,O86*P86,O87*P87,O88*P88,O89*P89,O90*P90,O91*P91,O92*P92) -> 0
B97: =IFERROR(OFFSET(D82,MATCH(MAX(D83:D92),D83:D92,0),0),"") | C97: =IFERROR(OFFSET(C82,MATCH(MAX(D83:D92),D83:D92,0),0)+(10-OFFSET(E82,MATCH(MAX(D83:D92),D83:D92,0),0)),"") | H97: =IFERROR(OFFSET(J82,MATCH(MAX(J83:J92),J83:J92,0),0),"") | I97: =IFERROR(OFFSET(I82,MATCH(MAX(J83:J92),J83:J92,0),0)+(10-OFFSET(K82,MATCH(MAX(J83:J92),J83:J92,0),0)),"") | N97: =IFERROR(OFFSET(P82,MATCH(MAX(P83:P92),P83:P92,0),0),"") | O97: =IFERROR(OFFSET(O82,MATCH(MAX(P83:P92),P83:P92,0),0)+(10-OFFSET(Q82,MATCH(MAX(P83:P92),P83:P92,0),0)),"") | Q97: =IFERROR(AVERAGE(AVERAGE(E83:E92),AVERAGE(K83:K92),AVERAGE(Q83:Q92)),"") | R97: =SUM(C83:C92,I83:I92,O83:O92) -> 0
B99: Day 4
B103: 1 | C103: ='Training Plan'!L226 -> 0 | H103: 2 | I103: ='Training Plan'!L234 -> 0 | N103: 3 | O103: ='Training Plan'!L242 -> 0
B105: Sets x Reps @RPE / % | D105: ='Training Plan'!L227 -> 0 | H105: Sets x Reps @RPE / % | J105: ='Training Plan'!L235 -> 0 | N105: Sets x Reps @RPE / % | P105: ='Training Plan'!L243 -> 0
B110: Rest Periods | D110: ='Training Plan'!M232 -> 0 | H110: Rest Periods | J110: ='Training Plan'!M240 -> 0 | N110: Rest Periods | P110: ='Training Plan'!M248 -> 0
B112: Sets | C112: Reps | D112: Weight | E112: RPE | F112: Relative Intensity | H112: Sets | I112: Reps | J112: Weight | K112: RPE | L112: Relative Intensity | N112: Sets | O112: Reps | P112: Weight | Q112: RPE | R112: Relative Intensity
B113: 1 | F113: =IF(ISNUMBER(D113),D113/B125,) -> 0 | H113: 1 | L113: =IF(ISNUMBER(J113),J113/H125,) -> 0 | N113: 1 | R113: =IF(ISNUMBER(P113),P113/N125,) -> 0
B114: 2 | F114: =IF(ISNUMBER(D114),D114/B125,) -> 0 | H114: 2 | L114: =IF(ISNUMBER(J114),J114/H125,) -> 0 | N114: 2 | R114: =IF(ISNUMBER(P114),P114/N125,) -> 0
B115: 3 | F115: =IF(ISNUMBER(D115),D115/B125,) -> 0 | H115: 3 | L115: =IF(ISNUMBER(J115),J115/H125,) -> 0 | N115: 3 | R115: =IF(ISNUMBER(P115),P115/N125,) -> 0
B116: 4 | F116: =IF(ISNUMBER(D116),D116/B125,) -> 0 | H116: 4 | L116: =IF(ISNUMBER(J116),J116/H125,) -> 0 | N116: 4 | R116: =IF(ISNUMBER(P116),P116/N125,) -> 0
B117: 5 | F117: =IF(ISNUMBER(D117),D117/B125,) -> 0 | H117: 5 | L117: =IF(ISNUMBER(J117),J117/H125,) -> 0 | N117: 5 | R117: =IF(ISNUMBER(P117),P117/N125,) -> 0
B118: 6 | F118: =IF(ISNUMBER(D118),D118/B125,) -> 0 | H118: 6 | L118: =IF(ISNUMBER(J118),J118/H125,) -> 0 | N118: 6 | R118: =IF(ISNUMBER(P118),P118/N125,) -> 0
B119: 7 | F119: =IF(ISNUMBER(D119),D119/B125,) -> 0 | H119: 7 | L119: =IF(ISNUMBER(J119),J119/H125,) -> 0 | N119: 7 | R119: =IF(ISNUMBER(P119),P119/N125,) -> 0
B120: 8 | F120: =IF(ISNUMBER(D120),D120/B125,) -> 0 | H120: 8 | L120: =IF(ISNUMBER(J120),J120/H125,) -> 0 | N120: 8 | R120: =IF(ISNUMBER(P120),P120/N125,) -> 0
B121: 9 | F121: =IF(ISNUMBER(D121),D121/B125,) -> 0 | H121: 9 | L121: =IF(ISNUMBER(J121),J121/H125,) -> 0 | N121: 9 | R121: =IF(ISNUMBER(P121),P121/N125,) -> 0
B122: 10 | F122: =IF(ISNUMBER(D122),D122/B125,) -> 0 | H122: 10 | L122: =IF(ISNUMBER(J122),J122/H125,) -> 0 | N122: 10 | R122: =IF(ISNUMBER(P122),P122/N125,) -> 0
B123: e1RM | C123: Average Intensity | E123: =IFERROR(IF(COUNT(F113:F122)>0,AVERAGEIF(F113:F122,">0"),0),) -> 0 | H123: e1RM | I123: Average Intensity | K123: =IFERROR(IF(COUNT(L113:L122)>0,AVERAGEIF(L113:L122,">0"),0),) -> 0 | N123: e1RM | O123: Average Intensity | P123: =IFERROR(IF(COUNT(R113:R122)>0,AVERAGEIF(R113:R122,">0"),0),) -> 0 | Q123: sRPE | R123: =IFERROR(Q127*R127,"")
B125: =IFERROR(ROUNDUP(B127/(0.0005*C127^2-0.0342*C127+1.034),0),) -> 0 | C125: nReps | D125: =SUM(C113:C122) -> 0 | E125: Volume | F125: =SUM(C113*D113,C114*D114,C115*D115,C116*D116,C117*D117,C118*D118,C119*D119,C120*D120,C121*D121,C122*D122) -> 0 | H125: =IFERROR(ROUNDUP(H127/(0.0005*I127^2-0.0342*I127+1.034),0),) -> 0 | I125: nReps | J125: =SUM(I113:I122) -> 0 | K125: Volume | L125: =SUM(I113*J113,I114*J114,I115*J115,I116*J116,I117*J117,I118*J118,I119*J119,I120*J120,I121*J121,I122*J122) -> 0 | N125: =IFERROR(ROUNDUP(N127/(0.0005*O127^2-0.0342*O127+1.034),0),) -> 0 | O125: nReps | P125: =SUM(O113:O122) -> 0 | Q125: Volume | R125: =SUM(O113*P113,O114*P114,O115*P115,O116*P116,O117*P117,O118*P118,O119*P119,O120*P120,O121*P121,O122*P122) -> 0
B127: =IFERROR(OFFSET(D112,MATCH(MAX(D113:D122),D113:D122,0),0),"") | C127: =IFERROR(OFFSET(C112,MATCH(MAX(D113:D122),D113:D122,0),0)+(10-OFFSET(E112,MATCH(MAX(D113:D122),D113:D122,0),0)),"") | H127: =IFERROR(OFFSET(J112,MATCH(MAX(J113:J122),J113:J122,0),0),"") | I127: =IFERROR(OFFSET(I112,MATCH(MAX(J113:J122),J113:J122,0),0)+(10-OFFSET(K112,MATCH(MAX(J113:J122),J113:J122,0),0)),"") | N127: =IFERROR(OFFSET(P112,MATCH(MAX(P113:P122),P113:P122,0),0),"") | O127: =IFERROR(OFFSET(O112,MATCH(MAX(P113:P122),P113:P122,0),0)+(10-OFFSET(Q112,MATCH(MAX(P113:P122),P113:P122,0),0)),"") | Q127: =IFERROR(AVERAGE(AVERAGE(E113:E122),AVERAGE(K113:K122),AVERAGE(Q113:Q122)),"") | R127: =SUM(C113:C122,I113:I122,O113:O122) -> 0
B129: Day 5
B133: 1 | C133: ='Training Plan'!O226 -> 0 | H133: 2 | I133: ='Training Plan'!O234 -> 0 | N133: 3 | O133: ='Training Plan'!O242 -> 0
B135: Sets x Reps @RPE / % | D135: ='Training Plan'!O227 -> 0 | H135: Sets x Reps @RPE / % | J135: ='Training Plan'!O235 -> 0 | N135: Sets x Reps @RPE / % | P135: ='Training Plan'!O243 -> 0
B140: Rest Periods | D140: ='Training Plan'!P232 -> 0 | H140: Rest Periods | J140: ='Training Plan'!P240 -> 0 | N140: Rest Periods | P140: ='Training Plan'!P248 -> 0
B142: Sets | C142: Reps | D142: Weight | E142: RPE | F142: Relative Intensity | H142: Sets | I142: Reps | J142: Weight | K142: RPE | L142: Relative Intensity | N142: Sets | O142: Reps | P142: Weight | Q142: RPE | R142: Relative Intensity
B143: 1 | F143: =IF(ISNUMBER(D143),D143/B155,) -> 0 | H143: 1 | L143: =IF(ISNUMBER(J143),J143/H155,) -> 0 | N143: 1 | R143: =IF(ISNUMBER(P143),P143/N155,) -> 0
B144: 2 | F144: =IF(ISNUMBER(D144),D144/B155,) -> 0 | H144: 2 | L144: =IF(ISNUMBER(J144),J144/H155,) -> 0 | N144: 2 | R144: =IF(ISNUMBER(P144),P144/N155,) -> 0
B145: 3 | F145: =IF(ISNUMBER(D145),D145/B155,) -> 0 | H145: 3 | L145: =IF(ISNUMBER(J145),J145/H155,) -> 0 | N145: 3 | R145: =IF(ISNUMBER(P145),P145/N155,) -> 0
B146: 4 | F146: =IF(ISNUMBER(D146),D146/B155,) -> 0 | H146: 4 | L146: =IF(ISNUMBER(J146),J146/H155,) -> 0 | N146: 4 | R146: =IF(ISNUMBER(P146),P146/N155,) -> 0
B147: 5 | F147: =IF(ISNUMBER(D147),D147/B155,) -> 0 | H147: 5 | L147: =IF(ISNUMBER(J147),J147/H155,) -> 0 | N147: 5 | R147: =IF(ISNUMBER(P147),P147/N155,) -> 0
B148: 6 | F148: =IF(ISNUMBER(D148),D148/B155,) -> 0 | H148: 6 | L148: =IF(ISNUMBER(J148),J148/H155,) -> 0 | N148: 6 | R148: =IF(ISNUMBER(P148),P148/N155,) -> 0
B149: 7 | F149: =IF(ISNUMBER(D149),D149/B155,) -> 0 | H149: 7 | L149: =IF(ISNUMBER(J149),J149/H155,) -> 0 | N149: 7 | R149: =IF(ISNUMBER(P149),P149/N155,) -> 0
B150: 8 | F150: =IF(ISNUMBER(D150),D150/B155,) -> 0 | H150: 8 | L150: =IF(ISNUMBER(J150),J150/H155,) -> 0 | N150: 8 | R150: =IF(ISNUMBER(P150),P150/N155,) -> 0
B151: 9 | F151: =IF(ISNUMBER(D151),D151/B155,) -> 0 | H151: 9 | L151: =IF(ISNUMBER(J151),J151/H155,) -> 0 | N151: 9 | R151: =IF(ISNUMBER(P151),P151/N155,) -> 0
B152: 10 | F152: =IF(ISNUMBER(D152),D152/B155,) -> 0 | H152: 10 | L152: =IF(ISNUMBER(J152),J152/H155,) -> 0 | N152: 10 | R152: =IF(ISNUMBER(P152),P152/N155,) -> 0
B153: e1RM | C153: Average Intensity | E153: =IFERROR(IF(COUNT(F143:F152)>0,AVERAGEIF(F143:F152,">0"),0),) -> 0 | H153: e1RM | I153: Average Intensity | K153: =IFERROR(IF(COUNT(L143:L152)>0,AVERAGEIF(L143:L152,">0"),0),) -> 0 | N153: e1RM | O153: Average Intensity | P153: =IFERROR(IF(COUNT(R143:R152)>0,AVERAGEIF(R143:R152,">0"),0),) -> 0 | Q153: sRPE | R153: =IFERROR(Q157*R157,"")
B155: =IFERROR(ROUNDUP(B157/(0.0005*C157^2-0.0342*C157+1.034),0),) -> 0 | C155: nReps | D155: =SUM(C143:C152) -> 0 | E155: Volume | F155: =SUM(C143*D143,C144*D144,C145*D145,C146*D146,C147*D147,C148*D148,C149*D149,C150*D150,C151*D151,C152*D152) -> 0 | H155: =IFERROR(ROUNDUP(H157/(0.0005*I157^2-0.0342*I157+1.034),0),) -> 0 | I155: nReps | J155: =SUM(I143:I152) -> 0 | K155: Volume | L155: =SUM(I143*J143,I144*J144,I145*J145,I146*J146,I147*J147,I148*J148,I149*J149,I150*J150,I151*J151,I152*J152) -> 0 | N155: =IFERROR(ROUNDUP(N157/(0.0005*O157^2-0.0342*O157+1.034),0),) -> 0 | O155: nReps | P155: =SUM(O143:O152) -> 0 | Q155: Volume | R155: =SUM(O143*P143,O144*P144,O145*P145,O146*P146,O147*P147,O148*P148,O149*P149,O150*P150,O151*P151,O152*P152) -> 0
B157: =IFERROR(OFFSET(D142,MATCH(MAX(D143:D152),D143:D152,0),0),"") | C157: =IFERROR(OFFSET(C142,MATCH(MAX(D143:D152),D143:D152,0),0)+(10-OFFSET(E142,MATCH(MAX(D143:D152),D143:D152,0),0)),"") | H157: =IFERROR(OFFSET(J142,MATCH(MAX(J143:J152),J143:J152,0),0),"") | I157: =IFERROR(OFFSET(I142,MATCH(MAX(J143:J152),J143:J152,0),0)+(10-OFFSET(K142,MATCH(MAX(J143:J152),J143:J152,0),0)),"") | N157: =IFERROR(OFFSET(P142,MATCH(MAX(P143:P152),P143:P152,0),0),"") | O157: =IFERROR(OFFSET(O142,MATCH(MAX(P143:P152),P143:P152,0),0)+(10-OFFSET(Q142,MATCH(MAX(P143:P152),P143:P152,0),0)),"") | Q157: =IFERROR(AVERAGE(AVERAGE(E143:E152),AVERAGE(K143:K152),AVERAGE(Q143:Q152)),"") | R157: =SUM(C143:C152,I143:I152,O143:O152) -> 0
B159: General Physical Prepardness (GPP)
C163: ='Training Plan'!C251 -> 0 | F163: ='Training Plan'!F251 -> 0 | I163: ='Training Plan'!I251 -> 0 | L163: ='Training Plan'!L251 -> 0 | O163: ='Training Plan'!O251 -> 0
C165: ='Training Plan'!C252 -> 0 | F165: ='Training Plan'!F252 -> 0 | I165: ='Training Plan'!I252 -> 0 | L165: ='Training Plan'!L252 -> 0 | O165: ='Training Plan'!O252 -> 0
C168: Log | F168: Log | I168: Log | L168: Log | O168: Log
B174: Fatigue Assessement & Comments and Observations
C178: Sleep Quality | E178: Calorie Intake | G178: Perceived Recovery | I178: Perceived Stress | K178: Bodyweight (kg) | M178: Comments and Observations
B180: Day 1
B182: Day 2
B184: Day 3
...

Sheet Analysis
A3: In-depth Analysis
B7: =IF('Training Plan'!B12="","",'Training Plan'!B12) | F7: Week 1
B11: Analysis per Lift | M11: Global Analysis
B13: Exercise Name | E13: nSets | F13: nReps | G13: Volume | H13: Average Rep Range | I13: Average Intensity | J13: Average RPE | K13: e1RM | M13: Exercise Name | O13: nSets | P13: nReps | Q13: Volume | R13: Average Rep Range | S13: Average Intensity | T13: Average RPE | U13: Exposures | V13: Comp e1RM
B15: =IF('Week 1'!C23="","",'Week 1'!C13) -> Competition Squat | E15: =COUNTIF('Week 1'!C23:C32,">0") -> 1 | F15: =IF('Week 1'!D35=0,0,'Week 1'!D35) -> 1 | G15: =IF('Week 1'!F35=0,0,'Week 1'!F35) -> 150 | H15: =IFERROR(AVERAGE('Week 1'!C23:C32),0) -> 1 | I15: =IF('Week 1'!E33=0,0,'Week 1'!E33) -> 0.71770335 | J15: =IFERROR(AVERAGE('Week 1'!E23:E32),0) -> 0 | K15: =IF('Week 1'!B35=0,0,'Week 1'!B35) -> 209 | M15: Squat | O15: =SUMPRODUCT((NOT(ISERROR(FIND(M15,B15:D29))))*(E15:E29)) -> 1 | P15: =SUMPRODUCT((NOT(ISERROR(FIND(M15,B15:D29))))*(F15:F29)) -> 1 | Q15: =SUMPRODUCT((NOT(ISERROR(FIND(M15,B15:D29))))*(G15:G29)) -> 150 | R15: =IFERROR(SUMPRODUCT((NOT(ISERROR(FIND(M15,B15:D29))))*((H15:H29)/U15)),0) -> 1 | S15: =IFERROR(SUMPRODUCT((NOT(ISERROR(FIND(M15,B15:D29))))*((I15:I29)/U15)),0) -> 0.71770335 | T15: =IFERROR(SUMPRODUCT((NOT(ISERROR(FIND(M15,B15:D29))))*((J15:J29)/U15)),0) -> 0 | U15: =COUNTIF(B15:D29,"*Squat*") -> 1 | V15: {=MAX(IF("Competition Squat"=B15:D29,K15:K29,0))} -> 209
B16: =IF('Week 1'!I23="","",'Week 1'!I13) -> Competition Bench | E16: =COUNTIF('Week 1'!I23:I32,">0") -> 1 | F16: =IF('Week 1'!J35=0,0,'Week 1'!J35) -> 1 | G16: =IF('Week 1'!L35=0,0,'Week 1'!L35) -> 100 | H16: =IFERROR(AVERAGE('Week 1'!I23:I32),0) -> 1 | I16: =IF('Week 1'!K33=0,0,'Week 1'!K33) -> 0.71428571 | J16: =IFERROR(AVERAGE('Week 1'!K23:K32),0) -> 0 | K16: =IF('Week 1'!H35=0,0,'Week 1'!H35) -> 140 | M16: Bench | O16: =SUMPRODUCT((NOT(ISERROR(FIND(M16,B15:D29))))*(E15:E29)) -> 1 | P16: =SUMPRODUCT((NOT(ISERROR(FIND(M16,B15:D29))))*(F15:F29)) -> 1 | Q16: =SUMPRODUCT((NOT(ISERROR(FIND(M16,B15:D29))))*(G15:G29)) -> 100 | R16: =IFERROR(SUMPRODUCT((NOT(ISERROR(FIND(M16,B15:D29))))*(H15:H29)/U16),0) -> 1 | S16: =IFERROR(SUMPRODUCT((NOT(ISERROR(FIND(M16,B15:D29))))*(I15:I29)/U16),0) -> 0.71428571 | T16: =IFERROR(SUMPRODUCT((NOT(ISERROR(FIND(M16,B15:D29))))*(J15:J29)/U16),0) -> 0 | U16: =COUNTIF(B15:D29,"*Bench*") -> 1 | V16: {=MAX(IF("Competition Bench"=B15:D29,K15:K29,0))} -> 140
B17: =IF('Week 1'!O23="","",'Week 1'!O13) -> Competition Deadlift | E17: =COUNTIF('Week 1'!O23:O32,">0") -> 1 | F17: =IF('Week 1'!P35=0,0,'Week 1'!P35) -> 1 | G17: =IF('Week 1'!R35=0,0,'Week 1'!R35) -> 200 | H17: =IFERROR(AVERAGE('Week 1'!O23:O32),0) -> 1 | I17: =IF('Week 1'!P33=0,0,'Week 1'!P33) -> 0.71684588 | J17: =IFERROR(AVERAGE('Week 1'!Q23:Q32),0) -> 0 | K17: =IF('Week 1'!N35=0,0,'Week 1'!N35) -> 279 | M17: Deadlift | O17: =SUMPRODUCT((NOT(ISERROR(FIND(M17,B15:D29))))*(E15:E29)) -> 1 | P17: =SUMPRODUCT((NOT(ISERROR(FIND(M17,B15:D29))))*(F15:F29)) -> 1 | Q17: =SUMPRODUCT((NOT(ISERROR(FIND(M17,B15:D29))))*(G15:G29)) -> 200 | R17: =IFERROR(SUMPRODUCT((NOT(ISERROR(FIND(M17,B15:D29))))*(H15:H29)/U17),0) -> 1 | S17: =IFERROR(SUMPRODUCT((NOT(ISERROR(FIND(M17,B15:D29))))*(I15:I29)/U17),0) -> 0.71684588 | T17: =IFERROR(SUMPRODUCT((NOT(ISERROR(FIND(M17,B15:D29))))*(J15:J29)/U17),0) -> 0 | U17: =COUNTIF(B15:D29,"*Deadlift*") -> 1 | V17: {=MAX(IF("Competition Deadlift"=B15:D29,K15:K29,0))} -> 279
B18: =IF('Week 1'!C53="","",'Week 1'!C43) | E18: =COUNTIF('Week 1'!C53:C62,">0") -> 0 | F18: =IF('Week 1'!D65=0,0,'Week 1'!D65) -> 0 | G18: =IF('Week 1'!F65=0,0,'Week 1'!F65) -> 0 | H18: =IFERROR(AVERAGE('Week 1'!C53:C62),0) -> 0 | I18: =IF('Week 1'!E63=0,0,'Week 1'!E63) -> 0 | J18: =IFERROR(AVERAGE('Week 1'!E53:E62),0) -> 0 | K18: =IF('Week 1'!B65=0,0,'Week 1'!B65) -> 0 | M18: Total/Average | O18: =SUM(O15:O17) -> 3 | P18: =SUM(P15:P17) -> 3 | Q18: =SUM(Q15:Q17) -> 450 | R18: =IFERROR(AVERAGEIF(R15:R17,">0"),0) -> 1 | S18: =IFERROR(AVERAGEIF(S15:S17,">0"),0) -> 0.71627831 | T18: =IFERROR(AVERAGEIF(T15:T17,">0"),0) -> 0 | U18: =SUM(U15:U17) -> 3 | V18: =SUM(V15:V17) -> 628
B19: =IF('Week 1'!I53="","",'Week 1'!I43) | E19: =COUNTIF('Week 1'!I53:I62,">0") -> 0 | F19: =IF('Week 1'!J65=0,0,'Week 1'!J65) -> 0 | G19: =IF('Week 1'!L65=0,0,'Week 1'!L65) -> 0 | H19: =IFERROR(AVERAGE('Week 1'!I53:I62),0) -> 0 | I19: =IF('Week 1'!K63=0,0,'Week 1'!K63) -> 0 | J19: =IFERROR(AVERAGE('Week 1'!K53:K62),0) -> 0 | K19: =IF('Week 1'!H65=0,0,'Week 1'!H65) -> 0
B20: =IF('Week 1'!O53="","",'Week 1'!O43) | E20: =COUNTIF('Week 1'!O53:O62,">0") -> 0 | F20: =IF('Week 1'!P65=0,0,'Week 1'!P65) -> 0 | G20: =IF('Week 1'!R65=0,0,'Week 1'!R65) -> 0 | H20: =IFERROR(AVERAGE('Week 1'!O53:O62),0) -> 0 | I20: =IF('Week 1'!P63=0,0,'Week 1'!P63) -> 0 | J20: =IFERROR(AVERAGE('Week 1'!Q53:Q62),0) -> 0 | K20: =IF('Week 1'!N65=0,0,'Week 1'!N65) -> 0 | M20: Day-to-day Analysis
B21: =IF('Week 1'!C83="","",'Week 1'!C73) | E21: =COUNTIF('Week 1'!C83:C92,">0") -> 0 | F21: =IF('Week 1'!D95=0,0,'Week 1'!D95) -> 0 | G21: =IF('Week 1'!F95=0,0,'Week 1'!F95) -> 0 | H21: =IFERROR(AVERAGE('Week 1'!C83:C92),0) -> 0 | I21: =IF('Week 1'!E93=0,0,'Week 1'!E93) -> 0 | J21: =IFERROR(AVERAGE('Week 1'!E83:E92),0) -> 0 | K21: =IF('Week 1'!B95=0,0,'Week 1'!B95) -> 0 | O21: Exercise(s) Performed | P21: nSets | Q21: nReps | R21: Volume | S21: Average Rep Range | T21: Average Intensity | U21: Average RPE | V21: sRPE
B22: =IF('Week 1'!I83="","",'Week 1'!I73) | E22: =COUNTIF('Week 1'!I83:I92,">0") -> 0 | F22: =IF('Week 1'!J95=0,0,'Week 1'!J95) -> 0 | G22: =IF('Week 1'!L95=0,0,'Week 1'!L95) -> 0 | H22: =IFERROR(AVERAGE('Week 1'!I83:I92),0) -> 0 | I22: =IF('Week 1'!K93=0,0,'Week 1'!K93) -> 0 | J22: =IFERROR(AVERAGE('Week 1'!K83:K92),0) -> 0 | K22: =IF('Week 1'!H95=0,0,'Week 1'!H95) -> 0 | M22: Day 1 | O22: =COUNTIF(F15:F17,">0") -> 3 | P22: =SUM(E15:E17) -> 3 | Q22: =SUM(F15:F17) -> 3 | R22: =SUM(G15:G17) -> 450 | S22: =IFERROR(AVERAGEIF(H15:H17,">0"),0) -> 1 | T22: =IFERROR(AVERAGEIF(I15:I17,">0"),0) -> 0.71627831 | U22: =IFERROR(AVERAGEIF(J15:J17,">0"),0) -> 0 | V22: =IF('Week 1'!R33="",0,'Week 1'!R33) -> 0
B23: =IF('Week 1'!O83="","",'Week 1'!O73) | E23: =COUNTIF('Week 1'!O83:O92,">0") -> 0 | F23: =IF('Week 1'!P95=0,0,'Week 1'!P95) -> 0 | G23: =IF('Week 1'!R95=0,0,'Week 1'!R95) -> 0 | H23: =IFERROR(AVERAGE('Week 1'!O83:O92),0) -> 0 | I23: =IF('Week 1'!P93=0,0,'Week 1'!P93) -> 0 | J23: =IFERROR(AVERAGE('Week 1'!Q83:Q92),0) -> 0 | K23: =IF('Week 1'!N95=0,0,'Week 1'!N95) -> 0 | M23: Day 2 | O23: =COUNTIF(F18:F20,">0") -> 0 | P23: =SUM(E18:E20) -> 0 | Q23: =SUM(F18:F20) -> 0 | R23: =SUM(G18:G20) -> 0 | S23: =IFERROR(AVERAGEIF(H18:H20,">0"),0) -> 0 | T23: =IFERROR(AVERAGEIF(I18:I20,">0"),0) -> 0 | U23: =IFERROR(AVERAGEIF(J18:J20,">0"),0) -> 0 | V23: =IF('Week 1'!R63="",0,'Week 1'!R63) -> 0
B24: =IF('Week 1'!C113="","",'Week 1'!C103) | E24: =COUNTIF('Week 1'!C113:C122,">0") -> 0 | F24: =IF('Week 1'!D125=0,0,'Week 1'!D125) -> 0 | G24: =IF('Week 1'!F125=0,0,'Week 1'!F125) -> 0 | H24: =IFERROR(AVERAGE('Week 1'!C113:C122),0) -> 0 | I24: =IF('Week 1'!E123=0,0,'Week 1'!E123) -> 0 | J24: =IFERROR(AVERAGE('Week 1'!E113:E122),0) -> 0 | K24: =IF('Week 1'!B125=0,0,'Week 1'!B125) -> 0 | M24: Day 3 | O24: =COUNTIF(F21:F23,">0") -> 0 | P24: =SUM(E21:E23) -> 0 | Q24: =SUM(F21:F23) -> 0 | R24: =SUM(G21:G23) -> 0 | S24: =IFERROR(AVERAGEIF(H21:H23,">0"),0) -> 0 | T24: =IFERROR(AVERAGEIF(I21:I23,">0"),0) -> 0 | U24: =IFERROR(AVERAGEIF(J21:J23,">0"),0) -> 0 | V24: =IF('Week 1'!R93="",0,'Week 1'!R93) -> 0
B25: =IF('Week 1'!I113="","",'Week 1'!I103) | E25: =COUNTIF('Week 1'!I113:I122,">0") -> 0 | F25: =IF('Week 1'!J125=0,0,'Week 1'!J125) -> 0 | G25: =IF('Week 1'!L125=0,0,'Week 1'!L125) -> 0 | H25: =IFERROR(AVERAGE('Week 1'!I113:I122),0) -> 0 | I25: =IF('Week 1'!K123=0,0,'Week 1'!K123) -> 0 | J25: =IFERROR(AVERAGE('Week 1'!K113:K122),0) -> 0 | K25: =IF('Week 1'!H125=0,0,'Week 1'!H125) -> 0 | M25: Day 4 | O25: =COUNTIF(F24:F26,">0") -> 0 | P25: =SUM(E24:E26) -> 0 | Q25: =SUM(F24:F26) -> 0 | R25: =SUM(G24:G26) -> 0 | S25: =IFERROR(AVERAGEIF(H24:H26,">0"),0) -> 0 | T25: =IFERROR(AVERAGEIF(I24:I26,">0"),0) -> 0 | U25: =IFERROR(AVERAGEIF(J24:J26,">0"),0) -> 0 | V25: =IF('Week 1'!R123="",0,'Week 1'!R123) -> 0
B26: =IF('Week 1'!O113="","",'Week 1'!O103) | E26: =COUNTIF('Week 1'!O113:O122,">0") -> 0 | F26: =IF('Week 1'!P125=0,0,'Week 1'!P125) -> 0 | G26: =IF('Week 1'!R125=0,0,'Week 1'!R125) -> 0 | H26: =IFERROR(AVERAGE('Week 1'!O113:O122),0) -> 0 | I26: =IF('Week 1'!P123=0,0,'Week 1'!P123) -> 0 | J26: =IFERROR(AVERAGE('Week 1'!Q113:Q122),0) -> 0 | K26: =IF('Week 1'!N125=0,0,'Week 1'!N125) -> 0 | M26: Day 5 | O26: =COUNTIF(F27:F29,">0") -> 0 | P26: =SUM(E27:E29) -> 0 | Q26: =SUM(F27:F29) -> 0 | R26: =SUM(G27:G29) -> 0 | S26: =IFERROR(AVERAGEIF(H27:H29,">0"),0) -> 0 | T26: =IFERROR(AVERAGEIF(I27:I29,">0"),0) -> 0 | U26: =IFERROR(AVERAGEIF(J27:J29,">0"),0) -> 0 | V26: =IF('Week 1'!R153="",0,'Week 1'!R153) -> 0
B27: =IF('Week 1'!C143="","",'Week 1'!C133) | E27: =COUNTIF('Week 1'!C143:C152,">0") -> 0 | F27: =IF('Week 1'!D155=0,0,'Week 1'!D155) -> 0 | G27: =IF('Week 1'!F155=0,0,'Week 1'!F155) -> 0 | H27: =IFERROR(AVERAGE('Week 1'!C143:C152),0) -> 0 | I27: =IF('Week 1'!E153=0,0,'Week 1'!E153) -> 0 | J27: =IFERROR(AVERAGE('Week 1'!E143:E152),0) -> 0 | K27: =IF('Week 1'!B155=0,0,'Week 1'!B155) -> 0
B28: =IF('Week 1'!I143="","",'Week 1'!I133) | E28: =COUNTIF('Week 1'!I143:I152,">0") -> 0 | F28: =IF('Week 1'!J155=0,0,'Week 1'!J155) -> 0 | G28: =IF('Week 1'!L155=0,0,'Week 1'!L155) -> 0 | H28: =IFERROR(AVERAGE('Week 1'!I143:I152),0) -> 0 | I28: =IF('Week 1'!K153=0,0,'Week 1'!K153) -> 0 | J28: =IFERROR(AVERAGE('Week 1'!K143:K152),0) -> 0 | K28: =IF('Week 1'!H155=0,0,'Week 1'!H155) -> 0
B29: =IF('Week 1'!O143="","",'Week 1'!O133) | E29: =COUNTIF('Week 1'!O143:O152,">0") -> 0 | F29: =IF('Week 1'!P155=0,0,'Week 1'!P155) -> 0 | G29: =IF('Week 1'!R155=0,0,'Week 1'!R155) -> 0 | H29: =IFERROR(AVERAGE('Week 1'!O143:O152),0) -> 0 | I29: =IF('Week 1'!P153=0,0,'Week 1'!P153) -> 0 | J29: =IFERROR(AVERAGE('Week 1'!Q143:Q152),0) -> 0 | K29: =IF('Week 1'!N155=0,0,'Week 1'!N155) -> 0
B32: =IF('Training Plan'!B47="","",'Training Plan'!B47) | F32: Week 2
B36: Analysis per Lift | M36: Global Analysis
B38: Exercise Name | E38: nSets | F38: nReps | G38: Volume | H38: Average Rep Range | I38: Average Intensity | J38: Average RPE | K38: e1RM | M38: Exercise Name | O38: nSets | P38: nReps | Q38: Volume | R38: Average Rep Range | S38: Average Intensity | T38: Average RPE | U38: Exposures | V38: Comp e1RM
B40: =IF('Week 2'!C23="","",'Week 2'!C13) -> Competition Squat | E40: =COUNTIF('Week 2'!C23:C32,">0") -> 1 | F40: =IF('Week 2'!D35=0,0,'Week 2'!D35) -> 1 | G40: =IF('Week 2'!F35=0,0,'Week 2'!F35) -> 160 | H40: =IFERROR(AVERAGE('Week 2'!C23:C32),0) -> 1 | I40: =IF('Week 2'!E33=0,0,'Week 2'!E33) -> 0.71748879 | J40: =IFERROR(AVERAGE('Week 2'!E23:E32),0) -> 0 | K40: =IF('Week 2'!B35=0,0,'Week 2'!B35) -> 223 | M40: Squat | O40: =SUMPRODUCT((NOT(ISERROR(FIND(M40,B40:D54))))*(E40:E54)) -> 1 | P40: =SUMPRODUCT((NOT(ISERROR(FIND(M40,B40:D54))))*(F40:F54)) -> 1 | Q40: =SUMPRODUCT((NOT(ISERROR(FIND(M40,B40:D54))))*(G40:G54)) -> 160 | R40: =IFERROR(SUMPRODUCT((NOT(ISERROR(FIND(M40,B40:D54))))*((H40:H54)/U40)),0) -> 1 | S40: =IFERROR(SUMPRODUCT((NOT(ISERROR(FIND(M40,B40:D54))))*((I40:I54)/U40)),0) -> 0.71748879 | T40: =IFERROR(SUMPRODUCT((NOT(ISERROR(FIND(M40,B40:D54))))*((J40:J54)/U40)),0) -> 0 | U40: =COUNTIF(B40:D54,"*Squat*") -> 1 | V40: {=MAX(IF("Competition Squat"=B40:D54,K40:K54,0))} -> 223
B41: =IF('Week 2'!I23="","",'Week 2'!I13) -> Competition Bench | E41: =COUNTIF('Week 2'!I23:I32,">0") -> 1 | F41: =IF('Week 2'!J35=0,0,'Week 2'!J35) -> 1 | G41: =IF('Week 2'!L35=0,0,'Week 2'!L35) -> 110 | H41: =IFERROR(AVERAGE('Week 2'!I23:I32),0) -> 1 | I41: =IF('Week 2'!K33=0,0,'Week 2'!K33) -> 0.71428571 | J41: =IFERROR(AVERAGE('Week 2'!K23:K32),0) -> 0 | K41: =IF('Week 2'!H35=0,0,'Week 2'!H35) -> 154 | M41: Bench | O41: =SUMPRODUCT((NOT(ISERROR(FIND(M41,B40:D54))))*(E40:E54)) -> 1 | P41: =SUMPRODUCT((NOT(ISERROR(FIND(M41,B40:D54))))*(F40:F54)) -> 1 | Q41: =SUMPRODUCT((NOT(ISERROR(FIND(M41,B40:D54))))*(G40:G54)) -> 110 | R41: =IFERROR(SUMPRODUCT((NOT(ISERROR(FIND(M41,B40:D54))))*(H40:H54)/U41),0) -> 1 | S41: =IFERROR(SUMPRODUCT((NOT(ISERROR(FIND(M41,B40:D54))))*(I40:I54)/U41),0) -> 0.71428571 | T41: =IFERROR(SUMPRODUCT((NOT(ISERROR(FIND(M41,B40:D54))))*(J40:J54)/U41),0) -> 0 | U41: =COUNTIF(B40:D54,"*Bench*") -> 1 | V41: {=MAX(IF("Competition Bench"=B40:D54,K40:K54,0))} -> 154
B42: =IF('Week 2'!O23="","",'Week 2'!O13) -> Competition Deadlift | E42: =COUNTIF('Week 2'!O23:O32,">0") -> 1 | F42: =IF('Week 2'!P35=0,0,'Week 2'!P35) -> 1 | G42: =IF('Week 2'!R35=0,0,'Week 2'!R35) -> 210 | H42: =IFERROR(AVERAGE('Week 2'!O23:O32),0) -> 1 | I42: =IF('Week 2'!P33=0,0,'Week 2'!P33) -> 0.71672355 | J42: =IFERROR(AVERAGE('Week 2'!Q23:Q32),0) -> 0 | K42: =IF('Week 2'!N35=0,0,'Week 2'!N35) -> 293 | M42: Deadlift | O42: =SUMPRODUCT((NOT(ISERROR(FIND(M42,B40:D54))))*(E40:E54)) -> 1 | P42: =SUMPRODUCT((NOT(ISERROR(FIND(M42,B40:D54))))*(F40:F54)) -> 1 | Q42: =SUMPRODUCT((NOT(ISERROR(FIND(M42,B40:D54))))*(G40:G54)) -> 210 | R42: =IFERROR(SUMPRODUCT((NOT(ISERROR(FIND(M42,B40:D54))))*(H40:H54)/U42),0) -> 1 | S42: =IFERROR(SUMPRODUCT((NOT(ISERROR(FIND(M42,B40:D54))))*(I40:I54)/U42),0) -> 0.71672355 | T42: =IFERROR(SUMPRODUCT((NOT(ISERROR(FIND(M42,B40:D54))))*(J40:J54)/U42),0) -> 0 | U42: =COUNTIF(B40:D54,"*Deadlift*") -> 1 | V42: {=MAX(IF("Competition Deadlift"=B40:D54,K40:K54,0))} -> 293
B43: =IF('Week 2'!C53="","",'Week 2'!C43) | E43: =COUNTIF('Week 2'!C53:C62,">0") -> 0 | F43: =IF('Week 2'!D65=0,0,'Week 2'!D65) -> 0 | G43: =IF('Week 2'!F65=0,0,'Week 2'!F65) -> 0 | H43: =IFERROR(AVERAGE('Week 2'!C53:C62),0) -> 0 | I43: =IF('Week 2'!E63=0,0,'Week 2'!E63) -> 0 | J43: =IFERROR(AVERAGE('Week 2'!E53:E62),0) -> 0 | K43: =IF('Week 2'!B65=0,0,'Week 2'!B65) -> 0 | M43: Total/Average | O43: =SUM(O40:O42) -> 3 | P43: =SUM(P40:P42) -> 3 | Q43: =SUM(Q40:Q42) -> 480 | R43: =IFERROR(AVERAGEIF(R40:R42,">0"),0) -> 1 | S43: =IFERROR(AVERAGEIF(S40:S42,">0"),0) -> 0.71616602 | T43: =IFERROR(AVERAGEIF(T40:T42,">0"),0) -> 0 | U43: =SUM(U40:U42) -> 3 | V43: =SUM(V40:V42) -> 670
B44: =IF('Week 2'!I53="","",'Week 2'!I43) | E44: =COUNTIF('Week 2'!I53:I62,">0") -> 0 | F44: =IF('Week 2'!J65=0,0,'Week 2'!J65) -> 0 | G44: =IF('Week 2'!L65=0,0,'Week 2'!L65) -> 0 | H44: =IFERROR(AVERAGE('Week 2'!I53:I62),0) -> 0 | I44: =IF('Week 2'!K63=0,0,'Week 2'!K63) -> 0 | J44: =IFERROR(AVERAGE('Week 2'!K53:K62),0) -> 0 | K44: =IF('Week 2'!H65=0,0,'Week 2'!H65) -> 0
B45: =IF('Week 2'!O53="","",'Week 2'!O43) | E45: =COUNTIF('Week 2'!O53:O62,">0") -> 0 | F45: =IF('Week 2'!P65=0,0,'Week 2'!P65) -> 0 | G45: =IF('Week 2'!R65=0,0,'Week 2'!R65) -> 0 | H45: =IFERROR(AVERAGE('Week 2'!O53:O62),0) -> 0 | I45: =IF('Week 2'!P63=0,0,'Week 2'!P63) -> 0 | J45: =IFERROR(AVERAGE('Week 2'!Q53:Q62),0) -> 0 | K45: =IF('Week 2'!N65=0,0,'Week 2'!N65) -> 0 | M45: Day-to-day Analysis
B46: =IF('Week 2'!C83="","",'Week 2'!C73) | E46: =COUNTIF('Week 2'!C83:C92,">0") -> 0 | F46: =IF('Week 2'!D95=0,0,'Week 2'!D95) -> 0 | G46: =IF('Week 2'!F95=0,0,'Week 2'!F95) -> 0 | H46: =IFERROR(AVERAGE('Week 2'!C83:C92),0) -> 0 | I46: =IF('Week 2'!E93=0,0,'Week 2'!E93) -> 0 | J46: =IFERROR(AVERAGE('Week 2'!E83:E92),0) -> 0 | K46: =IF('Week 2'!B95=0,0,'Week 2'!B95) -> 0 | O46: Exercise(s) Performed | P46: nSets | Q46: nReps | R46: Volume | S46: Average Rep Range | T46: Average Intensity | U46: Average RPE | V46: sRPE
B47: =IF('Week 2'!I83="","",'Week 2'!I73) | E47: =COUNTIF('Week 2'!I83:I92,">0") -> 0 | F47: =IF('Week 2'!J95=0,0,'Week 2'!J95) -> 0 | G47: =IF('Week 2'!L95=0,0,'Week 2'!L95) -> 0 | H47: =IFERROR(AVERAGE('Week 2'!I83:I92),0) -> 0 | I47: =IF('Week 2'!K93=0,0,'Week 2'!K93) -> 0 | J47: =IFERROR(AVERAGE('Week 2'!K83:K92),0) -> 0 | K47: =IF('Week 2'!H95=0,0,'Week 2'!H95) -> 0 | M47: Day 1 | O47: =COUNTIF(F40:F42,">0") -> 3 | P47: =SUM(E40:E42) -> 3 | Q47: =SUM(F40:F42) -> 3 | R47: =SUM(G40:G42) -> 480 | S47: =IFERROR(AVERAGEIF(H40:H42,">0"),0) -> 1 | T47: =IFERROR(AVERAGEIF(I40:I42,">0"),0) -> 0.71616602 | U47: =IFERROR(AVERAGEIF(J40:J42,">0"),0) -> 0 | V47: =IF('Week 2'!R33="",0,'Week 2'!R33) -> 0
B48: =IF('Week 2'!O83="","",'Week 2'!O73) | E48: =COUNTIF('Week 2'!O83:O92,">0") -> 0 | F48: =IF('Week 2'!P95=0,0,'Week 2'!P95) -> 0 | G48: =IF('Week 2'!R95=0,0,'Week 2'!R95) -> 0 | H48: =IFERROR(AVERAGE('Week 2'!O83:O92),0) -> 0 | I48: =IF('Week 2'!P93=0,0,'Week 2'!P93) -> 0 | J48: =IFERROR(AVERAGE('Week 2'!Q83:Q92),0) -> 0 | K48: =IF('Week 2'!N95=0,0,'Week 2'!N95) -> 0 | M48: Day 2 | O48: =COUNTIF(F43:F45,">0") -> 0 | P48: =SUM(E43:E45) -> 0 | Q48: =SUM(F43:F45) -> 0 | R48: =SUM(G43:G45) -> 0 | S48: =IFERROR(AVERAGEIF(H43:H45,">0"),0) -> 0 | T48: =IFERROR(AVERAGEIF(I43:I45,">0"),0) -> 0 | U48: =IFERROR(AVERAGEIF(J43:J45,">0"),0) -> 0 | V48: =IF('Week 2'!R63="",0,'Week 2'!R63) -> 0
