Workbook

Sheet Training Plan
B3: 7 Weeks / 5 Days + GPP / 3 Exercises (StrengthDevelopment©2019)
B4: Start Date - End Date
B7: Training Plan Overview
C12: Day 1 | F12: Day 2 | I12: Day 3 | L12: Day 4 | O12: Day 5
B15: Week 1 | C15: Exercise 1 | F15: Exercise 1 | I15: Exercise 1 | L15: Exercise 1 | O15: Exercise 1
C16: Competition Squat
C22: Rest Periods | F22: Rest Periods | I22: Rest Periods | L22: Rest Periods | O22: Rest Periods
C23: Exercise 2 | F23: Exercise 2 | I23: Exercise 2 | L23: Exercise 2 | O23: Exercise 2
C24: Competition Bench
C30: Rest Periods | F30: Rest Periods | I30: Rest Periods | L30: Rest Periods | O30: Rest Periods
C31: Exercise 3 | F31: Exercise 3 | I31: Exercise 3 | L31: Exercise 3 | O31: Exercise 3
C32: Competition Deadlift
C38: Rest Periods | F38: Rest Periods | I38: Rest Periods | L38: Rest Periods | O38: Rest Periods
C39: General Physical Prepardness (GPP)
C47: Day 1 | F47: Day 2 | I47: Day 3 | L47: Day 4 | O47: Day 5
B50: Week 2 | C50: Exercise 1 | F50: Exercise 1 | I50: Exercise 1 | L50: Exercise 1 | O50: Exercise 1
C51: Competition Squat
C57: Rest Periods | F57: Rest Periods | I57: Rest Periods | L57: Rest Periods | O57: Rest Periods
C58: Exercise 2 | F58: Exercise 2 | I58: Exercise 2 | L58: Exercise 2 | O58: Exercise 2
C59: Competition Bench
C65: Rest Periods | F65: Rest Periods | I65: Rest Periods | L65: Rest Periods | O65: Rest Periods
C66: Exercise 3 | F66: Exercise 3 | I66: Exercise 3 | L66: Exercise 3 | O66: Exercise 3
C67: Competition Deadlift
C73: Rest Periods | F73: Rest Periods | I73: Rest Periods | L73: Rest Periods | O73: Rest Periods
C74: General Physical Prepardness (GPP)
C82: Day 1 | F82: Day 2 | I82: Day 3 | L82: Day 4 | O82: Day 5
B85: Week 3 | C85: Exercise 1 | F85: Exercise 1 | I85: Exercise 1 | L85: Exercise 1 | O85: Exercise 1
C86: Competition Squat | F86: Competition Squat
C92: Rest Periods | F92: Rest Periods | I92: Rest Periods | L92: Rest Periods | O92: Rest Periods
C93: Exercise 2 | F93: Exercise 2 | I93: Exercise 2 | L93: Exercise 2 | O93: Exercise 2
C94: Competition Bench | F94: Competition Bench
C100: Rest Periods | F100: Rest Periods | I100: Rest Periods | L100: Rest Periods | O100: Rest Periods
C101: Exercise 3 | F101: Exercise 3 | I101: Exercise 3 | L101: Exercise 3 | O101: Exercise 3
C102: Competition Deadlift | F102: Competition Deadlift
C108: Rest Periods | F108: Rest Periods | I108: Rest Periods | L108: Rest Periods | O108: Rest Periods
C109: General Physical Prepardness (GPP)
C117: Day 1 | F117: Day 2 | I117: Day 3 | L117: Day 4 | O117: Day 5
B120: Week 4 | C120: Exercise 1 | F120: Exercise 1 | I120: Exercise 1 | L120: Exercise 1 | O120: Exercise 1
C121: Competition Squat
C127: Rest Periods | F127: Rest Periods | I127: Rest Periods | L127: Rest Periods | O127: Rest Periods
...

Sheet Indications & Informations
A3: Important Indications
C7: Exercices | G7: Indications
Z13: ='Training Plan'!C51 -> Competition Squat
Z14: ='Training Plan'!C59 -> Competition Bench
Z15: ='Training Plan'!C67 -> Competition Deadlift
Z16: ='Training Plan'!F51 -> 0
Z17: ='Training Plan'!F59 -> 0
Z18: ='Training Plan'!F67 -> 0
Z19: ='Training Plan'!I51 -> 0
Z20: ='Training Plan'!I59 -> 0
Z21: ='Training Plan'!I67 -> 0
Z22: ='Training Plan'!L51 -> 0
Z23: ='Training Plan'!L59 -> 0
Z24: ='Training Plan'!L67 -> 0
Z25: ='Training Plan'!O51 -> 0
Z26: ='Training Plan'!O59 -> 0
Z27: ='Training Plan'!O67 -> 0
C48: Informations
F52: Table des RPE (Rating of Perceived Exertion ou Taux d'Effort Perçu)
F54: RPE 5,5 | G54: Trop facile pour compter comme une vrai série
F56: RPE 6 | G56: Assez facile (comme une charge d'échauffement) / 4 reps en réserve
F58: RPE 6,5 | G58: Un peu trop lourd pour de l'échauffement? | Z58: Besoin d'aide? Sélectionnez le sujet qui vous intéresse dans la liste déroulante.
F60: RPE 7 | G60: Rapide et facile comme un opener / 3 reps en réserve
F62: RPE 7,5 | G62: Peut-être 3 reps en réserve ou un peu plus de charge sur la barre
F64: RPE 8 | G64: 2 reps en réserve
F66: RPE 8,5 | G66: Peut-être 2 reps en réserve ou un peu plus de charge sur la barre
F68: RPE 9 | G68: 1 rep en réserve
F70: RPE 9,5 | G70: Peut-être 1 rep en réserve ou un peu plus de charge sur la barre
F72: RPE 10 | G72: Effort maximal (RM)
E76: Cliquez ici pour sélectionner dans la liste déroulante | Z76: Progresser avec les RPEs est assez simple, la progression se fait de façon linéaire ou ondulatoire. Evidemment, il est possible d'autoréguler la charge, le plus important étant de ne pas dépasser ou être en dessous des RPEs programmés (overshoot/undershoot). La progression se fait essentiellement par l'exploitation de l’estimated 1RM (e1RM), c'est-à-dire l'estimation de votre 1RM sur un exercice donné à un moment donné de votre block. La tendance générale de la courbe de votre e1RM doit être vers la hausse, autrement dit, votre e1RM doit augmenter de semaine en semaine, si ce n'est pas le cas durant une certaine période (entre 2/4 semaines), une révision de votre planification doit être faite. Venons-en au vif du sujet : comment gérer sa progression? En général, il faut que l'écart entre le RPE planifié et celui réaliser à l'entrainement soit de 1. C'est-à-dire que si j'ai 4 répétitions @9 RPE de planifié, le RPE à l'entrainement doit être compris entre 8,5 et 9,5. Dans le cas où le RPE est de 8,5 (undershoot), j'augmente la charge de 1 à 3% pour la semaine d'après. Dans le cas où le RPE est de 9,5 (overshoot), je garde la même charge la semaine d'après et j'essaie d'être au bon RPE. Dans le cas, ou j'overshoot ou j'undershoot beaucoup trop (1+ RPE), je baisse/augmente la charge de 3 à 5%. Si je suis au bon RPE, j'augmente la charge de 1 à 2% la semaine d'après. Semaine 1 -1 RPE ou + -0,5 RPE Bon RPE +0,5 RPE +1 RPE ou + Semaine 2 +3/5% +1/3% +1/2% -1/3% -3/5%
E78: =IF(E76=T79,Z58,IF(E76=T80,Z76,IF(E76=T81,Z94,IF(E76=T82,Z111,)))) -> Besoin d'aide? Sélectionnez le sujet qui vous intéresse dans la liste déroulante.
T79: Cliquez ici pour sélectionner dans la liste déroulante
T80: Comment progresser avec l'utilisation du RPE?
T81: GPP (General Physical Prepardness ou Préparation Physique Générale)
T82: Concernant l'échauffement
Z94: Le but ici est d'augmenter/maintenir sa condition physique, sa capacité de travail et faire quelques exercices d'assistances qui n'interfèrent pas trop avec la récupération. Concernant le cardio, la table des RPE est : RPE 6 : Plus ennuyant que dure, peut tenir une conversation avec des phrases entières. RPE 7 : Effort facile, peut seulement parler en courtes phrases. RPE 8 : Effort modéré, ne peut pas parler confortablement. RPE 9 : Effort intense, effort quasiment maximal. RPE 10 : Effort maximal, très dure voire impossible à maintenir. Concernant le type d'exercices d'assistances, c'est essentiellement destiné à travailler le haut du dos, le tronc et les bras. Aucuns exercices n'est meilleur qu'un autre, le choix se fait en fonction de l’athlète (ses préférences, ses antécédents etc..). En général, le mieux est de choisir des exercices peu traumatisant pour la bas du dos (rowing machine, tractions etc..); pour le tronc, dans l'ordre de préférence : Ab Wheel, Gainage ventral, Enroulement de bassin, Crunch etc..; pour les bras : biceps curl (haltères, barres, poulies), Extensions triceps etc..
Z111: L’échauffement a pour but de vous préparer à la tâche physique à venir. Il comprend des éléments généraux et spécifiques. Un échauffement général est une activité différente de celle que vous ferez pour votre entraînement (comme faire 5 minutes de cardio facile avant de commencer vos squats). Cependant, dans le cadre de l’entrainement en force, je ne recommande aucun échauffement général particulier, à condition que vous puissiez démarrer l'échauffement spécifique sans aucun problème. Je ne recommande pas non plus la pratique de mobilité/automassages (ou alors de façon légère et occasionnelle si vous en ressentez le besoin). La pratique d’étirements dynamiques est préférable. Un échauffement spécifique est très similaire ou identique à l'activité à venir et utilise une intensité croissante. Par exemple, effectuer des squats d’abord avec la barre vide, puis ajouter progressivement de la charge jusqu'à atteindre votre charge de travail. La recommandation est de faire autant de séries barre à vide qu'il n'en faut pour que vous vous sentiez prêt mentalement et physiquement avant de charger votre barre petit à petit. Prenons l'exemple d'un athlète dont la programmation dit : 5 reps @6RPE; 5 reps @7RPE; 3 x 5 reps @8RPE. Pour cet athlète, les charges seront 5@6 @100kg; 5@7 @107,5kg et 5@8 @115kg. Il fera donc 2-5 séries barre à vide ; 5 reps @40kg ; 5 reps @70kg ; 5 reps @85kg puis sa première séries de 5 reps @6RPE @100kg.

Sheet Calculators
A3: Calculators
D7: RPE Chart (by default)
D9: Reps | E9: 1 | F9: 2 | G9: 3 | H9: 4 | I9: 5 | J9: 6 | K9: 7 | L9: 8 | M9: 9 | N9: 10 | AA9: RPE Chart (by default) | AL9: =AA9 -> RPE Chart (by default)
D10: RPE 10 | AA10: =G17*1 -> 0 | AB10: =G17*0.955 -> 0 | AC10: =G17*0.922 -> 0 | AD10: =G17*0.892 -> 0 | AE10: =G17*0.863 -> 0 | AF10: =G17*0.837 -> 0 | AG10: =G17*0.811 -> 0 | AH10: =G17*0.786 -> 0 | AI10: =G17*0.762 -> 0 | AJ10: =G17*0.739 -> 0 | AL10: =D53 -> Custom RPE Chart (Squat)
D11: RPE 9,5 | AA11: =G17*0.978 -> 0 | AB11: =G17*0.939 -> 0 | AC11: =G17*0.907 -> 0 | AD11: =G17*0.878 -> 0 | AE11: =G17*0.85 -> 0 | AF11: =G17*0.824 -> 0 | AG11: =G17*0.799 -> 0 | AH11: =G17*0.774 -> 0 | AI11: =G17*0.751 -> 0 | AJ11: =G17*0.723 -> 0 | AL11: =H53 -> Custom RPE Chart (Bench)
D12: RPE 9 | AA12: =G17*0.955 -> 0 | AB12: =G17*0.922 -> 0 | AC12: =G17*0.892 -> 0 | AD12: =G17*0.863 -> 0 | AE12: =G17*0.837 -> 0 | AF12: =G17*0.811 -> 0 | AG12: =G17*0.786 -> 0 | AH12: =G17*0.762 -> 0 | AI12: =G17*0.739 -> 0 | AJ12: =G17*0.707 -> 0 | AL12: =L53 -> Custom RPE Chart (Deadlift)
D13: RPE 8,5 | AA13: =G17*0.939 -> 0 | AB13: =G17*0.907 -> 0 | AC13: =G17*0.878 -> 0 | AD13: =G17*0.85 -> 0 | AE13: =G17*0.824 -> 0 | AF13: =G17*0.799 -> 0 | AG13: =G17*0.774 -> 0 | AH13: =G17*0.751 -> 0 | AI13: =G17*0.723 -> 0 | AJ13: =G17*0.694 -> 0
D14: RPE 8 | AA14: =G17*0.922 -> 0 | AB14: =G17*0.892 -> 0 | AC14: =G17*0.863 -> 0 | AD14: =G17*0.837 -> 0 | AE14: =G17*0.811 -> 0 | AF14: =G17*0.786 -> 0 | AG14: =G17*0.762 -> 0 | AH14: =G17*0.739 -> 0 | AI14: =G17*0.707 -> 0 | AJ14: =G17*0.68 -> 0
D15: e1RM | E15: =IF(D7=AL9,MAX(E10/1,E11/0.978,E12/0.955,E13/0.939,E14/0.922),IF(D7=AL10,MAX(E10/1,E11/AVERAGE(F57:F58),E12/F58,E13/AVERAGE(F58:F59),E14/F59),IF(D7=AL11,MAX(E10/1,E11/AVERAGE(J57:J58),E12/J58,E13/AVERAGE(J58:J59),E14/J59),IF(D7=AL12,MAX(E10/1,E11/AVERAGE(N57:N58),E12/N58,E13/AVERAGE(N58:N59),E14/N59))))) -> 0 | F15: =IF(D7=AL9,MAX(F10/0.955,F11/0.939,F12/0.922,F13/0.907,F14/0.892),IF(D7=AL10,MAX(F10/F58,F11/AVERAGE(F58:F59),F12/F59,F13/AVERAGE(F59:F60),F14/F60),IF(D7=AL11,MAX(F10/J58,F11/AVERAGE(J58:J59),F12/J59,F13/AVERAGE(J59:J60),F14/J60),IF(D7=AL12,MAX(F10/N58,F11/AVERAGE(N58:N59),F12/N59,F13/AVERAGE(N59:N60),F14/N60))))) -> 0 | G15: =IF(D7=AL9,MAX(G10/0.922,G11/0.907,G12/0.892,G13/0.878,G14/0.863),IF(D7=AL10,MAX(G10/F59,G11/AVERAGE(F59:F60),G12/F60,G13/AVERAGE(F60:F61),G14/F61),IF(D7=AL11,MAX(G10/J59,G11/AVERAGE(J59:J60),G12/J60,G13/AVERAGE(J60:J61),G14/J61),IF(D7=AL12,MAX(G10/N59,G11/AVERAGE(N59:N60),G12/N60,G13/AVERAGE(N60:N61),G14/N61))))) -> 0 | H15: =IF(D7=AL9,MAX(H10/0.892,H11/0.878,H12/0.863,H13/0.85,H14/0.837),IF(D7=AL10,MAX(H10/F60,H11/AVERAGE(F60:F61),H12/F61,H13/AVERAGE(F61:F62),H14/F62),IF(D7=AL11,MAX(H10/J60,H11/AVERAGE(J60:J61),H12/J61,H13/AVERAGE(J61:J62),H14/J62),IF(D7=AL12,MAX(H10/N60,H11/AVERAGE(N60:N61),H12/N61,H13/AVERAGE(N61:N62),H14/N62))))) -> 0 | I15: =IF(D7=AL9,MAX(I10/0.863,I11/0.85,I12/0.837,I13/0.824,I14/0.811),IF(D7=AL10,MAX(I10/F61,I11/AVERAGE(F61:F62),I12/F62,I13/AVERAGE(F62:F63),I14/F63),IF(D7=AL11,MAX(I10/J61,I11/AVERAGE(J61:J62),I12/J62,I13/AVERAGE(J62:J63),I14/J63),IF(D7=AL12,MAX(I10/N61,I11/AVERAGE(N61:N62),I12/N62,I13/AVERAGE(N62:N63),I14/N63))))) -> 0 | J15: =IF(D7=AL9,MAX(J10/0.837,J11/0.824,J12/0.811,J13/0.799,J14/0.786),IF(D7=AL10,MAX(J10/F62,J11/AVERAGE(F62:F63),J12/F63,J13/AVERAGE(F63:F64),J14/F64),IF(D7=AL11,MAX(J10/J62,J11/AVERAGE(J62:J63),J12/J63,J13/AVERAGE(J63:J64),J14/J64),IF(D7=AL12,MAX(J10/N62,J11/AVERAGE(N62:N63),J12/N63,J13/AVERAGE(N63:N64),J14/N64))))) -> 0 | K15: =IF(D7=AL9,MAX(K10/0.811,K11/0.799,K12/0.786,K13/0.774,K14/0.762),IF(D7=AL10,MAX(K10/F63,K11/AVERAGE(F63:F64),K12/F64,K13/AVERAGE(F64:F65),K14/F65),IF(D7=AL11,MAX(K10/J63,K11/AVERAGE(J63:J64),K12/J64,K13/AVERAGE(J64:J65),K14/J65),IF(D7=AL12,MAX(K10/N63,K11/AVERAGE(N63:N64),K12/N64,K13/AVERAGE(N64:N65),K14/N65))))) -> 0 | L15: =IF(D7=AL9,MAX(L10/0.786,L11/0.774,L12/0.762,L13/0.751,L14/0.739),IF(D7=AL10,MAX(L10/F64,L11/AVERAGE(F64:F65),L12/F65,L13/AVERAGE(F65:F66),L14/F66),IF(D7=AL11,MAX(L10/J64,L11/AVERAGE(J64:J65),L12/J65,L13/AVERAGE(J65:J66),L14/J66),IF(D7=AL12,MAX(L10/N64,L11/AVERAGE(N64:N65),L12/N65,L13/AVERAGE(N65:N66),L14/N66))))) -> 0 | M15: =IF(D7=AL9,MAX(M10/0.762,M11/0.751,M12/0.739,M13/0.723,M14/0.707),IF(D7=AL10,MAX(M10/F65,M11/AVERAGE(F65:F66),M12/F66,M13/AVERAGE(F66:F67),M14/F67),IF(D7=AL11,MAX(M10/J65,M11/AVERAGE(J65:J66),M12/J66,M13/AVERAGE(J66:J67),M14/J67),IF(D7=AL12,MAX(M10/N65,M11/AVERAGE(N65:N66),M12/N66,M13/AVERAGE(N66:N67),M14/N67))))) -> 0 | N15: =IF(D7=AL9,MAX(N10/0.739,N11/0.723,N12/0.707,N13/0.694,N14/0.68),IF(D7=AL10,MAX(N10/F66,N11/AVERAGE(F66:F67),N12/F67,N13/AVERAGE(F67:F68),N14/F68),IF(D7=AL11,MAX(N10/J66,N11/AVERAGE(J66:J67),N12/J67,N13/AVERAGE(J67:J68),N14/J68),IF(D7=AL12,MAX(N10/N66,N11/AVERAGE(N66:N67),N12/N67,N13/AVERAGE(N67:N68),N14/N68))))) -> 0 | AA15: =G17*0.907 -> 0 | AB15: =G17*0.878 -> 0 | AC15: =G17*0.85 -> 0 | AD15: =G17*0.824 -> 0 | AE15: =G17*0.799 -> 0 | AF15: =G17*0.774 -> 0 | AG15: =G17*0.751 -> 0 | AH15: =G17*0.723 -> 0 | AI15: =G17*0.694 -> 0 | AJ15: =G17*0.667 -> 0
AA16: =G17*0.892 -> 0 | AB16: =G17*0.863 -> 0 | AC16: =G17*0.837 -> 0 | AD16: =G17*0.811 -> 0 | AE16: =G17*0.786 -> 0 | AF16: =G17*0.762 -> 0 | AG16: =G17*0.739 -> 0 | AH16: =G17*0.707 -> 0 | AI16: =G17*0.68 -> 0 | AJ16: =G17*0.653 -> 0
F17: e1RM : | G17: =MAX(E15:N15) -> 0 | I17: Back-off Calculator | M17: =K17-M18 -> 0 | AA17: =G17*0.878 -> 0 | AB17: =G17*0.85 -> 0 | AC17: =G17*0.824 -> 0 | AD17: =G17*0.799 -> 0 | AE17: =G17*0.774 -> 0 | AF17: =G17*0.751 -> 0 | AG17: =G17*0.723 -> 0 | AH17: =G17*0.694 -> 0 | AI17: =G17*0.667 -> 0 | AJ17: =G17*0.64 -> 0
K18: Weight | L18: Percentage | M18: =K17*L17 -> 0 | AA18: =G17*0.863 -> 0 | AB18: =G17*0.837 -> 0 | AC18: =G17*0.811 -> 0 | AD18: =G17*0.786 -> 0 | AE18: =G17*0.762 -> 0 | AF18: =G17*0.739 -> 0 | AG18: =G17*0.707 -> 0 | AH18: =G17*0.68 -> 0 | AI18: =G17*0.653 -> 0 | AJ18: =G17*0.627 -> 0
AA19: =D53 -> Custom RPE Chart (Squat)
D20: Rep(s) | E20: 1 | F20: 2 | G20: 3 | H20: 4 | I20: 5 | J20: 6 | K20: 7 | L20: 8 | M20: 9 | N20: 10 | AA20: =G17 -> 0 | AB20: =AA20*F58 -> 0 | AC20: =AA20*F59 -> 0 | AD20: =AA20*F60 -> 0 | AE20: =AA20*F61 -> 0 | AF20: =AA20*F62 -> 0 | AG20: =AA20*F63 -> 0 | AH20: =AA20*F64 -> 0 | AI20: =AA20*F65 -> 0 | AJ20: =AA20*F66 -> 0 | AK20: =AA20*F67 -> 0 | AL20: =AA20*F68 -> 0 | AM20: =AA20*F69 -> 0 | AN20: =AA20*F70 -> 0 | AO20: =AA20*F71 -> 0
D21: RPE 10 | E21: =IF(D7=AL9,AA10,IF(D7=AL10,AA20,IF(D7=AL11,Z32,IF(D7=AL12,Z44,0)))) -> 0 | F21: =IF(D7=AL9,AB10,IF(D7=AL10,AB20,IF(D7=AL11,AA32,IF(D7=AL12,AA44,0)))) -> 0 | G21: =IF(D7=AL9,AC10,IF(D7=AL10,AC20,IF(D7=AL11,AB32,IF(D7=AL12,AB44,0)))) -> 0 | H21: =IF(D7=AL9,AD10,IF(D7=AL10,AD20,IF(D7=AL11,AC32,IF(D7=AL12,AC44,0)))) -> 0 | I21: =IF(D7=AL9,AE10,IF(D7=AL10,AE20,IF(D7=AL11,AD32,IF(D7=AL12,AD44,0)))) -> 0 | J21: =IF(D7=AL9,AF10,IF(D7=AL10,AF20,IF(D7=AL11,AE32,IF(D7=AL12,AE44,0)))) -> 0 | K21: =IF(D7=AL9,AG10,IF(D7=AL10,AG20,IF(D7=AL11,AF32,IF(D7=AL12,AF44,0)))) -> 0 | L21: =IF(D7=AL9,AH10,IF(D7=AL10,AH20,IF(D7=AL11,AG32,IF(D7=AL12,AG44,0)))) -> 0 | M21: =IF(D7=AL9,AI10,IF(D7=AL10,AI20,IF(D7=AL11,AH32,IF(D7=AL12,AH44,0)))) -> 0 | N21: =IF(D7=AL9,AJ10,IF(D7=AL10,AJ20,IF(D7=AL11,AI32,IF(D7=AL12,AI44,0)))) -> 0 | AA21: =AVERAGE(AA20,AA22) -> 0 | AB21: =AVERAGE(AB20,AB22) -> 0 | AC21: =AVERAGE(AC20,AC22) -> 0 | AD21: =AVERAGE(AD20,AD22) -> 0 | AE21: =AVERAGE(AE20,AE22) -> 0 | AF21: =AVERAGE(AF20,AF22) -> 0 | AG21: =AVERAGE(AG20,AG22) -> 0 | AH21: =AVERAGE(AH20,AH22) -> 0 | ... AJ21: =AVERAGE(AJ20,AJ22) -> 0
D22: RPE 9,5 | E22: =IF(D7=AL9,AA11,IF(D7=AL10,AA21,IF(D7=AL11,Z33,IF(D7=AL12,Z45,0)))) -> 0 | F22: =IF(D7=AL9,AB11,IF(D7=AL10,AB21,IF(D7=AL11,AA33,IF(D7=AL12,AA45,0)))) -> 0 | G22: =IF(D7=AL9,AC11,IF(D7=AL10,AC21,IF(D7=AL11,AB33,IF(D7=AL12,AB45,0)))) -> 0 | H22: =IF(D7=AL9,AD11,IF(D7=AL10,AD21,IF(D7=AL11,AC33,IF(D7=AL12,AC45,0)))) -> 0 | I22: =IF(D7=AL9,AE11,IF(D7=AL10,AE21,IF(D7=AL11,AD33,IF(D7=AL12,AD45,0)))) -> 0 | J22: =IF(D7=AL9,AF11,IF(D7=AL10,AF21,IF(D7=AL11,AE33,IF(D7=AL12,AE45,0)))) -> 0 | K22: =IF(D7=AL9,AG11,IF(D7=AL10,AG21,IF(D7=AL11,AF33,IF(D7=AL12,AF45,0)))) -> 0 | L22: =IF(D7=AL9,AH11,IF(D7=AL10,AH21,IF(D7=AL11,AG33,IF(D7=AL12,AG45,0)))) -> 0 | M22: =IF(D7=AL9,AI11,IF(D7=AL10,AI21,IF(D7=AL11,AH33,IF(D7=AL12,AH45,0)))) -> 0 | N22: =IF(D7=AL9,AJ11,IF(D7=AL10,AJ21,IF(D7=AL11,AI33,IF(D7=AL12,AI45,0)))) -> 0 | AA22: =AB20 -> 0 | AB22: =AC20 -> 0 | AC22: =AD20 -> 0 | AD22: =AE20 -> 0 | AE22: =AF20 -> 0 | AF22: =AG20 -> 0 | AG22: =AH20 -> 0 | AH22: =AI20 -> 0 | ... AJ22: =AK20 -> 0
D23: RPE 9 | E23: =IF(D7=AL9,AA12,IF(D7=AL10,AA22,IF(D7=AL11,Z34,IF(D7=AL12,Z46,0)))) -> 0 | F23: =IF(D7=AL9,AB12,IF(D7=AL10,AB22,IF(D7=AL11,AA34,IF(D7=AL12,AA46,0)))) -> 0 | G23: =IF(D7=AL9,AC12,IF(D7=AL10,AC22,IF(D7=AL11,AB34,IF(D7=AL12,AB46,0)))) -> 0 | H23: =IF(D7=AL9,AD12,IF(D7=AL10,AD22,IF(D7=AL11,AC34,IF(D7=AL12,AC46,0)))) -> 0 | I23: =IF(D7=AL9,AE12,IF(D7=AL10,AE22,IF(D7=AL11,AD34,IF(D7=AL12,AD46,0)))) -> 0 | J23: =IF(D7=AL9,AF12,IF(D7=AL10,AF22,IF(D7=AL11,AE34,IF(D7=AL12,AE46,0)))) -> 0 | K23: =IF(D7=AL9,AG12,IF(D7=AL10,AG22,IF(D7=AL11,AF34,IF(D7=AL12,AF46,0)))) -> 0 | L23: =IF(D7=AL9,AH12,IF(D7=AL10,AH22,IF(D7=AL11,AG34,IF(D7=AL12,AG46,0)))) -> 0 | M23: =IF(D7=AL9,AI12,IF(D7=AL10,AI22,IF(D7=AL11,AH34,IF(D7=AL12,AH46,0)))) -> 0 | N23: =IF(D7=AL9,AJ12,IF(D7=AL10,AJ22,IF(D7=AL11,AI34,IF(D7=AL12,AI46,0)))) -> 0 | AA23: =AVERAGE(AA22,AA24) -> 0 | AB23: =AVERAGE(AB22,AB24) -> 0 | AC23: =AVERAGE(AC22,AC24) -> 0 | AD23: =AVERAGE(AD22,AD24) -> 0 | AE23: =AVERAGE(AE22,AE24) -> 0 | AF23: =AVERAGE(AF22,AF24) -> 0 | AG23: =AVERAGE(AG22,AG24) -> 0 | AH23: =AVERAGE(AH22,AH24) -> 0 | ... AJ23: =AVERAGE(AJ22,AJ24) -> 0
D24: RPE 8,5 | E24: =IF(D7=AL9,AA13,IF(D7=AL10,AA23,IF(D7=AL11,Z35,IF(D7=AL12,Z47,0)))) -> 0 | F24: =IF(D7=AL9,AB13,IF(D7=AL10,AB23,IF(D7=AL11,AA35,IF(D7=AL12,AA47,0)))) -> 0 | G24: =IF(D7=AL9,AC13,IF(D7=AL10,AC23,IF(D7=AL11,AB35,IF(D7=AL12,AB47,0)))) -> 0 | H24: =IF(D7=AL9,AD13,IF(D7=AL10,AD23,IF(D7=AL11,AC35,IF(D7=AL12,AC47,0)))) -> 0 | I24: =IF(D7=AL9,AE13,IF(D7=AL10,AE23,IF(D7=AL11,AD35,IF(D7=AL12,AD47,0)))) -> 0 | J24: =IF(D7=AL9,AF13,IF(D7=AL10,AF23,IF(D7=AL11,AE35,IF(D7=AL12,AE47,0)))) -> 0 | K24: =IF(D7=AL9,AG13,IF(D7=AL10,AG23,IF(D7=AL11,AF35,IF(D7=AL12,AF47,0)))) -> 0 | L24: =IF(D7=AL9,AH13,IF(D7=AL10,AH23,IF(D7=AL11,AG35,IF(D7=AL12,AG47,0)))) -> 0 | M24: =IF(D7=AL9,AI13,IF(D7=AL10,AI23,IF(D7=AL11,AH35,IF(D7=AL12,AH47,0)))) -> 0 | N24: =IF(D7=AL9,AJ13,IF(D7=AL10,AJ23,IF(D7=AL11,AI35,IF(D7=AL12,AI47,0)))) -> 0 | AA24: =AC20 -> 0 | AB24: =AD20 -> 0 | AC24: =AE20 -> 0 | AD24: =AF20 -> 0 | AE24: =AG20 -> 0 | AF24: =AH20 -> 0 | AG24: =AI20 -> 0 | AH24: =AJ20 -> 0 | ... AJ24: =AL20 -> 0
D25: RPE 8 | E25: =IF(D7=AL9,AA14,IF(D7=AL10,AA24,IF(D7=AL11,Z36,IF(D7=AL12,Z48,0)))) -> 0 | F25: =IF(D7=AL9,AB14,IF(D7=AL10,AB24,IF(D7=AL11,AA36,IF(D7=AL12,AA48,0)))) -> 0 | G25: =IF(D7=AL9,AC14,IF(D7=AL10,AC24,IF(D7=AL11,AB36,IF(D7=AL12,AB48,0)))) -> 0 | H25: =IF(D7=AL9,AD14,IF(D7=AL10,AD24,IF(D7=AL11,AC36,IF(D7=AL12,AC48,0)))) -> 0 | I25: =IF(D7=AL9,AE14,IF(D7=AL10,AE24,IF(D7=AL11,AD36,IF(D7=AL12,AD48,0)))) -> 0 | J25: =IF(D7=AL9,AF14,IF(D7=AL10,AF24,IF(D7=AL11,AE36,IF(D7=AL12,AE48,0)))) -> 0 | K25: =IF(D7=AL9,AG14,IF(D7=AL10,AG24,IF(D7=AL11,AF36,IF(D7=AL12,AF48,0)))) -> 0 | L25: =IF(D7=AL9,AH14,IF(D7=AL10,AH24,IF(D7=AL11,AG36,IF(D7=AL12,AG48,0)))) -> 0 | M25: =IF(D7=AL9,AI14,IF(D7=AL10,AI24,IF(D7=AL11,AH36,IF(D7=AL12,AH48,0)))) -> 0 | N25: =IF(D7=AL9,AJ14,IF(D7=AL10,AJ24,IF(D7=AL11,AI36,IF(D7=AL12,AI48,0)))) -> 0 | AA25: =AVERAGE(AA24,AA26) -> 0 | AB25: =AVERAGE(AB24,AB26) -> 0 | AC25: =AVERAGE(AC24,AC26) -> 0 | AD25: =AVERAGE(AD24,AD26) -> 0 | AE25: =AVERAGE(AE24,AE26) -> 0 | AF25: =AVERAGE(AF24,AF26) -> 0 | AG25: =AVERAGE(AG24,AG26) -> 0 | AH25: =AVERAGE(AH24,AH26) -> 0 | ... AJ25: =AVERAGE(AJ24,AJ26) -> 0
D26: RPE 7,5 | E26: =IF(D7=AL9,AA15,IF(D7=AL10,AA25,IF(D7=AL11,Z37,IF(D7=AL12,Z49,0)))) -> 0 | F26: =IF(D7=AL9,AB15,IF(D7=AL10,AB25,IF(D7=AL11,AA37,IF(D7=AL12,AA49,0)))) -> 0 | G26: =IF(D7=AL9,AC15,IF(D7=AL10,AC25,IF(D7=AL11,AB37,IF(D7=AL12,AB49,0)))) -> 0 | H26: =IF(D7=AL9,AD15,IF(D7=AL10,AD25,IF(D7=AL11,AC37,IF(D7=AL12,AC49,0)))) -> 0 | I26: =IF(D7=AL9,AE15,IF(D7=AL10,AE25,IF(D7=AL11,AD37,IF(D7=AL12,AD49,0)))) -> 0 | J26: =IF(D7=AL9,AF15,IF(D7=AL10,AF25,IF(D7=AL11,AE37,IF(D7=AL12,AE49,0)))) -> 0 | K26: =IF(D7=AL9,AG15,IF(D7=AL10,AG25,IF(D7=AL11,AF37,IF(D7=AL12,AF49,0)))) -> 0 | L26: =IF(D7=AL9,AH15,IF(D7=AL10,AH25,IF(D7=AL11,AG37,IF(D7=AL12,AG49,0)))) -> 0 | M26: =IF(D7=AL9,AI15,IF(D7=AL10,AI25,IF(D7=AL11,AH37,IF(D7=AL12,AH49,0)))) -> 0 | N26: =IF(D7=AL9,AJ15,IF(D7=AL10,AJ25,IF(D7=AL11,AI37,IF(D7=AL12,AI49,0)))) -> 0 | AA26: =AD20 -> 0 | AB26: =AE20 -> 0 | AC26: =AF20 -> 0 | AD26: =AG20 -> 0 | AE26: =AH20 -> 0 | AF26: =AI20 -> 0 | AG26: =AJ20 -> 0 | AH26: =AK20 -> 0 | ... AJ26: =AM20 -> 0
D27: RPE 7 | E27: =IF(D7=AL9,AA16,IF(D7=AL10,AA26,IF(D7=AL11,Z38,IF(D7=AL12,Z50,0)))) -> 0 | F27: =IF(D7=AL9,AB16,IF(D7=AL10,AB26,IF(D7=AL11,AA38,IF(D7=AL12,AA50,0)))) -> 0 | G27: =IF(D7=AL9,AC16,IF(D7=AL10,AC26,IF(D7=AL11,AB38,IF(D7=AL12,AB50,0)))) -> 0 | H27: =IF(D7=AL9,AD16,IF(D7=AL10,AD26,IF(D7=AL11,AC38,IF(D7=AL12,AC50,0)))) -> 0 | I27: =IF(D7=AL9,AE16,IF(D7=AL10,AE26,IF(D7=AL11,AD38,IF(D7=AL12,AD50,0)))) -> 0 | J27: =IF(D7=AL9,AF16,IF(D7=AL10,AF26,IF(D7=AL11,AE38,IF(D7=AL12,AE50,0)))) -> 0 | K27: =IF(D7=AL9,AG16,IF(D7=AL10,AG26,IF(D7=AL11,AF38,IF(D7=AL12,AF50,0)))) -> 0 | L27: =IF(D7=AL9,AH16,IF(D7=AL10,AH26,IF(D7=AL11,AG38,IF(D7=AL12,AG50,0)))) -> 0 | M27: =IF(D7=AL9,AI16,IF(D7=AL10,AI26,IF(D7=AL11,AH38,IF(D7=AL12,AH50,0)))) -> 0 | N27: =IF(D7=AL9,AJ16,IF(D7=AL10,AJ26,IF(D7=AL11,AI38,IF(D7=AL12,AI50,0)))) -> 0 | AA27: =AVERAGE(AA26,AA28) -> 0 | AB27: =AVERAGE(AB28,AB26) -> 0 | AC27: =AVERAGE(AC26,AC28) -> 0 | AD27: =AVERAGE(AD26,AD28) -> 0 | AE27: =AVERAGE(AE26,AE28) -> 0 | AF27: =AVERAGE(AF26,AF28) -> 0 | AG27: =AVERAGE(AG26,AG28) -> 0 | AH27: =AVERAGE(AH26,AH28) -> 0 | AI27: =AVERAGE(AI26,AI28) -> 0 | AJ27: =AVERAGE(AJ26,AJ28) -> 0
D28: RPE 6,5 | E28: =IF(D7=AL9,AA17,IF(D7=AL10,AA27,IF(D7=AL11,Z39,IF(D7=AL12,Z51,0)))) -> 0 | F28: =IF(D7=AL9,AB17,IF(D7=AL10,AB27,IF(D7=AL11,AA39,IF(D7=AL12,AA51,0)))) -> 0 | G28: =IF(D7=AL9,AC17,IF(D7=AL10,AC27,IF(D7=AL11,AB39,IF(D7=AL12,AB51,0)))) -> 0 | H28: =IF(D7=AL9,AD17,IF(D7=AL10,AD27,IF(D7=AL11,AC39,IF(D7=AL12,AC51,0)))) -> 0 | I28: =IF(D7=AL9,AE17,IF(D7=AL10,AE27,IF(D7=AL11,AD39,IF(D7=AL12,AD51,0)))) -> 0 | J28: =IF(D7=AL9,AF17,IF(D7=AL10,AF27,IF(D7=AL11,AE39,IF(D7=AL12,AE51,0)))) -> 0 | K28: =IF(D7=AL9,AG17,IF(D7=AL10,AG27,IF(D7=AL11,AF39,IF(D7=AL12,AF51,0)))) -> 0 | L28: =IF(D7=AL9,AH17,IF(D7=AL10,AH27,IF(D7=AL11,AG39,IF(D7=AL12,AG51,0)))) -> 0 | M28: =IF(D7=AL9,AI17,IF(D7=AL10,AI27,IF(D7=AL11,AH39,IF(D7=AL12,AH51,0)))) -> 0 | N28: =IF(D7=AL9,AJ17,IF(D7=AL10,AJ27,IF(D7=AL11,AI39,IF(D7=AL12,AI51,0)))) -> 0 | AA28: =AE20 -> 0 | AB28: =AF20 -> 0 | AC28: =AG20 -> 0 | AD28: =AH20 -> 0 | AE28: =AI20 -> 0 | AF28: =AJ20 -> 0 | AG28: =AK20 -> 0 | AH28: =AL20 -> 0 | ... AJ28: =AN20 -> 0
D29: RPE 6 | E29: =IF(D7=AL9,AA18,IF(D7=AL10,AA28,IF(D7=AL11,Z40,IF(D7=AL12,Z52,0)))) -> 0 | F29: =IF(D7=AL9,AB18,IF(D7=AL10,AB28,IF(D7=AL11,AA40,IF(D7=AL12,AA52,0)))) -> 0 | G29: =IF(D7=AL9,AC18,IF(D7=AL10,AC28,IF(D7=AL11,AB40,IF(D7=AL12,AB52,0)))) -> 0 | H29: =IF(D7=AL9,AD18,IF(D7=AL10,AD28,IF(D7=AL11,AC40,IF(D7=AL12,AC52,0)))) -> 0 | I29: =IF(D7=AL9,AE18,IF(D7=AL10,AE28,IF(D7=AL11,AD40,IF(D7=AL12,AD52,0)))) -> 0 | J29: =IF(D7=AL9,AF18,IF(D7=AL10,AF28,IF(D7=AL11,AE40,IF(D7=AL12,AE52,0)))) -> 0 | K29: =IF(D7=AL9,AG18,IF(D7=AL10,AG28,IF(D7=AL11,AF40,IF(D7=AL12,AF52,0)))) -> 0 | L29: =IF(D7=AL9,AH18,IF(D7=AL10,AH28,IF(D7=AL11,AG40,IF(D7=AL12,AG52,0)))) -> 0 | M29: =IF(D7=AL9,AI18,IF(D7=AL10,AI28,IF(D7=AL11,AH40,IF(D7=AL12,AH52,0)))) -> 0 | N29: =IF(D7=AL9,AJ18,IF(D7=AL10,AJ28,IF(D7=AL11,AI40,IF(D7=AL12,AI52,0)))) -> 0
C31: Reps @RPE | E31: Fatigue Stops | H31: Reps @RPE | J31: Fatigue Stops | M31: Wilks Points Calculator | Z31: =H53 -> Custom RPE Chart (Bench)
E32: 0.05 | F32: 0.07 | J32: 0.05 | K32: 0.07 | Z32: =G17 -> 0 | AA32: =Z32*J58 -> 0 | AB32: =Z32*J59 -> 0 | AC32: =Z32*J60 -> 0 | AD32: =Z32*J61 -> 0 | AE32: =Z32*J62 -> 0 | AF32: =Z32*J63 -> 0 | AG32: =Z32*J64 -> 0 | AH32: =Z32*J65 -> 0 | AI32: =Z32*J66 -> 0 | AJ32: =Z32*J67 -> 0 | AK32: =Z32*J68 -> 0 | AL32: =Z32*J69 -> 0 | AM32: =Z32*J70 -> 0 | AN32: =Z32*J71 -> 0
C33: 1 @RPE 9 | D33: =E23 -> 0 | E33: =D33-(D33*E32) -> 0 | F33: =D33-(D33*F32) -> 0 | H33: 6 @RPE 9 | I33: =J23 -> 0 | J33: =I33-(I33*J32) -> 0 | K33: =I33-(I33*K32) -> 0 | M33: You are : | Z33: =AVERAGE(Z32,Z34) -> 0 | AA33: =AVERAGE(AA34,AA32) -> 0 | AB33: =AVERAGE(AB32,AB34) -> 0 | AC33: =AVERAGE(AC32,AC34) -> 0 | AD33: =AVERAGE(AD32,AD34) -> 0 | AE33: =AVERAGE(AE32,AE34) -> 0 | AF33: =AVERAGE(AF32,AF34) -> 0 | AG33: =AVERAGE(AG34,AG32) -> 0 | AH33: =AVERAGE(AH32,AH34) -> 0 | AI33: =AVERAGE(AI32,AI34) -> 0
C34: 1 @RPE 8 | D34: =E25 -> 0 | H34: 6 @RPE 8 | I34: =J25 -> 0 | Z34: =AA32 -> 0 | AA34: =AB32 -> 0 | AB34: =AC32 -> 0 | AC34: =AD32 -> 0 | AD34: =AE32 -> 0 | AE34: =AF32 -> 0 | AF34: =AG32 -> 0 | AG34: =AH32 -> 0 | ... AI34: =AJ32 -> 0
C35: 1 @RPE 7 | D35: =E27 -> 0 | H35: 6 @RPE 7 | I35: =J27 -> 0 | M35: Bodyweight : | Z35: =AVERAGE(Z34,Z36) -> 0 | AA35: =AVERAGE(AA34,AA36) -> 0 | AB35: =AVERAGE(AB34,AB36) -> 0 | AC35: =AVERAGE(AC34,AC36) -> 0 | AD35: =AVERAGE(AD34,AD36) -> 0 | AE35: =AVERAGE(AE34,AE36) -> 0 | AF35: =AVERAGE(AF34,AF36) -> 0 | AG35: =AVERAGE(AG36,AG34) -> 0 | AH35: =AVERAGE(AH34,AH36) -> 0 | AI35: =AVERAGE(AI34,AI36) -> 0
Z36: =AB32 -> 0 | AA36: =AC32 -> 0 | AB36: =AD32 -> 0 | AC36: =AE32 -> 0 | AD36: =AF32 -> 0 | AE36: =AG32 -> 0 | AF36: =AH32 -> 0 | AG36: =AI32 -> 0 | ... AI36: =AK32 -> 0
C37: 2 @RPE 9 | D37: =F23 -> 0 | E37: =D37-(D37*E32) -> 0 | F37: =D37-(D37*F32) -> 0 | H37: 7 @RPE 9 | I37: =K23 -> 0 | J37: =I37-(I37*J32) -> 0 | K37: =I37-(I37*K32) -> 0 | M37: Total Lifted Weight : | Z37: =AVERAGE(Z36,Z38) -> 0 | AA37: =AVERAGE(AA36,AA38) -> 0 | AB37: =AVERAGE(AB36,AB38) -> 0 | AC37: =AVERAGE(AC36,AC38) -> 0 | AD37: =AVERAGE(AD36,AD38) -> 0 | AE37: =AVERAGE(AE36,AE38) -> 0 | AF37: =AVERAGE(AF36,AF38) -> 0 | AG37: =AVERAGE(AG38,AG36) -> 0 | AH37: =AVERAGE(AH36,AH38) -> 0 | AI37: =AVERAGE(AI36,AI38) -> 0
C38: 2 @RPE 8 | D38: =F25 -> 0 | H38: 7 @RPE 8 | I38: =K25 -> 0 | Z38: =AC32 -> 0 | AA38: =AD32 -> 0 | AB38: =AE32 -> 0 | AC38: =AF32 -> 0 | AD38: =AG32 -> 0 | AE38: =AH32 -> 0 | AF38: =AI32 -> 0 | AG38: =AJ32 -> 0 | ... AI38: =AL32 -> 0
C39: 2 @RPE 7 | D39: =F27 -> 0 | H39: 7 @RPE 7 | I39: =K27 -> 0 | M39: =IF(O33=S40,O37*500/(-216.0475144+16.2606339*O35-0.002388645*O35^2-0.00113732*O35^3+0.00000701863*O35^4-0.00000001291*O35^5),O37*500/(594.31747775582-27.23842536447*O35+0.82112226871*O35^2-0.00930733913*O35^3+0.00004731582*O35^4-0.00000009054*O35^5)) -> 0 | Z39: =AVERAGE(Z38,Z40) -> 0 | AA39: =AVERAGE(AA38,AA40) -> 0 | AB39: =AVERAGE(AB38,AB40) -> 0 | AC39: =AVERAGE(AC38,AC40) -> 0 | AD39: =AVERAGE(AD38,AD40) -> 0 | AE39: =AVERAGE(AE38,AE40) -> 0 | AF39: =AVERAGE(AF38,AF40) -> 0 | AG39: =AVERAGE(AG38,AG40) -> 0 | ... AI39: =AVERAGE(AI38,AI40) -> 0
S40: Man | Z40: =AD32 -> 0 | AA40: =AE32 -> 0 | AB40: =AF32 -> 0 | AC40: =AG32 -> 0 | AD40: =AH32 -> 0 | AE40: =AI32 -> 0 | AF40: =AJ32 -> 0 | AG40: =AK32 -> 0 | ... AI40: =AM32 -> 0
C41: 3 @RPE 9 | D41: =G23 -> 0 | E41: =D41-(D41*E32) -> 0 | F41: =D41-(D41*F32) -> 0 | H41: 8 @RPE 9 | I41: =L23 -> 0 | J41: =I41-(I41*J32) -> 0 | K41: =I41-(I41*K32) -> 0
C42: 3 @RPE 8 | D42: =G25 -> 0 | H42: 8 @RPE 8 | I42: =L25 -> 0 | M42: IPF Points Calculator (Classic 3-Lift)
C43: 3 @RPE 7 | D43: =G27 -> 0 | H43: 8 @RPE 7 | I43: =L27 -> 0 | Z43: =L53 -> Custom RPE Chart (Deadlift)
M44: You are : | Z44: =G17 -> 0 | AA44: =Z44*N58 -> 0 | AB44: =Z44*N59 -> 0 | AC44: =Z44*N60 -> 0 | AD44: =Z44*N61 -> 0 | AE44: =Z44*N62 -> 0 | AF44: =Z44*N63 -> 0 | AG44: =Z44*N64 -> 0 | AH44: =Z44*N65 -> 0 | AI44: =Z44*N66 -> 0 | AJ44: =Z44*N67 -> 0 | AK44: =Z44*N68 -> 0 | AL44: =Z44*N69 -> 0 | AM44: =Z44*N70 -> 0 | AN44: =Z44*N71 -> 0
C45: 4 @RPE 9 | D45: =H23 -> 0 | E45: =D45-(D45*E32) -> 0 | F45: =D45-(D45*F32) -> 0 | H45: 9 @RPE 9 | I45: =M23 -> 0 | J45: =I45-(I45*J32) -> 0 | K45: =I45-(I45*K32) -> 0 | Z45: =AVERAGE(Z44,Z46) -> 0 | AA45: =AVERAGE(AA44,AA46) -> 0 | AB45: =AVERAGE(AB44,AB46) -> 0 | AC45: =AVERAGE(AC44,AC46) -> 0 | AD45: =AVERAGE(AD44,AD46) -> 0 | AE45: =AVERAGE(AE44,AE46) -> 0 | AF45: =AVERAGE(AF44,AF46) -> 0 | AG45: =AVERAGE(AG44,AG46) -> 0 | ... AI45: =AVERAGE(AI44,AI46) -> 0
C46: 4 @RPE 8 | D46: =H25 -> 0 | H46: 9 @RPE 8 | I46: =M25 -> 0 | M46: Bodyweight : | Z46: =AA44 -> 0 | AA46: =AB44 -> 0 | AB46: =AC44 -> 0 | AC46: =AD44 -> 0 | AD46: =AE44 -> 0 | AE46: =AF44 -> 0 | AF46: =AG44 -> 0 | AG46: =AH44 -> 0 | ... AI46: =AJ44 -> 0
C47: 4 @RPE 7 | D47: =H27 -> 0 | H47: 9 @RPE 7 | I47: =M27 -> 0 | Z47: =AVERAGE(Z46,Z48) -> 0 | AA47: =AVERAGE(AA46,AA48) -> 0 | AB47: =AVERAGE(AB46,AB48) -> 0 | AC47: =AVERAGE(AC46,AC48) -> 0 | AD47: =AVERAGE(AD46,AD48) -> 0 | AE47: =AVERAGE(AE46,AE48) -> 0 | AF47: =AVERAGE(AF46,AF48) -> 0 | AG47: =AVERAGE(AG46,AG48) -> 0 | ... AI47: =AVERAGE(AI46,AI48) -> 0
...

Sheet Week 1
C3: ='Training Plan'!B12 -> 0 | E3: Week 1 Training Log
B9: Day 1
B13: 1 | C13: ='Training Plan'!C16 -> Competition Squat | H13: 2 | I13: ='Training Plan'!C24 -> Competition Bench | N13: 3 | O13: ='Training Plan'!C32 -> Competition Deadlift
B15: Sets x Reps @RPE / % | D15: ='Training Plan'!C17 -> 0 | H15: Sets x Reps @RPE / % | J15: ='Training Plan'!C25 -> 0 | N15: Sets x Reps @RPE / % | P15: ='Training Plan'!C33 -> 0
B20: Rest Periods | D20: ='Training Plan'!D22 -> 0 | H20: Rest Periods | J20: ='Training Plan'!D30 -> 0 | N20: Rest Periods | P20: ='Training Plan'!D38 -> 0
B22: Sets | C22: Reps | D22: Weight | E22: RPE | F22: Relative Intensity | H22: Sets | I22: Reps | J22: Weight | K22: RPE | L22: Relative Intensity | N22: Sets | O22: Reps | P22: Weight | Q22: RPE | R22: Relative Intensity
B23: 1 | C23: 1 | D23: 150 | F23: =IF(ISNUMBER(D23),D23/B35,) -> 0.71770335 | H23: 1 | I23: 1 | J23: 100 | L23: =IF(ISNUMBER(J23),J23/H35,) -> 0.71428571 | N23: 1 | O23: 1 | P23: 200 | R23: =IF(ISNUMBER(P23),P23/N35,) -> 0.71684588
B24: 2 | F24: =IF(ISNUMBER(D24),D24/B35,) -> 0 | H24: 2 | L24: =IF(ISNUMBER(J24),J24/H35,) -> 0 | N24: 2 | R24: =IF(ISNUMBER(P24),P24/N35,) -> 0
B25: 3 | F25: =IF(ISNUMBER(D25),D25/B35,) -> 0 | H25: 3 | L25: =IF(ISNUMBER(J25),J25/H35,) -> 0 | N25: 3 | R25: =IF(ISNUMBER(P25),P25/N35,) -> 0
B26: 4 | F26: =IF(ISNUMBER(D26),D26/B35,) -> 0 | H26: 4 | L26: =IF(ISNUMBER(J26),J26/H35,) -> 0 | N26: 4 | R26: =IF(ISNUMBER(P26),P26/N35,) -> 0
B27: 5 | F27: =IF(ISNUMBER(D27),D27/B35,) -> 0 | H27: 5 | L27: =IF(ISNUMBER(J27),J27/H35,) -> 0 | N27: 5 | R27: =IF(ISNUMBER(P27),P27/N35,) -> 0
B28: 6 | F28: =IF(ISNUMBER(D28),D28/B35,) -> 0 | H28: 6 | L28: =IF(ISNUMBER(J28),J28/H35,) -> 0 | N28: 6 | R28: =IF(ISNUMBER(P28),P28/N35,) -> 0
B29: 7 | F29: =IF(ISNUMBER(D29),D29/B35,) -> 0 | H29: 7 | L29: =IF(ISNUMBER(J29),J29/H35,) -> 0 | N29: 7 | R29: =IF(ISNUMBER(P29),P29/N35,) -> 0
B30: 8 | F30: =IF(ISNUMBER(D30),D30/B35,) -> 0 | H30: 8 | L30: =IF(ISNUMBER(J30),J30/H35,) -> 0 | N30: 8 | R30: =IF(ISNUMBER(P30),P30/N35,) -> 0
B31: 9 | F31: =IF(ISNUMBER(D31),D31/B35,) -> 0 | H31: 9 | L31: =IF(ISNUMBER(J31),J31/H35,) -> 0 | N31: 9 | R31: =IF(ISNUMBER(P31),P31/N35,) -> 0
B32: 10 | F32: =IF(ISNUMBER(D32),D32/B35,) -> 0 | H32: 10 | L32: =IF(ISNUMBER(J32),J32/H35,) -> 0 | N32: 10 | R32: =IF(ISNUMBER(P32),P32/N35,) -> 0
B33: e1RM | C33: Average Intensity | E33: =IFERROR(IF(COUNT(F23:F32)>0,AVERAGEIF(F23:F32,">0"),0),) -> 0.71770335 | H33: e1RM | I33: Average Intensity | K33: =IFERROR(IF(COUNT(L23:L32)>0,AVERAGEIF(L23:L32,">0"),0),) -> 0.71428571 | N33: e1RM | O33: Average Intensity | P33: =IFERROR(IF(COUNT(R23:R32)>0,AVERAGEIF(R23:R32,">0"),0),) -> 0.71684588 | Q33: sRPE | R33: =IFERROR(Q37*R37,"")
B35: =IFERROR(ROUNDUP(B37/(0.0005*C37^2-0.0342*C37+1.034),0),) -> 209 | C35: nReps | D35: =SUM(C23:C32) -> 1 | E35: Volume | F35: =SUM(C23*D23,C24*D24,C25*D25,C26*D26,C27*D27,C28*D28,C29*D29,C30*D30,C31*D31,C32*D32) -> 150 | H35: =IFERROR(ROUNDUP(H37/(0.0005*I37^2-0.0342*I37+1.034),0),) -> 140 | I35: nReps | J35: =SUM(I23:I32) -> 1 | K35: Volume | L35: =SUM(I23*J23,I24*J24,I25*J25,I26*J26,I27*J27,I28*J28,I29*J29,I30*J30,I31*J31,I32*J32) -> 100 | N35: =IFERROR(ROUNDUP(N37/(0.0005*O37^2-0.0342*O37+1.034),0),) -> 279 | O35: nReps | P35: =SUM(O23:O32) -> 1 | Q35: Volume | R35: =SUM(O23*P23,O24*P24,O25*P25,O26*P26,O27*P27,O28*P28,O29*P29,O30*P30,O31*P31,O32*P32) -> 200
B37: =IFERROR(OFFSET(D22,MATCH(MAX(D23:D32),D23:D32,0),0),"") -> 150 | C37: =IFERROR(OFFSET(C22,MATCH(MAX(D23:D32),D23:D32,0),0)+(10-OFFSET(E22,MATCH(MAX(D23:D32),D23:D32,0),0)),"") -> 11 | H37: =IFERROR(OFFSET(J22,MATCH(MAX(J23:J32),J23:J32,0),0),"") -> 100 | I37: =IFERROR(OFFSET(I22,MATCH(MAX(J23:J32),J23:J32,0),0)+(10-OFFSET(K22,MATCH(MAX(J23:J32),J23:J32,0),0)),"") -> 11 | N37: =IFERROR(OFFSET(P22,MATCH(MAX(P23:P32),P23:P32,0),0),"") -> 200 | O37: =IFERROR(OFFSET(O22,MATCH(MAX(P23:P32),P23:P32,0),0)+(10-OFFSET(Q22,MATCH(MAX(P23:P32),P23:P32,0),0)),"") -> 11 | Q37: =IFERROR(AVERAGE(AVERAGE(E23:E32),AVERAGE(K23:K32),AVERAGE(Q23:Q32)),"") | R37: =SUM(C23:C32,I23:I32,O23:O32) -> 3
B39: Day 2
B43: 1 | C43: ='Training Plan'!F16 -> 0 | H43: 2 | I43: ='Training Plan'!F24 -> 0 | N43: 3 | O43: ='Training Plan'!F32 -> 0
B45: Sets x Reps @RPE / % | D45: ='Training Plan'!F17 -> 0 | H45: Sets x Reps @RPE / % | J45: ='Training Plan'!F25 -> 0 | N45: Sets x Reps @RPE / % | P45: ='Training Plan'!F33 -> 0
B50: Rest Periods | D50: ='Training Plan'!G22 -> 0 | H50: Rest Periods | J50: ='Training Plan'!G30 -> 0 | N50: Rest Periods | P50: ='Training Plan'!G38 -> 0
B52: Sets | C52: Reps | D52: Weight | E52: RPE | F52: Relative Intensity | H52: Sets | I52: Reps | J52: Weight | K52: RPE | L52: Relative Intensity | N52: Sets | O52: Reps | P52: Weight | Q52: RPE | R52: Relative Intensity
B53: 1 | F53: =IF(ISNUMBER(D53),D53/B65,) -> 0 | H53: 1 | L53: =IF(ISNUMBER(J53),J53/H65,) -> 0 | N53: 1 | R53: =IF(ISNUMBER(P53),P53/N65,) -> 0
B54: 2 | F54: =IF(ISNUMBER(D54),D54/B65,) -> 0 | H54: 2 | L54: =IF(ISNUMBER(J54),J54/H65,) -> 0 | N54: 2 | R54: =IF(ISNUMBER(P54),P54/N65,) -> 0
B55: 3 | F55: =IF(ISNUMBER(D55),D55/B65,) -> 0 | H55: 3 | L55: =IF(ISNUMBER(J55),J55/H65,) -> 0 | N55: 3 | R55: =IF(ISNUMBER(P55),P55/N65,) -> 0
B56: 4 | F56: =IF(ISNUMBER(D56),D56/B65,) -> 0 | H56: 4 | L56: =IF(ISNUMBER(J56),J56/H65,) -> 0 | N56: 4 | R56: =IF(ISNUMBER(P56),P56/N65,) -> 0
B57: 5 | F57: =IF(ISNUMBER(D57),D57/B65,) -> 0 | H57: 5 | L57: =IF(ISNUMBER(J57),J57/H65,) -> 0 | N57: 5 | R57: =IF(ISNUMBER(P57),P57/N65,) -> 0
B58: 6 | F58: =IF(ISNUMBER(D58),D58/B65,) -> 0 | H58: 6 | L58: =IF(ISNUMBER(J58),J58/H65,) -> 0 | N58: 6 | R58: =IF(ISNUMBER(P58),P58/N65,) -> 0
B59: 7 | F59: =IF(ISNUMBER(D59),D59/B65,) -> 0 | H59: 7 | L59: =IF(ISNUMBER(J59),J59/H65,) -> 0 | N59: 7 | R59: =IF(ISNUMBER(P59),P59/N65,) -> 0
B60: 8 | F60: =IF(ISNUMBER(D60),D60/B65,) -> 0 | H60: 8 | L60: =IF(ISNUMBER(J60),J60/H65,) -> 0 | N60: 8 | R60: =IF(ISNUMBER(P60),P60/N65,) -> 0
B61: 9 | F61: =IF(ISNUMBER(D61),D61/B65,) -> 0 | H61: 9 | L61: =IF(ISNUMBER(J61),J61/H65,) -> 0 | N61: 9 | R61: =IF(ISNUMBER(P61),P61/N65,) -> 0
B62: 10 | F62: =IF(ISNUMBER(D62),D62/B65,) -> 0 | H62: 10 | L62: =IF(ISNUMBER(J62),J62/H65,) -> 0 | N62: 10 | R62: =IF(ISNUMBER(P62),P62/N65,) -> 0
B63: e1RM | C63: Average Intensity | E63: =IFERROR(IF(COUNT(F53:F62)>0,AVERAGEIF(F53:F62,">0"),0),) -> 0 | H63: e1RM | I63: Average Intensity | K63: =IFERROR(IF(COUNT(L53:L62)>0,AVERAGEIF(L53:L62,">0"),0),) -> 0 | N63: e1RM | O63: Average Intensity | P63: =IFERROR(IF(COUNT(R53:R62)>0,AVERAGEIF(R53:R62,">0"),0),) -> 0 | Q63: sRPE | R63: =IFERROR(Q67*R67,"")
B65: =IFERROR(ROUNDUP(B67/(0.0005*C67^2-0.0342*C67+1.034),0),) -> 0 | C65: nReps | D65: =SUM(C53:C62) -> 0 | E65: Volume | F65: =SUM(C53*D53,C54*D54,C55*D55,C56*D56,C57*D57,C58*D58,C59*D59,C60*D60,C61*D61,C62*D62) -> 0 | H65: =IFERROR(ROUNDUP(H67/(0.0005*I67^2-0.0342*I67+1.034),0),) -> 0 | I65: nReps | J65: =SUM(I53:I62) -> 0 | K65: Volume | L65: =SUM(I53*J53,I54*J54,I55*J55,I56*J56,I57*J57,I58*J58,I59*J59,I60*J60,I61*J61,I62*J62) -> 0 | N65: =IFERROR(ROUNDUP(N67/(0.0005*O67^2-0.0342*O67+1.034),0),) -> 0 | O65: nReps | P65: =SUM(O53:O62) -> 0 | Q65: Volume | R65: =SUM(O53*P53,O54*P54,O55*P55,O56*P56,O57*P57,O58*P58,O59*P59,O60*P60,O61*P61,O62*P62) -> 0
B67: =IFERROR(OFFSET(D52,MATCH(MAX(D53:D62),D53:D62,0),0),"") | C67: =IFERROR(OFFSET(C52,MATCH(MAX(D53:D62),D53:D62,0),0)+(10-OFFSET(E52,MATCH(MAX(D53:D62),D53:D62,0),0)),"") | H67: =IFERROR(OFFSET(J52,MATCH(MAX(J53:J62),J53:J62,0),0),"") | I67: =IFERROR(OFFSET(I52,MATCH(MAX(J53:J62),J53:J62,0),0)+(10-OFFSET(K52,MATCH(MAX(J53:J62),J53:J62,0),0)),"") | N67: =IFERROR(OFFSET(P52,MATCH(MAX(P53:P62),P53:P62,0),0),"") | O67: =IFERROR(OFFSET(O52,MATCH(MAX(P53:P62),P53:P62,0),0)+(10-OFFSET(Q52,MATCH(MAX(P53:P62),P53:P62,0),0)),"") | Q67: =IFERROR(AVERAGE(AVERAGE(E53:E62),AVERAGE(K53:K62),AVERAGE(Q53:Q62)),"") | R67: =SUM(C53:C62,I53:I62,O53:O62) -> 0
B69: Day 3
B73: 1 | C73: ='Training Plan'!I16 -> 0 | H73: 2 | I73: ='Training Plan'!I24 -> 0 | N73: 3 | O73: ='Training Plan'!I32 -> 0
B75: Sets x Reps @RPE / % | D75: ='Training Plan'!I17 -> 0 | H75: Sets x Reps @RPE / % | J75: ='Training Plan'!I25 -> 0 | N75: Sets x Reps @RPE / % | P75: ='Training Plan'!I33 -> 0
...

Sheet Week 2
C3: ='Training Plan'!B47 -> 0 | E3: Week 2 Training Log
B9: Day 1
B13: 1 | C13: ='Training Plan'!C51 -> Competition Squat | H13: 2 | I13: ='Training Plan'!C59 -> Competition Bench | N13: 3 | O13: ='Training Plan'!C67 -> Competition Deadlift
B15: Sets x Reps @RPE / % | D15: ='Training Plan'!C52 -> 0 | H15: Sets x Reps @RPE / % | J15: ='Training Plan'!C60 -> 0 | N15: Sets x Reps @RPE / % | P15: ='Training Plan'!C68 -> 0
B20: Rest Periods | D20: ='Training Plan'!D57 -> 0 | H20: Rest Periods | J20: ='Training Plan'!D65 -> 0 | N20: Rest Periods | P20: ='Training Plan'!D73 -> 0
B22: Sets | C22: Reps | D22: Weight | E22: RPE | F22: Relative Intensity | H22: Sets | I22: Reps | J22: Weight | K22: RPE | L22: Relative Intensity | N22: Sets | O22: Reps | P22: Weight | Q22: RPE | R22: Relative Intensity
B23: 1 | C23: 1 | D23: 160 | F23: =IF(ISNUMBER(D23),D23/B35,) -> 0.71748879 | H23: 1 | I23: 1 | J23: 110 | L23: =IF(ISNUMBER(J23),J23/H35,) -> 0.71428571 | N23: 1 | O23: 1 | P23: 210 | R23: =IF(ISNUMBER(P23),P23/N35,) -> 0.71672355
B24: 2 | F24: =IF(ISNUMBER(D24),D24/B35,) -> 0 | H24: 2 | L24: =IF(ISNUMBER(J24),J24/H35,) -> 0 | N24: 2 | R24: =IF(ISNUMBER(P24),P24/N35,) -> 0
B25: 3 | F25: =IF(ISNUMBER(D25),D25/B35,) -> 0 | H25: 3 | L25: =IF(ISNUMBER(J25),J25/H35,) -> 0 | N25: 3 | R25: =IF(ISNUMBER(P25),P25/N35,) -> 0
B26: 4 | F26: =IF(ISNUMBER(D26),D26/B35,) -> 0 | H26: 4 | L26: =IF(ISNUMBER(J26),J26/H35,) -> 0 | N26: 4 | R26: =IF(ISNUMBER(P26),P26/N35,) -> 0
B27: 5 | F27: =IF(ISNUMBER(D27),D27/B35,) -> 0 | H27: 5 | L27: =IF(ISNUMBER(J27),J27/H35,) -> 0 | N27: 5 | R27: =IF(ISNUMBER(P27),P27/N35,) -> 0
B28: 6 | F28: =IF(ISNUMBER(D28),D28/B35,) -> 0 | H28: 6 | L28: =IF(ISNUMBER(J28),J28/H35,) -> 0 | N28: 6 | R28: =IF(ISNUMBER(P28),P28/N35,) -> 0
B29: 7 | F29: =IF(ISNUMBER(D29),D29/B35,) -> 0 | H29: 7 | L29: =IF(ISNUMBER(J29),J29/H35,) -> 0 | N29: 7 | R29: =IF(ISNUMBER(P29),P29/N35,) -> 0
B30: 8 | F30: =IF(ISNUMBER(D30),D30/B35,) -> 0 | H30: 8 | L30: =IF(ISNUMBER(J30),J30/H35,) -> 0 | N30: 8 | R30: =IF(ISNUMBER(P30),P30/N35,) -> 0
B31: 9 | F31: =IF(ISNUMBER(D31),D31/B35,) -> 0 | H31: 9 | L31: =IF(ISNUMBER(J31),J31/H35,) -> 0 | N31: 9 | R31: =IF(ISNUMBER(P31),P31/N35,) -> 0
B32: 10 | F32: =IF(ISNUMBER(D32),D32/B35,) -> 0 | H32: 10 | L32: =IF(ISNUMBER(J32),J32/H35,) -> 0 | N32: 10 | R32: =IF(ISNUMBER(P32),P32/N35,) -> 0
B33: e1RM | C33: Average Intensity | E33: =IFERROR(IF(COUNT(F23:F32)>0,AVERAGEIF(F23:F32,">0"),0),) -> 0.71748879 | H33: e1RM | I33: Average Intensity | K33: =IFERROR(IF(COUNT(L23:L32)>0,AVERAGEIF(L23:L32,">0"),0),) -> 0.71428571 | N33: e1RM | O33: Average Intensity | P33: =IFERROR(IF(COUNT(R23:R32)>0,AVERAGEIF(R23:R32,">0"),0),) -> 0.71672355 | Q33: sRPE | R33: =IFERROR(Q37*R37,"")
B35: =IFERROR(ROUNDUP(B37/(0.0005*C37^2-0.0342*C37+1.034),0),) -> 223 | C35: nReps | D35: =SUM(C23:C32) -> 1 | E35: Volume | F35: =SUM(C23*D23,C24*D24,C25*D25,C26*D26,C27*D27,C28*D28,C29*D29,C30*D30,C31*D31,C32*D32) -> 160 | H35: =IFERROR(ROUNDUP(H37/(0.0005*I37^2-0.0342*I37+1.034),0),) -> 154 | I35: nReps | J35: =SUM(I23:I32) -> 1 | K35: Volume | L35: =SUM(I23*J23,I24*J24,I25*J25,I26*J26,I27*J27,I28*J28,I29*J29,I30*J30,I31*J31,I32*J32) -> 110 | N35: =IFERROR(ROUNDUP(N37/(0.0005*O37^2-0.0342*O37+1.034),0),) -> 293 | O35: nReps | P35: =SUM(O23:O32) -> 1 | Q35: Volume | R35: =SUM(O23*P23,O24*P24,O25*P25,O26*P26,O27*P27,O28*P28,O29*P29,O30*P30,O31*P31,O32*P32) -> 210
B37: =IFERROR(OFFSET(D22,MATCH(MAX(D23:D32),D23:D32,0),0),"") -> 160 | C37: =IFERROR(OFFSET(C22,MATCH(MAX(D23:D32),D23:D32,0),0)+(10-OFFSET(E22,MATCH(MAX(D23:D32),D23:D32,0),0)),"") -> 11 | H37: =IFERROR(OFFSET(J22,MATCH(MAX(J23:J32),J23:J32,0),0),"") -> 110 | I37: =IFERROR(OFFSET(I22,MATCH(MAX(J23:J32),J23:J32,0),0)+(10-OFFSET(K22,MATCH(MAX(J23:J32),J23:J32,0),0)),"") -> 11 | N37: =IFERROR(OFFSET(P22,MATCH(MAX(P23:P32),P23:P32,0),0),"") -> 210 | O37: =IFERROR(OFFSET(O22,MATCH(MAX(P23:P32),P23:P32,0),0)+(10-OFFSET(Q22,MATCH(MAX(P23:P32),P23:P32,0),0)),"") -> 11 | Q37: =IFERROR(AVERAGE(AVERAGE(E23:E32),AVERAGE(K23:K32),AVERAGE(Q23:Q32)),"") | R37: =SUM(C23:C32,I23:I32,O23:O32) -> 3
B39: Day 2
B43: 1 | C43: ='Training Plan'!F51 -> 0 | H43: 2 | I43: ='Training Plan'!F59 -> 0 | N43: 3 | O43: ='Training Plan'!F67 -> 0
B45: Sets x Reps @RPE / % | D45: ='Training Plan'!F52 -> 0 | H45: Sets x Reps @RPE / % | J45: ='Training Plan'!F60 -> 0 | N45: Sets x Reps @RPE / % | P45: ='Training Plan'!F68 -> 0
B50: Rest Periods | D50: ='Training Plan'!G57 -> 0 | H50: Rest Periods | J50: ='Training Plan'!G65 -> 0 | N50: Rest Periods | P50: ='Training Plan'!G73 -> 0
B52: Sets | C52: Reps | D52: Weight | E52: RPE | F52: Relative Intensity | H52: Sets | I52: Reps | J52: Weight | K52: RPE | L52: Relative Intensity | N52: Sets | O52: Reps | P52: Weight | Q52: RPE | R52: Relative Intensity
B53: 1 | F53: =IF(ISNUMBER(D53),D53/B65,) -> 0 | H53: 1 | L53: =IF(ISNUMBER(J53),J53/H65,) -> 0 | N53: 1 | R53: =IF(ISNUMBER(P53),P53/N65,) -> 0
B54: 2 | F54: =IF(ISNUMBER(D54),D54/B65,) -> 0 | H54: 2 | L54: =IF(ISNUMBER(J54),J54/H65,) -> 0 | N54: 2 | R54: =IF(ISNUMBER(P54),P54/N65,) -> 0
B55: 3 | F55: =IF(ISNUMBER(D55),D55/B65,) -> 0 | H55: 3 | L55: =IF(ISNUMBER(J55),J55/H65,) -> 0 | N55: 3 | R55: =IF(ISNUMBER(P55),P55/N65,) -> 0
B56: 4 | F56: =IF(ISNUMBER(D56),D56/B65,) -> 0 | H56: 4 | L56: =IF(ISNUMBER(J56),J56/H65,) -> 0 | N56: 4 | R56: =IF(ISNUMBER(P56),P56/N65,) -> 0
B57: 5 | F57: =IF(ISNUMBER(D57),D57/B65,) -> 0 | H57: 5 | L57: =IF(ISNUMBER(J57),J57/H65,) -> 0 | N57: 5 | R57: =IF(ISNUMBER(P57),P57/N65,) -> 0
B58: 6 | F58: =IF(ISNUMBER(D58),D58/B65,) -> 0 | H58: 6 | L58: =IF(ISNUMBER(J58),J58/H65,) -> 0 | N58: 6 | R58: =IF(ISNUMBER(P58),P58/N65,) -> 0
B59: 7 | F59: =IF(ISNUMBER(D59),D59/B65,) -> 0 | H59: 7 | L59: =IF(ISNUMBER(J59),J59/H65,) -> 0 | N59: 7 | R59: =IF(ISNUMBER(P59),P59/N65,) -> 0
B60: 8 | F60: =IF(ISNUMBER(D60),D60/B65,) -> 0 | H60: 8 | L60: =IF(ISNUMBER(J60),J60/H65,) -> 0 | N60: 8 | R60: =IF(ISNUMBER(P60),P60/N65,) -> 0
B61: 9 | F61: =IF(ISNUMBER(D61),D61/B65,) -> 0 | H61: 9 | L61: =IF(ISNUMBER(J61),J61/H65,) -> 0 | N61: 9 | R61: =IF(ISNUMBER(P61),P61/N65,) -> 0
B62: 10 | F62: =IF(ISNUMBER(D62),D62/B65,) -> 0 | H62: 10 | L62: =IF(ISNUMBER(J62),J62/H65,) -> 0 | N62: 10 | R62: =IF(ISNUMBER(P62),P62/N65,) -> 0
B63: e1RM | C63: Average Intensity | E63: =IFERROR(IF(COUNT(F53:F62)>0,AVERAGEIF(F53:F62,">0"),0),) -> 0 | H63: e1RM | I63: Average Intensity | K63: =IFERROR(IF(COUNT(L53:L62)>0,AVERAGEIF(L53:L62,">0"),0),) -> 0 | N63: e1RM | O63: Average Intensity | P63: =IFERROR(IF(COUNT(R53:R62)>0,AVERAGEIF(R53:R62,">0"),0),) -> 0 | Q63: sRPE | R63: =IFERROR(Q67*R67,"")
B65: =IFERROR(ROUNDUP(B67/(0.0005*C67^2-0.0342*C67+1.034),0),) -> 0 | C65: nReps | D65: =SUM(C53:C62) -> 0 | E65: Volume | F65: =SUM(C53*D53,C54*D54,C55*D55,C56*D56,C57*D57,C58*D58,C59*D59,C60*D60,C61*D61,C62*D62) -> 0 | H65: =IFERROR(ROUNDUP(H67/(0.0005*I67^2-0.0342*I67+1.034),0),) -> 0 | I65: nReps | J65: =SUM(I53:I62) -> 0 | K65: Volume | L65: =SUM(I53*J53,I54*J54,I55*J55,I56*J56,I57*J57,I58*J58,I59*J59,I60*J60,I61*J61,I62*J62) -> 0 | N65: =IFERROR(ROUNDUP(N67/(0.0005*O67^2-0.0342*O67+1.034),0),) -> 0 | O65: nReps | P65: =SUM(O53:O62) -> 0 | Q65: Volume | R65: =SUM(O53*P53,O54*P54,O55*P55,O56*P56,O57*P57,O58*P58,O59*P59,O60*P60,O61*P61,O62*P62) -> 0
B67: =IFERROR(OFFSET(D52,MATCH(MAX(D53:D62),D53:D62,0),0),"") | C67: =IFERROR(OFFSET(C52,MATCH(MAX(D53:D62),D53:D62,0),0)+(10-OFFSET(E52,MATCH(MAX(D53:D62),D53:D62,0),0)),"") | H67: =IFERROR(OFFSET(J52,MATCH(MAX(J53:J62),J53:J62,0),0),"") | I67: =IFERROR(OFFSET(I52,MATCH(MAX(J53:J62),J53:J62,0),0)+(10-OFFSET(K52,MATCH(MAX(J53:J62),J53:J62,0),0)),"") | N67: =IFERROR(OFFSET(P52,MATCH(MAX(P53:P62),P53:P62,0),0),"") | O67: =IFERROR(OFFSET(O52,MATCH(MAX(P53:P62),P53:P62,0),0)+(10-OFFSET(Q52,MATCH(MAX(P53:P62),P53:P62,0),0)),"") | Q67: =IFERROR(AVERAGE(AVERAGE(E53:E62),AVERAGE(K53:K62),AVERAGE(Q53:Q62)),"") | R67: =SUM(C53:C62,I53:I62,O53:O62) -> 0
B69: Day 3
B73: 1 | C73: ='Training Plan'!I51 -> 0 | H73: 2 | I73: ='Training Plan'!I59 -> 0 | N73: 3 | O73: ='Training Plan'!I67 -> 0
B75: Sets x Reps @RPE / % | D75: ='Training Plan'!I52 -> 0 | H75: Sets x Reps @RPE / % | J75: ='Training Plan'!I60 -> 0 | N75: Sets x Reps @RPE / % | P75: ='Training Plan'!I68 -> 0
...

Sheet Week 3
C3: ='Training Plan'!B82 -> 0 | E3: Week 3 Training Log
B9: Day 1
B13: 1 | C13: ='Training Plan'!C86 -> Competition Squat | H13: 2 | I13: ='Training Plan'!C94 -> Competition Bench | N13: 3 | O13: ='Training Plan'!C102 -> Competition Deadlift
B15: Sets x Reps @RPE / % | D15: ='Training Plan'!C87 -> 0 | H15: Sets x Reps @RPE / % | J15: ='Training Plan'!C95 -> 0 | N15: Sets x Reps @RPE / % | P15: ='Training Plan'!C103 -> 0
B20: Rest Periods | D20: ='Training Plan'!D92 -> 0 | H20: Rest Periods | J20: ='Training Plan'!D100 -> 0 | N20: Rest Periods | P20: ='Training Plan'!D108 -> 0
B22: Sets | C22: Reps | D22: Weight | E22: RPE | F22: Relative Intensity | H22: Sets | I22: Reps | J22: Weight | K22: RPE | L22: Relative Intensity | N22: Sets | O22: Reps | P22: Weight | Q22: RPE | R22: Relative Intensity
B23: 1 | C23: 1 | D23: 170 | F23: =IF(ISNUMBER(D23),D23/B35,) -> 0.71729958 | H23: 1 | I23: 1 | J23: 120 | L23: =IF(ISNUMBER(J23),J23/H35,) -> 0.71428571 | N23: 1 | O23: 1 | P23: 220 | R23: =IF(ISNUMBER(P23),P23/N35,) -> 0.71661238
B24: 2 | F24: =IF(ISNUMBER(D24),D24/B35,) -> 0 | H24: 2 | L24: =IF(ISNUMBER(J24),J24/H35,) -> 0 | N24: 2 | R24: =IF(ISNUMBER(P24),P24/N35,) -> 0
B25: 3 | F25: =IF(ISNUMBER(D25),D25/B35,) -> 0 | H25: 3 | L25: =IF(ISNUMBER(J25),J25/H35,) -> 0 | N25: 3 | R25: =IF(ISNUMBER(P25),P25/N35,) -> 0
B26: 4 | F26: =IF(ISNUMBER(D26),D26/B35,) -> 0 | H26: 4 | L26: =IF(ISNUMBER(J26),J26/H35,) -> 0 | N26: 4 | R26: =IF(ISNUMBER(P26),P26/N35,) -> 0
B27: 5 | F27: =IF(ISNUMBER(D27),D27/B35,) -> 0 | H27: 5 | L27: =IF(ISNUMBER(J27),J27/H35,) -> 0 | N27: 5 | R27: =IF(ISNUMBER(P27),P27/N35,) -> 0
B28: 6 | F28: =IF(ISNUMBER(D28),D28/B35,) -> 0 | H28: 6 | L28: =IF(ISNUMBER(J28),J28/H35,) -> 0 | N28: 6 | R28: =IF(ISNUMBER(P28),P28/N35,) -> 0
B29: 7 | F29: =IF(ISNUMBER(D29),D29/B35,) -> 0 | H29: 7 | L29: =IF(ISNUMBER(J29),J29/H35,) -> 0 | N29: 7 | R29: =IF(ISNUMBER(P29),P29/N35,) -> 0
B30: 8 | F30: =IF(ISNUMBER(D30),D30/B35,) -> 0 | H30: 8 | L30: =IF(ISNUMBER(J30),J30/H35,) -> 0 | N30: 8 | R30: =IF(ISNUMBER(P30),P30/N35,) -> 0
B31: 9 | F31: =IF(ISNUMBER(D31),D31/B35,) -> 0 | H31: 9 | L31: =IF(ISNUMBER(J31),J31/H35,) -> 0 | N31: 9 | R31: =IF(ISNUMBER(P31),P31/N35,) -> 0
B32: 10 | F32: =IF(ISNUMBER(D32),D32/B35,) -> 0 | H32: 10 | L32: =IF(ISNUMBER(J32),J32/H35,) -> 0 | N32: 10 | R32: =IF(ISNUMBER(P32),P32/N35,) -> 0
B33: e1RM | C33: Average Intensity | E33: =IFERROR(IF(COUNT(F23:F32)>0,AVERAGEIF(F23:F32,">0"),0),) -> 0.71729958 | H33: e1RM | I33: Average Intensity | K33: =IFERROR(IF(COUNT(L23:L32)>0,AVERAGEIF(L23:L32,">0"),0),) -> 0.71428571 | N33: e1RM | O33: Average Intensity | P33: =IFERROR(IF(COUNT(R23:R32)>0,AVERAGEIF(R23:R32,">0"),0),) -> 0.71661238 | Q33: sRPE | R33: =IFERROR(Q37*R37,"")
B35: =IFERROR(ROUNDUP(B37/(0.0005*C37^2-0.0342*C37+1.034),0),) -> 237 | C35: nReps | D35: =SUM(C23:C32) -> 1 | E35: Volume | F35: =SUM(C23*D23,C24*D24,C25*D25,C26*D26,C27*D27,C28*D28,C29*D29,C30*D30,C31*D31,C32*D32) -> 170 | H35: =IFERROR(ROUNDUP(H37/(0.0005*I37^2-0.0342*I37+1.034),0),) -> 168 | I35: nReps | J35: =SUM(I23:I32) -> 1 | K35: Volume | L35: =SUM(I23*J23,I24*J24,I25*J25,I26*J26,I27*J27,I28*J28,I29*J29,I30*J30,I31*J31,I32*J32) -> 120 | N35: =IFERROR(ROUNDUP(N37/(0.0005*O37^2-0.0342*O37+1.034),0),) -> 307 | O35: nReps | P35: =SUM(O23:O32) -> 1 | Q35: Volume | R35: =SUM(O23*P23,O24*P24,O25*P25,O26*P26,O27*P27,O28*P28,O29*P29,O30*P30,O31*P31,O32*P32) -> 220
B37: =IFERROR(OFFSET(D22,MATCH(MAX(D23:D32),D23:D32,0),0),"") -> 170 | C37: =IFERROR(OFFSET(C22,MATCH(MAX(D23:D32),D23:D32,0),0)+(10-OFFSET(E22,MATCH(MAX(D23:D32),D23:D32,0),0)),"") -> 11 | H37: =IFERROR(OFFSET(J22,MATCH(MAX(J23:J32),J23:J32,0),0),"") -> 120 | I37: =IFERROR(OFFSET(I22,MATCH(MAX(J23:J32),J23:J32,0),0)+(10-OFFSET(K22,MATCH(MAX(J23:J32),J23:J32,0),0)),"") -> 11 | N37: =IFERROR(OFFSET(P22,MATCH(MAX(P23:P32),P23:P32,0),0),"") -> 220 | O37: =IFERROR(OFFSET(O22,MATCH(MAX(P23:P32),P23:P32,0),0)+(10-OFFSET(Q22,MATCH(MAX(P23:P32),P23:P32,0),0)),"") -> 11 | Q37: =IFERROR(AVERAGE(AVERAGE(E23:E32),AVERAGE(K23:K32),AVERAGE(Q23:Q32)),"") | R37: =SUM(C23:C32,I23:I32,O23:O32) -> 3
B39: Day 2
B43: 1 | C43: ='Training Plan'!F86 -> Competition Squat | H43: 2 | I43: ='Training Plan'!F94 -> Competition Bench | N43: 3 | O43: ='Training Plan'!F102 -> Competition Deadlift
B45: Sets x Reps @RPE / % | D45: ='Training Plan'!F87 -> 0 | H45: Sets x Reps @RPE / % | J45: ='Training Plan'!F95 -> 0 | N45: Sets x Reps @RPE / % | P45: ='Training Plan'!F103 -> 0
B50: Rest Periods | D50: ='Training Plan'!G92 -> 0 | H50: Rest Periods | J50: ='Training Plan'!G100 -> 0 | N50: Rest Periods | P50: ='Training Plan'!G108 -> 0
B52: Sets | C52: Reps | D52: Weight | E52: RPE | F52: Relative Intensity | H52: Sets | I52: Reps | J52: Weight | K52: RPE | L52: Relative Intensity | N52: Sets | O52: Reps | P52: Weight | Q52: RPE | R52: Relative Intensity
B53: 1 | C53: 1 | D53: 150 | F53: =IF(ISNUMBER(D53),D53/B65,) -> 0.71770335 | H53: 1 | L53: =IF(ISNUMBER(J53),J53/H65,) -> 0 | N53: 1 | R53: =IF(ISNUMBER(P53),P53/N65,) -> 0
B54: 2 | F54: =IF(ISNUMBER(D54),D54/B65,) -> 0 | H54: 2 | L54: =IF(ISNUMBER(J54),J54/H65,) -> 0 | N54: 2 | R54: =IF(ISNUMBER(P54),P54/N65,) -> 0
B55: 3 | F55: =IF(ISNUMBER(D55),D55/B65,) -> 0 | H55: 3 | L55: =IF(ISNUMBER(J55),J55/H65,) -> 0 | N55: 3 | R55: =IF(ISNUMBER(P55),P55/N65,) -> 0
B56: 4 | F56: =IF(ISNUMBER(D56),D56/B65,) -> 0 | H56: 4 | L56: =IF(ISNUMBER(J56),J56/H65,) -> 0 | N56: 4 | R56: =IF(ISNUMBER(P56),P56/N65,) -> 0
B57: 5 | F57: =IF(ISNUMBER(D57),D57/B65,) -> 0 | H57: 5 | L57: =IF(ISNUMBER(J57),J57/H65,) -> 0 | N57: 5 | R57: =IF(ISNUMBER(P57),P57/N65,) -> 0
B58: 6 | F58: =IF(ISNUMBER(D58),D58/B65,) -> 0 | H58: 6 | L58: =IF(ISNUMBER(J58),J58/H65,) -> 0 | N58: 6 | R58: =IF(ISNUMBER(P58),P58/N65,) -> 0
B59: 7 | F59: =IF(ISNUMBER(D59),D59/B65,) -> 0 | H59: 7 | L59: =IF(ISNUMBER(J59),J59/H65,) -> 0 | N59: 7 | R59: =IF(ISNUMBER(P59),P59/N65,) -> 0
B60: 8 | F60: =IF(ISNUMBER(D60),D60/B65,) -> 0 | H60: 8 | L60: =IF(ISNUMBER(J60),J60/H65,) -> 0 | N60: 8 | R60: =IF(ISNUMBER(P60),P60/N65,) -> 0
B61: 9 | F61: =IF(ISNUMBER(D61),D61/B65,) -> 0 | H61: 9 | L61: =IF(ISNUMBER(J61),J61/H65,) -> 0 | N61: 9 | R61: =IF(ISNUMBER(P61),P61/N65,) -> 0
B62: 10 | F62: =IF(ISNUMBER(D62),D62/B65,) -> 0 | H62: 10 | L62: =IF(ISNUMBER(J62),J62/H65,) -> 0 | N62: 10 | R62: =IF(ISNUMBER(P62),P62/N65,) -> 0
B63: e1RM | C63: Average Intensity | E63: =IFERROR(IF(COUNT(F53:F62)>0,AVERAGEIF(F53:F62,">0"),0),) -> 0.71770335 | H63: e1RM | I63: Average Intensity | K63: =IFERROR(IF(COUNT(L53:L62)>0,AVERAGEIF(L53:L62,">0"),0),) -> 0 | N63: e1RM | O63: Average Intensity | P63: =IFERROR(IF(COUNT(R53:R62)>0,AVERAGEIF(R53:R62,">0"),0),) -> 0 | Q63: sRPE | R63: =IFERROR(Q67*R67,"")
B65: =IFERROR(ROUNDUP(B67/(0.0005*C67^2-0.0342*C67+1.034),0),) -> 209 | C65: nReps | D65: =SUM(C53:C62) -> 1 | E65: Volume | F65: =SUM(C53*D53,C54*D54,C55*D55,C56*D56,C57*D57,C58*D58,C59*D59,C60*D60,C61*D61,C62*D62) -> 150 | H65: =IFERROR(ROUNDUP(H67/(0.0005*I67^2-0.0342*I67+1.034),0),) -> 0 | I65: nReps | J65: =SUM(I53:I62) -> 0 | K65: Volume | L65: =SUM(I53*J53,I54*J54,I55*J55,I56*J56,I57*J57,I58*J58,I59*J59,I60*J60,I61*J61,I62*J62) -> 0 | N65: =IFERROR(ROUNDUP(N67/(0.0005*O67^2-0.0342*O67+1.034),0),) -> 0 | O65: nReps | P65: =SUM(O53:O62) -> 0 | Q65: Volume | R65: =SUM(O53*P53,O54*P54,O55*P55,O56*P56,O57*P57,O58*P58,O59*P59,O60*P60,O61*P61,O62*P62) -> 0
B67: =IFERROR(OFFSET(D52,MATCH(MAX(D53:D62),D53:D62,0),0),"") -> 150 | C67: =IFERROR(OFFSET(C52,MATCH(MAX(D53:D62),D53:D62,0),0)+(10-OFFSET(E52,MATCH(MAX(D53:D62),D53:D62,0),0)),"") -> 11 | H67: =IFERROR(OFFSET(J52,MATCH(MAX(J53:J62),J53:J62,0),0),"") | I67: =IFERROR(OFFSET(I52,MATCH(MAX(J53:J62),J53:J62,0),0)+(10-OFFSET(K52,MATCH(MAX(J53:J62),J53:J62,0),0)),"") | N67: =IFERROR(OFFSET(P52,MATCH(MAX(P53:P62),P53:P62,0),0),"") | O67: =IFERROR(OFFSET(O52,MATCH(MAX(P53:P62),P53:P62,0),0)+(10-OFFSET(Q52,MATCH(MAX(P53:P62),P53:P62,0),0)),"") | Q67: =IFERROR(AVERAGE(AVERAGE(E53:E62),AVERAGE(K53:K62),AVERAGE(Q53:Q62)),"") | R67: =SUM(C53:C62,I53:I62,O53:O62) -> 1
B69: Day 3
B73: 1 | C73: ='Training Plan'!I86 -> 0 | H73: 2 | I73: ='Training Plan'!I94 -> 0 | N73: 3 | O73: ='Training Plan'!I102 -> 0
B75: Sets x Reps @RPE / % | D75: ='Training Plan'!I87 -> 0 | H75: Sets x Reps @RPE / % | J75: ='Training Plan'!I95 -> 0 | N75: Sets x Reps @RPE / % | P75: ='Training Plan'!I103 -> 0
...

Sheet Week 4
C3: ='Training Plan'!B117 -> 0 | E3: Week 4 Training Log
B9: Day 1
B13: 1 | C13: ='Training Plan'!C121 -> Competition Squat | H13: 2 | I13: ='Training Plan'!C129 -> Competition Bench | N13: 3 | O13: ='Training Plan'!C137 -> Competition Deadlift
B15: Sets x Reps @RPE / % | D15: ='Training Plan'!C122 -> 0 | H15: Sets x Reps @RPE / % | J15: ='Training Plan'!C130 -> 0 | N15: Sets x Reps @RPE / % | P15: ='Training Plan'!C138 -> 0
B20: Rest Periods | D20: ='Training Plan'!D127 -> 0 | H20: Rest Periods | J20: ='Training Plan'!D135 -> 0 | N20: Rest Periods | P20: ='Training Plan'!D143 -> 0
B22: Sets | C22: Reps | D22: Weight | E22: RPE | F22: Relative Intensity | H22: Sets | I22: Reps | J22: Weight | K22: RPE | L22: Relative Intensity | N22: Sets | O22: Reps | P22: Weight | Q22: RPE | R22: Relative Intensity
B23: 1 | C23: 1 | D23: 165 | F23: =IF(ISNUMBER(D23),D23/B35,) -> 0.7173913 | H23: 1 | I23: 1 | J23: 115 | L23: =IF(ISNUMBER(J23),J23/H35,) -> 0.71428571 | N23: 1 | O23: 1 | P23: 215 | R23: =IF(ISNUMBER(P23),P23/N35,) -> 0.71666667
B24: 2 | F24: =IF(ISNUMBER(D24),D24/B35,) -> 0 | H24: 2 | L24: =IF(ISNUMBER(J24),J24/H35,) -> 0 | N24: 2 | R24: =IF(ISNUMBER(P24),P24/N35,) -> 0
B25: 3 | F25: =IF(ISNUMBER(D25),D25/B35,) -> 0 | H25: 3 | L25: =IF(ISNUMBER(J25),J25/H35,) -> 0 | N25: 3 | R25: =IF(ISNUMBER(P25),P25/N35,) -> 0
B26: 4 | F26: =IF(ISNUMBER(D26),D26/B35,) -> 0 | H26: 4 | L26: =IF(ISNUMBER(J26),J26/H35,) -> 0 | N26: 4 | R26: =IF(ISNUMBER(P26),P26/N35,) -> 0
B27: 5 | F27: =IF(ISNUMBER(D27),D27/B35,) -> 0 | H27: 5 | L27: =IF(ISNUMBER(J27),J27/H35,) -> 0 | N27: 5 | R27: =IF(ISNUMBER(P27),P27/N35,) -> 0
B28: 6 | F28: =IF(ISNUMBER(D28),D28/B35,) -> 0 | H28: 6 | L28: =IF(ISNUMBER(J28),J28/H35,) -> 0 | N28: 6 | R28: =IF(ISNUMBER(P28),P28/N35,) -> 0
B29: 7 | F29: =IF(ISNUMBER(D29),D29/B35,) -> 0 | H29: 7 | L29: =IF(ISNUMBER(J29),J29/H35,) -> 0 | N29: 7 | R29: =IF(ISNUMBER(P29),P29/N35,) -> 0
B30: 8 | F30: =IF(ISNUMBER(D30),D30/B35,) -> 0 | H30: 8 | L30: =IF(ISNUMBER(J30),J30/H35,) -> 0 | N30: 8 | R30: =IF(ISNUMBER(P30),P30/N35,) -> 0
B31: 9 | F31: =IF(ISNUMBER(D31),D31/B35,) -> 0 | H31: 9 | L31: =IF(ISNUMBER(J31),J31/H35,) -> 0 | N31: 9 | R31: =IF(ISNUMBER(P31),P31/N35,) -> 0
B32: 10 | F32: =IF(ISNUMBER(D32),D32/B35,) -> 0 | H32: 10 | L32: =IF(ISNUMBER(J32),J32/H35,) -> 0 | N32: 10 | R32: =IF(ISNUMBER(P32),P32/N35,) -> 0
B33: e1RM | C33: Average Intensity | E33: =IFERROR(IF(COUNT(F23:F32)>0,AVERAGEIF(F23:F32,">0"),0),) -> 0.7173913 | H33: e1RM | I33: Average Intensity | K33: =IFERROR(IF(COUNT(L23:L32)>0,AVERAGEIF(L23:L32,">0"),0),) -> 0.71428571 | N33: e1RM | O33: Average Intensity | P33: =IFERROR(IF(COUNT(R23:R32)>0,AVERAGEIF(R23:R32,">0"),0),) -> 0.71666667 | Q33: sRPE | R33: =IFERROR(Q37*R37,"")
B35: =IFERROR(ROUNDUP(B37/(0.0005*C37^2-0.0342*C37+1.034),0),) -> 230 | C35: nReps | D35: =SUM(C23:C32) -> 1 | E35: Volume | F35: =SUM(C23*D23,C24*D24,C25*D25,C26*D26,C27*D27,C28*D28,C29*D29,C30*D30,C31*D31,C32*D32) -> 165 | H35: =IFERROR(ROUNDUP(H37/(0.0005*I37^2-0.0342*I37+1.034),0),) -> 161 | I35: nReps | J35: =SUM(I23:I32) -> 1 | K35: Volume | L35: =SUM(I23*J23,I24*J24,I25*J25,I26*J26,I27*J27,I28*J28,I29*J29,I30*J30,I31*J31,I32*J32) -> 115 | N35: =IFERROR(ROUNDUP(N37/(0.0005*O37^2-0.0342*O37+1.034),0),) -> 300 | O35: nReps | P35: =SUM(O23:O32) -> 1 | Q35: Volume | R35: =SUM(O23*P23,O24*P24,O25*P25,O26*P26,O27*P27,O28*P28,O29*P29,O30*P30,O31*P31,O32*P32) -> 215
B37: =IFERROR(OFFSET(D22,MATCH(MAX(D23:D32),D23:D32,0),0),"") -> 165 | C37: =IFERROR(OFFSET(C22,MATCH(MAX(D23:D32),D23:D32,0),0)+(10-OFFSET(E22,MATCH(MAX(D23:D32),D23:D32,0),0)),"") -> 11 | H37: =IFERROR(OFFSET(J22,MATCH(MAX(J23:J32),J23:J32,0),0),"") -> 115 | I37: =IFERROR(OFFSET(I22,MATCH(MAX(J23:J32),J23:J32,0),0)+(10-OFFSET(K22,MATCH(MAX(J23:J32),J23:J32,0),0)),"") -> 11 | N37: =IFERROR(OFFSET(P22,MATCH(MAX(P23:P32),P23:P32,0),0),"") -> 215 | O37: =IFERROR(OFFSET(O22,MATCH(MAX(P23:P32),P23:P32,0),0)+(10-OFFSET(Q22,MATCH(MAX(P23:P32),P23:P32,0),0)),"") -> 11 | Q37: =IFERROR(AVERAGE(AVERAGE(E23:E32),AVERAGE(K23:K32),AVERAGE(Q23:Q32)),"") | R37: =SUM(C23:C32,I23:I32,O23:O32) -> 3
B39: Day 2
B43: 1 | C43: ='Training Plan'!F121 -> 0 | H43: 2 | I43: ='Training Plan'!F129 -> 0 | N43: 3 | O43: ='Training Plan'!F137 -> 0
B45: Sets x Reps @RPE / % | D45: ='Training Plan'!F122 -> 0 | H45: Sets x Reps @RPE / % | J45: ='Training Plan'!F130 -> 0 | N45: Sets x Reps @RPE / % | P45: ='Training Plan'!F138 -> 0
B50: Rest Periods | D50: ='Training Plan'!G127 -> 0 | H50: Rest Periods | J50: ='Training Plan'!G135 -> 0 | N50: Rest Periods | P50: ='Training Plan'!G143 -> 0
B52: Sets | C52: Reps | D52: Weight | E52: RPE | F52: Relative Intensity | H52: Sets | I52: Reps | J52: Weight | K52: RPE | L52: Relative Intensity | N52: Sets | O52: Reps | P52: Weight | Q52: RPE | R52: Relative Intensity
B53: 1 | F53: =IF(ISNUMBER(D53),D53/B65,) -> 0 | H53: 1 | L53: =IF(ISNUMBER(J53),J53/H65,) -> 0 | N53: 1 | R53: =IF(ISNUMBER(P53),P53/N65,) -> 0
B54: 2 | F54: =IF(ISNUMBER(D54),D54/B65,) -> 0 | H54: 2 | L54: =IF(ISNUMBER(J54),J54/H65,) -> 0 | N54: 2 | R54: =IF(ISNUMBER(P54),P54/N65,) -> 0
B55: 3 | F55: =IF(ISNUMBER(D55),D55/B65,) -> 0 | H55: 3 | L55: =IF(ISNUMBER(J55),J55/H65,) -> 0 | N55: 3 | R55: =IF(ISNUMBER(P55),P55/N65,) -> 0
