Workbook

Sheet StressPlanner
A1: Squat (Knee Dominant) | D1: Bench (Horizontal Push) | J1: Deadlift (Hip Dominant)
A2: Reps | B2: RPE | C2: Stress Index | D2: Reps | E2: RPE | F2: Stress Index | G2: Reps | H2: RPE | I2: Stress Index | J2: Reps | K2: RPE | L2: Stress Index
A3: 1 | B3: 8 | C3: {=if(and(1<=A3,A3<=15,5<=B3,B3<=10,(A3+(10-B3))<=15),SERIESSUM(EXP(1),-0.215*(A3+(10-B3)-1),0.215,{1,1,1,1,1,1,1,1,1,1,1,1,1,1,1})*offset(CustomRPECharts!B$3,0,A3*2-2+(10-B3)*2)/260*1.4,"")} -> 0.32295275 | D3: 1 | E3: 10 | F3: {=if(and(1<=D3,D3<=15,5<=E3,E3<=10,(D3+(10-E3))<=15),SERIESSUM(EXP(1),-0.215*(D3+(10-E3)-1),0.215,{1,1,1,1,1,1,1,1,1,1,1,1,1,1,1})*offset(CustomRPECharts!$B$3,0,D3*2-2+(10-E3)*2)/260*1.4,"")} -> 0.53846154 | G3: 7 | H3: 7 | I3: {=if(and(1<=G3,G3<=15,5<=H3,H3<=10,(G3+(10-H3))<=15),SERIESSUM(EXP(1),-0.215*(G3+(10-H3)-1),0.215,{1,1,1,1,1,1,1,1,1,1,1,1,1,1,1})*offset(CustomRPECharts!$B$3,0,G3*2-2+(10-H3)*2)/260*1.4,"")} -> 0.83957825 | J3: 1 | K3: 8 | L3: {=if(and(1<=J3,J3<=15,5<=K3,K3<=10,(J3+(10-K3))<=15),SERIESSUM(EXP(1),-0.215*(J3+(10-K3)-1),0.215,{1,1,1,1,1,1,1,1,1,1,1,1,1,1,1})*offset(CustomRPECharts!$B$3,0,J3*2-2+(10-K3)*2)/260*1.4,"")} -> 0.32295275
A4: 3 | B4: 9 | C4: {=if(and(1<=A4,A4<=15,5<=B4,B4<=10,(A4+(10-B4))<=15),SERIESSUM(EXP(1),-0.215*(A4+(10-B4)-1),0.215,{1,1,1,1,1,1,1,1,1,1,1,1,1,1,1})*offset(CustomRPECharts!B$3,0,A4*2-2+(10-B4)*2)/260*1.4,"")} -> 0.95183203 | D4: 4 | E4: 7 | F4: {=if(and(1<=D4,D4<=15,5<=E4,E4<=10,(D4+(10-E4))<=15),SERIESSUM(EXP(1),-0.215*(D4+(10-E4)-1),0.215,{1,1,1,1,1,1,1,1,1,1,1,1,1,1,1})*offset(CustomRPECharts!$B$3,0,D4*2-2+(10-E4)*2)/260*1.4,"")} -> 0.68315846 | G4: 7 | H4: 8 | I4: {=if(and(1<=G4,G4<=15,5<=H4,H4<=10,(G4+(10-H4))<=15),SERIESSUM(EXP(1),-0.215*(G4+(10-H4)-1),0.215,{1,1,1,1,1,1,1,1,1,1,1,1,1,1,1})*offset(CustomRPECharts!$B$3,0,G4*2-2+(10-H4)*2)/260*1.4,"")} -> 1.0733591 | J4: 4 | K4: 7 | L4: {=if(and(1<=J4,J4<=15,5<=K4,K4<=10,(J4+(10-K4))<=15),SERIESSUM(EXP(1),-0.215*(J4+(10-K4)-1),0.215,{1,1,1,1,1,1,1,1,1,1,1,1,1,1,1})*offset(CustomRPECharts!$B$3,0,J4*2-2+(10-K4)*2)/260*1.4,"")} -> 0.68315846
A5: 3 | B5: 9 | C5: {=if(and(1<=A5,A5<=15,5<=B5,B5<=10,(A5+(10-B5))<=15),SERIESSUM(EXP(1),-0.215*(A5+(10-B5)-1),0.215,{1,1,1,1,1,1,1,1,1,1,1,1,1,1,1})*offset(CustomRPECharts!B$3,0,A5*2-2+(10-B5)*2)/260*1.4,"")} -> 0.95183203 | D5: 4 | E5: 7 | F5: {=if(and(1<=D5,D5<=15,5<=E5,E5<=10,(D5+(10-E5))<=15),SERIESSUM(EXP(1),-0.215*(D5+(10-E5)-1),0.215,{1,1,1,1,1,1,1,1,1,1,1,1,1,1,1})*offset(CustomRPECharts!$B$3,0,D5*2-2+(10-E5)*2)/260*1.4,"")} -> 0.68315846 | G5: 7 | H5: 9 | I5: {=if(and(1<=G5,G5<=15,5<=H5,H5<=10,(G5+(10-H5))<=15),SERIESSUM(EXP(1),-0.215*(G5+(10-H5)-1),0.215,{1,1,1,1,1,1,1,1,1,1,1,1,1,1,1})*offset(CustomRPECharts!$B$3,0,G5*2-2+(10-H5)*2)/260*1.4,"")} -> 1.3727325 | J5: 4 | K5: 7.5 | L5: {=if(and(1<=J5,J5<=15,5<=K5,K5<=10,(J5+(10-K5))<=15),SERIESSUM(EXP(1),-0.215*(J5+(10-K5)-1),0.215,{1,1,1,1,1,1,1,1,1,1,1,1,1,1,1})*offset(CustomRPECharts!$B$3,0,J5*2-2+(10-K5)*2)/260*1.4,"")} -> 0.77288426
A6: 3 | B6: 9 | C6: {=if(and(1<=A6,A6<=15,5<=B6,B6<=10,(A6+(10-B6))<=15),SERIESSUM(EXP(1),-0.215*(A6+(10-B6)-1),0.215,{1,1,1,1,1,1,1,1,1,1,1,1,1,1,1})*offset(CustomRPECharts!B$3,0,A6*2-2+(10-B6)*2)/260*1.4,"")} -> 0.95183203 | D6: 4 | E6: 7.5 | F6: {=if(and(1<=D6,D6<=15,5<=E6,E6<=10,(D6+(10-E6))<=15),SERIESSUM(EXP(1),-0.215*(D6+(10-E6)-1),0.215,{1,1,1,1,1,1,1,1,1,1,1,1,1,1,1})*offset(CustomRPECharts!$B$3,0,D6*2-2+(10-E6)*2)/260*1.4,"")} -> 0.77288426 | G6: 7 | H6: 9 | I6: {=if(and(1<=G6,G6<=15,5<=H6,H6<=10,(G6+(10-H6))<=15),SERIESSUM(EXP(1),-0.215*(G6+(10-H6)-1),0.215,{1,1,1,1,1,1,1,1,1,1,1,1,1,1,1})*offset(CustomRPECharts!$B$3,0,G6*2-2+(10-H6)*2)/260*1.4,"")} -> 1.3727325 | J6: 4 | K6: 8 | L6: {=if(and(1<=J6,J6<=15,5<=K6,K6<=10,(J6+(10-K6))<=15),SERIESSUM(EXP(1),-0.215*(J6+(10-K6)-1),0.215,{1,1,1,1,1,1,1,1,1,1,1,1,1,1,1})*offset(CustomRPECharts!$B$3,0,J6*2-2+(10-K6)*2)/260*1.4,"")} -> 0.87417699
C7: {=if(and(1<=A7,A7<=15,5<=B7,B7<=10,(A7+(10-B7))<=15),SERIESSUM(EXP(1),-0.215*(A7+(10-B7)-1),0.215,{1,1,1,1,1,1,1,1,1,1,1,1,1,1,1})*offset(CustomRPECharts!B$3,0,A7*2-2+(10-B7)*2)/260*1.4,"")} | D7: 4 | E7: 7.5 | F7: {=if(and(1<=D7,D7<=15,5<=E7,E7<=10,(D7+(10-E7))<=15),SERIESSUM(EXP(1),-0.215*(D7+(10-E7)-1),0.215,{1,1,1,1,1,1,1,1,1,1,1,1,1,1,1})*offset(CustomRPECharts!$B$3,0,D7*2-2+(10-E7)*2)/260*1.4,"")} -> 0.77288426 | I7: {=if(and(1<=G7,G7<=15,5<=H7,H7<=10,(G7+(10-H7))<=15),SERIESSUM(EXP(1),-0.215*(G7+(10-H7)-1),0.215,{1,1,1,1,1,1,1,1,1,1,1,1,1,1,1})*offset(CustomRPECharts!$B$3,0,G7*2-2+(10-H7)*2)/260*1.4,"")} | J7: 4 | K7: 8.5 | L7: {=if(and(1<=J7,J7<=15,5<=K7,K7<=10,(J7+(10-K7))<=15),SERIESSUM(EXP(1),-0.215*(J7+(10-K7)-1),0.215,{1,1,1,1,1,1,1,1,1,1,1,1,1,1,1})*offset(CustomRPECharts!$B$3,0,J7*2-2+(10-K7)*2)/260*1.4,"")} -> 0.98850642
A8: 3 | B8: 7 | C8: {=if(and(1<=A8,A8<=15,5<=B8,B8<=10,(A8+(10-B8))<=15),SERIESSUM(EXP(1),-0.215*(A8+(10-B8)-1),0.215,{1,1,1,1,1,1,1,1,1,1,1,1,1,1,1})*offset(CustomRPECharts!B$3,0,A8*2-2+(10-B8)*2)/260*1.4,"")} -> 0.58099754 | D8: 4 | E8: 8 | F8: {=if(and(1<=D8,D8<=15,5<=E8,E8<=10,(D8+(10-E8))<=15),SERIESSUM(EXP(1),-0.215*(D8+(10-E8)-1),0.215,{1,1,1,1,1,1,1,1,1,1,1,1,1,1,1})*offset(CustomRPECharts!$B$3,0,D8*2-2+(10-E8)*2)/260*1.4,"")} -> 0.87417699 | G8: 3 | H8: 7 | I8: {=if(and(1<=G8,G8<=15,5<=H8,H8<=10,(G8+(10-H8))<=15),SERIESSUM(EXP(1),-0.215*(G8+(10-H8)-1),0.215,{1,1,1,1,1,1,1,1,1,1,1,1,1,1,1})*offset(CustomRPECharts!$B$3,0,G8*2-2+(10-H8)*2)/260*1.4,"")} -> 0.58099754 | L8: {=if(and(1<=J8,J8<=15,5<=K8,K8<=10,(J8+(10-K8))<=15),SERIESSUM(EXP(1),-0.215*(J8+(10-K8)-1),0.215,{1,1,1,1,1,1,1,1,1,1,1,1,1,1,1})*offset(CustomRPECharts!$B$3,0,J8*2-2+(10-K8)*2)/260*1.4,"")}
A9: 3 | B9: 8 | C9: {=if(and(1<=A9,A9<=15,5<=B9,B9<=10,(A9+(10-B9))<=15),SERIESSUM(EXP(1),-0.215*(A9+(10-B9)-1),0.215,{1,1,1,1,1,1,1,1,1,1,1,1,1,1,1})*offset(CustomRPECharts!B$3,0,A9*2-2+(10-B9)*2)/260*1.4,"")} -> 0.74273338 | D9: 4 | E9: 8.5 | F9: {=if(and(1<=D9,D9<=15,5<=E9,E9<=10,(D9+(10-E9))<=15),SERIESSUM(EXP(1),-0.215*(D9+(10-E9)-1),0.215,{1,1,1,1,1,1,1,1,1,1,1,1,1,1,1})*offset(CustomRPECharts!$B$3,0,D9*2-2+(10-E9)*2)/260*1.4,"")} -> 0.98850642 | G9: 3 | H9: 8 | I9: {=if(and(1<=G9,G9<=15,5<=H9,H9<=10,(G9+(10-H9))<=15),SERIESSUM(EXP(1),-0.215*(G9+(10-H9)-1),0.215,{1,1,1,1,1,1,1,1,1,1,1,1,1,1,1})*offset(CustomRPECharts!$B$3,0,G9*2-2+(10-H9)*2)/260*1.4,"")} -> 0.74273338 | J9: 3 | K9: 7 | L9: {=if(and(1<=J9,J9<=15,5<=K9,K9<=10,(J9+(10-K9))<=15),SERIESSUM(EXP(1),-0.215*(J9+(10-K9)-1),0.215,{1,1,1,1,1,1,1,1,1,1,1,1,1,1,1})*offset(CustomRPECharts!$B$3,0,J9*2-2+(10-K9)*2)/260*1.4,"")} -> 0.58099754
A10: 3 | B10: 9 | C10: {=if(and(1<=A10,A10<=15,5<=B10,B10<=10,(A10+(10-B10))<=15),SERIESSUM(EXP(1),-0.215*(A10+(10-B10)-1),0.215,{1,1,1,1,1,1,1,1,1,1,1,1,1,1,1})*offset(CustomRPECharts!B$3,0,A10*2-2+(10-B10)*2)/260*1.4,"")} -> 0.95183203 | F10: {=if(and(1<=D10,D10<=15,5<=E10,E10<=10,(D10+(10-E10))<=15),SERIESSUM(EXP(1),-0.215*(D10+(10-E10)-1),0.215,{1,1,1,1,1,1,1,1,1,1,1,1,1,1,1})*offset(CustomRPECharts!$B$3,0,D10*2-2+(10-E10)*2)/260*1.4,"")} | G10: 3 | H10: 9 | I10: {=if(and(1<=G10,G10<=15,5<=H10,H10<=10,(G10+(10-H10))<=15),SERIESSUM(EXP(1),-0.215*(G10+(10-H10)-1),0.215,{1,1,1,1,1,1,1,1,1,1,1,1,1,1,1})*offset(CustomRPECharts!$B$3,0,G10*2-2+(10-H10)*2)/260*1.4,"")} -> 0.95183203 | J10: 3 | K10: 8 | L10: {=if(and(1<=J10,J10<=15,5<=K10,K10<=10,(J10+(10-K10))<=15),SERIESSUM(EXP(1),-0.215*(J10+(10-K10)-1),0.215,{1,1,1,1,1,1,1,1,1,1,1,1,1,1,1})*offset(CustomRPECharts!$B$3,0,J10*2-2+(10-K10)*2)/260*1.4,"")} -> 0.74273338
A11: 3 | B11: 9 | C11: {=if(and(1<=A11,A11<=15,5<=B11,B11<=10,(A11+(10-B11))<=15),SERIESSUM(EXP(1),-0.215*(A11+(10-B11)-1),0.215,{1,1,1,1,1,1,1,1,1,1,1,1,1,1,1})*offset(CustomRPECharts!B$3,0,A11*2-2+(10-B11)*2)/260*1.4,"")} -> 0.95183203 | D11: 3 | E11: 7 | F11: {=if(and(1<=D11,D11<=15,5<=E11,E11<=10,(D11+(10-E11))<=15),SERIESSUM(EXP(1),-0.215*(D11+(10-E11)-1),0.215,{1,1,1,1,1,1,1,1,1,1,1,1,1,1,1})*offset(CustomRPECharts!$B$3,0,D11*2-2+(10-E11)*2)/260*1.4,"")} -> 0.58099754 | G11: 3 | H11: 9 | I11: {=if(and(1<=G11,G11<=15,5<=H11,H11<=10,(G11+(10-H11))<=15),SERIESSUM(EXP(1),-0.215*(G11+(10-H11)-1),0.215,{1,1,1,1,1,1,1,1,1,1,1,1,1,1,1})*offset(CustomRPECharts!$B$3,0,G11*2-2+(10-H11)*2)/260*1.4,"")} -> 0.95183203 | J11: 3 | K11: 9 | L11: {=if(and(1<=J11,J11<=15,5<=K11,K11<=10,(J11+(10-K11))<=15),SERIESSUM(EXP(1),-0.215*(J11+(10-K11)-1),0.215,{1,1,1,1,1,1,1,1,1,1,1,1,1,1,1})*offset(CustomRPECharts!$B$3,0,J11*2-2+(10-K11)*2)/260*1.4,"")} -> 0.95183203
C12: {=if(and(1<=A12,A12<=15,5<=B12,B12<=10,(A12+(10-B12))<=15),SERIESSUM(EXP(1),-0.215*(A12+(10-B12)-1),0.215,{1,1,1,1,1,1,1,1,1,1,1,1,1,1,1})*offset(CustomRPECharts!B$3,0,A12*2-2+(10-B12)*2)/260*1.4,"")} | D12: 3 | E12: 8 | F12: {=if(and(1<=D12,D12<=15,5<=E12,E12<=10,(D12+(10-E12))<=15),SERIESSUM(EXP(1),-0.215*(D12+(10-E12)-1),0.215,{1,1,1,1,1,1,1,1,1,1,1,1,1,1,1})*offset(CustomRPECharts!$B$3,0,D12*2-2+(10-E12)*2)/260*1.4,"")} -> 0.74273338 | I12: {=if(and(1<=G12,G12<=15,5<=H12,H12<=10,(G12+(10-H12))<=15),SERIESSUM(EXP(1),-0.215*(G12+(10-H12)-1),0.215,{1,1,1,1,1,1,1,1,1,1,1,1,1,1,1})*offset(CustomRPECharts!$B$3,0,G12*2-2+(10-H12)*2)/260*1.4,"")} | J12: 3 | K12: 9 | L12: {=if(and(1<=J12,J12<=15,5<=K12,K12<=10,(J12+(10-K12))<=15),SERIESSUM(EXP(1),-0.215*(J12+(10-K12)-1),0.215,{1,1,1,1,1,1,1,1,1,1,1,1,1,1,1})*offset(CustomRPECharts!$B$3,0,J12*2-2+(10-K12)*2)/260*1.4,"")} -> 0.95183203
A13: 8 | B13: 7 | C13: {=if(and(1<=A13,A13<=15,5<=B13,B13<=10,(A13+(10-B13))<=15),SERIESSUM(EXP(1),-0.215*(A13+(10-B13)-1),0.215,{1,1,1,1,1,1,1,1,1,1,1,1,1,1,1})*offset(CustomRPECharts!B$3,0,A13*2-2+(10-B13)*2)/260*1.4,"")} -> 0.84756766 | D13: 3 | E13: 9 | F13: {=if(and(1<=D13,D13<=15,5<=E13,E13<=10,(D13+(10-E13))<=15),SERIESSUM(EXP(1),-0.215*(D13+(10-E13)-1),0.215,{1,1,1,1,1,1,1,1,1,1,1,1,1,1,1})*offset(CustomRPECharts!$B$3,0,D13*2-2+(10-E13)*2)/260*1.4,"")} -> 0.95183203 | I13: {=if(and(1<=G13,G13<=15,5<=H13,H13<=10,(G13+(10-H13))<=15),SERIESSUM(EXP(1),-0.215*(G13+(10-H13)-1),0.215,{1,1,1,1,1,1,1,1,1,1,1,1,1,1,1})*offset(CustomRPECharts!$B$3,0,G13*2-2+(10-H13)*2)/260*1.4,"")} | L13: {=if(and(1<=J13,J13<=15,5<=K13,K13<=10,(J13+(10-K13))<=15),SERIESSUM(EXP(1),-0.215*(J13+(10-K13)-1),0.215,{1,1,1,1,1,1,1,1,1,1,1,1,1,1,1})*offset(CustomRPECharts!$B$3,0,J13*2-2+(10-K13)*2)/260*1.4,"")}
A14: 8 | B14: 8 | C14: {=if(and(1<=A14,A14<=15,5<=B14,B14<=10,(A14+(10-B14))<=15),SERIESSUM(EXP(1),-0.215*(A14+(10-B14)-1),0.215,{1,1,1,1,1,1,1,1,1,1,1,1,1,1,1})*offset(CustomRPECharts!B$3,0,A14*2-2+(10-B14)*2)/260*1.4,"")} -> 1.0984308 | D14: 3 | E14: 9 | F14: {=if(and(1<=D14,D14<=15,5<=E14,E14<=10,(D14+(10-E14))<=15),SERIESSUM(EXP(1),-0.215*(D14+(10-E14)-1),0.215,{1,1,1,1,1,1,1,1,1,1,1,1,1,1,1})*offset(CustomRPECharts!$B$3,0,D14*2-2+(10-E14)*2)/260*1.4,"")} -> 0.95183203 | I14: {=if(and(1<=G14,G14<=15,5<=H14,H14<=10,(G14+(10-H14))<=15),SERIESSUM(EXP(1),-0.215*(G14+(10-H14)-1),0.215,{1,1,1,1,1,1,1,1,1,1,1,1,1,1,1})*offset(CustomRPECharts!$B$3,0,G14*2-2+(10-H14)*2)/260*1.4,"")} | J14: 7 | K14: 7 | L14: {=if(and(1<=J14,J14<=15,5<=K14,K14<=10,(J14+(10-K14))<=15),SERIESSUM(EXP(1),-0.215*(J14+(10-K14)-1),0.215,{1,1,1,1,1,1,1,1,1,1,1,1,1,1,1})*offset(CustomRPECharts!$B$3,0,J14*2-2+(10-K14)*2)/260*1.4,"")} -> 0.83957825
A15: 8 | B15: 9 | C15: {=if(and(1<=A15,A15<=15,5<=B15,B15<=10,(A15+(10-B15))<=15),SERIESSUM(EXP(1),-0.215*(A15+(10-B15)-1),0.215,{1,1,1,1,1,1,1,1,1,1,1,1,1,1,1})*offset(CustomRPECharts!B$3,0,A15*2-2+(10-B15)*2)/260*1.4,"")} -> 1.4042892 | F15: {=if(and(1<=D15,D15<=15,5<=E15,E15<=10,(D15+(10-E15))<=15),SERIESSUM(EXP(1),-0.215*(D15+(10-E15)-1),0.215,{1,1,1,1,1,1,1,1,1,1,1,1,1,1,1})*offset(CustomRPECharts!$B$3,0,D15*2-2+(10-E15)*2)/260*1.4,"")} | I15: {=if(and(1<=G15,G15<=15,5<=H15,H15<=10,(G15+(10-H15))<=15),SERIESSUM(EXP(1),-0.215*(G15+(10-H15)-1),0.215,{1,1,1,1,1,1,1,1,1,1,1,1,1,1,1})*offset(CustomRPECharts!$B$3,0,G15*2-2+(10-H15)*2)/260*1.4,"")} | J15: 7 | K15: 8 | L15: {=if(and(1<=J15,J15<=15,5<=K15,K15<=10,(J15+(10-K15))<=15),SERIESSUM(EXP(1),-0.215*(J15+(10-K15)-1),0.215,{1,1,1,1,1,1,1,1,1,1,1,1,1,1,1})*offset(CustomRPECharts!$B$3,0,J15*2-2+(10-K15)*2)/260*1.4,"")} -> 1.0733591
A16: 8 | B16: 9.5 | C16: {=if(and(1<=A16,A16<=15,5<=B16,B16<=10,(A16+(10-B16))<=15),SERIESSUM(EXP(1),-0.215*(A16+(10-B16)-1),0.215,{1,1,1,1,1,1,1,1,1,1,1,1,1,1,1})*offset(CustomRPECharts!B$3,0,A16*2-2+(10-B16)*2)/260*1.4,"")} -> 1.5882878 | D16: 1 | E16: 8 | F16: {=if(and(1<=D16,D16<=15,5<=E16,E16<=10,(D16+(10-E16))<=15),SERIESSUM(EXP(1),-0.215*(D16+(10-E16)-1),0.215,{1,1,1,1,1,1,1,1,1,1,1,1,1,1,1})*offset(CustomRPECharts!$B$3,0,D16*2-2+(10-E16)*2)/260*1.4,"")} -> 0.32295275 | I16: {=if(and(1<=G16,G16<=15,5<=H16,H16<=10,(G16+(10-H16))<=15),SERIESSUM(EXP(1),-0.215*(G16+(10-H16)-1),0.215,{1,1,1,1,1,1,1,1,1,1,1,1,1,1,1})*offset(CustomRPECharts!$B$3,0,G16*2-2+(10-H16)*2)/260*1.4,"")} | J16: 7 | K16: 9 | L16: {=if(and(1<=J16,J16<=15,5<=K16,K16<=10,(J16+(10-K16))<=15),SERIESSUM(EXP(1),-0.215*(J16+(10-K16)-1),0.215,{1,1,1,1,1,1,1,1,1,1,1,1,1,1,1})*offset(CustomRPECharts!$B$3,0,J16*2-2+(10-K16)*2)/260*1.4,"")} -> 1.3727325
C17: {=if(and(1<=A17,A17<=15,5<=B17,B17<=10,(A17+(10-B17))<=15),SERIESSUM(EXP(1),-0.215*(A17+(10-B17)-1),0.215,{1,1,1,1,1,1,1,1,1,1,1,1,1,1,1})*offset(CustomRPECharts!B$3,0,A17*2-2+(10-B17)*2)/260*1.4,"")} | D17: 6 | E17: 9 | F17: {=if(and(1<=D17,D17<=15,5<=E17,E17<=10,(D17+(10-E17))<=15),SERIESSUM(EXP(1),-0.215*(D17+(10-E17)-1),0.215,{1,1,1,1,1,1,1,1,1,1,1,1,1,1,1})*offset(CustomRPECharts!$B$3,0,D17*2-2+(10-E17)*2)/260*1.4,"")} -> 1.3194412 | I17: {=if(and(1<=G17,G17<=15,5<=H17,H17<=10,(G17+(10-H17))<=15),SERIESSUM(EXP(1),-0.215*(G17+(10-H17)-1),0.215,{1,1,1,1,1,1,1,1,1,1,1,1,1,1,1})*offset(CustomRPECharts!$B$3,0,G17*2-2+(10-H17)*2)/260*1.4,"")} | L17: {=if(and(1<=J17,J17<=15,5<=K17,K17<=10,(J17+(10-K17))<=15),SERIESSUM(EXP(1),-0.215*(J17+(10-K17)-1),0.215,{1,1,1,1,1,1,1,1,1,1,1,1,1,1,1})*offset(CustomRPECharts!$B$3,0,J17*2-2+(10-K17)*2)/260*1.4,"")}
C18: {=if(and(1<=A18,A18<=15,5<=B18,B18<=10,(A18+(10-B18))<=15),SERIESSUM(EXP(1),-0.215*(A18+(10-B18)-1),0.215,{1,1,1,1,1,1,1,1,1,1,1,1,1,1,1})*offset(CustomRPECharts!B$3,0,A18*2-2+(10-B18)*2)/260*1.4,"")} | D18: 6 | E18: 9 | F18: {=if(and(1<=D18,D18<=15,5<=E18,E18<=10,(D18+(10-E18))<=15),SERIESSUM(EXP(1),-0.215*(D18+(10-E18)-1),0.215,{1,1,1,1,1,1,1,1,1,1,1,1,1,1,1})*offset(CustomRPECharts!$B$3,0,D18*2-2+(10-E18)*2)/260*1.4,"")} -> 1.3194412 | I18: {=if(and(1<=G18,G18<=15,5<=H18,H18<=10,(G18+(10-H18))<=15),SERIESSUM(EXP(1),-0.215*(G18+(10-H18)-1),0.215,{1,1,1,1,1,1,1,1,1,1,1,1,1,1,1})*offset(CustomRPECharts!$B$3,0,G18*2-2+(10-H18)*2)/260*1.4,"")} | L18: {=if(and(1<=J18,J18<=15,5<=K18,K18<=10,(J18+(10-K18))<=15),SERIESSUM(EXP(1),-0.215*(J18+(10-K18)-1),0.215,{1,1,1,1,1,1,1,1,1,1,1,1,1,1,1})*offset(CustomRPECharts!$B$3,0,J18*2-2+(10-K18)*2)/260*1.4,"")}
C19: {=if(and(1<=A19,A19<=15,5<=B19,B19<=10,(A19+(10-B19))<=15),SERIESSUM(EXP(1),-0.215*(A19+(10-B19)-1),0.215,{1,1,1,1,1,1,1,1,1,1,1,1,1,1,1})*offset(CustomRPECharts!B$3,0,A19*2-2+(10-B19)*2)/260*1.4,"")} | D19: 6 | E19: 9 | F19: {=if(and(1<=D19,D19<=15,5<=E19,E19<=10,(D19+(10-E19))<=15),SERIESSUM(EXP(1),-0.215*(D19+(10-E19)-1),0.215,{1,1,1,1,1,1,1,1,1,1,1,1,1,1,1})*offset(CustomRPECharts!$B$3,0,D19*2-2+(10-E19)*2)/260*1.4,"")} -> 1.3194412 | I19: {=if(and(1<=G19,G19<=15,5<=H19,H19<=10,(G19+(10-H19))<=15),SERIESSUM(EXP(1),-0.215*(G19+(10-H19)-1),0.215,{1,1,1,1,1,1,1,1,1,1,1,1,1,1,1})*offset(CustomRPECharts!$B$3,0,G19*2-2+(10-H19)*2)/260*1.4,"")} | L19: {=if(and(1<=J19,J19<=15,5<=K19,K19<=10,(J19+(10-K19))<=15),SERIESSUM(EXP(1),-0.215*(J19+(10-K19)-1),0.215,{1,1,1,1,1,1,1,1,1,1,1,1,1,1,1})*offset(CustomRPECharts!$B$3,0,J19*2-2+(10-K19)*2)/260*1.4,"")}
C20: {=if(and(1<=A20,A20<=15,5<=B20,B20<=10,(A20+(10-B20))<=15),SERIESSUM(EXP(1),-0.215*(A20+(10-B20)-1),0.215,{1,1,1,1,1,1,1,1,1,1,1,1,1,1,1})*offset(CustomRPECharts!B$3,0,A20*2-2+(10-B20)*2)/260*1.4,"")} | D20: 6 | E20: 9 | F20: {=if(and(1<=D20,D20<=15,5<=E20,E20<=10,(D20+(10-E20))<=15),SERIESSUM(EXP(1),-0.215*(D20+(10-E20)-1),0.215,{1,1,1,1,1,1,1,1,1,1,1,1,1,1,1})*offset(CustomRPECharts!$B$3,0,D20*2-2+(10-E20)*2)/260*1.4,"")} -> 1.3194412 | I20: {=if(and(1<=G20,G20<=15,5<=H20,H20<=10,(G20+(10-H20))<=15),SERIESSUM(EXP(1),-0.215*(G20+(10-H20)-1),0.215,{1,1,1,1,1,1,1,1,1,1,1,1,1,1,1})*offset(CustomRPECharts!$B$3,0,G20*2-2+(10-H20)*2)/260*1.4,"")} | L20: {=if(and(1<=J20,J20<=15,5<=K20,K20<=10,(J20+(10-K20))<=15),SERIESSUM(EXP(1),-0.215*(J20+(10-K20)-1),0.215,{1,1,1,1,1,1,1,1,1,1,1,1,1,1,1})*offset(CustomRPECharts!$B$3,0,J20*2-2+(10-K20)*2)/260*1.4,"")}
C21: {=if(and(1<=A21,A21<=15,5<=B21,B21<=10,(A21+(10-B21))<=15),SERIESSUM(EXP(1),-0.215*(A21+(10-B21)-1),0.215,{1,1,1,1,1,1,1,1,1,1,1,1,1,1,1})*offset(CustomRPECharts!B$3,0,A21*2-2+(10-B21)*2)/260*1.4,"")} | F21: {=if(and(1<=D21,D21<=15,5<=E21,E21<=10,(D21+(10-E21))<=15),SERIESSUM(EXP(1),-0.215*(D21+(10-E21)-1),0.215,{1,1,1,1,1,1,1,1,1,1,1,1,1,1,1})*offset(CustomRPECharts!$B$3,0,D21*2-2+(10-E21)*2)/260*1.4,"")} | I21: {=if(and(1<=G21,G21<=15,5<=H21,H21<=10,(G21+(10-H21))<=15),SERIESSUM(EXP(1),-0.215*(G21+(10-H21)-1),0.215,{1,1,1,1,1,1,1,1,1,1,1,1,1,1,1})*offset(CustomRPECharts!$B$3,0,G21*2-2+(10-H21)*2)/260*1.4,"")} | L21: {=if(and(1<=J21,J21<=15,5<=K21,K21<=10,(J21+(10-K21))<=15),SERIESSUM(EXP(1),-0.215*(J21+(10-K21)-1),0.215,{1,1,1,1,1,1,1,1,1,1,1,1,1,1,1})*offset(CustomRPECharts!$B$3,0,J21*2-2+(10-K21)*2)/260*1.4,"")}
C22: {=if(and(1<=A22,A22<=15,5<=B22,B22<=10,(A22+(10-B22))<=15),SERIESSUM(EXP(1),-0.215*(A22+(10-B22)-1),0.215,{1,1,1,1,1,1,1,1,1,1,1,1,1,1,1})*offset(CustomRPECharts!B$3,0,A22*2-2+(10-B22)*2)/260*1.4,"")} | F22: {=if(and(1<=D22,D22<=15,5<=E22,E22<=10,(D22+(10-E22))<=15),SERIESSUM(EXP(1),-0.215*(D22+(10-E22)-1),0.215,{1,1,1,1,1,1,1,1,1,1,1,1,1,1,1})*offset(CustomRPECharts!$B$3,0,D22*2-2+(10-E22)*2)/260*1.4,"")} | I22: {=if(and(1<=G22,G22<=15,5<=H22,H22<=10,(G22+(10-H22))<=15),SERIESSUM(EXP(1),-0.215*(G22+(10-H22)-1),0.215,{1,1,1,1,1,1,1,1,1,1,1,1,1,1,1})*offset(CustomRPECharts!$B$3,0,G22*2-2+(10-H22)*2)/260*1.4,"")} | L22: {=if(and(1<=J22,J22<=15,5<=K22,K22<=10,(J22+(10-K22))<=15),SERIESSUM(EXP(1),-0.215*(J22+(10-K22)-1),0.215,{1,1,1,1,1,1,1,1,1,1,1,1,1,1,1})*offset(CustomRPECharts!$B$3,0,J22*2-2+(10-K22)*2)/260*1.4,"")}
C23: {=if(and(1<=A23,A23<=15,5<=B23,B23<=10,(A23+(10-B23))<=15),SERIESSUM(EXP(1),-0.215*(A23+(10-B23)-1),0.215,{1,1,1,1,1,1,1,1,1,1,1,1,1,1,1})*offset(CustomRPECharts!$B$3,0,A23*2-2+(10-B23)*2)/260*1.4,"")} | F23: {=if(and(1<=D23,D23<=15,5<=E23,E23<=10,(D23+(10-E23))<=15),SERIESSUM(EXP(1),-0.215*(D23+(10-E23)-1),0.215,{1,1,1,1,1,1,1,1,1,1,1,1,1,1,1})*offset(CustomRPECharts!$B$3,0,D23*2-2+(10-E23)*2)/260*1.4,"")} | I23: {=if(and(1<=G23,G23<=15,5<=H23,H23<=10,(G23+(10-H23))<=15),SERIESSUM(EXP(1),-0.215*(G23+(10-H23)-1),0.215,{1,1,1,1,1,1,1,1,1,1,1,1,1,1,1})*offset(CustomRPECharts!$B$3,0,G23*2-2+(10-H23)*2)/260*1.4,"")} | L23: {=if(and(1<=J23,J23<=15,5<=K23,K23<=10,(J23+(10-K23))<=15),SERIESSUM(EXP(1),-0.215*(J23+(10-K23)-1),0.215,{1,1,1,1,1,1,1,1,1,1,1,1,1,1,1})*offset(CustomRPECharts!$B$3,0,J23*2-2+(10-K23)*2)/260*1.4,"")}
A24: Total Stress | C24: =SUM(C3:C23) -> 11.344419 | G24: Total Stress | I24: =sum(F3:F23,I3:I23) -> 22.02714 | J24: Total Stress | L24: =SUM(L3:L23) -> 10.154744

Sheet CustomRPECharts
A1: Squat
A2: RM | B2: 1 | D2: 2 | F2: 3 | H2: 4 | J2: 5 | L2: 6 | N2: 7 | P2: 8 | R2: 9 | T2: 10 | V2: 11 | X2: 12 | Z2: 13 | AB2: 14 | AD2: 15
A3: % | B3: 100 | C3: 97.8 | D3: 95.5 | E3: 93.8 | F3: 92.2 | G3: 90.7 | H3: 89.2 | I3: 87.8 | J3: 86.3 | K3: 85 | L3: 83.7 | M3: 82.4 | N3: 81.1 | O3: 79.8 | P3: 78.6 | Q3: 77.4 | R3: 76.2 | S3: 75.1 | T3: 73.9 | U3: 72.3 | V3: 70.7 | W3: 69.3 | X3: 68 | Y3: 66.7 | Z3: 65.3 | AA3: 64 | AB3: 62.6 | AC3: 61.3 | AD3: 59.9
A4: Bench
A5: RM | B5: 1 | D5: 2 | F5: 3 | H5: 4 | J5: 5 | L5: 6 | N5: 7 | P5: 8 | R5: 9 | T5: 10 | V5: 11 | X5: 12 | Z5: 13 | AB5: 14 | AD5: 15
A6: % | B6: 100 | C6: 97.8 | D6: 95.5 | E6: 93.8 | F6: 92.2 | G6: 90.7 | H6: 89.2 | I6: 87.8 | J6: 86.3 | K6: 85 | L6: 83.7 | M6: 82.4 | N6: 81.1 | O6: 79.8 | P6: 78.6 | Q6: 77.4 | R6: 76.2 | S6: 75.1 | T6: 73.9 | U6: 72.3 | V6: 70.7 | W6: 69.3 | X6: 68 | Y6: 66.7 | Z6: 65.3 | AA6: 64 | AB6: 62.6 | AC6: 61.3 | AD6: 59.9
A7: Deadlift
A8: RM | B8: 1 | D8: 2 | F8: 3 | H8: 4 | J8: 5 | L8: 6 | N8: 7 | P8: 8 | R8: 9 | T8: 10 | V8: 11 | X8: 12 | Z8: 13 | AB8: 14 | AD8: 15
A9: % | B9: 100 | C9: 97.8 | D9: 95.5 | E9: 93.8 | F9: 92.2 | G9: 90.7 | H9: 89.2 | I9: 87.8 | J9: 86.3 | K9: 85 | L9: 83.7 | M9: 82.4 | N9: 81.1 | O9: 79.8 | P9: 78.6 | Q9: 77.4 | R9: 76.2 | S9: 75.1 | T9: 73.9 | U9: 72.3 | V9: 70.7 | W9: 69.3 | X9: 68 | Y9: 66.7 | Z9: 65.3 | AA9: 64 | AB9: 62.6 | AC9: 61.3 | AD9: 59.9
