Workbook

Sheet P2
A2: P 2 | B2: A remplir a chaque montage / demontage moule
A4: Date | B4: Relevé au Montage demontage | C4: Désignation Article | P4: Temps de cycle | Q4: Nbre empreinte | R4: Poids des sacs | S4: Initial
A6: 43250 | B6: M | C6: CAL'ROUE 10/30 - GRIS | P6: 20.3 | Q6: 11 | R6: 9.9 | S6: BA | T6: =COUNTIF($C$1:$C6,C6) -> 1
Q7: 1
A8: 43257 | B8: M | C8: CONE D'ETANCHEITE 26 - NOIR | P8: 29.4 | Q8: 8 | R8: 3.3 | S8: BA | T8: =COUNTIF($C$1:$C8,C8) -> 1
A9: 43278 | B9: M | C9: CONE D'ETANCHEITE 22 - NOIR | P9: 32.5 | Q9: 8 | R9: 2.85 | S9: BA | T9: =COUNTIF($C$1:$C9,C9) -> 1
A10: 43298 | B10: M | C10: CALE STOCKAGE SANS TIGE PAR 250 | P10: 39.9 | Q10: 3 | R10: 14.75 | S10: BA | T10: =COUNTIF($C$1:$C10,C10) -> 1
A11: 43306 | B11: D | C11: CALE STOCKAGE SANS TIGE | P11: 38 | Q11: 3 | R11: 12.11 | S11: BA | T11: =COUNTIF($C$1:$C11,C11) -> 1
A12: 43314 | B12: D | C12: CALE STOCKAGE AVEC TIGE | P12: 37.8 | Q12: 3 | R12: 9.418 | S12: BA | T12: =COUNTIF($C$1:$C12,C12) -> 1
A13: 43343 | B13: M | C13: CONE D'ETANCHEITE 26 - NOIR | P13: 29.8 | Q13: 8 | R13: 3.3 | S13: BA | T13: =COUNTIF($C$1:$C13,C13) -> 2
A14: 43354 | B14: M | C14: CALE STOCKAGE SANS TIGE | P14: 39.4 | Q14: 3 | R14: 12.11 | S14: BA | T14: =COUNTIF($C$1:$C14,C14) -> 2
A15: 43370 | B15: M | C15: CALE STOCKAGE AVEC TIGE | P15: 38.5 | Q15: 3 | R15: 9.4 | S15: BA | T15: =COUNTIF($C$1:$C15,C15) -> 2
A16: 43377 | B16: M | C16: CONE D'ETANCHEITE 26 - NOIR | P16: 30.2 | Q16: 8 | R16: 3.3 | S16: BA | T16: =COUNTIF($C$1:$C16,C16) -> 3
T17: =COUNTIF($C$1:$C17,C17) -> 0
T18: =COUNTIF($C$1:$C18,C18) -> 0
T19: =COUNTIF($C$1:$C19,C19) -> 0
T20: =COUNTIF($C$1:$C20,C20) -> 0
T21: =COUNTIF($C$1:$C21,C21) -> 0
T22: =COUNTIF($C$1:$C22,C22) -> 0
T23: =COUNTIF($C$1:$C23,C23) -> 0

Sheet P3
A2: P 3 | B2: A remplir a chaque montage / demontage moule
A4: Date | B4: Relevé au Montage demontage | C4: Désignation Article | P4: Temps de cycle | Q4: Nbre empreinte | R4: Poids des sacs | S4: Initial
A6: 43250 | B6: M | C6: CAL'ROUE 10/30 - GRIS | P6: 20.3 | Q6: 11 | R6: 9.9 | S6: BA | T6: =COUNTIF($C$1:$C6,C6) -> 1
Q7: 1
A8: 43257 | B8: M | C8: CONE D'ETANCHEITE 26 - NOIR | P8: 29.4 | Q8: 8 | R8: 3.3 | S8: BA | T8: =COUNTIF($C$1:$C8,C8) -> 1
A9: 43278 | B9: M | C9: CONE D'ETANCHEITE 22 - NOIR | P9: 32.5 | Q9: 8 | R9: 2.85 | S9: BA | T9: =COUNTIF($C$1:$C9,C9) -> 1
A10: 43298 | B10: M | C10: CALE STOCKAGE SANS TIGE PAR 250 | P10: 39.9 | Q10: 3 | R10: 14.75 | S10: BA | T10: =COUNTIF($C$1:$C10,C10) -> 1
A11: 43306 | B11: D | C11: CALE STOCKAGE SANS TIGE | P11: 38 | Q11: 3 | R11: 12.11 | S11: BA | T11: =COUNTIF($C$1:$C11,C11) -> 1
A12: 43314 | B12: D | C12: CALE STOCKAGE AVEC TIGE | P12: 37.8 | Q12: 3 | R12: 9.418 | S12: BA | T12: =COUNTIF($C$1:$C12,C12) -> 1
A13: 43343 | B13: M | C13: CONE D'ETANCHEITE 26 - NOIR | P13: 29.8 | Q13: 8 | R13: 3.3 | S13: BA | T13: =COUNTIF($C$1:$C13,C13) -> 2
A14: 43354 | B14: M | C14: CALE STOCKAGE SANS TIGE | P14: 39.4 | Q14: 3 | R14: 12.11 | S14: BA | T14: =COUNTIF($C$1:$C14,C14) -> 2
A15: 43370 | B15: M | C15: CALE STOCKAGE AVEC TIGE | P15: 38.5 | Q15: 3 | R15: 9.4 | S15: BA | T15: =COUNTIF($C$1:$C15,C15) -> 2
A16: 43377 | B16: M | C16: CONE D'ETANCHEITE 26 - NOIR | P16: 30.2 | Q16: 8 | R16: 3.3 | S16: BA | T16: =COUNTIF($C$1:$C16,C16) -> 3
T17: =COUNTIF($C$1:$C17,C17) -> 0
T18: =COUNTIF($C$1:$C18,C18) -> 0
T19: =COUNTIF($C$1:$C19,C19) -> 0
T20: =COUNTIF($C$1:$C20,C20) -> 0
T21: =COUNTIF($C$1:$C21,C21) -> 0
T22: =COUNTIF($C$1:$C22,C22) -> 0
T23: =COUNTIF($C$1:$C23,C23) -> 0

Sheet P4
A2: P 4 | B2: A remplir a chaque montage / demontage moule
A4: Date | B4: Relevé au Montage demontage | C4: Désignation Article | P4: Temps de cycle | Q4: Nbre empreinte | R4: Poids des sacs | S4: Initial
A6: 43250 | B6: M | C6: CAL'ROUE 10/30 - GRIS | P6: 20.3 | Q6: 11 | R6: 9.9 | S6: BA | T6: =COUNTIF($C$1:$C6,C6) -> 1
Q7: 1
A8: 43257 | B8: M | C8: CONE D'ETANCHEITE 26 - NOIR | P8: 29.4 | Q8: 8 | R8: 3.3 | S8: BA | T8: =COUNTIF($C$1:$C8,C8) -> 1
A9: 43278 | B9: M | C9: CONE D'ETANCHEITE 22 - NOIR | P9: 32.5 | Q9: 8 | R9: 2.85 | S9: BA | T9: =COUNTIF($C$1:$C9,C9) -> 1
A10: 43298 | B10: M | C10: CALE STOCKAGE SANS TIGE PAR 250 | P10: 39.9 | Q10: 3 | R10: 14.75 | S10: BA | T10: =COUNTIF($C$1:$C10,C10) -> 1
A11: 43306 | B11: D | C11: CALE STOCKAGE SANS TIGE | P11: 38 | Q11: 3 | R11: 12.11 | S11: BA | T11: =COUNTIF($C$1:$C11,C11) -> 1
A12: 43314 | B12: D | C12: CALE STOCKAGE AVEC TIGE | P12: 37.8 | Q12: 3 | R12: 9.418 | S12: BA | T12: =COUNTIF($C$1:$C12,C12) -> 1
A13: 43343 | B13: M | C13: CONE D'ETANCHEITE 26 - NOIR | P13: 29.8 | Q13: 8 | R13: 3.3 | S13: BA | T13: =COUNTIF($C$1:$C13,C13) -> 2
A14: 43354 | B14: M | C14: CALE STOCKAGE SANS TIGE | P14: 39.4 | Q14: 3 | R14: 12.11 | S14: BA | T14: =COUNTIF($C$1:$C14,C14) -> 2
A15: 43370 | B15: M | C15: CALE STOCKAGE AVEC TIGE | P15: 38.5 | Q15: 3 | R15: 9.4 | S15: BA | T15: =COUNTIF($C$1:$C15,C15) -> 2
A16: 43377 | B16: M | C16: CONE D'ETANCHEITE 26 - NOIR | P16: 30.2 | Q16: 8 | R16: 3.3 | S16: BA | T16: =COUNTIF($C$1:$C16,C16) -> 3
T17: =COUNTIF($C$1:$C17,C17) -> 0
T18: =COUNTIF($C$1:$C18,C18) -> 0
T19: =COUNTIF($C$1:$C19,C19) -> 0
T20: =COUNTIF($C$1:$C20,C20) -> 0
T21: =COUNTIF($C$1:$C21,C21) -> 0
T22: =COUNTIF($C$1:$C22,C22) -> 0
T23: =COUNTIF($C$1:$C23,C23) -> 0

Sheet P5
A2: P 5 | B2: A remplir a chaque montage / demontage moule
A4: Date | B4: Relevé au Montage demontage | C4: Désignation Article | P4: Temps de cycle | Q4: Nbre empreinte | R4: Poids des sacs | S4: Initial
A6: 43250 | B6: M | C6: CAL'ROUE 10/30 - GRIS | P6: 20.3 | Q6: 11 | R6: 9.9 | S6: BA | T6: =COUNTIF($C$1:$C6,C6) -> 1
Q7: 1
A8: 43257 | B8: M | C8: CONE D'ETANCHEITE 26 - NOIR | P8: 29.4 | Q8: 8 | R8: 3.3 | S8: BA | T8: =COUNTIF($C$1:$C8,C8) -> 1
A9: 43278 | B9: M | C9: CONE D'ETANCHEITE 22 - NOIR | P9: 32.5 | Q9: 8 | R9: 2.85 | S9: BA | T9: =COUNTIF($C$1:$C9,C9) -> 1
A10: 43298 | B10: M | C10: CALE STOCKAGE SANS TIGE PAR 250 | P10: 39.9 | Q10: 3 | R10: 14.75 | S10: BA | T10: =COUNTIF($C$1:$C10,C10) -> 1
A11: 43306 | B11: D | C11: CALE STOCKAGE SANS TIGE | P11: 38 | Q11: 3 | R11: 12.11 | S11: BA | T11: =COUNTIF($C$1:$C11,C11) -> 1
A12: 43314 | B12: D | C12: CALE STOCKAGE AVEC TIGE | P12: 37.8 | Q12: 3 | R12: 9.418 | S12: BA | T12: =COUNTIF($C$1:$C12,C12) -> 1
A13: 43343 | B13: M | C13: CONE D'ETANCHEITE 26 - NOIR | P13: 29.8 | Q13: 8 | R13: 3.3 | S13: BA | T13: =COUNTIF($C$1:$C13,C13) -> 2
A14: 43354 | B14: M | C14: CALE STOCKAGE SANS TIGE | P14: 39.4 | Q14: 3 | R14: 12.11 | S14: BA | T14: =COUNTIF($C$1:$C14,C14) -> 2
A15: 43370 | B15: M | C15: CALE STOCKAGE AVEC TIGE | P15: 38.5 | Q15: 3 | R15: 9.4 | S15: BA | T15: =COUNTIF($C$1:$C15,C15) -> 2
A16: 43377 | B16: M | C16: CONE D'ETANCHEITE 26 - NOIR | P16: 30.2 | Q16: 8 | R16: 3.3 | S16: BA | T16: =COUNTIF($C$1:$C16,C16) -> 3
T17: =COUNTIF($C$1:$C17,C17) -> 0
T18: =COUNTIF($C$1:$C18,C18) -> 0
T19: =COUNTIF($C$1:$C19,C19) -> 0
T20: =COUNTIF($C$1:$C20,C20) -> 0
T21: =COUNTIF($C$1:$C21,C21) -> 0
T22: =COUNTIF($C$1:$C22,C22) -> 0
T23: =COUNTIF($C$1:$C23,C23) -> 0

Sheet P6
A2: P 6 | B2: A remplir a chaque montage / demontage moule
A4: Date | B4: Relevé au Montage demontage | C4: Désignation Article | P4: Temps de cycle | Q4: Nbre empreinte | R4: Poids des sacs | S4: Initial
A6: 43250 | B6: M | C6: CAL'ROUE 10/30 - GRIS | P6: 20.3 | Q6: 11 | R6: 9.9 | S6: BA | T6: =COUNTIF($C$1:$C6,C6) -> 1
Q7: 1
A8: 43257 | B8: M | C8: CONE D'ETANCHEITE 26 - NOIR | P8: 29.4 | Q8: 8 | R8: 3.3 | S8: BA | T8: =COUNTIF($C$1:$C8,C8) -> 1
A9: 43278 | B9: M | C9: CONE D'ETANCHEITE 22 - NOIR | P9: 32.5 | Q9: 8 | R9: 2.85 | S9: BA | T9: =COUNTIF($C$1:$C9,C9) -> 1
A10: 43298 | B10: M | C10: CALE STOCKAGE SANS TIGE PAR 250 | P10: 39.9 | Q10: 3 | R10: 14.75 | S10: BA | T10: =COUNTIF($C$1:$C10,C10) -> 1
A11: 43306 | B11: D | C11: CALE STOCKAGE SANS TIGE | P11: 38 | Q11: 3 | R11: 12.11 | S11: BA | T11: =COUNTIF($C$1:$C11,C11) -> 1
A12: 43314 | B12: D | C12: CALE STOCKAGE AVEC TIGE | P12: 37.8 | Q12: 3 | R12: 9.418 | S12: BA | T12: =COUNTIF($C$1:$C12,C12) -> 1
A13: 43343 | B13: M | C13: CONE D'ETANCHEITE 26 - NOIR | P13: 29.8 | Q13: 8 | R13: 3.3 | S13: BA | T13: =COUNTIF($C$1:$C13,C13) -> 2
A14: 43354 | B14: M | C14: CALE STOCKAGE SANS TIGE | P14: 39.4 | Q14: 3 | R14: 12.11 | S14: BA | T14: =COUNTIF($C$1:$C14,C14) -> 2
A15: 43370 | B15: M | C15: CALE STOCKAGE AVEC TIGE | P15: 38.5 | Q15: 3 | R15: 9.4 | S15: BA | T15: =COUNTIF($C$1:$C15,C15) -> 2
A16: 43377 | B16: M | C16: CONE D'ETANCHEITE 26 - NOIR | P16: 30.2 | Q16: 8 | R16: 3.3 | S16: BA | T16: =COUNTIF($C$1:$C16,C16) -> 3
T17: =COUNTIF($C$1:$C17,C17) -> 0
T18: =COUNTIF($C$1:$C18,C18) -> 0
T19: =COUNTIF($C$1:$C19,C19) -> 0
T20: =COUNTIF($C$1:$C20,C20) -> 0
T21: =COUNTIF($C$1:$C21,C21) -> 0
T22: =COUNTIF($C$1:$C22,C22) -> 0
T23: =COUNTIF($C$1:$C23,C23) -> 0

Sheet P10
A2: P 10 | B2: A remplir a chaque montage / demontage moule
A4: Date | B4: Relevé au Montage demontage | C4: Désignation Article | P4: Temps de cycle | Q4: Nbre empreinte | R4: Poids des sacs | S4: Initial
A6: 43250 | B6: M | C6: CAL'ROUE 10/30 - GRIS | P6: 20.3 | Q6: 11 | R6: 9.9 | S6: BA | T6: =COUNTIF($C$1:$C6,C6) -> 1
Q7: 1
A8: 43257 | B8: M | C8: CONE D'ETANCHEITE 26 - NOIR | P8: 29.4 | Q8: 8 | R8: 3.3 | S8: BA | T8: =COUNTIF($C$1:$C8,C8) -> 1
A9: 43278 | B9: M | C9: CONE D'ETANCHEITE 22 - NOIR | P9: 32.5 | Q9: 8 | R9: 2.85 | S9: BA | T9: =COUNTIF($C$1:$C9,C9) -> 1
A10: 43298 | B10: M | C10: CALE STOCKAGE SANS TIGE PAR 250 | P10: 39.9 | Q10: 3 | R10: 14.75 | S10: BA | T10: =COUNTIF($C$1:$C10,C10) -> 1
A11: 43306 | B11: D | C11: CALE STOCKAGE SANS TIGE | P11: 38 | Q11: 3 | R11: 12.11 | S11: BA | T11: =COUNTIF($C$1:$C11,C11) -> 1
A12: 43314 | B12: D | C12: CALE STOCKAGE AVEC TIGE | P12: 37.8 | Q12: 3 | R12: 9.418 | S12: BA | T12: =COUNTIF($C$1:$C12,C12) -> 1
A13: 43343 | B13: M | C13: CONE D'ETANCHEITE 26 - NOIR | P13: 29.8 | Q13: 8 | R13: 3.3 | S13: BA | T13: =COUNTIF($C$1:$C13,C13) -> 2
A14: 43354 | B14: M | C14: CALE STOCKAGE SANS TIGE | P14: 39.4 | Q14: 3 | R14: 12.11 | S14: BA | T14: =COUNTIF($C$1:$C14,C14) -> 2
A15: 43370 | B15: M | C15: CALE STOCKAGE AVEC TIGE | P15: 38.5 | Q15: 3 | R15: 9.4 | S15: BA | T15: =COUNTIF($C$1:$C15,C15) -> 2
A16: 43377 | B16: M | C16: CONE D'ETANCHEITE 26 - NOIR | P16: 30.2 | Q16: 8 | R16: 3.3 | S16: BA | T16: =COUNTIF($C$1:$C16,C16) -> 3
T17: =COUNTIF($C$1:$C17,C17) -> 0
T18: =COUNTIF($C$1:$C18,C18) -> 0
T19: =COUNTIF($C$1:$C19,C19) -> 0
T20: =COUNTIF($C$1:$C20,C20) -> 0
T21: =COUNTIF($C$1:$C21,C21) -> 0
T22: =COUNTIF($C$1:$C22,C22) -> 0
T23: =COUNTIF($C$1:$C23,C23) -> 0

Sheet P11
A2: P 11 | B2: A remplir a chaque montage / demontage moule
A4: Date | B4: Relevé au Montage demontage | C4: Désignation Article | P4: Temps de cycle | Q4: Nbre empreinte | R4: Poids des sacs | S4: Initial
A6: 43250 | B6: M | C6: CAL'ROUE 10/30 - GRIS | P6: 20.3 | Q6: 11 | R6: 9.9 | S6: BA | T6: =COUNTIF($C$1:$C6,C6) -> 1
Q7: 1
A8: 43257 | B8: M | C8: CONE D'ETANCHEITE 26 - NOIR | P8: 29.4 | Q8: 8 | R8: 3.3 | S8: BA | T8: =COUNTIF($C$1:$C8,C8) -> 1
A9: 43278 | B9: M | C9: CONE D'ETANCHEITE 22 - NOIR | P9: 32.5 | Q9: 8 | R9: 2.85 | S9: BA | T9: =COUNTIF($C$1:$C9,C9) -> 1
A10: 43298 | B10: M | C10: CALE STOCKAGE SANS TIGE PAR 250 | P10: 39.9 | Q10: 3 | R10: 14.75 | S10: BA | T10: =COUNTIF($C$1:$C10,C10) -> 1
A11: 43306 | B11: D | C11: CALE STOCKAGE SANS TIGE | P11: 38 | Q11: 3 | R11: 12.11 | S11: BA | T11: =COUNTIF($C$1:$C11,C11) -> 1
A12: 43314 | B12: D | C12: CALE STOCKAGE AVEC TIGE | P12: 37.8 | Q12: 3 | R12: 9.418 | S12: BA | T12: =COUNTIF($C$1:$C12,C12) -> 1
A13: 43343 | B13: M | C13: CONE D'ETANCHEITE 26 - NOIR | P13: 29.8 | Q13: 8 | R13: 3.3 | S13: BA | T13: =COUNTIF($C$1:$C13,C13) -> 2
A14: 43354 | B14: M | C14: CALE STOCKAGE SANS TIGE | P14: 39.4 | Q14: 3 | R14: 12.11 | S14: BA | T14: =COUNTIF($C$1:$C14,C14) -> 2
A15: 43370 | B15: M | C15: CALE STOCKAGE AVEC TIGE | P15: 38.5 | Q15: 3 | R15: 9.4 | S15: BA | T15: =COUNTIF($C$1:$C15,C15) -> 2
A16: 43377 | B16: M | C16: CONE D'ETANCHEITE 26 - NOIR | P16: 30.2 | Q16: 8 | R16: 3.3 | S16: BA | T16: =COUNTIF($C$1:$C16,C16) -> 3
T17: =COUNTIF($C$1:$C17,C17) -> 0
T18: =COUNTIF($C$1:$C18,C18) -> 0
T19: =COUNTIF($C$1:$C19,C19) -> 0
T20: =COUNTIF($C$1:$C20,C20) -> 0
T21: =COUNTIF($C$1:$C21,C21) -> 0
T22: =COUNTIF($C$1:$C22,C22) -> 0
T23: =COUNTIF($C$1:$C23,C23) -> 0

Sheet P12
A2: P 12 | B2: A remplir a chaque montage / demontage moule
A4: Date | B4: Relevé au Montage demontage | C4: Désignation Article | P4: Temps de cycle | Q4: Nbre empreinte | R4: Poids des sacs | S4: Initial
A6: 43250 | B6: M | C6: CAL'ROUE 10/30 - GRIS | P6: 20.3 | Q6: 11 | R6: 9.9 | S6: BA | T6: =COUNTIF($C$1:$C6,C6) -> 1
Q7: 1
A8: 43257 | B8: M | C8: CONE D'ETANCHEITE 26 - NOIR | P8: 29.4 | Q8: 8 | R8: 3.3 | S8: BA | T8: =COUNTIF($C$1:$C8,C8) -> 1
A9: 43278 | B9: M | C9: CONE D'ETANCHEITE 22 - NOIR | P9: 32.5 | Q9: 8 | R9: 2.85 | S9: BA | T9: =COUNTIF($C$1:$C9,C9) -> 1
A10: 43298 | B10: M | C10: CALE STOCKAGE SANS TIGE PAR 250 | P10: 39.9 | Q10: 3 | R10: 14.75 | S10: BA | T10: =COUNTIF($C$1:$C10,C10) -> 1
A11: 43306 | B11: D | C11: CALE STOCKAGE SANS TIGE | P11: 38 | Q11: 3 | R11: 12.11 | S11: BA | T11: =COUNTIF($C$1:$C11,C11) -> 1
A12: 43314 | B12: D | C12: CALE STOCKAGE AVEC TIGE | P12: 37.8 | Q12: 3 | R12: 9.418 | S12: BA | T12: =COUNTIF($C$1:$C12,C12) -> 1
A13: 43343 | B13: M | C13: CONE D'ETANCHEITE 26 - NOIR | P13: 29.8 | Q13: 8 | R13: 3.3 | S13: BA | T13: =COUNTIF($C$1:$C13,C13) -> 2
A14: 43354 | B14: M | C14: CALE STOCKAGE SANS TIGE | P14: 39.4 | Q14: 3 | R14: 12.11 | S14: BA | T14: =COUNTIF($C$1:$C14,C14) -> 2
A15: 43370 | B15: M | C15: CALE STOCKAGE AVEC TIGE | P15: 38.5 | Q15: 3 | R15: 9.4 | S15: BA | T15: =COUNTIF($C$1:$C15,C15) -> 2
A16: 43377 | B16: M | C16: CONE D'ETANCHEITE 26 - NOIR | P16: 30.2 | Q16: 8 | R16: 3.3 | S16: BA | T16: =COUNTIF($C$1:$C16,C16) -> 3
T17: =COUNTIF($C$1:$C17,C17) -> 0
T18: =COUNTIF($C$1:$C18,C18) -> 0
T19: =COUNTIF($C$1:$C19,C19) -> 0
T20: =COUNTIF($C$1:$C20,C20) -> 0
T21: =COUNTIF($C$1:$C21,C21) -> 0
T22: =COUNTIF($C$1:$C22,C22) -> 0
T23: =COUNTIF($C$1:$C23,C23) -> 0

Sheet P14
A2: P 14 | B2: A remplir a chaque montage / demontage moule
A4: Date | B4: Relevé au Montage demontage | C4: Désignation Article | P4: Temps de cycle | Q4: Nbre empreinte | R4: Poids des sacs | S4: Initial
A6: 43250 | B6: M | C6: CAL'ROUE 10/30 - GRIS | P6: 20.3 | Q6: 11 | R6: 9.9 | S6: BA | T6: =COUNTIF($C$1:$C6,C6) -> 1
Q7: 1
A8: 43257 | B8: M | C8: CONE D'ETANCHEITE 26 - NOIR | P8: 29.4 | Q8: 8 | R8: 3.3 | S8: BA | T8: =COUNTIF($C$1:$C8,C8) -> 1
A9: 43278 | B9: M | C9: CONE D'ETANCHEITE 22 - NOIR | P9: 32.5 | Q9: 8 | R9: 2.85 | S9: BA | T9: =COUNTIF($C$1:$C9,C9) -> 1
A10: 43298 | B10: M | C10: CALE STOCKAGE SANS TIGE PAR 250 | P10: 39.9 | Q10: 3 | R10: 14.75 | S10: BA | T10: =COUNTIF($C$1:$C10,C10) -> 1
A11: 43306 | B11: D | C11: CALE STOCKAGE SANS TIGE | P11: 38 | Q11: 3 | R11: 12.11 | S11: BA | T11: =COUNTIF($C$1:$C11,C11) -> 1
A12: 43314 | B12: D | C12: CALE STOCKAGE AVEC TIGE | P12: 37.8 | Q12: 3 | R12: 9.418 | S12: BA | T12: =COUNTIF($C$1:$C12,C12) -> 1
A13: 43343 | B13: M | C13: CONE D'ETANCHEITE 26 - NOIR | P13: 29.8 | Q13: 8 | R13: 3.3 | S13: BA | T13: =COUNTIF($C$1:$C13,C13) -> 2
A14: 43354 | B14: M | C14: CALE STOCKAGE SANS TIGE | P14: 39.4 | Q14: 3 | R14: 12.11 | S14: BA | T14: =COUNTIF($C$1:$C14,C14) -> 2
A15: 43370 | B15: M | C15: CALE STOCKAGE AVEC TIGE | P15: 38.5 | Q15: 3 | R15: 9.4 | S15: BA | T15: =COUNTIF($C$1:$C15,C15) -> 2
A16: 43377 | B16: M | C16: CONE D'ETANCHEITE 26 - NOIR | P16: 30.2 | Q16: 8 | R16: 3.3 | S16: BA | T16: =COUNTIF($C$1:$C16,C16) -> 3
T17: =COUNTIF($C$1:$C17,C17) -> 0
T18: =COUNTIF($C$1:$C18,C18) -> 0
T19: =COUNTIF($C$1:$C19,C19) -> 0
T20: =COUNTIF($C$1:$C20,C20) -> 0
T21: =COUNTIF($C$1:$C21,C21) -> 0
T22: =COUNTIF($C$1:$C22,C22) -> 0
T23: =COUNTIF($C$1:$C23,C23) -> 0

Sheet P15
A2: P 15 | B2: A remplir a chaque montage / demontage moule
A4: Date | B4: Relevé au Montage demontage | C4: Désignation Article | P4: Temps de cycle | Q4: Nbre empreinte | R4: Poids des sacs | S4: Initial
A6: 43250 | B6: M | C6: CAL'ROUE 10/30 - GRIS | P6: 20.3 | Q6: 11 | R6: 9.9 | S6: BA | T6: =COUNTIF($C$1:$C6,C6) -> 1
Q7: 1
A8: 43257 | B8: M | C8: CONE D'ETANCHEITE 26 - NOIR | P8: 29.4 | Q8: 8 | R8: 3.3 | S8: BA | T8: =COUNTIF($C$1:$C8,C8) -> 1
A9: 43278 | B9: M | C9: CONE D'ETANCHEITE 22 - NOIR | P9: 32.5 | Q9: 8 | R9: 2.85 | S9: BA | T9: =COUNTIF($C$1:$C9,C9) -> 1
A10: 43298 | B10: M | C10: CALE STOCKAGE SANS TIGE PAR 250 | P10: 39.9 | Q10: 3 | R10: 14.75 | S10: BA | T10: =COUNTIF($C$1:$C10,C10) -> 1
A11: 43306 | B11: D | C11: CALE STOCKAGE SANS TIGE | P11: 38 | Q11: 3 | R11: 12.11 | S11: BA | T11: =COUNTIF($C$1:$C11,C11) -> 1
A12: 43314 | B12: D | C12: CALE STOCKAGE AVEC TIGE | P12: 37.8 | Q12: 3 | R12: 9.418 | S12: BA | T12: =COUNTIF($C$1:$C12,C12) -> 1
A13: 43343 | B13: M | C13: CONE D'ETANCHEITE 26 - NOIR | P13: 29.8 | Q13: 8 | R13: 3.3 | S13: BA | T13: =COUNTIF($C$1:$C13,C13) -> 2
A14: 43354 | B14: M | C14: CALE STOCKAGE SANS TIGE | P14: 39.4 | Q14: 3 | R14: 12.11 | S14: BA | T14: =COUNTIF($C$1:$C14,C14) -> 2
A15: 43370 | B15: M | C15: CALE STOCKAGE AVEC TIGE | P15: 38.5 | Q15: 3 | R15: 9.4 | S15: BA | T15: =COUNTIF($C$1:$C15,C15) -> 2
A16: 43377 | B16: M | C16: CONE D'ETANCHEITE 26 - NOIR | P16: 30.2 | Q16: 8 | R16: 3.3 | S16: BA | T16: =COUNTIF($C$1:$C16,C16) -> 3
T17: =COUNTIF($C$1:$C17,C17) -> 0
T18: =COUNTIF($C$1:$C18,C18) -> 0
T19: =COUNTIF($C$1:$C19,C19) -> 0
T20: =COUNTIF($C$1:$C20,C20) -> 0
T21: =COUNTIF($C$1:$C21,C21) -> 0
T22: =COUNTIF($C$1:$C22,C22) -> 0
T23: =COUNTIF($C$1:$C23,C23) -> 0

Sheet P16
A2: P 16 | B2: A remplir a chaque montage / demontage moule
A4: Date | B4: Relevé au Montage demontage | C4: Désignation Article | P4: Temps de cycle | Q4: Nbre empreinte | R4: Poids des sacs | S4: Initial
A6: 43250 | B6: M | C6: CAL'ROUE 10/30 - GRIS | P6: 20.3 | Q6: 11 | R6: 9.9 | S6: BA | T6: =COUNTIF($C$1:$C6,C6) -> 1
Q7: 1
A8: 43257 | B8: M | C8: CONE D'ETANCHEITE 26 - NOIR | P8: 29.4 | Q8: 8 | R8: 3.3 | S8: BA | T8: =COUNTIF($C$1:$C8,C8) -> 1
A9: 43278 | B9: M | C9: CONE D'ETANCHEITE 22 - NOIR | P9: 32.5 | Q9: 8 | R9: 2.85 | S9: BA | T9: =COUNTIF($C$1:$C9,C9) -> 1
A10: 43298 | B10: M | C10: CALE STOCKAGE SANS TIGE PAR 250 | P10: 39.9 | Q10: 3 | R10: 14.75 | S10: BA | T10: =COUNTIF($C$1:$C10,C10) -> 1
A11: 43306 | B11: D | C11: CALE STOCKAGE SANS TIGE | P11: 38 | Q11: 3 | R11: 12.11 | S11: BA | T11: =COUNTIF($C$1:$C11,C11) -> 1
A12: 43314 | B12: D | C12: CALE STOCKAGE AVEC TIGE | P12: 37.8 | Q12: 3 | R12: 9.418 | S12: BA | T12: =COUNTIF($C$1:$C12,C12) -> 1
A13: 43343 | B13: M | C13: CONE D'ETANCHEITE 26 - NOIR | P13: 29.8 | Q13: 8 | R13: 3.3 | S13: BA | T13: =COUNTIF($C$1:$C13,C13) -> 2
A14: 43354 | B14: M | C14: CALE STOCKAGE SANS TIGE | P14: 39.4 | Q14: 3 | R14: 12.11 | S14: BA | T14: =COUNTIF($C$1:$C14,C14) -> 2
A15: 43370 | B15: M | C15: CALE STOCKAGE AVEC TIGE | P15: 38.5 | Q15: 3 | R15: 9.4 | S15: BA | T15: =COUNTIF($C$1:$C15,C15) -> 2
A16: 43377 | B16: M | C16: CONE D'ETANCHEITE 26 - NOIR | P16: 30.2 | Q16: 8 | R16: 3.3 | S16: BA | T16: =COUNTIF($C$1:$C16,C16) -> 3
T17: =COUNTIF($C$1:$C17,C17) -> 0
T18: =COUNTIF($C$1:$C18,C18) -> 0
T19: =COUNTIF($C$1:$C19,C19) -> 0
T20: =COUNTIF($C$1:$C20,C20) -> 0
T21: =COUNTIF($C$1:$C21,C21) -> 0
T22: =COUNTIF($C$1:$C22,C22) -> 0
T23: =COUNTIF($C$1:$C23,C23) -> 0

Sheet Cadence
A2: P 2 - SAND 120 T | B2: P 11 - AGF 270 T
A3: P 3 - NEGR 210 T | B3: P 12 - SAND 240 T
A4: P 4 - ENGE 100 T | B4: P 13 - AGF 270 T
A5: P 5 - ENGE 100 T | B5: P 14 - AGF 270 T
A6: P 6 - SAND 165 T | B6: P 15 - AGF 270 T
A7: P 10 - ENGE 120 T | B7: P 16 - SAND 230 T
A8: Moule | B8: Code AS | C8: Désignation Article | D8: P2 | E8: P3 | F8: P4 | G8: P5 | H8: P6 | I8: P10 | J8: P11 | K8: P12 | L8: P13 | M8: P14 | N8: P15 | O8: P16
A9: Moule N° 1
A10: ACROFIX | B10: 1860 | C10: ACROFIX 250/15 - GRIS | D10: =SUMPRODUCT(MIN(IF(('P2'!$C$6:$C$1000=C10)*('P2'!$P$6:$P$1000<>0),'P2'!$P$6:$P$1000))) -> 0 | E10: =SOMMEPROD(MIN(SI(('P2'!$C$6:$C$1000=C10)*('P2'!$P$6:$P$1000<>0);'P2'!$P$6:$P$1000)))
B11: 1861 | C11: ACROFIX 250/20 - GRIS | D11: =SUMPRODUCT(MAX(('P2'!$C$6:$C$10000=C11)*('P2'!$P$6:$P$10000))) -> 0 | E11: =SOMMEPROD(MAX(('P2'!$C$6:$C$10000=C11)*('P2'!$P$6:$P$10000)))
B12: 16959 | C12: ACROFIX 250/25 - BLANC | D12: =SUMPRODUCT(MAX(('P2'!$C$6:$C$10000=C12)*('P2'!$P$6:$P$10000))) -> 0
B13: 1862 | C13: ACROFIX 250/25 - GRIS | D13: =SUMPRODUCT(MAX(('P2'!$C$6:$C$10000=C13)*('P2'!$P$6:$P$10000))) -> 0
A14: Moule N° 2 | D14: =SUMPRODUCT(MAX(('P2'!$C$6:$C$10000=C14)*('P2'!$P$6:$P$10000))) -> 0
A15: CE / CR | B15: 6212 | C15: CALE DE REGLAGE 2MM | D15: =SUMPRODUCT(MAX(('P2'!$C$6:$C$10000=C15)*('P2'!$P$6:$P$10000))) -> 0
B16: 6213 | C16: CALE DE REGLAGE 3MM | D16: =SUMPRODUCT(MAX(('P2'!$C$6:$C$10000=C16)*('P2'!$P$6:$P$10000))) -> 0
B17: 6215 | C17: CALE DE REGLAGE 5MM | D17: =SUMPRODUCT(MAX(('P2'!$C$6:$C$10000=C17)*('P2'!$P$6:$P$10000))) -> 0
B18: 6217 | C18: CALE DE REGLAGE 7MM | D18: =SUMPRODUCT(MAX(('P2'!$C$6:$C$10000=C18)*('P2'!$P$6:$P$10000))) -> 0
B19: 6219 | C19: CALE DE REGLAGE 9MM | D19: =SUMPRODUCT(MAX(('P2'!$C$6:$C$10000=C19)*('P2'!$P$6:$P$10000))) -> 0
B20: 6222 | C20: CALE D'EPAISSEUR 2MM | D20: =SUMPRODUCT(MAX(('P2'!$C$6:$C$10000=C20)*('P2'!$P$6:$P$10000))) -> 0
B21: 6223 | C21: CALE D'EPAISSEUR 3MM | D21: =SUMPRODUCT(MAX(('P2'!$C$6:$C$10000=C21)*('P2'!$P$6:$P$10000))) -> 0
B22: 6225 | C22: CALE D'EPAISSEUR 5MM | D22: =SUMPRODUCT(MAX(('P2'!$C$6:$C$10000=C22)*('P2'!$P$6:$P$10000))) -> 0
B23: 6227 | C23: CALE D'EPAISSEUR 7MM | D23: =SUMPRODUCT(MAX(('P2'!$C$6:$C$10000=C23)*('P2'!$P$6:$P$10000))) -> 0
B24: 6229 | C24: CALE D'EPAISSEUR 9MM | D24: =SUMPRODUCT(MAX(('P2'!$C$6:$C$10000=C24)*('P2'!$P$6:$P$10000))) -> 0
A25: Moule N° 5 | D25: =SUMPRODUCT(MAX(('P2'!$C$6:$C$10000=C25)*('P2'!$P$6:$P$10000))) -> 0
A26: CSST / CSAT | B26: 2281 | C26: CALE STOCKAGE AVEC TIGE | D26: =SUMPRODUCT(MAX(('P2'!$C$6:$C$10000=C26)*('P2'!$P$6:$P$10000))) -> 38.5 | E26: =SUMPRODUCT(MIN(('P2'!$C$6:$C$10000=C26)*('P2'!$P$6:$P$10000))) -> 0
B27: 2282 | C27: CALE STOCKAGE SANS TIGE PAR 250 | D27: =SUMPRODUCT(MAX(('P2'!$C$6:$C$10000=C27)*('P2'!$P$6:$P$10000))) -> 39.9 | E27: =SUMPRODUCT(MIN(('P2'!$C$6:$C$10000=C27)*('P2'!$P$6:$P$10000))) -> 0
B28: 2280 | C28: CALE STOCKAGE SANS TIGE | D28: =SUMPRODUCT(MAX(('P2'!$C$6:$C$10000=C28)*('P2'!$P$6:$P$10000))) -> 39.4 | E28: =SUMPRODUCT(MIN(('P2'!$C$6:$C$10000=C28)*('P2'!$P$6:$P$10000))) -> 0
A29: Moule N° 6 | D29: =SUMPRODUCT(MAX(('P2'!$C$6:$C$10000=C29)*('P2'!$P$6:$P$10000))) -> 0
A30: CALFIX | B30: 12012 | C30: CALFIX 20 - BLANC | D30: =SUMPRODUCT(MAX(('P2'!$C$6:$C$10000=C30)*('P2'!$P$6:$P$10000))) -> 0
B31: 4704 | C31: CALFIX 20 - GRIS | D31: =SUMPRODUCT(MAX(('P2'!$C$6:$C$10000=C31)*('P2'!$P$6:$P$10000))) -> 0
B32: 12014 | C32: CALFIX 25 - BLANC | D32: =SUMPRODUCT(MAX(('P2'!$C$6:$C$10000=C32)*('P2'!$P$6:$P$10000))) -> 0
B33: 4705 | C33: CALFIX 25 - GRIS | D33: =SUMPRODUCT(MAX(('P2'!$C$6:$C$10000=C33)*('P2'!$P$6:$P$10000))) -> 0
A34: Moule N° 7 | D34: =SUMPRODUCT(MAX(('P2'!$C$6:$C$10000=C34)*('P2'!$P$6:$P$10000))) -> 0

Sheet Gest Prod
H1: Semaine 1 | X1: Semaine 2 | AN1: Semaine
A2: P 2 - SAND 120 T | B2: P 11 - AGF 270 T
A3: P 3 - NEGR 210 T | B3: P 12 - SAND 240 T
A4: P 4 - ENGE 100 T | B4: P 13 - AGF 270 T | H4: Weekend | I4: Lundi | L4: Mardi | O4: Mercredi | R4: Jeudi | U4: Vendredi | X4: Weekend | Y4: Lundi | AB4: Mardi | AE4: Mercredi | AH4: Jeudi | AK4: Vendredi | AN4: Weekend | AO4: Lundi | AR4: Mardi | AU4: Mercredi | AX4: Jeudi | BA4: Vendredi
A5: P 5 - ENGE 100 T | B5: P 14 - AGF 270 T | H5: 43464 | I5: 43465 | L5: 43466 | O5: 43102 | R5: 43103 | U5: 43104 | X5: 43471 | Y5: 43472 | AB5: 43473 | AE5: 43474 | AH5: 43475 | AK5: 43476
A6: P 6 - SAND 165 T | B6: P 15 - AGF 270 T | I6: N | J6: M | K6: AP | L6: N | M6: M | N6: AP | O6: N | P6: M | Q6: AP | R6: N | S6: M | T6: AP | U6: N | V6: M | W6: AP | Y6: N | Z6: M | AA6: AP | AB6: N | AC6: M | AD6: AP | AE6: N | AF6: M | AG6: AP | AH6: N | AI6: M | AJ6: AP | AK6: N | AL6: M | AM6: AP | AO6: N | AP6: M | AQ6: AP | AR6: N | AS6: M | AT6: AP | AU6: N | AV6: M | AW6: AP | AX6: N | AY6: M | AZ6: AP | BA6: N | BB6: M | BC6: AP
A7: P 10 - ENGE 120 T | B7: P 16 - SAND 230 T | I7: 0 | J7: 7 | K7: 8 | L7: 0 | M7: 8 | N7: 8 | O7: 0 | P7: 8 | Q7: 8 | R7: 0 | S7: 8 | T7: 8 | U7: 0 | V7: 7 | W7: 0 | Y7: 0 | Z7: 7 | AA7: 8 | AB7: 0 | AC7: 8 | AD7: 8 | AE7: 0 | AF7: 8 | AG7: 8 | AH7: 0 | AI7: 8 | AJ7: 8 | AK7: 0 | AL7: 7 | AM7: 0 | AO7: 0 | AP7: 7 | AQ7: 8 | AR7: 0 | AS7: 8 | AT7: 8 | AU7: 0 | AV7: 8 | AW7: 8 | AX7: 0 | AY7: 8 | AZ7: 8 | BA7: 0 | BB7: 7 | BC7: 0
A8: Moule | B8: Code AS | C8: Désignation Article | D8: Stock | E8: Reste a produire | F8: Equipe restante | G8: Cadence
A9: Moule N° 1 | H9: =COUNTIF(H10:H795,">-1") -> 0 | I9: =COUNTIF(I10:I795,">-1") -> 0 | J9: =COUNTIF(J10:J795,">-1") -> 0 | K9: =COUNTIF(K10:K795,">-1") -> 0 | L9: =COUNTIF(L10:L795,">-1") -> 0 | M9: =COUNTIF(M10:M795,">-1") -> 0 | N9: =COUNTIF(N10:N795,">-1") -> 0 | O9: =COUNTIF(O10:O795,">-1") -> 0 | ... BC9: =COUNTIF(BC10:BC795,">-1") -> 0
A10: ACROFIX | B10: 1860 | C10: ACROFIX 250/15 - GRIS | D10: =IFERROR(VLOOKUP(B10,Wansto!$H:$O,8,FALSE),(("0"))) -> 0
B11: 1861 | C11: ACROFIX 250/20 - GRIS | D11: =IFERROR(VLOOKUP(B11,Wansto!$H:$O,8,FALSE),(("0"))) -> 120
B12: 16959 | C12: ACROFIX 250/25 - BLANC | D12: =IFERROR(VLOOKUP(B12,Wansto!$H:$O,8,FALSE),(("0"))) -> 0
B13: 1862 | C13: ACROFIX 250/25 - GRIS | D13: =IFERROR(VLOOKUP(B13,Wansto!$H:$O,8,FALSE),(("0"))) -> 0
B14: 10500 | C14: ACROFIX 250/30 - BLANC | D14: =IFERROR(VLOOKUP(B14,Wansto!$H:$O,8,FALSE),(("0"))) -> 7
B15: 1863 | C15: ACROFIX 250/30 - GRIS | D15: =IFERROR(VLOOKUP(B15,Wansto!$H:$O,8,FALSE),(("0"))) -> 103
B16: 1865 | C16: ACROFIX 250/40 - GRIS | D16: =IFERROR(VLOOKUP(B16,Wansto!$H:$O,8,FALSE),(("0"))) -> 86
B17: 1871 | C17: ACROFIX 330/20 - GRIS | D17: =IFERROR(VLOOKUP(B17,Wansto!$H:$O,8,FALSE),(("0"))) -> 0
B18: 1872 | C18: ACROFIX 330/25 - GRIS | D18: =IFERROR(VLOOKUP(B18,Wansto!$H:$O,8,FALSE),(("0"))) -> 4
B19: 1873 | C19: ACROFIX 330/30 - GRIS | D19: =IFERROR(VLOOKUP(B19,Wansto!$H:$O,8,FALSE),(("0"))) -> 4
B20: 17736 | C20: ACROFIX 330/40 - BLANC | D20: =IFERROR(VLOOKUP(B20,Wansto!$H:$O,8,FALSE),(("0"))) -> 0
B21: 1875 | C21: ACROFIX 330/40 - GRIS | D21: =IFERROR(VLOOKUP(B21,Wansto!$H:$O,8,FALSE),(("0"))) -> 12
A22: Moule N° 2 | D22: =IFERROR(VLOOKUP(B22,Wansto!$H:$O,8,FALSE),(("0"))) -> 0
A23: AGRIPFIX | B23: 1560 | C23: AGRIPFIX 15 - GRIS | D23: =IFERROR(VLOOKUP(B23,Wansto!$H:$O,8,FALSE),(("0"))) -> 0
B24: 1561 | C24: AGRIPFIX 20 - GRIS | D24: =IFERROR(VLOOKUP(B24,Wansto!$H:$O,8,FALSE),(("0"))) -> 23
B25: 1562 | C25: AGRIPFIX 25 - GRIS | D25: =IFERROR(VLOOKUP(B25,Wansto!$H:$O,8,FALSE),(("0"))) -> 0
B26: 1563 | C26: AGRIPFIX 30 - GRIS | D26: =IFERROR(VLOOKUP(B26,Wansto!$H:$O,8,FALSE),(("0"))) -> 218
A27: Moule N° 3 | D27: =IFERROR(VLOOKUP(B27,Wansto!$H:$O,8,FALSE),(("0"))) -> 0
A28: ANCRISOL | B28: 10656 | C28: ANCR'ISOL-EX.B 75 - BLANC | D28: =IFERROR(VLOOKUP(B28,Wansto!$H:$O,8,FALSE),(("0"))) -> 0
B29: 3742 | C29: ANCR'ISOL-EX.B 75 - NOIR | D29: =IFERROR(VLOOKUP(B29,Wansto!$H:$O,8,FALSE),(("0"))) -> 6
B30: 10658 | C30: ANCR'ISOL-EX.B 100 - BLANC | D30: =IFERROR(VLOOKUP(B30,Wansto!$H:$O,8,FALSE),(("0"))) -> 0
B31: 3743 | C31: ANCR'ISOL-EX.B 100 - NOIR | D31: =IFERROR(VLOOKUP(B31,Wansto!$H:$O,8,FALSE),(("0"))) -> 19
B32: 10660 | C32: ANCR'ISOL-EX.B 125 - BLANC | D32: =IFERROR(VLOOKUP(B32,Wansto!$H:$O,8,FALSE),(("0"))) -> 0
B33: 3744 | C33: ANCR'ISOL-EX.B 125 - NOIR | D33: =IFERROR(VLOOKUP(B33,Wansto!$H:$O,8,FALSE),(("0"))) -> 104
B34: 3745 | C34: ANCR'ISOL-EX.B 150 - NOIR | D34: =IFERROR(VLOOKUP(B34,Wansto!$H:$O,8,FALSE),(("0"))) -> 58
A35: Moule N° 4 | D35: =IFERROR(VLOOKUP(B35,Wansto!$H:$O,8,FALSE),(("0"))) -> 0
A36: CE / CR | B36: 6212 | C36: CALE DE REGLAGE 2MM | D36: =IFERROR(VLOOKUP(B36,Wansto!$H:$O,8,FALSE),(("0"))) -> 160
B37: 6213 | C37: CALE DE REGLAGE 3MM | D37: =IFERROR(VLOOKUP(B37,Wansto!$H:$O,8,FALSE),(("0"))) -> 239
B38: 6215 | C38: CALE DE REGLAGE 5MM | D38: =IFERROR(VLOOKUP(B38,Wansto!$H:$O,8,FALSE),(("0"))) -> 270
B39: 6217 | C39: CALE DE REGLAGE 7MM | D39: =IFERROR(VLOOKUP(B39,Wansto!$H:$O,8,FALSE),(("0"))) -> 66
B40: 6219 | C40: CALE DE REGLAGE 9MM | D40: =IFERROR(VLOOKUP(B40,Wansto!$H:$O,8,FALSE),(("0"))) -> 600
B41: 6222 | C41: CALE D'EPAISSEUR 2MM | D41: =IFERROR(VLOOKUP(B41,Wansto!$H:$O,8,FALSE),(("0"))) -> 544
B42: 6223 | C42: CALE D'EPAISSEUR 3MM | D42: =IFERROR(VLOOKUP(B42,Wansto!$H:$O,8,FALSE),(("0"))) -> 339
B43: 6225 | C43: CALE D'EPAISSEUR 5MM | D43: =IFERROR(VLOOKUP(B43,Wansto!$H:$O,8,FALSE),(("0"))) -> 683
B44: 6227 | C44: CALE D'EPAISSEUR 7MM | D44: =IFERROR(VLOOKUP(B44,Wansto!$H:$O,8,FALSE),(("0"))) -> 141
B45: 6229 | C45: CALE D'EPAISSEUR 9MM | D45: =IFERROR(VLOOKUP(B45,Wansto!$H:$O,8,FALSE),(("0"))) -> 601
A46: Moule N° 53 | D46: =IFERROR(VLOOKUP(B46,Wansto!$H:$O,8,FALSE),(("0"))) -> 0
A47: TB MAX | B47: 16282 | C47: TALON MAX 16CM GRIS | D47: =IFERROR(VLOOKUP(B47,Wansto!$H:$O,8,FALSE),(("0"))) -> 168
B48: 16283 | C48: TALON MAX 18CM GRIS | D48: =IFERROR(VLOOKUP(B48,Wansto!$H:$O,8,FALSE),(("0"))) -> 344
B49: 16284 | C49: TALON MAX 20CM GRIS | D49: =IFERROR(VLOOKUP(B49,Wansto!$H:$O,8,FALSE),(("0"))) -> 400
A50: Moule N° 54 | D50: =IFERROR(VLOOKUP(B50,Wansto!$H:$O,8,FALSE),(("0"))) -> 0
A51: TIGE POINTEFIX | B51: 16460 | C51: TIGE POINTEFIX/CLOUFIX 80MM | D51: =IFERROR(VLOOKUP(B51,Wansto!$H:$O,8,FALSE),(("0"))) -> 28
B52: 16461 | C52: TIGE POINTEFIX/CLOUFIX 100MM | D52: =IFERROR(VLOOKUP(B52,Wansto!$H:$O,8,FALSE),(("0"))) -> 97
B53: 16462 | C53: TIGE POINTEFIX/CLOUFIX 120MM | D53: =IFERROR(VLOOKUP(B53,Wansto!$H:$O,8,FALSE),(("0"))) -> 1
B54: 16463 | C54: TIGE POINTEFIX/CLOUFIX 140MM | D54: =IFERROR(VLOOKUP(B54,Wansto!$H:$O,8,FALSE),(("0"))) -> 10

Sheet Wansto
A1: WDDEPO | B1: Nom dépôt | C1: ESSERV | D1: ARFOUR | E1: ARCHAP | F1: ARSSCH | G1: ARGRST | H1: ESARTI | I1: ARREFO | J1: ARDESI | K1: ARUSTO | L1: ARDISP | M1: ARDC8 | N1: ARSUPP | O1: WDQTST
A2: 5 | B2: PONT-SAINTE-MARIE (Usine) | C2: 0 | D2: MS003 | E2: CAL | F2: 5 | G2: USI | H2: 2 | I2: DMA20G | J2: D.M. "A" 20 - GRIS | K2: SAC | L2: D | M2: 19961104 | O2: 14
A3: 5 | B3: PONT-SAINTE-MARIE (Usine) | C3: 0 | D3: MS003 | E3: CAL | F3: 5 | G3: USI | H3: 4 | I3: DMA30G | J3: D.M. "A" 30 - GRIS | K3: SAC | L3: D | M3: 19961104 | O3: 12
A4: 5 | B4: PONT-SAINTE-MARIE (Usine) | C4: 0 | D4: MS003 | E4: CAL | F4: 5 | G4: USI | H4: 6 | I4: DMA40G | J4: D.M. "A" 40 - GRIS | K4: SAC | L4: D | M4: 19961104 | O4: 18
A5: 5 | B5: PONT-SAINTE-MARIE (Usine) | C5: 0 | D5: MS003 | E5: PRE | F5: 410 | G5: USI | H5: 350 | I5: PROTEG1G | J5: PROTEG'ANGLE I - GRIS | K5: SAC | L5: D | M5: 19961112 | O5: 19
A6: 5 | B6: PONT-SAINTE-MARIE (Usine) | C6: 0 | D6: MS003 | E6: PRE | F6: 410 | G6: USI | H6: 351 | I6: PROTEG2G | J6: PROTEG'ANGLE II - GRIS | K6: SAC | L6: D | M6: 19961112 | O6: 23
A7: 5 | B7: PONT-SAINTE-MARIE (Usine) | C7: 0 | D7: MS003 | E7: CAL | F7: 5 | G7: USI | H7: 1510 | I7: DSM5100G | J7: DSM "5" 100 - GRIS | K7: CART | L7: D | M7: 19961104 | O7: 9
A8: 5 | B8: PONT-SAINTE-MARIE (Usine) | C8: 0 | D8: MS003 | E8: CAL | F8: 5 | G8: USI | H8: 1512 | I8: DSM5120G | J8: DSM "5" 120 - GRIS | K8: CART | L8: D | M8: 19961104 | O8: 2
A9: 5 | B9: PONT-SAINTE-MARIE (Usine) | C9: 0 | D9: MS003 | E9: CAL | F9: 5 | G9: USI | H9: 1551 | I9: DSM53B80G | J9: DSM "5" 3 BRANCHES 80 - GRIS | K9: CART | L9: D | M9: 19961104 | O9: 9
A10: 5 | B10: PONT-SAINTE-MARIE (Usine) | C10: 0 | D10: MS003 | E10: CAL | F10: 10 | G10: USI | H10: 1561 | I10: AGRIPF20G | J10: AGRIPFIX 20 - GRIS | K10: SAC | L10: D | M10: 19961105 | O10: 23
A11: 5 | B11: PONT-SAINTE-MARIE (Usine) | C11: 0 | D11: MS003 | E11: CAL | F11: 10 | G11: USI | H11: 1563 | I11: AGRIPF30G | J11: AGRIPFIX 30 - GRIS | K11: SAC | L11: D | M11: 19961105 | O11: 218
A12: 5 | B12: PONT-SAINTE-MARIE (Usine) | C12: 0 | D12: MS003 | E12: CAL | F12: 5 | G12: USI | H12: 1575 | I12: DSM5075G | J12: DSM "5" 75 - GRIS | K12: CART | L12: C | M12: 19961104 | O12: 4
A13: 5 | B13: PONT-SAINTE-MARIE (Usine) | C13: 0 | D13: MS003 | E13: CAL | F13: 5 | G13: USI | H13: 1577 | I13: DSM5090G | J13: DSM "5" 90 - GRIS | K13: CART | L13: C | M13: 19961104 | O13: 1
... A70: 5 | B70: PONT-SAINTE-MARIE (Usine) | C70: 0 | D70: MS003 | E70: SEC | F70: 205 | G70: USI | H70: 5491 | I70: SIGNAL616R | J70: SIGNAL'ACIER 6 A 16MM - ROUGE | K70: SACH | L70: D | M70: 19961112 | O70: 1354
A71: 5 | B71: PONT-SAINTE-MARIE (Usine) | C71: 0 | D71: MS003 | E71: SEC | F71: 205 | G71: USI | H71: 5494 | I71: CAPORANGE6/16 | J71: CAPORANGE ORANGE 6/16 | K71: SACH | L71: C | M71: 20050411 | N71: S | O71: 12
A72: 5 | B72: PONT-SAINTE-MARIE (Usine) | C72: 0 | D72: MS003 | E72: SEC | F72: 205 | G72: USI | H72: 5496 | I72: SIGNAL1632R | J72: SIGNAL'ACIER 16 A 32MM - ROUGE | K72: SACH | L72: D | M72: 20080409 | O72: 224
A73: 5 | B73: PONT-SAINTE-MARIE (Usine) | C73: 0 | D73: MS003 | E73: SEC | F73: 205 | G73: USI | H73: 5498 | I73: CAPORA1632O | J73: CAPORANGE 16 A 32MM - ORANGE | K73: SACH | L73: D | M73: 20080409 | O73: 42
A74: 5 | B74: PONT-SAINTE-MARIE (Usine) | C74: 0 | D74: MS003 | E74: PRE | F74: 410 | G74: USI | H74: 5541 | I74: DRAUF4G | J74: CAPUCHON DRAUF 4 LONG | K74: SACH | L74: D | M74: 19960927 | O74: 52
A75: 5 | B75: PONT-SAINTE-MARIE (Usine) | C75: 0 | D75: MS003 | E75: CAL | F75: 5 | G75: USI | H75: 6007 | I75: MINFIX20G | J75: MIN'FIX 20 - GRIS | K75: SAC | L75: D | M75: 19961105 | O75: 49
A76: 5 | B76: PONT-SAINTE-MARIE (Usine) | C76: 0 | D76: MS003 | E76: CAL | F76: 5 | G76: USI | H76: 6008 | I76: MINFIX25G | J76: MIN'FIX 25 - GRIS | K76: SAC | L76: D | M76: 19961105 | O76: 22
A77: 5 | B77: PONT-SAINTE-MARIE (Usine) | C77: 0 | D77: MS003 | E77: CAL | F77: 5 | G77: USI | H77: 6009 | I77: MINFIX30G | J77: MIN'FIX 30 - GRIS | K77: SAC | L77: D | M77: 19961105 | O77: 527
A78: 5 | B78: PONT-SAINTE-MARIE (Usine) | C78: 0 | D78: MS003 | E78: CAL | F78: 5 | G78: USI | H78: 6017 | I78: MINFIX40G | J78: MIN'FIX 40 - GRIS | K78: SAC | L78: D | M78: 19961105 | O78: 347
A79: 5 | B79: PONT-SAINTE-MARIE (Usine) | C79: 0 | D79: MS003 | E79: CAL | F79: 5 | G79: USI | H79: 6018 | I79: MINFIX50G | J79: MIN'FIX 50 - GRIS | K79: SAC | L79: D | M79: 19961105 | O79: 528
A80: 5 | B80: PONT-SAINTE-MARIE (Usine) | C80: 0 | D80: MS003 | E80: CAL | F80: 5 | G80: USI | H80: 6020 | I80: MULTIF420G | J80: MULTIFER 4-10/20 - GRIS | K80: SAC | L80: D | M80: 19961105 | O80: 3
A81: 5 | B81: PONT-SAINTE-MARIE (Usine) | C81: 0 | D81: MS003 | E81: CAL | F81: 5 | G81: USI | H81: 6025 | I81: MULTIF425G | J81: MULTIFER 4-10/25 - GRIS | K81: SAC | L81: D | M81: 19961105 | O81: 3
A82: 5 | B82: PONT-SAINTE-MARIE (Usine) | C82: 0 | D82: MS003 | E82: CAL | F82: 5 | G82: USI | H82: 6030 | I82: MULTIF430G | J82: MULTIFER 4-10/30 - GRIS | K82: SAC | L82: D | M82: 19961105 | O82: 12
A83: 5 | B83: PONT-SAINTE-MARIE (Usine) | C83: 0 | D83: MS003 | E83: CAL | F83: 5 | G83: USI | H83: 6040 | I83: MULTIF440G | J83: MULTIFER 4-10/40 - GRIS | K83: SAC | L83: D | M83: 19961105 | O83: 7
... A145: 5 | B145: PONT-SAINTE-MARIE (Usine) | C145: 0 | D145: MS003 | E145: CAL | F145: 5 | G145: USI | H145: 17955 | I145: CALTOU20GC | J145: CALTOUT 20 - GRIS CLAIR | K145: SAC | L145: D | M145: 20041126 | O145: 18
