Workbook
Name ATS: ATS!$1:$1048576
Name PEL: PEL!$A$2:$F$315

Sheet Planning 
B3: Compagnie à Auditer | C3: Spécialité | D3: Domaine | E3: Catégorie | F3: Nom des taches | G3: Code de tache | H3: Lieu | I3: Date début | J3: Date Fin | K3: Nbre de jrs | L3: Equipe d'Auditers | M3: N° Checklist d’audit | N3: Alerte
B4: Compagnie 1 | C4: Une liste déroulante qui permet de selectionner une feuille de spécialité Exp: OPS | D4: Domaine N1 | E4: Catégorie 1.1 | F4: Tache 1.1.1 | G4: Code de la tache | N4: Code couleur avertissant à l'approche de la réalisation de la tache 90 jours vers 60 Jours Jaune 30 Jours Rouge
F5: Tache 1.1.2
F6: Tache 1.1.3
F7: Tache 1.1.n
E8: Catégorie 1.2 | F8: Tache 1.2.1
F9: Tache 1.2.2
F10: Tache 1.2.3
F11: Tache 1.2.4
F12: Tache 1.2.n
E13: Catégorie 1.3
E15: Catégorie 1.4
D16: Domaine N2 | E16: Catégorie 2.1
E17: Catégorie 2.2
E18: Catégorie 2.5
D19: Domaine N…..

Sheet Feuil3

Sheet Données
B3: Compagnie à Auditer | D3: Nom des Auditeurs | F3: Spécialité | H3: Checklist
B4: Compagnie 1 | D4: Auditeur 1 | F4: OPS | H4: Checklist 1
B5: Compagnie 2 | D5: Auditeur 2 | F5: AIR | H5: Checklist 2
B6: Compagnie 3 | D6: Auditeur 3 | F6: PEL | H6: Checklist 3
B7: Compagnie 4 | D7: Auditeur 4 | F7: AGA | H7: Checklist 4
B8: Compagnie 5 | D8: Auditeur 5 | F8: MET | H8: Checklist 5
B9: Compagnie 6 | D9: Auditeur 6 | F9: ATS | H9: Checklist 6
B10: Compagnie 7 | D10: Auditeur 7 | F10: ANT | H10: Checklist 7
B11: Compagnie 8 | D11: Auditeur 8 | F11: AIS | H11: Checklist 8
B12: Compagnie 9 | D12: Auditeur 9 | H12: Checklist 9
B13: Compagnie 10 | D13: Auditeur 10 | H13: Checklist 10
B14: Compagnie 11 | D14: Auditeur 11 | H14: Checklist 11
B15: Compagnie 12 | D15: Auditeur 12 | H15: Checklist 12
B16: Compagnie 13 | D16: Auditeur 13 | H16: Checklist 13
B17: Compagnie 14 | D17: Auditeur 14 | H17: Checklist 14
B18: Compagnie 15 | D18: Auditeur 15 | H18: Checklist 15
B19: Compagnie 16 | D19: Auditeur 16 | H19: Checklist 16
B20: Compagnie 17 | D20: Auditeur 17 | H20: Checklist 17
B21: Compagnie 18 | D21: Auditeur 18 | H21: Checklist 18
B22: Compagnie 19 | D22: Auditeur 19 | H22: Checklist 19
B23: Compagnie 20 | D23: Auditeur 20 | H23: Checklist 20
D24: Auditeur 21 | H24: Checklist 21
D25: Auditeur 22 | H25: Checklist 22
D26: Auditeur 23 | H26: Checklist 23
D27: Auditeur 24 | H27: Checklist 24
D28: Auditeur 25 | H28: Checklist 25
D29: Auditeur 26 | H29: Checklist 26
D30: Auditeur 27 | H30: Checklist 27
D31: Auditeur 28 | H31: Checklist 28
D32: Auditeur 29 | H32: Checklist 29
D33: Auditeur 30 | H33: Checklist 30

Sheet OPS
A1: Operations (OPS)
A2: SN | B2: Domain | C2: Category | D2: Course Number | E2: Job Task Name | F2: Job Task #
A3: 1 | B3: Indoctrination OPS | C3: New Employee Orientation - OPS | D3: 1001 | E3: Employee Benefits | F3: 1.001 | G3: Avantages sociaux
A4: 2 | D4: 1001 | E4: Time and Attendance | F4: 1.002 | G4: Temps et présence
A5: 3 | D5: 1001 | E5: Employee Training and Development | F5: 1.003 | G5: Formation et perfectionnement des employés
A6: 4 | D6: 1001 | E6: Office Communications | F6: 1.004 | G6: Communications de bureau
A7: 5 | D7: 1001 | E7: Computer Systems | F7: 1.005 | G7: Systèmes informatiques
A8: 6 | D8: 1001 | E8: Managing Resources | F8: 1.006 | G8: Gestion des ressources
A9: 7 | D9: 1001 | E9: Employee Ethics | F9: 1.007 | G9: Ethique des employés
A10: 8 | D10: 1001 | E10: Labor Unions | F10: 1.008 | G10: Syndicats
A11: 9 | D11: 1001 | E11: Conduct and Discipline | F11: 1.009 | G11: Conduite et discipline
A12: 10 | D12: 1001 | E12: Travel | F12: 1.010 | G12: Voyage
A13: 11 | D13: 1001 | E13: Security | F13: 1.011 | G13: Sécurité
A14: 12 | D14: 1001 | E14: Legal and Regulatory Documents, Inspector Manuals and Guidance Materials. | F14: 1.012 | G14: Documents juridiques et réglementaires, manuels de l'inspecteur et documents d'orientation.
A15: 13 | D15: 1001 | E15: Aviation Environment | F15: 1.013 | G15: Environnement aéronautique
A16: 14 | B16: Certification OPS | C16: Air Operator Certification - Operations | D16: 2001 | E16: Cert Phase I: Pre Application Phase - (Gate I) | F16: 2.001 | G16: Cert Phase I: Phase préalable à la demande - (Porte I)
A17: 15 | D17: 2003 | E17: Cert Phase II: Formal Application Phase - (Gate I) | F17: 2.002 | G17: Cert Phase II: Phase d'application formelle - (Porte I)
A18: 16 | D18: 2003 | E18: Cert Phase III: Document Compliance Phase | F18: 2.003 | G18: Cert Phase III: Phase de conformité du document
A19: 17 | D19: 2003 | E19: Cert Phase IV: Demonstration and Inspection Phase (Gate III) | F19: 2.004 | G19: Cert Phase IV: Phase de démonstration et d'inspection (Porte III)
A20: 18 | D20: 2003 | E20: Cert Phase V: Certification Phase | F20: 2.005 | G20: Cert Phase V: Phase de certification
A21: 19 | D21: 2003 | E21: Conduct Certification of an Agriculture Aircraft Operator | F21: 2.006 | G21: Certification de conduite d'un exploitant d'aéronef agricole
A22: 20 | D22: 2003 | E22: Conduct Administrative Activities for an Air Carrier Operator Applicant | F22: 2.007 | G22: Mener des activités administratives pour un candidat exploitant de transporteur aérien
A23: 21 | D23: 2003 | E23: Evaluate a Compliance Statement | F23: 2.008 | G23: Évaluer une déclaration de conformité
A24: 22 | D24: 2003 | E24: Evaluate a General Operations Manual | F24: 2.009 | G24: Évaluer un manuel d'exploitation général
A25: 23 | D25: 2001 | E25: Approve a Flight Crew Training Program [OPS] | F25: 2.010 | G25: Approuver un programme de formation d'équipage de conduite [OPS]
A26: 24 | D26: 2003 | E26: Add an Aircraft to an Existing Air Carrier Operating Certificate | F26: 2.011 | G26: Ajouter un aéronef à un certificat d'exploitation de transporteur aérien existant
A27: 25 | D27: 2001 | E27: Approve an Aircraft Checklist | F27: 2.013 | G27: Approuver une liste de contrôle de l'aéronef
A28: 26 | D28: 2001 | E28: Approve an Exit Row Seating Program [OPS] | F28: 2.014 | G28: Approuver un programme de places assises en sortie [OPS]
... A76: 74 | D76: 2003 | E76: Conduct a Validation Test | F76: 2.063 | G76: Effectuer un test de validation
A77: 75 | B77: Surveillance OPS | C77: Air Operator Surveillance - Operations | D77: 3003 | E77: Plan a Surveillance Work Program | F77: 3.001 | G77: Planifier un programme de travail de surveillance
A78: 76 | D78: 3003 | E78: Conduct an Ultralight Ramp Inspection | F78: 3.002 | G78: Effectuer une inspection de la rampe ultra-légère
A79: 77 | D79: 3003 | E79: Conduct an Airplane Ramp Inspection | F79: 3.003 | G79: Effectuer une inspection de la rampe de l'avion
A80: 78 | D80: 3003 | E80: Conduct a Cabin En-route Inspection | F80: 3.004 | G80: Effectuer une inspection de cabine en cabine
A81: 79 | D81: 3003 | E81: Conduct a Cockpit En-route Inspection | F81: 3.005 | G81: Effectuer une inspection en route du poste de pilotage
A82: 80 | D82: 3001 | E82: Inspect a Line Station Operation and Facilities [OPS] | F82: 3.006 | G82: Inspecter le fonctionnement et les installations d'un poste en ligne [OPS]
A83: 81 | D83: 3001 | E83: Inspect Trip Records [OPS] | F83: 3.007 | G83: Inspecter les enregistrements de voyage [OPS]
A84: 82 | D84: 3001 | E84: Inspect Crew and Dispatch Records [OPS] | F84: 3.008 | G84: Inspecter les dossiers d’équipage et de répartition [OPS]
A85: 83 | D85: 3001 | E85: Inspect a Check Airman [OPS] | F85: 3.009 | G85: Inspecter un aviateur-vérificateur [OPS]
A86: 84 | D86: 3001 | E86: Inspect a Main Operation Base [OPS] | F86: 3.010 | G86: Inspecter une base d'opération principale [OPS]
A87: 85 | D87: 3003 | E87: Inspect During Bankruptcy, Strike, or Merger | F87: 3.011 | G87: Inspecter pendant une faillite, une grève ou une fusion
...

Sheet AIR
A1: Airworthiness (AIR)
A2: =OPS!A2 -> SN | B2: =OPS!B2 -> Domain | C2: =OPS!C2 -> Category | D2: =OPS!D2 -> Course Number | E2: =OPS!E2 -> Job Task Name | F2: =OPS!F2 -> Job Task # | G2: Specialité - Domaine - Catégorie
A3: 1 | B3: Indoctrination AIR | C3: New Employee Orientation - AIR | D3: 1001 | E3: Employee Benefits | F3: 1.001 | G3: Avantages sociaux
A4: 2 | D4: 1001 | E4: Time and Attendance | F4: 1.002 | G4: Temps et présence
A5: 3 | D5: 1001 | E5: Employee Training and Development | F5: 1.003 | G5: Formation et perfectionnement des employés
A6: 4 | D6: 1001 | E6: Office Communications | F6: 1.004 | G6: Communications de bureau
A7: 5 | D7: 1001 | E7: Computer Systems | F7: 1.005 | G7: Systèmes informatiques
A8: 6 | D8: 1001 | E8: Managing Resources | F8: 1.006 | G8: Gestion des ressources
A9: 7 | D9: 1001 | E9: Employee Ethics | F9: 1.007 | G9: Ethique des employés
A10: 8 | D10: 1001 | E10: Labor Unions | F10: 1.008 | G10: Syndicats
A11: 9 | D11: 1001 | E11: Conduct and Discipline | F11: 1.009 | G11: Conduite et discipline
A12: 10 | D12: 1001 | E12: Travel | F12: 1.010 | G12: Voyage
A13: 11 | D13: 1001 | E13: Security | F13: 1.011 | G13: Sécurité
A14: 12 | D14: 1001 | E14: Legal and Regulatory Documents, Inspector Manuals and Guidance Materials. | F14: 1.012 | G14: Documents juridiques et réglementaires, manuels de l'inspecteur et documents d'orientation.
A15: 13 | D15: 1001 | E15: Aviation Environment | F15: 1.013 | G15: Environnement aéronautique
A16: 14 | B16: Certification AIR | C16: Air Operator Certification - Airworthiness | D16: 2003 | E16: Cert Phase I: Pre Application Phase - (Gate I) | F16: 2.001 | G16: Cert Phase I: Phase préalable à la demande - (Porte I)
A17: 15 | D17: 2003 | E17: Cert Phase II: Formal Application Phase - (Gate I) | F17: 2.002 | G17: Cert Phase II: Phase d'application formelle - (Porte I)
A18: 16 | D18: 2003 | E18: Cert Phase III: Document Compliance Phase | F18: 2.003 | G18: Cert Phase III: Phase de conformité du document
A19: 17 | D19: 2003 | E19: Cert Phase IV: Demonstration and Inspection Phase (Gate III) | F19: 2.004 | G19: Cert Phase IV: Phase de démonstration et d'inspection (Porte III)
A20: 18 | D20: 2003 | E20: Cert Phase V: Certification Phase | F20: 2.005 | G20: Cert Phase V: Phase de certification
A21: 19 | D21: 2003 | E21: Conduct Certification of an Agriculture Aircraft Operator | F21: 2.006 | G21: Certification de conduite d'un exploitant d'aéronef agricole
A22: 20 | D22: 2003 | E22: Conduct Administrative Activities for an Air Carrier Operator Applicant | F22: 2.007 | G22: Mener des activités administratives pour un candidat exploitant de transporteur aérien
A23: 21 | D23: 2003 | E23: Evaluate a Compliance Statement | F23: 2.008 | G23: Évaluer une déclaration de conformité
A24: 22 | D24: 2003 | E24: Evaluate a General Operations Manual | F24: 2.009 | G24: Évaluer un manuel d'exploitation général
A25: 23 | D25: 2003 | E25: Approve a Maintenance or Inspector Training Program [AIR] | F25: 2.010 | G25: Approuver un programme de formation d'entretien ou d'inspecteur [AIR]
A26: 24 | D26: 2003 | E26: Add an Aircraft to an Existing Air Carrier Operating Certificate | F26: 2.011 | G26: Ajouter un aéronef à un certificat d'exploitation de transporteur aérien existant
A27: 25 | D27: 2003 | E27: Conduct an Aircraft Conformity Inspection [AIR] | F27: 2.012 | G27: Effectuer une inspection de conformité d'aéronef [AIR]
A28: 26 | D28: 2003 | E28: Evaluate Control of Calibrated Tools and Equipment [AIR] | F28: 2.013 | G28: Évaluer le contrôle des outils et équipements étalonnés [AIR]
... A62: 60 | D62: 2003 | E62: Conduct a Validation Test | F62: 2.063 | G62: Effectuer un test de validation
A63: 61 | C63: Aircraft Maintenance Organizations | D63: 2303 | E63: Certificate an AMO [AIR] | F63: 2.301 | G63: Certificat d'un OMA [AIR]
A64: 62 | D64: 2303 | E64: Evaluate AMO Facilities and Equipment [AIR] | F64: 2.302 | G64: Évaluer les installations et équipements AMO [AIR]
A65: 63 | D65: 2303 | E65: Evaluate AMO inspection Procedures Manual [AIR] | F65: 2.303 | G65: Évaluer le manuel de procédures d'inspection AMO [AIR]
A66: 64 | D66: 2303 | E66: Approve an AMO Training Program [AIR] | F66: 2.304 | G66: Approuver un programme de formation AMO [AIR]
A67: 65 | D67: 2303 | E67: Inspect AMO Personnel Records [AIR] | F67: 2.305 | G67: Inspecter les dossiers du personnel AMO [AIR]
A68: 66 | D68: 2303 | E68: Approve and Altimeter Setting Source [AIR] | F68: 2.306 | G68: Source d'approbation et de réglage de l'altimètre [AIR]
A69: 67 | D69: 2303 | E69: Inspect Foreign AMO [AIR] | F69: 2.307 | G69: Inspecter un OMA étranger [AIR]
A70: 68 | D70: 2303 | E70: Inspect a Repairman [AIR] | F70: 2.308 | G70: Inspecter un réparateur [AIR]
A71: 69 | B71: Surveillance AIR | C71: Air Operator Surveillance - Airworthiness | D71: 3003 | E71: Plan a Surveillance Work Program | F71: 3.001 | G71: Planifier un programme de travail de surveillance
A72: 70 | D72: 3003 | E72: Conduct an Ultralight Ramp Inspection | F72: 3.002 | G72: Effectuer une inspection de la rampe ultra-légère
A73: 71 | D73: 3003 | E73: Conduct an Airplane Ramp Inspection | F73: 3.003 | G73: Effectuer une inspection de la rampe de l'avion
...

Sheet PEL
A1: Personnel Licensing (PEL)
A2: =OPS!A2 -> SN | B2: =OPS!B2 -> Domain | C2: =OPS!C2 -> Category | D2: =OPS!D2 -> Course Number | E2: =OPS!E2 -> Job Task Name | F2: =OPS!F2 -> Job Task #
A3: 1 | B3: Indoctrination PEL | C3: New Employee Orientation - PEL | D3: 1001 | E3: Employee Benefits | F3: 1.001 | G3: Employee Benefits
A4: 2 | D4: 1001 | E4: Time and Attendance | F4: 1.002 | G4: Time and Attendance
A5: 3 | D5: 1001 | E5: Employee Training and Development | F5: 1.003 | G5: Employee Training and Development
A6: 4 | D6: 1001 | E6: Office Communications | F6: 1.004 | G6: Office Communications
A7: 5 | D7: 1001 | E7: Computer Systems | F7: 1.005 | G7: Computer Systems
A8: 6 | D8: 1001 | E8: Managing Resources | F8: 1.006 | G8: Managing Resources
A9: 7 | D9: 1001 | E9: Employee Ethics | F9: 1.007 | G9: Employee Ethics
A10: 8 | D10: 1001 | E10: Labor Unions | F10: 1.008 | G10: Labor Unions
A11: 9 | D11: 1001 | E11: Conduct and Discipline | F11: 1.009 | G11: Conduct and Discipline
A12: 10 | D12: 1001 | E12: Travel | F12: 1.010 | G12: Travel
A13: 11 | D13: 1001 | E13: Security | F13: 1.011 | G13: Security
A14: 12 | D14: 1001 | E14: Legal and Regulatory Documents, Inspector Manuals and Guidance Materials. | F14: 1.012 | G14: Legal and Regulatory Documents, Inspector Manuals and Guidance Materials.
A15: 13 | D15: 1001 | E15: Aviation Environment | F15: 1.013 | G15: Aviation Environment
A16: 14 | B16: Certification PEL | C16: Air Operator Certification - PEL | D16: 2001 | E16: Cert Phase I: Pre Application Phase - (Gate I) | F16: 2.001 | G16: Cert Phase I: Pre Application Phase - (Gate I)
A17: 15 | D17: 2001 | E17: Cert Phase II: Formal Application Phase - (Gate I) | F17: 2.002 | G17: Cert Phase II: Formal Application Phase - (Gate I)
A18: 16 | D18: 2001 | E18: Cert Phase III: Document Compliance Phase | F18: 2.003 | G18: Cert Phase III: Document Compliance Phase
A19: 17 | D19: 2001 | E19: Cert Phase IV: Demonstration and Inspection Phase (Gate III) | F19: 2.004 | G19: Cert Phase IV: Demonstration and Inspection Phase (Gate III)
A20: 18 | D20: 2001 | E20: Cert Phase V: Certification Phase | F20: 2.005 | G20: Cert Phase V: Certification Phase
A21: 19 | D21: 2001 | E21: Conduct Certification of an Agriculture Aircraft Operator | F21: 2.006 | G21: Conduct Certification of an Agriculture Aircraft Operator
A22: 20 | D22: 2001 | E22: Conduct Administrative Activities for an Air Carrier Operator Applicant | F22: 2.007 | G22: Conduct Administrative Activities for an Air Carrier Operator Applicant
A23: 21 | D23: 2001 | E23: Evaluate a Compliance Statement | F23: 2.008 | G23: Evaluate a Compliance Statement
A24: 22 | D24: 2001 | E24: Evaluate a General Operations Manual | F24: 2.009 | G24: Evaluate a General Operations Manual
A25: 23 | D25: 2001 | E25: Approve a Flight Crew Training Program [OPS] | F25: 2.010 | G25: Approve a Flight Crew Training Program [OPS]
A26: 24 | D26: 2001 | E26: Add an Aircraft to an Existing Air Carrier Operating Certificate | F26: 2.011 | G26: Add an Aircraft to an Existing Air Carrier Operating Certificate
A27: 25 | D27: 2001 | E27: Approve an Aircraft Checklist | F27: 2.013 | G27: Approve an Aircraft Checklist
A28: 26 | D28: 2001 | E28: Approve an Exit Row Seating Program [OPS] | F28: 2.014 | G28: Approve an Exit Row Seating Program [OPS]
... A76: 74 | D76: 2001 | E76: Conduct a Validation Test | F76: 2.063 | G76: Conduct a Validation Test
A77: 75 | B77: Surveillance PEL | C77: Air Operator Surveillance - PEL | D77: 3001 | E77: Plan a Surveillance Work Program | F77: 3.001 | G77: Plan a Surveillance Work Program
A78: 76 | D78: 3001 | E78: Plan a Surveillance Work Program | F78: 3.001 | G78: Plan a Surveillance Work Program
A79: 77 | D79: 3001 | E79: Conduct an Ultralight Ramp Inspection | F79: 3.002 | G79: Conduct an Ultralight Ramp Inspection
A80: 78 | D80: 3001 | E80: Conduct an Airplane Ramp Inspection | F80: 3.003 | G80: Conduct an Airplane Ramp Inspection
A81: 79 | D81: 3001 | E81: Conduct a Cabin En-route Inspection | F81: 3.004 | G81: Conduct a Cabin En-route Inspection
A82: 80 | D82: 3001 | E82: Conduct a Cockpit En-route Inspection | F82: 3.005 | G82: Conduct a Cockpit En-route Inspection
A83: 81 | D83: 3001 | E83: Inspect a Line Station Operation and Facilities [OPS] | F83: 3.006 | G83: Inspect a Line Station Operation and Facilities [OPS]
A84: 82 | D84: 3001 | E84: Inspect Trip Records [OPS] | F84: 3.007 | G84: Inspect Trip Records [OPS]
A85: 83 | D85: 3001 | E85: Inspect Crew and Dispatch Records [OPS] | F85: 3.008 | G85: Inspect Crew and Dispatch Records [OPS]
A86: 84 | D86: 3001 | E86: Inspect a Check Airman [OPS] | F86: 3.009 | G86: Inspect a Check Airman [OPS]
A87: 85 | D87: 3001 | E87: Inspect a Main Operation Base [OPS] | F87: 3.010 | G87: Inspect a Main Operation Base [OPS]
...

Sheet AGA
A1: Aerodromes (AGA)
A2: =OPS!A2 -> SN | B2: =OPS!B2 -> Domain | C2: =OPS!C2 -> Category | D2: =OPS!D2 -> Course Number | E2: =OPS!E2 -> Job Task Name | F2: =OPS!F2 -> Job Task #
A3: 1 | B3: Indoctrination AGA | C3: New Employee Orientation - AGA | D3: 1001 | E3: Employee Benefits | F3: 1.001 | G3: Avantages sociaux
A4: 2 | D4: 1001 | E4: Time and Attendance | F4: 1.002 | G4: Temps et présence
A5: 3 | D5: 1001 | E5: Employee Training and Development | F5: 1.003 | G5: Formation et perfectionnement des employés
A6: 4 | D6: 1001 | E6: Office Communications | F6: 1.004 | G6: Communications de bureau
A7: 5 | D7: 1001 | E7: Computer Systems | F7: 1.005 | G7: Systèmes informatiques
A8: 6 | D8: 1001 | E8: Managing Resources | F8: 1.006 | G8: Gestion des ressources
A9: 7 | D9: 1001 | E9: Employee Ethics | F9: 1.007 | G9: Ethique des employés
A10: 8 | D10: 1001 | E10: Labor Unions | F10: 1.008 | G10: Syndicats
A11: 9 | D11: 1001 | E11: Conduct and Discipline | F11: 1.009 | G11: Conduite et discipline
A12: 10 | D12: 1001 | E12: Travel | F12: 1.010 | G12: Voyage
A13: 11 | D13: 1001 | E13: Security | F13: 1.011 | G13: Sécurité
A14: 12 | D14: 1001 | E14: Legal and Regulatory Documents, Inspector Manuals and Guidance Materials. | F14: 1.012 | G14: Documents juridiques et réglementaires, manuels de l'inspecteur et documents d'orientation.
A15: 13 | D15: 1001 | E15: Aviation Environment | F15: 1.013 | G15: Environnement aéronautique
A16: 14 | B16: Certification AGA | C16: Aerodrome Certification and Audit Techniques | D16: 2002 | E16: Cert Phase I: Pre-application Phase | F16: 2.001 | G16: Cert Phase I: Phase de pré-application
A17: 15 | D17: 2002 | E17: Cert Phase II: Formal Application Phase and Document Evaluation Phase | F17: 2.002 | G17: Cert Phase II: Phase de demande officielle et phase d'évaluation de document
A18: 16 | D18: 2002 | E18: Cert Phase III: Demonstration and Inspection Phase | F18: 2.003 | G18: Cert Phase III: Phase de démonstration et d'inspection
A19: 17 | D19: 2002 | E19: Cert Phase IV: Certification Phase | F19: 2.004 | G19: Cert Phase IV: Phase de certification
A20: 18 | D20: 2002 | E20: Cert Phase V: Promulgation Phase | F20: 2.005 | G20: Cert Phase V: Phase de promulgation
A21: 19 | D21: 2002 | E21: Evaluate an Aerodrome Operations Manual | F21: 2.006 | G21: Évaluer un manuel d'exploitation d'aérodrome
A22: 20 | D22: 2002 | E22: Process a Request for Amendment of an Aerodrome Certificate | F22: 2.007 | G22: Traiter une demande de modification d'un certificat d'aérodrome
A23: 21 | D23: 2002 | E23: Process a Request for the Transfer of an Aerodrome Certificate | F23: 2.008 | G23: Traiter une demande de transfert d'un certificat d'aérodrome
A24: 22 | D24: 2002 | E24: Process a Request for the Surrender of an Aerodrome Certificate | F24: 2.009 | G24: Traiter une demande de remise d'un certificat d'aérodrome
A25: 23 | D25: 2002 | E25: Process and Exemption,Deviation or Waiver Request | F25: 2.010 | G25: Processus et demande d'exemption, de dérogation ou de renonciation
A26: 24 | D26: 2002 | E26: Evaluate an Aerodrome Reporting System | F26: 2.011 | G26: Évaluer un système de compte rendu d'aérodrome
A27: 25 | D27: 2002 | E27: Evaluate Airside Pavements and Safety Areas | F27: 2.012 | G27: Évaluer les chaussées côté piste et les zones de sécurité
A28: 26 | D28: 2002 | E28: Evaluate Aerodrome Visual Aids | F28: 2.013 | G28: Évaluer les aides visuelles aux aérodromes
... A50: 48 | D50: 2002 | E50: Evaluate a Ground Handling Operations Personnel Training Programme | F50: 2.035 | G50: Évaluer un programme de formation du personnel des opérations d'assistance au sol
A51: 49 | C51: Heliport Certification | D51: 2102 | E51: Certification of a Heliport | F51: 2.101 | G51: Certification d'un héliport
A52: 50 | D52: 2102 | E52: Evaluate Heliport Facilities and RFFS | F52: 2.102 | G52: Évaluer les installations d'héliport et RFFS
A53: 51 | D53: 2102 | E53: Evaluate a Heliport Operations Manual | F53: 2.103 | G53: Évaluer un manuel d'exploitation d'héliport
A54: 52 | D54: 2102 | E54: Evaluate a Heliport Operations Personnel Training Program | F54: 2.104 | G54: Évaluer un programme de formation du personnel des opérations d'héliport
A55: 53 | B55: Surveillance AGA | C55: Aerodrome Surveillance | D55: 3002 | E55: Plan a Surveillance Work Program | F55: 3.001 | G55: Planifier un programme de travail de surveillance
A56: 54 | D56: 3002 | E56: Conduct an Aircraft Fueling Inspection | F56: 3.002 | G56: Effectuer une inspection de ravitaillement d'aéronef
A57: 55 | D57: 3002 | E57: Inspect a Response Test | F57: 3.003 | G57: Inspecter un test de réponse
A58: 56 | D58: 3002 | E58: Inspect a Partial Emergency Exercise | F58: 3.004 | G58: Inspecter un exercice partiel d'urgence
A59: 57 | D59: 3002 | E59: Inspect a Friction Test/ Records | F59: 3.005 | G59: Inspecter un test de friction / des enregistrements
A60: 58 | D60: 3002 | E60: Inspect a Pavement Strength Report | F60: 3.006 | G60: Inspecter un rapport sur la résistance de la chaussée
A61: 59 | D61: 3002 | E61: Inspect an Aerodrome Works | F61: 3.007 | G61: Inspecter un ouvrage d'aérodrome
...

Sheet MET
A1: Aeronautical Meteorology (MET)
A2: =OPS!A2 -> SN | B2: =OPS!B2 -> Domain | C2: =OPS!C2 -> Category | D2: =OPS!D2 -> Course Number | E2: =OPS!E2 -> Job Task Name | F2: =OPS!F2 -> Job Task #
A3: 1 | B3: Indoctrination MET | C3: New Employee Orientation - AEROMET | D3: 1001 | E3: Employee Benefits | F3: 1.001 | G3: Avantages sociaux
A4: 2 | D4: 1001 | E4: Time and Attendance | F4: 1.002 | G4: Temps et présence
A5: 3 | D5: 1001 | E5: Employee Training and Development | F5: 1.003 | G5: Formation et perfectionnement des employés
A6: 4 | D6: 1001 | E6: Office Communications | F6: 1.004 | G6: Communications de bureau
A7: 5 | D7: 1001 | E7: Computer Systems | F7: 1.005 | G7: Systèmes informatiques
A8: 6 | D8: 1001 | E8: Managing Resources | F8: 1.006 | G8: Gestion des ressources
A9: 7 | D9: 1001 | E9: Employee Ethics | F9: 1.007 | G9: Ethique des employés
A10: 8 | D10: 1001 | E10: Labor Unions | F10: 1.008 | G10: Syndicats
A11: 9 | D11: 1001 | E11: Conduct and Discipline | F11: 1.009 | G11: Conduite et discipline
A12: 10 | D12: 1001 | E12: Travel | F12: 1.010 | G12: Voyage
A13: 11 | D13: 1001 | E13: Security | F13: 1.011 | G13: Sécurité
A14: 12 | D14: 1001 | E14: Legal and Regulatory Documents, Inspector Manuals and Guidance Materials. | F14: 1.012 | G14: Documents juridiques et réglementaires, manuels de l'inspecteur et documents d'orientation.
A15: 13 | D15: 1001 | E15: Aviation Environment | F15: 1.013 | G15: Environnement aéronautique
A16: 14 | B16: Certification MET | C16: Aeronautical Meteorology Service Provider Certification | D16: 2005 | E16: Cert Phase I: Pre-application Phase | F16: 2.001 | G16: Cert Phase I: Phase de pré-application
A17: 15 | D17: 2005 | E17: Cert Phase II: Formal Application Phase | F17: 2.002 | G17: Cert Phase II: Phase d'application formelle
A18: 16 | D18: 2005 | E18: Cert Phase III: Document Evaluation Phase | F18: 2.003 | G18: Cert Phase III: Phase d'évaluation du document
A19: 17 | D19: 2005 | E19: Cert Phase IV: Demonstration and Inspection Phase | F19: 2.004 | G19: Cert Phase IV: Phase de démonstration et d'inspection
A20: 18 | D20: 2005 | E20: Cert Phase V: Certification Phase | F20: 2.005 | G20: Cert Phase V: Phase de certification
A21: 19 | D21: 2005 | E21: Evaluate a AeroMet Provider Operations Manual | F21: 2.006 | G21: Évaluer un manuel d'exploitation du fournisseur AeroMet
A22: 20 | D22: 2005 | E22: Evaluate Record Keeping System | F22: 2.007 | G22: Évaluer le système de tenue des dossiers
A23: 21 | D23: 2005 | E23: Evaluate Training and Checking Program | F23: 2.008 | G23: Évaluation du programme de formation et de contrôle
A24: 22 | D24: 2005 | E24: Evaluate Document Management | F24: 2.009 | G24: Évaluer la gestion de documents
A25: 23 | D25: 2005 | E25: Evaluate Fault and Defect Reporting System | F25: 2.010 | G25: Évaluer le système de signalisation des anomalies et des défauts
A26: 24 | D26: 2005 | E26: Evaluate Security Plan | F26: 2.011 | G26: Évaluer le plan de sécurité
A27: 25 | D27: 2005 | E27: Evaluate Service Provider Quality System | F27: 2.012 | G27: Évaluer le système qualité du fournisseur de services
A28: 26 | D28: 2005 | E28: Evaluate Contingency Plan | F28: 2.013 | G28: Évaluer le plan d'urgence
... A61: 59 | D61: 2005 | E61: Evaluate Coordination with Non AeroMet Meteorological Services | F61: 2.046 | G61: Évaluer la coordination avec les services météorologiques non AeroMet
A62: 60 | C62: Aeronautical Meteorology Facilities Certification | D62: 2105 | E62: Certificate an AeroMet Facility | F62: 2.101 | G62: Certificat d'une installation AeroMet
A63: 61 | D63: 2105 | E63: Evaluate AeroMet Facilities and Equipment | F63: 2.102 | G63: Évaluer les installations et équipements AeroMet
A64: 62 | D64: 2105 | E64: Evaluate AeroMet Operations Manual | F64: 2.103 | G64: Évaluation du manuel d'exploitation AeroMet
A65: 63 | D65: 2105 | E65: Evaluate AeroMet Personnel Training Program | F65: 2.104 | G65: Évaluation du programme de formation du personnel AeroMet
A66: 64 | D66: 2105 | E66: Evaluate AeroMet Quality System | F66: 2.105 | G66: Évaluer le système qualité AeroMet
A67: 65 | D67: 2105 | E67: Evaluate AeroMet Record Keeping System | F67: 2.106 | G67: Évaluer le système de tenue des registres AeroMet
A68: 66 | B68: Surveillance MET | C68: Aeronautical Meteorology Service Provider Surveillance | D68: 3005 | E68: Plan a Surveillance Work Program | F68: 3.001 | G68: Planifier un programme de travail de surveillance
A69: 67 | D69: 3005 | E69: Inspect AeroMet Service Provider Operations Manual | F69: 3.002 | G69: Inspecter le manuel d'exploitation du fournisseur de services AeroMet
A70: 68 | D70: 3005 | E70: Inspect Facility/Equipment Maintenance Program | F70: 3.003 | G70: Inspecter le programme d'entretien des installations / équipements
A71: 69 | D71: 3005 | E71: Inspect Met Observer Training Program | F71: 3.004 | G71: Programme de formation Inspect Met Observer
A72: 70 | D72: 3005 | E72: Inspect Met Forecaster Training Program | F72: 3.005 | G72: Programme de formation Inspect Met Forecaster
...

Sheet ATS
A1: Air Traffic Services (ATS)
A2: =OPS!A2 -> SN | B2: =OPS!B2 -> Domain | C2: =OPS!C2 -> Category | D2: =OPS!D2 -> Course Number | E2: =OPS!E2 -> Job Task Name | F2: =OPS!F2 -> Job Task #
A3: 1 | B3: Indoctrination ATS | C3: New Employee Orientation - ATS | D3: 1001 | E3: Employee Benefits | F3: 1.001 | G3: Avantages sociaux
A4: 2 | D4: 1001 | E4: Time and Attendance | F4: 1.002 | G4: Temps et présence
A5: 3 | D5: 1001 | E5: Employee Training and Development | F5: 1.003 | G5: Formation et perfectionnement des employés
A6: 4 | D6: 1001 | E6: Office Communications | F6: 1.004 | G6: Communications de bureau
A7: 5 | D7: 1001 | E7: Computer Systems | F7: 1.005 | G7: Systèmes informatiques
A8: 6 | D8: 1001 | E8: Managing Resources | F8: 1.006 | G8: Gestion des ressources
A9: 7 | D9: 1001 | E9: Employee Ethics | F9: 1.007 | G9: Ethique des employés
A10: 8 | D10: 1001 | E10: Labor Unions | F10: 1.008 | G10: Syndicats
A11: 9 | D11: 1001 | E11: Conduct and Discipline | F11: 1.009 | G11: Conduite et discipline
A12: 10 | D12: 1001 | E12: Travel | F12: 1.010 | G12: Voyage
A13: 11 | D13: 1001 | E13: Security | F13: 1.011 | G13: Sécurité
A14: 12 | D14: 1001 | E14: Legal and Regulatory Documents, Inspector Manuals and Guidance Materials. | F14: 1.012 | G14: Documents juridiques et réglementaires, manuels de l'inspecteur et documents d'orientation.
A15: 13 | D15: 1001 | E15: Aviation Environment | F15: 1.013 | G15: Environnement aéronautique
A16: 14 | B16: Certification ATS | C16: Air Traffic Service Provider- Certification | D16: 2007 | E16: Cert Phase I: Pre-application Phase | F16: 2.001 | G16: Cert Phase I: Phase de pré-application
A17: 15 | D17: 2007 | E17: Cert Phase II: Formal Application Phase | F17: 2.002 | G17: Cert Phase II: Phase d'application formelle
A18: 16 | D18: 2007 | E18: Cert Phase III: Document Evaluation Phase | F18: 2.003 | G18: Cert Phase III: Phase d'évaluation du document
A19: 17 | D19: 2007 | E19: Cert Phase IV: Demonstration and Inspection Phase | F19: 2.004 | G19: Cert Phase IV: Phase de démonstration et d'inspection
A20: 18 | D20: 2007 | E20: Cert Phase V: Certification Phase | F20: 2.005 | G20: Cert Phase V: Phase de certification
A21: 19 | D21: 2007 | E21: Evaluate an ATS Provider Operations Manual | F21: 2.006 | G21: Évaluer un manuel d'exploitation du fournisseur ATS
A22: 20 | D22: 2007 | E22: Evaluate Record Keeping System | F22: 2.007 | G22: Évaluer le système de tenue des dossiers
A23: 21 | D23: 2007 | E23: Evaluate Document Management Program | F23: 2.008 | G23: Programme d'évaluation de la gestion de documents
A24: 22 | D24: 2007 | E24: Evaluate Fault and Defect Reporting System | F24: 2.009 | G24: Évaluer le système de signalisation des anomalies et des défauts
A25: 23 | D25: 2007 | E25: Evaluate ATC Facility Maintenance Program | F25: 2.010 | G25: Évaluer le programme de maintenance des installations ATC
A26: 24 | D26: 2007 | E26: Conduct an Initial Control Tower Facility Site Validation /Preconstruction Assessment | F26: 2.011 | G26: Effectuer une évaluation initiale de la validation / de la construction sur le site de la tour de contrôle
A27: 25 | D27: 2007 | E27: Evaluate Control Tower Facility Minimum Equipment List | F27: 2.012 | G27: Évaluer la liste d'équipement minimal des installations de la tour de contrôle
A28: 26 | D28: 2007 | E28: Evaluate Area/Approach Control Facility Minimum Equipment List | F28: 2.013 | G28: Évaluer la liste d'équipement minimal de l'installation de contrôle de zone / approche
... A55: 53 | D55: 2007 | E55: Evaluate ATS Message Handling Program | F55: 2.040 | G55: Évaluation du programme de traitement des messages ATS
A56: 54 | C56: Procedure Design Organization - Certification | D56: 2107 | E56: Certificate/Approve a PDO | F56: 2.101 | G56: Certificat / Approuver un PDO
A57: 55 | D57: 2107 | E57: Evaluate a PDO Facilities and Equipment | F57: 2.102 | G57: Évaluer un AOP Installations et équipements
A58: 56 | D58: 2107 | E58: Evaluate a PDO Operations Manual | F58: 2.103 | G58: Évaluer un manuel d'exploitation PDO
A59: 57 | D59: 2107 | E59: Evaluate a PDO Personnel Training and Checking Program | F59: 2.104 | G59: Évaluer un programme de formation et de contrôle du personnel des AOP
A60: 58 | D60: 2107 | E60: Evaluate the Chief Designers Qualification | F60: 2.105 | G60: Évaluer la qualification des concepteurs en chef
A61: 59 | D61: 2107 | E61: Evaluate PDO Document Management System | F61: 2.106 | G61: Évaluer le système de gestion de documents PDO
A62: 60 | D62: 2107 | E62: Evaluate PDO Record Keeping System | F62: 2.107 | G62: Évaluer le système de tenue des dossiers AOP
A63: 61 | D63: 2107 | E63: Evaluate Flight Procedure Validation Program | F63: 2.108 | G63: Évaluation du programme de validation des procédures de vol
A64: 62 | B64: Surveillance ATS | C64: Air Traffic Service Provider Surveillance | D64: 3007 | E64: Plan a Surveillance Work Program | F64: 3.001 | G64: Planifier un programme de travail de surveillance
A65: 63 | D65: 3007 | E65: Inspect ATS Provider Operations Manual | F65: 3.002 | G65: Inspectez le manuel d'exploitation du fournisseur ATS
A66: 64 | D66: 3007 | E66: Inspect Record Keeping System | F66: 3.003 | G66: Inspecter le système de tenue des dossiers
...

Sheet ANT
A1: Aeronautical Telecommunication Service (ANT)
A2: =OPS!A2 -> SN | B2: =OPS!B2 -> Domain | C2: =OPS!C2 -> Category | D2: =OPS!D2 -> Course Number | E2: =OPS!E2 -> Job Task Name | F2: =OPS!F2 -> Job Task #
A3: 1 | B3: Indoctrination ANT | C3: New Employee Orientation - AEROTEL | D3: 1001 | E3: Employee Benefits | F3: 1.001 | G3: Avantages sociaux
A4: 2 | D4: 1001 | E4: Time and Attendance | F4: 1.002 | G4: Temps et présence
A5: 3 | D5: 1001 | E5: Employee Training and Development | F5: 1.003 | G5: Formation et perfectionnement des employés
A6: 4 | D6: 1001 | E6: Office Communications | F6: 1.004 | G6: Communications de bureau
A7: 5 | D7: 1001 | E7: Computer Systems | F7: 1.005 | G7: Systèmes informatiques
A8: 6 | D8: 1001 | E8: Managing Resources | F8: 1.006 | G8: Gestion des ressources
A9: 7 | D9: 1001 | E9: Employee Ethics | F9: 1.007 | G9: Ethique des employés
A10: 8 | D10: 1001 | E10: Labor Unions | F10: 1.008 | G10: Syndicats
A11: 9 | D11: 1001 | E11: Conduct and Discipline | F11: 1.009 | G11: Conduite et discipline
A12: 10 | D12: 1001 | E12: Travel | F12: 1.010 | G12: Voyage
A13: 11 | D13: 1001 | E13: Security | F13: 1.011 | G13: Sécurité
A14: 12 | D14: 1001 | E14: Legal and Regulatory Documents, Inspector Manuals and Guidance Materials. | F14: 1.012 | G14: Documents juridiques et réglementaires, manuels de l'inspecteur et documents d'orientation.
A15: 13 | D15: 1001 | E15: Aviation Environment | F15: 1.013 | G15: Environnement aéronautique
A16: 14 | B16: Certification ANT | C16: AEROTEL Service Provider Certification | D16: 2006 | E16: Cert Phase I: Pre-application Phase | F16: 2.001 | G16: Cert Phase I: Phase de pré-application
A17: 15 | D17: 2006 | E17: Cert Phase II: Formal Application Phase | F17: 2.002 | G17: Cert Phase II: Phase d'application formelle
A18: 16 | D18: 2006 | E18: Cert Phase III: Document Evaluation Phase | F18: 2.003 | G18: Cert Phase III: Phase d'évaluation du document
A19: 17 | D19: 2006 | E19: Cert Phase IV: Demonstration and Inspection Phase | F19: 2.004 | G19: Cert Phase IV: Phase de démonstration et d'inspection
A20: 18 | D20: 2006 | E20: Cert Phase V: Certification Phase | F20: 2.005 | G20: Cert Phase V: Phase de certification
A21: 19 | D21: 2006 | E21: Evaluate an Operations Manual | F21: 2.006 | G21: Évaluer un manuel d'exploitation
A22: 20 | D22: 2006 | E22: Approve a Test Equipment List | F22: 2.007 | G22: Approuver une liste d'équipement de test
A23: 21 | D23: 2006 | E23: Evaluate Operations and Maintenance Plan | F23: 2.008 | G23: Évaluer les opérations et le plan de maintenance
A24: 22 | D24: 2006 | E24: Evaluate a Document Management System | F24: 2.009 | G24: Évaluer un système de gestion de documents
A25: 23 | D25: 2006 | E25: Evaluate Configuration Recording and Control Process | F25: 2.010 | G25: Évaluer l'enregistrement de la configuration et le processus de contrôle
A26: 24 | D26: 2006 | E26: Evaluate the control process for the design of a new facility or modification to existing facility or service | F26: 2.011 | G26: Évaluer le processus de contrôle pour la conception d'une nouvelle installation ou la modification d'une installation ou d'un service existant
A27: 25 | D27: 2006 | E27: Evaluate Performance Analysis Program | F27: 2.012 | G27: Évaluer le programme d'analyse du rendement
A28: 26 | D28: 2006 | E28: Evaluate Fault and Defect Reporting Procedure | F28: 2.013 | G28: Évaluation de la procédure de compte rendu des fautes et des défauts
... A55: 53 | D55: 2006 | E55: Evaluate a Surveillance Facility (PSR,SSR,SMR,ADS-A,ADS-B) Ground Test Program | F55: 2.040 | G55: Évaluation d'un programme d'essais au sol d'une installation de surveillance (PSR, SSR, SMR, ADS-A, ADS-B)
A56: 54 | C56: Facility Certification/Approval | D56: 2106 | E56: Certificate an Aeronautical Ground / Satellite based communication Facility | F56: 2.101 | G56: Certificat d'installation de communication aéronautique sol / satellite
A57: 55 | D57: 2106 | E57: Certificate a Ground /Satellite Based Navigation Facility | F57: 2.102 | G57: Certificat d'une installation de navigation terrestre / satellite
A58: 56 | D58: 2106 | E58: Certificate a Surveillance Facility | F58: 2.103 | G58: Certificat d'un établissement de surveillance
A59: 57 | D59: 2106 | E59: Evaluate Facility Operations Manual | F59: 2.104 | G59: Évaluer le manuel d'exploitation de l'installation
A60: 58 | D60: 2106 | E60: Evaluate Operations/Mtce Personnel Training Program | F60: 2.105 | G60: Évaluation des opérations / programme de formation du personnel de Mtce
A61: 59 | B61: Surveillance ANT | C61: AEROTEL Service Provider Surveillance | D61: 3006 | E61: Plan a Surveillance Work Program | F61: 3.001 | G61: Planifier un programme de travail de surveillance
A62: 60 | D62: 3006 | E62: Conduct an ILS Facility Inspection | F62: 3.002 | G62: Effectuer une inspection des installations ILS
A63: 61 | D63: 3006 | E63: Conduct an NDB Facility Inspection | F63: 3.003 | G63: Effectuer une inspection des installations de la NDB
A64: 62 | D64: 3006 | E64: Conduct an VOR Facility Inspection | F64: 3.004 | G64: Effectuer une inspection des installations VOR
A65: 63 | D65: 3006 | E65: Conduct an DME Facility Inspection | F65: 3.005 | G65: Effectuer une inspection des installations de DME
A66: 64 | D66: 3006 | E66: Conduct a Radar Facility Inspection | F66: 3.006 | G66: Effectuer une inspection des installations radar
...

Sheet AIS
A1: Aeronautical Information Service (AIS)
A2: =OPS!A2 -> SN | B2: =OPS!B2 -> Domain | C2: =OPS!C2 -> Category | D2: =OPS!D2 -> Course Number | E2: =OPS!E2 -> Job Task Name | F2: =OPS!F2 -> Job Task #
A3: 1 | B3: Indoctrination AIS | C3: New Employee Orientation - AIM | D3: 1001 | E3: Employee Benefits | F3: 1.001 | G3: Avantages sociaux
A4: 2 | D4: 1001 | E4: Time and Attendance | F4: 1.002 | G4: Temps et présence
A5: 3 | D5: 1001 | E5: Employee Training and Development | F5: 1.003 | G5: Formation et perfectionnement des employés
A6: 4 | D6: 1001 | E6: Office Communications | F6: 1.004 | G6: Communications de bureau
A7: 5 | D7: 1001 | E7: Computer Systems | F7: 1.005 | G7: Systèmes informatiques
A8: 6 | D8: 1001 | E8: Managing Resources | F8: 1.006 | G8: Gestion des ressources
A9: 7 | D9: 1001 | E9: Employee Ethics | F9: 1.007 | G9: Ethique des employés
A10: 8 | D10: 1001 | E10: Labor Unions | F10: 1.008 | G10: Syndicats
A11: 9 | D11: 1001 | E11: Conduct and Discipline | F11: 1.009 | G11: Conduite et discipline
A12: 10 | D12: 1001 | E12: Travel | F12: 1.010 | G12: Voyage
A13: 11 | D13: 1001 | E13: Security | F13: 1.011 | G13: Sécurité
A14: 12 | D14: 1001 | E14: Legal and Regulatory Documents, Inspector Manuals and Guidance Materials. | F14: 1.012 | G14: Documents juridiques et réglementaires, manuels de l'inspecteur et documents d'orientation.
A15: 13 | D15: 1001 | E15: Aviation Environment | F15: 1.013 | G15: Environnement aéronautique
A16: 14 | B16: Certification AIS | C16: Aeronautical Information Service Provider Certification | D16: 2004 | E16: Cert Phase I: Pre-application Phase | F16: 2.001 | G16: Cert Phase I: Phase de pré-application
A17: 15 | D17: 2004 | E17: Cert Phase II: Formal Application Phase | F17: 2.002 | G17: Cert Phase II: Phase d'application formelle
A18: 16 | D18: 2004 | E18: Cert Phase III: Document Evaluation Phase | F18: 2.003 | G18: Cert Phase III: Phase d'évaluation du document
A19: 17 | D19: 2004 | E19: Cert Phase IV: Demonstration and Inspection Phase | F19: 2.004 | G19: Cert Phase IV: Phase de démonstration et d'inspection
A20: 18 | D20: 2004 | E20: Cert Phase V: Certification Phase | F20: 2.005 | G20: Cert Phase V: Phase de certification
A21: 19 | D21: 2004 | E21: Evaluate a AIS Provider Operations Manual | F21: 2.006 | G21: Évaluer un manuel d'exploitation du fournisseur AIS
A22: 20 | D22: 2004 | E22: Evaluate Record Keeping System | F22: 2.007 | G22: Évaluer le système de tenue des dossiers
A23: 21 | D23: 2004 | E23: Evaluate Document Management System | F23: 2.008 | G23: Évaluer le système de gestion de documents
A24: 22 | D24: 2004 | E24: Evaluate Fault and Defect Reporting System | F24: 2.009 | G24: Évaluer le système de signalisation des anomalies et des défauts
A25: 23 | D25: 2004 | E25: Evaluate Local AIS Operating Procedure Manual | F25: 2.010 | G25: Évaluer le manuel de procédures d'exploitation AIS local
A26: 24 | D26: 2004 | E26: Evaluate an AIS office Minimum Facilities and Equipment | F26: 2.011 | G26: Évaluer un bureau AIS Installations minimales et équipement
A27: 25 | D27: 2004 | E27: Evaluate Management Qualifications | F27: 2.012 | G27: Évaluer les qualifications de gestion
A28: 26 | D28: 2004 | E28: Evaluate Personnel Training and Checking Program | F28: 2.013 | G28: Évaluer le programme de formation et de vérification du personnel
... A57: 55 | D57: 2004 | E57: Evaluate Telecommunication Requirements of International NOTAM offices | F57: 2.044 | G57: Évaluer les besoins en télécommunications des bureaux NOTAM internationaux
A58: 56 | C58: Aeronautical Chart Provider Certification | D58: 2104 | E58: Certificate an ACP | F58: 2.101 | G58: Certificat d'un ACP
A59: 57 | D59: 2104 | E59: Evaluate ACP Facilities and Equipment | F59: 2.102 | G59: Évaluer les installations et l'équipement des pays ACP
A60: 58 | D60: 2104 | E60: Evaluate ACP Operations Manual | F60: 2.103 | G60: Évaluer le manuel d'exploitation du PVA
A61: 59 | D61: 2104 | E61: Evaluate a ACP Personnel Training and Checking Program | F61: 2.104 | G61: Évaluer un programme de formation et de contrôle du personnel des pays ACP
A62: 60 | D62: 2104 | E62: Evaluate the Chief Cartographer Qualification | F62: 2.105 | G62: Évaluer la qualification de cartographe en chef
A63: 61 | D63: 2104 | E63: Evaluate ACP Contingency Plan | F63: 2.106 | G63: Évaluer le plan d'urgence ACP
A64: 62 | D64: 2104 | E64: Evaluate ACP Record Keeping System | F64: 2.107 | G64: Évaluer le système de tenue des dossiers du PVA
A65: 63 | D65: 2104 | E65: Evaluate a ACP Quality System | F65: 2.108 | G65: Évaluer un système qualité ACP
A66: 64 | B66: Surveillance AIS | C66: Aeronautical Information Management Surveillance | D66: 3004 | E66: Plan a Surveillance Work Program | F66: 3.001 | G66: Planifier un programme de travail de surveillance
A67: 65 | D67: 3004 | E67: Inspect Operations Manual | F67: 3.002 | G67: Inspecter le manuel d'exploitation
A68: 66 | D68: 3004 | E68: Inspect Facility/Equipment | F68: 3.003 | G68: Inspecter l'installation / l'équipement
...
