Workbook

Sheet Calcul de Rentabilité
C1: Simulateur rentabillité investissement locatif
B7: Informations sur le bien, les revenus et les frais | J7: Comparatif entre des modes d'exploitations
C10: Frais gestion du bien | F10: Revenus du bien | K10: SAS à l'IS ou SCI IS
C11: Montant de votre apport | D11: 0 | F11: Loyer HC / mois | G11: 0 | K11: EBE | L11: =G14-D36-D60 -> 0 | M11: €/an
C12: Durée de votre crédit | D12: 22 | F12: Loyer CC / mois | G12: 0 | K12: Trésorerie annuelle (compte société) | L12: =IFERROR(L11-D39,"") -> 0 | M12: €/an | Y12: TMI
C13: Taux d'intérêts | D13: 0.018 | F13: Montant charges /mois | G13: =G12-G11 -> 0 | K13: Rendement brut | L13: =IFERROR((G14/(D22+D25)),"0%") -> 0% | M13: %
C14: Indiquez votre TMI | D14: 0.3 | F14: Revenus locatifs (annuel) | G14: =G11*D15 -> 0 | K14: Rendement net | L14: =IFERROR(L11/(D22+D25),"0%") -> 0% | M14: %
C15: Taux d'occupation par an | D15: 12 | K15: TRI | L15: =IFERROR((D22+D25)/L11,"0") -> 0 | M15: ans | Y15: 0
C16: Taux amortissement annuel | D16: 0.0475 | Y16: 0.11
C17: Frais achat du bien | K17: LMNP REEL | Y17: 0.3
C18: Achat du bien | D18: 0 | K18: EBE | L18: =IFERROR(G14-D36-D58,"") -> 0 | M18: €/an | Y18: 0.41
C19: Frais de notaire | D19: =(D18-D21)*7.44% -> 0 | K19: Trésorerie annuelle | L19: =L18-D39 -> 0 | M19: €/an | Y19: 0.45
C20: Frais d'agence immobilière | D20: =(D18-D21)*5.4% -> 0 | K20: Rendement brut | L20: =IFERROR((G14/(D22+D25)),"0%") -> 0% | M20: %
C21: Négociation du bien | D21: 0 | K21: Rendement net | L21: =IFERROR((L18/(D22+D25)),"0%") -> 0% | M21: %
C22: Prix achat du bien | D22: =SUM(D18+D19+D20)-D18*D21 -> 0 | K22: TRI | L22: =IFERROR((D22+D25)/L18,"0") -> 0 | M22: ans
C23: Travaux | D23: 0
C24: Mobilier | D24: 0 | K24: LMNP MICRO
C25: Frais annexes liés au bien | D25: =SUM(D23:D24) -> 0 | K25: EBE | L25: =IFERROR(G14-D36-D59+D34,"") -> 0 | M25: €/an
C26: Frais gestion du bien | K26: Trésorerie annuelle | L26: =L25-D39 -> 0 | M26: €/an
C27: Taxe foncière | D27: 0 | K27: Rendement brut | L27: =IFERROR((G14/(D22+D25)),"0%") -> 0% | M27: %
C28: Assurance PNO | D28: 0 | K28: Rendement net | L28: =IFERROR((L25/(D22+D25)),"0%") -> 0% | M28: %
C29: Charges copropriété | D29: 0 | K29: TRI | L29: =IFERROR((D22+D25)/L25,"0") -> 0 | M29: ans
C30: Frais bancaires | D30: 0
C31: Frais gestion agence | D31: 0 | K31: FONCIER REEL
C32: Charges annuelles | D32: 0 | K32: EBE | L32: =IFERROR(G14-D36-D57+D34,"") -> 0 | M32: €/an
C33: Provision travaux | D33: 0 | K33: Trésorerie annuelle (compte société) | L33: =L32-D39 -> 0 | M33: €/an
C34: Frais expert comptable | D34: 0 | K34: Rendement brut | L34: =IFERROR((G14/(D22+D25)),"0%") -> 0% | M34: %
C35: Frais déplacements | D35: 0 | K35: Rendement net | L35: =IFERROR((L32/(D22+D25)),"0%") -> 0% | M35: %
C36: Frais liés au bien (annuel) | D36: =SUM(D27:D35) -> 0 | K36: TRI | L36: =IFERROR((D22+D25)/L32,"0") -> 0 | M36: ans
C37: Remboursement crédit | D37: =IFERROR((D22+D25)/D12,"0€") -> 0
C38: Remboursement intérêt | D38: =IFERROR('simulation prêt Vide'!B11/'Calcul de Rentabilité'!D12,"0€") -> 0 | K38: FONCIER MICRO
C39: Frais liés à la banque (annuel) | D39: =D37+D38 -> 0 | K39: EBE | L39: =IFERROR(G14-D36-D56+D34,"") -> 0 | M39: €/an
K40: Trésorerie annuelle (compte société) | L40: =L39-D39 -> 0 | M40: €/an
K41: Rendement brut | L41: =IFERROR((G14/(D22+D25)),"0%") -> 0% | M41: %
K42: Rendement net | L42: =IFERROR((L39/(D22+D25)),"0%") -> 0% | M42: %
K43: TRI | L43: =IFERROR((D22+D25)/L39,"0") -> 0 | M43: ans
B47: Informations complémentaires
C50: Fiscalité IS ou TMI + 17,2% CSG CRDS
C51: Loyers Annuels HC | D51: =G14 -> 0
C52: Total Frais Annuels | D52: =D36 -> 0
...

Sheet Détails mensuel
C3: Frais du bien | D3: Crédit bancaire | E3: Loyers | F3: Cash flow mensuel
B4: Mois 1 | C4: ='Calcul de Rentabilité'!$D$36/12 -> 0 | D4: ='Calcul de Rentabilité'!$D$39/12 -> 0 | E4: ='Calcul de Rentabilité'!$G$11 -> 0 | F4: =E4-C4-D4 -> 0
B5: Mois 2 | C5: ='Calcul de Rentabilité'!$D$36/12 -> 0 | D5: ='Calcul de Rentabilité'!$D$39/12 -> 0 | E5: ='Calcul de Rentabilité'!$G$11 -> 0 | F5: =E5-C5-D5 -> 0
B6: Mois 3 | C6: ='Calcul de Rentabilité'!$D$36/12 -> 0 | D6: ='Calcul de Rentabilité'!$D$39/12 -> 0 | E6: ='Calcul de Rentabilité'!$G$11 -> 0 | F6: =E6-C6-D6 -> 0
B7: Mois 4 | C7: ='Calcul de Rentabilité'!$D$36/12 -> 0 | D7: ='Calcul de Rentabilité'!$D$39/12 -> 0 | E7: ='Calcul de Rentabilité'!$G$11 -> 0 | F7: =E7-C7-D7 -> 0
B8: Mois 5 | C8: ='Calcul de Rentabilité'!$D$36/12 -> 0 | D8: ='Calcul de Rentabilité'!$D$39/12 -> 0 | E8: ='Calcul de Rentabilité'!$G$11 -> 0 | F8: =E8-C8-D8 -> 0
B9: Mois 6 | C9: ='Calcul de Rentabilité'!$D$36/12 -> 0 | D9: ='Calcul de Rentabilité'!$D$39/12 -> 0 | E9: ='Calcul de Rentabilité'!$G$11 -> 0 | F9: =E9-C9-D9 -> 0
B10: Mois 7 | C10: ='Calcul de Rentabilité'!$D$36/12 -> 0 | D10: ='Calcul de Rentabilité'!$D$39/12 -> 0 | E10: ='Calcul de Rentabilité'!$G$11 -> 0 | F10: =E10-C10-D10 -> 0
B11: Mois 8 | C11: ='Calcul de Rentabilité'!$D$36/12 -> 0 | D11: ='Calcul de Rentabilité'!$D$39/12 -> 0 | E11: ='Calcul de Rentabilité'!$G$11 -> 0 | F11: =E11-C11-D11 -> 0
B12: Mois 9 | C12: ='Calcul de Rentabilité'!$D$36/12 -> 0 | D12: ='Calcul de Rentabilité'!$D$39/12 -> 0 | E12: ='Calcul de Rentabilité'!$G$11 -> 0 | F12: =E12-C12-D12 -> 0
B13: Mois 10 | C13: ='Calcul de Rentabilité'!$D$36/12 -> 0 | D13: ='Calcul de Rentabilité'!$D$39/12 -> 0 | E13: ='Calcul de Rentabilité'!$G$11 -> 0 | F13: =E13-C13-D13 -> 0
B14: Mois 11 | C14: ='Calcul de Rentabilité'!$D$36/12 -> 0 | D14: ='Calcul de Rentabilité'!$D$39/12 -> 0 | E14: ='Calcul de Rentabilité'!$G$11 -> 0 | F14: =E14-C14-D14 -> 0
B15: Mois 12 | C15: ='Calcul de Rentabilité'!$D$36/12 -> 0 | D15: ='Calcul de Rentabilité'!$D$39/12 -> 0 | E15: ='Calcul de Rentabilité'!$G$11 -> 0 | F15: =E15-C15-D15 -> 0
... B27: Mois 24 | C27: ='Calcul de Rentabilité'!$D$36/12 -> 0 | D27: ='Calcul de Rentabilité'!$D$39/12 -> 0 | E27: ='Calcul de Rentabilité'!$G$11 -> 0 | F27: =E27-C27-D27 -> 0

Sheet simulation prêt Vide
A2: Mensualités constantes
B4: Somme empruntée | D4: Taux d'intérêt annuel | F4: Années d'emprunt | H4: Mensualité
B5: ='Calcul de Rentabilité'!D22+'Calcul de Rentabilité'!D25 -> 0 | D5: ='Calcul de Rentabilité'!D13 -> 0.018 | F5: ='Calcul de Rentabilité'!D12 -> 22 | H5: =B5*(D10/(1-(1+D10)^(-F10))) -> 0
B7: Somme remboursée totale
B8: =SUMIF(E15:E254,">0",F15:F64) -> 0
D9: Taux d'intérêt mensuel | F9: Nombre de mois
B10: Coût total de l'emprunt | D10: =(1+D5)^(1/12)-1 -> 0.0014877655 | F10: =F5*12 -> 264
B11: =SUMIF(E15:E254,">0",F15:F64)-B5 -> 0
B14: Année | C14: Mois | D14: Montant remboursé | E14: Charge d'intérêt | F14: Mensualité | G14: Capital restant dû
B15: =ROUNDUP(C15/12,0) -> 1 | C15: 1 | D15: =F15-E15 -> 0 | E15: =B5*D10 -> 0 | F15: =H$5 -> 0 | G15: =B5-D15 -> 0
B16: =ROUNDUP(C16/12,0) -> 1 | C16: 2 | D16: =F16-E16 -> 0 | E16: =D$10*G15 -> 0 | F16: =H$5 -> 0 | G16: =G15-D16 -> 0
B17: =ROUNDUP(C17/12,0) -> 1 | C17: 3 | D17: =F17-E17 -> 0 | E17: =D$10*G16 -> 0 | F17: =H$5 -> 0 | G17: =G16-D17 -> 0
B18: =ROUNDUP(C18/12,0) -> 1 | C18: 4 | D18: =F18-E18 -> 0 | E18: =D$10*G17 -> 0 | F18: =H$5 -> 0 | G18: =G17-D18 -> 0
B19: =ROUNDUP(C19/12,0) -> 1 | C19: 5 | D19: =F19-E19 -> 0 | E19: =D$10*G18 -> 0 | F19: =H$5 -> 0 | G19: =G18-D19 -> 0
B20: =ROUNDUP(C20/12,0) -> 1 | C20: 6 | D20: =F20-E20 -> 0 | E20: =D$10*G19 -> 0 | F20: =H$5 -> 0 | G20: =G19-D20 -> 0
B21: =ROUNDUP(C21/12,0) -> 1 | C21: 7 | D21: =F21-E21 -> 0 | E21: =D$10*G20 -> 0 | F21: =H$5 -> 0 | G21: =G20-D21 -> 0
B22: =ROUNDUP(C22/12,0) -> 1 | C22: 8 | D22: =F22-E22 -> 0 | E22: =D$10*G21 -> 0 | F22: =H$5 -> 0 | G22: =G21-D22 -> 0
B23: =ROUNDUP(C23/12,0) -> 1 | C23: 9 | D23: =F23-E23 -> 0 | E23: =D$10*G22 -> 0 | F23: =H$5 -> 0 | G23: =G22-D23 -> 0
B24: =ROUNDUP(C24/12,0) -> 1 | C24: 10 | D24: =F24-E24 -> 0 | E24: =D$10*G23 -> 0 | F24: =H$5 -> 0 | G24: =G23-D24 -> 0
B25: =ROUNDUP(C25/12,0) -> 1 | C25: 11 | D25: =F25-E25 -> 0 | E25: =D$10*G24 -> 0 | F25: =H$5 -> 0 | G25: =G24-D25 -> 0
B26: =ROUNDUP(C26/12,0) -> 1 | C26: 12 | D26: =F26-E26 -> 0 | E26: =D$10*G25 -> 0 | F26: =H$5 -> 0 | G26: =G25-D26 -> 0
B27: =ROUNDUP(C27/12,0) -> 2 | C27: 13 | D27: =F27-E27 -> 0 | E27: =D$10*G26 -> 0 | F27: =H$5 -> 0 | G27: =G26-D27 -> 0
... B254: =ROUNDUP(C254/12,0) -> 20 | C254: 240 | D254: =F254-E254 -> 0 | E254: =D$10*G253 -> 0 | F254: =H$5 -> 0 | G254: =G253-D254 -> 0
