Workbook

Sheet Janvier
D1: 2018 | H1: ="Calendrier "&D1 -> Calendrier 2018
A2: =PROPER(TEXT(A6,"mmmm")) -> Janvier
C3: HS+ | D3: HS- | E3: RPS+ | F3: RPS- | G3: CF | H3: ARTT | I3: CA | J3: CAHP | K3: CET+ | L3: CET- | M3: POSITION
A4: SOLDE
A5: JOURS
A6: =DATE(D1,1,1) -> 43101 | B6: =PROPER(LEFT(TEXT(A6,"JJJJ"),1)) -> L
A7: =+A6+1 -> 43102 | B7: =PROPER(LEFT(TEXT(A7,"JJJJ"),1)) -> M
A8: =+A7+1 -> 43103 | B8: =PROPER(LEFT(TEXT(A8,"JJJJ"),1)) -> M
A9: =+A8+1 -> 43104 | B9: =PROPER(LEFT(TEXT(A9,"JJJJ"),1)) -> J
A10: =+A9+1 -> 43105 | B10: =PROPER(LEFT(TEXT(A10,"JJJJ"),1)) -> V
A11: =+A10+1 -> 43106 | B11: =PROPER(LEFT(TEXT(A11,"JJJJ"),1)) -> S
A12: =+A11+1 -> 43107 | B12: =PROPER(LEFT(TEXT(A12,"JJJJ"),1)) -> D
A13: =+A12+1 -> 43108 | B13: =PROPER(LEFT(TEXT(A13,"JJJJ"),1)) -> L
A14: =+A13+1 -> 43109 | B14: =PROPER(LEFT(TEXT(A14,"JJJJ"),1)) -> M
A15: =+A14+1 -> 43110 | B15: =PROPER(LEFT(TEXT(A15,"JJJJ"),1)) -> M
A16: =+A15+1 -> 43111 | B16: =PROPER(LEFT(TEXT(A16,"JJJJ"),1)) -> J
A17: =+A16+1 -> 43112 | B17: =PROPER(LEFT(TEXT(A17,"JJJJ"),1)) -> V
A18: =+A17+1 -> 43113 | B18: =PROPER(LEFT(TEXT(A18,"JJJJ"),1)) -> S
... A36: =+A35+1 -> 43131 | B36: =PROPER(LEFT(TEXT(A36,"JJJJ"),1)) -> M
A37: TOTAL
A38: SOLDE
C39: HS+ | D39: HS- | E39: RPS+ | F39: RPS- | G39: CF | H39: ARTT | I39: CA | J39: CAHP | K39: CET+ | L39: CET- | M39: POSITION

Sheet Février
D1: 2018 | H1: ="Calendrier "&D1 -> Calendrier 2018
A2: =PROPER(TEXT(A6,"mmmm")) -> Février
C3: HS+ | D3: HS- | E3: RPS+ | F3: RPS- | G3: CF | H3: ARTT | I3: CA | J3: CAHP | K3: CET+ | L3: CET- | M3: POSITION
A4: SOLDE
A5: JOURS
A6: =EOMONTH(Janvier!A6,0)+1 -> 43132 | B6: =PROPER(LEFT(TEXT(A6,"JJJJ"),1)) -> J
A7: =+A6+1 -> 43133 | B7: =PROPER(LEFT(TEXT(A7,"JJJJ"),1)) -> V
A8: =+A7+1 -> 43134 | B8: =PROPER(LEFT(TEXT(A8,"JJJJ"),1)) -> S
A9: =+A8+1 -> 43135 | B9: =PROPER(LEFT(TEXT(A9,"JJJJ"),1)) -> D
A10: =+A9+1 -> 43136 | B10: =PROPER(LEFT(TEXT(A10,"JJJJ"),1)) -> L
A11: =+A10+1 -> 43137 | B11: =PROPER(LEFT(TEXT(A11,"JJJJ"),1)) -> M
A12: =+A11+1 -> 43138 | B12: =PROPER(LEFT(TEXT(A12,"JJJJ"),1)) -> M
A13: =+A12+1 -> 43139 | B13: =PROPER(LEFT(TEXT(A13,"JJJJ"),1)) -> J
A14: =+A13+1 -> 43140 | B14: =PROPER(LEFT(TEXT(A14,"JJJJ"),1)) -> V
A15: =+A14+1 -> 43141 | B15: =PROPER(LEFT(TEXT(A15,"JJJJ"),1)) -> S
A16: =+A15+1 -> 43142 | B16: =PROPER(LEFT(TEXT(A16,"JJJJ"),1)) -> D
A17: =+A16+1 -> 43143 | B17: =PROPER(LEFT(TEXT(A17,"JJJJ"),1)) -> L
A18: =+A17+1 -> 43144 | B18: =PROPER(LEFT(TEXT(A18,"JJJJ"),1)) -> M
... A33: =+A32+1 -> 43159 | B33: =PROPER(LEFT(TEXT(A33,"JJJJ"),1)) -> M
A34: TOTAL
A35: SOLDE
C36: HS+ | D36: HS- | E36: RPS+ | F36: RPS- | G36: CF | H36: ARTT | I36: CA | J36: CAHP | K36: CET+ | L36: CET- | M36: POSITION

Sheet Mars
D1: 2018 | H1: ="Calendrier "&D1 -> Calendrier 2018
A2: =PROPER(TEXT(A6,"mmmm")) -> Mars
C3: HS+ | D3: HS- | E3: RPS+ | F3: RPS- | G3: CF | H3: ARTT | I3: CA | J3: CAHP | K3: CET+ | L3: CET- | M3: POSITION
A4: SOLDE
A5: JOURS
A6: =EOMONTH(Février!A6,0)+1 -> 43160 | B6: =PROPER(LEFT(TEXT(A6,"JJJJ"),1)) -> J
A7: =+A6+1 -> 43161 | B7: =PROPER(LEFT(TEXT(A7,"JJJJ"),1)) -> V
A8: =+A7+1 -> 43162 | B8: =PROPER(LEFT(TEXT(A8,"JJJJ"),1)) -> S
A9: =+A8+1 -> 43163 | B9: =PROPER(LEFT(TEXT(A9,"JJJJ"),1)) -> D
A10: =+A9+1 -> 43164 | B10: =PROPER(LEFT(TEXT(A10,"JJJJ"),1)) -> L
A11: =+A10+1 -> 43165 | B11: =PROPER(LEFT(TEXT(A11,"JJJJ"),1)) -> M
A12: =+A11+1 -> 43166 | B12: =PROPER(LEFT(TEXT(A12,"JJJJ"),1)) -> M
A13: =+A12+1 -> 43167 | B13: =PROPER(LEFT(TEXT(A13,"JJJJ"),1)) -> J
A14: =+A13+1 -> 43168 | B14: =PROPER(LEFT(TEXT(A14,"JJJJ"),1)) -> V
A15: =+A14+1 -> 43169 | B15: =PROPER(LEFT(TEXT(A15,"JJJJ"),1)) -> S
A16: =+A15+1 -> 43170 | B16: =PROPER(LEFT(TEXT(A16,"JJJJ"),1)) -> D
A17: =+A16+1 -> 43171 | B17: =PROPER(LEFT(TEXT(A17,"JJJJ"),1)) -> L
A18: =+A17+1 -> 43172 | B18: =PROPER(LEFT(TEXT(A18,"JJJJ"),1)) -> M
... A36: =+A35+1 -> 43190 | B36: =PROPER(LEFT(TEXT(A36,"JJJJ"),1)) -> S
A37: TOTAL
A38: SOLDE
C39: HS+ | D39: HS- | E39: RPS+ | F39: RPS- | G39: CF | H39: ARTT | I39: CA | J39: CAHP | K39: CET+ | L39: CET- | M39: POSITION

Sheet Avril
D1: 2018 | H1: ="Calendrier "&D1 -> Calendrier 2018
A2: =PROPER(TEXT(A6,"mmmm")) -> Avril
C3: HS+ | D3: HS- | E3: RPS+ | F3: RPS- | G3: CF | H3: ARTT | I3: CA | J3: CAHP | K3: CET+ | L3: CET- | M3: POSITION
A4: SOLDE
A5: JOURS
A6: =EOMONTH(Mars!A6,0)+1 -> 43191 | B6: =PROPER(LEFT(TEXT(A6,"JJJJ"),1)) -> D
A7: =+A6+1 -> 43192 | B7: =PROPER(LEFT(TEXT(A7,"JJJJ"),1)) -> L
A8: =+A7+1 -> 43193 | B8: =PROPER(LEFT(TEXT(A8,"JJJJ"),1)) -> M
A9: =+A8+1 -> 43194 | B9: =PROPER(LEFT(TEXT(A9,"JJJJ"),1)) -> M
A10: =+A9+1 -> 43195 | B10: =PROPER(LEFT(TEXT(A10,"JJJJ"),1)) -> J
A11: =+A10+1 -> 43196 | B11: =PROPER(LEFT(TEXT(A11,"JJJJ"),1)) -> V
A12: =+A11+1 -> 43197 | B12: =PROPER(LEFT(TEXT(A12,"JJJJ"),1)) -> S
A13: =+A12+1 -> 43198 | B13: =PROPER(LEFT(TEXT(A13,"JJJJ"),1)) -> D
A14: =+A13+1 -> 43199 | B14: =PROPER(LEFT(TEXT(A14,"JJJJ"),1)) -> L
A15: =+A14+1 -> 43200 | B15: =PROPER(LEFT(TEXT(A15,"JJJJ"),1)) -> M
A16: =+A15+1 -> 43201 | B16: =PROPER(LEFT(TEXT(A16,"JJJJ"),1)) -> M
A17: =+A16+1 -> 43202 | B17: =PROPER(LEFT(TEXT(A17,"JJJJ"),1)) -> J
A18: =+A17+1 -> 43203 | B18: =PROPER(LEFT(TEXT(A18,"JJJJ"),1)) -> V
... A35: =+A34+1 -> 43220 | B35: =PROPER(LEFT(TEXT(A35,"JJJJ"),1)) -> L
A36: TOTAL
A37: SOLDE
C38: HS+ | D38: HS- | E38: RPS+ | F38: RPS- | G38: CF | H38: ARTT | I38: CA | J38: CAHP | K38: CET+ | L38: CET- | M38: POSITION

Sheet Mai
D1: 2018 | H1: ="Calendrier "&D1 -> Calendrier 2018
A2: =PROPER(TEXT(A6,"mmmm")) -> Mai
C3: HS+ | D3: HS- | E3: RPS+ | F3: RPS- | G3: CF | H3: ARTT | I3: CA | J3: CAHP | K3: CET+ | L3: CET- | M3: POSITION
A4: SOLDE
A5: JOURS
A6: =EOMONTH(Avril!A6,0)+1 -> 43221 | B6: =PROPER(LEFT(TEXT(A6,"JJJJ"),1)) -> M
A7: =+A6+1 -> 43222 | B7: =PROPER(LEFT(TEXT(A7,"JJJJ"),1)) -> M
A8: =+A7+1 -> 43223 | B8: =PROPER(LEFT(TEXT(A8,"JJJJ"),1)) -> J
A9: =+A8+1 -> 43224 | B9: =PROPER(LEFT(TEXT(A9,"JJJJ"),1)) -> V
A10: =+A9+1 -> 43225 | B10: =PROPER(LEFT(TEXT(A10,"JJJJ"),1)) -> S
A11: =+A10+1 -> 43226 | B11: =PROPER(LEFT(TEXT(A11,"JJJJ"),1)) -> D
A12: =+A11+1 -> 43227 | B12: =PROPER(LEFT(TEXT(A12,"JJJJ"),1)) -> L
A13: =+A12+1 -> 43228 | B13: =PROPER(LEFT(TEXT(A13,"JJJJ"),1)) -> M
A14: =+A13+1 -> 43229 | B14: =PROPER(LEFT(TEXT(A14,"JJJJ"),1)) -> M
A15: =+A14+1 -> 43230 | B15: =PROPER(LEFT(TEXT(A15,"JJJJ"),1)) -> J
A16: =+A15+1 -> 43231 | B16: =PROPER(LEFT(TEXT(A16,"JJJJ"),1)) -> V
A17: =+A16+1 -> 43232 | B17: =PROPER(LEFT(TEXT(A17,"JJJJ"),1)) -> S
A18: =+A17+1 -> 43233 | B18: =PROPER(LEFT(TEXT(A18,"JJJJ"),1)) -> D
... A35: =+A34+1 -> 43250 | B35: =PROPER(LEFT(TEXT(A35,"JJJJ"),1)) -> M
A36: =+A35+1 -> 43251 | B36: J
A37: TOTAL
A38: SOLDE
C39: HS+ | D39: HS- | E39: RPS+ | F39: RPS- | G39: CF | H39: ARTT | I39: CA | J39: CAHP | K39: CET+ | L39: CET- | M39: POSITION

Sheet Juin
D1: 2018 | H1: ="Calendrier "&D1 -> Calendrier 2018
A2: =PROPER(TEXT(A6,"mmmm")) -> Juin
C3: HS+ | D3: HS- | E3: RPS+ | F3: RPS- | G3: CF | H3: ARTT | I3: CA | J3: CAHP | K3: CET+ | L3: CET- | M3: POSITION
A4: SOLDE
A5: JOURS
A6: =EOMONTH(Mai!A6,0)+1 -> 43252 | B6: =PROPER(LEFT(TEXT(A6,"JJJJ"),1)) -> V
A7: =+A6+1 -> 43253 | B7: =PROPER(LEFT(TEXT(A7,"JJJJ"),1)) -> S
A8: =+A7+1 -> 43254 | B8: =PROPER(LEFT(TEXT(A8,"JJJJ"),1)) -> D
A9: =+A8+1 -> 43255 | B9: =PROPER(LEFT(TEXT(A9,"JJJJ"),1)) -> L
A10: =+A9+1 -> 43256 | B10: =PROPER(LEFT(TEXT(A10,"JJJJ"),1)) -> M
A11: =+A10+1 -> 43257 | B11: =PROPER(LEFT(TEXT(A11,"JJJJ"),1)) -> M
A12: =+A11+1 -> 43258 | B12: =PROPER(LEFT(TEXT(A12,"JJJJ"),1)) -> J
A13: =+A12+1 -> 43259 | B13: =PROPER(LEFT(TEXT(A13,"JJJJ"),1)) -> V
A14: =+A13+1 -> 43260 | B14: =PROPER(LEFT(TEXT(A14,"JJJJ"),1)) -> S
A15: =+A14+1 -> 43261 | B15: =PROPER(LEFT(TEXT(A15,"JJJJ"),1)) -> D
A16: =+A15+1 -> 43262 | B16: =PROPER(LEFT(TEXT(A16,"JJJJ"),1)) -> L
A17: =+A16+1 -> 43263 | B17: =PROPER(LEFT(TEXT(A17,"JJJJ"),1)) -> M
A18: =+A17+1 -> 43264 | B18: =PROPER(LEFT(TEXT(A18,"JJJJ"),1)) -> M
... A35: =+A34+1 -> 43281 | B35: =PROPER(LEFT(TEXT(A35,"JJJJ"),1)) -> S
A36: TOTAL
A37: SOLDE
C38: HS+ | D38: HS- | E38: RPS+ | F38: RPS- | G38: CF | H38: ARTT | I38: CA | J38: CAHP | K38: CET+ | L38: CET- | M38: POSITION

Sheet Juillet
D1: 2018 | H1: ="Calendrier "&D1 -> Calendrier 2018
A2: =PROPER(TEXT(A6,"mmmm")) -> Juillet
C3: HS+ | D3: HS- | E3: RPS+ | F3: RPS- | G3: CF | H3: ARTT | I3: CA | J3: CAHP | K3: CET+ | L3: CET- | M3: POSITION
A4: SOLDE
A5: JOURS
A6: =EOMONTH(Juin!A6,0)+1 -> 43282 | B6: =PROPER(LEFT(TEXT(A6,"JJJJ"),1)) -> D
A7: =+A6+1 -> 43283 | B7: =PROPER(LEFT(TEXT(A7,"JJJJ"),1)) -> L
A8: =+A7+1 -> 43284 | B8: =PROPER(LEFT(TEXT(A8,"JJJJ"),1)) -> M
A9: =+A8+1 -> 43285 | B9: =PROPER(LEFT(TEXT(A9,"JJJJ"),1)) -> M
A10: =+A9+1 -> 43286 | B10: =PROPER(LEFT(TEXT(A10,"JJJJ"),1)) -> J
A11: =+A10+1 -> 43287 | B11: =PROPER(LEFT(TEXT(A11,"JJJJ"),1)) -> V
A12: =+A11+1 -> 43288 | B12: =PROPER(LEFT(TEXT(A12,"JJJJ"),1)) -> S
A13: =+A12+1 -> 43289 | B13: =PROPER(LEFT(TEXT(A13,"JJJJ"),1)) -> D
A14: =+A13+1 -> 43290 | B14: =PROPER(LEFT(TEXT(A14,"JJJJ"),1)) -> L
A15: =+A14+1 -> 43291 | B15: =PROPER(LEFT(TEXT(A15,"JJJJ"),1)) -> M
A16: =+A15+1 -> 43292 | B16: =PROPER(LEFT(TEXT(A16,"JJJJ"),1)) -> M
A17: =+A16+1 -> 43293 | B17: =PROPER(LEFT(TEXT(A17,"JJJJ"),1)) -> J
A18: =+A17+1 -> 43294 | B18: =PROPER(LEFT(TEXT(A18,"JJJJ"),1)) -> V
... A36: =+A35+1 -> 43312 | B36: =PROPER(LEFT(TEXT(A36,"JJJJ"),1)) -> M
A37: TOTAL
A38: SOLDE
C39: HS+ | D39: HS- | E39: RPS+ | F39: RPS- | G39: CF | H39: ARTT | I39: CA | J39: CAHP | K39: CET+ | L39: CET- | M39: POSITION

Sheet Août
D1: 2018 | H1: ="Calendrier "&D1 -> Calendrier 2018
A2: =PROPER(TEXT(A6,"mmmm")) -> Août
C3: HS+ | D3: HS- | E3: RPS+ | F3: RPS- | G3: CF | H3: ARTT | I3: CA | J3: CAHP | K3: CET+ | L3: CET- | M3: POSITION
A4: SOLDE
A5: JOURS
A6: =EOMONTH(Juillet!A6,0)+1 -> 43313 | B6: =PROPER(LEFT(TEXT(A6,"JJJJ"),1)) -> M
A7: =+A6+1 -> 43314 | B7: =PROPER(LEFT(TEXT(A7,"JJJJ"),1)) -> J
A8: =+A7+1 -> 43315 | B8: =PROPER(LEFT(TEXT(A8,"JJJJ"),1)) -> V
A9: =+A8+1 -> 43316 | B9: =PROPER(LEFT(TEXT(A9,"JJJJ"),1)) -> S
A10: =+A9+1 -> 43317 | B10: =PROPER(LEFT(TEXT(A10,"JJJJ"),1)) -> D
A11: =+A10+1 -> 43318 | B11: =PROPER(LEFT(TEXT(A11,"JJJJ"),1)) -> L
A12: =+A11+1 -> 43319 | B12: =PROPER(LEFT(TEXT(A12,"JJJJ"),1)) -> M
A13: =+A12+1 -> 43320 | B13: =PROPER(LEFT(TEXT(A13,"JJJJ"),1)) -> M
A14: =+A13+1 -> 43321 | B14: =PROPER(LEFT(TEXT(A14,"JJJJ"),1)) -> J
A15: =+A14+1 -> 43322 | B15: =PROPER(LEFT(TEXT(A15,"JJJJ"),1)) -> V
A16: =+A15+1 -> 43323 | B16: =PROPER(LEFT(TEXT(A16,"JJJJ"),1)) -> S
A17: =+A16+1 -> 43324 | B17: =PROPER(LEFT(TEXT(A17,"JJJJ"),1)) -> D
A18: =+A17+1 -> 43325 | B18: =PROPER(LEFT(TEXT(A18,"JJJJ"),1)) -> L
... A36: =+A35+1 -> 43343 | B36: =PROPER(LEFT(TEXT(A36,"JJJJ"),1)) -> V
A37: TOTAL
A38: SOLDE
C39: HS+ | D39: HS- | E39: RPS+ | F39: RPS- | G39: CF | H39: ARTT | I39: CA | J39: CAHP | K39: CET+ | L39: CET- | M39: POSITION

Sheet Spetembre
D1: 2018 | H1: ="Calendrier "&D1 -> Calendrier 2018
A2: =PROPER(TEXT(A6,"mmmm")) -> Septembre
C3: HS+ | D3: HS- | E3: RPS+ | F3: RPS- | G3: CF | H3: ARTT | I3: CA | J3: CAHP | K3: CET+ | L3: CET- | M3: POSITION
A4: SOLDE
A5: JOURS
A6: =EOMONTH(Août!A6,0)+1 -> 43344 | B6: =PROPER(LEFT(TEXT(A6,"JJJJ"),1)) -> S
A7: =+A6+1 -> 43345 | B7: =PROPER(LEFT(TEXT(A7,"JJJJ"),1)) -> D
A8: =+A7+1 -> 43346 | B8: =PROPER(LEFT(TEXT(A8,"JJJJ"),1)) -> L
A9: =+A8+1 -> 43347 | B9: =PROPER(LEFT(TEXT(A9,"JJJJ"),1)) -> M
A10: =+A9+1 -> 43348 | B10: =PROPER(LEFT(TEXT(A10,"JJJJ"),1)) -> M
A11: =+A10+1 -> 43349 | B11: =PROPER(LEFT(TEXT(A11,"JJJJ"),1)) -> J
A12: =+A11+1 -> 43350 | B12: =PROPER(LEFT(TEXT(A12,"JJJJ"),1)) -> V
A13: =+A12+1 -> 43351 | B13: =PROPER(LEFT(TEXT(A13,"JJJJ"),1)) -> S
A14: =+A13+1 -> 43352 | B14: =PROPER(LEFT(TEXT(A14,"JJJJ"),1)) -> D
A15: =+A14+1 -> 43353 | B15: =PROPER(LEFT(TEXT(A15,"JJJJ"),1)) -> L
A16: =+A15+1 -> 43354 | B16: =PROPER(LEFT(TEXT(A16,"JJJJ"),1)) -> M
A17: =+A16+1 -> 43355 | B17: =PROPER(LEFT(TEXT(A17,"JJJJ"),1)) -> M
A18: =+A17+1 -> 43356 | B18: =PROPER(LEFT(TEXT(A18,"JJJJ"),1)) -> J
... A35: =+A34+1 -> 43373 | B35: =PROPER(LEFT(TEXT(A35,"JJJJ"),1)) -> D
A36: TOTAL
A37: SOLDE
C38: HS+ | D38: HS- | E38: RPS+ | F38: RPS- | G38: CF | H38: ARTT | I38: CA | J38: CAHP | K38: CET+ | L38: CET- | M38: POSITION

Sheet Octobre
D1: 2018 | H1: ="Calendrier "&D1 -> Calendrier 2018
A2: =PROPER(TEXT(A6,"mmmm")) -> Octobre
C3: HS+ | D3: HS- | E3: RPS+ | F3: RPS- | G3: CF | H3: ARTT | I3: CA | J3: CAHP | K3: CET+ | L3: CET- | M3: POSITION
A4: SOLDE
A5: JOURS
A6: =EOMONTH(Spetembre!A6,0)+1 -> 43374 | B6: =PROPER(LEFT(TEXT(A6,"JJJJ"),1)) -> L
A7: =+A6+1 -> 43375 | B7: =PROPER(LEFT(TEXT(A7,"JJJJ"),1)) -> M
A8: =+A7+1 -> 43376 | B8: =PROPER(LEFT(TEXT(A8,"JJJJ"),1)) -> M
A9: =+A8+1 -> 43377 | B9: =PROPER(LEFT(TEXT(A9,"JJJJ"),1)) -> J
A10: =+A9+1 -> 43378 | B10: =PROPER(LEFT(TEXT(A10,"JJJJ"),1)) -> V
A11: =+A10+1 -> 43379 | B11: =PROPER(LEFT(TEXT(A11,"JJJJ"),1)) -> S
A12: =+A11+1 -> 43380 | B12: =PROPER(LEFT(TEXT(A12,"JJJJ"),1)) -> D
A13: =+A12+1 -> 43381 | B13: =PROPER(LEFT(TEXT(A13,"JJJJ"),1)) -> L
A14: =+A13+1 -> 43382 | B14: =PROPER(LEFT(TEXT(A14,"JJJJ"),1)) -> M
A15: =+A14+1 -> 43383 | B15: =PROPER(LEFT(TEXT(A15,"JJJJ"),1)) -> M
A16: =+A15+1 -> 43384 | B16: =PROPER(LEFT(TEXT(A16,"JJJJ"),1)) -> J
A17: =+A16+1 -> 43385 | B17: =PROPER(LEFT(TEXT(A17,"JJJJ"),1)) -> V
A18: =+A17+1 -> 43386 | B18: =PROPER(LEFT(TEXT(A18,"JJJJ"),1)) -> S
... A36: =+A35+1 -> 43404 | B36: =PROPER(LEFT(TEXT(A36,"JJJJ"),1)) -> M
A37: TOTAL
A38: SOLDE
C39: HS+ | D39: HS- | E39: RPS+ | F39: RPS- | G39: CF | H39: ARTT | I39: CA | J39: CAHP | K39: CET+ | L39: CET- | M39: POSITION

Sheet Novembre
D1: 2018 | H1: ="Calendrier "&D1 -> Calendrier 2018
A2: =PROPER(TEXT(A6,"mmmm")) -> Novembre
C3: HS+ | D3: HS- | E3: RPS+ | F3: RPS- | G3: CF | H3: ARTT | I3: CA | J3: CAHP | K3: CET+ | L3: CET- | M3: POSITION
A4: SOLDE
A5: JOURS
A6: =EOMONTH(Octobre!A6,0)+1 -> 43405 | B6: =PROPER(LEFT(TEXT(A6,"JJJJ"),1)) -> J
A7: =+A6+1 -> 43406 | B7: =PROPER(LEFT(TEXT(A7,"JJJJ"),1)) -> V
A8: =+A7+1 -> 43407 | B8: =PROPER(LEFT(TEXT(A8,"JJJJ"),1)) -> S
A9: =+A8+1 -> 43408 | B9: =PROPER(LEFT(TEXT(A9,"JJJJ"),1)) -> D
A10: =+A9+1 -> 43409 | B10: =PROPER(LEFT(TEXT(A10,"JJJJ"),1)) -> L
A11: =+A10+1 -> 43410 | B11: =PROPER(LEFT(TEXT(A11,"JJJJ"),1)) -> M
A12: =+A11+1 -> 43411 | B12: =PROPER(LEFT(TEXT(A12,"JJJJ"),1)) -> M
A13: =+A12+1 -> 43412 | B13: =PROPER(LEFT(TEXT(A13,"JJJJ"),1)) -> J
A14: =+A13+1 -> 43413 | B14: =PROPER(LEFT(TEXT(A14,"JJJJ"),1)) -> V
A15: =+A14+1 -> 43414 | B15: =PROPER(LEFT(TEXT(A15,"JJJJ"),1)) -> S
A16: =+A15+1 -> 43415 | B16: =PROPER(LEFT(TEXT(A16,"JJJJ"),1)) -> D
A17: =+A16+1 -> 43416 | B17: =PROPER(LEFT(TEXT(A17,"JJJJ"),1)) -> L
A18: =+A17+1 -> 43417 | B18: =PROPER(LEFT(TEXT(A18,"JJJJ"),1)) -> M
... A35: =+A34+1 -> 43434 | B35: =PROPER(LEFT(TEXT(A35,"JJJJ"),1)) -> V
A36: TOTAL
A37: SOLDE
C38: HS+ | D38: HS- | E38: RPS+ | F38: RPS- | G38: CF | H38: ARTT | I38: CA | J38: CAHP | K38: CET+ | L38: CET- | M38: POSITION

Sheet Décembre
D1: 2018 | H1: ="Calendrier "&D1 -> Calendrier 2018
A2: =PROPER(TEXT(A6,"mmmm")) -> Décembre
C3: HS+ | D3: HS- | E3: RPS+ | F3: RPS- | G3: CF | H3: ARTT | I3: CA | J3: CAHP | K3: CET+ | L3: CET- | M3: POSITION
A4: SOLDE
A5: JOURS
A6: =EOMONTH(Novembre!A6,0)+1 -> 43435 | B6: =PROPER(LEFT(TEXT(A6,"JJJJ"),1)) -> S
A7: =+A6+1 -> 43436 | B7: =PROPER(LEFT(TEXT(A7,"JJJJ"),1)) -> D
A8: =+A7+1 -> 43437 | B8: =PROPER(LEFT(TEXT(A8,"JJJJ"),1)) -> L
A9: =+A8+1 -> 43438 | B9: =PROPER(LEFT(TEXT(A9,"JJJJ"),1)) -> M
A10: =+A9+1 -> 43439 | B10: =PROPER(LEFT(TEXT(A10,"JJJJ"),1)) -> M
A11: =+A10+1 -> 43440 | B11: =PROPER(LEFT(TEXT(A11,"JJJJ"),1)) -> J
A12: =+A11+1 -> 43441 | B12: =PROPER(LEFT(TEXT(A12,"JJJJ"),1)) -> V
A13: =+A12+1 -> 43442 | B13: =PROPER(LEFT(TEXT(A13,"JJJJ"),1)) -> S
A14: =+A13+1 -> 43443 | B14: =PROPER(LEFT(TEXT(A14,"JJJJ"),1)) -> D
A15: =+A14+1 -> 43444 | B15: =PROPER(LEFT(TEXT(A15,"JJJJ"),1)) -> L
A16: =+A15+1 -> 43445 | B16: =PROPER(LEFT(TEXT(A16,"JJJJ"),1)) -> M
A17: =+A16+1 -> 43446 | B17: =PROPER(LEFT(TEXT(A17,"JJJJ"),1)) -> M
A18: =+A17+1 -> 43447 | B18: =PROPER(LEFT(TEXT(A18,"JJJJ"),1)) -> J
... A36: =+A35+1 -> 43465 | B36: =PROPER(LEFT(TEXT(A36,"JJJJ"),1)) -> L
A37: TOTAL
A38: SOLDE
C39: HS+ | D39: HS- | E39: RPS+ | F39: RPS- | G39: CF | H39: ARTT | I39: CA | J39: CAHP | K39: CET+ | L39: CET- | M39: POSITION

Sheet Bilan Annuel
