Workbook
Name absences: 'feuil (3)'!$D$36:$AH$36
Name absences: 'feuil (4)'!$D$36:$AH$36
Name absences: 'SITE 2'!$D$36:$AH$36
Name absences: 'SITE 1'!$D$27:$AH$27
Name ActiveRow: 18
Name ActiveRow: 18
Name ActiveRow: 18
Name ActiveRow: 18
Name ActiveRow: 14
Name ActiveRow1: 19
Name DINGLI_METAL: #REF!
Name DINGLI_METAL: #REF!
Name DINGLI_METAL: #REF!
Name DINGLI_METAL: #REF!
Name DINGLI_METAL: #REF!
Name FEUIL3: #REF!
Name FEUIL3: #REF!
Name FEUIL3: #REF!
Name FEUIL3: #REF!
Name Présents: 'feuil (3)'!$D$28:$AH$28
Name Présents: 'feuil (4)'!$D$28:$AH$28
Name Présents: 'SITE 2'!$D$28:$AH$28
Name Présents: 'SITE 1'!$D$19:$AH$19
Name Semaines: [1]Conditionnement!$BA$7:$BA$68
Name ZZZ: #REF!
Name ZZZ: #REF!
Name ZZZ: #REF!
Name ZZZ: #REF!
Name ZZZ: #REF!

Sheet tableau de bord
B3: PRE | C3: Rest
A4: SITE N° 01 | B4: ='SITE 1'!B2 -> 0 | C4: ='SITE 1'!B3 -> 4 | D4: =IF(B4=4,"R","Q") -> Q | E4: =IF(B4=3,"R","Q") -> Q
A5: SITE N° 02 | B5: ='SITE 2'!B2 -> 0 | C5: ='SITE 2'!B3 -> 4 | D5: =IF(B5=4,"R","Q") -> Q | E5: =IF(C5=4,"R","Q") -> R
A6: SITE N° 03 | B6: ='feuil (3)'!B2 -> 0 | C6: ='feuil (3)'!B3 -> 4 | D6: =IF(B6=4,"R","Q") -> Q | E6: =IF(C6=4,"R","Q") -> R
A7: SITE N° 04 | B7: ='feuil (4)'!B2 -> 0 | C7: ='feuil (4)'!B3 -> 4 | D7: =IF(B7=4,"R","Q") -> Q | E7: =IF(C7=4,"R","Q") -> R

Sheet SITE 1
A1: 2018
A2: Nombre Présents | B2: =INDEX(Présents,1,DAY(TODAY())) -> 0
A3: Nombre ABS | B3: =INDEX(D18:AH18,1,DAY(TODAY())) -> 4
D6: MOIS DE : | M6: =+A7+DATE(2018,A7-1,31) -> 43447
A7: 12 | D7: =DATE(A$1,A$7,1) -> 43435 | E7: =IF(D7="","",IF(MONTH(D7+1)=$A$7,D7+1,"")) -> 43436 | F7: =IF(E7="","",IF(MONTH(E7+1)=$A$7,E7+1,"")) -> 43437 | G7: =IF(F7="","",IF(MONTH(F7+1)=$A$7,F7+1,"")) -> 43438 | H7: =IF(G7="","",IF(MONTH(G7+1)=$A$7,G7+1,"")) -> 43439 | I7: =IF(H7="","",IF(MONTH(H7+1)=$A$7,H7+1,"")) -> 43440 | J7: =IF(I7="","",IF(MONTH(I7+1)=$A$7,I7+1,"")) -> 43441 | K7: =IF(J7="","",IF(MONTH(J7+1)=$A$7,J7+1,"")) -> 43442 | L7: =IF(K7="","",IF(MONTH(K7+1)=$A$7,K7+1,"")) -> 43443 | ... AH7: =IF(AG7="","",IF(MONTH(AG7+1)=$A$7,AG7+1,"")) -> 43465
A8: Nom & Prénom | B8: Fonc. | C8: Roul. | D8: =DATE(A$1,A$7,1) -> 43435 | E8: =IF(D8="","",IF(MONTH(D8+1)=$A$7,D8+1,"")) -> 43436 | F8: =IF(E8="","",IF(MONTH(E8+1)=$A$7,E8+1,"")) -> 43437 | G8: =IF(F8="","",IF(MONTH(F8+1)=$A$7,F8+1,"")) -> 43438 | H8: =IF(G8="","",IF(MONTH(G8+1)=$A$7,G8+1,"")) -> 43439 | I8: =IF(H8="","",IF(MONTH(H8+1)=$A$7,H8+1,"")) -> 43440 | J8: =IF(I8="","",IF(MONTH(I8+1)=$A$7,I8+1,"")) -> 43441 | K8: =IF(J8="","",IF(MONTH(J8+1)=$A$7,J8+1,"")) -> 43442 | L8: =IF(K8="","",IF(MONTH(K8+1)=$A$7,K8+1,"")) -> 43443 | ... AH8: =IF(AG8="","",IF(MONTH(AG8+1)=$A$7,AG8+1,"")) -> 43465
A10: SIDALI | C10: JOUR
A11: OMAR | C11: JOUR | I11: permuter a
A13: MOHAMED | C13: NUIT
A14: HOCINE | C14: NUIT
D16: =D7 -> 43435 | E16: =IF(D16="","",IF(MONTH(D16+1)=$A$7,D16+1,"")) -> 43436 | F16: =IF(E16="","",IF(MONTH(E16+1)=$A$7,E16+1,"")) -> 43437 | G16: =IF(F16="","",IF(MONTH(F16+1)=$A$7,F16+1,"")) -> 43438 | H16: =IF(G16="","",IF(MONTH(G16+1)=$A$7,G16+1,"")) -> 43439 | I16: =IF(H16="","",IF(MONTH(H16+1)=$A$7,H16+1,"")) -> 43440 | J16: =IF(I16="","",IF(MONTH(I16+1)=$A$7,I16+1,"")) -> 43441 | K16: =IF(J16="","",IF(MONTH(J16+1)=$A$7,J16+1,"")) -> 43442 | L16: =IF(K16="","",IF(MONTH(K16+1)=$A$7,K16+1,"")) -> 43443 | ... AH16: =IF(AG16="","",IF(MONTH(AG16+1)=$A$7,AG16+1,"")) -> 43465
D17: 1 | E17: =IF(D16="","",IF(MONTH(D16+1)=$A$7,D16+1,"")) -> 43436 | F17: =IF(E16="","",IF(MONTH(E16+1)=$A$7,E16+1,"")) -> 43437 | G17: =IF(F16="","",IF(MONTH(F16+1)=$A$7,F16+1,"")) -> 43438 | H17: =IF(G16="","",IF(MONTH(G16+1)=$A$7,G16+1,"")) -> 43439 | I17: =IF(H16="","",IF(MONTH(H16+1)=$A$7,H16+1,"")) -> 43440 | J17: =IF(I16="","",IF(MONTH(I16+1)=$A$7,I16+1,"")) -> 43441 | K17: =IF(J16="","",IF(MONTH(J16+1)=$A$7,J16+1,"")) -> 43442 | L17: =IF(K16="","",IF(MONTH(K16+1)=$A$7,K16+1,"")) -> 43443 | ... AH17: =IF(AG16="","",IF(MONTH(AG16+1)=$A$7,AG16+1,"")) -> 43465
B18: ABS | C18: =SUM(D18:AH18) -> 124 | D18: =4-(D19+D20) -> 4 | E18: =4-(E19+E20) -> 4 | F18: =4-(F19+F20) -> 4 | G18: =4-(G19+G20) -> 4 | H18: =4-(H19+H20) -> 4 | I18: =4-(I19+I20) -> 4 | J18: =4-(J19+J20) -> 4 | K18: =4-(K19+K20) -> 4 | ... AH18: =4-(AH19+AH20) -> 4
B19: PRE | C19: =SUM(D19:AH19) -> 0 | D19: =COUNTIF(D9:D15,"P")+COUNTIF(D9:D15,"PX")+COUNTIF(D9:D15,"½P")+COUNTIF(D9:D15,"AR") -> 0 | E19: =COUNTIF(E9:E15,"P")+COUNTIF(E9:E15,"PX") +COUNTIF(E9:E15,"½P") -> 0 | F19: =COUNTIF(F9:F15,"P")+COUNTIF(F9:F15,"PX") +COUNTIF(F9:F15,"½P") -> 0 | G19: =COUNTIF(G9:G15,"P")+COUNTIF(G9:G15,"PX") +COUNTIF(G9:G15,"½P") -> 0 | H19: =COUNTIF(H9:H15,"P")+COUNTIF(H9:H15,"PX") +COUNTIF(H9:H15,"½P") -> 0 | I19: =COUNTIF(I9:I15,"P")+COUNTIF(I9:I15,"PX") +COUNTIF(I9:I15,"½P") -> 0 | J19: =COUNTIF(J9:J15,"P")+COUNTIF(J9:J15,"PX") +COUNTIF(J9:J15,"½P") -> 0 | K19: =COUNTIF(K9:K15,"P")+COUNTIF(K9:K15,"PX") +COUNTIF(K9:K15,"½P") -> 0 | L19: =COUNTIF(L9:L15,"P")+COUNTIF(L9:L15,"PX") +COUNTIF(L9:L15,"½P") -> 0 | ... AH19: =COUNTIF(AH9:AH15,"P")+COUNTIF(AH9:AH15,"PX") +COUNTIF(AH9:AH15,"½P") -> 0
B20: JS | C20: =SUM(D20:AH20) -> 0 | D20: =COUNTIF(D9:D15,"X")+COUNTIF(D9:D15,"PX")+COUNTIF(D9:D15,"AX")+COUNTIF(D9:D15,"XX")+COUNTIF(D9:D15,"½X") -> 0 | E20: =COUNTIF(E9:E15,"X")+COUNTIF(E9:E15,"PX")+COUNTIF(E9:E15,"AX")+COUNTIF(E9:E15,"XX")+COUNTIF(E9:E15,"½X") -> 0 | F20: =COUNTIF(F9:F15,"X")+COUNTIF(F9:F15,"PX")+COUNTIF(F9:F15,"AX")+COUNTIF(F9:F15,"XX")+COUNTIF(F9:F15,"½X") -> 0 | G20: =COUNTIF(G9:G15,"X")+COUNTIF(G9:G15,"PX")+COUNTIF(G9:G15,"AX")+COUNTIF(G9:G15,"XX")+COUNTIF(G9:G15,"½X") -> 0 | H20: =COUNTIF(H9:H15,"X")+COUNTIF(H9:H15,"PX")+COUNTIF(H9:H15,"AX")+COUNTIF(H9:H15,"XX")+COUNTIF(H9:H15,"½X") -> 0 | I20: =COUNTIF(I9:I15,"X")+COUNTIF(I9:I15,"PX")+COUNTIF(I9:I15,"AX")+COUNTIF(I9:I15,"XX")+COUNTIF(I9:I15,"½X") -> 0 | J20: =COUNTIF(J9:J15,"X")+COUNTIF(J9:J15,"PX")+COUNTIF(J9:J15,"AX")+COUNTIF(J9:J15,"XX")+COUNTIF(J9:J15,"½X") -> 0 | K20: =COUNTIF(K9:K15,"X")+COUNTIF(K9:K15,"PX")+COUNTIF(K9:K15,"AX")+COUNTIF(K9:K15,"XX")+COUNTIF(K9:K15,"½X") -> 0 | ... AH20: =COUNTIF(AH9:AH15,"X")+COUNTIF(AH9:AH15,"PX")+COUNTIF(AH9:AH15,"AX")+COUNTIF(AH9:AH15,"XX")+COUNTIF(AH9:AH15,"½X") -> 0

Sheet SITE 2
A1: 2018
A2: Nombre Présents | B2: =INDEX(Présents,1,DAY(TODAY())) -> 0
A3: Nombre ABS | B3: =INDEX(D27:AH27,1,DAY(TODAY())) -> 4
D6: MOIS DE : | M6: =+A7+DATE(2018,A7-1,31) -> 43447
A7: 12 | D7: =DATE(A$1,A$7,1) -> 43435 | E7: =IF(D7="","",IF(MONTH(D7+1)=$A$7,D7+1,"")) -> 43436 | F7: =IF(E7="","",IF(MONTH(E7+1)=$A$7,E7+1,"")) -> 43437 | G7: =IF(F7="","",IF(MONTH(F7+1)=$A$7,F7+1,"")) -> 43438 | H7: =IF(G7="","",IF(MONTH(G7+1)=$A$7,G7+1,"")) -> 43439 | I7: =IF(H7="","",IF(MONTH(H7+1)=$A$7,H7+1,"")) -> 43440 | J7: =IF(I7="","",IF(MONTH(I7+1)=$A$7,I7+1,"")) -> 43441 | K7: =IF(J7="","",IF(MONTH(J7+1)=$A$7,J7+1,"")) -> 43442 | L7: =IF(K7="","",IF(MONTH(K7+1)=$A$7,K7+1,"")) -> 43443 | ... AH7: =IF(AG7="","",IF(MONTH(AG7+1)=$A$7,AG7+1,"")) -> 43465
A8: Nom & Prénom | B8: Fonc. | C8: Roul. | D8: =DATE(A$1,A$7,1) -> 43435 | E8: =IF(D8="","",IF(MONTH(D8+1)=$A$7,D8+1,"")) -> 43436 | F8: =IF(E8="","",IF(MONTH(E8+1)=$A$7,E8+1,"")) -> 43437 | G8: =IF(F8="","",IF(MONTH(F8+1)=$A$7,F8+1,"")) -> 43438 | H8: =IF(G8="","",IF(MONTH(G8+1)=$A$7,G8+1,"")) -> 43439 | I8: =IF(H8="","",IF(MONTH(H8+1)=$A$7,H8+1,"")) -> 43440 | J8: =IF(I8="","",IF(MONTH(I8+1)=$A$7,I8+1,"")) -> 43441 | K8: =IF(J8="","",IF(MONTH(J8+1)=$A$7,J8+1,"")) -> 43442 | L8: =IF(K8="","",IF(MONTH(K8+1)=$A$7,K8+1,"")) -> 43443 | ... AH8: =IF(AG8="","",IF(MONTH(AG8+1)=$A$7,AG8+1,"")) -> 43465
A11: OMAR | C11: JOUR | H11: PERMUTER DE
D25: =D7 -> 43435 | E25: =IF(D25="","",IF(MONTH(D25+1)=$A$7,D25+1,"")) -> 43436 | F25: =IF(E25="","",IF(MONTH(E25+1)=$A$7,E25+1,"")) -> 43437 | G25: =IF(F25="","",IF(MONTH(F25+1)=$A$7,F25+1,"")) -> 43438 | H25: =IF(G25="","",IF(MONTH(G25+1)=$A$7,G25+1,"")) -> 43439 | I25: =IF(H25="","",IF(MONTH(H25+1)=$A$7,H25+1,"")) -> 43440 | J25: =IF(I25="","",IF(MONTH(I25+1)=$A$7,I25+1,"")) -> 43441 | K25: =IF(J25="","",IF(MONTH(J25+1)=$A$7,J25+1,"")) -> 43442 | L25: =IF(K25="","",IF(MONTH(K25+1)=$A$7,K25+1,"")) -> 43443 | ... AH25: =IF(AG25="","",IF(MONTH(AG25+1)=$A$7,AG25+1,"")) -> 43465
D26: 1 | E26: =IF(D25="","",IF(MONTH(D25+1)=$A$7,D25+1,"")) -> 43436 | F26: =IF(E25="","",IF(MONTH(E25+1)=$A$7,E25+1,"")) -> 43437 | G26: =IF(F25="","",IF(MONTH(F25+1)=$A$7,F25+1,"")) -> 43438 | H26: =IF(G25="","",IF(MONTH(G25+1)=$A$7,G25+1,"")) -> 43439 | I26: =IF(H25="","",IF(MONTH(H25+1)=$A$7,H25+1,"")) -> 43440 | J26: =IF(I25="","",IF(MONTH(I25+1)=$A$7,I25+1,"")) -> 43441 | K26: =IF(J25="","",IF(MONTH(J25+1)=$A$7,J25+1,"")) -> 43442 | L26: =IF(K25="","",IF(MONTH(K25+1)=$A$7,K25+1,"")) -> 43443 | ... AH26: =IF(AG25="","",IF(MONTH(AG25+1)=$A$7,AG25+1,"")) -> 43465
B27: ABS | C27: =SUM(D27:AH27) -> 124 | D27: =4-(D28+D29) -> 4 | E27: =4-(E28+E29) -> 4 | F27: =4-(F28+F29) -> 4 | G27: =4-(G28+G29) -> 4 | H27: =4-(H28+H29) -> 4 | I27: =4-(I28+I29) -> 4 | J27: =4-(J28+J29) -> 4 | K27: =4-(K28+K29) -> 4 | ... AH27: =4-(AH28+AH29) -> 4
B28: PRE | C28: =SUM(D28:AH28) -> 0 | D28: =COUNTIF(D9:D24,"P")+COUNTIF(D9:D24,"PX")+COUNTIF(D9:D24,"½P")+COUNTIF(D9:D24,"AR") -> 0 | E28: =COUNTIF(E9:E24,"P")+COUNTIF(E9:E24,"PX") +COUNTIF(E9:E24,"½P") -> 0 | F28: =COUNTIF(F9:F24,"P")+COUNTIF(F9:F24,"PX") +COUNTIF(F9:F24,"½P") -> 0 | G28: =COUNTIF(G9:G24,"P")+COUNTIF(G9:G24,"PX") +COUNTIF(G9:G24,"½P") -> 0 | H28: =COUNTIF(H9:H24,"P")+COUNTIF(H9:H24,"PX") +COUNTIF(H9:H24,"½P") -> 0 | I28: =COUNTIF(I9:I24,"P")+COUNTIF(I9:I24,"PX") +COUNTIF(I9:I24,"½P") -> 0 | J28: =COUNTIF(J9:J24,"P")+COUNTIF(J9:J24,"PX") +COUNTIF(J9:J24,"½P") -> 0 | K28: =COUNTIF(K9:K24,"P")+COUNTIF(K9:K24,"PX") +COUNTIF(K9:K24,"½P") -> 0 | L28: =COUNTIF(L9:L24,"P")+COUNTIF(L9:L24,"PX") +COUNTIF(L9:L24,"½P") -> 0 | ... AH28: =COUNTIF(AH9:AH24,"P")+COUNTIF(AH9:AH24,"PX") +COUNTIF(AH9:AH24,"½P") -> 0
B29: JS | C29: =SUM(D29:AH29) -> 0 | D29: =COUNTIF(D9:D24,"X")+COUNTIF(D9:D24,"PX")+COUNTIF(D9:D24,"AX")+COUNTIF(D9:D24,"XX")+COUNTIF(D9:D24,"½X") -> 0 | E29: =COUNTIF(E9:E24,"X")+COUNTIF(E9:E24,"PX")+COUNTIF(E9:E24,"AX")+COUNTIF(E9:E24,"XX")+COUNTIF(E9:E24,"½X") -> 0 | F29: =COUNTIF(F9:F24,"X")+COUNTIF(F9:F24,"PX")+COUNTIF(F9:F24,"AX")+COUNTIF(F9:F24,"XX")+COUNTIF(F9:F24,"½X") -> 0 | G29: =COUNTIF(G9:G24,"X")+COUNTIF(G9:G24,"PX")+COUNTIF(G9:G24,"AX")+COUNTIF(G9:G24,"XX")+COUNTIF(G9:G24,"½X") -> 0 | H29: =COUNTIF(H9:H24,"X")+COUNTIF(H9:H24,"PX")+COUNTIF(H9:H24,"AX")+COUNTIF(H9:H24,"XX")+COUNTIF(H9:H24,"½X") -> 0 | I29: =COUNTIF(I9:I24,"X")+COUNTIF(I9:I24,"PX")+COUNTIF(I9:I24,"AX")+COUNTIF(I9:I24,"XX")+COUNTIF(I9:I24,"½X") -> 0 | J29: =COUNTIF(J9:J24,"X")+COUNTIF(J9:J24,"PX")+COUNTIF(J9:J24,"AX")+COUNTIF(J9:J24,"XX")+COUNTIF(J9:J24,"½X") -> 0 | K29: =COUNTIF(K9:K24,"X")+COUNTIF(K9:K24,"PX")+COUNTIF(K9:K24,"AX")+COUNTIF(K9:K24,"XX")+COUNTIF(K9:K24,"½X") -> 0 | ... AH29: =COUNTIF(AH9:AH24,"X")+COUNTIF(AH9:AH24,"PX")+COUNTIF(AH9:AH24,"AX")+COUNTIF(AH9:AH24,"XX")+COUNTIF(AH9:AH24,"½X") -> 0

Sheet feuil (3)
A1: 2018
A2: Nombre Présents | B2: =INDEX(Présents,1,DAY(TODAY())) -> 0
A3: Nombre ABS | B3: =INDEX(D27:AH27,1,DAY(TODAY())) -> 4
D6: MOIS DE : | M6: =+A7+DATE(2018,A7-1,31) -> 43447
A7: 12 | D7: =DATE(A$1,A$7,1) -> 43435 | E7: =IF(D7="","",IF(MONTH(D7+1)=$A$7,D7+1,"")) -> 43436 | F7: =IF(E7="","",IF(MONTH(E7+1)=$A$7,E7+1,"")) -> 43437 | G7: =IF(F7="","",IF(MONTH(F7+1)=$A$7,F7+1,"")) -> 43438 | H7: =IF(G7="","",IF(MONTH(G7+1)=$A$7,G7+1,"")) -> 43439 | I7: =IF(H7="","",IF(MONTH(H7+1)=$A$7,H7+1,"")) -> 43440 | J7: =IF(I7="","",IF(MONTH(I7+1)=$A$7,I7+1,"")) -> 43441 | K7: =IF(J7="","",IF(MONTH(J7+1)=$A$7,J7+1,"")) -> 43442 | L7: =IF(K7="","",IF(MONTH(K7+1)=$A$7,K7+1,"")) -> 43443 | ... AH7: =IF(AG7="","",IF(MONTH(AG7+1)=$A$7,AG7+1,"")) -> 43465
A8: Nom & Prénom | B8: Fonc. | C8: Roul. | D8: =DATE(A$1,A$7,1) -> 43435 | E8: =IF(D8="","",IF(MONTH(D8+1)=$A$7,D8+1,"")) -> 43436 | F8: =IF(E8="","",IF(MONTH(E8+1)=$A$7,E8+1,"")) -> 43437 | G8: =IF(F8="","",IF(MONTH(F8+1)=$A$7,F8+1,"")) -> 43438 | H8: =IF(G8="","",IF(MONTH(G8+1)=$A$7,G8+1,"")) -> 43439 | I8: =IF(H8="","",IF(MONTH(H8+1)=$A$7,H8+1,"")) -> 43440 | J8: =IF(I8="","",IF(MONTH(I8+1)=$A$7,I8+1,"")) -> 43441 | K8: =IF(J8="","",IF(MONTH(J8+1)=$A$7,J8+1,"")) -> 43442 | L8: =IF(K8="","",IF(MONTH(K8+1)=$A$7,K8+1,"")) -> 43443 | ... AH8: =IF(AG8="","",IF(MONTH(AG8+1)=$A$7,AG8+1,"")) -> 43465
L9: P
A10: SIDALI | C10: JOUR | L10: P
A11: OMAR | C11: JOUR | L11: P
L12: A
A13: MOHAMED | C13: NUIT
A14: HOCINE | C14: NUIT
D25: =D7 -> 43435 | E25: =IF(D25="","",IF(MONTH(D25+1)=$A$7,D25+1,"")) -> 43436 | F25: =IF(E25="","",IF(MONTH(E25+1)=$A$7,E25+1,"")) -> 43437 | G25: =IF(F25="","",IF(MONTH(F25+1)=$A$7,F25+1,"")) -> 43438 | H25: =IF(G25="","",IF(MONTH(G25+1)=$A$7,G25+1,"")) -> 43439 | I25: =IF(H25="","",IF(MONTH(H25+1)=$A$7,H25+1,"")) -> 43440 | J25: =IF(I25="","",IF(MONTH(I25+1)=$A$7,I25+1,"")) -> 43441 | K25: =IF(J25="","",IF(MONTH(J25+1)=$A$7,J25+1,"")) -> 43442 | L25: =IF(K25="","",IF(MONTH(K25+1)=$A$7,K25+1,"")) -> 43443 | ... AH25: =IF(AG25="","",IF(MONTH(AG25+1)=$A$7,AG25+1,"")) -> 43465
D26: 1 | E26: =IF(D25="","",IF(MONTH(D25+1)=$A$7,D25+1,"")) -> 43436 | F26: =IF(E25="","",IF(MONTH(E25+1)=$A$7,E25+1,"")) -> 43437 | G26: =IF(F25="","",IF(MONTH(F25+1)=$A$7,F25+1,"")) -> 43438 | H26: =IF(G25="","",IF(MONTH(G25+1)=$A$7,G25+1,"")) -> 43439 | I26: =IF(H25="","",IF(MONTH(H25+1)=$A$7,H25+1,"")) -> 43440 | J26: =IF(I25="","",IF(MONTH(I25+1)=$A$7,I25+1,"")) -> 43441 | K26: =IF(J25="","",IF(MONTH(J25+1)=$A$7,J25+1,"")) -> 43442 | L26: =IF(K25="","",IF(MONTH(K25+1)=$A$7,K25+1,"")) -> 43443 | ... AH26: =IF(AG25="","",IF(MONTH(AG25+1)=$A$7,AG25+1,"")) -> 43465
B27: ABS | C27: =SUM(D27:AH27) -> 121 | D27: =4-(D28+D29) -> 4 | E27: =4-(E28+E29) -> 4 | F27: =4-(F28+F29) -> 4 | G27: =4-(G28+G29) -> 4 | H27: =4-(H28+H29) -> 4 | I27: =4-(I28+I29) -> 4 | J27: =4-(J28+J29) -> 4 | K27: =4-(K28+K29) -> 4 | ... AH27: =4-(AH28+AH29) -> 4
B28: PRE | C28: =SUM(D28:AH28) -> 3 | D28: =COUNTIF(D9:D24,"P")+COUNTIF(D9:D24,"PX")+COUNTIF(D9:D24,"½P")+COUNTIF(D9:D24,"AR") -> 0 | E28: =COUNTIF(E9:E24,"P")+COUNTIF(E9:E24,"PX") +COUNTIF(E9:E24,"½P") -> 0 | F28: =COUNTIF(F9:F24,"P")+COUNTIF(F9:F24,"PX") +COUNTIF(F9:F24,"½P") -> 0 | G28: =COUNTIF(G9:G24,"P")+COUNTIF(G9:G24,"PX") +COUNTIF(G9:G24,"½P") -> 0 | H28: =COUNTIF(H9:H24,"P")+COUNTIF(H9:H24,"PX") +COUNTIF(H9:H24,"½P") -> 0 | I28: =COUNTIF(I9:I24,"P")+COUNTIF(I9:I24,"PX") +COUNTIF(I9:I24,"½P") -> 0 | J28: =COUNTIF(J9:J24,"P")+COUNTIF(J9:J24,"PX") +COUNTIF(J9:J24,"½P") -> 0 | K28: =COUNTIF(K9:K24,"P")+COUNTIF(K9:K24,"PX") +COUNTIF(K9:K24,"½P") -> 0 | L28: =COUNTIF(L9:L24,"P")+COUNTIF(L9:L24,"PX") +COUNTIF(L9:L24,"½P") -> 3 | ... AH28: =COUNTIF(AH9:AH24,"P")+COUNTIF(AH9:AH24,"PX") +COUNTIF(AH9:AH24,"½P") -> 0
B29: JS | C29: =SUM(D29:AH29) -> 0 | D29: =COUNTIF(D9:D24,"X")+COUNTIF(D9:D24,"PX")+COUNTIF(D9:D24,"AX")+COUNTIF(D9:D24,"XX")+COUNTIF(D9:D24,"½X") -> 0 | E29: =COUNTIF(E9:E24,"X")+COUNTIF(E9:E24,"PX")+COUNTIF(E9:E24,"AX")+COUNTIF(E9:E24,"XX")+COUNTIF(E9:E24,"½X") -> 0 | F29: =COUNTIF(F9:F24,"X")+COUNTIF(F9:F24,"PX")+COUNTIF(F9:F24,"AX")+COUNTIF(F9:F24,"XX")+COUNTIF(F9:F24,"½X") -> 0 | G29: =COUNTIF(G9:G24,"X")+COUNTIF(G9:G24,"PX")+COUNTIF(G9:G24,"AX")+COUNTIF(G9:G24,"XX")+COUNTIF(G9:G24,"½X") -> 0 | H29: =COUNTIF(H9:H24,"X")+COUNTIF(H9:H24,"PX")+COUNTIF(H9:H24,"AX")+COUNTIF(H9:H24,"XX")+COUNTIF(H9:H24,"½X") -> 0 | I29: =COUNTIF(I9:I24,"X")+COUNTIF(I9:I24,"PX")+COUNTIF(I9:I24,"AX")+COUNTIF(I9:I24,"XX")+COUNTIF(I9:I24,"½X") -> 0 | J29: =COUNTIF(J9:J24,"X")+COUNTIF(J9:J24,"PX")+COUNTIF(J9:J24,"AX")+COUNTIF(J9:J24,"XX")+COUNTIF(J9:J24,"½X") -> 0 | K29: =COUNTIF(K9:K24,"X")+COUNTIF(K9:K24,"PX")+COUNTIF(K9:K24,"AX")+COUNTIF(K9:K24,"XX")+COUNTIF(K9:K24,"½X") -> 0 | ... AH29: =COUNTIF(AH9:AH24,"X")+COUNTIF(AH9:AH24,"PX")+COUNTIF(AH9:AH24,"AX")+COUNTIF(AH9:AH24,"XX")+COUNTIF(AH9:AH24,"½X") -> 0

Sheet feuil (4)
A1: 2018
A2: Nombre Présents | B2: =INDEX(Présents,1,DAY(TODAY())) -> 0
A3: Nombre ABS | B3: =INDEX(D27:AH27,1,DAY(TODAY())) -> 4
D6: MOIS DE : | M6: =+A7+DATE(2018,A7-1,31) -> 43447
A7: 12 | D7: =DATE(A$1,A$7,1) -> 43435 | E7: =IF(D7="","",IF(MONTH(D7+1)=$A$7,D7+1,"")) -> 43436 | F7: =IF(E7="","",IF(MONTH(E7+1)=$A$7,E7+1,"")) -> 43437 | G7: =IF(F7="","",IF(MONTH(F7+1)=$A$7,F7+1,"")) -> 43438 | H7: =IF(G7="","",IF(MONTH(G7+1)=$A$7,G7+1,"")) -> 43439 | I7: =IF(H7="","",IF(MONTH(H7+1)=$A$7,H7+1,"")) -> 43440 | J7: =IF(I7="","",IF(MONTH(I7+1)=$A$7,I7+1,"")) -> 43441 | K7: =IF(J7="","",IF(MONTH(J7+1)=$A$7,J7+1,"")) -> 43442 | L7: =IF(K7="","",IF(MONTH(K7+1)=$A$7,K7+1,"")) -> 43443 | ... AH7: =IF(AG7="","",IF(MONTH(AG7+1)=$A$7,AG7+1,"")) -> 43465
A8: Nom & Prénom | B8: Fonc. | C8: Roul. | D8: =DATE(A$1,A$7,1) -> 43435 | E8: =IF(D8="","",IF(MONTH(D8+1)=$A$7,D8+1,"")) -> 43436 | F8: =IF(E8="","",IF(MONTH(E8+1)=$A$7,E8+1,"")) -> 43437 | G8: =IF(F8="","",IF(MONTH(F8+1)=$A$7,F8+1,"")) -> 43438 | H8: =IF(G8="","",IF(MONTH(G8+1)=$A$7,G8+1,"")) -> 43439 | I8: =IF(H8="","",IF(MONTH(H8+1)=$A$7,H8+1,"")) -> 43440 | J8: =IF(I8="","",IF(MONTH(I8+1)=$A$7,I8+1,"")) -> 43441 | K8: =IF(J8="","",IF(MONTH(J8+1)=$A$7,J8+1,"")) -> 43442 | L8: =IF(K8="","",IF(MONTH(K8+1)=$A$7,K8+1,"")) -> 43443 | ... AH8: =IF(AG8="","",IF(MONTH(AG8+1)=$A$7,AG8+1,"")) -> 43465
L9: P
A10: SIDALI | C10: JOUR | L10: P
A11: OMAR | C11: JOUR | L11: P
L12: A
A13: MOHAMED | C13: NUIT
A14: HOCINE | C14: NUIT
D25: =D7 -> 43435 | E25: =IF(D25="","",IF(MONTH(D25+1)=$A$7,D25+1,"")) -> 43436 | F25: =IF(E25="","",IF(MONTH(E25+1)=$A$7,E25+1,"")) -> 43437 | G25: =IF(F25="","",IF(MONTH(F25+1)=$A$7,F25+1,"")) -> 43438 | H25: =IF(G25="","",IF(MONTH(G25+1)=$A$7,G25+1,"")) -> 43439 | I25: =IF(H25="","",IF(MONTH(H25+1)=$A$7,H25+1,"")) -> 43440 | J25: =IF(I25="","",IF(MONTH(I25+1)=$A$7,I25+1,"")) -> 43441 | K25: =IF(J25="","",IF(MONTH(J25+1)=$A$7,J25+1,"")) -> 43442 | L25: =IF(K25="","",IF(MONTH(K25+1)=$A$7,K25+1,"")) -> 43443 | ... AH25: =IF(AG25="","",IF(MONTH(AG25+1)=$A$7,AG25+1,"")) -> 43465
D26: 1 | E26: =IF(D25="","",IF(MONTH(D25+1)=$A$7,D25+1,"")) -> 43436 | F26: =IF(E25="","",IF(MONTH(E25+1)=$A$7,E25+1,"")) -> 43437 | G26: =IF(F25="","",IF(MONTH(F25+1)=$A$7,F25+1,"")) -> 43438 | H26: =IF(G25="","",IF(MONTH(G25+1)=$A$7,G25+1,"")) -> 43439 | I26: =IF(H25="","",IF(MONTH(H25+1)=$A$7,H25+1,"")) -> 43440 | J26: =IF(I25="","",IF(MONTH(I25+1)=$A$7,I25+1,"")) -> 43441 | K26: =IF(J25="","",IF(MONTH(J25+1)=$A$7,J25+1,"")) -> 43442 | L26: =IF(K25="","",IF(MONTH(K25+1)=$A$7,K25+1,"")) -> 43443 | ... AH26: =IF(AG25="","",IF(MONTH(AG25+1)=$A$7,AG25+1,"")) -> 43465
B27: ABS | C27: =SUM(D27:AH27) -> 121 | D27: =4-(D28+D29) -> 4 | E27: =4-(E28+E29) -> 4 | F27: =4-(F28+F29) -> 4 | G27: =4-(G28+G29) -> 4 | H27: =4-(H28+H29) -> 4 | I27: =4-(I28+I29) -> 4 | J27: =4-(J28+J29) -> 4 | K27: =4-(K28+K29) -> 4 | ... AH27: =4-(AH28+AH29) -> 4
B28: PRE | C28: =SUM(D28:AH28) -> 3 | D28: =COUNTIF(D9:D24,"P")+COUNTIF(D9:D24,"PX")+COUNTIF(D9:D24,"½P")+COUNTIF(D9:D24,"AR") -> 0 | E28: =COUNTIF(E9:E24,"P")+COUNTIF(E9:E24,"PX") +COUNTIF(E9:E24,"½P") -> 0 | F28: =COUNTIF(F9:F24,"P")+COUNTIF(F9:F24,"PX") +COUNTIF(F9:F24,"½P") -> 0 | G28: =COUNTIF(G9:G24,"P")+COUNTIF(G9:G24,"PX") +COUNTIF(G9:G24,"½P") -> 0 | H28: =COUNTIF(H9:H24,"P")+COUNTIF(H9:H24,"PX") +COUNTIF(H9:H24,"½P") -> 0 | I28: =COUNTIF(I9:I24,"P")+COUNTIF(I9:I24,"PX") +COUNTIF(I9:I24,"½P") -> 0 | J28: =COUNTIF(J9:J24,"P")+COUNTIF(J9:J24,"PX") +COUNTIF(J9:J24,"½P") -> 0 | K28: =COUNTIF(K9:K24,"P")+COUNTIF(K9:K24,"PX") +COUNTIF(K9:K24,"½P") -> 0 | L28: =COUNTIF(L9:L24,"P")+COUNTIF(L9:L24,"PX") +COUNTIF(L9:L24,"½P") -> 3 | ... AH28: =COUNTIF(AH9:AH24,"P")+COUNTIF(AH9:AH24,"PX") +COUNTIF(AH9:AH24,"½P") -> 0
B29: JS | C29: =SUM(D29:AH29) -> 0 | D29: =COUNTIF(D9:D24,"X")+COUNTIF(D9:D24,"PX")+COUNTIF(D9:D24,"AX")+COUNTIF(D9:D24,"XX")+COUNTIF(D9:D24,"½X") -> 0 | E29: =COUNTIF(E9:E24,"X")+COUNTIF(E9:E24,"PX")+COUNTIF(E9:E24,"AX")+COUNTIF(E9:E24,"XX")+COUNTIF(E9:E24,"½X") -> 0 | F29: =COUNTIF(F9:F24,"X")+COUNTIF(F9:F24,"PX")+COUNTIF(F9:F24,"AX")+COUNTIF(F9:F24,"XX")+COUNTIF(F9:F24,"½X") -> 0 | G29: =COUNTIF(G9:G24,"X")+COUNTIF(G9:G24,"PX")+COUNTIF(G9:G24,"AX")+COUNTIF(G9:G24,"XX")+COUNTIF(G9:G24,"½X") -> 0 | H29: =COUNTIF(H9:H24,"X")+COUNTIF(H9:H24,"PX")+COUNTIF(H9:H24,"AX")+COUNTIF(H9:H24,"XX")+COUNTIF(H9:H24,"½X") -> 0 | I29: =COUNTIF(I9:I24,"X")+COUNTIF(I9:I24,"PX")+COUNTIF(I9:I24,"AX")+COUNTIF(I9:I24,"XX")+COUNTIF(I9:I24,"½X") -> 0 | J29: =COUNTIF(J9:J24,"X")+COUNTIF(J9:J24,"PX")+COUNTIF(J9:J24,"AX")+COUNTIF(J9:J24,"XX")+COUNTIF(J9:J24,"½X") -> 0 | K29: =COUNTIF(K9:K24,"X")+COUNTIF(K9:K24,"PX")+COUNTIF(K9:K24,"AX")+COUNTIF(K9:K24,"XX")+COUNTIF(K9:K24,"½X") -> 0 | ... AH29: =COUNTIF(AH9:AH24,"X")+COUNTIF(AH9:AH24,"PX")+COUNTIF(AH9:AH24,"AX")+COUNTIF(AH9:AH24,"XX")+COUNTIF(AH9:AH24,"½X") -> 0
