Workbook

Sheet general_report
A2: CRSuport (Liebherr JIRA)
A3: Displaying 37 issues at 19/Oct/18 9:07.
A4: Issue Type | B4: Project | C4: Summary | D4: Reporter | E4: Created | F4: Description | G4: CRS Project | H4: Customer | I4: ECU Type | J4: CRS Status | K4: Σ Time Spent | L4: Σ Time Spent2 | M4: Status
A5: Bug | D5: AP | E5: 03/Dec/18 13:25 | G5: 510035 - Yellow | I5: ECU2-HD | J5: Development | K5: 7200 | L5: =K5/3600 -> 2 | M5: Closed
A6: Bug | D6: AP | E6: 43434.702 | G6: 510004 - K01.2_Kamaz | I6: ECU3 | J6: Development | K6: 115200 | L6: =K6/3600 -> 32 | M6: Closed
A7: Bug | D7: BP | E7: 43434.633 | I7: ECU2-HD | J7: Development | K7: 3600 | L7: =K7/3600 -> 1 | M7: Closed
A8: Bug | D8: AP | E8: 43425.742 | G8: 510031 - K00.17_Pegasus | I8: ECU3 | J8: Development | K8: 7200 | L8: =K8/3600 -> 2 | M8: In Progress
A9: Bug | D9: AP | E9: 43425.333 | G9: 510028 - Purple | I9: ECU2-HD | J9: Development | K9: 28800 | L9: =K9/3600 -> 8 | M9: Closed
A10: Task | D10: BP | E10: 43420.397 | G10: 510022 - K00.18_Blue | I10: ECU3 | J10: Development | K10: 28800 | L10: =K10/3600 -> 8 | M10: In Progress
A11: Task | D11: BP | E11: 43411.481 | G11: 510028 - Purple | I11: ECU2-HD | J11: Development | K11: 28800 | L11: =K11/3600 -> 8 | M11: Closed
A12: Task | D12: BP | E12: 43410.672 | I12: ECU3 | K12: 1800 | L12: =K12/3600 -> 0.5 | M12: Closed
A13: Bug | D13: AP | E13: 43382.635 | G13: 510034 - Green | I13: ECU2 | J13: Serial | K13: 10800 | L13: =K13/3600 -> 3 | M13: Closed
A14: Bug | D14: PS | E14: 43367.642 | G14: 510028 - Purple | I14: ECU3 | J14: Development | K14: 126000 | L14: =K14/3600 -> 35 | M14: In Progress
A15: Bug | D15: BP | E15: 43348.479 | G15: 510035 - Yellow | I15: ECU2-HD | J15: Development | K15: 10800 | L15: =K15/3600 -> 3 | M15: Closed
A16: Bug | D16: PS | E16: 31/Aug/18 14:07 | G16: 510028 - Purple | I16: ECU3 | J16: Development | K16: 28800 | L16: =K16/3600 -> 8 | M16: In Progress
A17: Bug | D17: AP | E17: 28/Aug/18 8:34 | G17: 510034 - Green | I17: ECU2-HD | J17: Serial | K17: 14400 | L17: =K17/3600 -> 4 | M17: Closed
A18: Bug | D18: AP | E18: 27/Aug/18 13:24 | G18: 510004 - K01.2_Kamaz | I18: ECU3 | J18: Development | K18: 115200 | L18: =K18/3600 -> 32 | M18: Closed
A19: Bug | D19: AP | E19: 09/Aug/18 9:20 | G19: 510031 - K00.17_Pegasus | I19: ECU3 | J19: Development | K19: 7200 | L19: =K19/3600 -> 2 | M19: Closed
A20: Bug | D20: AP | E20: 09/Aug/18 9:12 | G20: 510035 - Yellow | I20: ECU2-HD | J20: Development | K20: 10800 | L20: =K20/3600 -> 3 | M20: Closed
A21: Bug | D21: AP | E21: 06/Aug/18 15:10 | G21: 510035 - Yellow | I21: ECU1 | J21: Development | K21: 28800 | L21: =K21/3600 -> 8 | M21: Closed
A22: Bug | D22: AP | E22: 20/Jul/18 8:37 | G22: 510011 - K00.29_Pink | I22: ECU2-HD | J22: Serial | K22: 72000 | L22: =K22/3600 -> 20 | M22: Closed
A23: Bug | D23: AP | E23: 12/Jul/18 10:37 | G23: 510035 - Yellow | I23: ECU2 | J23: Serial | K23: 10800 | L23: =K23/3600 -> 3 | M23: Closed
A24: Bug | D24: AP | E24: 04/Jul/18 8:46 | G24: 510011 - K00.29_Pink | I24: ECU2-HD | J24: Serial | K24: 7200 | L24: =K24/3600 -> 2 | M24: Closed
A25: Bug | D25: AP | E25: 03/Jul/18 8:15 | G25: 510011 - K00.29_Pink | I25: ECU2-HD | J25: Development | K25: 28800 | L25: =K25/3600 -> 8 | M25: Closed
A26: Bug | D26: AP | E26: 29/Jun/18 10:52 | G26: 510019 - K00.37_D95xx | I26: ECU2-HD | J26: Serial | K26: 3600 | L26: =K26/3600 -> 1 | M26: Closed
A27: Bug | D27: AP | E27: 29/Jun/18 10:49 | G27: 510034 - Green | I27: ECU2 | J27: Development | K27: 14400 | L27: =K27/3600 -> 4 | M27: Closed
... A52: Bug | D52: AP | E52: 20/Jun/18 10:07 | G52: 510031 - K00.17_Pegasus | I52: ECU3 | J52: Development | K52: 28800 | L52: =K52/3600 -> 8 | M52: Closed

Sheet Statistics
B2: CRS Project | C2: Σ Spent to solve Issue [hours] | D2: Σ Spent to solve Issue [hours]
B3: 510019 - K00.37_Grey | C3: =general_report!L26+general_report!L31+general_report!L32+general_report!L35+general_report!L37+general_report!L40+general_report!L42 -> 59 | D3: ??
B4: 510011 - K00.29_Pink | C4: =general_report!L22+general_report!L24+general_report!L25+general_report!L33+general_report!L34+general_report!L39+general_report!L41 -> 91.5 | D4: ??
B5: 510022 - K00.18_Blue | C5: =general_report!L10+general_report!L47 -> 10 | D5: ??
B6: 510030 - K00.16_Inline | C6: 16 | D6: ??
B7: 510031 - K00.17_Pegasus | C7: =general_report!L8+general_report!L19+general_report!L36+general_report!L38+general_report!L44+general_report!L48+general_report!L49+general_report!L50+general_report!L51+general_report!L52 -> 121 | D7: ??
B8: 510004 - K01.2_Kamaz | C8: =general_report!L6+general_report!L18 -> 64 | D8: ??
B9: 510028 - Purple | C9: =Table1[[#This Row],[Σ Time Spent2]]+general_report!L11+general_report!L14+general_report!L16 -> 59 | D9: ??
B10: 510034 - Green | C10: =general_report!L13+general_report!L17+general_report!L27+general_report!L46 -> 12 | D10: ??
B11: 510035 - Yellow | C11: =general_report!L5+general_report!L15+general_report!L20+general_report!L21+general_report!L23+general_report!L28+general_report!L29+general_report!L30+general_report!L45 -> 52 | D11: ??
B12: Total | C12: =SUM(C3:C11) -> 484.5
